{"text_format":"1","workbook":"xlsx","n_sheets":22,"sheets":["TITLE(1)","INDEX(2)","GENERAL NOTES (3)","MOT (4)","GENSUM(5)","ADA(6)","ADA(7)","BRO(8)","BRO(9)","HIG(10)","HIG(11)","JAC(12)","JAC(13)","LAW(14)","LAW(15)","PIK(16)","PIK(17)","ROS(18)","ROS(19)","SCI(20)","SCI(21)","FACILITIES(21)"],"not_rendered":{"charts":0,"images":7,"macros":1,"external_links":0,"defined_names":6,"comments":1,"pivot_tables":0},"unopened":[],"bounds":{"document_bytes":16777216,"sheet_cells":100000,"rows_first":2000,"rows_last":500,"rows_between":2000,"halvings":0,"cell_chars":16384,"cell_head_chars":4096},"cells_cut":0,"cells_raw":0,"read":"whole","date_system":"1900"}

{"sheet":"TITLE(1)","index":0,"n_rows":52,"n_cols":32,"rows_kept":52,"cut":false,"hidden":false,"merged":[[54,28,54,30],[54,31,54,33],[53,10,53,12],[53,13,53,15],[54,1,54,2],[54,3,54,8],[54,22,54,24],[54,25,54,27],[53,1,53,2],[53,28,53,30],[53,31,53,33],[54,16,54,18],[54,19,54,21],[54,10,54,12],[54,13,54,15],[50,25,50,27],[50,10,50,12],[50,13,50,15],[53,16,53,18],[53,19,53,21],[53,22,53,24],[53,25,53,27],[52,16,52,18],[52,19,52,21],[52,22,52,24],[52,25,52,27],[48,31,48,33],[52,28,52,33],[51,16,51,18],[50,19,50,21],[51,19,51,21],[50,28,51,33],[51,22,51,24],[51,25,51,27],[49,10,49,12],[49,13,49,15],[49,22,49,24],[49,25,49,27],[49,28,49,30],[49,31,49,33],[48,10,48,12],[48,13,48,15],[48,22,48,24],[48,25,48,27],[48,19,48,21],[49,19,49,21],[48,28,48,30],[52,10,52,12],[52,13,52,15],[50,22,50,24],[25,18,31,33],[41,17,41,20],[41,21,41,27],[43,10,44,27],[43,28,44,33],[45,28,45,30],[45,31,45,33],[43,1,43,7],[32,1,36,15],[33,17,33,20],[33,21,33,33],[34,21,34,33],[36,17,36,20],[36,21,36,27],[38,17,38,20],[38,21,38,33],[45,10,45,12],[45,13,45,15],[45,22,45,24],[45,25,45,27],[45,16,45,18],[42,1,42,7],[39,21,39,33],[24,1,24,14],[24,15,24,16],[25,1,25,14],[25,15,25,16],[26,1,26,10],[26,11,26,16],[29,1,31,15],[21,1,21,14],[21,15,21,16],[22,1,22,14],[22,15,22,16],[23,1,23,14],[23,15,23,16],[8,17,9,23],[8,24,9,33],[14,18,18,33],[19,1,19,8],[19,9,19,16],[0,17,3,33],[4,17,4,23],[4,24,4,33],[5,17,6,23],[5,24,6,33],[7,17,7,23],[7,24,7,33],[10,18,13,33],[47,10,47,12],[47,13,47,15],[47,22,47,24],[47,25,47,27],[47,28,47,30],[47,31,47,33],[46,10,46,12],[45,19,45,21],[46,19,46,21],[47,19,47,21],[46,13,46,15],[46,22,46,24],[46,25,46,27],[46,28,46,30],[46,31,46,33]]}
[null,null,null,null,null,null,null,null,null,null,null,null,null,null,null,null,null,"D09-PM-FY2025(A)"]
[]
[]
[]
[null,null,null,null,null,null,null,null,null,null,null,null,null,null,null,null,null,"PID No.",null,null,null,null,null,null,"FEDERAL PROJECT No."]
[null,null,null,null,null,null,null,null,null,null,null,null,null,null,null,null,null,109871,null,null,null,null,null,null,"100% STATE"]
[]
[null,null,null,null,null,null,null,null,null,null,null,null,null,null,null,null,null,"STATE JOB No.",null,null,null,null,null,null,"CONSTRUCTION PROJECT No."]
[null,null,null,null,null,null,null,null,null,null,null,null,null,null,null,null,null,496045]
[]
[null,null,null,null,null,null,null,null,null,null,null,null,null,null,null,null,null,null,"PROJECT DESCRIPTION\nFAST DRY, AUXILIARY PAVEMENT MARKINGS IN ALL EIGHT COUNTIES AT VARIOUS LOCATIONS IN DISTRICT NINE."]
[]
[]
[]
[null,null,null,null,null,null,null,null,null,null,null,null,null,null,null,null,null,null,"2023 SPECIFICATIONS\nTHE STANDARD SPECIFICATIONS OF THE STATE OF OHIO, DEPARTMENT OF TRANSPORTATION, INCLUDING CHANGES AND SUPPLEMENTAL SPECIFICATIONS LISTED IN THE PROPOSAL SHALL GOVERN THIS IMPROVEMENT."]
[]
[]
[]
[]
[null,"LATITUDE: 39° 19'28\"N",null,null,null,null,null,null,null,"LONGITUDE: 82° 57'47\"W"]
[]
[null,"EARTH DISTURBED AREA:",null,null,null,null,null,null,null,null,null,null,null,null,null,"N/A*"]
[null,"PROJECT EARTH DISTURBED AREA:",null,null,null,null,null,null,null,null,null,null,null,null,null,"N/A*"]
[null,"EST. CONTRACTOR EARTH DISTURBED AREA:",null,null,null,null,null,null,null,null,null,null,null,null,null,"N/A*"]
[null,"NOTICE OF INTENT EARTH DISTURBED AREA:",null,null,null,null,null,null,null,null,null,null,null,null,null,"N/A*"]
[null,"RAILROAD INVOLVEMENT:",null,null,null,null,null,null,null,null,null,null,null,null,null,"NONE",null,null,"I HEREBY APPROVE THESE PLANS AND DECLARE THAT THE MAKING OF THIS IMPROVEMENT WILL NOT REQUIRE THE CLOSING OF THE HIGHWAY TO TRAFFIC AND THAT PROVISIONS FOR THE MAINTENANCE AND SAFETY OF TRAFFIC WILL BE AS SET FORTH IN THESE PLANS AND ESTIMATES."]
[null,"*TYPE OF PROJECT:",null,null,null,null,null,null,null,null,null,"MAINTENANCE"]
[]
[]
[]
[]
[]
[]
[]
[]
[]
[]
[]
[]
[]
[]
[null,null,null,null,"PLANS PREPARED BY:"]
[null,"ODOT-D09 ENGINEERING"]
[null,"ENGINEER'S SEAL",null,null,null,null,null,null,null,null,"STANDARD CONSTRUCTION DRAWINGS",null,null,null,null,null,null,null,null,null,null,null,null,null,null,null,null,null,"SUPPLEMENTAL\nSPECIFICATIONS"]
[]
[null,null,null,null,null,null,null,null,null,null,"MT-95.30",null,null,"2019-07-19",null,null,"MT-97.10",null,null,"2019-04-19",null,null,"TC-41.20",null,null,"2013-10-18",null,null,800,null,null,"2024-07-19"]
[null,null,null,null,null,null,null,null,null,null,"MT-95.31",null,null,"2019-07-19",null,null,"MT-98.10",null,null,"2020-01-17",null,null,"TC-42.20",null,null,"2013-10-18",null,null,832,null,null,"2024-07-19"]
[null,null,null,null,null,null,null,null,null,null,"MT-95.32",null,null,"2019-04-19",null,null,"MT-98.11",null,null,"2020-01-17",null,null,"TC-52.10",null,null,"2013-10-18"]
[null,null,null,null,null,null,null,null,null,null,"MT-95.60",null,null,"2019-04-19",null,null,"MT-98.22",null,null,"2020-01-17",null,null,"TC-52.20",null,null,"2021-01-15"]
[null,null,null,null,null,null,null,null,null,null,"MT-95.61",null,null,"2019-04-19",null,null,"MT-98.28",null,null,"2020-01-17",null,null,"TC-71.10",null,null,"2021-07-16"]
[null,null,null,null,null,null,null,null,null,null,"MT-105.10",null,null,"2020-01-17",null,null,"MT-98.29",null,null,"2020-01-17",null,null,"TC-72.20",null,null,"2018-07-20",null,null,"SPECIAL\nPROVISIONS"]
[null,null,null,null,null,null,null,null,null,null,null,null,null,null,null,null,"MT-99.20",null,null,"2019-04-19"]

{"sheet":"INDEX(2)","index":1,"n_rows":29,"n_cols":10,"rows_kept":29,"cut":false,"hidden":false,"merged":[[1,0,1,10]]}
[]
["INDEX OF SHEETS"]
[]
[]
[null,"TITLE SHEET…………………………………………………………………………………………………………..",null,null,null,null,null,null,null,"……..…..1"]
[]
[null,"INDEX OF SHEETS………………………………………………………………………………………………………",null,null,null,null,null,null,null,"……..…..2"]
[]
[null,"GENERAL NOTES…………………………………………………………………………………………………",null,null,null,null,null,null,null,"..…..……3"]
[]
[null,"GENERAL SUMMARY………………………………………………………………………………………………….",null,null,null,null,null,null,null,"…..……..4"]
[]
[null,"ADAMS SUB-SUMMARY………………………………………………………………………………………………",null,null,null,null,null,null,null,"………..6-7"]
[]
[null,"BROWN SUB-SUMMARY……………………………………………………………………………………………..",null,null,null,null,null,null,null,".……….8-9"]
[]
[null,"HIGHLAND SUB-SUMMARY………………………………………………………………………………………….",null,null,null,null,null,null,null,"…….10-11"]
[]
[null,"JACKSON SUB-SUMMARY…………………………………………………………………………………………..",null,null,null,null,null,null,null,"……12-13"]
[]
[null,"LAWRENCE SUB-SUMMARY………………………………………………………………………………………..",null,null,null,null,null,null,null,"……14-15"]
[]
[null,"PIKE SUB-SUMMARY…………………………………………………………………………………………………",null,null,null,null,null,null,null,"…… 16-17"]
[]
[null,"ROSS SUB-SUMMARY……………………………………………………………………………………………….",null,null,null,null,null,null,null,"….....18-19"]
[]
[null,"SCIOTO SUBSUMMARY………………………………………………………………………………………………",null,null,null,null,null,null,null,"...…20-21"]
[]
[null,"REST AREAS, PARK & RIDES AND GARAGES SUB-SUMMARY..……..…….….…..….…...…..",null,null,null,null,null,null,null,"….........22"]

{"sheet":"GENERAL NOTES (3)","index":2,"n_rows":50,"n_cols":1,"rows_kept":50,"cut":false,"hidden":false,"merged":[[0,0,0,2],[9,0,15,0],[3,0,7,0],[18,0,27,0],[32,0,40,0]]}
["GENERAL NOTES"]
[]
["UTILITIES"]
["THERE ARE NO UNDERGROUND UTILITIES SHOWN ON THIS PLAN. THE NATURE OF THE WORK REQUIRED BY THIS PROJECT WILL NOT AFFECT ANY KNOWN UNDERGROUND UTILITIES THAT EXIST IN OR ADJACENT TO THE WORK AREA."]
[]
[]
[]
[]
["LAYOUT AND PREMARKING"]
["ALL NEW MARKINGS SHALL BE PLACED OVER EXISTING MARKINGS. ANY CHANGES TO THE EXISTING MARKINGS SHALL BE FURNISHED TO THE CONTRACTOR AT THE PRE-CONSTRUCTION CONFERENCE. WHERE THE MARKINGS WHICH WERE TO BE RETRACED ARE NO LONGER VISIBLE, THE CONTRACTOR SHALL PREMARK ALL MARKINGS FROM SCHEMATIC FORMS FURNISHED BY THE ENGINEER UNLESS THE ENGINEER DIRECTS OTHERWISE."]
[]
[]
[]
[]
[]
[]
[]
["REMOVAL"]
["ITEMS OF WORK FOR THE REMOVAL OF EXISTING MARKINGS ARE TO BE USED ONLY IF DIRECTED  BY THE ENGINEER. REMOVAL SHALL BE PER CMS 614.11(G).\n\nTHE FOLLOWING QUANTITES HAVE BEEN CARRIED TO THE GENERAL SUMMARY:\nITEM 642 - REMOVAL OF PAVEMENT MARKING       3 EACH\nITEM 644 - REMOVAL OF PAVEMENT MARKING    100 FEET\nITEM 644 - REMOVAL OF PAVEMENT MARKING      10 EACH"]
[]
[]
[]
[]
[]
[]
[]
[]
[]
["PROJECT START DATE"]
["WORK ON THIS PROJECT SHALL NOT BEGIN UNTIL JUNE 1, 2025."]
[]
["FACILITY MARKING"]
["FOR MARKINGS AT FACILITY LOCATIONS, SEE SHEET 22. MARKING WORK AT PARK & RIDES, REST AREAS, GARAGES AND OUTPOSTS IS INTENDED TO BE PERFORMED BETWEEN THE HOURS OF 7:00PM AND 6:00AM. IT IS THE CONTRACTOR'S RESPOSIBILITY THAT PAVEMENT MARKINGS ARE DRY AND ABLE TO ACCEPT TRAFFIC BY 6:00AM. CONTRACTOR TO CONTACT ENGINEER TWO BUSINESS DAYS PRIOR TO PAINTING AT THESE FACILITIES. CONTRACTOR TO CONTACT APPROPRIATE INTERNAL STAFF PRIOR TO BEGINNING WORK."]
[]
[]
[]
[]
[]
[]
[]
[]
["ED COX - FACILITIES ADMIN. 740-774-8917"]
["SCOTT EDMINSTEN - ADAMS COUNTY MGR. 740-774-9001"]
["CRAIG STOUT - BROWN COUNTY MGR. 740-774-9009"]
["ARIK ADAMS - HIGHLAND COUNTY MGR. 740-774-9017"]
["RICK WARD - JACKSON COUNTY MGR. 740-774-9031"]
["MARK GLEICHAUF - LAWRENCE COUNTY MGR. 740-774-9039"]
["JOSH HAVENS - PIKE COUNTY MGR. 740-774-9084"]
["BILL PICKERRELL - ROSS COUNTY MGR. 740-774-8929"]
["CHRIS NIZIOL - SCIOTO COUNTY MGR. 740-774-8991"]

{"sheet":"MOT (4)","index":3,"n_rows":67,"n_cols":3,"rows_kept":67,"cut":false,"hidden":false,"merged":[[45,0,52,0],[53,0,56,0],[3,2,6,2],[8,2,12,2],[14,2,19,2],[22,2,31,2],[32,2,34,2],[0,0,0,2],[3,0,13,0],[15,0,22,0],[24,0,29,0],[31,0,43,0]]}
["MAINTENANCE OF TRAFFIC NOTES"]
[]
["MAINTENANCE OF TRAFFIC",null,"MAINTENANCE OF TRAFFIC (CONT.)"]
["A MINIMUM OF ONE LANE OF TRAFFIC IN EACH DIRECTION SHALL BE MAINTAINED AT ALL TIMES BY USE OF THE EXISTING PAVEMENT. LENGTH AND DURATION OF THE LANE CLOSURES AND RESTRICTIONS SHALL BE AT THE APPROVAL OF THE ENGINEER. IT IS THE INTENT TO MINIMIZE THE IMPACT TO THE TRAVELING PUBLIC. LANE CLOSURES OR RESTRICTIONS OVER SEGMENTS OF THE PROJECT IN WHICH NO WORK IS ANTICIPATED WITHIN A REASONABLE TIME FRAME, AS DIRECTED BY THE ENGINEER, SHALL NOT BE PERMITTED. THE LEVEL OF UTILIZATION OF MAINTENANCE OF TRAFFIC DEVICES SHALL BE COMMENSURATE WITH THE WORK IN PROGRESS.",null,"SHOULD THE CONTRACTOR FAIL TO MEET ANY OF THESE REQURIEMENTS, THE CONTRACTOR SHALL BE ASSESSED A DISINCENTIVE AMOUNT OF $50.00 FOR EACH MINUTE THE ABOVE DESCRIBED LANE CLOSURE RESTRICTIONS ARE VIOLATED."]
[]
[]
[]
[]
[null,null,"THE CONTRACTOR WILL ADVISE THE DISTRICT PUBLIC INFORMATION OFFICER AT (740) 774-8834, EMAIL D09.PIO@DOT.OHIO.GOV FOURTEEN (14) DAYS PRIOR TO THE START OF CONSTRUCTION ACTIVITIES. THE PROJECT ENGINEER WILL PROVIDE ASSISTANCE/CLARIFICATION FOR ANY QUESTIONS."]
[]
[]
[]
[]
[]
[null,null,"ALL WORK AND TRAFFIC CONTROL DEVICES SHALL BE IN ACCORDANCE WITH 614 AND OTHER APPLICABLE PORTIONS OF THE SPECIFICATIONS, AS WELL AS THE OHIO MANUAL OF UNIFORM TRAFFIC CONTROL DEVICES.  PAYMENT FOR ALL LABOR, EQUIPMENT AND MATERIALS SHALL BE INCLUDED IN THE LUMP SUM PRICE FOR 614, MAINTAINING TRAFFIC."]
["ALL TRAFFIC CONTROL SIGNS, SIGNS, DEVICES, AND OPERATIONS USED FOR THE TEMPORARY MAINTENACE AND CONTROL SHALL AT ALL TIMES BE SUBJUCT TO THE DIRECTION AND CONTROL OF THE ENGINEER IN RESPECT TO THEIR CONDITION, LOCATIONS, AND TIMES OF APPLICATION. VISIBLE SIGNS AND DEVICES SHALL CONSISTENTLY REFLECT THE CONDITIONS ACTUALLY EXISTING. INAPPROPRIATE SIGNS AND DEVICES SHALL BE REMOVED OR COVERED."]
[]
[]
[]
[]
[]
[null,null,"FLOOD LIGHTING"]
[null,null,"FLOOD LIGHTING OF THE WORK SITES FOR OPERATIONS CONDUCTED DURING NIGHT TIME SO THAT LIGHTS DO NO CAUSE GLARE TO THE DRIVERS USING THE AREAS. TO ENSURE THE ADEQUACY OF THE FLODD LIGHT PLACEMENT, THE CONTRACTOR AND THE ENGINEER SHALL DRIVE THROUGH THE WORK SITE(S) EACH NIGHT WHEN THE LIGHTING IS IN PLACE AND OPERATIVE PRIOR TO COMMENCING ANY WORK. IF GLARE IS DETECTED, THE LIGHT PLACEMENT AND SHEILDING SHALL BE ADJUSTED TO THE SATISFACTION OF THE ENGINEER BEFORE WORK PROCEEDS."]
[]
["THE CONTRACTOR SHALL BE RESPONSIBLE FOR FURNISHING, ERECTING OR REPLACING, MAINTAINING, AND REMOVING ALL TEMPORARY TRAFFIC CONTROL SIGNS AND DEVICES THAT MAY BE REQUIRED BY THE CMS AND/OR THE OHIO MANUAL FOR UNIFORM TRAFFIC CONTROL DEVICES FOR THE MAINTENANCE OF THROUGH TRAFFIC."]
[]
[]
[]
[]
[]
[]
["MAINTAIN TRAFFIC AS FOLLOWS:\n1. ON TWO-LANE TWO-WAY ROADWAY, MAINTAIN TRAFFIC IN ACCORDANCE WITH STANDARD DRAWING MT-99.20. FLAGGERS IN ACCORDANCE WITH STANDARD CONSTRUCTION DRAWING MT-97.10 MAY BE USED AS REQUIRED TO PROGRESS THE WORK.\n\n2. ON MULTI-LANE ROADWAYS MAINTAIN TRAFFIC IN ACCORDANCE WITH STANDARD DRAWING MT-99.20, (USING FLASHING ARROW PANEL IN ACCORDANCE WITH STANDARD DRAWING MT-95.30) AND LANE CLOSURES IN ACCORDANCE WITH STANDARD DRAWINGS MT-95.30, MT-95.31, MT-98.10, MT-98.11, MT-98.22, MT-98.28, OR MT-98.29 AS APPLICABLE MAY BE USED AS REQUIRED TO PROGRESS WORK."]
[null,null,"PAYMENT FOR ALL LABOR, EQUIPMENT AND MATERIALS SHALL BE INCLUDED IN THE LUMP SUM CONTRACT PRICE FOR ITEM 614, MAINTAINING TRAFFIC."]
[]
[]
[]
[]
[]
[]
[]
[]
[]
[]
[]
[]
["NO WORK SHALL BE PERFORMED AND ALL EXISTING LANES SHALL BE OPEN TO TRAFFIC DURING DESIGNATED HOLIDAYS OR EVENTS:\n\nJUNETEENTH                           ELECTION DAY\nFOURTH OF JULY                    VETERANS DAY\nLABOR DAY                             THANKSGIVING DAY\nCOLUMBUS DAY                    OTHER LOCAL EVENTS"]
[]
[]
[]
[]
[]
[]
[]
["THE PERIOD OF TIME THAT THE LANES ARE TO BE OPEN DEPENDS ON THE DAY OF THE WEK ON WHICH THE HOLIDAY OR EVENT FALL. THE FOLLOWING SCHEDULE SHALL BE USED TO DETERMINE THIS PERIOD:"]
[]
[]
[]
[]
["DAY OF THE WEEK   TIME ALL LANES MUST BE OPEN TO TRAFFIC "]
["SUNDAY                      12:00 NOON FRIDAY THRU 6:00 AM MONDAY"]
["MONDAY                   12:00 NOON FRIDAY THRU 6:00 AM TUESDAY"]
["TUESDAY                   12:00 NOON MONDAY THRU 6:00 AM WEDNESDAY"]
["WEDNESDAY            12:00 NOON TUESDAY THRU 6:00 AM THURSDAY"]
["THURSDAY               12:00 NOON WEDNESDAY THRU 6:00 AM FRIDAY"]
["THURSDAY               6:00AM WEDNESDAY THRU 6:00AM MONDAY\n(THANKSGIVING ONLY)"]
["FRIDAY                   12:00 NOON THURSDAY THRU 6:00 AM MONDAY"]
["SATURDAY             12:00 NOON FRIDAY TRHU 6:00 AM MONDAY"]

{"sheet":"GENSUM(5)","index":4,"n_rows":43,"n_cols":18,"rows_kept":43,"cut":false,"hidden":false,"merged":[[35,0,41,0],[42,0,43,0],[4,3,5,3],[4,4,5,4],[4,5,5,5],[0,0,17,0],[0,1,1,17],[2,12,5,12],[2,13,3,13],[2,14,3,14],[2,15,5,15],[2,16,5,16],[2,17,5,17],[4,1,5,1],[2,11,3,11],[2,1,3,10],[4,11,5,11],[4,13,5,13],[4,14,5,14],[4,6,5,6],[4,2,5,2],[4,7,5,7],[4,8,5,8],[4,9,5,9],[4,10,5,10]]}
["TO USE MACRO FOR PLACING ITEMS - CLICK THE BUTTON.  IN THE DIALOG BOX, CLICK FILE THEN NAVIGATE TO I:\\ODOTstd\\V8istd\\vba\\data AND SELECT THE APPROPRIATE FILE (E = ENGLISH UNITS). CLICK 'OPEN'. THEN FROM THE DROP DOWN YOU CAN BEGIN SELECTING YOUR ITEMS.\n\nWARNING: BE SURE TO SELECT A CELL IN THE \"ITEM\" COLUMN PRIOR TO PLACING ANY ITEM FROM THE MACRO WINDOW.\n|\n|\n\\/","The shape object  InnerSheetBorder  represents the drawing area of an 8.5\"x11\" ODOT General Summary sheet "]
[]
[null,"SHEET NUMBER",null,null,null,null,null,null,null,null,null,"PLAN SPLIT","ITEM","ITEM","GRAND","UNIT","DESCRIPTION","SEE SHEET NO."]
[]
[null,3,7,9,11,13,15,17,19,21,22,"01/NFP/21",null,"EXT.","TOTAL"]
[]
[null,null,null,null,null,null,null,null,null,null,null,null,null,null,{"$f":"SUM(B7:L7)","v":0},null,"TRAFFIC CONTROL"]
[null,null,null,null,null,null,null,null,null,null,{"$f":"'FACILITIES(21)'!C32","v":0.09},{"$f":"SUM(B8:K8)","v":0.09},"642","00104",{"$f":"SUM(B8:K8)","v":0.09},"MI","EDGELINE 6\". TYPE 1"]
[null,null,null,null,null,null,null,null,null,null,{"$f":"'FACILITIES(21)'!E32","v":0.01},{"$f":"SUM(B9:K9)","v":0.01},"642","00290",{"$f":"SUM(B9:K9)","v":0.01},"MI","CENTER LINE"]
[null,null,{"$f":"'ADA(7)'!$C$33","v":2552},{"$f":"'BRO(9)'!$C$33","v":7305},{"$f":"'HIG(11)'!$C$33","v":841},{"$f":"'JAC(13)'!$C$33","v":3396},{"$f":"'LAW(15)'!$C$33","v":1875},{"$f":"'PIK(17)'!$C$33","v":2556},{"$f":"'ROS(19)'!$C$33","v":10849},{"$f":"'SCI(21)'!$C$33","v":11249},{"$f":"'FACILITIES(21)'!F32","v":384},{"$f":"SUM(B10:K10)","v":41007},642,"00400",41007,"FT","CHANNELIZING LINE, 8\", TYPE 1"]
[null,null,{"$f":"'ADA(7)'!$D$33","v":1152},{"$f":"'BRO(9)'!$D$33","v":0},{"$f":"'HIG(11)'!$D$33","v":0},{"$f":"'JAC(13)'!$D$33","v":7369},{"$f":"'LAW(15)'!$D$33","v":10754},{"$f":"'PIK(17)'!$D$33","v":1709},{"$f":"'ROS(19)'!$D$33","v":23351},{"$f":"'SCI(21)'!$D$33","v":1355},null,{"$f":"SUM(B11:K11)","v":45690},642,"00404",45690,"FT","CHANNELIZING LINE, 12\", TYPE 1"]
[null,null,{"$f":"'ADA(7)'!$E$33","v":1042},{"$f":"'BRO(9)'!$E$33","v":1669},{"$f":"'HIG(11)'!$E$33","v":915},{"$f":"'JAC(13)'!$E$33","v":827},{"$f":"'LAW(15)'!$E$33","v":1018},{"$f":"'PIK(17)'!$E$33","v":1536},{"$f":"'ROS(19)'!$E$33","v":1872},{"$f":"'SCI(21)'!$E$33","v":1329},{"$f":"'FACILITIES(21)'!H32","v":93},{"$f":"SUM(B12:K12)","v":10301},642,"00500",10301,"FT","STOP LINE, TYPE 1"]
[null,null,null,null,null,null,null,null,null,null,null,null,null,null,0]
[null,null,{"$f":"'ADA(7)'!$F$33","v":2096},{"$f":"'BRO(9)'!$F$33","v":2955},{"$f":"'HIG(11)'!$F$33","v":3005},{"$f":"'JAC(13)'!$F$33","v":334},{"$f":"'LAW(15)'!$F$33","v":496},{"$f":"'PIK(17)'!$F$33","v":1672},{"$f":"'ROS(19)'!$F$33","v":661},{"$f":"'SCI(21)'!$F$33","v":1051},null,{"$f":"SUM(B14:K14)","v":12270},642,"00600",12270,"FT","CROSSWALK LINE, TYPE 1"]
[null,null,{"$f":"'ADA(7)'!$G$33","v":1064},{"$f":"'BRO(9)'!$G$33","v":9886},{"$f":"'HIG(11)'!$G$33","v":890},{"$f":"'JAC(13)'!$G$33","v":1237},{"$f":"'LAW(15)'!$G$33","v":2203},{"$f":"'PIK(17)'!$G$33","v":2890},{"$f":"'ROS(19)'!$G$33","v":11820},{"$f":"'SCI(21)'!$G$33","v":5578},{"$f":"'FACILITIES(21)'!I32","v":962},{"$f":"SUM(B15:K15)","v":36530},642,"00700",36530,"FT","TRANSVERSE/DIAGONAL LINE, TYPE 1"]
[null,null,{"$f":"'ADA(7)'!$I$33","v":0},{"$f":"'BRO(9)'!$I$33","v":0},{"$f":"'HIG(11)'!$I$33","v":0},{"$f":"'JAC(13)'!$I$33","v":0},{"$f":"'LAW(15)'!$I$33","v":0},{"$f":"'PIK(17)'!$I$33","v":0},{"$f":"'ROS(19)'!$I$33","v":0},{"$f":"'SCI(21)'!$I$33","v":0},{"$f":"'FACILITIES(21)'!K32","v":2822},{"$f":"SUM(B16:K16)","v":2822},642,"00800",2822,"FT","CURB MARKING, TYPE 1"]
[null,null,{"$f":"'ADA(7)'!$J$33","v":1191},{"$f":"'BRO(9)'!$J$33","v":689},{"$f":"'HIG(11)'!$J$33","v":60},{"$f":"'JAC(13)'!$J$33","v":232},{"$f":"'LAW(15)'!$J$33","v":0},{"$f":"'PIK(17)'!$J$33","v":212},{"$f":"'ROS(19)'!$J$33","v":821},{"$f":"'SCI(21)'!$J$33","v":1093},null,{"$f":"SUM(B17:K17)","v":4298},642,"00900",4298,"SQ FT","ISLAND MARKING, TYPE 1"]
[null,null,{"$f":"'ADA(7)'!$L$33","v":2},{"$f":"'BRO(9)'!$L$33","v":4},{"$f":"'HIG(11)'!$L$33","v":0},{"$f":"'JAC(13)'!$L$33","v":4},{"$f":"'LAW(15)'!$L$33","v":0},{"$f":"'PIK(17)'!$L$33","v":2},{"$f":"'ROS(19)'!$L$33","v":2},{"$f":"'SCI(21)'!$L$33","v":6},null,{"$f":"SUM(B18:K18)","v":20},642,"01000",20,"EACH","RAILROAD SYMBOL MARKING, TYPE 1"]
[null,null,null,null,null,null,null,null,null,null,null,null,null,null,0]
[null,null,{"$f":"'ADA(7)'!$M$33","v":8},{"$f":"'BRO(9)'!$M$33","v":8},{"$f":"'HIG(11)'!$M$33","v":6},{"$f":"'JAC(13)'!$M$33","v":2},{"$f":"'LAW(15)'!$M$33","v":9},{"$f":"'PIK(17)'!$M$33","v":4},{"$f":"'ROS(19)'!$M$33","v":2},{"$f":"'SCI(21)'!$M$33","v":3},null,{"$f":"SUM(B20:K20)","v":42},642,"01110",42,"EACH","SCHOOL SYMBOL MARKING, 96\", TYPE 1"]
[null,null,{"$f":"'ADA(7)'!$N$33","v":0},{"$f":"'BRO(9)'!$N$33","v":66},{"$f":"'HIG(11)'!$N$33","v":0},{"$f":"'JAC(13)'!$N$33","v":0},{"$f":"'LAW(15)'!$N$33","v":0},{"$f":"'PIK(17)'!$N$33","v":0},{"$f":"'ROS(19)'!$N$33","v":0},{"$f":"'SCI(21)'!$N$33","v":0},{"$f":"'FACILITIES(21)'!M32","v":28888},{"$f":"SUM(B21:K21)","v":28954},642,"01200",28954,"FT","PARKING LOT STALL MARKING, TYPE 1"]
[null,null,{"$f":"'ADA(7)'!$O$33","v":35},{"$f":"'BRO(9)'!$O$33","v":115},{"$f":"'HIG(11)'!$O$33","v":18},{"$f":"'JAC(13)'!$O$33","v":63},{"$f":"'LAW(15)'!$O$33","v":49},{"$f":"'PIK(17)'!$O$33","v":68},{"$f":"'ROS(19)'!$O$33","v":193},{"$f":"'SCI(21)'!$O$33","v":66},{"$f":"'FACILITIES(21)'!P32","v":5},{"$f":"SUM(B22:K22)","v":612},642,"01300",612,"EACH","LANE ARROW, TYPE 1"]
[null,null,{"$f":"'ADA(7)'!$U$33","v":0},{"$f":"'BRO(9)'!$U$33","v":0},{"$f":"'HIG(11)'!$U$33","v":0},{"$f":"'JAC(13)'!$U$33","v":4},{"$f":"'LAW(15)'!$U$33","v":0},{"$f":"'PIK(17)'!$U$33","v":0},{"$f":"'ROS(19)'!$U$33","v":2},{"$f":"'SCI(21)'!$U$33","v":0},null,{"$f":"SUM(B23:K23)","v":6},642,"01312",6,"EACH","LANE REDUCTION ARROW, TYPE 1"]
[null,null,{"$f":"'ADA(7)'!$V$33","v":0},{"$f":"'BRO(9)'!$V$33","v":0},{"$f":"'HIG(11)'!$V$33","v":0},{"$f":"'JAC(13)'!$V$33","v":0},{"$f":"'LAW(15)'!$V$33","v":0},{"$f":"'PIK(17)'!$V$33","v":30},{"$f":"'ROS(19)'!$V$33","v":14},{"$f":"'SCI(21)'!$V$33","v":10},null,{"$f":"SUM(B24:K24)","v":54},642,"01352",54,"EACH","TWO WAY LEFT TURN ARROW, TYPE 1"]
[null,null,null,null,null,null,null,null,null,null,null,null,null,null,0]
[null,null,{"$f":"'ADA(7)'!$W$33","v":0},{"$f":"'BRO(9)'!$W$33","v":11},{"$f":"'HIG(11)'!$W$33","v":6},{"$f":"'JAC(13)'!$W$33","v":0},{"$f":"'LAW(15)'!$W$33","v":7},{"$f":"'PIK(17)'!$W$33","v":6},{"$f":"'ROS(19)'!$W$33","v":8},{"$f":"'SCI(21)'!$W$33","v":5},null,{"$f":"SUM(B26:K26)","v":43},642,"01410",43,"EACH","WORD ON PAVEMENT, 96\", TYPE 1"]
[null,null,{"$f":"'ADA(7)'!$X$33","v":180},{"$f":"'BRO(9)'!$X$33","v":3313},{"$f":"'HIG(11)'!$X$33","v":0},{"$f":"'JAC(13)'!$X$33","v":5955},{"$f":"'LAW(15)'!$X$33","v":0},{"$f":"'PIK(17)'!$X$33","v":265},{"$f":"'ROS(19)'!$X$33","v":17672},{"$f":"'SCI(21)'!$X$33","v":0},null,{"$f":"SUM(B27:K27)","v":27385},642,"01500",27385,"FT","DOTTED LINE, 4\", TYPE 1"]
[null,null,{"$f":"'ADA(7)'!$Z$33","v":0},{"$f":"'BRO(9)'!$Z$33","v":0},{"$f":"'HIG(11)'!$Z$33","v":0},{"$f":"'JAC(13)'!$Z$33","v":0},{"$f":"'LAW(15)'!$Z$33","v":0},{"$f":"'PIK(17)'!$Z$33","v":0},{"$f":"'ROS(19)'!$Z$33","v":0},{"$f":"'SCI(21)'!$Z$33","v":0},{"$f":"'FACILITIES(21)'!Q32","v":25},{"$f":"SUM(B28:K28)","v":25},642,"01702",25,"EACH","HANDICAP SYMBOL MARKING, TYPE 1"]
[null,null,null,null,null,null,null,null,null,null,null,"LS",642,"20000","LS","LS","TWO-WAY RADIO EQUIPMENT"]
[null,null,{"$f":"'ADA(7)'!$AA$33","v":0},{"$f":"'BRO(9)'!$AA$33","v":0},{"$f":"'HIG(11)'!$AA$33","v":154},{"$f":"'JAC(13)'!$AA$33","v":0},{"$f":"'LAW(15)'!$AA$33","v":0},{"$f":"'PIK(17)'!$AA$33","v":0},{"$f":"'ROS(19)'!$AA$33","v":96},{"$f":"'SCI(21)'!$AA$33","v":0},null,{"$f":"SUM(B30:K30)","v":250},642,"20802",250,"FT","YIELD LINE, TYPE 1"]
[null,null,null,null,null,null,null,null,null,null,null,null,null,null,0]
[null,3,null,null,null,null,null,null,null,null,null,{"$f":"SUM(B32:K32)","v":3},642,"30020",3,"EACH","REMOVAL OF PAVEMENT MARKING"]
[null,100,null,null,null,null,null,null,null,null,null,{"$f":"SUM(B33:K33)","v":100},644,"30000",100,"FT","REMOVAL OF PAVEMENT MARKING"]
[null,10,null,null,null,null,null,null,null,null,null,{"$f":"SUM(B34:K34)","v":10},644,"30020",10,"EACH","REMOVAL OF PAVEMENT MARKING"]
[null,null,null,null,null,null,null,null,null,null,null,null,null,null,0]
["SHEET 1",null,null,null,null,null,null,null,null,null,null,null,null,null,0,null,"INCIDENTALS"]
[null,null,null,null,null,null,null,null,null,null,null,"LS",614,"11000","LS","LS","MAINTAINING TRAFFIC"]
[null,null,null,null,null,null,null,null,null,null,null,"LS",624,"10000","LS","LS","MOBILIZATION"]
[]
[]
[]
[]
["CLICK HERE FOR THE\nITEM MASTER VIA INTRANET"]

{"sheet":"ADA(6)","index":5,"n_rows":38,"n_cols":28,"rows_kept":38,"cut":false,"hidden":false,"merged":[[0,0,0,27],[1,0,3,0],[1,1,3,1],[1,27,3,27],[1,22,2,22],[1,13,2,13],[1,25,2,25],[1,23,2,23],[1,24,2,24],[1,26,2,26],[1,14,1,19],[1,20,2,20],[1,21,2,21],[36,0,36,1],[37,0,37,1],[37,6,37,7],[1,5,2,5],[1,6,2,6],[1,7,2,7],[37,14,37,19],[37,23,37,24],[37,9,37,10],[1,2,2,2],[1,3,2,3],[1,4,2,4],[1,9,2,9],[1,10,2,10],[1,8,2,8],[1,11,2,11],[1,12,2,12]]}
["ADAMS COUNTY AUXILIARY MARKINGS SUB-SUMMARY"]
["ROUTE","SLM","CHANNELIZING LINE, 8\"","CHANNELIZING LINE, 12\"","STOP LINE","CROSSWALK LINE, 12\"","TRANS. / DIAG. LINE (WHITE)","TRANS. / DIAG. LINE (YELLOW)","CURB MARKING","ISLAND MARKING (YELLOW)","ISLAND MARKING (WHITE)","RAILROAD SYM.","SCHOOL SYM., 96\"","PARKING LOT STALL MARKING","LANE ARROW",null,null,null,null,null,"LANE REDUCTION","TWO-WAY LT TRN","WORD ON PAVE.","DOTTED LINE, 6\" (WHITE)","DOTTED LINE, 6\" (YELLOW)","HANDICAP SYM.","YIELD LINE","REMARKS"]
[null,null,null,null,null,null,null,null,null,null,null,null,null,null,"LEFT TURN","RIGHT TURN","THRU","COMB - LT/TH","COMB - RT/TH","COMB - LT/RT"]
[null,null,"FT","FT","FT","FT","FT","FT","FT","SF","SF","EA","EA","FT","EA","EA","EA","EA","EA","EA","EA","EA","EA","FT","FT","EA","FT"]
[]
[52,7.34,null,null,48,314,null,null,null,null,null,null,null,null,null,null,null,null,null,null,null,null,null,null,null,null,null,"MANCHESTER"]
[52,7.52,null,null,null,110]
[52,7.56,null,null,55,236]
[52,7.64,null,null,25,156]
[52,7.85,null,null,null,156]
[]
[32,1.71,792,null,150,null,330,null,null,null,416,null,null,null,6,null,null,null,null,null,null,null,null,null,180,null,null,"SR 136"]
[32,6.28,1081,null,150,null,272,null,null,null,379,null,null,null,6,null,null,null,null,null,null,null,null,null,null,null,null,"SR 247"]
[32,19.989999999999998,null,1152,null,null,144,null,null,null,226,null,null,null,8,null,null,null,null,null,null,null,null,null,null,null,null,"SR 73"]
[]
[41,25.55,285,null,null,null,null,94,null,113,null,null,2,null,3]
[41,26.2,null,null,36,null,null,null,null,null,null,null,2]
[41,26.32,null,null,null,340]
[41,26.36,null,null,21,172]
[41,26.48,80,null,50,172,null,null,null,null,null,null,null,null,null,2]
[41,26.5,null,null,26,86]
[41,26.53,null,null,24,86]
[]
[73,7.64,null,null,19]
[73,7.9029999999999996,null,null,30]
[73,10.37,null,null,41]
[73,13.1,55,null,44,null,null,224,null,57,null,null,null,null,2]
[]
[125,4.91,null,null,24,null,null,null,null,null,null,null,1]
[125,6.23,null,null,null,null,null,null,null,null,null,null,2,null,null,null,null,null,null,null,null,null,null,null,null,null,null,"WEST UNION SCHOOL"]
[125,6.39,null,null,null,null,null,null,null,null,null,null,1]
[125,8.44,75,null,24,null,null,null,null,null,null,null,null,null,null,2,null,2]
[125,16.34,null,null,null,68,null,null,null,null,null,null,null,null,null,null,null,null,null,null,null,null,null,null,null,null,null,"CROSSWALK "]
[]
[]
[]
["SUBTOTAL THIS SHEET",null,{"$f":"SUM(C5:C36)","v":2368},1152,767,1896,746,318,0,170,1021,0,8,0,25,4,0,2,0,0,0,0,0,0,180,0,0]
["TOT. CARRIED TO SHEET 7",null,{"$f":"C37","v":2368},{"$f":"D37","v":1152},{"$f":"E37","v":767},{"$f":"F37","v":1896},{"$f":"G37+H37","v":1064},null,{"$f":"I37","v":0},{"$f":"J37+K37","v":1191},null,{"$f":"L37","v":0},{"$f":"M37","v":8},{"$f":"N37","v":0},{"$f":"O37+P37+Q37+R37+S37+T37","v":31},null,null,null,null,null,{"$f":"U37","v":0},{"$f":"V37","v":0},{"$f":"W37","v":0},{"$f":"X37+Y37","v":180},null,{"$f":"Z37","v":0},{"$f":"AA37","v":0}]

{"sheet":"ADA(7)","index":6,"n_rows":33,"n_cols":28,"rows_kept":33,"cut":false,"hidden":false,"merged":[[31,14,31,19],[1,22,2,22],[1,27,3,27],[1,14,1,19],[1,20,2,20],[1,21,2,21],[1,25,2,25],[32,0,32,1],[32,6,32,7],[32,9,32,10],[32,14,32,19],[1,23,2,23],[31,23,31,24],[32,23,32,24],[1,12,2,12],[1,13,2,13],[30,0,30,1],[31,0,31,1],[31,6,31,7],[1,9,2,9],[1,10,2,10],[1,11,2,11],[31,9,31,10],[0,0,0,27],[1,0,3,0],[1,1,3,1],[1,2,2,2],[1,3,2,3],[1,4,2,4],[1,5,2,5],[1,6,2,6],[1,7,2,7],[1,8,2,8],[1,24,2,24],[1,26,2,26]]}
["ADAMS COUNTY AUXILIARY MARKINGS SUB-SUMMARY"]
["ROUTE","SLM","CHANNELIZING LINE, 8\"","CHANNELIZING LINE, 12\"","STOP LINE","CROSSWALK LINE, 12\"","TRANS. / DIAG. LINE (WHITE)","TRANS. / DIAG. LINE (YELLOW)","CURB MARKING","ISLAND MARKING (YELLOW)","ISLAND MARKING (WHITE)","RAILROAD SYM.","SCHOOL SYM., 96\"","PARKING LOT STALL MARKING","LANE ARROW",null,null,null,null,null,"LANE REDUCTION","TWO-WAY LT TRN","WORD ON PAVE.","DOTTED LINE, 6\" (WHITE)","DOTTED LINE, 6\" (YELLOW)","HANDICAP SYM.","YIELD LINE","REMARKS"]
[null,null,null,null,null,null,null,null,null,null,null,null,null,null,"LEFT TURN","RIGHT TURN","THRU","COMB - LT/TH","COMB - RT/TH","COMB - LT/RT"]
[null,null,"FT","FT","FT","FT","FT","FT","FT","SF","SF","EA","EA","FT","EA","EA","EA","EA","EA","EA","EA","EA","EA","FT","FT","EA","FT"]
[]
[136,0,null,null,48,100]
[136,4.3390000000000004,null,null,24]
[136,5.87,null,null,25]
[136,9.4,null,null,36]
[136,14.97,null,null,null,100]
[]
[247,17.12,184,null,100,null,null,null,null,null,null,null,null,null,4]
[247,17.84]
[]
[781,0,null,null,18,null,null,null,null,null,null,null,null,null,null,null,null,null,null,null,null,null,null,null,null,null,null,"S.R. 41"]
[781,10.98,null,null,24,null,null,null,null,null,null,2]
[]
[]
[]
[]
[]
[]
[]
[]
[]
[]
[]
[]
[]
[]
["SUBTOTAL THIS SHEET",null,{"$f":"SUM(C5:C30)","v":184},0,275,200,0,0,0,0,0,2,0,0,4,0,0,0,0,0,0,0,0,0,0,0,0]
["SHEET 6 TOTALS",null,{"$f":"'ADA(6)'!C38","v":2368},{"$f":"'ADA(6)'!D38","v":1152},{"$f":"'ADA(6)'!E38","v":767},{"$f":"'ADA(6)'!F38","v":1896},{"$f":"'ADA(6)'!G38","v":1064},null,{"$f":"'ADA(6)'!I38","v":0},{"$f":"'ADA(6)'!J38","v":1191},null,{"$f":"'ADA(6)'!L38","v":0},{"$f":"'ADA(6)'!M38","v":8},{"$f":"'ADA(6)'!N38","v":0},{"$f":"'ADA(6)'!O38","v":31},null,null,null,null,null,{"$f":"'ADA(6)'!U38","v":0},{"$f":"'ADA(6)'!V38","v":0},{"$f":"'ADA(6)'!W38","v":0},{"$f":"'ADA(6)'!X38","v":180},null,{"$f":"'ADA(6)'!Z38","v":0},{"$f":"'ADA(6)'!AA38","v":0}]
["TOT. CARRIED TO GEN. SUM.",null,{"$f":"C31+C32","v":2552},{"$f":"D31+D32","v":1152},{"$f":"E31+E32","v":1042},{"$f":"F31+F32","v":2096},{"$f":"G32+G31+H31","v":1064},null,{"$f":"I31+I32","v":0},{"$f":"J32+J31+K31","v":1191},null,{"$f":"L31+L32","v":2},{"$f":"M31+M32","v":8},{"$f":"N31+N32","v":0},{"$f":"O32+O31+P31+Q31+R31+S31+T31","v":35},null,null,null,null,null,{"$f":"U31+U32","v":0},{"$f":"V31+V32","v":0},{"$f":"W31+W32","v":0},{"$f":"X32+X31+Y31","v":180},null,{"$f":"Z31+Z32","v":0},{"$f":"AA31+AA32","v":0}]

{"sheet":"BRO(8)","index":7,"n_rows":37,"n_cols":28,"rows_kept":37,"cut":false,"hidden":false,"merged":[[0,0,0,27],[1,0,3,0],[1,1,3,1],[1,2,2,2],[1,3,2,3],[1,4,2,4],[1,5,2,5],[1,6,2,6],[1,7,2,7],[1,8,2,8],[1,26,2,26],[1,27,3,27],[35,0,35,1],[36,0,36,1],[36,6,36,7],[36,9,36,10],[36,14,36,19],[1,25,2,25],[1,9,2,9],[1,10,2,10],[36,23,36,24],[1,20,2,20],[1,21,2,21],[1,22,2,22],[1,23,2,23],[1,24,2,24],[1,11,2,11],[1,12,2,12],[1,13,2,13],[1,14,1,19]]}
["BROWN COUNTY AUXILIARY MARKINGS SUB-SUMMARY"]
["ROUTE","SLM","CHANNELIZING LINE, 8\"","CHANNELIZING LINE, 12\"","STOP LINE","CROSSWALK LINE, 12\"","TRANS. / DIAG. LINE (WHITE)","TRANS. / DIAG. LINE (YELLOW)","CURB MARKING","ISLAND MARKING (YELLOW)","ISLAND MARKING (WHITE)","RAILROAD SYM.","SCHOOL SYM., 96\"","PARKING LOT STALL MARKING","LANE ARROW",null,null,null,null,null,"LANE REDUCTION","TWO-WAY LT TRN","WORD ON PAVE.","DOTTED LINE, 6\" (WHITE)","DOTTED LINE, 6\" (YELLOW)","HANDICAP SYM.","YIELD LINE","REMARKS"]
[null,null,null,null,null,null,null,null,null,null,null,null,null,null,"LEFT TURN","RIGHT TURN","THRU","COMB - LT/TH","COMB - RT/TH","COMB - LT/RT"]
[null,null,"FT","FT","FT","FT","FT","FT","FT","SF","SF","EA","EA","FT","EA","EA","EA","EA","EA","EA","EA","EA","EA","FT","FT","EA","FT"]
[32,16.04,null,null,null,null,null,null,null,null,null,null,null,null,null,null,null,null,null,null,null,null,null,829]
[32,16.91,1635,null,94,null,null,410,null,369,null,null,null,null,10,null,null,null,null,null,null,null,null,362,155]
[32,18.43,null,null,null,null,null,null,null,null,null,null,null,null,null,null,null,null,null,null,null,null,null,880]
[32,19.440000000000001,null,null,null,null,null,null,null,null,null,null,null,null,null,null,null,null,null,null,null,null,null,1021]
[50,4.79,null,null,null,624,30]
[52,12.3,null,null,40,125]
[52,12.63,366,null,null,null,null,100]
[52,12.91,null,null,null,74,null,null,null,null,null,null,2]
[52,13.73,null,null,null,null,null,null,null,null,null,null,2]
[52,18.38,840,null,48,null,null,255,null,null,null,null,null,null,3,3,6]
[52,19.940000000000001,null,null,null,200]
[52,20.55,null,null,48,400]
[52,20.82,null,null,36,null,110,null,null,null,null,null,null,null,3,2,5]
[62,13.83,502,null,67,null,null,823,null,null,null,null,null,null,2]
[62,18.29,null,null,70,270]
[62,18.559999999999999,null,null,null,80]
[62,25.07,null,null,null,null,null,null,null,null,null,null,1]
[62,25.5,240,null,null,null,null,464,null,204,null,null,1,null,4]
[62,26.28,null,null,null,null,null,null,null,null,null,1]
[62,26.4,null,null,24,null,null,null,null,null,null,1]
[62,26.52,null,null,64,null,null,null,null,null,null,null,null,null,5]
[68,11.67,128,null,null,null,null,null,null,null,null,null,null,null,2,null,null,null,null,null,null,null,null,null,null,null,null,"US 62"]
[68,12.12,null,null,40,null,null,1113,null,null,null,null,null,null,null,null,null,null,null,null,null,null,null,null,null,null,null,"4 TO 2 LANE TRANSITION"]
[68,16.649999999999999,455,null,null,null,null,585,null,null,null,null,null,null,4,null,null,null,null,null,null,null,2,null,null,null,null,"WORD: \"ONLY\""]
[68,17.66,210,null,null,null,null,585,null,null,null,null,null,null,2,null,null,null,null,null,null,null,1,null,null,null,null,"WORD: \"ONLY\""]
[68,29.26,265,null,null,null,null,196,null,25,null,null,null,null,5]
[68,29.49,53,null,null,null,null,215,null,25,null,null,null,null,2]
[68,29.73,159,null,36,null,null,426,null,null,null,1,null,null,7,null,1]
[68,30.14,100,null,82,240,null,539,null,null,null,1,null,null,5]
[]
[]
["SUBTOTAL THIS SHEET",null,{"$f":"SUM(C5:C35)","v":4953},0,649,2013,140,5711,0,623,0,4,6,0,54,5,12,0,0,0,0,0,3,3092,155,0,0]
["TOT. CARRIED TO SHEET 9",null,{"$f":"C36","v":4953},{"$f":"D36","v":0},{"$f":"E36","v":649},{"$f":"F36","v":2013},{"$f":"G36+H36","v":5851},null,{"$f":"I36","v":0},{"$f":"J36+K36","v":623},null,{"$f":"L36","v":4},{"$f":"M36","v":6},{"$f":"N36","v":0},{"$f":"O36+P36+Q36+R36+S36+T36","v":71},null,null,null,null,null,{"$f":"U36","v":0},{"$f":"V36","v":0},{"$f":"W36","v":3},{"$f":"X36+Y36","v":3247},null,{"$f":"Z36","v":0},{"$f":"AA36","v":0}]

{"sheet":"BRO(9)","index":8,"n_rows":33,"n_cols":28,"rows_kept":33,"cut":false,"hidden":false,"merged":[[0,0,0,27],[1,0,3,0],[1,1,3,1],[1,2,2,2],[1,3,2,3],[1,4,2,4],[1,5,2,5],[1,6,2,6],[1,7,2,7],[1,8,2,8],[1,26,2,26],[1,27,3,27],[31,6,31,7],[31,9,31,10],[31,14,31,19],[1,11,2,11],[1,12,2,12],[1,13,2,13],[1,14,1,19],[1,25,2,25],[1,9,2,9],[1,10,2,10],[32,0,32,1],[32,6,32,7],[32,9,32,10],[32,14,32,19],[32,23,32,24],[31,23,31,24],[1,20,2,20],[1,21,2,21],[1,22,2,22],[1,23,2,23],[1,24,2,24],[30,0,30,1],[31,0,31,1]]}
["BROWN COUNTY AUXILIARY MARKINGS SUB-SUMMARY"]
["ROUTE","SLM","CHANNELIZING LINE, 8\"","CHANNELIZING LINE, 12\"","STOP LINE","CROSSWALK LINE, 12\"","TRANS. / DIAG. LINE (WHITE)","TRANS. / DIAG. LINE (YELLOW)","CURB MARKING","ISLAND MARKING (YELLOW)","ISLAND MARKING (WHITE)","RAILROAD SYM.","SCHOOL SYM., 96\"","PARKING LOT STALL MARKING","LANE ARROW",null,null,null,null,null,"LANE REDUCTION","TWO-WAY LT TRN","WORD ON PAVE.","DOTTED LINE, 6\" (WHITE)","DOTTED LINE, 6\" (YELLOW)","HANDICAP SYM.","YIELD LINE","REMARKS"]
[null,null,null,null,null,null,null,null,null,null,null,null,null,null,"LEFT TURN","RIGHT TURN","THRU","COMB - LT/TH","COMB - RT/TH","COMB - LT/RT"]
[null,null,"FT","FT","FT","FT","FT","FT","FT","SF","SF","EA","EA","FT","EA","EA","EA","EA","EA","EA","EA","EA","EA","FT","FT","EA","FT"]
[68,30.8,810,null,74,null,null,235,null,null,null,null,null,null,6,4]
[68,30.99,412,null,132,null,null,180,null,66,null,null,null,null,6]
[68,31.28,260,null,60,null,null,300,null,null,null,null,null,null,5]
[68,40.57,null,null,null,null,null,null,null,null,null,null,1]
[68,40.94,null,null,50,280,400,null,null,null,null,null,1]
[125,8.77,290,null,null,null,null,null,null,null,null,null,null,null,3,null,null,null,2,null,null,null,3,null,null,null,null,"WORD: \"ONLY\""]
[125,8.89,null,null,330,null,null,2568]
[125,9.06,95,null,null,null,null,null,null,null,null,null,null,null,2,null,null,null,2,null,null,null,1,null,null,null,null,"WORD: \"ONLY\""]
[125,9.4,233,null,null,null,null,112,null,null,null,null,null,null,8,null,null,null,null,null,null,null,2,null,null,null,null,"WORD: \"ONLY\""]
[125,10.050000000000001,106,null,null,null,null,80,null,null,null,null,null,null,4,null,null,null,null,null,null,null,2,null,null,null,null,"WORD: \"ONLY\""]
[125,10.14,null,null,null,null,null,160,null,null,null,null,null,66,null,null,null,null,null,null,null,null,null,66]
[125,10.8,146,null,null,null,null,null,null,null,null,null,null,null,null,2]
[125,13.16,null,null,18,52]
[125,15.43,null,null,null,52]
[125,15.86,null,null,64,272]
[131,2.0099999999999998,null,null,100]
[131,3.89,null,null,27]
[221,0,null,null,12]
[221,8,null,null,12]
[251,0,null,null,13]
[286,4.8600000000000003,null,null,27]
[763,0,null,null,14]
[763,12.7,null,null,27]
[774,3.25,null,null,43,286]
[774,10.93,null,null,17]
[]
["SUBTOTAL THIS SHEET",null,{"$f":"SUM(C5:C30)","v":2352},0,1020,942,400,3635,0,66,0,0,2,66,34,6,0,0,4,0,0,0,8,{"$f":"SUM(X5:X30)","v":66},0,0,0]
["SHEET 8 TOTALS",null,{"$f":"'BRO(8)'!C37","v":4953},{"$f":"'BRO(8)'!D37","v":0},{"$f":"'BRO(8)'!E37","v":649},{"$f":"'BRO(8)'!F37","v":2013},{"$f":"'BRO(8)'!G37","v":5851},null,{"$f":"'BRO(8)'!I37","v":0},{"$f":"'BRO(8)'!J37","v":623},null,{"$f":"'BRO(8)'!L37","v":4},{"$f":"'BRO(8)'!M37","v":6},{"$f":"'BRO(8)'!N37","v":0},{"$f":"'BRO(8)'!O37","v":71},null,null,null,null,null,{"$f":"'BRO(8)'!U37","v":0},{"$f":"'BRO(8)'!V37","v":0},{"$f":"'BRO(8)'!W37","v":3},{"$f":"'BRO(8)'!X37","v":3247},null,{"$f":"'BRO(8)'!Z37","v":0},{"$f":"'BRO(8)'!AA37","v":0}]
["TOT. CARRIED TO GEN. SUM.",null,{"$f":"C31+C32","v":7305},{"$f":"D31+D32","v":0},{"$f":"E31+E32","v":1669},{"$f":"F31+F32","v":2955},{"$f":"G32+G31+H31","v":9886},null,{"$f":"I31+I32","v":0},{"$f":"J32+J31+K31","v":689},null,{"$f":"L31+L32","v":4},{"$f":"M31+M32","v":8},{"$f":"N31+N32","v":66},{"$f":"O32+O31+P31+Q31+R31+S31+T31","v":115},null,null,null,null,null,{"$f":"U31+U32","v":0},{"$f":"V31+V32","v":0},{"$f":"W31+W32","v":11},{"$f":"X32+X31+Y31","v":3313},null,{"$f":"Z31+Z32","v":0},{"$f":"AA31+AA32","v":0}]

{"sheet":"HIG(10)","index":9,"n_rows":37,"n_cols":28,"rows_kept":37,"cut":false,"hidden":false,"merged":[[0,0,0,27],[1,0,3,0],[1,1,3,1],[1,2,2,2],[1,3,2,3],[1,4,2,4],[1,5,2,5],[1,6,2,6],[1,7,2,7],[1,8,2,8],[1,26,2,26],[1,27,3,27],[35,0,35,1],[36,0,36,1],[36,6,36,7],[36,9,36,10],[36,14,36,19],[1,25,2,25],[1,9,2,9],[1,10,2,10],[36,23,36,24],[1,20,2,20],[1,21,2,21],[1,22,2,22],[1,23,2,23],[1,24,2,24],[1,11,2,11],[1,12,2,12],[1,13,2,13],[1,14,1,19]]}
["HIGHLAND COUNTY AUXILIARY MARKINGS SUB-SUMMARY"]
["ROUTE","SLM","CHANNELIZING LINE, 8\"","CHANNELIZING LINE, 12\"","STOP LINE","CROSSWALK LINE, 12\"","TRANS. / DIAG. LINE (WHITE)","TRANS. / DIAG. LINE (YELLOW)","CURB MARKING","ISLAND MARKING (YELLOW)","ISLAND MARKING (WHITE)","RAILROAD SYM.","SCHOOL SYM., 96\"","PARKING LOT STALL MARKING","LANE ARROW",null,null,null,null,null,"LANE REDUCTION","TWO-WAY LT TRN","WORD ON PAVE.","DOTTED LINE, 6\" (WHITE)","DOTTED LINE, 6\" (YELLOW)","HANDICAP SYM.","YIELD LINE","REMARKS"]
[null,null,null,null,null,null,null,null,null,null,null,null,null,null,"LEFT TURN","RIGHT TURN","THRU","COMB - LT/TH","COMB - RT/TH","COMB - LT/RT"]
[null,null,"FT","FT","FT","FT","FT","FT","FT","SF","SF","EA","EA","FT","EA","EA","EA","EA","EA","EA","EA","EA","EA","FT","FT","EA","FT"]
[28,4.42,null,null,28,120]
[28,6.49,280,null,48,null,null,null,null,null,null,null,null,null,null,4]
[28,6.79,null,null,60,288]
[28,15.68,null,null,null,102,null,null,null,null,null,null,null,null,null,null,null,null,null,null,null,null,null,null,null,null,102]
[28,15.85,null,null,null,102]
[28,16.03,null,null,null,200]
[28,16.16,165,null,74,156,null,50,null,null,null,null,null,null,4,null,null,null,null,null,null,null,2,null,null,null,null,"WORD: \"ONLY\""]
[28,16.22,null,null,null,null,null,null,null,null,null,null,1]
[28,16.28,null,null,77,296]
[28,16.39,null,null,96,372]
[28,16.43,null,null,null,null,null,null,null,null,null,null,1]
[28,16.5,null,null,null,208]
[28,16.55,null,null,null,104,null,null,null,null,null,null,null,null,null,null,null,null,null,null,null,null,null,null,null,null,52]
[28,16.61,165,null,123,400,null,70,null,null,null,null,null,null,null,null,null,null,null,null,null,null,2,null,null,null,null,"WORD: \"ONLY\""]
[28,16.66,null,null,null,102]
[28,16.690000000000001,null,null,null,null,null,null,null,null,null,null,null,null,2]
[28,16.72,null,null,null,202]
[28,16.73,null,null,null,null,null,null,null,null,null,null,null,null,4]
[28,16.829999999999998,125,null,null,null,null,125,null,null,null,null,null,null,null,2,null,null,null,null,null,null,1,null,null,null,null,"WORD: \"ONLY\""]
[28,16.86,null,null,null,null,null,80]
[41,1.42,null,null,48,168]
[50,24.35,null,null,null,120]
[]
[]
[]
[]
[]
[]
[]
[]
[]
["SUBTOTAL THIS SHEET",null,{"$f":"SUM(C5:C35)","v":735},0,554,2940,0,325,0,0,0,0,2,0,10,6,0,0,0,0,0,0,5,0,0,0,154]
["TOT. CARRIED TO SHEET 11",null,{"$f":"C36","v":735},{"$f":"D36","v":0},{"$f":"E36","v":554},{"$f":"F36","v":2940},{"$f":"G36+H36","v":325},null,{"$f":"I36","v":0},{"$f":"J36+K36","v":0},null,{"$f":"L36","v":0},{"$f":"M36","v":2},{"$f":"N36","v":0},{"$f":"O36+P36+Q36+R36+S36+T36","v":16},null,null,null,null,null,{"$f":"U36","v":0},{"$f":"V36","v":0},{"$f":"W36","v":5},{"$f":"X36+Y36","v":0},null,{"$f":"Z36","v":0},{"$f":"AA36","v":154}]

{"sheet":"HIG(11)","index":10,"n_rows":33,"n_cols":28,"rows_kept":33,"cut":false,"hidden":false,"merged":[[0,0,0,27],[1,0,3,0],[1,1,3,1],[1,2,2,2],[1,3,2,3],[1,4,2,4],[1,5,2,5],[1,6,2,6],[1,7,2,7],[1,8,2,8],[1,26,2,26],[1,27,3,27],[31,6,31,7],[31,9,31,10],[31,14,31,19],[1,11,2,11],[1,12,2,12],[1,13,2,13],[1,14,1,19],[1,25,2,25],[1,9,2,9],[1,10,2,10],[32,0,32,1],[32,6,32,7],[32,9,32,10],[32,14,32,19],[32,23,32,24],[31,23,31,24],[1,20,2,20],[1,21,2,21],[1,22,2,22],[1,23,2,23],[1,24,2,24],[30,0,30,1],[31,0,31,1]]}
["HIGHLAND COUNTY AUXILIARY MARKINGS SUB-SUMMARY"]
["ROUTE","SLM","CHANNELIZING LINE, 8\"","CHANNELIZING LINE, 12\"","STOP LINE","CROSSWALK LINE, 12\"","TRANS. / DIAG. LINE (WHITE)","TRANS. / DIAG. LINE (YELLOW)","CURB MARKING","ISLAND MARKING (YELLOW)","ISLAND MARKING (WHITE)","RAILROAD SYM.","SCHOOL SYM., 96\"","PARKING LOT STALL MARKING","LANE ARROW",null,null,null,null,null,"LANE REDUCTION","TWO-WAY LT TRN","WORD ON PAVE.","DOTTED LINE, 6\" (WHITE)","DOTTED LINE, 6\" (YELLOW)","HANDICAP SYM.","YIELD LINE","REMARKS"]
[null,null,null,null,null,null,null,null,null,null,null,null,null,null,"LEFT TURN","RIGHT TURN","THRU","COMB - LT/TH","COMB - RT/TH","COMB - LT/RT"]
[null,null,"FT","FT","FT","FT","FT","FT","FT","SF","SF","EA","EA","FT","EA","EA","EA","EA","EA","EA","EA","EA","EA","FT","FT","EA","FT"]
[124,13.98,106,null,17,null,null,565,null,60,null,null,null,null,2,null,null,null,null,null,null,null,1,null,null,null,null,"WORD: \"ONLY\""]
[124,17.82,null,null,22]
[124,21.42,null,null,11]
[124,23.82,null,null,18]
[124,25.92,null,null,13]
[131,1.42,null,null,60,null,null,null,null,null,null,null,null,null,null,null,null,null,null,null,null,null,null,null,null,null,null,"SR 138"]
[131,7.07,null,null,11]
[135,0,null,null,21]
[135,2.2999999999999998,null,null,null,null,null,null,null,null,null,null,2,null,null,null,null,null,null,null,null,null,null,null,null,null,null,"LYNCGBURG SCHOOLS"]
[135,2.67,null,null,12,65]
[135,2.82,null,null,12]
[136,3.62,null,null,25,null,null,null,null,null,null,null,null,null,null,null,null,null,null,null,null,null,null,null,null,null,null,"FAIR RIDGE RD"]
[136,7.21,null,null,15,null,null,null,null,null,null,null,null,null,null,null,null,null,null,null,null,null,null,null,null,null,null,"US 62"]
[138,7.03,null,null,12]
[138,7.49,null,null,24]
[138,23.34,null,null,null,null,null,null,null,null,null,null,2]
[286,1.36,null,null,18,null,null,null,null,null,null,null,null,null,null,null,null,null,null,null,null,null,null,null,null,null,null,"SR 134"]
[506,0,null,null,10]
[506,4.34,null,null,12]
[753,0,null,null,16,null,null,null,null,null,null,null,null,null,null,null,null,null,null,null,null,null,null,null,null,null,null,"SR 41"]
[753,7.1,null,null,16,null,null,null,null,null,null,null,null,null,null,null,null,null,null,null,null,null,null,null,null,null,null,"US 50"]
[753,8.0299999999999994,null,null,16]
[]
[]
[]
[]
["SUBTOTAL THIS SHEET",null,{"$f":"SUM(C5:C30)","v":106},0,361,65,0,565,0,60,0,0,4,0,2,0,0,0,0,0,0,0,1,{"$f":"SUM(X5:X30)","v":0},0,0,0]
["SHEET 10 TOTALS",null,{"$f":"'HIG(10)'!C37","v":735},{"$f":"'HIG(10)'!D37","v":0},{"$f":"'HIG(10)'!E37","v":554},{"$f":"'HIG(10)'!F37","v":2940},{"$f":"'HIG(10)'!G37","v":325},null,{"$f":"'HIG(10)'!I37","v":0},{"$f":"'HIG(10)'!J37","v":0},null,{"$f":"'HIG(10)'!L37","v":0},{"$f":"'HIG(10)'!M37","v":2},{"$f":"'HIG(10)'!N37","v":0},{"$f":"'HIG(10)'!O37","v":16},null,null,null,null,null,{"$f":"'HIG(10)'!U37","v":0},{"$f":"'HIG(10)'!V37","v":0},{"$f":"'HIG(10)'!W37","v":5},{"$f":"'HIG(10)'!X37","v":0},null,{"$f":"'HIG(10)'!Z37","v":0},{"$f":"'HIG(10)'!AA37","v":154}]
["TOT. CARRIED TO GEN. SUM.",null,{"$f":"C31+C32","v":841},{"$f":"D31+D32","v":0},{"$f":"E31+E32","v":915},{"$f":"F31+F32","v":3005},{"$f":"G32+G31+H31","v":890},null,{"$f":"I31+I32","v":0},{"$f":"J32+J31+K31","v":60},null,{"$f":"L31+L32","v":0},{"$f":"M31+M32","v":6},{"$f":"N31+N32","v":0},{"$f":"O32+O31+P31+Q31+R31+S31+T31","v":18},null,null,null,null,null,{"$f":"U31+U32","v":0},{"$f":"V31+V32","v":0},{"$f":"W31+W32","v":6},{"$f":"X32+X31+Y31","v":0},null,{"$f":"Z31+Z32","v":0},{"$f":"AA31+AA32","v":154}]

{"sheet":"JAC(12)","index":11,"n_rows":37,"n_cols":28,"rows_kept":37,"cut":false,"hidden":false,"merged":[[0,0,0,27],[1,0,3,0],[1,1,3,1],[1,2,2,2],[1,3,2,3],[1,4,2,4],[1,5,2,5],[1,6,2,6],[1,7,2,7],[1,8,2,8],[1,26,2,26],[1,27,3,27],[35,0,35,1],[36,0,36,1],[36,6,36,7],[36,9,36,10],[36,14,36,19],[1,25,2,25],[1,9,2,9],[1,10,2,10],[36,23,36,24],[1,20,2,20],[1,21,2,21],[1,22,2,22],[1,23,2,23],[1,24,2,24],[1,11,2,11],[1,12,2,12],[1,13,2,13],[1,14,1,19]]}
["JACKSON COUNTY AUXILIARY MARKINGS SUB-SUMMARY"]
["ROUTE","SLM","CHANNELIZING LINE, 8\"","CHANNELIZING LINE, 12\"","STOP LINE","CROSSWALK LINE, 12\"","TRANS. / DIAG. LINE (WHITE)","TRANS. / DIAG. LINE (YELLOW)","CURB MARKING","ISLAND MARKING (YELLOW)","ISLAND MARKING (WHITE)","RAILROAD SYM.","SCHOOL SYM., 96\"","PARKING LOT STALL MARKING","LANE ARROW",null,null,null,null,null,"LANE REDUCTION","TWO-WAY LT TRN","WORD ON PAVE.","DOTTED LINE, 6\" (WHITE)","DOTTED LINE, 6\" (YELLOW)","HANDICAP SYM.","YIELD LINE","REMARKS"]
[null,null,null,null,null,null,null,null,null,null,null,null,null,null,"LEFT TURN","RIGHT TURN","THRU","COMB - LT/TH","COMB - RT/TH","COMB - LT/RT"]
[null,null,"FT","FT","FT","FT","FT","FT","FT","SF","SF","EA","EA","FT","EA","EA","EA","EA","EA","EA","EA","EA","EA","FT","FT","EA","FT"]
[32,10.050000000000001,null,null,116,null,136,209,null,28,154,null,null,null,6]
[32,10.69,null,313]
[32,10.74,null,674,63]
[32,10.99,null,293]
[32,11.41,null,436,65]
[32,12.409000000000001,null,null,null,null,null,null,null,null,null,null,null,null,1]
[32,13.07,100,null,null,null,null,null,null,null,null,null,null,null,2,null,null,null,null,null,null,null,null,330]
[32,13.66,100,null,null,null,null,null,null,null,null,null,null,null,2,null,null,null,null,null,null,null,null,310]
[32,14.53,100,null,null,null,null,null,null,null,null,null,null,null,2,null,null,null,null,null,null,null,null,370]
[32,15.93,100,null,null,null,null,null,null,null,null,null,null,null,2,null,null,null,null,null,null,null,null,360]
[32,16.940000000000001,1560,null,135]
[32,17.39,275,null,57]
[32,18.329999999999998,138,null,null,null,null,null,null,null,null,null,null,null,4]
[32,19.02,77,null,null,null,null,null,null,null,null,null,null,null,2]
[32,19.59,140,null,null,null,null,null,null,null,null,null,null,null,4]
[32,21.59,117,null,null,null,null,null,null,null,null,null,null,null,4]
[32,22.46,82,null,null,null,null,null,null,null,null,null,null,null,2]
[32,22.65,182,null,null,null,null,null,null,null,null,null,null,null,4]
[32,23.32,80,null,null,null,null,null,null,null,null,null,null,null,2]
[]
[35,11.23,null,1152,30]
[35,11.62,null,1246,38,null,null,null,null,null,null,null,null,null,null,null,null,null,null,null,null,null,null,1450]
[35,12.59,null,null,88]
[35,14.53,null,1040,null,null,null,160,null,null,null,null,null,null,11,null,null,null,null,null,null,null,null,315]
[35,18.14,null,2215,null,null,null,210,null,50,null,null,null,null,8,3,null,null,null,null,4,null,null,2520,300]
[]
[]
[]
[]
[]
[]
["SUBTOTAL THIS SHEET",null,{"$f":"SUM(C5:C35)","v":3051},7369,592,0,136,579,0,78,154,0,0,0,56,3,0,0,0,0,4,0,0,5655,300,0,0]
["TOT. CARRIED TO SHEET 13",null,{"$f":"C36","v":3051},{"$f":"D36","v":7369},{"$f":"E36","v":592},{"$f":"F36","v":0},{"$f":"G36+H36","v":715},null,{"$f":"I36","v":0},{"$f":"J36+K36","v":232},null,{"$f":"L36","v":0},{"$f":"M36","v":0},{"$f":"N36","v":0},{"$f":"O36+P36+Q36+R36+S36+T36","v":59},null,null,null,null,null,{"$f":"U36","v":4},{"$f":"V36","v":0},{"$f":"W36","v":0},{"$f":"X36+Y36","v":5955},null,{"$f":"Z36","v":0},{"$f":"AA36","v":0}]

{"sheet":"JAC(13)","index":12,"n_rows":33,"n_cols":28,"rows_kept":33,"cut":false,"hidden":false,"merged":[[0,0,0,27],[1,0,3,0],[1,1,3,1],[1,2,2,2],[1,3,2,3],[1,4,2,4],[1,5,2,5],[1,6,2,6],[1,7,2,7],[1,8,2,8],[1,26,2,26],[1,27,3,27],[31,6,31,7],[31,9,31,10],[31,14,31,19],[1,11,2,11],[1,12,2,12],[1,13,2,13],[1,14,1,19],[1,25,2,25],[1,9,2,9],[1,10,2,10],[32,0,32,1],[32,6,32,7],[32,9,32,10],[32,14,32,19],[32,23,32,24],[31,23,31,24],[1,20,2,20],[1,21,2,21],[1,22,2,22],[1,23,2,23],[1,24,2,24],[30,0,30,1],[31,0,31,1]]}
["JACKSON COUNTY AUXILIARY MARKINGS SUB-SUMMARY"]
["ROUTE","SLM","CHANNELIZING LINE, 8\"","CHANNELIZING LINE, 12\"","STOP LINE","CROSSWALK LINE, 12\"","TRANS. / DIAG. LINE (WHITE)","TRANS. / DIAG. LINE (YELLOW)","CURB MARKING","ISLAND MARKING (YELLOW)","ISLAND MARKING (WHITE)","RAILROAD SYM.","SCHOOL SYM., 96\"","PARKING LOT STALL MARKING","LANE ARROW",null,null,null,null,null,"LANE REDUCTION","TWO-WAY LT TRN","WORD ON PAVE.","DOTTED LINE, 6\" (WHITE)","DOTTED LINE, 6\" (YELLOW)","HANDICAP SYM.","YIELD LINE","REMARKS"]
[null,null,null,null,null,null,null,null,null,null,null,null,null,null,"LEFT TURN","RIGHT TURN","THRU","COMB - LT/TH","COMB - RT/TH","COMB - LT/RT"]
[null,null,"FT","FT","FT","FT","FT","FT","FT","SF","SF","EA","EA","FT","EA","EA","EA","EA","EA","EA","EA","EA","EA","FT","FT","EA","FT"]
[]
[93,4.8499999999999996,null,null,null,null,null,null,null,null,null,null,1]
[93,5,null,null,null,null,null,null,null,null,null,null,1]
[93,6.69,null,null,24,null,null,null,null,null,null,2]
[93,18.13,null,null,null,null,null,136]
[93,18.190000000000001,345,null,null,null,null,386,null,null,null,null,null,null,4]
[93,21.29,null,null,null,120]
[93,21.35,null,null,14,124]
[]
[233,0,null,null,16,90]
[233,7.0000000000000007E-2,null,null,14]
[327,0,null,null,14]
[327,0.1,null,null,17]
[327,6.74,null,null,24]
[327,17.71,null,null,24,null,null,null,null,null,null,2]
[]
[776,7.83,null,null,88,null,null,null,null,null,null,null,null,null,null,null,null,null,null,null,null,null,null,null,null,null,null,"SR 32"]
[]
[]
[]
[]
[]
[]
[]
[]
[]
["SUBTOTAL THIS SHEET",null,{"$f":"SUM(C5:C30)","v":345},0,235,334,0,522,0,0,0,4,2,0,4,0,0,0,0,0,0,0,0,{"$f":"SUM(X5:X30)","v":0},0,{"$f":"SUM(Z5:Z30)","v":0},{"$f":"SUM(AA5:AA30)","v":0}]
["SHEET 12 TOTALS",null,{"$f":"'JAC(12)'!C37","v":3051},{"$f":"'JAC(12)'!D37","v":7369},{"$f":"'JAC(12)'!E37","v":592},{"$f":"'JAC(12)'!F37","v":0},{"$f":"'JAC(12)'!G37","v":715},null,{"$f":"'JAC(12)'!I37","v":0},{"$f":"'JAC(12)'!J37","v":232},null,{"$f":"'JAC(12)'!L37","v":0},{"$f":"'JAC(12)'!M37","v":0},{"$f":"'JAC(12)'!N37","v":0},{"$f":"'JAC(12)'!O37","v":59},null,null,null,null,null,{"$f":"'JAC(12)'!U37","v":4},{"$f":"'JAC(12)'!V37","v":0},{"$f":"'JAC(12)'!W37","v":0},{"$f":"'JAC(12)'!X37","v":5955},null,{"$f":"'JAC(12)'!Z37","v":0},{"$f":"'JAC(12)'!AA37","v":0}]
["TOT. CARRIED TO GEN. SUM.",null,{"$f":"C31+C32","v":3396},{"$f":"D31+D32","v":7369},{"$f":"E31+E32","v":827},{"$f":"F31+F32","v":334},{"$f":"G32+G31+H31","v":1237},null,{"$f":"I31+I32","v":0},{"$f":"J32+J31+K31","v":232},null,{"$f":"L31+L32","v":4},{"$f":"M31+M32","v":2},{"$f":"N31+N32","v":0},{"$f":"O32+O31+P31+Q31+R31+S31+T31","v":63},null,null,null,null,null,{"$f":"U31+U32","v":4},{"$f":"V31+V32","v":0},{"$f":"W31+W32","v":0},{"$f":"X32+X31+Y31","v":5955},null,{"$f":"Z31+Z32","v":0},{"$f":"AA31+AA32","v":0}]

{"sheet":"LAW(14)","index":13,"n_rows":37,"n_cols":28,"rows_kept":37,"cut":false,"hidden":false,"merged":[[0,0,0,27],[1,0,3,0],[1,1,3,1],[1,2,2,2],[1,3,2,3],[1,4,2,4],[1,5,2,5],[1,6,2,6],[1,7,2,7],[1,8,2,8],[1,26,2,26],[1,27,3,27],[35,0,35,1],[36,0,36,1],[36,6,36,7],[36,9,36,10],[36,14,36,19],[1,25,2,25],[1,9,2,9],[1,10,2,10],[36,23,36,24],[1,20,2,20],[1,21,2,21],[1,22,2,22],[1,23,2,23],[1,24,2,24],[1,11,2,11],[1,12,2,12],[1,13,2,13],[1,14,1,19]]}
["LAWRENCE COUNTY AUXILIARY MARKINGS SUB-SUMMARY"]
["ROUTE","SLM","CHANNELIZING LINE, 8\"","CHANNELIZING LINE, 12\"","STOP LINE","CROSSWALK LINE, 12\"","TRANS. / DIAG. LINE (WHITE)","TRANS. / DIAG. LINE (YELLOW)","CURB MARKING","ISLAND MARKING (YELLOW)","ISLAND MARKING (WHITE)","RAILROAD SYM.","SCHOOL SYM., 96\"","PARKING LOT STALL MARKING","LANE ARROW",null,null,null,null,null,"LANE REDUCTION","TWO-WAY LT TRN","WORD ON PAVE.","DOTTED LINE, 6\" (WHITE)","DOTTED LINE, 6\" (YELLOW)","HANDICAP SYM.","YIELD LINE","REMARKS"]
[null,null,null,null,null,null,null,null,null,null,null,null,null,null,"LEFT TURN","RIGHT TURN","THRU","COMB - LT/TH","COMB - RT/TH","COMB - LT/RT"]
[null,null,"FT","FT","FT","FT","FT","FT","FT","SF","SF","EA","EA","FT","EA","EA","EA","EA","EA","EA","EA","EA","EA","FT","FT","EA","FT"]
[]
[52,4.1900000000000004,null,1585,94]
[52,19.93,null,1231,91,null,null,null,null,null,null,null,null,null,6,2]
[52,20.5,null,1365,110,null,null,null,null,null,null,null,null,null,8,2]
[52,21.05,null,530,80,null,null,null,null,null,null,null,null,null,4]
[52,21.52,null,1035,111,null,null,null,null,null,null,null,null,null,4,2,1]
[52,22.32,null,2162,62,null,404]
[]
[7,1.4,null,1823,42]
[7,2.19,null,418,24]
[7,2.2799999999999998,null,605,20,32,null,null,null,null,null,null,null,null,1]
[]
[93,3.3,100,null,26,null,null,null,null,null,null,null,null,null,1,null,null,null,null,null,null,null,1,null,null,null,null,"WORD: \"ONLY\", CR 7"]
[93,3.35,null,null,null,null,null,1179,null,null,null,null,null,null,null,null,null,null,null,null,null,null,null,null,null,null,null,"4 TO 2 LANE TRANSITION"]
[]
[141,3.96,null,null,null,null,null,null,null,null,null,null,2,null,null,null,null,null,null,null,null,null,null,null,null,null,null,"SUGAR CREEK SCHOOL"]
[141,4.2,null,null,null,null,null,null,null,null,null,null,2,null,null,null,null,null,null,null,null,null,null,null,null,null,null,"SYMMES VALLEY SCHOOL"]
[]
[217,0,null,null,12]
[217,10.67,null,null,20,null,null,null,null,null,null,null,null,null,null,null,null,null,null,null,null,null,null,null,null,null,null,"SR 775"]
[217,13.54,null,null,14,null,null,null,null,null,null,null,null,null,null,null,null,null,null,null,null,null,null,null,null,null,null,"SR 216"]
[217,17.53,null,null,16,null,null,null,null,null,null,null,null,null,null,null,null,null,null,null,null,null,null,null,null,null,null,"SR 7"]
[]
[]
[]
[]
[]
[]
[]
[]
[]
["SUBTOTAL THIS SHEET",null,{"$f":"SUM(C5:C35)","v":100},10754,722,32,404,1179,0,0,0,0,4,0,24,6,1,0,0,0,0,0,1,0,0,0,0]
["TOT. CARRIED TO SHEET 15",null,{"$f":"C36","v":100},{"$f":"D36","v":10754},{"$f":"E36","v":722},{"$f":"F36","v":32},{"$f":"G36+H36","v":1583},null,{"$f":"I36","v":0},{"$f":"J36+K36","v":0},null,{"$f":"L36","v":0},{"$f":"M36","v":4},{"$f":"N36","v":0},{"$f":"O36+P36+Q36+R36+S36+T36","v":31},null,null,null,null,null,{"$f":"U36","v":0},{"$f":"V36","v":0},{"$f":"W36","v":1},{"$f":"X36+Y36","v":0},null,{"$f":"Z36","v":0},{"$f":"AA36","v":0}]

{"sheet":"LAW(15)","index":14,"n_rows":33,"n_cols":28,"rows_kept":33,"cut":false,"hidden":false,"merged":[[0,0,0,27],[1,0,3,0],[1,1,3,1],[1,2,2,2],[1,3,2,3],[1,4,2,4],[1,5,2,5],[1,6,2,6],[1,7,2,7],[1,8,2,8],[1,26,2,26],[1,27,3,27],[31,6,31,7],[31,9,31,10],[31,14,31,19],[1,11,2,11],[1,12,2,12],[1,13,2,13],[1,14,1,19],[1,25,2,25],[1,9,2,9],[1,10,2,10],[32,0,32,1],[32,6,32,7],[32,9,32,10],[32,14,32,19],[32,23,32,24],[31,23,31,24],[1,20,2,20],[1,21,2,21],[1,22,2,22],[1,23,2,23],[1,24,2,24],[30,0,30,1],[31,0,31,1]]}
["LAWRENCE COUNTY AUXILIARY MARKINGS SUB-SUMMARY"]
["ROUTE","SLM","CHANNELIZING LINE, 8\"","CHANNELIZING LINE, 12\"","STOP LINE","CROSSWALK LINE, 12\"","TRANS. / DIAG. LINE (WHITE)","TRANS. / DIAG. LINE (YELLOW)","CURB MARKING","ISLAND MARKING (YELLOW)","ISLAND MARKING (WHITE)","RAILROAD SYM.","SCHOOL SYM., 96\"","PARKING LOT STALL MARKING","LANE ARROW",null,null,null,null,null,"LANE REDUCTION","TWO-WAY LT TRN","WORD ON PAVE.","DOTTED LINE, 6\" (WHITE)","DOTTED LINE, 6\" (YELLOW)","HANDICAP SYM.","YIELD LINE","REMARKS"]
[null,null,null,null,null,null,null,null,null,null,null,null,null,null,"LEFT TURN","RIGHT TURN","THRU","COMB - LT/TH","COMB - RT/TH","COMB - LT/RT"]
[null,null,"FT","FT","FT","FT","FT","FT","FT","SF","SF","EA","EA","FT","EA","EA","EA","EA","EA","EA","EA","EA","EA","FT","FT","EA","FT"]
[]
[243,0.36,null,null,null,null,null,null,null,null,null,null,1]
[243,0.47,null,null,36,248]
[243,0.61,null,null,36,216,null,null,null,null,null,null,1]
[243,4.5,null,null,null,null,null,null,null,null,null,null,2]
[243,11.55,null,null,30,null,null,null,null,null,null,null,1]
[]
[373,0,null,null,14]
[373,3.39,null,null,15,null,null,null,null,null,null,null,null,null,null,null,null,null,null,null,null,null,null,null,null,null,null,"SR 93"]
[]
[522,8.2899999999999991,null,null,23]
[]
[527,0.19,505,null,70,null,null,null,null,null,null,null,null,null,5,null,2,null,5]
[527,0.41,900]
[]
[650,9.2799999999999994,null,null,35]
[]
[775,0.33,370,null,24,null,60,560,null,null,null,null,null,null,null,null,null,null,6,null,null,null,6,null,null,null,null,"WORD: \"ONLY\""]
[]
[790,0,null,null,13,null,null,null,null,null,null,null,null,null,null,null,null,null,null,null,null,null,null,null,null,null,null,"SR 775"]
[]
[]
[]
[]
[]
[]
["SUBTOTAL THIS SHEET",null,{"$f":"SUM(C5:C30)","v":1775},0,296,464,60,560,0,0,0,0,5,0,5,0,2,0,11,0,0,0,6,{"$f":"SUM(X5:X30)","v":0},0,{"$f":"SUM(Z5:Z30)","v":0},{"$f":"SUM(AA5:AA30)","v":0}]
["SHEET 14 TOTALS",null,{"$f":"'LAW(14)'!C37","v":100},{"$f":"'LAW(14)'!D37","v":10754},{"$f":"'LAW(14)'!E37","v":722},{"$f":"'LAW(14)'!F37","v":32},{"$f":"'LAW(14)'!G37","v":1583},null,{"$f":"'LAW(14)'!I37","v":0},{"$f":"'LAW(14)'!J37","v":0},null,{"$f":"'LAW(14)'!L37","v":0},{"$f":"'LAW(14)'!M37","v":4},{"$f":"'LAW(14)'!N37","v":0},{"$f":"'LAW(14)'!O37","v":31},null,null,null,null,null,{"$f":"'LAW(14)'!U37","v":0},{"$f":"'LAW(14)'!V37","v":0},{"$f":"'LAW(14)'!W37","v":1},{"$f":"'LAW(14)'!X37","v":0},null,{"$f":"'LAW(14)'!Z37","v":0},{"$f":"'LAW(14)'!AA37","v":0}]
["TOT. CARRIED TO GEN. SUM.",null,{"$f":"C31+C32","v":1875},{"$f":"D31+D32","v":10754},{"$f":"E31+E32","v":1018},{"$f":"F31+F32","v":496},{"$f":"G32+G31+H31","v":2203},null,{"$f":"I31+I32","v":0},{"$f":"J32+J31+K31","v":0},null,{"$f":"L31+L32","v":0},{"$f":"M31+M32","v":9},{"$f":"N31+N32","v":0},{"$f":"O32+O31+P31+Q31+R31+S31+T31","v":49},null,null,null,null,null,{"$f":"U31+U32","v":0},{"$f":"V31+V32","v":0},{"$f":"W31+W32","v":7},{"$f":"X32+X31+Y31","v":0},null,{"$f":"Z31+Z32","v":0},{"$f":"AA31+AA32","v":0}]

{"sheet":"PIK(16)","index":15,"n_rows":38,"n_cols":28,"rows_kept":38,"cut":false,"hidden":false,"merged":[[0,0,0,27],[1,0,3,0],[1,1,3,1],[1,2,2,2],[1,3,2,3],[1,4,2,4],[1,5,2,5],[1,6,2,6],[1,7,2,7],[1,8,2,8],[1,26,2,26],[1,27,3,27],[36,0,36,1],[37,0,37,1],[37,6,37,7],[37,9,37,10],[37,14,37,19],[1,25,2,25],[1,9,2,9],[1,10,2,10],[37,23,37,24],[1,20,2,20],[1,21,2,21],[1,22,2,22],[1,23,2,23],[1,24,2,24],[1,11,2,11],[1,12,2,12],[1,13,2,13],[1,14,1,19]]}
["PIKE COUNTY AUXILIARY MARKINGS SUB-SUMMARY"]
["ROUTE","SLM","CHANNELIZING LINE, 8\"","CHANNELIZING LINE, 12\"","STOP LINE","CROSSWALK LINE, 12\"","TRANS. / DIAG. LINE (WHITE)","TRANS. / DIAG. LINE (YELLOW)","CURB MARKING","ISLAND MARKING (YELLOW)","ISLAND MARKING (WHITE)","RAILROAD SYM.","SCHOOL SYM., 96\"","PARKING LOT STALL MARKING","LANE ARROW",null,null,null,null,null,"LANE REDUCTION","TWO-WAY LT TRN","WORD ON PAVE.","DOTTED LINE, 6\" (WHITE)","DOTTED LINE, 6\" (YELLOW)","HANDICAP SYM.","YIELD LINE","REMARKS"]
[null,null,null,null,null,null,null,null,null,null,null,null,null,null,"LEFT TURN","RIGHT TURN","THRU","COMB - LT/TH","COMB - RT/TH","COMB - LT/RT"]
[null,null,"FT","FT","FT","FT","FT","FT","FT","SF","SF","EA","EA","FT","EA","EA","EA","EA","EA","EA","EA","EA","EA","FT","FT","EA","FT"]
[]
[23,11.12,659,null,191,null,null,446,null,96,null,null,null,null,6,6,null,null,null,null,null,null,null,null,null,null,null,"SECOND ST"]
[23,11.49,327,null,50,null,null,379,null,56,null,null,null,null,6,null,null,null,null,null,null,null,null,null,null,null,null,"PRIDE DR"]
[23,11.7,205,null,null,null,null,136,null,null,null,null,null,null,4]
[23,11.76,700,null,null,null,null,null,null,null,null,null,null,null,6]
[23,11.85,370,null,104,160,null,695,null,null,null,null,null,null,4,null,null,null,null,null,null,null,2,null,null,null,null,"WORD: \"ONLY\", SR 104"]
[23,11.93,null,null,28,72,null,null,null,null,null,null,null,null,null,null,null,null,null,null,null,2]
[23,12.04,null,104,54,110,null,null,null,null,null,null,null,null,2,null,null,null,null,null,null,1,null,null,null,null,null,"VICTORY DR"]
[23,12.21,null,null,50,null,null,null,null,null,null,null,null,null,2,null,null,null,null,null,null,null,null,null,null,null,null,"FORD AVE"]
[23,12.32,null,null,null,null,null,null,null,null,null,null,null,null,2]
[23,12.4,null,432,200,420,null,360,null,null,null,null,null,null,5,null,null,null,null,null,null,1,3,null,null,null,null,"WORD, \"ONLY\", LOCK & SR 220"]
[23,12.54,null,96,114,230,null,null,null,null,null,null,null,null,2,null,null,null,null,null,null,1,null,null,null,null,null,"HIGH ST"]
[23,12.62,null,96,114,228,null,null,null,null,null,null,null,null,2,null,null,null,null,null,null,1,null,null,null,null,null,"EAST ST"]
[23,12.71,null,127,118,266,null,null,null,null,null,null,null,null,2,null,null,null,null,null,null,2,null,null,null,null,null,"SR 335"]
[23,12.84,null,194,null,null,null,40,null,null,null,null,null,null,2,null,null,null,null,null,null,1,null,null,null,null,null,"SALISBURY RD"]
[23,12.96,null,420,67,null,null,309,null,30,null,null,null,null,2,2,null,null,null,null,null,null,null,null,null,null,null,"KROGER"]
[23,13.07,null,180,null,null,null,90,null,30,null,null,null,null,2,null,null,null,null,null,null,null,null,null,null,null,null,"KROGER NORTH ENT."]
[23,13.15,null,null,null,null,null,null,null,null,null,null,null,null,null,null,null,null,null,null,null,21,null,null,null,null,null,"WAVERLY TO CTY LINE"]
[]
[32,1.98,160,null,70,null,null,null,null,null,null,null,null,null,4,null,null,null,null,null,null,null,null,265,null,null,null,"GOFF RD"]
[]
[104,12.6,null,60,33,null,75,null,null,null,null,null,null,null,4]
[]
[124,7.73,null,null,null,null,null,null,null,null,null,null,1]
[124,8.41,null,null,null,null,null,null,null,null,null,null,1]
[124,17.12,null,null,15]
[]
[]
[]
[]
[]
[]
["SUBTOTAL THIS SHEET",null,{"$f":"SUM(C5:C36)","v":2421},1709,1208,1486,75,2455,0,212,0,0,2,0,57,8,0,0,0,0,0,30,5,265,0,0,0]
["TOT. CARRIED TO SHEET 17",null,{"$f":"C37","v":2421},{"$f":"D37","v":1709},{"$f":"E37","v":1208},{"$f":"F37","v":1486},{"$f":"G37+H37","v":2530},null,{"$f":"I37","v":0},{"$f":"J37+K37","v":212},null,{"$f":"L37","v":0},{"$f":"M37","v":2},{"$f":"N37","v":0},{"$f":"O37+P37+Q37+R37+S37+T37","v":65},null,null,null,null,null,{"$f":"U37","v":0},{"$f":"V37","v":30},{"$f":"W37","v":5},{"$f":"X37+Y37","v":265},null,{"$f":"Z37","v":0},{"$f":"AA37","v":0}]

{"sheet":"PIK(17)","index":16,"n_rows":33,"n_cols":28,"rows_kept":33,"cut":false,"hidden":false,"merged":[[0,0,0,27],[1,0,3,0],[1,1,3,1],[1,2,2,2],[1,3,2,3],[1,4,2,4],[1,5,2,5],[1,6,2,6],[1,7,2,7],[1,8,2,8],[1,26,2,26],[1,27,3,27],[31,6,31,7],[31,9,31,10],[31,14,31,19],[1,11,2,11],[1,12,2,12],[1,13,2,13],[1,14,1,19],[1,25,2,25],[1,9,2,9],[1,10,2,10],[32,0,32,1],[32,6,32,7],[32,9,32,10],[32,14,32,19],[32,23,32,24],[31,23,31,24],[1,20,2,20],[1,21,2,21],[1,22,2,22],[1,23,2,23],[1,24,2,24],[30,0,30,1],[31,0,31,1]]}
["PIKE COUNTY AUXILIARY MARKINGS SUB-SUMMARY"]
["ROUTE","SLM","CHANNELIZING LINE, 8\"","CHANNELIZING LINE, 12\"","STOP LINE","CROSSWALK LINE, 12\"","TRANS. / DIAG. LINE (WHITE)","TRANS. / DIAG. LINE (YELLOW)","CURB MARKING","ISLAND MARKING (YELLOW)","ISLAND MARKING (WHITE)","RAILROAD SYM.","SCHOOL SYM., 96\"","PARKING LOT STALL MARKING","LANE ARROW",null,null,null,null,null,"LANE REDUCTION","TWO-WAY LT TRN","WORD ON PAVE.","DOTTED LINE, 6\" (WHITE)","DOTTED LINE, 6\" (YELLOW)","HANDICAP SYM.","YIELD LINE","REMARKS"]
[null,null,null,null,null,null,null,null,null,null,null,null,null,null,"LEFT TURN","RIGHT TURN","THRU","COMB - LT/TH","COMB - RT/TH","COMB - LT/RT"]
[null,null,"FT","FT","FT","FT","FT","FT","FT","SF","SF","EA","EA","FT","EA","EA","EA","EA","EA","EA","EA","EA","EA","FT","FT","EA","FT"]
[]
[220,13.78,null,null,null,null,null,null,null,null,null,null,1]
[220,13.94,null,null,null,null,null,null,null,null,null,null,1]
[220,14.01,null,null,28,null,null,null,null,null,null,null,null,null,null,null,null,null,null,null,null,null,null,null,null,null,null,"SR 32"]
[]
[335,5.25,null,null,50]
[335,7.4,null,null,24,null,288]
[335,21.65,null,null,28,null,null,null,null,null,null,2]
[335,25.42,135,null,null,null,null,null,null,null,null,null,null,null,null,1,null,null,null,null,null,null,1,null,null,null,null,"WORD: \"ONLY\""]
[335,25.61,null,null,null,46]
[335,25.79,null,null,null,48,72]
[335,25.87,null,null,null,50]
[335,26.04,null,null,12,42]
[]
[551,2.87,null,null,43,null,null,null,null,null,null,null,null,null,null,null,null,null,null,1,null,null,null,null,null,null,null,"SR 104"]
[]
[552,0,null,null,25,null,null,null,null,null,null,null,null,null,null,null,null,null,null,null,null,null,null,null,null,null,null,"SR 220"]
[552,1.75,null,null,38,null,null,null,null,null,null,null,null,null,null,null,null,null,null,1,null,null,null,null,null,null,null,"SR 104"]
[]
[772,9.11,null,null,20]
[772,13.41,null,null,44]
[772,15.31,null,null,16]
[]
[]
[]
[]
["SUBTOTAL THIS SHEET",null,{"$f":"SUM(C5:C30)","v":135},0,328,186,360,0,0,0,0,2,2,0,0,1,0,0,0,2,0,0,1,0,0,0,0]
["SHEET 16 TOTALS",null,{"$f":"'PIK(16)'!C38","v":2421},{"$f":"'PIK(16)'!D38","v":1709},{"$f":"'PIK(16)'!E38","v":1208},{"$f":"'PIK(16)'!F38","v":1486},{"$f":"'PIK(16)'!G38","v":2530},null,{"$f":"'PIK(16)'!I38","v":0},{"$f":"'PIK(16)'!J38","v":212},null,{"$f":"'PIK(16)'!L38","v":0},{"$f":"'PIK(16)'!M38","v":2},{"$f":"'PIK(16)'!N38","v":0},{"$f":"'PIK(16)'!O38","v":65},null,null,null,null,null,{"$f":"'PIK(16)'!U38","v":0},{"$f":"'PIK(16)'!V38","v":30},{"$f":"'PIK(16)'!W38","v":5},{"$f":"'PIK(16)'!X38","v":265},null,{"$f":"'PIK(16)'!Z38","v":0},{"$f":"'PIK(16)'!AA38","v":0}]
["TOT. CARRIED TO GEN. SUM.",null,{"$f":"C31+C32","v":2556},{"$f":"D31+D32","v":1709},{"$f":"E31+E32","v":1536},{"$f":"F31+F32","v":1672},{"$f":"G32+G31+H31","v":2890},null,{"$f":"I31+I32","v":0},{"$f":"J32+J31+K31","v":212},null,{"$f":"L31+L32","v":2},{"$f":"M31+M32","v":4},{"$f":"N31+N32","v":0},{"$f":"O32+O31+P31+Q31+R31+S31+T31","v":68},null,null,null,null,null,{"$f":"U31+U32","v":0},{"$f":"V31+V32","v":30},{"$f":"W31+W32","v":6},{"$f":"X32+X31+Y31","v":265},null,{"$f":"Z31+Z32","v":0},{"$f":"AA31+AA32","v":0}]

{"sheet":"ROS(18)","index":17,"n_rows":37,"n_cols":28,"rows_kept":37,"cut":false,"hidden":false,"merged":[[0,0,0,27],[1,0,3,0],[1,1,3,1],[1,2,2,2],[1,3,2,3],[1,4,2,4],[1,5,2,5],[1,6,2,6],[1,7,2,7],[1,8,2,8],[1,26,2,26],[1,27,3,27],[35,0,35,1],[36,0,36,1],[36,6,36,7],[36,9,36,10],[36,14,36,19],[1,25,2,25],[1,9,2,9],[1,10,2,10],[36,23,36,24],[1,20,2,20],[1,21,2,21],[1,22,2,22],[1,23,2,23],[1,24,2,24],[1,11,2,11],[1,12,2,12],[1,13,2,13],[1,14,1,19]]}
["ROSS COUNTY AUXILIARY MARKINGS SUB-SUMMARY"]
["ROUTE","SLM","CHANNELIZING LINE, 8\"","CHANNELIZING LINE, 12\"","STOP LINE","CROSSWALK LINE, 12\"","TRANS. / DIAG. LINE (WHITE)","TRANS. / DIAG. LINE (YELLOW)","CURB MARKING","ISLAND MARKING (YELLOW)","ISLAND MARKING (WHITE)","RAILROAD SYM.","SCHOOL SYM., 96\"","PARKING LOT STALL MARKING","LANE ARROW",null,null,null,null,null,"LANE REDUCTION","TWO-WAY LT TRN","WORD ON PAVE.","DOTTED LINE, 6\" (WHITE)","DOTTED LINE, 6\" (YELLOW)","HANDICAP SYM.","YIELD LINE","REMARKS"]
[null,null,null,null,null,null,null,null,null,null,null,null,null,null,"LEFT TURN","RIGHT TURN","THRU","COMB - LT/TH","COMB - RT/TH","COMB - LT/RT"]
[null,null,"FT","FT","FT","FT","FT","FT","FT","SF","SF","EA","EA","FT","EA","EA","EA","EA","EA","EA","EA","EA","EA","FT","FT","EA","FT"]
[23,0,null,null,null,null,null,null,null,null,null,null,null,null,null,null,null,null,null,null,null,3,null,null,null,null,null,"SLM 0.00-0.64"]
[23,0.73899999999999999,null,300,null,null,null,null,null,60,null,null,null,null,3,null,null,null,null,null,null,null,null,null,null,null,null,"BLAIN HWY"]
[23,1.26,null,null,null,null,null,null,null,null,null,null,null,null,null,null,null,null,null,null,null,4,null,null,null,null,null,"SLM 1.26-1.94"]
[23,4.97,null,740,46,null,null,252,null,60,null,null,null,null,2,null,null,null,null,null,2,null,null,175,null,null,null,"ROZELLE CREEK"]
[23,7.82,null,585,63,null,null,428,null,114,null,null,null,null,6,null,null,null,null,null,null,null,null,225,null,null,null,"CAUBLE/MAPLE"]
[23,7.97,null,75,25,null,null,null,null,null,null,null,null,null,null,null,null,null,null,null,null,null,null,null,null,null,null,"STRAB"]
[23,8.5,1324,null,null,null,null,null,null,null,null,null,null,null,null,null,null,null,null,null,null,null,null,null,null,null,null,"SR 104"]
[23,10.08,null,null,38,null,null,null,null,null,null,null,null,null,null,null,null,null,null,null,null,null,null,null,null,null,null,"EXIT RAMP US 50 EB"]
[23,10.46,null,null,40,null,null,null,null,null,null,null,null,null,null,null,null,null,null,null,null,null,null,null,null,null,null,"EXIT RAMP US 50 WB"]
[35,4.57,null,867,65,null,null,null,null,null,null,null,null,null,null,null,null,null,null,null,null,null,null,1355]
[35,4.91,null,1149,73,null,null,null,null,null,null,null,null,null,null,null,null,null,null,null,null,null,null,687]
[35,7.54,null,879,83,null,null,null,null,null,null,null,null,null,null,null,null,null,null,null,null,null,null,1589]
[35,7.9,null,1040,90,null,null,null,null,null,null,null,null,null,null,null,null,null,null,null,null,null,null,552]
[35,14.39,null,3171,50,null,null,null,null,null,null,null,null,null,null,null,null,null,null,null,null,null,null,2521]
[35,16.88,null,1333,89,null,null,null,null,null,null,null,null,null,2,null,null,null,2,null,null,null,null,1501]
[35,18.41,null,3325,101,null,null,null,null,null,null,null,null,null,10,6,null,null,null,null,null,null,null,2735]
[35,19.61,null,1885,36,null,197,null,null,null,null,null,null,null,2,2,null,null,null,null,null,null,null,1338]
[35,19.77,null,2238,null,null,null,null,null,null,null,null,null,null,4,null,null,null,4,null,null,null,null,1963]
[35,23.51,null,1839,12,null,160,null,null,null,null,null,null,null,null,null,null,null,null,null,null,null,null,1171]
[35,24.55,null,1291,null,null,null,null,null,null,null,null,null,null,null,null,null,null,null,null,null,null,null,985]
[50,26.95,null,null,24,null,82,null,null,null,null,2]
[50,28.22,null,175,48,null,null,null,null,null,null,null,null,null,2]
[50,28.48,null,175,null,null,null,null,null,null,null,null,null,null,2]
[50,31.02,205,null,48,null,null,192,null,null,null,null,null,null,4,null,null,null,null,null,null,null,null,null,null,null,null,"LANCASTER RD"]
[50,31.17,null,null,null,null,170]
[104,8.64,null,null,null,null,null,289,null,40]
[104,8.89,null,60,null,null,null,185,null,20,null,null,null,null,2,null,null,null,null,null,null,null,null,null,null,null,null,"US 23 SB RAMPS"]
[104,8.9600000000000009,null,125,null,null,null,252,null,60,null,null,null,null,2,null,null,null,null,null,null,null,null,null,null,null,null,"BUSINESS DR"]
[104,9.0299999999999994,null,75,null,null,null,217,null,40,null,null,null,null,2,null,null,null,null,null,null,null,null,null,null,null,null,"RENICK RD"]
[104,9.19,null,133,null,null,null,null,null,null,null,null,null,null,null,2,null,null,null,null,null,null,null,147,294,null,null,"CHURCH ENT."]
[]
["SUBTOTAL THIS SHEET",null,{"$f":"SUM(C5:C35)","v":1529},21460,931,0,609,1815,0,394,0,2,0,0,43,10,0,0,6,0,2,7,0,16944,294,0,0]
["TOT. CARRIED TO SHEET 19",null,{"$f":"C36","v":1529},{"$f":"D36","v":21460},{"$f":"E36","v":931},{"$f":"F36","v":0},{"$f":"G36+H36","v":2424},null,{"$f":"I36","v":0},{"$f":"J36+K36","v":394},null,{"$f":"L36","v":2},{"$f":"M36","v":0},{"$f":"N36","v":0},{"$f":"O36+P36+Q36+R36+S36+T36","v":59},null,null,null,null,null,{"$f":"U36","v":2},{"$f":"V36","v":7},{"$f":"W36","v":0},{"$f":"X36+Y36","v":17238},null,{"$f":"Z36","v":0},{"$f":"AA36","v":0}]

{"sheet":"ROS(19)","index":18,"n_rows":33,"n_cols":28,"rows_kept":33,"cut":false,"hidden":false,"merged":[[0,0,0,27],[1,0,3,0],[1,1,3,1],[1,2,2,2],[1,3,2,3],[1,4,2,4],[1,5,2,5],[1,6,2,6],[1,7,2,7],[1,8,2,8],[1,26,2,26],[1,27,3,27],[31,6,31,7],[31,9,31,10],[31,14,31,19],[1,11,2,11],[1,12,2,12],[1,13,2,13],[1,14,1,19],[1,25,2,25],[1,9,2,9],[1,10,2,10],[32,0,32,1],[32,6,32,7],[32,9,32,10],[32,14,32,19],[32,23,32,24],[31,23,31,24],[1,20,2,20],[1,21,2,21],[1,22,2,22],[1,23,2,23],[1,24,2,24],[30,0,30,1],[31,0,31,1]]}
["ROSS COUNTY AUXILIARY MARKINGS SUB-SUMMARY"]
["ROUTE","SLM","CHANNELIZING LINE, 8\"","CHANNELIZING LINE, 12\"","STOP LINE","CROSSWALK LINE, 12\"","TRANS. / DIAG. LINE (WHITE)","TRANS. / DIAG. LINE (YELLOW)","CURB MARKING","ISLAND MARKING (YELLOW)","ISLAND MARKING (WHITE)","RAILROAD SYM.","SCHOOL SYM., 96\"","PARKING LOT STALL MARKING","LANE ARROW",null,null,null,null,null,"LANE REDUCTION","TWO-WAY LT TRN","WORD ON PAVE.","DOTTED LINE, 6\" (WHITE)","DOTTED LINE, 6\" (YELLOW)","HANDICAP SYM.","YIELD LINE","REMARKS"]
[null,null,null,null,null,null,null,null,null,null,null,null,null,null,"LEFT TURN","RIGHT TURN","THRU","COMB - LT/TH","COMB - RT/TH","COMB - LT/RT"]
[null,null,"FT","FT","FT","FT","FT","FT","FT","SF","SF","EA","EA","FT","EA","EA","EA","EA","EA","EA","EA","EA","EA","FT","FT","EA","FT"]
[]
[104,9.4499999999999993,null,236,null,null,null,null,null,null,null,null,null,null,null,3,null,null,null,null,null,null,null,86,172,null,null,"LUMBECK RD"]
[104,10.06,null,null,null,null,null,95]
[104,10.220000000000001,null,null,null,null,null,135]
[104,14.47,null,208,82,null,null,null,null,72,null,null,null,null,2,null,null,null,null,null,null,null,null,null,null,null,null,"US 35 EB RAMPS"]
[104,14.62,null,200,62,null,null,null,null,72,null,null,null,null,2,null,null,null,null,null,null,null,null,null,null,null,null,"US 35 WB RAMPS"]
[104,15.21,662,null,null,null,null,962,null,null,null,null,null,null,4,null,null,null,null,null,null,null,null,null,null,null,null,"PLEASANT VALLEY RD"]
[104,15.49,510,null,null,null,null,276,null,null,null,null,null,null,4,null,null,null,null,null,null,null,null,null,null,null,null,"ACCESS RD"]
[104,15.86,790,null,83,null,null,491,null,null,null,null,null,null,4,null,null,null,null,null,null,null,null,null,null,null,null,"MOUNDSVILLE RD"]
[104,16.21,450,null,null,null,null,880,null,null,null,null,null,null,4,null,null,null,null,null,null,null,null,null,null,null,null,"HOPEWELL/PRISON"]
[104,16.28,null,null,null,null,null,666,null,null,null,null,null,null,null,null,null,null,null,null,null,7,null,null,null,null,null,"SLM 16.28-17.55"]
[104,17.98,null,620,null,null,null,232,null,null,null,null,null,null,3,3,null,null,null,null,null,null,null,null,null,null,null,"SLM 18.01-18.18"]
[104,18.5,null,627,null,null,286,437,null,65,null,null,null,null,3,null,null,null,null,null,null,null,null,null,null,null,null,"SR 207 (NORTH)"]
[]
[159,0.79,400,null,98,200,null,665,null,null,null,null,null,null,null,6,null,null,null,null,null,null,1,null,null,null,null,"WORD: \"ONLY\", STEWART RD"]
[159,0.93,770,null,82,null,16,110,null,null,null,null,null,null,7,2,null,null,null,null,null,null,null,null,null,null,null,"US 35 EB RAMPS"]
[159,1.1100000000000001,370,null,108,85,152,171,null,null,null,null,null,null,6,4,null,null,null,null,null,null,null,null,null,null,null,"US 35 EB RAMPS"]
[159,2.7,1160,null,null,110,190,300,null,120,null,null,null,null,10,7]
[159,3.08,379,null,88,266,null,null,null,null,null,null,null,null,5,null,null,null,null,null,null,null,null,null,null,null,null,"HOPETOWN RD"]
[159,3.73,760,null,112,null,null,440,null,12,null,null,null,null,9,null,null,null,null,null,null,null,2,null,null,null,null,"WORD: \"ONLY\""]
[159,3.87,102,null,null,null,null,1356,null,86,null,null,null,null,2,null,null,null,null,null,null,null,null,null,null,null,null,"OVERBRIDGE RD"]
[159,4.0999999999999996,1942,null,158,null,null,1126,null,null,null,null,null,null,17,6,null,null,null,null,null,null,null,null,null,null,null,"HOSPITAL RD & KENWORTH"]
[159,4.67,415,null,null,null,45,null,null,null,null,null,null,null,null,3,null,null,null,null,null,null,null,null,null,null,null,"KENWORHT NORTH ACCESS"]
[159,5.22,610,null,68,null,194,171,null,null,null,null,null,null,7,null,null,null,3,null,null,null,null,null,null,null,null,"DELANO RD"]
[159,6.18,null,null,null,null,null,null,null,null,null,null,null,null,2,null,null,6,null,null,null,null,4,144,null,null,78,"WORD: \"YIELD\", SR 207 & 180"]
[180,0,null,null,null,null,null,null,null,null,null,null,2,null,null,null,null,null,null,null,null,null,1,32,null,null,18,"WORD: \"YIELD\""]
["SUBTOTAL THIS SHEET",null,{"$f":"SUM(C5:C30)","v":9320},1891,941,661,883,8513,0,427,0,0,2,0,91,34,0,6,3,0,0,7,8,262,172,0,96]
["SHEET 18 TOTALS",null,{"$f":"'ROS(18)'!C37","v":1529},{"$f":"'ROS(18)'!D37","v":21460},{"$f":"'ROS(18)'!E37","v":931},{"$f":"'ROS(18)'!F37","v":0},{"$f":"'ROS(18)'!G37","v":2424},null,{"$f":"'ROS(18)'!I37","v":0},{"$f":"'ROS(18)'!J37","v":394},null,{"$f":"'ROS(18)'!L37","v":2},{"$f":"'ROS(18)'!M37","v":0},{"$f":"'ROS(18)'!N37","v":0},{"$f":"'ROS(18)'!O37","v":59},null,null,null,null,null,{"$f":"'ROS(18)'!U37","v":2},{"$f":"'ROS(18)'!V37","v":7},{"$f":"'ROS(18)'!W37","v":0},{"$f":"'ROS(18)'!X37","v":17238},null,{"$f":"'ROS(18)'!Z37","v":0},{"$f":"'ROS(18)'!AA37","v":0}]
["TOT. CARRIED TO GEN. SUM.",null,{"$f":"C31+C32","v":10849},{"$f":"D31+D32","v":23351},{"$f":"E31+E32","v":1872},{"$f":"F31+F32","v":661},{"$f":"G32+G31+H31","v":11820},null,{"$f":"I31+I32","v":0},{"$f":"J32+J31+K31","v":821},null,{"$f":"L31+L32","v":2},{"$f":"M31+M32","v":2},{"$f":"N31+N32","v":0},{"$f":"O32+O31+P31+Q31+R31+S31+T31","v":193},null,null,null,null,null,{"$f":"U31+U32","v":2},{"$f":"V31+V32","v":14},{"$f":"W31+W32","v":8},{"$f":"X32+X31+Y31","v":17672},null,{"$f":"Z31+Z32","v":0},{"$f":"AA31+AA32","v":96}]

{"sheet":"SCI(20)","index":19,"n_rows":37,"n_cols":28,"rows_kept":37,"cut":false,"hidden":false,"merged":[[0,0,0,27],[1,0,3,0],[1,1,3,1],[1,2,2,2],[1,3,2,3],[1,4,2,4],[1,5,2,5],[1,6,2,6],[1,7,2,7],[1,8,2,8],[1,26,2,26],[1,27,3,27],[35,0,35,1],[36,0,36,1],[36,6,36,7],[36,9,36,10],[36,14,36,19],[1,25,2,25],[1,9,2,9],[1,10,2,10],[36,23,36,24],[1,20,2,20],[1,21,2,21],[1,22,2,22],[1,23,2,23],[1,24,2,24],[1,11,2,11],[1,12,2,12],[1,13,2,13],[1,14,1,19]]}
["SCIOTO COUNTY AUXILIARY MARKINGS SUB-SUMMARY"]
["ROUTE","SLM","CHANNELIZING LINE, 8\"","CHANNELIZING LINE, 12\"","STOP LINE","CROSSWALK LINE, 12\"","TRANS. / DIAG. LINE (WHITE)","TRANS. / DIAG. LINE (YELLOW)","CURB MARKING","ISLAND MARKING (YELLOW)","ISLAND MARKING (WHITE)","RAILROAD SYM.","SCHOOL SYM., 96\"","PARKING LOT STALL MARKING","LANE ARROW",null,null,null,null,null,"LANE REDUCTION","TWO-WAY LT TRN","WORD ON PAVE.","DOTTED LINE, 6\" (WHITE)","DOTTED LINE, 6\" (YELLOW)","HANDICAP SYM.","YIELD LINE","REMARKS"]
[null,null,null,null,null,null,null,null,null,null,null,null,null,null,"LEFT TURN","RIGHT TURN","THRU","COMB - LT/TH","COMB - RT/TH","COMB - LT/RT"]
[null,null,"FT","FT","FT","FT","FT","FT","FT","SF","SF","EA","EA","FT","EA","EA","EA","EA","EA","EA","EA","EA","EA","FT","FT","EA","FT"]
[23,10.59,null,null,48,210,180,96,null,50]
[23,11.43,null,955,101,null,333,320,null,null,null,null,null,null,5,null,null,null,null,null,null,null,null,null,null,null,null,"SR 348"]
[52,15.33,190,null,35,null,null,190,null,30,null,null,1,null,2,null,null,null,null,null,null,null,null,null,null,null,null,"WEST PORTSMOUTH SCHOOL"]
[52,15.65,305,null,null,null,null,121,null,50,null,null,1,null,3,null,null,null,null,null,null,null,null,null,null,null,null,"WEST PORTSMOUTH SCHOOL"]
[52,15.9,270,null,null,null,130,354,null,null,60,null,null,null,2,null,null,null,null,null,null,4]
[52,16.100000000000001,240,null,null,null,null,282,null,60,60,null,null,null,2,null,null,null,null,null,null,null,null,null,null,null,null,"CAREYS RUN RD"]
[52,16.68,230,null,null,null,135,240,null,null,null,null,null,null,2]
[52,17.36,null,null,36,null,null,null,null,null,null,null,null,null,null,null,null,null,null,null,null,null,null,null,null,null,null,"EXIT RAMP US 52 WB"]
[52,23.62,625,null,124,null,null,null,null,null,null,null,null,null,3,4]
[52,27.8,4513,null,148]
[52,30.56,1226,null,136]
["52F",0,null,null,199,541,null,null,null,null,null,null,1,null,null,null,null,null,null,null,null,null,null,null,null,null,null,"SLM 0.00-1.67"]
[73,1.37,null,null,null,140]
[73,10.36,null,null,24,null,null,null,null,null,null,2]
[73,22.15,null,400,null,null,null,891,null,230,null,null,null,null,4,null,null,null,null,null,null,6,2,null,null,null,null,"WORD: \"ONLY\",SLM 22.15-24.02"]
[73,24.43,130,null,null,null,null,305,null,275,null,null,null,null,2,null,null,null,null,null,null,null,null,null,null,null,null,"SR 239"]
[73,25.49,null,null,null,null,null,65]
[104,6.4,null,null,15,null,null,null,null,null,null,null,null,null,null,null,null,null,null,null,null,null,null,null,null,null,null,"SR 73"]
[104,8.6199999999999992,null,null,24,null,null,null,null,null,null,2]
[104,12.1,null,null,null,null,null,120]
[104,12.13,620,null,48,null,null,225,null,85,null,null,null,null,6,null,null,null,null,null,null,null,3,null,null,null,null,"WORD: \"ONLY\", SR 348"]
[125,4.4400000000000004,425,null,null,null,null,81,null,null,null,null,null,null,2,2,4]
[139,7.0000000000000007E-2,null,null,14,100,null,28,null,10]
[139,0.31,null,null,64,60]
[139,10.7,235,null,26]
[140,0.39,null,null,null,null,null,300]
[140,0.51,590,null,null,null,null,87,null,null,null,null,null,null,4,3]
[]
[]
[]
[]
["SUBTOTAL THIS SHEET",null,{"$f":"SUM(C5:C35)","v":9599},1355,1042,1051,778,3705,0,790,120,4,3,0,37,9,4,0,0,0,0,10,5,0,0,0,0]
["TOT. CARRIED TO SHEET 21",null,{"$f":"C36","v":9599},{"$f":"D36","v":1355},{"$f":"E36","v":1042},{"$f":"F36","v":1051},{"$f":"G36+H36","v":4483},null,{"$f":"I36","v":0},{"$f":"J36+K36","v":910},null,{"$f":"L36","v":4},{"$f":"M36","v":3},{"$f":"N36","v":0},{"$f":"O36+P36+Q36+R36+S36+T36","v":50},null,null,null,null,null,{"$f":"U36","v":0},{"$f":"V36","v":10},{"$f":"W36","v":5},{"$f":"X36+Y36","v":0},null,{"$f":"Z36","v":0},{"$f":"AA36","v":0}]

{"sheet":"SCI(21)","index":20,"n_rows":33,"n_cols":28,"rows_kept":33,"cut":false,"hidden":false,"merged":[[0,0,0,27],[1,0,3,0],[1,1,3,1],[1,2,2,2],[1,3,2,3],[1,4,2,4],[1,5,2,5],[1,6,2,6],[1,7,2,7],[1,8,2,8],[1,26,2,26],[1,27,3,27],[31,6,31,7],[31,9,31,10],[31,14,31,19],[1,11,2,11],[1,12,2,12],[1,13,2,13],[1,14,1,19],[1,25,2,25],[1,9,2,9],[1,10,2,10],[32,0,32,1],[32,6,32,7],[32,9,32,10],[32,14,32,19],[32,23,32,24],[31,23,31,24],[1,20,2,20],[1,21,2,21],[1,22,2,22],[1,23,2,23],[1,24,2,24],[30,0,30,1],[31,0,31,1]]}
["SCIOTO COUNTY AUXILIARY MARKINGS SUB-SUMMARY"]
["ROUTE","SLM","CHANNELIZING LINE, 8\"","CHANNELIZING LINE, 12\"","STOP LINE","CROSSWALK LINE, 12\"","TRANS. / DIAG. LINE (WHITE)","TRANS. / DIAG. LINE (YELLOW)","CURB MARKING","ISLAND MARKING (YELLOW)","ISLAND MARKING (WHITE)","RAILROAD SYM.","SCHOOL SYM., 96\"","PARKING LOT STALL MARKING","LANE ARROW",null,null,null,null,null,"LANE REDUCTION","TWO-WAY LT TRN","WORD ON PAVE.","DOTTED LINE, 6\" (WHITE)","DOTTED LINE, 6\" (YELLOW)","HANDICAP SYM.","YIELD LINE","REMARKS"]
[null,null,null,null,null,null,null,null,null,null,null,null,null,null,"LEFT TURN","RIGHT TURN","THRU","COMB - LT/TH","COMB - RT/TH","COMB - LT/RT"]
[null,null,"FT","FT","FT","FT","FT","FT","FT","SF","SF","EA","EA","FT","EA","EA","EA","EA","EA","EA","EA","EA","EA","FT","FT","EA","FT"]
[]
[239,0.16,null,null,12]
[239,1.2,null,null,28,null,null,null,null,null,null,null,null,null,null,null,null,null,null,null,null,null,null,null,null,null,null,"SR 73"]
[253,0.15,140,null,null,null,null,409,null,null,null,null,null,null,2]
[335,7.79,300,null,null,null,null,null,null,null,null,null,null,null,4]
[335,9.14,300,null,null,null,null,263,null,null,null,null,null,null,4]
[335,9.2799999999999994,null,null,30]
[335,9.76,null,null,26]
[348,6.1,null,null,42,null,null,null,null,null,null,2,null,null,null,null,null,null,null,null,null,null,null,null,null,null,null,"SR 73"]
[348,6.38,null,null,21]
[371,0.4,null,null,22,null,null,null,null,null,null,null,null,null,null,null,null,null,null,null,null,null,null,null,null,null,null,"SR 73"]
[522,1.8,null,null,20,null,null,75]
[776,0,null,null,14,null,null,null,null,null,null,null,null,null,null,null,null,null,null,null,null,null,null,null,null,null,null,"SR 335"]
[852,0.55000000000000004,735,null,48,null,null,70,null,65,null,null,null,null,3,3]
[852,0.73,175,null,24,null,null,278,null,118]
[]
[]
[]
[]
[]
[]
[]
[]
[]
[]
[]
["SUBTOTAL THIS SHEET",null,{"$f":"SUM(C5:C30)","v":1650},0,287,0,0,1095,0,183,0,2,0,0,13,3,0,0,0,0,0,0,0,{"$f":"SUM(X5:X30)","v":0},0,{"$f":"SUM(Z5:Z30)","v":0},{"$f":"SUM(AA5:AA30)","v":0}]
["SHEET 20 TOTALS",null,{"$f":"'SCI(20)'!C37","v":9599},{"$f":"'SCI(20)'!D37","v":1355},{"$f":"'SCI(20)'!E37","v":1042},{"$f":"'SCI(20)'!F37","v":1051},{"$f":"'SCI(20)'!G37","v":4483},null,{"$f":"'SCI(20)'!I37","v":0},{"$f":"'SCI(20)'!J37","v":910},null,{"$f":"'SCI(20)'!L37","v":4},{"$f":"'SCI(20)'!M37","v":3},{"$f":"'SCI(20)'!N37","v":0},{"$f":"'SCI(20)'!O37","v":50},null,null,null,null,null,{"$f":"'SCI(20)'!U37","v":0},{"$f":"'SCI(20)'!V37","v":10},{"$f":"'SCI(20)'!W37","v":5},{"$f":"'SCI(20)'!X37","v":0},null,{"$f":"'SCI(20)'!Z37","v":0},{"$f":"'SCI(20)'!AA37","v":0}]
["TOT. CARRIED TO GEN. SUM.",null,{"$f":"C31+C32","v":11249},{"$f":"D31+D32","v":1355},{"$f":"E31+E32","v":1329},{"$f":"F31+F32","v":1051},{"$f":"G32+G31+H31","v":5578},null,{"$f":"I31+I32","v":0},{"$f":"J32+J31+K31","v":1093},null,{"$f":"L31+L32","v":6},{"$f":"M31+M32","v":3},{"$f":"N31+N32","v":0},{"$f":"O32+O31+P31+Q31+R31+S31+T31","v":66},null,null,null,null,null,{"$f":"U31+U32","v":0},{"$f":"V31+V32","v":10},{"$f":"W31+W32","v":5},{"$f":"X32+X31+Y31","v":0},null,{"$f":"Z31+Z32","v":0},{"$f":"AA31+AA32","v":0}]

{"sheet":"FACILITIES(21)","index":21,"n_rows":32,"n_cols":18,"rows_kept":32,"cut":false,"hidden":false,"merged":[[0,0,0,17],[1,12,1,14],[1,2,1,3],[1,5,1,6],[1,8,1,9],[1,10,1,11],[1,0,3,0],[1,1,3,1],[3,2,3,3],[1,4,2,4],[3,5,3,6],[1,7,2,7],[3,8,3,9],[3,10,3,11],[3,12,3,14],[1,15,2,15],[1,16,2,16],[1,17,3,17],[31,0,31,1],[31,12,31,14],[30,0,30,1],[31,2,31,3],[31,5,31,6],[31,8,31,9],[31,10,31,11]]}
["DISTRICT 9 PARK AND RIDES, REST AREAS AND GARAGES"]
["COUNTY","LOCATION SLM","EDGE LINE",null,"CENTER\nLINE","8\"\nCHANNELIZING LINE",null,"24' STOP\nLINE","TRANSVERSE DIAGONAL LINE",null,"CURB MARKING                                                     ",null,"PARKING LOT  STALL LINE",null,null,"LANE ARROW THRU","48\" HANDICAP                                              SYMBOL MARKING","Remarks"]
[null,null,"W","Y",null,"W","Y",null,"W","Y","W","Y","W","Y","B"]
[null,null,"MILES",null,"MILES","FT",null,"FT","FT",null,"FT",null,"FT",null,null,"EACH","EACH"]
["ADAMS","SR 41-11.60",null,null,null,274,null,null,60,null,null,null,999,null,null,null,1,"WEST UNION GARAGE"]
["ADAMS","SR 32-13.26",0.09,null,0.01,null,null,22,null,null,null,null,544,null,null,null,1,"PEEBLES OUTPOST"]
[]
["BROWN","SR 125-10.56",null,null,null,null,null,null,null,null,null,null,474,null,null,null,1,"GEORGETOWN GARAGE"]
["BROWN","SR 32-10.33",null,null,null,null,null,33,null,null,null,null,1846,55,null,null,2,"REST AREA 09-04"]
["BROWN","SR 32-11.33",null,null,null,null,null,null,null,null,null,null,837,null,null,2,1,"PARK AND RIDE"]
[]
["HIGHLAND","SR 124-10.67",null,null,null,null,null,null,null,null,null,null,1264,null,null,null,null,"HILLSBORO GARAGE"]
[]
["JACKSON","SR 32-8.64",null,null,null,null,null,null,null,null,null,null,1329,null,null,null,null,"PARK AND RIDE"]
["JACKSON","US 35-2.36",null,null,null,110,null,null,null,null,null,null,2517,433,null,null,2,"REST AREA 09-30"]
["JACKSON","SR 32-14.56",null,null,null,null,null,null,null,null,null,null,1272,null,null,null,1,"JACKSON GARAGE"]
[]
["LAWRENCE","US 52-9.57",null,null,null,null,null,null,null,null,null,null,1022,null,48,null,2,"IRONTON GARAGE"]
[]
["PIKE","SR 32-15.43",null,null,null,null,null,null,null,155,null,null,1720,null,null,null,3,"PIKETON GARAGE"]
["PIKE","SR 104-6.45",null,null,null,null,null,null,null,null,null,null,null,null,null,null,null,"PARK AND RIDE"]
[]
["ROSS","US 35-16.60",null,null,null,null,null,null,null,null,null,null,800,null,null,null,2,"CHILLICOTHE GARAGE"]
["ROSS","SR 207-0.91",null,null,null,null,null,null,null,null,null,null,1180,null,null,null,null,"PARK AND RIDE"]
["ROSS","US 50-25.13",null,null,null,null,null,null,57,null,null,null,8110,null,null,null,4,"D09 HEADQUATERS"]
[]
["SCIOTO","US 23-9.59",null,null,null,null,null,null,null,null,null,null,1080,60,null,null,2,"LUCASVILLE GARAGE"]
["SCIOTO","US 23-16.25",null,null,null,null,null,null,null,null,875,1947,2361,37,null,null,3,"REST AREA 09-23"]
["SCIOTO","SR 335-8.72",null,null,null,null,null,38,690,null,null,null,900,null,null,3,null,"PARK AND RIDE"]
[]
["SUBTOTALS:",null,{"$f":"SUM(C6:C30)","v":0.09},{"$f":"SUM(D5:D30)","v":0},{"$f":"SUM(E5:E30)","v":0.01},{"$f":"SUM(F5:F30)","v":384},null,{"$f":"SUM(H5:H30)","v":93},807,155,875,1947,28255,585,48,5,25]
["TOTALS CARRIED TO THE GENERAL SUMMARY",null,{"$f":"C31+D31","v":0.09},null,{"$f":"E31","v":0.01},{"$f":"F31+G31","v":384},null,{"$f":"H31","v":93},{"$f":"I31+J31","v":962},null,{"$f":"K31+L31","v":2822},null,{"$f":"M31+N31+O31","v":28888},null,null,{"$f":"P31","v":5},{"$f":"Q31","v":25}]