{"text_format":"1","workbook":"xlsx","n_sheets":16,"sheets":["TITLE(1)","GEN NOTES (2)","MOT NOTES(3)","GEN SUM(4)","ADA(5)","BRO(6)","HIG(7)","JAC(8)","JAC(9)","LAW(10)","LAW(11)","PIK(12)","ROS(13)","ROS(14)","SCI(15)","SCI(16)"],"not_rendered":{"charts":0,"images":6,"macros":1,"external_links":1,"defined_names":54,"comments":0,"pivot_tables":0},"unopened":[],"bounds":{"document_bytes":16777216,"sheet_cells":100000,"rows_first":2000,"rows_last":500,"rows_between":2000,"halvings":0,"cell_chars":16384,"cell_head_chars":4096},"cells_cut":0,"cells_raw":0,"read":"whole","date_system":"1900"}

{"sheet":"TITLE(1)","index":0,"n_rows":56,"n_cols":32,"rows_kept":56,"cut":false,"hidden":false,"merged":[[51,13,51,15],[54,3,55,8],[54,1,55,2],[55,10,55,12],[55,13,55,15],[55,16,55,18],[49,10,49,12],[56,3,57,8],[56,1,57,2],[56,10,56,12],[57,16,57,18],[57,10,57,12],[54,10,54,12],[57,13,57,15],[54,13,54,15],[56,13,56,15],[52,13,52,15],[53,13,53,15],[54,16,54,18],[56,16,56,18],[51,16,51,18],[53,16,53,18],[21,1,21,14],[20,1,20,14],[27,1,27,8],[28,1,28,8],[28,9,28,16],[27,9,27,16],[43,28,44,33],[43,10,44,27],[39,1,40,15],[34,1,38,15],[31,1,33,15],[30,1,30,15],[40,17,40,20],[41,1,44,8],[7,24,7,33],[5,24,6,33],[8,24,9,33],[8,17,9,23],[7,17,7,23],[5,17,6,23],[35,17,35,20],[37,17,37,20],[10,18,10,33],[13,18,17,33],[0,17,3,33],[45,19,45,21],[24,15,24,16],[23,15,23,16],[22,15,22,16],[21,15,21,16],[24,18,30,33],[40,21,40,27],[45,31,45,33],[45,22,45,24],[45,25,45,27],[45,28,45,30],[25,11,25,16],[20,15,20,16],[24,1,24,14],[23,1,23,14],[18,1,18,8],[4,24,4,33],[33,21,33,33],[38,21,38,33],[32,21,32,33],[37,21,37,33],[35,21,35,27],[4,17,4,23],[46,13,46,15],[46,1,53,8],[49,13,49,15],[50,13,50,15],[48,10,48,12],[18,9,18,16],[45,10,45,12],[45,13,45,15],[45,16,45,18],[25,1,25,10],[45,1,45,8],[48,13,48,15],[52,10,52,12],[53,10,53,12],[50,10,50,12],[46,10,46,12],[47,10,47,12],[32,17,32,20],[49,19,49,21],[50,16,50,18],[50,19,50,21],[51,10,51,12],[47,13,47,15],[22,1,22,14],[53,25,53,27],[57,19,57,21],[53,19,53,21],[56,19,56,21],[55,22,55,24],[54,19,54,21],[53,22,53,24],[56,22,56,24],[56,25,56,27],[55,25,55,27],[54,22,54,24],[55,19,55,21],[57,28,57,30],[57,31,57,33],[54,28,54,30],[57,22,57,24],[54,31,54,33],[56,28,56,30],[57,25,57,27],[56,31,56,33],[55,28,55,30],[55,31,55,33],[54,25,54,27],[50,28,51,33],[49,22,49,24],[49,25,49,27],[50,22,50,24],[52,22,52,24],[46,31,46,33],[47,28,47,30],[47,31,47,33],[48,25,48,27],[46,22,46,24],[46,25,46,27],[47,22,47,24],[47,25,47,27],[52,28,53,33],[46,28,46,30],[51,22,51,24],[51,25,51,27],[48,31,48,33],[49,28,49,30],[49,31,49,33],[48,22,48,24],[48,28,48,30],[52,25,52,27],[50,25,50,27],[51,19,51,21],[49,16,49,18],[46,16,46,18],[46,19,46,21],[47,16,47,18],[47,19,47,21],[48,16,48,18],[48,19,48,21],[52,16,52,18],[52,19,52,21]]}
[null,null,null,null,null,null,null,null,null,null,null,null,null,null,null,null,null,"D09-PM-FY2025(B)"]
[]
[]
[]
[null,null,null,null,null,null,null,null,null,null,null,null,null,null,null,null,null,"PID No.",null,null,null,null,null,null,"FEDERAL PROJECT No."]
[null,null,null,null,null,null,null,null,null,null,null,null,null,null,null,null,null,109872,null,null,null,null,null,null,"100% STATE"]
[]
[null,null,null,null,null,null,null,null,null,null,null,null,null,null,null,null,null,"STATE JOB No.",null,null,null,null,null,null,"CONSTRUCTION PROJECT No."]
[null,null,null,null,null,null,null,null,null,null,null,null,null,null,null,null,null,496048]
[]
[null,null,null,null,null,null,null,null,null,null,null,null,null,null,null,null,null,null,"PROJECT DESCRIPTION \nXXXXXXXXXXXXXXXX"]
[null,null,null,null,null,null,null,null,null,null,null,null,null,null,null,null,null,null,"D09 DISTRICT PAVEMENT LONG LINE MARKINGS (B)"]
[]
[null,null,null,null,null,null,null,null,null,null,null,null,null,null,null,null,null,null,"2023 SPECIFICATIONS\nTHE STANDARD SPECIFICATIONS OF THE STATE OF OHIO, DEPARTMENT OF TRANSPORTATION, INCLUDING CHANGES AND SUPPLEMENTAL SPECIFICATIONS LISTED IN THE PROPOSAL SHALL GOVERN THIS IMPROVEMENT."]
[]
[]
[]
[]
[null,"LATITUDE: 39° 19' 28\" N",null,null,null,null,null,null,null,"LONGITUDE: 82° 57' 47\" W"]
[]
[null,"EARTH DISTURBED AREA:",null,null,null,null,null,null,null,null,null,null,null,null,null,"N/A*"]
[null,"PROJECT EARTH DISTURBED AREA:",null,null,null,null,null,null,null,null,null,null,null,null,null,"N/A*"]
[null,"EST. CONTRACTOR EARTH DISTURBED AREA:",null,null,null,null,null,null,null,null,null,null,null,null,null,"N/A*"]
[null,"NOTICE OF INTENT EARTH DISTURBED AREA:",null,null,null,null,null,null,null,null,null,null,null,null,null,"N/A*"]
[null,"RAILROAD INVOLVEMENT:",null,null,null,null,null,null,null,null,null,null,null,null,null,"NONE",null,null,"I HEREBY APPROVE THESE PLANS AND DECLARE THAT THE MAKING OF THIS IMPROVEMENT WILL NOT REQUIRE THE CLOSING OF THE HIGHWAY TO TRAFFIC AND THAT PROVISIONS FOR THE MAINTENANCE AND SAFETY OF TRAFFIC WILL BE AS SET FORTH IN THESE PLANS AND ESTIMATES."]
[null,"*TYPE OF PROJECT:",null,null,null,null,null,null,null,null,null,"MAINTENANCE"]
[]
[null,"DESIGN DESIGNATION:",null,null,null,null,null,null,null,"DISTRICT WIDE"]
[null,"DESIGN EXCEPTION:",null,null,null,null,null,null,null,"NONE"]
[]
[]
[]
[]
[]
[]
[]
[]
[]
[]
[]
[]
[null,"PLANS PREPARED BY: ODOT, DISTRICT 9 - P&E CHILLICOTHE, OH"]
[]
[null,null,null,null,null,null,null,null,null,null,"STANDARD CONSTRUCTION DRAWINGS",null,null,null,null,null,null,null,null,null,null,null,null,null,null,null,null,null,"SUPPLEMENTAL\nSPECIFICATIONS"]
[]
[null,"ENGINEERS SEAL:",null,null,null,null,null,null,null,null,"MT-95.30",null,null,"2019-07-19",null,null,"MT-98.22",null,null,"2020-01-17",null,null,"TC-41.20",null,null,"2013-10-18",null,null,800,null,null,"2024-07-19"]
[null,{"$error":"#VALUE!"},null,null,null,null,null,null,null,null,"MT-95.31",null,null,"2019-07-19",null,null,"MT-98.28",null,null,"2020-01-17",null,null,"TC-42.20",null,null,"2013-10-18",null,null,832,null,null,"2024-07-19"]
[null,null,null,null,null,null,null,null,null,null,"MT-95.32",null,null,"2019-04-19",null,null,"MT-98.29",null,null,"2021-07-16",null,null,"TC-52.10",null,null,"2013-10-18"]
[null,null,null,null,null,null,null,null,null,null,"MT-95.60",null,null,"2019-04-19",null,null,"MT-99.20",null,null,"2019-04-19",null,null,"TC-52.20",null,null,"2021-01-15"]
[null,null,null,null,null,null,null,null,null,null,"MT-95.61",null,null,"2019-04-19",null,null,"  MT-105.10",null,null,"2020-01-17"]
[null,null,null,null,null,null,null,null,null,null,"MT-97.10",null,null,"2019-04-19",null,null,null,null,null,null,null,null,"TC-71.10",null,null,"2022-07-15",null,null,"SPECIAL\nPROVISIONS"]
[null,null,null,null,null,null,null,null,null,null,null,null,null,null,null,null,null,null,null,null,null,null,"TC-72.20",null,null,"2018-07-20"]
[]
[null,null,null,null,null,null,null,null,null,null,"MT-98.10",null,null,"2020-01-17"]
[null,null,null,null,null,null,null,null,null,null,"MT-98.11",null,null,"2020-01-17"]
[null,null,null,null,null,null,null,null,null,null,"MT-98.20",null,null,"2019-04-19"]

{"sheet":"GEN NOTES (2)","index":1,"n_rows":47,"n_cols":1,"rows_kept":47,"cut":false,"hidden":false,"merged":[[0,0,0,2],[53,2,62,2],[65,0,69,0],[3,0,8,0],[3,2,9,2],[20,2,27,2],[31,2,38,2],[42,2,49,2],[11,0,24,0],[27,0,28,0],[33,0,39,0]]}
["GENERAL NOTES"]
["UTILITIES"]
[]
["THERE ARE NO UNDERGROUND UTILITIES SHOW ON THIS PLAN.  THE NATURE OF THE WORK REQUIRED BY THIS PROJECT WILL NOT AFFECT ANY KNOWN UNDERGROUND UTILITIES THAT EXIST UNDER OR ADJACENT TO THE WORK AREA."]
[]
[]
[]
[]
[]
["LAYOUT AND PREMARKING"]
[]
["ALL NEW MARKINGS SHALL BE PLACED OVER EXISTING MARKINGS.  ANY CHANGES TO THE EXISTING MARKINGS SHALL BE FURNISHED TO THE CONTRACTOR AT THE PRE-CONSTUCTION CONFERENCE.  WHERE THE MARKINGS WHICH WERE TO BE RETRACED ARE NO LONGER VISIBLE,  THE CONTRACTOR SHALL PREMARK ALL MARKINGS FROM SCHEMATIC FORMS FURNISHED BY THE ENGINEER UNLESS THE ENGINEER DIRECTS OTHERWISE.\n\nNO WORK SHALL BE DONE WITHIN CITY CORPORATION LIMITS ON TWO LANE ROUTES UNLESS DIRECTED BY THE ENGINEER."]
[]
[]
[]
[]
[]
[]
[]
[]
[]
[]
[]
[]
[]
["PROJECT START DATE"]
[]
["NO WORK IS TO BEGIN ON THIS PROJECT UNTIL SEPT. 1, 2025."]
[]
[]
[]
["CENTER LINE EQUIVALENT SOLID LINE"]
[]
["THE EQUIVALENT SOLID LINE QUANTITIES (TAKEN FROM THE DISTRICT NO-PASSING ZONE LOG) ARE FOR THE CONVENIENCE OF THE CONTRACTOR TO ESTIMATE THE APPROXIMATE QUANTITY OF CENTER LINE PAVEMENT MATERIAL NEEDED.  THESE EQUIVALENT SOLID LINE QUANTITIES ARE NOT TO BE UTILIZED FOR PAY QUANTITIES OR AS A BASIS OF PAYMENT FOR DELIVERED MATERIALS."]
[]
[]
[]
[]
[]
[]
[]
["INTERCHANGE ID NUMBERS & RAMP DESIGNATIONS"]
[]
["SEE ODOT INTERNET SITE, DESIGN REFERENCE RESOURCE CENTER"]
["(DRRC), STRAIGHT LINE DIAGRAMS, FOR COUNTY ROUTE "]
["INTERCHANGE DRAWINGS WITH ID NUMBERS AND RAMP LETTER"]
["DESIGNATIONS.  "]

{"sheet":"MOT NOTES(3)","index":2,"n_rows":57,"n_cols":1,"rows_kept":57,"cut":false,"hidden":false,"merged":[[56,0,62,0],[24,2,31,2],[2,2,9,2],[4,0,16,0],[13,2,20,2],[0,0,0,2],[19,0,33,0],[34,0,41,0],[50,0,55,0],[43,0,48,0]]}
["MAINTENANCE OF TRAFFIC NOTES"]
[]
["ITEM 614 MAINTAINING TRAFFIC"]
[]
["A MINIMUM OF ONE LANE OF TRAFFIC IN EACH DIRECTION SHALL BE MAINTAINED AT ALL TIMES BY THE USE OF EXISTING PAVEMENT.  LENGTH AND DURATION OF LANE CLOSURES AND RESTRICTIONS SHALL BE AT THE APPROVAL OF THE ENGINEER.  IT IS THE INTENT TO MINIMIZE THE IMPACT TO THE TRAVELING PUBLIC.  LANE CLOSURES OR RESTRICTIONS OVER SEGMENTS OF THE PROJECT IN WHICH NO WORK IS ANTICIPATED WITHIN A REASONABLE TIME FRAME, AS DETERMINED BY THE ENGINEER, SHALL NOT BE PERMITTED.  THE LEVEL OF UTILIZAITON OF MAINTENANCE OF TRAFFIC DEVICES SHALL BE COMMENSURATE WITH THE WORK IN PROGRESS."]
[]
[]
[]
[]
[]
[]
[]
[]
[]
[]
[]
[]
["MAINTAIN TRAFFIC AS FOLLOWS:"]
[]
["1.  ON TWO-LANE TWO-WAY ROADWAY MAINTAIN TRAFFIC IN ACCORDANCE WITH STANDARD DRAWING MT-99.20.  FLAGGERS IN ACCORDANCE WITH STANDARD DRAWING MT-97.10 MAY BE USED AS REQUIRED TO PROGRESS THE WORK.\n\n2. ON MULTI-LANE ROADWAY MAINTAIN TRAFFIC IN ACCORDANCE WITH STANDARD DRAWING MT-99.20 (USING FLASHING ARROW PANEL IN ACCORDANCE WITH STANDARD DRAWING MT-95.30) AND LANE CLOSURES IN ACCORDANCE WITH STANDARD DRAWINGS MT-95.30, MT-95.31, MT-98.10, MT-98.11, MT-98.20, MT-98.22, MT-98.28, OR MT-98.29 AS APPLICABLE MAY BE USED AS REQUIRED TO PROGRESS THE WORK."]
[]
[]
[]
[]
[]
[]
[]
[]
[]
[]
[]
[]
[]
[]
["BEFORE THE WORK BEGINS, THE CONTRACTOR SHALL SUBMIT TO THE ENGINEER THE NAMES AND TELEPHONE NUMBERS OF A PERSON OR PERSONS WHO CAN BE CONTACTED TWENTY-FOUR (24) HOURS PER DAY BY THE OHIO DEPARTMENT OF TRANSPORTATION AND ALL INTERESTED POLICE AGENCIES. THIS PERSON OR PERSONS SHALL BE RESPONSIBLE FOR PLACING OR REPLACING NECESSARY TRAFFIC CONTROL DEVICES IN ACCORDANCE WITH THE OHIO MANUAL OF UNIFORM TRAFFIC CONTROL DEVICES."]
[]
[]
[]
[]
[]
[]
[]
[]
["THE CONTRACTOR WILL ADVISE THE DISTRICT PUBLIC INFORMATION OFFICER AT (740) 774-8834, OR FAX (740) 773-2710 FOURTEEN (14) DAYS PRIOR TO THE START OF CONSTRUCTION ACTIVITIES. THE PROJECT ENGINEER WILL PROVIDE ASSISTANCE/CLARIFICATION FOR ANY QUESTIONS."]
[]
[]
[]
[]
[]
[]
["THE CONTRACTOR SHALL ARRANGE FOR ALL MAINTENANCE OF TRAFFIC OPPERATIONS SUCH THAT THERE WILL BE NO OBSTRUCTIONS TO THE CONTINUOUS FLOW OF TRAFFIC. ALL INTERSECTIONS AND DRIVEWAYS SHALL BE OPEN TO TRAFFIC AT ALL TIMES UNLESS OTHERWISE SHOWN IN THE PLANS."]
[]
[]
[]
[]
[]
["ALL WORK AND TRAFFIC CONTROL DEVICES SHALL BE IN ACCORDANCE WITH 614 AND OTHER APPLICABLE PORTIONS OF THE SPECIFICATIONS, AS WELL AS THE OHIO MANUAL OF UNIFORM TRAFFIC CONTROL DEVICES.  PAYMENT FOR ALL LABOR, EQUIPMENT AND MATERIALS SHALL BE INCLUDED IN THE LUMP SUM PRICE FOR 614, MAINTAINING TRAFFIC."]

{"sheet":"GEN SUM(4)","index":3,"n_rows":49,"n_cols":16,"rows_kept":49,"cut":false,"hidden":false,"merged":[[0,0,0,15],[1,13,2,13],[1,14,2,14],[1,15,2,15],[1,10,2,10],[1,11,2,11],[1,12,2,12],[1,0,1,8]]}
["GENERAL SUMMARY"]
["SHEET NUMBER",null,null,null,null,null,null,null,null,"PART.","ITEM","ITEM\nEXT.","GRAND\nTOTAL","UNIT","DESCRIPTION","SEE SHEET NO."]
[5,6,7,9,11,12,14,16,null,"01/NFP/21"]
[]
[null,null,null,null,null,null,null,null,null,null,null,null,null,null,"TRAFFIC CONTROL"]
[]
[{"$f":"'ADA(5)'!G44","v":237.67},{"$f":"'BRO(6)'!G43","v":287.86},{"$f":"'HIG(7)'!G44","v":221.2},{"$f":"'JAC(9)'!G42","v":228.3},{"$f":"'LAW(11)'!G45","v":200.47},{"$f":"'PIK(12)'!G42","v":147.93},{"$f":"'ROS(14)'!G40","v":237.06},{"$f":"'SCI(16)'!G42","v":296.87},null,{"$f":"SUM(A7:I7)","v":1857.3600000000001},"642","00104",{"$f":"J7","v":1857.3600000000001},"MILE","EDGE LINE, 6\", TYPE 1"]
[{"$f":"'ADA(5)'!I44","v":22.49},{"$f":"'BRO(6)'!I43","v":23.23},{"$f":"'HIG(7)'!I44","v":0.7},{"$f":"'JAC(9)'!I42","v":44.78},{"$f":"'LAW(11)'!I45","v":22.87},{"$f":"'PIK(12)'!I42","v":10.02},{"$f":"'ROS(14)'!I40","v":71.010000000000005},{"$f":"'SCI(16)'!I42","v":18.87},null,{"$f":"SUM(A8:I8)","v":213.97000000000003},"642","00204",{"$f":"J8","v":213.97000000000003},"MILE","LANE LINE, 6\", TYPE 1"]
[{"$f":"'ADA(5)'!J44","v":97.48},{"$f":"'BRO(6)'!J43","v":137.09},{"$f":"'HIG(7)'!J44","v":111.97},{"$f":"'JAC(9)'!J42","v":65.27},{"$f":"'LAW(11)'!J45","v":74.13},{"$f":"'PIK(12)'!J42","v":70.260000000000005},{"$f":"'ROS(14)'!J40","v":62.34},{"$f":"'SCI(16)'!J42","v":134.69999999999999},null,{"$f":"SUM(A9:I9)","v":753.24},"642","00300",{"$f":"J9","v":753.24},"MILE","CENTER LINE, TYPE 1"]
[{"$f":"'ADA(5)'!L44","v":12839},{"$f":"'BRO(6)'!L43","v":1103},{"$f":"'HIG(7)'!L44","v":0},{"$f":"'JAC(9)'!L42","v":5240.7999999999993},{"$f":"'LAW(11)'!L45","v":6271},{"$f":"'PIK(12)'!L42","v":0},{"$f":"'ROS(14)'!L40","v":10958},{"$f":"'SCI(16)'!L42","v":250},null,{"$f":"SUM(A10:I10)","v":36661.800000000003},"642","01510",{"$f":"J10","v":36661.800000000003},"FT","DOTTED LINE, 6\", TYPE 1"]
[{"$f":"'ADA(5)'!N44","v":0},{"$f":"'BRO(6)'!N43","v":0},{"$f":"'HIG(7)'!N44","v":0},{"$f":"'JAC(9)'!N42","v":5283.24},{"$f":"'LAW(11)'!N45","v":1500},{"$f":"'PIK(12)'!N42","v":0},{"$f":"'ROS(14)'!N40","v":0},{"$f":"'SCI(16)'!N42","v":0},null,{"$f":"SUM(A11:I11)","v":6783.24},"642","01560",6783.24,"FT","DOTTED LINE, 12\", TYPE 1"]
[]
[null,null,null,null,null,null,null,null,null,1,"642","20000","LUMP",null,"TWO-WAY RADIO EQUIPMENT"]
[]
[null,null,null,null,null,null,null,null,null,null,null,null,null,null,"INCIDENTALS"]
[]
[null,null,null,null,null,null,null,null,null,1,"614","11000","LUMP",null,"MAINTAINING TRAFFIC"]
[null,null,null,null,null,null,null,null,null,1,"624","10000","LUMP",null,"MOBILIZATION"]
[]
[]
[]
[]
[]
[]
[]
[]
[]
[]
[]
[]
[]
[]
[]
[]
[]
[]
[]
[]
[]
[null,null,null,null,null,null,null,null,null,null,null,null,{"$f":"SUM(A40:I40)","v":0}]
[null,null,null,null,null,null,null,null,null,null,null,null,0]
[null,null,null,null,null,null,null,null,null,null,null,null,0]
[null,null,null,null,null,null,null,null,null,null,null,null,0]
[null,null,null,null,null,null,null,null,null,null,null,null,0]
[null,null,null,null,null,null,null,null,null,null,null,null,0]
[null,null,null,null,null,null,null,null,null,null,null,null,0]
[null,null,null,null,null,null,null,null,null,null,null,null,0]
[null,null,null,null,null,null,null,null,null,null,null,null,0]
[null,null,null,null,null,null,null,null,null,null,null,null,0]

{"sheet":"ADA(5)","index":4,"n_rows":44,"n_cols":16,"rows_kept":44,"cut":false,"hidden":false,"merged":[[2,6,5,7],[2,15,7,15],[43,11,43,12],[2,8,6,8],[0,0,0,15],[1,0,7,0],[42,0,42,5],[43,0,43,5],[43,6,43,7],[2,11,5,12],[1,3,6,4],[1,5,7,5],[1,6,1,14],[2,13,5,14],[1,2,7,2],[1,1,7,1],[2,9,5,10],[6,10,7,10]]}
["PAVEMENT MARKING SUBSUMMARY - ADAMS COUNTY"]
["COUNTY","RTE TYPE","ROUTE","SLM",null,"LOCATION DESCRIPTION\n[CL = COUNTY LINE]\n[* CORP = CORPORATION LIMIT]\n[PB*O=PAVEMENT BREAK * OF]\n*=(EAST/WEST/NORTH/SOUTH)",642]
[null,null,null,null,null,null,"EDGE LINE, 6\", TYPE 1",null,"LANE LINE, 6\", TYPE 1 ","CENTER LINE, TYPE 1",null,"DOTTED LINE, 6\", TYPE 1",null,"DOTTED LINE, 12\", TYPE 1",null,"REMARKS\n[EL = EDGE LINE]"]
[]
[]
[]
[null,null,null,null,null,null,"WHITE","YELLOW",null,null,"EQUIV. SOLID MILE","WHITE","YELLOW","WHITE"]
[null,null,null,"FROM","TO",null,"MILE","MILE","MILE","MILE",null,"FT","FT","FT"]
[]
["ADA","SR",32,0,6.73,"BRO CL TO PBEO CR 14A",{"$f":"(E10-D10)*2","v":13.46},{"$f":"(E10-D10)*2","v":13.46},{"$f":"(E10-D10)*2","v":13.46},null,null,2894,9945]
["ADA","SR",32,19.850000000000001,24.847999999999999,"PBWO SR 73 TO PIK CL",{"$f":"(E11-D11)*2-0.97","v":9.0259999999999945},{"$f":"(E11-D11)*2-0.97","v":9.0259999999999945},{"$f":"(E11-D11)*2-0.97","v":9.0259999999999945},null,null,null,null,null,null,"SKIP SR 32 WB (23.67-24.64)"]
["ADA","SR",41,0,7.46,"BRO CL TO PBSO SR 136",{"$f":"(E12-D12)*2","v":14.92},null,null,{"$f":"E12-D12","v":7.46},11.72]
["ADA","SR",41,25.509,34.46,"PEEBLES S. CORP TO HIG CL",{"$f":"(E13-D13-0.559)*2","v":16.784000000000002},null,null,8.9510000000000005,15.34,null,null,null,null,"NO EL (26.017-26.576)"]
["ADA","US",52,0,8.27,"BRO CL TO MANCHESTER E. CORP",{"$f":"(E14-D14-0.22)*2","v":16.099999999999998},null,null,8.27,11.539,null,null,null,null,"NO EL (7.453-7.673)"]
[]
["ADA","US",52,16.14,29.263999999999999,"PBWO TR 29 TO PIK CL",26.247999999999998,null,null,13.123999999999999,13.81]
["ADA","SR",73,0,7.6429999999999998,"HIG CL TO SR 41",15.286,null,null,7.6429999999999998,13.526]
["ADA","SR",73,7.9029999999999996,15.58,"SR 41 TO SCI CL",15.354000000000001,null,null,7.6770000000000005,15.353999999999999]
["ADA","SR",125,4.9000000000000004,8.44,"SR 136 TO SR 41",7.0799999999999983,null,null,3.5399999999999991,6.0380000000000003]
["ADA","SR",125,14.71,26.07,"PBEO OF SR 348 TO SCI CL",22.72,null,null,11.36,17.434000000000001]
[]
["ADA","SR",136,0,4.3390000000000004,"US 52 TO SR 41",8.6780000000000008,null,null,4.3390000000000004,6.3810000000000002]
["ADA","SR",136,5.867,18.95,"SR 41 TO PBSO SR 32",26.165999999999997,null,null,13.082999999999998,20.134]
["ADA","SR",247,17.12,18.170000000000002,"SR 32 TO SEAMAN N. CORP",{"$f":"((E24-D24)*2)-0.253-0.457","v":1.3900000000000012},null,null,1.0500000000000007,1.871,null,null,null,null,"NO EL (17.249-17.706 RT),\n(17.917-18.170 RT)"]
["ADA","SR",781,0,10.987,"SR 41 TO SR 348",21.974,null,null,10.987,20.099]
[]
[]
[]
[]
[]
[]
[]
[]
[]
[]
[]
[]
[]
[]
[]
[]
[]
["SHEET TOTALS",null,null,null,null,null,{"$f":"SUM(G9:G42)","v":215.18599999999998},{"$f":"SUM(H9:H42)","v":22.485999999999997},22.485999999999997,97.483999999999995,153.24600000000001,2894,9945,0]
["TOTALS CARRIED TO GENERAL SUMMARY",null,null,null,null,null,{"$f":"ROUND(G43+H43,2)","v":237.67},null,{"$f":"ROUND(I43,2)","v":22.49},{"$f":"ROUND(J43,2)","v":97.48},null,{"$f":"ROUNDUP(L43+M43,0)","v":12839},null,{"$f":"N43","v":0}]

{"sheet":"BRO(6)","index":5,"n_rows":43,"n_cols":16,"rows_kept":43,"cut":false,"hidden":false,"merged":[[0,0,0,15],[1,0,7,0],[1,1,7,1],[1,2,7,2],[1,3,6,4],[1,5,7,5],[1,6,1,14],[2,6,5,7],[2,8,6,8],[2,9,5,10],[2,11,5,12],[2,13,5,14],[2,15,7,15],[6,10,7,10],[41,0,41,5],[42,0,42,5],[42,6,42,7],[42,11,42,12],[36,0,39,5]]}
["PAVEMENT MARKING SUBSUMMARY - BROWN COUNTY"]
["COUNTY","RTE TYPE","ROUTE","SLM",null,"LOCATION DESCRIPTION\n[CL = COUNTY LINE]\n[* CORP = CORPORATION LIMIT]\n[PB*O=PAVEMENT BREAK * OF]\n*=(EAST/WEST/NORTH/SOUTH)",642]
[null,null,null,null,null,null,"EDGE LINE, 6\", TYPE 1",null,"LANE LINE, 6\", TYPE 1 ","CENTER LINE, TYPE 1",null,"DOTTED LINE, 6\", TYPE 1",null,"DOTTED LINE, 12\", TYPE 1",null,"REMARKS\n[EL = EDGE LINE]"]
[]
[]
[]
[null,null,null,null,null,null,"WHITE","YELLOW",null,null,"EQUIV. SOLID MILE","WHITE","YELLOW","WHITE"]
[null,null,null,"FROM","TO",null,"MILE","MILE","MILE","MILE",null,"FT","FT","FT"]
[]
["BRO","SR",32,15.29,19.829999999999998,"PBEO TR 172 TO ADA CL",{"$f":"(E10-D10)*2","v":9.0799999999999983},{"$f":"(E10-D10)*2","v":9.0799999999999983},{"$f":"(E10-D10)*2","v":9.0799999999999983},null,null,316,787]
["BRO","US",50,5.2729999999999997,8.3740000000000006,"E. FAYETTEVILE CORP TO HIG CL",{"$f":"(E11-D11)*2","v":6.2020000000000017},null,null,{"$f":"E11-D11","v":3.1010000000000009},2.1680000000000001]
["BRO","US",52,0,19.943999999999999,"CLE CL TO ELM ST. (ABERDEEN)",{"$f":"(E12-D12-0.453-1.359)*2","v":36.263999999999996},null,null,{"$f":"E12-D12","v":19.943999999999999},19.05,null,null,null,null,"NO EL (4.488-4.941),(11.839-13.198)"]
["BRO","US",52,19.943999999999999,20.86,"ELM ST. TO US 62",null,null,{"$f":"(E13-D13)*2","v":1.8320000000000007},{"$f":"E13-D13","v":0.91600000000000037},1.8320000000000001]
["BRO","US",52,20.86,23.73,"US 62 TO ADA CL",{"$f":"(E14-D14)*2","v":5.740000000000002},null,null,{"$f":"E14-D14","v":2.870000000000001},2.0019999999999998]
[]
["BRO","US",62,8.3810000000000002,13.837,"US 52 TO US 68",{"$f":"(E16-D16)*2","v":10.911999999999999},{"$f":"(E16-D16)*2","v":10.911999999999999},{"$f":"(E16-D16)*2","v":10.911999999999999}]
["BRO","RA",8004,0,0.217,"US 62 NB SLIPRAMP",{"$f":"(E17-D17)","v":0.217},{"$f":"E17-D17","v":0.217}]
["BRO","US",62,13.837,30.45,"US 68 TO HIG CL",{"$f":"(E18-D18-0.175)*2","v":32.875999999999998},null,null,16.613,26.091000000000001,null,null,null,null,"NO EL (18.288-18.463)"]
["BRO","US",68,11.673,12.09,"US 62 TO 4/2 LANE TRANSITION",{"$f":"(E19-D19)*2","v":0.83399999999999963},{"$f":"(E19-D19)*2","v":0.83399999999999963},{"$f":"(E19-D19)*2","v":0.83399999999999963}]
["BRO","US",68,12.09,17.68,"4/2 LANE TRANS. TO PBNO SR 125",11.18,null,null,5.59,3.8980000000000001]
[]
["BRO","US",68,22.55,45.88,"PBNO TR 21 TO CLI CL",{"$f":"((E22-D22-0.151)*2)-0.071","v":46.287000000000006},null,null,23.330000000000002,29.873000000000001,null,null,null,null,"NO EL (29.906-29.977 LT),\n(29.977-30.128)"]
["BRO","SR",125,8.5399999999999991,8.77,"PBWO SR 221 TO 4/3 LANE TRANS.",{"$f":"(E23-D23)*2","v":0.46000000000000085},{"$f":"(E23-D23)*2","v":0.46000000000000085},{"$f":"(E23-D23)*2","v":0.46000000000000085}]
["BRO","SR",125,8.77,8.94,"4/3/2 LANE TRANSITION",null,{"$f":"0.105*2","v":0.21},0.113,6.5000000000000002E-2,0.13]
["BRO","SR",125,8.94,10.839,"3/2 LANE TRANS. TO SR 125",{"$f":"(E25-D25-0.192)*2","v":3.4140000000000019},null,null,1.8990000000000009,3.9820000000000002,null,null,null,null,"NO EL (8.940-9.132)"]
["BRO","SR",125,11.859,22.93,"US 68 TO ADA CL",{"$f":"((E26-D26-0.069)*2)-0.043","v":21.960999999999999},null,null,11.071,19.54,null,null,null,null,"NO EL (15.778-15.847),\n(15.847-15.890 RT)"]
[]
["BRO","SR",131,0,7.7569999999999997,"CLE CL TO HIG CL",15.513999999999999,null,null,7.7569999999999997,9.4260000000000002]
["BRO","SR",221,0,7.992,"US 52 TO SR 125",{"$f":"((E29-D29)*2)-0.047","v":15.936999999999999},null,null,7.992,15.756,null,null,null,null,"NO EL (7.945-7.992 LT)"]
["BRO","SR",251,0,4.01,"US 50 TO CLI CL",8.02,null,null,4.01,5.74]
["BRO","SR",286,0,8.3059999999999992,"CLE CL TO HIG CL",16.611999999999998,null,null,8.3059999999999992,6.0170000000000003]
["BRO","SR",763,0,12.7,"SR 41 TO SR 125",{"$f":"(0.209+0.04+0.155+0.285+0.08+0.145+0.02+0.125+0.034+0.114+0.06+0.06+0.028+0.035)*2","v":2.7800000000000007},null,null,12.7,25.335999999999999,null,null,null,null,"EL ONLY AT SPOT LOCATIONS**"]
[]
["BRO","SR",774,0,10.93,"CLE CL TO US 68",21.86,null,null,10.93,13.044]
[]
[]
["**SR 763 EDGE LINE LOCATIONS:\n(0.000-0.209)(0.569-0.609)(0.644-0.799)(0.839-1.124)(1.184-1.264)\n(1.399-1.544)(2.840-2.860)(4.115-4.240)(6.112-6.146)(8.163-8.277)\n(9.864-9.924) (11.439-11.489)(11.542-11.570)(11.850-11.885)"]
[]
[]
[]
[]
["SHEET TOTALS",null,null,null,null,null,{"$f":"SUM(G9:G41)","v":266.15000000000003},21.712999999999997,23.230999999999998,137.09400000000002,183.88500000000002,316,787,0]
["TOTALS CARRIED TO GENERAL SUMMARY",null,null,null,null,null,{"$f":"ROUND(G42+H42,2)","v":287.86},null,{"$f":"ROUND(I42,2)","v":23.23},{"$f":"ROUND(J42,2)","v":137.09},null,{"$f":"ROUNDUP(L42+M42,0)","v":1103},null,{"$f":"N42","v":0}]

{"sheet":"HIG(7)","index":6,"n_rows":44,"n_cols":16,"rows_kept":44,"cut":false,"hidden":false,"merged":[[0,0,0,15],[1,0,7,0],[1,1,7,1],[1,2,7,2],[1,3,6,4],[1,5,7,5],[1,6,1,14],[2,6,5,7],[2,8,6,8],[2,9,5,10],[2,11,5,12],[2,13,5,14],[2,15,7,15],[6,10,7,10],[42,0,42,5],[43,0,43,5],[43,6,43,7],[43,11,43,12]]}
["PAVEMENT MARKING SUBSUMMARY - HIGHLAND COUNTY"]
["COUNTY","RTE TYPE","ROUTE","SLM",null,"LOCATION DESCRIPTION\n[CL = COUNTY LINE]\n[* CORP = CORPORATION LIMIT]\n[PB*O=PAVEMENT BREAK * OF]\n*=(EAST/WEST/NORTH/SOUTH)",642]
[null,null,null,null,null,null,"EDGE LINE, 6\", TYPE 1",null,"LANE LINE, 6\", TYPE 1 ","CENTER LINE, TYPE 1",null,"DOTTED LINE, 6\", TYPE 1",null,"DOTTED LINE, 12\", TYPE 1",null,"REMARKS\n[EL = EDGE LINE]\n[TWLT = TWO WAY LEFT TURN]"]
[]
[]
[]
[null,null,null,null,null,null,"WHITE","YELLOW",null,null,"EQUIV. SOLID MILE","WHITE","YELLOW","WHITE"]
[null,null,null,"FROM","TO",null,"MILE","MILE","MILE","MILE",null,"FT","FT","FT"]
[]
["HIG","US",50,18.27,28.488,"PBWO TR 383 TO ROS CL",{"$f":"(E10-D10)*2","v":20.436},null,null,{"$f":"E10-D10","v":10.218},14.092000000000001]
["HIG","US",62,0,10.37,"BRO CL TO PBSO CR 97",{"$f":"(E11-D11)*2","v":20.74},null,null,{"$f":"E11-D11","v":10.37},10.968]
["HIG","SR",28,0,7.27,"CLI CL TO EAST ST (LEESBURG)",{"$f":"(E12-D12-0.613)*2","v":13.314},null,null,{"$f":"E12-D12","v":7.27},9.8529999999999998,null,null,null,null,"NO EL (6.488-7.101)"]
["HIG","SR",28,15.43,16.920000000000002,"GREENFIELD W. CORP TO ROS CL",{"$f":"(E13-D13-1.112)*2","v":0.75600000000000378},null,null,{"$f":"E13-D13+0.187","v":1.677000000000002},3.3109999999999999,null,null,null,null,"NO EL (15.673-16.785),\nTWLT (16.618-16.805)"]
["HIG","SR",32,0,0.35,"BRO CL TO BRO CL",{"$f":"(E14-D14)*2","v":0.7},{"$f":"(E14-D14)*2","v":0.7},{"$f":"(E14-D14)*2","v":0.7}]
[]
["HIG","SR",41,1.1299999999999999,1.88,"SINKING SPRING S CORP TO N CORP",{"$f":"(E16-D16)*2","v":1.5},null,null,{"$f":"E16-D16","v":0.75},1.36]
["HIG","SR",124,0,8.77,"CLI CL TO HILLSBORO N. CORP",{"$f":"(E17-D17)*2","v":17.54},null,null,{"$f":"E17-D17","v":8.77},14.09]
["HIG","SR",124,10.99,25.844999999999999,"HILLSBORO S. CORP TO SR 41",{"$f":"(E18-D18)*2","v":29.709999999999997},null,null,{"$f":"E18-D18","v":14.854999999999999},24.584]
["HIG","SR",124,26.855,27.19,"SR 41 TO PIK CL",{"$f":"(E19-D19)*2","v":0.67000000000000171},null,null,{"$f":"E19-D19","v":0.33500000000000085},0.23300000000000001]
["HIG","SR",131,0,7.0860000000000003,"BRO CL TO SR 138",{"$f":"(E20-D20)*2","v":14.172000000000001},null,null,{"$f":"E20-D20","v":7.0860000000000003},7.7130000000000001]
[]
["HIG","SR",135,0,2.8220000000000001,"US 50 TO SR 134",{"$f":"(E22-D22-0.16)*2","v":5.3239999999999998},null,null,{"$f":"E22-D22","v":2.8220000000000001},3.5870000000000002,null,null,null,null,"NO EL (2.505-2.665)"]
["HIG","SR",136,0,7.1959999999999997,"ADA CL TO US 62",{"$f":"(E23-D23)*2","v":14.391999999999999},null,null,{"$f":"E23-D23","v":7.1959999999999997},12.686]
["HIG","SR",138,7.03,14.22,"PBSO SR 131 - HILLSBORO W CORP",{"$f":"(E24-D24)*2","v":14.38},null,null,{"$f":"E24-D24","v":7.19},11.005000000000001]
["HIG","SR",138,16.91,32.479999999999997,"HILLSBORO E CORP TO SR 753",{"$f":"(E25-D25)*2","v":31.139999999999993},null,null,{"$f":"E25-D25","v":15.569999999999997},26.196999999999999]
["HIG","SR",286,0,1.36,"BRO CL TO SR 134",{"$f":"(E26-D26)*2","v":2.72},null,null,{"$f":"E26-D26","v":1.36},1.266]
[]
["HIG","SR",506,0,4.3369999999999997,"SR 124 TO SR 753",{"$f":"(E28-D28)*2","v":8.6739999999999995},null,null,{"$f":"E28-D28","v":4.3369999999999997},7.1050000000000004]
["HIG","SR",753,0,7.0949999999999998,"SR 41 TO US 50",{"$f":"(E29-D29)*2","v":14.19},null,null,{"$f":"E29-D29","v":7.0949999999999998},13.177]
["HIG","SR",753,8.0269999999999992,13.1,"US 50 TO BRIDGE S. OF CR 25",{"$f":"(E30-D30)*2","v":10.146000000000001},null,null,{"$f":"E30-D30","v":5.0730000000000004},7.9450000000000003]
[]
[]
[]
[]
[]
[]
[]
[]
[]
[]
[]
[]
["SHEET TOTALS",null,null,null,null,null,{"$f":"SUM(G9:G42)","v":220.50400000000002},{"$f":"SUM(H9:H42)","v":0.7},0.7,111.97399999999999,169.17199999999997,0,0,0]
["TOTALS CARRIED TO GENERAL SUMMARY",null,null,null,null,null,{"$f":"ROUND(G43+H43,2)","v":221.2},null,{"$f":"ROUND(I43,2)","v":0.7},{"$f":"ROUND(J43,2)","v":111.97},null,{"$f":"ROUNDUP(L43+M43,0)","v":0},null,{"$f":"N43","v":0}]

{"sheet":"JAC(8)","index":7,"n_rows":45,"n_cols":16,"rows_kept":45,"cut":false,"hidden":false,"merged":[[0,0,0,15],[1,0,7,0],[1,1,7,1],[1,2,7,2],[1,3,6,4],[1,5,7,5],[1,6,1,14],[2,6,5,7],[2,8,6,8],[2,9,5,10],[2,11,5,12],[2,13,5,14],[2,15,7,15],[6,10,7,10],[43,0,43,5],[44,0,44,5],[44,6,44,7],[44,11,44,12]]}
["PAVEMENT MARKING SUBSUMMARY - JACKSON COUNTY"]
["COUNTY","RTE TYPE","ROUTE","SLM",null,"LOCATION DESCRIPTION\n[CL = COUNTY LINE]\n[* CORP = CORPORATION LIMIT]\n[PB*O=PAVEMENT BREAK * OF]\n*=(EAST/WEST/NORTH/SOUTH)",642]
[null,null,null,null,null,null,"EDGE LINE, 6\", TYPE 1",null,"LANE LINE, 6\", TYPE 1 ","CENTER LINE, TYPE 1",null,"DOTTED LINE, 6\", TYPE 1",null,"DOTTED LINE, 12\", TYPE 1",null,"REMARKS\n[LL = LANE LINE]"]
[]
[]
[]
[null,null,null,null,null,null,"WHITE","YELLOW",null,null,"EQUIV. SOLID MILE","WHITE","YELLOW","WHITE"]
[null,null,null,"FROM","TO",null,"MILE","MILE","MILE","MILE",null,"FT","FT","FT"]
[]
["JAC","US",35,11,18.920000000000002,"PBWO SR 93 TO PBWO SR 327",{"$f":"(E10-D10)*2","v":15.840000000000003},{"$f":"(E10-D10)*2","v":15.840000000000003},{"$f":"(E10-D10)*2","v":15.840000000000003},null,null,2316.25,1566.35,3486.24]
["JAC","RA",40007,0,0.14000000000000001,"(048800) 35/93 RAMP A",{"$f":"(E11-D11)","v":0.14000000000000001},{"$f":"(E11-D11)","v":0.14000000000000001}]
["JAC","RA",40004,0,0.21,"(048800) 35/93 RAMP C",{"$f":"(E12-D12)","v":0.21},{"$f":"(E12-D12)","v":0.21}]
["JAC","RA",40005,0,0.25,"(048800) 35/93 RAMP B",0.25,0.25]
["JAC","RA",40006,0,0.18,"(048800) 35/93 RAMP D",0.18,0.18]
[]
["JAC","RA",40012,0,0.28999999999999998,"(048900) 35/CR10 RAMP A",{"$f":"(E16-D16)","v":0.28999999999999998},{"$f":"(E16-D16)","v":0.28999999999999998}]
["JAC","RA",40008,0,0.11,"(048900) 35/CR10 RAMP B",0.11,0.11]
["JAC","RA",40009,0,0.35,"(048900) 35/CR10 RAMP C",0.35,0.35]
["JAC","RA",40010,0,0.15,"(048900) 35/CR10 RAMP D",0.15,0.15]
["JAC","RA",40011,0,0.01,"(048900) 35/CR10 RAMP E",0.01,0.01]
[]
["JAC","SR",32,10.01,24.46,"PBWO TR 261 TO VIN CL",{"$f":"(E22-D22)*2","v":28.900000000000002},{"$f":"(E22-D22)*2","v":28.900000000000002},{"$f":"(E22-D22)*2","v":28.900000000000002},null,null,1125.2,233,1797]
["JAC","RA",40029,0,0.15,"(049200) 32/93 RAMP A",{"$f":"(E23-D23)","v":0.15},{"$f":"(E23-D23)","v":0.15}]
["JAC","RA",40031,0,0.12,"(049200) 32/93 RAMP D",{"$f":"(E24-D24)","v":0.12},{"$f":"(E24-D24)","v":0.12}]
["JAC","RA",40028,0,0.15,"(049200) 32/93 RAMP C",0.15,0.15]
["JAC","RA",40030,0,0.14000000000000001,"(049200) 32/93 RAMP B",0.14000000000000001,0.14000000000000001]
[]
["JAC","RA",40019,0,0.32,"(049000) 32/35 RAMP B",0.32,0.32]
["JAC","RA",40013,0,0.37,"(049000) 32/35 RAMP H",0.37,0.37]
["JAC","RA",40014,0,7.0000000000000007E-2,"(049000) 32/35 RAMP L",7.0000000000000007E-2,7.0000000000000007E-2]
["JAC","RA",40020,0,0.05,"(049000) 32/35 RAMP I",0.05,0.05]
["JAC","RA",40018,0,0.05,"(049000) 32/35 RAMP K",0.05,0.05]
[]
["JAC","RA",40017,0,0.25,"(049000) 32/35 RAMP F",0.25,0.25]
["JAC","RA",40015,0,0.37,"(049000) 32/35 RAMP D",0.37,0.37]
["JAC","RA",40016,0,0.06,"(049000) 32/35 RAMP J",0.06,0.06]
["JAC","SR",124,16.792000000000002,17.087,"(049250) 32/124/327 RAMP C",0.29499999999999815,0.29499999999999815,3.9E-2,null,null,null,null,null,null,"LL (17.024-17.063)"]
["JAC","RA",40033,0,0.26300000000000001,"(049250) 32/124/327 RAMP D",0.26300000000000001,0.26300000000000001]
[]
["JAC","RA",40034,0,0.23799999999999999,"(049250) 32/124/327 RAMP B",0.23799999999999999,0.23799999999999999]
["JAC","RA",40032,0,0.221,"(049250) 32/124/327 RAMP A",0.221,0.221]
[]
[]
["SHEET TOTALS",null,null,null,null,null,{"$f":"SUM(G9:G43)","v":49.546999999999983},49.546999999999983,44.779000000000011,0,0,3441.45,1799.35,5283.24]
["TOTALS CARRIED TO SHEET 9",null,null,null,null,null,{"$f":"ROUND(G44+H44,2)","v":99.09},null,{"$f":"ROUND(I44,2)","v":44.78},{"$f":"ROUND(J44,2)","v":0},null,{"$f":"ROUNDUP(L44+M44,0)","v":5241},null,{"$f":"N44","v":5283.24}]

{"sheet":"JAC(9)","index":8,"n_rows":42,"n_cols":16,"rows_kept":42,"cut":false,"hidden":false,"merged":[[41,0,41,5],[41,6,41,7],[41,11,41,12],[2,11,5,12],[2,13,5,14],[2,15,7,15],[6,10,7,10],[39,0,39,5],[40,0,40,5],[0,0,0,15],[1,0,7,0],[1,1,7,1],[1,2,7,2],[1,3,6,4],[1,5,7,5],[1,6,1,14],[2,6,5,7],[2,8,6,8],[2,9,5,10]]}
["PAVEMENT MARKING SUBSUMMARY - JACKSON COUNTY"]
["COUNTY","RTE TYPE","ROUTE","SLM",null,"LOCATION DESCRIPTION\n[CL = COUNTY LINE]\n[* CORP = CORPORATION LIMIT]\n[PB*O=PAVEMENT BREAK * OF]\n*=(EAST/WEST/NORTH/SOUTH)",642]
[null,null,null,null,null,null,"EDGE LINE, 6\", TYPE 1",null,"LANE LINE, 6\", TYPE 1 ","CENTER LINE, TYPE 1",null,"DOTTED LINE, 6\", TYPE 1",null,"DOTTED LINE, 12\", TYPE 1",null,"REMARKS\n[EL = EDGE LINE]\n[CL = CENTERLINE]\n[TWLT = TWO WAY LEFT TURN]"]
[]
[]
[]
[null,null,null,null,null,null,"WHITE","YELLOW",null,null,"EQUIV. SOLID MILE","WHITE","YELLOW","WHITE"]
[null,null,null,"FROM","TO",null,"MILE","MILE","MILE","MILE",null,"FT","FT","FT"]
[]
["JAC","SR",93,4.7,14.34,"OAK HILL N CORP TO PBNO CR 11",{"$f":"(E10-D10)*2","v":19.28},null,null,{"$f":"(E10-D10)","v":9.64},15.282999999999999]
["JAC","SR",93,17.46,24.46,"JACKSON N CORP TO \nWELLSTON W CORP",{"$f":"(E11-D11-0.109)*2","v":13.782},{"$f":"0.123*2","v":0.246},null,{"$f":"(E11-D11)+0.085+0.089-0.123","v":7.0510000000000002},11.077999999999999,null,null,null,null,"DIVIDED CL (18.080-18.165),\n(18.288-18.377)\nNO CL/MEDIAN EL (18.165-18.288)\nNO EL (21.239-21.348)"]
["JAC","SR",124,17.087,23.97,"SR 32 EB RAMP TO VIN CL",{"$f":"(E12-D12)*2","v":13.765999999999998},null,null,{"$f":"(E12-D12)+0.277","v":7.1599999999999993},11.584,null,null,null,null,"TWLT (17.087-17.364)"]
["JAC","SR",139,0,11.35,"SCI CL TO PBNO TR 745",{"$f":"(E13-D13)*2","v":22.7},null,null,{"$f":"(E13-D13)","v":11.35},21.027000000000001]
["JAC","SR",233,0,4.37,"SR 93 TO GAL CL",{"$f":"(E14-D14-0.052)*2","v":8.636000000000001},null,null,4.37,6.1539999999999999,null,null,null,null,"NO EL (0.000-0.052)"]
[]
["JAC","SR",327,0,6.7469999999999999,"US 35 TO SR 124",13.494,null,null,6.7469999999999999,9.6969999999999992]
["JAC","SR",327,7.202,7.617,"SR 124 TO WELLSTON S. CORP",0.83000000000000007,null,null,{"$f":"(E17-D17)+0.304","v":0.71900000000000008},1.0049999999999999,null,null,null,null,"TWLT (7.313-7.617)"]
["JAC","SR",327,11.6,21.24,"WELLSTON N. CORP TO VIN CL",19.279999999999998,null,null,9.6399999999999988,16.515999999999998]
["JAC","SR",776,2.89,11.487,"PBNO CR 24 TO JACKSON W. CORP",{"$f":"(E19-D19)*2","v":17.193999999999999},null,null,{"$f":"(E19-D19)","v":8.5969999999999995},16.501000000000001]
[]
[]
[]
[]
[]
[]
[]
[]
[]
[]
[]
[]
[]
[]
[]
[]
[]
[]
[]
[]
["TOTALS FROM SHEET 8",null,null,null,null,null,{"$f":"'JAC(8)'!G44","v":49.546999999999983},{"$f":"'JAC(8)'!H44","v":49.546999999999983},{"$f":"'JAC(8)'!I44","v":44.779000000000011},{"$f":"'JAC(8)'!J44","v":0},null,{"$f":"'JAC(8)'!L44","v":3441.45},{"$f":"'JAC(8)'!M44","v":1799.35},{"$f":"'JAC(8)'!N44","v":5283.24}]
["SHEET TOTALS",null,null,null,null,null,{"$f":"SUM(G9:G39)","v":128.96199999999999},0.246,0,65.274000000000001,108.845,0,0,0]
["TOTALS CARRIED TO GENERAL SUMMARY",null,null,null,null,null,{"$f":"ROUND(SUM(G40:H41),2)","v":228.3},null,{"$f":"ROUND(SUM(I40:I41),2)","v":44.78},{"$f":"ROUND(SUM(J40:J41),2)","v":65.27},null,{"$f":"SUM(L40:M41)","v":5240.7999999999993},null,{"$f":"SUM(N40:N41)","v":5283.24}]

{"sheet":"LAW(10)","index":9,"n_rows":45,"n_cols":16,"rows_kept":45,"cut":false,"hidden":false,"merged":[[0,0,0,15],[1,0,7,0],[1,1,7,1],[1,2,7,2],[1,3,6,4],[1,5,7,5],[1,6,1,14],[2,6,5,7],[2,8,6,8],[2,9,5,10],[2,11,5,12],[2,13,5,14],[2,15,7,15],[6,10,7,10],[43,0,43,5],[44,0,44,5],[44,6,44,7],[44,11,44,12]]}
["PAVEMENT MARKING SUBSUMMARY - LAWRENCE COUNTY"]
["COUNTY","RTE TYPE","ROUTE","SLM",null,"LOCATION DESCRIPTION\n[CL = COUNTY LINE]\n[* CORP = CORPORATION LIMIT]\n[PB*O=PAVEMENT BREAK * OF]\n*=(EAST/WEST/NORTH/SOUTH)",642]
[null,null,null,null,null,null,"EDGE LINE, 6\", TYPE 1",null,"LANE LINE, 6\", TYPE 1 ","CENTER LINE, TYPE 1",null,"DOTTED LINE, 6\", TYPE 1",null,"DOTTED LINE, 12\", TYPE 1",null,"REMARKS"]
[]
[]
[]
[null,null,null,null,null,null,"WHITE","YELLOW",null,null,"EQUIV. SOLID MILE","WHITE","YELLOW","WHITE"]
[null,null,null,"FROM","TO",null,"MILE","MILE","MILE","MILE",null,"FT","FT","FT"]
[]
["LAW","US",52,2.17,5,"PBWO TR 1117 TO PBEO TR 277",{"$f":"(E10-D10)*2","v":5.66},{"$f":"(E10-D10)*2","v":5.66},{"$f":"(E10-D10)*2","v":5.66},null,null,1500,2500,1500]
["LAW","SR",650,0,0.19,"(054100) 52/650 RAMP A",{"$f":"(E11-D11)","v":0.19},{"$f":"(E11-D11)","v":0.19}]
["LAW","RA",44019,0,0.08,"(054100) 52/650 RAMP B",{"$f":"(E12-D12)","v":0.08},{"$f":"(E12-D12)","v":0.08}]
["LAW","RA",44020,0,0.12,"(054100) 52/650 RAMP C",0.12,0.12]
["LAW","RA",44018,0,0.1,"(054100) 52/650 RAMP D",0.1,0.1]
[]
["LAW","US",52,18,22.038,"PBEO CR 18 TO SR 7",{"$f":"((E16-D16)*2)+0.121","v":8.197000000000001},{"$f":"((E16-D16)*2)+0.121","v":8.197000000000001},{"$f":"(E16-D16)*2","v":8.0760000000000005},null,null,1186,920,null,null,"MERGE LANE (20.361-20.482)"]
["LAW","RA",44011,0,0.47,"(054700) 52/7 RAMP B",{"$f":"(E17-D17)","v":0.47},{"$f":"(E17-D17)","v":0.47}]
["LAW","US",52,22.038,22.442,"(054700) 52/7 RAMP A",{"$f":"(E18-D18)","v":0.40399999999999991},{"$f":"(E18-D18)","v":0.40399999999999991}]
["LAW","RA",44010,0,0.11,"(054700) 52/7 RAMP C",0.11,0.11]
["LAW","RA",44012,0,0.26,"(054700) 52/7 RAMP D",0.26,0.26]
[]
["LAW","US",52,22.442,22.545000000000002,"INTERCHANGE TO OHIO RIVER BRDG",{"$f":"(E22-D22)*2","v":0.20600000000000307},{"$f":"(E22-D22-0.02)*2","v":0.16600000000000306},0.115,0.04,0.08]
["LAW","SR",7,0,2.44,"US 52 TO DEAD END",{"$f":"(E23-D23)*2","v":4.88},{"$f":"(E23-D23)*2","v":4.88},{"$f":"(E23-D23)*2","v":4.88}]
["LAW","RA",44029,0,0.41,"(054800) 7/CR1 RAMP E",{"$f":"(E24-D24)","v":0.41},{"$f":"(E24-D24)","v":0.41}]
["LAW","RA",44014,0,0.13,"(054900) 7/527 RAMP A",0.13,0.13]
["LAW","RA",44015,0,0.4,"(054900) 7/527 RAMP C",0.4,0.4]
[]
["LAW","RA",44013,0,0.41,"(054900) 7/527 RAMP B",{"$f":"(E28-D28)","v":0.41},{"$f":"(E28-D28)","v":0.41}]
["LAW","SR",93,1.53,3.141,"IRONTON N CORP TO 4/2 TRANSITION",{"$f":"(E29-D29)*2","v":3.222},{"$f":"(E29-D29)*2","v":3.222},{"$f":"(E29-D29)*2","v":3.222}]
["LAW","SR",93,3.141,11.77,"4/2 LANE TRANS. TO PBSO SR 373",{"$f":"(E30-D30)*2","v":17.257999999999999},null,null,{"$f":"(E30-D30)","v":8.6289999999999996},14.997999999999999]
["LAW","SR",93,21.52,28.2,"PBNO TR 238 TO LAW CL",{"$f":"(E31-D31)*2","v":13.36},null,null,{"$f":"(E31-D31)","v":6.68},8.7149999999999999]
["LAW","SR",140,0,1.68,"PIK CL TO JAC CL",3.36,null,null,1.68,3.1549999999999998]
[]
["LAW","SR",141,0.97,8.43,"IRONTON N CORP TO PBSO SR 217",14.92,null,null,7.46,14.55,165,null,null,null,"DOTTED LINE AT CR 7 (2.546)"]
["LAW","SR",217,0,17.53,"SR 141 TO SR 7",35.06,null,null,17.53,34.189]
["LAW","SR",218,0,2.42,"SR 217 TO GAL CL",4.84,null,null,2.42,4.83]
["LAW","SR",243,0.42,11.59,"PBEO US 52 TO SR 378",22.34,null,null,11.17,22.184000000000001]
[]
[]
[]
[]
[]
[]
["SHEET TOTALS",null,null,null,null,null,{"$f":"SUM(G9:G43)","v":136.387},25.209000000000003,21.953000000000003,55.609000000000009,102.70100000000001,2851,3420,1500]
["TOTALS CARRIED TO SHEET 11",null,null,null,null,null,{"$f":"ROUND(G44+H44,2)","v":161.6},null,{"$f":"ROUND(I44,2)","v":21.95},{"$f":"ROUND(J44,2)","v":55.61},null,{"$f":"ROUNDUP(L44+M44,0)","v":6271},null,{"$f":"N44","v":1500}]

{"sheet":"LAW(11)","index":10,"n_rows":45,"n_cols":16,"rows_kept":45,"cut":false,"hidden":false,"merged":[[2,15,7,15],[6,10,7,10],[42,0,42,5],[43,0,43,5],[0,0,0,15],[1,0,7,0],[1,1,7,1],[1,2,7,2],[1,3,6,4],[1,5,7,5],[1,6,1,14],[2,6,5,7],[2,8,6,8],[2,9,5,10],[44,0,44,5],[44,6,44,7],[44,11,44,12],[2,11,5,12],[2,13,5,14]]}
["PAVEMENT MARKING SUBSUMMARY - LAWRENCE COUNTY"]
["COUNTY","RTE TYPE","ROUTE","SLM",null,"LOCATION DESCRIPTION\n[CL = COUNTY LINE]\n[* CORP = CORPORATION LIMIT]\n[PB*O=PAVEMENT BREAK * OF]\n*=(EAST/WEST/NORTH/SOUTH)",642]
[null,null,null,null,null,null,"EDGE LINE, 6\", TYPE 1",null,"LANE LINE, 6\", TYPE 1 ","CENTER LINE, TYPE 1",null,"DOTTED LINE, 6\", TYPE 1",null,"DOTTED LINE, 12\", TYPE 1",null,"REMARKS\n[CL = CENTERLINE]"]
[]
[]
[]
[null,null,null,null,null,null,"WHITE","YELLOW",null,null,"EQUIV. SOLID MILE","WHITE","YELLOW","WHITE"]
[null,null,null,"FROM","TO",null,"MILE","MILE","MILE","MILE",null,"FT","FT","FT"]
[]
["LAW","SR",373,0,3.3540000000000001,"SR 93 TO SR 93",{"$f":"(E10-D10)*2","v":6.7080000000000002},null,null,{"$f":"(E10-D10)","v":3.3540000000000001},6.67]
["LAW","SR",527,8.1000000000000003E-2,0.54100000000000004,"OHIO RIVER BRDG TO INTERCHANGE",{"$f":"(E11-D11)*2","v":0.92},{"$f":"(E11-D11)*2","v":0.92},{"$f":"(E11-D11)*2","v":0.92}]
["LAW","SR",650,0.19,9.3439999999999994,"US 52 EB RAMPS TO SR 522",{"$f":"(E12-D12)*2","v":18.308},null,null,{"$f":"(E12-D12)","v":9.1539999999999999},17.829999999999998]
["LAW","SR",775,18.5,23.959,"PBNO TR 75 TO GAL CL",{"$f":"(E13-D13)*2","v":10.917999999999999},null,null,{"$f":"(E13-D13)","v":5.4589999999999996},9.9309999999999992]
["LAW","SR",790,0,0.55000000000000004,"SR 755 TO GAL CL",{"$f":"(E14-D14)*2","v":1.1000000000000001},null,null,{"$f":"(E14-D14)","v":0.55000000000000004},1.1000000000000001]
[]
[]
[]
[]
[]
[]
[]
[]
[]
[]
[]
[]
[]
[]
[]
[]
[]
[]
[]
[]
[]
[]
[]
[]
[]
[]
[]
[]
["TOTALS FROM SHEET 10",null,null,null,null,null,{"$f":"'LAW(10)'!G44","v":136.387},{"$f":"'LAW(10)'!H44","v":25.209000000000003},{"$f":"'LAW(10)'!I44","v":21.953000000000003},{"$f":"'LAW(10)'!J44","v":55.609000000000009},null,{"$f":"'LAW(10)'!L44","v":2851},{"$f":"'LAW(10)'!M44","v":3420},{"$f":"'LAW(10)'!N44","v":1500}]
["SHEET TOTALS",null,null,null,null,null,{"$f":"SUM(G9:G42)","v":37.954000000000001},0.92,0.92,18.516999999999999,35.530999999999999,0,0,0]
["TOTALS CARRIED TO GENERAL SUMMARY",null,null,null,null,null,{"$f":"ROUND(SUM(G43:H44),2)","v":200.47},null,{"$f":"ROUND(SUM(I43:I44),2)","v":22.87},{"$f":"ROUND(SUM(J43:J44),2)","v":74.13},null,{"$f":"SUM(L43:M44)","v":6271},null,{"$f":"SUM(N43:N44)","v":1500}]

{"sheet":"PIK(12)","index":11,"n_rows":42,"n_cols":16,"rows_kept":42,"cut":false,"hidden":false,"merged":[[0,0,0,15],[1,0,7,0],[1,1,7,1],[1,2,7,2],[1,3,6,4],[1,5,7,5],[1,6,1,14],[2,6,5,7],[2,8,6,8],[2,9,5,10],[2,11,5,12],[2,13,5,14],[2,15,7,15],[6,10,7,10],[40,0,40,5],[41,0,41,5],[41,6,41,7],[41,11,41,12]]}
["PAVEMENT MARKING SUBSUMMARY - PIKE COUNTY"]
["COUNTY","RTE TYPE","ROUTE","SLM",null,"LOCATION DESCRIPTION\n[CL = COUNTY LINE]\n[* CORP = CORPORATION LIMIT]\n[PB*O=PAVEMENT BREAK * OF]\n*=(EAST/WEST/NORTH/SOUTH)",642]
[null,null,null,null,null,null,"EDGE LINE, 6\", TYPE 1",null,"LANE LINE, 6\", TYPE 1 ","CENTER LINE, TYPE 1",null,"DOTTED LINE, 6\", TYPE 1",null,"DOTTED LINE, 12\", TYPE 1",null,"REMARKS\n[EL = EDGE LINE]\n[CL = CENTERLINE]\n[TWLT = TWO WAY LEFT TURN]"]
[]
[]
[]
[null,null,null,null,null,null,"WHITE","YELLOW",null,null,"EQUIV. SOLID MILE","WHITE","YELLOW","WHITE"]
[null,null,null,"FROM","TO",null,"MILE","MILE","MILE","MILE",null,"FT","FT","FT"]
[]
["PIK","US",23,8.3230000000000004,13.335000000000001,"SCIOTO RIVER BRDG TO PBSO TR413",{"$f":"(E10-D10)*2-1.401-1.247","v":7.3760000000000012},6.3159999999999998,{"$f":"(E10-D10)*2","v":10.024000000000001},3.2559999999999998,5.3319999999999999,null,null,null,null,"CENTER MARKS VARY BETWEEN\nSINGLE CL, DIVIDED CL, TWLT, & EL.\nNO WHITE EL (11.679-13.080 NB),\n(11.917-13.164 SB)"]
["PIK","SR",41,0,5.1829999999999998,"HIG CL TO ROS CL",{"$f":"(E11-D11)*2","v":10.366},null,null,{"$f":"(E11-D11)","v":5.1829999999999998},8.6430000000000007]
["PIK","SR",104,12.04,12.667,"WAVERLY S. CORP TO US 23",{"$f":"(E12-D12)*2","v":1.2540000000000013},null,null,{"$f":"(E12-D12)","v":0.62700000000000067},1.254]
["PIK","SR","104A",0,0.114,"SLIPRAMP - US 23 SB TO SR 104 SB",{"$f":"E13-D13","v":0.114},{"$f":"E13-D13","v":0.114}]
["PIK","SR",124,0,17.004000000000001,"HIG CL TO SR 32",{"$f":"(E14-D14)*2","v":34.008000000000003},null,null,{"$f":"(E14-D14)","v":17.004000000000001},31.056999999999999]
[]
["PIK","SR",220,13.42,13.99,"PBWO CR 78 TO SR 32",{"$f":"(E16-D16)*2","v":1.1400000000000006},null,null,{"$f":"(E16-D16)","v":0.57000000000000028},1.1399999999999999]
["PIK","SR",335,0,26.088999999999999,"SCI CL TO US 23",{"$f":"(E17-D17)*2","v":52.177999999999997},null,null,{"$f":"(E17-D17)","v":26.088999999999999},47.643999999999998]
["PIK","SR",551,2.76,2.8170000000000002,"PBWO SR 104 TO SR 104",0.11400000000000077,null,null,5.7000000000000384E-2,0.114]
["PIK","SR",552,0,1.748,"SR 220 TO SR 104",3.496,null,null,1.748,3.4359999999999999]
["PIK","SR",772,0,9.2989999999999995,"SCI CL TO SR 32",18.597999999999999,null,null,9.2989999999999995,17.524999999999999,null,null,null,null,"BREAKS 4 TIMES FOR SCI 772"]
[]
["PIK","SR",772,13.587,19,"SR 124 TO PBSO CR 37",10.826000000000001,null,null,5.4130000000000003,9.6240000000000006]
["PIK","SR","772A",0,2.1000000000000001E-2,"CONNECTING ROAD SR 124/SR 772",4.2000000000000003E-2,null,null,2.1000000000000001E-2,4.2000000000000003E-2]
["PIK","SR",776,0,0.99299999999999999,"SCI CL TO JAC CL",{"$f":"(E24-D24)*2","v":1.986},null,null,{"$f":"(E24-D24)","v":0.99299999999999999},1.1859999999999999]
[]
[]
[]
[]
[]
[]
[]
[]
[]
[]
[]
[]
[]
[]
[]
[]
["SHEET TOTALS",null,null,null,null,null,{"$f":"SUM(G9:G40)","v":141.49799999999999},6.43,10.024000000000001,70.259999999999991,126.99700000000001,0,0,0]
["TOTALS CARRIED TO GENERAL SUMMARY",null,null,null,null,null,{"$f":"ROUND(G41+H41,2)","v":147.93},null,{"$f":"ROUND(I41,2)","v":10.02},{"$f":"ROUND(J41,2)","v":70.260000000000005},null,{"$f":"ROUNDUP(L41+M41,0)","v":0},null,{"$f":"N41","v":0}]

{"sheet":"ROS(13)","index":12,"n_rows":45,"n_cols":16,"rows_kept":45,"cut":false,"hidden":false,"merged":[[0,0,0,15],[1,0,7,0],[1,1,7,1],[1,2,7,2],[1,3,6,4],[1,5,7,5],[1,6,1,14],[2,6,5,7],[2,8,6,8],[2,9,5,10],[2,11,5,12],[2,13,5,14],[2,15,7,15],[6,10,7,10],[43,0,43,5],[44,0,44,5],[44,6,44,7],[44,11,44,12]]}
["PAVEMENT MARKING SUBSUMMARY - ROSS COUNTY"]
["COUNTY","RTE TYPE","ROUTE","SLM",null,"LOCATION DESCRIPTION\n[CL = COUNTY LINE]\n[* CORP = CORPORATION LIMIT]\n[PB*O=PAVEMENT BREAK * OF]\n*=(EAST/WEST/NORTH/SOUTH)",642]
[null,null,null,null,null,null,"EDGE LINE, 6\", TYPE 1",null,"LANE LINE, 6\", TYPE 1 ","CENTER LINE, TYPE 1",null,"DOTTED LINE, 6\", TYPE 1",null,"DOTTED LINE, 12\", TYPE 1",null,"REMARKS\n[TWLT = TWO WAY LEFT TURN]"]
[]
[]
[]
[null,null,null,null,null,null,"WHITE","YELLOW",null,null,"EQUIV. SOLID MILE","WHITE","YELLOW","WHITE"]
[null,null,null,"FROM","TO",null,"MILE","MILE","MILE","MILE",null,"FT","FT","FT"]
[]
["ROS","US",23,0,1.94,"PIK CL TO PBNO TR 199",{"$f":"(E10-D10)*2","v":3.88},null,{"$f":"(E10-D10)*2","v":3.88},{"$f":"(E10-D10)*2-0.061","v":3.819},4.82,null,null,null,null,"ALL TWLT EXCEPT (0.669-0.730)"]
["ROS","US",23,4.6399999999999997,10.97,"PBNO CR 60 TO PBSO SR 104",{"$f":"(E11-D11)*2","v":12.660000000000002},{"$f":"(E11-D11)*2","v":12.660000000000002},{"$f":"(E11-D11)*2+0.32","v":12.980000000000002},null,null,1020]
["ROS","SR",104,8.44,8.64,"(077700) 23/104 RAMP C",{"$f":"(E12-D12)","v":0.20000000000000107},{"$f":"(E12-D12)","v":0.20000000000000107}]
["ROS","RA",71026,0,0.14000000000000001,"(077700) 23/104 RAMP A",{"$f":"(E13-D13)","v":0.14000000000000001},{"$f":"(E13-D13)","v":0.14000000000000001}]
["ROS","RA",71027,0,0.31,"(077700) 23/104 RAMP D",0.31,0.31]
[]
["ROS","RA",71028,0,0.22,"(077700) 23/104 RAMP B",0.22,0.22]
["ROS","RA",71031,0,0.17,"(077800) 23/50 RAMP S",0.17,0.17]
["ROS","RA",71034,0,0.19,"(077800) 23/50 RAMP R",0.19,0.19]
["ROS","RA",71033,0,0.2,"(077800) 23/50 RAMP U",0.2,0.2]
["ROS","RA",71032,0,0.17,"(077800) 23/50 RAMP T",0.17,0.17]
[]
["ROS","US",35,4.38,20.56,"PBWO SR 138 TO US 23",{"$f":"(E22-D22)*2","v":32.36},{"$f":"(E22-D22)*2","v":32.36},{"$f":"(E22-D22)*2+0.48","v":32.839999999999996},null,null,7220]
["ROS","RA",71003,0,0.17,"(078100) 35/138 RAMP A",{"$f":"(E23-D23)","v":0.17},{"$f":"(E23-D23)","v":0.17}]
["ROS","RA",71000,0,0.17,"(078100) 35/138 RAMP D",{"$f":"(E24-D24)","v":0.17},{"$f":"(E24-D24)","v":0.17}]
["ROS","RA",71001,0,0.17,"(078100) 35/138 RAMP B",0.17,0.17]
["ROS","RA",71002,0,0.19,"(078100) 35/138 RAMP C",0.19,0.19]
[]
["ROS","RA",71007,0,0.16,"(078200) 35/CR87 RAMP E",0.16,0.16]
["ROS","RA",71004,0,0.16,"(078200) 35/CR87 RAMP H",0.16,0.16]
["ROS","RA",71005,0,0.18,"(078200) 35/CR87 RAMP F",0.18,0.18]
["ROS","RA",71006,0,0.16,"(078200) 35/CR87 RAMP G",0.16,0.16]
["ROS","RA",71040,0,0.31,"(078300) 35/CR550 RAMP L",0.31,0.31]
[]
["ROS","RA",71037,0,0.46,"(078300) 35/CR550 RAMP I",0.46,0.46]
["ROS","RA",71041,0,0.28000000000000003,"(078300) 35/CR550 RAMP K",0.28000000000000003,0.28000000000000003]
["ROS","RA",71036,0,0.55000000000000004,"(078300) 35/CR550 RAMP J",0.55000000000000004,0.55000000000000004]
["ROS","RA",71053,0,0.27,"(078350) 35/CR550/CR127 RAMP B",0.45,0.09,null,0.18,0.36]
["ROS","RA",71052,0,0.21,"(078350) 35/CR550/CR127 RAMP A",0.21,0.21]
[]
["ROS","RA",71016,0,0.11,"(078400) 35/104 RAMP A",0.11,0.11]
["ROS","RA",71013,0,0.19,"(078400) 35/104 RAMP D",0.19,0.19]
[]
[]
["SHEET TOTALS",null,null,null,null,null,{"$f":"SUM(G9:G43)","v":54.419999999999995},50.18,49.7,3.9990000000000001,5.1800000000000006,8240,0,0]
["TOTALS CARRIED TO SHEET 14",null,null,null,null,null,{"$f":"ROUND(G44+H44,2)","v":104.6},null,{"$f":"ROUND(I44,2)","v":49.7},{"$f":"ROUND(J44,2)","v":4},null,{"$f":"ROUNDUP(L44+M44,0)","v":8240},null,{"$f":"N44","v":0}]

{"sheet":"ROS(14)","index":13,"n_rows":40,"n_cols":16,"rows_kept":40,"cut":false,"hidden":false,"merged":[[0,0,0,15],[1,0,7,0],[1,1,7,1],[1,2,7,2],[1,3,6,4],[1,5,7,5],[1,6,1,14],[2,6,5,7],[2,8,6,8],[2,9,5,10],[2,11,5,12],[2,13,5,14],[2,15,7,15],[6,10,7,10],[38,0,38,5],[39,0,39,5],[39,6,39,7],[39,11,39,12],[37,0,37,5]]}
["PAVEMENT MARKING SUBSUMMARY - ROSS COUNTY"]
["COUNTY","RTE TYPE","ROUTE","SLM",null,"LOCATION DESCRIPTION\n[CL = COUNTY LINE]\n[* CORP = CORPORATION LIMIT]\n[PB*O=PAVEMENT BREAK * OF]\n*=(EAST/WEST/NORTH/SOUTH)",642]
[null,null,null,null,null,null,"EDGE LINE, 6\", TYPE 1",null,"LANE LINE, 6\", TYPE 1 ","CENTER LINE, TYPE 1",null,"DOTTED LINE, 6\", TYPE 1",null,"DOTTED LINE, 12\", TYPE 1",null,"REMARKS\n[EL = EDGE LINE]\n[CL = CENTERLINE]\n[TWLT = TWO WAY LEFT TURN]"]
[]
[]
[]
[null,null,null,null,null,null,"WHITE","YELLOW",null,null,"EQUIV. SOLID MILE","WHITE","YELLOW","WHITE"]
[null,null,null,"FROM","TO",null,"MILE","MILE","MILE","MILE",null,"FT","FT","FT"]
[]
["ROS","RA",71014,0,0.19,"(078400) 35/104 RAMP B",{"$f":"(E10-D10)","v":0.19},{"$f":"(E10-D10)","v":0.19}]
["ROS","RA",71015,0,0.1,"(078400) 35/104 RAMP C",{"$f":"(E11-D11)","v":0.1},{"$f":"(E11-D11)","v":0.1}]
["ROS","RA",71020,0,0.13,"(078500) 35/159 RAMP A",0.13,0.13]
["ROS","RA",71017,0,0.11,"(078500) 35/159 RAMP C",0.11,0.11]
["ROS","RA",71021,0,0.32,"(078500) 35/159 RAMP A1",0.32,0.32]
[]
["ROS","RA",71019,0,0.24,"(078500) 35/159 RAMP D",{"$f":"(E16-D16)","v":0.24},{"$f":"(E16-D16)","v":0.24}]
["ROS","RA",71018,0,0.31,"(078500) 35/159 RAMP B",0.31,0.31]
["ROS","US",35,22.65,25.02,"US 23 TO PBWO US 50 OVERPASS",{"$f":"(E18-D18)*2","v":4.740000000000002},{"$f":"(E18-D18)*2","v":4.740000000000002},{"$f":"(E18-D18)*2","v":4.740000000000002},null,null,2395]
["ROS","US",50,11.83,19.350000000000001,"PBEO CR 9 TO PBWO CR 608",{"$f":"(E19-D19)*2","v":15.040000000000003},null,null,{"$f":"(E19-D19)","v":7.5200000000000014},8.6319999999999997]
["ROS","US",50,32.11,37.68,"PBWO CR 221 TO VIN CL",{"$f":"(E20-D20)*2","v":11.14},null,null,{"$f":"(E20-D20)","v":5.57},7.9980000000000002]
[]
["ROS","SR",104,8.641,11.23,"CR 205 TO CHILLICOTHE S. CORP",{"$f":"(E22-D22)*2","v":5.1780000000000008},{"$f":"(E22-D22-0.406-0.061-0.09)*2","v":4.0640000000000009},{"$f":"(E22-D22)*2","v":5.1780000000000008},{"$f":"(0.406+0.061+0.09)*2","v":1.1140000000000001},2.2280000000000002,null,null,null,null,"DIVIDED CL (8.641-9.047)\n(10.056-10.117)(10.240-10.330)"]
["ROS","SR",104,14.4,17.829999999999998,"CHILLICOTHE N CORP - PBSO SR 207",{"$f":"(E23-D23)*2","v":6.8599999999999959},{"$f":"(0.28)*2","v":0.56000000000000005},{"$f":"(E23-D23)*2","v":6.8599999999999959},{"$f":"(E23-D23-0.28)*2","v":6.2999999999999954},11.058,null,null,null,null,"DIVIDED CL (14.400-16.522)\nTWLT (16.522-17.550)"]
["ROS","SR",104,18.007000000000001,18.68,"PBNO SR 207 TO PBNO CR 236",{"$f":"(E24-D24)*2","v":1.3459999999999965},{"$f":"(0.082+0.082)*2+0.13","v":0.45800000000000002},0.35499999999999998,{"$f":"(E24-D24-0.082-0.082)*2-0.307","v":0.71099999999999675},1.6060000000000001,118,null,null,null,"CENTER MARKS VARY BETWEEN\nSINGLE CL, DIVIDED CL, & EL."]
["ROS","SR",138,0.26400000000000001,10.87,"SR 28 TO PBSO CR 29",{"$f":"(E25-D25)*2","v":21.212},null,null,{"$f":"(E25-D25)","v":10.606},14.635999999999999]
["ROS","SR",159,2.544,4.6340000000000003,"CHILLICOTHE N CORP - 4/2 TRANS.",{"$f":"(E26-D26)*2","v":4.1800000000000006},{"$f":"(0.843)*2","v":1.6859999999999999},{"$f":"(E26-D26)*2","v":4.1800000000000006},{"$f":"(0.133+0.085+0.085+0.055+0.219)+(0.045+0.02+0.475+0.1+0.085)*2","v":2.0270000000000001},4.0540000000000003,null,null,null,null,"CENTER MARKS VARY BETWEEN\nSINGLE CL, DIVIDED CL, & EL."]
[]
["ROS","SR",159,4.6340000000000003,10.945,"4/2 LANE TRANSITION TO PIC CL",{"$f":"(E28-D28-0.709)*2","v":11.204000000000001},{"$f":"(0.173)*2","v":0.34599999999999997},null,{"$f":"(E28-D28-0.173)","v":6.1379999999999999},8.7070000000000007,205,null,null,null,"YELLOW EL (6.052-6.156)(6.501-6.570)\nNO WHITE EL (10.236-10.945)"]
["ROS","SR",180,0,7.66,"SR 159 TO PBEO CR 233",{"$f":"(E29-D29)*2","v":15.32},{"$f":"(0.048)*2","v":9.6000000000000002E-2},null,{"$f":"(E29-D29-0.048)","v":7.6120000000000001},12.211,null,null,null,null,"YELLOW EL (0.000-0.048)"]
["ROS","SR",207,3.9009999999999998,14.42,"SR 104 TO CLARKSBURG E. CORP",{"$f":"(E30-D30)*2","v":21.038},null,null,{"$f":"(E30-D30)","v":10.519},14.733000000000001]
["ROS","SR",207,14.785,15.012,"CLARKSBURG W. CORP TO PIC CL",{"$f":"(E31-D31)*2","v":0.45400000000000063},null,null,{"$f":"(E31-D31)","v":0.22700000000000031},0.41499999999999998]
[]
[]
[]
[]
[]
[]
["TOTALS FROM SHEET 13",null,null,null,null,null,{"$f":"'ROS(13)'!G44","v":54.419999999999995},{"$f":"'ROS(13)'!H44","v":50.18},{"$f":"'ROS(13)'!I44","v":49.7},{"$f":"'ROS(13)'!J44","v":3.9990000000000001},null,{"$f":"'ROS(13)'!L44","v":8240},{"$f":"'ROS(13)'!M44","v":0},{"$f":"'ROS(13)'!N44","v":0}]
["SHEET TOTALS",null,null,null,null,null,{"$f":"SUM(G9:G37)","v":119.11199999999999},13.350000000000005,21.312999999999999,58.343999999999994,86.27800000000002,2718,0,0]
["TOTALS CARRIED TO GENERAL SUMMARY",null,null,null,null,null,{"$f":"ROUND(SUM(G38:H39),2)","v":237.06},null,{"$f":"ROUND(SUM(I38:I39),2)","v":71.010000000000005},{"$f":"ROUND(SUM(J38:J39),2)","v":62.34},null,{"$f":"SUM(L38:M39)","v":10958},null,{"$f":"SUM(N38:N39)","v":0}]

{"sheet":"SCI(15)","index":14,"n_rows":40,"n_cols":16,"rows_kept":40,"cut":false,"hidden":false,"merged":[[0,0,0,15],[1,0,7,0],[1,1,7,1],[1,2,7,2],[1,3,6,4],[1,5,7,5],[1,6,1,14],[2,6,5,7],[2,8,6,8],[2,9,5,10],[2,11,5,12],[2,13,5,14],[2,15,7,15],[6,10,7,10],[38,0,38,5],[39,0,39,5],[39,6,39,7],[39,11,39,12]]}
["PAVEMENT MARKING SUBSUMMARY - SCIOTO COUNTY"]
["COUNTY","RTE TYPE","ROUTE","SLM",null,"LOCATION DESCRIPTION\n[CL = COUNTY LINE]\n[* CORP = CORPORATION LIMIT]\n[PB*O=PAVEMENT BREAK * OF]\n*=(EAST/WEST/NORTH/SOUTH)",642]
[null,null,null,null,null,null,"EDGE LINE, 6\", TYPE 1",null,"LANE LINE, 6\", TYPE 1 ","CENTER LINE, TYPE 1",null,"DOTTED LINE, 6\", TYPE 1",null,"DOTTED LINE, 12\", TYPE 1",null,"REMARKS\n[EL = EDGE LINE]\n[CL = CENTERLINE]\n[LL = LANE LINE]\n[TWLT = TWO WAY LEFT TURN]"]
[]
[]
[]
[null,null,null,null,null,null,"WHITE","YELLOW",null,null,"EQUIV. SOLID MILE","WHITE","YELLOW","WHITE"]
[null,null,null,"FROM","TO",null,"MILE","MILE","MILE","MILE",null,"FT","FT","FT"]
[]
["SCI","US",23,10.569000000000001,11.478,"PBSO TR 1204 TO PBNO SR 348",{"$f":"(E10-D10)*2","v":1.8179999999999978},null,{"$f":"(E10-D10)*2","v":1.8179999999999978},{"$f":"(E10-D10)+0.05+0.081+0.049","v":1.0889999999999989},2.1779999999999999,null,null,null,null,"DIVIDED CL (10.569-10.619)\n(11.278-11.359)(11.429-11.478)"]
["SCI","US",52,0,15.81,"ADA CL TO PBWO CR 49",{"$f":"(E11-D11)*2","v":31.62},null,null,{"$f":"(E11-D11)","v":15.81},23.661999999999999]
["SCI","US",52,21.84,23.83,"NEW BOSTON W CORP TO E CORP\nINCLUDES US 52F (0.000-1.670)",{"$f":"(23.83-23.463)*2","v":0.73399999999999466},{"$f":"(23.83-23.463-0.1)*2","v":0.5339999999999947},{"$f":"(E12-D12)*2","v":3.9799999999999969},0.1,0.2,null,null,null,null,"NO EL (21.840-23.463) \nCL (23.615-23.715)"]
["SCI","US",52,26.388000000000002,31.24,"PORTSMOUTH E CORP-PBEO SR 522",{"$f":"(E13-D13)*2","v":9.7039999999999935},{"$f":"(E13-D13)*2","v":9.7039999999999935},{"$f":"(E13-D13)*2","v":9.7039999999999935}]
["SCI","RA",73019,0,0.19,"(080000) 52/CR550 RAMP H",{"$f":"(E14-D14)","v":0.19},{"$f":"(E14-D14)","v":0.19}]
[]
["SCI","RA",73021,0,0.22,"(080000) 52/CR550 RAMP P",{"$f":"(E16-D16)","v":0.22},{"$f":"(E16-D16)","v":0.22}]
["SCI","RA",73018,0,0.13,"(080000) 52/CR550 RAMP M",{"$f":"(E17-D17)","v":0.13},{"$f":"(E17-D17)","v":0.13}]
["SCI","RA",73020,0,0.18,"(080000) 52/CR550 RAMP J",{"$f":"(E18-D18)","v":0.18},{"$f":"(E18-D18)","v":0.18}]
["SCI","RA",73024,0,0.17,"(080100) 52/522 RAMP 4",{"$f":"(E19-D19)","v":0.17},{"$f":"(E19-D19)","v":0.17}]
["SCI","SR",522,0,0.18,"(080100) 52/522 RAMP 1",{"$f":"(E20-D20)","v":0.18},{"$f":"(E20-D20)","v":0.18}]
[]
["SCI","RA",73022,0,0.18,"(080100) 52/522 RAMP 3",{"$f":"(E22-D22)","v":0.18},{"$f":"(E22-D22)","v":0.18}]
["SCI","RA",73023,0,0.18,"(080100) 52/522 RAMP 2",{"$f":"(E23-D23)","v":0.18},{"$f":"(E23-D23)","v":0.18}]
["SCI","SR",73,0,21.06,"ADA CL TO PBWO TR 1568",{"$f":"(E24-D24)*2","v":42.12},null,null,{"$f":"(E24-D24)","v":21.06},38.978000000000002]
["SCI","SR",73,21.74,23.04,"PBEO TR 1109 TO 2/4 TRANSITION",{"$f":"(E25-D25)*2","v":2.6000000000000014},null,null,{"$f":"(E25-D25)+0.98","v":2.2800000000000007},3.04,null,null,null,null,"TWLT (22.060-23.040)"]
["SCI","SR",73,23.04,24.847000000000001,"2/4 LANE TRANSITION TO RAMPS",3.6140000000000043,{"$f":"(E26-D26-0.185-0.09)*2","v":3.0640000000000041},{"$f":"(E26-D26-0.185)*2","v":3.2440000000000042},{"$f":"((0.036+0.054+0.095)*2)+0.09","v":0.45999999999999996},0.92,null,null,null,null,"DIVIDED CL (23.298-23.334)\n(23.719-23.773)(24.662-24.757)\nSINGLE CL (24.757-24.847)\nNO LL (24.662-24.847)"]
[]
["SCI","SR",73,24.847000000000001,25.501000000000001,"(079700) 52/73 RAMP P",{"$f":"(E28-D28)","v":0.65399999999999991},{"$f":"(E28-D28)","v":0.65399999999999991}]
["SCI","RA",73006,0,0.15,"(079700) 852/73 RAMP S",0.15,0.15]
["SCI","RA",73009,0,0.32,"(079700) 52/73 RAMP N",0.32,0.32]
["SCI","RA",73008,0,0.11,"(079700) 852/73 RAMP T",0.11,0.11]
["SCI","RA",73007,0.218,0.63,"(079700) 52/73 RAMP C",{"$f":"(E32-D32)","v":0.41200000000000003},{"$f":"(E32-D32)","v":0.41200000000000003},0.123,null,null,null,null,null,null,"LL (0.275-0.398)"]
[]
["SCI","SR",73,25.501000000000001,25.84,"RAMPS TO PORTSMOUTH W CORP",{"$f":"(E34-D34)*2","v":0.67799999999999727},null,null,{"$f":"(E34-D34)+0.04","v":0.37899999999999862},0.75800000000000001,null,null,null,null,"DIVIDED CL (25.501-25.541)"]
[]
[]
[]
[]
["SHEET TOTALS",null,null,null,null,null,{"$f":"SUM(G9:G38)","v":95.963999999999984},16.377999999999993,18.868999999999993,41.177999999999997,69.736000000000004,0,0,0]
["TOTALS CARRIED TO SHEET 16",null,null,null,null,null,{"$f":"ROUND(G39+H39,2)","v":112.34},null,{"$f":"ROUND(I39,2)","v":18.87},{"$f":"ROUND(J39,2)","v":41.18},null,{"$f":"ROUNDUP(L39+M39,0)","v":0},null,{"$f":"N39","v":0}]

{"sheet":"SCI(16)","index":15,"n_rows":42,"n_cols":16,"rows_kept":42,"cut":false,"hidden":false,"merged":[[0,0,0,15],[1,0,7,0],[1,1,7,1],[1,2,7,2],[1,3,6,4],[1,5,7,5],[1,6,1,14],[2,6,5,7],[2,8,6,8],[2,9,5,10],[2,11,5,12],[2,13,5,14],[2,15,7,15],[6,10,7,10],[40,0,40,5],[41,0,41,5],[41,6,41,7],[41,11,41,12],[39,0,39,5]]}
["PAVEMENT MARKING SUBSUMMARY - SCIOTO COUNTY"]
["COUNTY","RTE TYPE","ROUTE","SLM",null,"LOCATION DESCRIPTION\n[CL = COUNTY LINE]\n[* CORP = CORPORATION LIMIT]\n[PB*O=PAVEMENT BREAK * OF]\n*=(EAST/WEST/NORTH/SOUTH)",642]
[null,null,null,null,null,null,"EDGE LINE, 6\", TYPE 1",null,"LANE LINE, 6\", TYPE 1 ","CENTER LINE, TYPE 1",null,"DOTTED LINE, 6\", TYPE 1",null,"DOTTED LINE, 12\", TYPE 1",null,"REMARKS\n[EL = EDGE LINE]\n[CL = CENTERLINE]\n[LL = LANE LINE]\n[TWLT = TWO WAY LEFT TURN]"]
[]
[]
[]
[null,null,null,null,null,null,"WHITE","YELLOW",null,null,"EQUIV. SOLID MILE","WHITE","YELLOW","WHITE"]
[null,null,null,"FROM","TO",null,"MILE","MILE","MILE","MILE",null,"FT","FT","FT"]
[]
["SCI","SR",104,6.37,17.420000000000002,"SR 73 TO PBSO PIK CL",{"$f":"(E10-D10)*2","v":22.1},null,null,{"$f":"(E10-D10)+0.12+0.1","v":11.27},14.085000000000001,null,null,null,null,"DIVIDED CL (11.960-12.060)\n(12.236-12.356)"]
["SCI","SR",125,0,6.25,"ADA CL TO PBEO TR 99",{"$f":"(E11-D11)*2","v":12.5},null,null,{"$f":"(E11-D11)","v":6.25},11.577999999999999]
["SCI","SR",139,0,0.52,"US 52 EB TO NEW BOSTON N. CORP",null,null,null,{"$f":"(E12-D12)+0.03","v":0.55000000000000004},1.1599999999999999,null,null,null,null,"DIVIDED CL (0.073-0.103), NO EL"]
["SCI","SR",139,1.51,18.03,"PORTSMOUTH N CORP TO JAC CL",{"$f":"(E13-D13)*2","v":33.04},null,null,{"$f":"(E13-D13)","v":16.52},31.268000000000001]
["SCI","SR",140,0.38,16.600000000000001,"PORTSMOUTH E CORP TO LAW CL",32.440000000000005,null,null,{"$f":"(E14-D14)+0.057+0.065","v":16.342000000000002},28.468,null,null,null,null,"DIVIDED CL (0.380-0.437)(0.527-0.592)"]
[]
["SCI","SR",239,0.14000000000000001,1.22,"US 52 EB RAMPS TO SR 73",2.16,null,null,{"$f":"(E16-D16)","v":1.08},2.16]
["SCI","SR",253,0.153,0.30599999999999999,"GREENUP DAM TO US 52 EB RAMPS",0.30599999999999999,null,null,{"$f":"(E17-D17)+0.026+0.057","v":0.23599999999999999},0.38,null,null,null,null,"DIVIDED CL (0.153-0.179)(0.226-0.283)"]
["SCI","SR","253I",0,9.6000000000000002E-2,"US 52 EB RAMPS TO CR 1",0.192,null,null,{"$f":"(E18-D18)","v":9.6000000000000002E-2},0.192]
["SCI","SR",335,1.911,16,"PORTSMOUTH N CORP TO PIK CL",28.178000000000001,null,null,{"$f":"(E19-D19)+0.07+0.074","v":14.233000000000001},24.677,250,null,null,null,"DOTTLED LINE AT SR 823A\nDIVIDED CL (9.018-9.088)(9.188-9.262)"]
["SCI","SR",348,0,6.23,"ADA CL TO SR 73",12.46,null,null,{"$f":"(E20-D20)","v":6.23},11.592000000000001]
[]
["SCI","SR",348,6.38,12.8,"SR 73 TO PBWO CR 524",12.840000000000002,null,null,{"$f":"(E22-D22)","v":6.4200000000000008},12.266]
["SCI","SR",371,0,0.45500000000000002,"FOREST RD 1 TO SR 73",0.91,null,null,{"$f":"(E23-D23)","v":0.45500000000000002},0.89]
["SCI","SR",522,0.18,8.2899999999999991,"US 52 EB RAMPS TO LAW CL",16.22,null,null,{"$f":"(E24-D24)+0.095","v":8.2050000000000001},12.257999999999999,null,null,null,null,"DIVIDED CL (1.679-1.774)"]
["SCI","SR",772,4.0599999999999996,5.97,"PIK CL TO PIK CL",{"$f":"(E25-D25)*2","v":3.8200000000000003},null,null,{"$f":"(E25-D25)","v":1.9100000000000001},2.9590000000000001,null,null,null,null,"BREAKS 4 TIMES FOR PIK 772"]
["SCI","SR",776,0,2.69,"SR 335 TO PIK CL",{"$f":"(E26-D26)*2","v":5.38},null,null,{"$f":"(E26-D26)","v":2.69},3.444]
[]
["SCI","SR",852,0.19,0.94,"OHIO RIVER BRIDGE TO SR 73",{"$f":"(E28-D28)*2","v":1.5},null,null,{"$f":"(E28-D28)+0.082+0.096+0.109","v":1.0369999999999999},2.0739999999999998,null,null,null,null,"DIVIDED CL (0.436-0.518)\n(0.596-0.692)(0.730-0.839)"]
["SCI","RA",73012,0,0.04,"(079700) 52/852 RAMP U",{"$f":"(E29-D29)","v":0.04},{"$f":"(E29-D29)","v":0.04}]
["SCI","RA",73011,0,0.2,"(079700) 52/852 RAMP W",{"$f":"(E30-D30)","v":0.2},{"$f":"(E30-D30)","v":0.2}]
[]
[]
[]
[]
[]
[]
[]
[]
[]
["TOTALS FROM SHEET 15",null,null,null,null,null,{"$f":"'SCI(15)'!G39","v":95.963999999999984},{"$f":"'SCI(15)'!H39","v":16.377999999999993},{"$f":"'SCI(15)'!I39","v":18.868999999999993},{"$f":"'SCI(15)'!J39","v":41.177999999999997},null,{"$f":"'SCI(15)'!L39","v":0},{"$f":"'SCI(15)'!M39","v":0},{"$f":"'SCI(15)'!N39","v":0}]
["SHEET TOTALS",null,null,null,null,null,{"$f":"SUM(G9:G39)","v":184.28599999999997},0.24000000000000002,0,93.524000000000001,159.45099999999999,250,0,0]
["TOTALS CARRIED TO GENERAL SUMMARY",null,null,null,null,null,{"$f":"ROUND(SUM(G40:H41),2)","v":296.87},null,{"$f":"ROUND(SUM(I40:I41),2)","v":18.87},{"$f":"ROUND(SUM(J40:J41),2)","v":134.69999999999999},null,{"$f":"SUM(L40:M41)","v":250},null,{"$f":"SUM(N40:N41)","v":0}]