{"text_format":"1","workbook":"xlsx","n_sheets":61,"sheets":["Calc Cover Sheet","202E11003","202E22900","202E23500","203E35111","203E35120","503E11101","503E21300","507E00101","507E92201","509E26000","509E30020","511E33500","511E34460","511E43510","511E46510","511E53012","511E53014","511E53014-02","511E53014-04","511E53014-05","512E10050","512E10100","512E10100 (Gray 1&2)","512E10100 (Gray Beams)","512E10100 (Green Beams)","515E15080","515E20000","516E10010","516E13200","516E13600","516E13900","516E14020","516E44101","516E44101p","526E30011","526E90031","530E13000","601E21000","607E39900","607E39930","607E40000","607E40000 (2)","622E25000","625E25502","625E29920","625E30520","625E33000","840E20000","840E21000","840E22000","840E23000","840E25010","840E25020","840E26000","840E27000","878E25000","Estimated Quantities","For Sheets","For Sheets - Alts","QryItemE2019"],"not_rendered":{"charts":0,"images":6,"macros":1,"external_links":0,"defined_names":114,"comments":1,"pivot_tables":0},"unopened":[],"bounds":{"document_bytes":16777216,"sheet_cells":100000,"rows_first":2000,"rows_last":500,"rows_between":2000,"halvings":0,"cell_chars":16384,"cell_head_chars":4096},"cells_cut":0,"cells_raw":0,"read":"whole","date_system":"1900"}

{"sheet":"Calc Cover Sheet","index":0,"n_rows":20,"n_cols":4,"rows_kept":20,"cut":false,"hidden":false,"merged":[[22,1,22,3],[1,1,1,3],[2,1,2,3],[3,1,3,3],[4,1,4,3],[15,1,15,3],[16,1,16,3],[17,1,17,3],[18,1,18,3],[19,1,19,3],[20,1,20,3],[21,1,21,3]]}
[]
["Computation for:","ESTIMATED QUANTITIES"]
["SFN:",3108680]
[]
[]
[]
["Structure:","HAM-00145-0203"]
[]
["PID:",110563]
[]
["Design:","BMV","Date","2024-04-19"]
["Check:","TLC","Date","2024-04-25"]
["Update:",null,"Date"]
["Recheck:",null,"Date"]
[]
["File Names"]
[]
[]
[]
["Comments"]

{"sheet":"202E11003","index":1,"n_rows":64,"n_cols":18,"rows_kept":64,"cut":false,"hidden":false,"merged":[[3,16,3,21],[4,7,4,8]]}
[null,null,null,null,null,null,"DESIGN:",{"$f":"IF('Calc Cover Sheet'!B11=\"\",\"\",'Calc Cover Sheet'!B11)","v":"BMV"},"DATE:",{"$f":"IF('Calc Cover Sheet'!D11=\"\",\"\",'Calc Cover Sheet'!D11)","v":"2024-04-19"},"UPDATE:",{"$f":"IF('Calc Cover Sheet'!B13=\"\",\"\",'Calc Cover Sheet'!B13)","v":""},"DATE:",{"$f":"IF('Calc Cover Sheet'!D13=\"\",\"\",'Calc Cover Sheet'!D13)","v":""}]
[null,null,null,null,null,null,"CHECK:",{"$f":"IF('Calc Cover Sheet'!B12=\"\",\"\",'Calc Cover Sheet'!B12)","v":"TLC"},"DATE:",{"$f":"IF('Calc Cover Sheet'!D12=\"\",\"\",'Calc Cover Sheet'!D12)","v":"2024-04-25"},"RECHECK:",{"$f":"IF('Calc Cover Sheet'!B14=\"\",\"\",'Calc Cover Sheet'!B14)","v":""},"DATE:",{"$f":"IF('Calc Cover Sheet'!D14=\"\",\"\",'Calc Cover Sheet'!D14)","v":""}]
[null,null,null,null,null,null,"STRUCTURE:",{"$f":"IF('Calc Cover Sheet'!B7=\"\",\"\",'Calc Cover Sheet'!B7)","v":"HAM-00145-0203"},null,null,"SFN:",{"$f":"IF('Calc Cover Sheet'!B3=\"\",\"\",'Calc Cover Sheet'!B3)","v":3108680},"PID:",{"$f":"IF('Calc Cover Sheet'!B9=\"\",\"\",'Calc Cover Sheet'!B9)","v":110563}]
[null,null,null,null,null,null,null,null,null,null,null,null,null,null,null,null,"Lump Sum Tags (Items with a \"LS\" Pay Unit can be tagged with one or several categories)"]
[null,null,null,null,null,null,"ITEM:",{"$f":"MID(RIGHT(CELL(\"filename\",D2),LEN(CELL(\"filename\",D2))-FIND(\"]\",CELL(\"filename\",D2))),1,9)","v":"202E11003"},null,"PAY UNIT:",{"$f":"INDEX(QryItemE2019!B:B,MATCH(H5,QryItemE2019!A:A,0))","v":"LS"}]
[null,null,null,null,null,null,"SUBJECT:",{"$f":"IF('Calc Cover Sheet'!B2=\"\",\"\",'Calc Cover Sheet'!B2)","v":"ESTIMATED QUANTITIES"}]
[null,null,null,"DESCRIPTION:",{"$f":"INDEX(QryItemE2019!C:C,MATCH(H5,QryItemE2019!A:A,0))","v":"STRUCTURE REMOVED, OVER 20 FOOT SPAN, AS PER PLAN"}]
[null,null,null,"SUPPLEMENTAL DESCRIPTION:"]
[null,null,null,null,null,null,null,null,null,null,null,null,"SUBTOTAL","TOTAL",null,null,"GROUP","<<<<<Tag each subtotal value with a group from this column"]
[null,null,null,null,null,null,null,null,null,null,null,null,null,{"$f":"IF(M10=\"\",\"\",M10+MAX(N$9:N9))","v":""}]
[null,null,"Assume Removal = $30/sf",null,null,null,null,null,null,null,null,null,null,{"$f":"IF(M11=\"\",\"\",M11+MAX(N$9:N10))","v":""}]
[null,null,null,null,null,null,null,null,null,null,null,null,null,{"$f":"IF(M12=\"\",\"\",M12+MAX(N$9:N11))","v":""}]
[null,null,null,"Existing Bridge Length = ",254,"ft",null,null,null,null,null,null,null,{"$f":"IF(M13=\"\",\"\",M13+MAX(N$9:N12))","v":""}]
[null,null,null,"Existing Bridge Width = ",40.333300000000001,"ft",null,null,null,null,null,null,null,{"$f":"IF(M14=\"\",\"\",M14+MAX(N$9:N13))","v":""}]
[null,null,null,"Deck Area = ",{"$f":"E13*E14","v":10244.6582},"sf",null,null,null,null,null,null,null,{"$f":"IF(M15=\"\",\"\",M15+MAX(N$9:N14))","v":""}]
[null,null,null,null,null,null,null,null,null,null,null,null,null,{"$f":"IF(M16=\"\",\"\",M16+MAX(N$9:N15))","v":""}]
[null,null,null,"Removal Cost = ",{"$f":"CEILING(30*E15,500)","v":307500},null,null,null,null,null,null,null,null,{"$f":"IF(M17=\"\",\"\",M17+MAX(N$9:N16))","v":""}]
[null,null,null,null,null,null,null,null,null,null,null,null,null,{"$f":"IF(M18=\"\",\"\",M18+MAX(N$9:N17))","v":""}]
[]
[null,null,null,null,null,null,null,null,null,null,null,null,null,{"$f":"IF(M20=\"\",\"\",M20+MAX(N$9:N19))","v":""}]
[null,null,null,null,null,null,null,null,null,null,null,null,null,{"$f":"IF(M21=\"\",\"\",M21+MAX(N$9:N20))","v":""}]
[null,null,null,null,null,null,null,null,null,null,null,null,null,{"$f":"IF(M22=\"\",\"\",M22+MAX(N$9:N21))","v":""}]
[null,null,null,null,null,null,null,null,null,null,null,null,null,{"$f":"IF(M23=\"\",\"\",M23+MAX(N$9:N22))","v":""}]
[null,null,null,null,null,null,null,null,null,null,null,null,null,{"$f":"IF(M24=\"\",\"\",M24+MAX(N$9:N23))","v":""}]
[null,null,null,null,null,null,null,null,null,null,null,null,null,{"$f":"IF(M25=\"\",\"\",M25+MAX(N$9:N24))","v":""}]
[null,null,null,null,null,null,null,null,null,null,null,null,null,{"$f":"IF(M26=\"\",\"\",M26+MAX(N$9:N25))","v":""}]
[null,null,null,null,null,null,null,null,null,null,null,null,null,{"$f":"IF(M27=\"\",\"\",M27+MAX(N$9:N26))","v":""}]
[null,null,null,null,null,null,null,null,null,null,null,null,null,{"$f":"IF(M28=\"\",\"\",M28+MAX(N$9:N27))","v":""}]
[null,null,null,null,null,null,null,null,null,null,null,null,null,{"$f":"IF(M29=\"\",\"\",M29+MAX(N$9:N28))","v":""}]
[null,null,null,null,null,null,null,null,null,null,null,null,null,{"$f":"IF(M30=\"\",\"\",M30+MAX(N$9:N29))","v":""}]
[null,null,null,null,null,null,null,null,null,null,null,null,null,{"$f":"IF(M31=\"\",\"\",M31+MAX(N$9:N30))","v":""}]
[null,null,null,null,null,null,null,null,null,null,null,null,null,{"$f":"IF(M32=\"\",\"\",M32+MAX(N$9:N31))","v":""}]
[null,null,null,null,null,null,null,null,null,null,null,null,null,{"$f":"IF(M33=\"\",\"\",M33+MAX(N$9:N32))","v":""}]
[null,null,null,null,null,null,null,null,null,null,null,null,null,{"$f":"IF(M34=\"\",\"\",M34+MAX(N$9:N33))","v":""}]
[null,null,null,null,null,null,null,null,null,null,null,null,null,{"$f":"IF(M35=\"\",\"\",M35+MAX(N$9:N34))","v":""}]
[null,null,null,null,null,null,null,null,null,null,null,null,null,{"$f":"IF(M36=\"\",\"\",M36+MAX(N$9:N35))","v":""}]
[null,null,null,null,null,null,null,null,null,null,null,null,null,{"$f":"IF(M37=\"\",\"\",M37+MAX(N$10:N36))","v":""}]
[null,null,null,null,null,null,null,null,null,null,null,null,null,{"$f":"IF(M38=\"\",\"\",M38+MAX(N$10:N37))","v":""}]
[null,null,null,null,null,null,null,null,null,null,null,null,null,{"$f":"IF(M39=\"\",\"\",M39+MAX(N$10:N38))","v":""}]
[null,null,null,null,null,null,null,null,null,null,null,null,null,{"$f":"IF(M40=\"\",\"\",M40+MAX(N$10:N39))","v":""}]
[null,null,null,null,null,null,null,null,null,null,null,null,null,{"$f":"IF(M41=\"\",\"\",M41+MAX(N$10:N40))","v":""}]
[null,null,null,null,null,null,null,null,null,null,null,null,null,{"$f":"IF(M42=\"\",\"\",M42+MAX(N$10:N41))","v":""}]
[null,null,null,null,null,null,null,null,null,null,null,null,null,{"$f":"IF(M43=\"\",\"\",M43+MAX(N$10:N42))","v":""}]
[null,null,null,null,null,null,null,null,null,null,null,null,null,{"$f":"IF(M44=\"\",\"\",M44+MAX(N$10:N43))","v":""}]
[null,null,null,null,null,null,null,null,null,null,null,null,null,{"$f":"IF(M45=\"\",\"\",M45+MAX(N$10:N44))","v":""}]
[null,null,null,null,null,null,null,null,null,null,null,null,null,{"$f":"IF(M46=\"\",\"\",M46+MAX(N$10:N45))","v":""}]
[null,null,null,null,null,null,null,null,null,null,null,null,null,{"$f":"IF(M47=\"\",\"\",M47+MAX(N$10:N46))","v":""}]
[null,null,null,null,null,null,null,null,null,null,null,null,null,{"$f":"IF(M48=\"\",\"\",M48+MAX(N$10:N47))","v":""}]
[null,null,null,null,null,null,null,null,null,null,null,null,null,{"$f":"IF(M49=\"\",\"\",M49+MAX(N$10:N48))","v":""}]
[null,null,null,null,null,null,null,null,null,null,null,null,null,{"$f":"IF(M50=\"\",\"\",M50+MAX(N$10:N49))","v":""}]
[null,null,null,null,null,null,null,null,null,null,null,null,null,{"$f":"IF(M51=\"\",\"\",M51+MAX(N$10:N50))","v":""}]
[null,null,null,null,null,null,null,null,null,null,null,null,null,{"$f":"IF(M52=\"\",\"\",M52+MAX(N$10:N51))","v":""}]
[null,null,null,null,null,null,null,null,null,null,null,null,null,{"$f":"IF(M53=\"\",\"\",M53+MAX(N$10:N52))","v":""}]
[null,null,null,null,null,null,null,null,null,null,null,null,null,{"$f":"IF(M54=\"\",\"\",M54+MAX(N$10:N53))","v":""}]
[null,null,null,null,null,null,null,null,null,null,null,null,null,{"$f":"IF(M55=\"\",\"\",M55+MAX(N$10:N54))","v":""}]
[null,null,null,null,null,null,null,null,null,null,null,null,null,{"$f":"IF(M56=\"\",\"\",M56+MAX(N$10:N55))","v":""}]
[null,null,null,null,null,null,null,null,null,null,null,null,null,{"$f":"IF(M57=\"\",\"\",M57+MAX(N$10:N56))","v":""}]
[null,null,null,null,null,null,null,null,null,null,null,null,null,{"$f":"IF(M58=\"\",\"\",M58+MAX(N$10:N57))","v":""}]
[null,null,null,null,null,null,null,null,null,null,null,null,null,{"$f":"IF(M59=\"\",\"\",M59+MAX(N$10:N58))","v":""}]
[null,null,null,null,null,null,null,null,null,null,null,null,null,{"$f":"IF(M60=\"\",\"\",M60+MAX(N$10:N59))","v":""}]
[null,null,null,null,null,null,null,null,null,null,null,null,null,{"$f":"IF(M61=\"\",\"\",M61+MAX(N$10:N60))","v":""}]
[null,null,null,null,null,null,null,null,null,null,null,null,null,{"$f":"IF(M62=\"\",\"\",M62+MAX(N$10:N61))","v":""}]
[null,null,null,null,null,null,null,null,null,null,null,null,null,{"$f":"IF(M63=\"\",\"\",M63+MAX(N$10:N62))","v":""}]
[null,null,null,"SPECIAL INSTRUCTIONS:",{"$f":"INDEX(QryItemE2019!F:F,MATCH(H5,QryItemE2019!A:A,0))","v":""},null,null,null,null,null,null,null,"TOTAL",{"$f":"IF(K5=\"LS\",\"LS\",\" \")","v":"LS"}]

{"sheet":"202E22900","index":2,"n_rows":64,"n_cols":18,"rows_kept":64,"cut":false,"hidden":false,"merged":[[3,16,3,21],[4,7,4,8]]}
[null,null,null,null,null,null,"DESIGN:",{"$f":"IF('Calc Cover Sheet'!B11=\"\",\"\",'Calc Cover Sheet'!B11)","v":"BMV"},"DATE:",{"$f":"IF('Calc Cover Sheet'!D11=\"\",\"\",'Calc Cover Sheet'!D11)","v":"2024-04-19"},"UPDATE:",{"$f":"IF('Calc Cover Sheet'!B13=\"\",\"\",'Calc Cover Sheet'!B13)","v":""},"DATE:",{"$f":"IF('Calc Cover Sheet'!D13=\"\",\"\",'Calc Cover Sheet'!D13)","v":""}]
[null,null,null,null,null,null,"CHECK:",{"$f":"IF('Calc Cover Sheet'!B12=\"\",\"\",'Calc Cover Sheet'!B12)","v":"TLC"},"DATE:",{"$f":"IF('Calc Cover Sheet'!D12=\"\",\"\",'Calc Cover Sheet'!D12)","v":"2024-04-25"},"RECHECK:",{"$f":"IF('Calc Cover Sheet'!B14=\"\",\"\",'Calc Cover Sheet'!B14)","v":""},"DATE:",{"$f":"IF('Calc Cover Sheet'!D14=\"\",\"\",'Calc Cover Sheet'!D14)","v":""}]
[null,null,null,null,null,null,"STRUCTURE:",{"$f":"IF('Calc Cover Sheet'!B7=\"\",\"\",'Calc Cover Sheet'!B7)","v":"HAM-00145-0203"},null,null,"SFN:",{"$f":"IF('Calc Cover Sheet'!B3=\"\",\"\",'Calc Cover Sheet'!B3)","v":3108680},"PID:",{"$f":"IF('Calc Cover Sheet'!B9=\"\",\"\",'Calc Cover Sheet'!B9)","v":110563}]
[null,null,null,null,null,null,null,null,null,null,null,null,null,null,null,null,"Lump Sum Tags (Items with a \"LS\" Pay Unit can be tagged with one or several categories)"]
[null,null,null,null,null,null,"ITEM:",{"$f":"MID(RIGHT(CELL(\"filename\",D2),LEN(CELL(\"filename\",D2))-FIND(\"]\",CELL(\"filename\",D2))),1,9)","v":"202E22900"},null,"PAY UNIT:",{"$f":"INDEX(QryItemE2019!B:B,MATCH(H5,QryItemE2019!A:A,0))","v":"SY"}]
[null,null,null,null,null,null,"SUBJECT:",{"$f":"IF('Calc Cover Sheet'!B2=\"\",\"\",'Calc Cover Sheet'!B2)","v":"ESTIMATED QUANTITIES"}]
[null,null,null,"DESCRIPTION:",{"$f":"INDEX(QryItemE2019!C:C,MATCH(H5,QryItemE2019!A:A,0))","v":"APPROACH SLAB REMOVED"}]
[null,null,null,"SUPPLEMENTAL DESCRIPTION:"]
[null,null,null,null,null,null,null,null,null,null,null,null,"SUBTOTAL","TOTAL",null,null,"GROUP","<<<<<Tag each subtotal value with a group from this column"]
[null,null,null,null,null,null,null,null,null,null,null,null,null,{"$f":"IF(M10=\"\",\"\",M10+MAX(N$9:N9))","v":""}]
[null,null,null,null,null,null,null,null,null,null,null,null,null,{"$f":"IF(M11=\"\",\"\",M11+MAX(N$9:N10))","v":""}]
[null,null,null,"# of Approaches = ",2,"each",null,null,null,null,null,null,null,{"$f":"IF(M12=\"\",\"\",M12+MAX(N$9:N11))","v":""}]
[null,null,null,"Length = ",25,"ft",null,null,null,null,null,null,null,{"$f":"IF(M13=\"\",\"\",M13+MAX(N$9:N12))","v":""}]
[null,null,null,"Width = ",30,"ft",null,null,null,null,null,null,null,{"$f":"IF(M14=\"\",\"\",M14+MAX(N$9:N13))","v":""}]
[null,null,null,null,null,null,null,null,null,null,null,null,null,{"$f":"IF(M15=\"\",\"\",M15+MAX(N$9:N14))","v":""}]
[null,null,null,"Area = ",{"$f":"E12*E13*E14/9","v":166.66666666666666},"sy",null,null,null,null,null,null,{"$f":"CEILING(E16,1)","v":167},{"$f":"IF(M16=\"\",\"\",M16+MAX(N$9:N15))","v":167},null,null,"GEN."]
[null,null,null,null,null,null,null,null,null,null,null,null,null,{"$f":"IF(M17=\"\",\"\",M17+MAX(N$9:N16))","v":""}]
[null,null,null,null,null,null,null,null,null,null,null,null,null,{"$f":"IF(M18=\"\",\"\",M18+MAX(N$9:N17))","v":""}]
[]
[null,null,null,null,null,null,null,null,null,null,null,null,null,{"$f":"IF(M20=\"\",\"\",M20+MAX(N$9:N19))","v":""}]
[null,null,null,null,null,null,null,null,null,null,null,null,null,{"$f":"IF(M21=\"\",\"\",M21+MAX(N$9:N20))","v":""}]
[null,null,null,null,null,null,null,null,null,null,null,null,null,{"$f":"IF(M22=\"\",\"\",M22+MAX(N$9:N21))","v":""}]
[null,null,null,null,null,null,null,null,null,null,null,null,null,{"$f":"IF(M23=\"\",\"\",M23+MAX(N$9:N22))","v":""}]
[null,null,null,null,null,null,null,null,null,null,null,null,null,{"$f":"IF(M24=\"\",\"\",M24+MAX(N$9:N23))","v":""}]
[null,null,null,null,null,null,null,null,null,null,null,null,null,{"$f":"IF(M25=\"\",\"\",M25+MAX(N$9:N24))","v":""}]
[null,null,null,null,null,null,null,null,null,null,null,null,null,{"$f":"IF(M26=\"\",\"\",M26+MAX(N$9:N25))","v":""}]
[null,null,null,null,null,null,null,null,null,null,null,null,null,{"$f":"IF(M27=\"\",\"\",M27+MAX(N$9:N26))","v":""}]
[null,null,null,null,null,null,null,null,null,null,null,null,null,{"$f":"IF(M28=\"\",\"\",M28+MAX(N$9:N27))","v":""}]
[null,null,null,null,null,null,null,null,null,null,null,null,null,{"$f":"IF(M29=\"\",\"\",M29+MAX(N$9:N28))","v":""}]
[null,null,null,null,null,null,null,null,null,null,null,null,null,{"$f":"IF(M30=\"\",\"\",M30+MAX(N$9:N29))","v":""}]
[null,null,null,null,null,null,null,null,null,null,null,null,null,{"$f":"IF(M31=\"\",\"\",M31+MAX(N$9:N30))","v":""}]
[null,null,null,null,null,null,null,null,null,null,null,null,null,{"$f":"IF(M32=\"\",\"\",M32+MAX(N$9:N31))","v":""}]
[null,null,null,null,null,null,null,null,null,null,null,null,null,{"$f":"IF(M33=\"\",\"\",M33+MAX(N$9:N32))","v":""}]
[null,null,null,null,null,null,null,null,null,null,null,null,null,{"$f":"IF(M34=\"\",\"\",M34+MAX(N$9:N33))","v":""}]
[null,null,null,null,null,null,null,null,null,null,null,null,null,{"$f":"IF(M35=\"\",\"\",M35+MAX(N$9:N34))","v":""}]
[null,null,null,null,null,null,null,null,null,null,null,null,null,{"$f":"IF(M36=\"\",\"\",M36+MAX(N$9:N35))","v":""}]
[null,null,null,null,null,null,null,null,null,null,null,null,null,{"$f":"IF(M37=\"\",\"\",M37+MAX(N$10:N36))","v":""}]
[null,null,null,null,null,null,null,null,null,null,null,null,null,{"$f":"IF(M38=\"\",\"\",M38+MAX(N$10:N37))","v":""}]
[null,null,null,null,null,null,null,null,null,null,null,null,null,{"$f":"IF(M39=\"\",\"\",M39+MAX(N$10:N38))","v":""}]
[null,null,null,null,null,null,null,null,null,null,null,null,null,{"$f":"IF(M40=\"\",\"\",M40+MAX(N$10:N39))","v":""}]
[null,null,null,null,null,null,null,null,null,null,null,null,null,{"$f":"IF(M41=\"\",\"\",M41+MAX(N$10:N40))","v":""}]
[null,null,null,null,null,null,null,null,null,null,null,null,null,{"$f":"IF(M42=\"\",\"\",M42+MAX(N$10:N41))","v":""}]
[null,null,null,null,null,null,null,null,null,null,null,null,null,{"$f":"IF(M43=\"\",\"\",M43+MAX(N$10:N42))","v":""}]
[null,null,null,null,null,null,null,null,null,null,null,null,null,{"$f":"IF(M44=\"\",\"\",M44+MAX(N$10:N43))","v":""}]
[null,null,null,null,null,null,null,null,null,null,null,null,null,{"$f":"IF(M45=\"\",\"\",M45+MAX(N$10:N44))","v":""}]
[null,null,null,null,null,null,null,null,null,null,null,null,null,{"$f":"IF(M46=\"\",\"\",M46+MAX(N$10:N45))","v":""}]
[null,null,null,null,null,null,null,null,null,null,null,null,null,{"$f":"IF(M47=\"\",\"\",M47+MAX(N$10:N46))","v":""}]
[null,null,null,null,null,null,null,null,null,null,null,null,null,{"$f":"IF(M48=\"\",\"\",M48+MAX(N$10:N47))","v":""}]
[null,null,null,null,null,null,null,null,null,null,null,null,null,{"$f":"IF(M49=\"\",\"\",M49+MAX(N$10:N48))","v":""}]
[null,null,null,null,null,null,null,null,null,null,null,null,null,{"$f":"IF(M50=\"\",\"\",M50+MAX(N$10:N49))","v":""}]
[null,null,null,null,null,null,null,null,null,null,null,null,null,{"$f":"IF(M51=\"\",\"\",M51+MAX(N$10:N50))","v":""}]
[null,null,null,null,null,null,null,null,null,null,null,null,null,{"$f":"IF(M52=\"\",\"\",M52+MAX(N$10:N51))","v":""}]
[null,null,null,null,null,null,null,null,null,null,null,null,null,{"$f":"IF(M53=\"\",\"\",M53+MAX(N$10:N52))","v":""}]
[null,null,null,null,null,null,null,null,null,null,null,null,null,{"$f":"IF(M54=\"\",\"\",M54+MAX(N$10:N53))","v":""}]
[null,null,null,null,null,null,null,null,null,null,null,null,null,{"$f":"IF(M55=\"\",\"\",M55+MAX(N$10:N54))","v":""}]
[null,null,null,null,null,null,null,null,null,null,null,null,null,{"$f":"IF(M56=\"\",\"\",M56+MAX(N$10:N55))","v":""}]
[null,null,null,null,null,null,null,null,null,null,null,null,null,{"$f":"IF(M57=\"\",\"\",M57+MAX(N$10:N56))","v":""}]
[null,null,null,null,null,null,null,null,null,null,null,null,null,{"$f":"IF(M58=\"\",\"\",M58+MAX(N$10:N57))","v":""}]
[null,null,null,null,null,null,null,null,null,null,null,null,null,{"$f":"IF(M59=\"\",\"\",M59+MAX(N$10:N58))","v":""}]
[null,null,null,null,null,null,null,null,null,null,null,null,null,{"$f":"IF(M60=\"\",\"\",M60+MAX(N$10:N59))","v":""}]
[null,null,null,null,null,null,null,null,null,null,null,null,null,{"$f":"IF(M61=\"\",\"\",M61+MAX(N$10:N60))","v":""}]
[null,null,null,null,null,null,null,null,null,null,null,null,null,{"$f":"IF(M62=\"\",\"\",M62+MAX(N$10:N61))","v":""}]
[null,null,null,null,null,null,null,null,null,null,null,null,null,{"$f":"IF(M63=\"\",\"\",M63+MAX(N$10:N62))","v":""}]
[null,null,null,"SPECIAL INSTRUCTIONS:",{"$f":"INDEX(QryItemE2019!F:F,MATCH(H5,QryItemE2019!A:A,0))","v":""},null,null,null,null,null,null,null,"TOTAL",{"$f":"IF(K5=\"LS\",\"LS\",\" \")","v":" "}]

{"sheet":"202E23500","index":3,"n_rows":64,"n_cols":18,"rows_kept":64,"cut":false,"hidden":false,"merged":[[3,16,3,21],[4,7,4,8]]}
[null,null,null,null,null,null,"DESIGN:",{"$f":"IF('Calc Cover Sheet'!B11=\"\",\"\",'Calc Cover Sheet'!B11)","v":"BMV"},"DATE:",{"$f":"IF('Calc Cover Sheet'!D11=\"\",\"\",'Calc Cover Sheet'!D11)","v":"2024-04-19"},"UPDATE:",{"$f":"IF('Calc Cover Sheet'!B13=\"\",\"\",'Calc Cover Sheet'!B13)","v":""},"DATE:",{"$f":"IF('Calc Cover Sheet'!D13=\"\",\"\",'Calc Cover Sheet'!D13)","v":""}]
[null,null,null,null,null,null,"CHECK:",{"$f":"IF('Calc Cover Sheet'!B12=\"\",\"\",'Calc Cover Sheet'!B12)","v":"TLC"},"DATE:",{"$f":"IF('Calc Cover Sheet'!D12=\"\",\"\",'Calc Cover Sheet'!D12)","v":"2024-04-25"},"RECHECK:",{"$f":"IF('Calc Cover Sheet'!B14=\"\",\"\",'Calc Cover Sheet'!B14)","v":""},"DATE:",{"$f":"IF('Calc Cover Sheet'!D14=\"\",\"\",'Calc Cover Sheet'!D14)","v":""}]
[null,null,null,null,null,null,"STRUCTURE:",{"$f":"IF('Calc Cover Sheet'!B7=\"\",\"\",'Calc Cover Sheet'!B7)","v":"HAM-00145-0203"},null,null,"SFN:",{"$f":"IF('Calc Cover Sheet'!B3=\"\",\"\",'Calc Cover Sheet'!B3)","v":3108680},"PID:",{"$f":"IF('Calc Cover Sheet'!B9=\"\",\"\",'Calc Cover Sheet'!B9)","v":110563}]
[null,null,null,null,null,null,null,null,null,null,null,null,null,null,null,null,"Lump Sum Tags (Items with a \"LS\" Pay Unit can be tagged with one or several categories)"]
[null,null,null,null,null,null,"ITEM:",{"$f":"MID(RIGHT(CELL(\"filename\",D2),LEN(CELL(\"filename\",D2))-FIND(\"]\",CELL(\"filename\",D2))),1,9)","v":"202E23500"},null,"PAY UNIT:",{"$f":"INDEX(QryItemE2019!B:B,MATCH(H5,QryItemE2019!A:A,0))","v":"SY"}]
[null,null,null,null,null,null,"SUBJECT:",{"$f":"IF('Calc Cover Sheet'!B2=\"\",\"\",'Calc Cover Sheet'!B2)","v":"ESTIMATED QUANTITIES"}]
[null,null,null,"DESCRIPTION:",{"$f":"INDEX(QryItemE2019!C:C,MATCH(H5,QryItemE2019!A:A,0))","v":"WEARING COURSE REMOVED"}]
[null,null,null,"SUPPLEMENTAL DESCRIPTION:"]
[null,null,null,null,null,null,null,null,null,null,null,null,"SUBTOTAL","TOTAL",null,null,"GROUP","<<<<<Tag each subtotal value with a group from this column"]
[null,null,null,null,null,null,null,null,null,null,null,null,null,{"$f":"IF(M10=\"\",\"\",M10+MAX(N$9:N9))","v":""}]
[null,null,null,null,null,null,null,null,null,null,null,null,null,{"$f":"IF(M11=\"\",\"\",M11+MAX(N$9:N10))","v":""}]
[null,null,null,"# of Approaches = ",2,null,null,null,null,null,null,null,null,{"$f":"IF(M12=\"\",\"\",M12+MAX(N$9:N11))","v":""}]
[null,null,null,"Approach Length = ",25,"ft",null,null,null,null,null,null,null,{"$f":"IF(M13=\"\",\"\",M13+MAX(N$9:N12))","v":""}]
[null,null,null,"Roadway Width = ",30,"ft",null,null,null,null,null,null,null,{"$f":"IF(M14=\"\",\"\",M14+MAX(N$9:N13))","v":""}]
[null,null,null,null,null,null,null,null,null,null,null,null,null,{"$f":"IF(M15=\"\",\"\",M15+MAX(N$9:N14))","v":""}]
[null,null,null,"Area = ",{"$f":"E12*E13*E14/9","v":166.66666666666666},"sy",null,null,null,null,null,null,{"$f":"CEILING(E16,1)","v":167},{"$f":"IF(M16=\"\",\"\",M16+MAX(N$9:N15))","v":167},null,null,"GEN."]
[null,null,null,null,null,null,null,null,null,null,null,null,null,{"$f":"IF(M17=\"\",\"\",M17+MAX(N$9:N16))","v":""}]
[null,null,null,null,null,null,null,null,null,null,null,null,null,{"$f":"IF(M18=\"\",\"\",M18+MAX(N$9:N17))","v":""}]
[]
[null,null,null,null,null,null,null,null,null,null,null,null,null,{"$f":"IF(M20=\"\",\"\",M20+MAX(N$9:N19))","v":""}]
[null,null,null,null,null,null,null,null,null,null,null,null,null,{"$f":"IF(M21=\"\",\"\",M21+MAX(N$9:N20))","v":""}]
[null,null,null,null,null,null,null,null,null,null,null,null,null,{"$f":"IF(M22=\"\",\"\",M22+MAX(N$9:N21))","v":""}]
[null,null,null,null,null,null,null,null,null,null,null,null,null,{"$f":"IF(M23=\"\",\"\",M23+MAX(N$9:N22))","v":""}]
[null,null,null,null,null,null,null,null,null,null,null,null,null,{"$f":"IF(M24=\"\",\"\",M24+MAX(N$9:N23))","v":""}]
[null,null,null,null,null,null,null,null,null,null,null,null,null,{"$f":"IF(M25=\"\",\"\",M25+MAX(N$9:N24))","v":""}]
[null,null,null,null,null,null,null,null,null,null,null,null,null,{"$f":"IF(M26=\"\",\"\",M26+MAX(N$9:N25))","v":""}]
[null,null,null,null,null,null,null,null,null,null,null,null,null,{"$f":"IF(M27=\"\",\"\",M27+MAX(N$9:N26))","v":""}]
[null,null,null,null,null,null,null,null,null,null,null,null,null,{"$f":"IF(M28=\"\",\"\",M28+MAX(N$9:N27))","v":""}]
[null,null,null,null,null,null,null,null,null,null,null,null,null,{"$f":"IF(M29=\"\",\"\",M29+MAX(N$9:N28))","v":""}]
[null,null,null,null,null,null,null,null,null,null,null,null,null,{"$f":"IF(M30=\"\",\"\",M30+MAX(N$9:N29))","v":""}]
[null,null,null,null,null,null,null,null,null,null,null,null,null,{"$f":"IF(M31=\"\",\"\",M31+MAX(N$9:N30))","v":""}]
[null,null,null,null,null,null,null,null,null,null,null,null,null,{"$f":"IF(M32=\"\",\"\",M32+MAX(N$9:N31))","v":""}]
[null,null,null,null,null,null,null,null,null,null,null,null,null,{"$f":"IF(M33=\"\",\"\",M33+MAX(N$9:N32))","v":""}]
[null,null,null,null,null,null,null,null,null,null,null,null,null,{"$f":"IF(M34=\"\",\"\",M34+MAX(N$9:N33))","v":""}]
[null,null,null,null,null,null,null,null,null,null,null,null,null,{"$f":"IF(M35=\"\",\"\",M35+MAX(N$9:N34))","v":""}]
[null,null,null,null,null,null,null,null,null,null,null,null,null,{"$f":"IF(M36=\"\",\"\",M36+MAX(N$9:N35))","v":""}]
[null,null,null,null,null,null,null,null,null,null,null,null,null,{"$f":"IF(M37=\"\",\"\",M37+MAX(N$10:N36))","v":""}]
[null,null,null,null,null,null,null,null,null,null,null,null,null,{"$f":"IF(M38=\"\",\"\",M38+MAX(N$10:N37))","v":""}]
[null,null,null,null,null,null,null,null,null,null,null,null,null,{"$f":"IF(M39=\"\",\"\",M39+MAX(N$10:N38))","v":""}]
[null,null,null,null,null,null,null,null,null,null,null,null,null,{"$f":"IF(M40=\"\",\"\",M40+MAX(N$10:N39))","v":""}]
[null,null,null,null,null,null,null,null,null,null,null,null,null,{"$f":"IF(M41=\"\",\"\",M41+MAX(N$10:N40))","v":""}]
[null,null,null,null,null,null,null,null,null,null,null,null,null,{"$f":"IF(M42=\"\",\"\",M42+MAX(N$10:N41))","v":""}]
[null,null,null,null,null,null,null,null,null,null,null,null,null,{"$f":"IF(M43=\"\",\"\",M43+MAX(N$10:N42))","v":""}]
[null,null,null,null,null,null,null,null,null,null,null,null,null,{"$f":"IF(M44=\"\",\"\",M44+MAX(N$10:N43))","v":""}]
[null,null,null,null,null,null,null,null,null,null,null,null,null,{"$f":"IF(M45=\"\",\"\",M45+MAX(N$10:N44))","v":""}]
[null,null,null,null,null,null,null,null,null,null,null,null,null,{"$f":"IF(M46=\"\",\"\",M46+MAX(N$10:N45))","v":""}]
[null,null,null,null,null,null,null,null,null,null,null,null,null,{"$f":"IF(M47=\"\",\"\",M47+MAX(N$10:N46))","v":""}]
[null,null,null,null,null,null,null,null,null,null,null,null,null,{"$f":"IF(M48=\"\",\"\",M48+MAX(N$10:N47))","v":""}]
[null,null,null,null,null,null,null,null,null,null,null,null,null,{"$f":"IF(M49=\"\",\"\",M49+MAX(N$10:N48))","v":""}]
[null,null,null,null,null,null,null,null,null,null,null,null,null,{"$f":"IF(M50=\"\",\"\",M50+MAX(N$10:N49))","v":""}]
[null,null,null,null,null,null,null,null,null,null,null,null,null,{"$f":"IF(M51=\"\",\"\",M51+MAX(N$10:N50))","v":""}]
[null,null,null,null,null,null,null,null,null,null,null,null,null,{"$f":"IF(M52=\"\",\"\",M52+MAX(N$10:N51))","v":""}]
[null,null,null,null,null,null,null,null,null,null,null,null,null,{"$f":"IF(M53=\"\",\"\",M53+MAX(N$10:N52))","v":""}]
[null,null,null,null,null,null,null,null,null,null,null,null,null,{"$f":"IF(M54=\"\",\"\",M54+MAX(N$10:N53))","v":""}]
[null,null,null,null,null,null,null,null,null,null,null,null,null,{"$f":"IF(M55=\"\",\"\",M55+MAX(N$10:N54))","v":""}]
[null,null,null,null,null,null,null,null,null,null,null,null,null,{"$f":"IF(M56=\"\",\"\",M56+MAX(N$10:N55))","v":""}]
[null,null,null,null,null,null,null,null,null,null,null,null,null,{"$f":"IF(M57=\"\",\"\",M57+MAX(N$10:N56))","v":""}]
[null,null,null,null,null,null,null,null,null,null,null,null,null,{"$f":"IF(M58=\"\",\"\",M58+MAX(N$10:N57))","v":""}]
[null,null,null,null,null,null,null,null,null,null,null,null,null,{"$f":"IF(M59=\"\",\"\",M59+MAX(N$10:N58))","v":""}]
[null,null,null,null,null,null,null,null,null,null,null,null,null,{"$f":"IF(M60=\"\",\"\",M60+MAX(N$10:N59))","v":""}]
[null,null,null,null,null,null,null,null,null,null,null,null,null,{"$f":"IF(M61=\"\",\"\",M61+MAX(N$10:N60))","v":""}]
[null,null,null,null,null,null,null,null,null,null,null,null,null,{"$f":"IF(M62=\"\",\"\",M62+MAX(N$10:N61))","v":""}]
[null,null,null,null,null,null,null,null,null,null,null,null,null,{"$f":"IF(M63=\"\",\"\",M63+MAX(N$10:N62))","v":""}]
[null,null,null,"SPECIAL INSTRUCTIONS:",{"$f":"INDEX(QryItemE2019!F:F,MATCH(H5,QryItemE2019!A:A,0))","v":""},null,null,null,null,null,null,null,"TOTAL",{"$f":"IF(K5=\"LS\",\"LS\",\" \")","v":" "}]

{"sheet":"203E35111","index":4,"n_rows":58,"n_cols":18,"rows_kept":58,"cut":false,"hidden":false,"merged":[[3,16,3,21],[4,7,4,8]]}
[null,null,null,null,null,null,"DESIGN:",{"$f":"IF('Calc Cover Sheet'!B11=\"\",\"\",'Calc Cover Sheet'!B11)","v":"BMV"},"DATE:",{"$f":"IF('Calc Cover Sheet'!D11=\"\",\"\",'Calc Cover Sheet'!D11)","v":"2024-04-19"},"UPDATE:",{"$f":"IF('Calc Cover Sheet'!B13=\"\",\"\",'Calc Cover Sheet'!B13)","v":""},"DATE:",{"$f":"IF('Calc Cover Sheet'!D13=\"\",\"\",'Calc Cover Sheet'!D13)","v":""}]
[null,null,null,null,null,null,"CHECK:",{"$f":"IF('Calc Cover Sheet'!B12=\"\",\"\",'Calc Cover Sheet'!B12)","v":"TLC"},"DATE:",{"$f":"IF('Calc Cover Sheet'!D12=\"\",\"\",'Calc Cover Sheet'!D12)","v":"2024-04-25"},"RECHECK:",{"$f":"IF('Calc Cover Sheet'!B14=\"\",\"\",'Calc Cover Sheet'!B14)","v":""},"DATE:",{"$f":"IF('Calc Cover Sheet'!D14=\"\",\"\",'Calc Cover Sheet'!D14)","v":""}]
[null,null,null,null,null,null,"STRUCTURE:",{"$f":"IF('Calc Cover Sheet'!B7=\"\",\"\",'Calc Cover Sheet'!B7)","v":"HAM-00145-0203"},null,null,"SFN:",{"$f":"IF('Calc Cover Sheet'!B3=\"\",\"\",'Calc Cover Sheet'!B3)","v":3108680},"PID:",{"$f":"IF('Calc Cover Sheet'!B9=\"\",\"\",'Calc Cover Sheet'!B9)","v":110563}]
[null,null,null,null,null,null,null,null,null,null,null,null,null,null,null,null,"Lump Sum Tags (Items with a \"LS\" Pay Unit can be tagged with one or several categories)"]
[null,null,null,null,null,null,"ITEM:",{"$f":"MID(RIGHT(CELL(\"filename\",D2),LEN(CELL(\"filename\",D2))-FIND(\"]\",CELL(\"filename\",D2))),1,9)","v":"203E35111"},null,"PAY UNIT:",{"$f":"INDEX(QryItemE2019!B:B,MATCH(H5,QryItemE2019!A:A,0))","v":"CY"}]
[null,null,null,null,null,null,"SUBJECT:",{"$f":"IF('Calc Cover Sheet'!B2=\"\",\"\",'Calc Cover Sheet'!B2)","v":"ESTIMATED QUANTITIES"}]
[null,null,null,"DESCRIPTION:",{"$f":"INDEX(QryItemE2019!C:C,MATCH(H5,QryItemE2019!A:A,0))","v":"GRANULAR MATERIAL, TYPE B, AS PER PLAN"}]
[null,null,null,"SUPPLEMENTAL DESCRIPTION:"]
[null,null,null,null,null,null,null,null,null,null,null,null,"SUBTOTAL","TOTAL",null,null,"GROUP","<<<<<Tag each subtotal value with a group from this column"]
[null,null,null,null,null,null,null,null,null,null,null,null,null,{"$f":"IF(M10=\"\",\"\",M10+MAX(N$9:N9))","v":""}]
[null,null,null,null,null,null,null,null,null,null,null,null,null,{"$f":"IF(M11=\"\",\"\",M11+MAX(N$9:N10))","v":""}]
[null,null,null,"Approach Slab Thickness = ",17,"in",null,"Abut. Footing Width = ",6.5,"ft",null,null,null,{"$f":"IF(M12=\"\",\"\",M12+MAX(N$9:N11))","v":""}]
[null,null,null,"Deck thickness = ",8.5,"in",null,null,null,null,null,null,null,{"$f":"IF(M13=\"\",\"\",M13+MAX(N$9:N12))","v":""}]
[null,null,null,"Beam Height = ",42,"in",null,null,null,null,null,null,null,{"$f":"IF(M14=\"\",\"\",M14+MAX(N$9:N13))","v":""}]
[null,null,null,"Haunch = ",4.75,"in",null,null,null,null,null,null,null,{"$f":"IF(M15=\"\",\"\",M15+MAX(N$9:N14))","v":""}]
[null,null,null,"Bearing height = ",11.8125,"in",null,null,null,null,null,null,null,{"$f":"IF(M16=\"\",\"\",M16+MAX(N$9:N15))","v":""}]
[null,null,null,"Abut. Stem Height = ",24,"in",null,null,null,null,null,null,null,{"$f":"IF(M17=\"\",\"\",M17+MAX(N$9:N16))","v":""}]
[null,null,null,"Abut. Footing Height = ",36,"in",null,null,null,null,null,null,null,{"$f":"IF(M18=\"\",\"\",M18+MAX(N$9:N17))","v":""}]
[]
[null,null,"Granular Material Behind Abutment Stem:",null,null,null,"APP",null,null,null,null,null,null,{"$f":"IF(M20=\"\",\"\",M20+MAX(N$9:N19))","v":""}]
[null,null,null,"Width = ",38.833300000000001,"ft",null,null,null,null,null,null,null,{"$f":"IF(M21=\"\",\"\",M21+MAX(N$9:N20))","v":""}]
[null,null,null,"Length at Rear Abut. = ",23.416699999999999,"ft",null,null,null,null,null,null,null,{"$f":"IF(M22=\"\",\"\",M22+MAX(N$9:N21))","v":""}]
[null,null,null,"Length at Fwd. Abut. = ",26.416699999999999,"ft",null,null,null,null,null,null,null,{"$f":"IF(M23=\"\",\"\",M23+MAX(N$9:N22))","v":""}]
[null,null,null,"Depth = ",{"$f":"SUM(E13:E17)/12+0.5-E12/12","v":6.6718750000000009},"ft",null,null,null,null,null,null,null,{"$f":"IF(M24=\"\",\"\",M24+MAX(N$9:N22))","v":""}]
[null,null,null,null,null,null,null,null,null,null,null,null,null,{"$f":"IF(M25=\"\",\"\",M25+MAX(N$9:N24))","v":""}]
[null,null,null,"Volume = ",{"$f":"E21*(E22+E23)*E24/27","v":478.19931940853013},"CY",null,null,null,null,null,null,{"$f":"CEILING(E26,1)","v":479},{"$f":"IF(M26=\"\",\"\",M26+MAX(N$9:N25))","v":479},null,null,"ABUT."]
[null,null,null,null,null,null,null,null,null,null,null,null,null,{"$f":"IF(M27=\"\",\"\",M27+MAX(N$9:N26))","v":""}]
[null,null,null,null,null,null,null,null,null,null,null,null,null,{"$f":"IF(M28=\"\",\"\",M28+MAX(N$9:N27))","v":""}]
[null,null,null,null,null,null,null,null,null,null,null,null,null,{"$f":"IF(M29=\"\",\"\",M29+MAX(N$9:N28))","v":""}]
[null,null,null,null,null,null,null,null,null,null,null,null,null,{"$f":"IF(M30=\"\",\"\",M30+MAX(N$9:N29))","v":""}]
[null,null,null,null,null,null,null,null,null,null,null,null,null,{"$f":"IF(M31=\"\",\"\",M31+MAX(N$10:N30))","v":""}]
[null,null,null,null,null,null,null,null,null,null,null,null,null,{"$f":"IF(M32=\"\",\"\",M32+MAX(N$10:N31))","v":""}]
[null,null,null,null,null,null,null,null,null,null,null,null,null,{"$f":"IF(M33=\"\",\"\",M33+MAX(N$10:N32))","v":""}]
[null,null,null,null,null,null,null,null,null,null,null,null,null,{"$f":"IF(M34=\"\",\"\",M34+MAX(N$10:N33))","v":""}]
[null,null,null,null,null,null,null,null,null,null,null,null,null,{"$f":"IF(M35=\"\",\"\",M35+MAX(N$10:N34))","v":""}]
[null,null,null,null,null,null,null,null,null,null,null,null,null,{"$f":"IF(M36=\"\",\"\",M36+MAX(N$10:N35))","v":""}]
[null,null,null,null,null,null,null,null,null,null,null,null,null,{"$f":"IF(M37=\"\",\"\",M37+MAX(N$10:N36))","v":""}]
[null,null,null,null,null,null,null,null,null,null,null,null,null,{"$f":"IF(M38=\"\",\"\",M38+MAX(N$10:N37))","v":""}]
[null,null,null,null,null,null,null,null,null,null,null,null,null,{"$f":"IF(M39=\"\",\"\",M39+MAX(N$10:N38))","v":""}]
[null,null,null,null,null,null,null,null,null,null,null,null,null,{"$f":"IF(M40=\"\",\"\",M40+MAX(N$10:N39))","v":""}]
[null,null,null,null,null,null,null,null,null,null,null,null,null,{"$f":"IF(M41=\"\",\"\",M41+MAX(N$10:N40))","v":""}]
[null,null,null,null,null,null,null,null,null,null,null,null,null,{"$f":"IF(M42=\"\",\"\",M42+MAX(N$10:N41))","v":""}]
[null,null,null,null,null,null,null,null,null,null,null,null,null,{"$f":"IF(M43=\"\",\"\",M43+MAX(N$10:N42))","v":""}]
[null,null,null,null,null,null,null,null,null,null,null,null,null,{"$f":"IF(M44=\"\",\"\",M44+MAX(N$10:N43))","v":""}]
[null,null,null,null,null,null,null,null,null,null,null,null,null,{"$f":"IF(M45=\"\",\"\",M45+MAX(N$10:N44))","v":""}]
[null,null,null,null,null,null,null,null,null,null,null,null,null,{"$f":"IF(M46=\"\",\"\",M46+MAX(N$10:N45))","v":""}]
[null,null,null,null,null,null,null,null,null,null,null,null,null,{"$f":"IF(M47=\"\",\"\",M47+MAX(N$10:N46))","v":""}]
[null,null,null,null,null,null,null,null,null,null,null,null,null,{"$f":"IF(M48=\"\",\"\",M48+MAX(N$10:N47))","v":""}]
[null,null,null,null,null,null,null,null,null,null,null,null,null,{"$f":"IF(M49=\"\",\"\",M49+MAX(N$10:N48))","v":""}]
[null,null,null,null,null,null,null,null,null,null,null,null,null,{"$f":"IF(M50=\"\",\"\",M50+MAX(N$10:N49))","v":""}]
[null,null,null,null,null,null,null,null,null,null,null,null,null,{"$f":"IF(M51=\"\",\"\",M51+MAX(N$10:N50))","v":""}]
[null,null,null,null,null,null,null,null,null,null,null,null,null,{"$f":"IF(M52=\"\",\"\",M52+MAX(N$10:N51))","v":""}]
[null,null,null,null,null,null,null,null,null,null,null,null,null,{"$f":"IF(M53=\"\",\"\",M53+MAX(N$10:N52))","v":""}]
[null,null,null,null,null,null,null,null,null,null,null,null,null,{"$f":"IF(M54=\"\",\"\",M54+MAX(N$10:N53))","v":""}]
[null,null,null,null,null,null,null,null,null,null,null,null,null,{"$f":"IF(M55=\"\",\"\",M55+MAX(N$10:N54))","v":""}]
[null,null,null,null,null,null,null,null,null,null,null,null,null,{"$f":"IF(M56=\"\",\"\",M56+MAX(N$10:N55))","v":""}]
[null,null,null,null,null,null,null,null,null,null,null,null,null,{"$f":"IF(M57=\"\",\"\",M57+MAX(N$10:N56))","v":""}]
[null,null,null,"SPECIAL INSTRUCTIONS:",{"$f":"INDEX(QryItemE2019!F:F,MATCH(H5,QryItemE2019!A:A,0))","v":""},null,null,null,null,null,null,null,"TOTAL",{"$f":"IF(K5=\"LS\",\"LS\",\" \")","v":" "}]

{"sheet":"203E35120","index":5,"n_rows":77,"n_cols":18,"rows_kept":77,"cut":false,"hidden":false,"merged":[[3,16,3,21],[4,7,4,8]]}
[null,null,null,null,null,null,"DESIGN:",{"$f":"IF('Calc Cover Sheet'!B11=\"\",\"\",'Calc Cover Sheet'!B11)","v":"BMV"},"DATE:",{"$f":"IF('Calc Cover Sheet'!D11=\"\",\"\",'Calc Cover Sheet'!D11)","v":"2024-04-19"},"UPDATE:",{"$f":"IF('Calc Cover Sheet'!B13=\"\",\"\",'Calc Cover Sheet'!B13)","v":""},"DATE:",{"$f":"IF('Calc Cover Sheet'!D13=\"\",\"\",'Calc Cover Sheet'!D13)","v":""}]
[null,null,null,null,null,null,"CHECK:",{"$f":"IF('Calc Cover Sheet'!B12=\"\",\"\",'Calc Cover Sheet'!B12)","v":"TLC"},"DATE:",{"$f":"IF('Calc Cover Sheet'!D12=\"\",\"\",'Calc Cover Sheet'!D12)","v":"2024-04-25"},"RECHECK:",{"$f":"IF('Calc Cover Sheet'!B14=\"\",\"\",'Calc Cover Sheet'!B14)","v":""},"DATE:",{"$f":"IF('Calc Cover Sheet'!D14=\"\",\"\",'Calc Cover Sheet'!D14)","v":""}]
[null,null,null,null,null,null,"STRUCTURE:",{"$f":"IF('Calc Cover Sheet'!B7=\"\",\"\",'Calc Cover Sheet'!B7)","v":"HAM-00145-0203"},null,null,"SFN:",{"$f":"IF('Calc Cover Sheet'!B3=\"\",\"\",'Calc Cover Sheet'!B3)","v":3108680},"PID:",{"$f":"IF('Calc Cover Sheet'!B9=\"\",\"\",'Calc Cover Sheet'!B9)","v":110563}]
[null,null,null,null,null,null,null,null,null,null,null,null,null,null,null,null,"Lump Sum Tags (Items with a \"LS\" Pay Unit can be tagged with one or several categories)"]
[null,null,null,null,null,null,"ITEM:",{"$f":"MID(RIGHT(CELL(\"filename\",D2),LEN(CELL(\"filename\",D2))-FIND(\"]\",CELL(\"filename\",D2))),1,9)","v":"203E35120"},null,"PAY UNIT:",{"$f":"INDEX(QryItemE2019!B:B,MATCH(H5,QryItemE2019!A:A,0))","v":"CY"}]
[null,null,null,null,null,null,"SUBJECT:",{"$f":"IF('Calc Cover Sheet'!B2=\"\",\"\",'Calc Cover Sheet'!B2)","v":"ESTIMATED QUANTITIES"}]
[null,null,null,"DESCRIPTION:",{"$f":"INDEX(QryItemE2019!C:C,MATCH(H5,QryItemE2019!A:A,0))","v":"GRANULAR MATERIAL, TYPE C"}]
[null,null,null,"SUPPLEMENTAL DESCRIPTION:"]
[null,null,null,null,null,null,null,null,null,null,null,null,"SUBTOTAL","TOTAL",null,null,"GROUP","<<<<<Tag each subtotal value with a group from this column"]
[null,null,null,null,null,null,null,null,null,null,null,null,null,{"$f":"IF(M10=\"\",\"\",M10+MAX(N$9:N9))","v":""}]
[null,null,"1ft depth below mse wall for limits of excavation",null,null,null,null,null,null,null,null,null,null,{"$f":"IF(M11=\"\",\"\",M11+MAX(N$9:N10))","v":""}]
[null,null,null,null,null,null,null,null,null,null,null,null,null,{"$f":"IF(M12=\"\",\"\",M12+MAX(N$9:N11))","v":""}]
[null,null,"Abutments & Turnbacks:",null,null,null,null,null,null,null,null,null,null,{"$f":"IF(M13=\"\",\"\",M13+MAX(N$9:N12))","v":""}]
[null,null,null,"Type C depth = ",1,"ft"]
[null,null,null,"MSE Wall Width = ",0.45800000000000002,"ft"]
[null,null,null,"MSE Wall Base Width = ",2,"ft"]
[null,null,null,"Rear Soil Reinforcement length = ",20,"ft",null,null,null,null,null,null,null,{"$f":"IF(M17=\"\",\"\",M17+MAX(N$9:N13))","v":""}]
[null,null,null,"Fwd. Soil Reinforcement length = ",23,"ft"]
[null,null,null,"Rear Limits of Wall Excavation = ",{"$f":"1+0.5*E16+0.5*E15+E17+2","v":24.228999999999999},"ft",null,null,null,null,null,null,null,{"$f":"IF(M19=\"\",\"\",M19+MAX(N$9:N17))","v":""}]
[null,null,null,"Fwd. Limits of Wall Excavation = ",{"$f":"1+0.5*E16+0.5*E15+E18+2","v":27.228999999999999},"ft"]
[]
[null,"→ Required strap length will result in overlap, therefore, excavation area will be full plan area under wall limits. (BDM Fig. 201-6)"]
[]
[null,null,null,"Abutment Face MSE Wall Length = ",40.090000000000003,"ft",null,null,null,null,null,null,null,{"$f":"IF(M24=\"\",\"\",M24+MAX(N$9:N19))","v":""}]
[null,null,null,"Turnback Length, Rear Abut. = ",48,"ft",null,null,null,null,null,null,null,{"$f":"IF(M25=\"\",\"\",M25+MAX(N$9:N24))","v":""}]
[null,null,null,"Turnback Length, Fwd. Abut. = ",65,"ft",null,null,null,null,null,null,null,{"$f":"IF(M26=\"\",\"\",M26+MAX(N$9:N25))","v":""}]
[]
[null,null,null,"Width =",{"$f":"E24+(1-E15/2)*2+2","v":43.632000000000005},"ft"]
[null,null,null,"Length =",{"$f":"E25+(1-E15/2)+1","v":49.771000000000001},"ft"]
[null,null,null,"Rear Abut. Area = ",{"$f":"E28*E29","v":2171.6082720000004},"SF"]
[]
[null,null,null,"Width =",{"$f":"E24+(1-E15/2)*2+2","v":43.632000000000005},"ft"]
[null,null,null,"Length =",{"$f":"E26+(1-E15/2)+1","v":66.771000000000001},"ft"]
[null,null,null,"Fwd. Abut Area = ",{"$f":"E33*E32","v":2913.3522720000005},"SF",null,null,null,null,null,null,null,{"$f":"IF(M34=\"\",\"\",M34+MAX(N$9:N33))","v":""}]
[null,null,null,null,null,null,null,null,null,null,null,null,null,{"$f":"IF(M35=\"\",\"\",M35+MAX(N$9:N34))","v":""}]
[null,null,null,"Volume = ",{"$f":"(E30+E34)*E14/27","v":188.33187200000006},"CY",null,null,null,null,null,null,{"$f":"CEILING(E36,1)","v":189},{"$f":"IF(M36=\"\",\"\",M36+MAX(N$9:N35))","v":189},null,null,"ABUT."]
[null,null,null,null,null,null,null,null,null,null,null,null,null,{"$f":"IF(M37=\"\",\"\",M37+MAX(N$9:N36))","v":""}]
[null,null,null,null,null,null,null,null,null,null,null,null,null,{"$f":"IF(M38=\"\",\"\",M38+MAX(N$9:N37))","v":""}]
[null,null,null,null,null,null,null,null,null,null,null,null,null,{"$f":"IF(M39=\"\",\"\",M39+MAX(N$9:N38))","v":""}]
[null,null,null,null,null,null,null,null,null,null,null,null,null,{"$f":"IF(M40=\"\",\"\",M40+MAX(N$9:N39))","v":""}]
[null,null,null,null,null,null,null,null,null,null,null,null,null,{"$f":"IF(M41=\"\",\"\",M41+MAX(N$9:N40))","v":""}]
[null,null,null,null,null,null,null,null,null,null,null,null,null,{"$f":"IF(M42=\"\",\"\",M42+MAX(N$9:N41))","v":""}]
[null,null,null,null,null,null,null,null,null,null,null,null,null,{"$f":"IF(M43=\"\",\"\",M43+MAX(N$9:N42))","v":""}]
[null,null,null,null,null,null,null,null,null,null,null,null,null,{"$f":"IF(M44=\"\",\"\",M44+MAX(N$9:N43))","v":""}]
[null,null,null,null,null,null,null,null,null,null,null,null,null,{"$f":"IF(M45=\"\",\"\",M45+MAX(N$9:N44))","v":""}]
[null,null,null,null,null,null,null,null,null,null,null,null,null,{"$f":"IF(M46=\"\",\"\",M46+MAX(N$9:N45))","v":""}]
[null,null,null,null,null,null,null,null,null,null,null,null,null,{"$f":"IF(M47=\"\",\"\",M47+MAX(N$9:N46))","v":""}]
[null,null,null,null,null,null,null,null,null,null,null,null,null,{"$f":"IF(M48=\"\",\"\",M48+MAX(N$9:N47))","v":""}]
[null,null,null,null,null,null,null,null,null,null,null,null,null,{"$f":"IF(M49=\"\",\"\",M49+MAX(N$9:N48))","v":""}]
[null,null,null,null,null,null,null,null,null,null,null,null,null,{"$f":"IF(M50=\"\",\"\",M50+MAX(N$10:N49))","v":""}]
[null,null,null,null,null,null,null,null,null,null,null,null,null,{"$f":"IF(M51=\"\",\"\",M51+MAX(N$10:N50))","v":""}]
[null,null,null,null,null,null,null,null,null,null,null,null,null,{"$f":"IF(M52=\"\",\"\",M52+MAX(N$10:N51))","v":""}]
[null,null,null,null,null,null,null,null,null,null,null,null,null,{"$f":"IF(M53=\"\",\"\",M53+MAX(N$10:N52))","v":""}]
[null,null,null,null,null,null,null,null,null,null,null,null,null,{"$f":"IF(M54=\"\",\"\",M54+MAX(N$10:N53))","v":""}]
[null,null,null,null,null,null,null,null,null,null,null,null,null,{"$f":"IF(M55=\"\",\"\",M55+MAX(N$10:N54))","v":""}]
[null,null,null,null,null,null,null,null,null,null,null,null,null,{"$f":"IF(M56=\"\",\"\",M56+MAX(N$10:N55))","v":""}]
[null,null,null,null,null,null,null,null,null,null,null,null,null,{"$f":"IF(M57=\"\",\"\",M57+MAX(N$10:N56))","v":""}]
[null,null,null,null,null,null,null,null,null,null,null,null,null,{"$f":"IF(M58=\"\",\"\",M58+MAX(N$10:N57))","v":""}]
[null,null,null,null,null,null,null,null,null,null,null,null,null,{"$f":"IF(M59=\"\",\"\",M59+MAX(N$10:N58))","v":""}]
[null,null,null,null,null,null,null,null,null,null,null,null,null,{"$f":"IF(M60=\"\",\"\",M60+MAX(N$10:N59))","v":""}]
[null,null,null,null,null,null,null,null,null,null,null,null,null,{"$f":"IF(M61=\"\",\"\",M61+MAX(N$10:N60))","v":""}]
[null,null,null,null,null,null,null,null,null,null,null,null,null,{"$f":"IF(M62=\"\",\"\",M62+MAX(N$10:N61))","v":""}]
[null,null,null,null,null,null,null,null,null,null,null,null,null,{"$f":"IF(M63=\"\",\"\",M63+MAX(N$10:N62))","v":""}]
[null,null,null,null,null,null,null,null,null,null,null,null,null,{"$f":"IF(M64=\"\",\"\",M64+MAX(N$10:N63))","v":""}]
[null,null,null,null,null,null,null,null,null,null,null,null,null,{"$f":"IF(M65=\"\",\"\",M65+MAX(N$10:N64))","v":""}]
[null,null,null,null,null,null,null,null,null,null,null,null,null,{"$f":"IF(M66=\"\",\"\",M66+MAX(N$10:N65))","v":""}]
[null,null,null,null,null,null,null,null,null,null,null,null,null,{"$f":"IF(M67=\"\",\"\",M67+MAX(N$10:N66))","v":""}]
[null,null,null,null,null,null,null,null,null,null,null,null,null,{"$f":"IF(M68=\"\",\"\",M68+MAX(N$10:N67))","v":""}]
[null,null,null,null,null,null,null,null,null,null,null,null,null,{"$f":"IF(M69=\"\",\"\",M69+MAX(N$10:N68))","v":""}]
[null,null,null,null,null,null,null,null,null,null,null,null,null,{"$f":"IF(M70=\"\",\"\",M70+MAX(N$10:N69))","v":""}]
[null,null,null,null,null,null,null,null,null,null,null,null,null,{"$f":"IF(M71=\"\",\"\",M71+MAX(N$10:N70))","v":""}]
[null,null,null,null,null,null,null,null,null,null,null,null,null,{"$f":"IF(M72=\"\",\"\",M72+MAX(N$10:N71))","v":""}]
[null,null,null,null,null,null,null,null,null,null,null,null,null,{"$f":"IF(M73=\"\",\"\",M73+MAX(N$10:N72))","v":""}]
[null,null,null,null,null,null,null,null,null,null,null,null,null,{"$f":"IF(M74=\"\",\"\",M74+MAX(N$10:N73))","v":""}]
[null,null,null,null,null,null,null,null,null,null,null,null,null,{"$f":"IF(M75=\"\",\"\",M75+MAX(N$10:N74))","v":""}]
[null,null,null,null,null,null,null,null,null,null,null,null,null,{"$f":"IF(M76=\"\",\"\",M76+MAX(N$10:N75))","v":""}]
[null,null,null,"SPECIAL INSTRUCTIONS:",{"$f":"INDEX(QryItemE2019!F:F,MATCH(H5,QryItemE2019!A:A,0))","v":""},null,null,null,null,null,null,null,"TOTAL",{"$f":"IF(K5=\"LS\",\"LS\",\" \")","v":" "}]

{"sheet":"503E11101","index":6,"n_rows":67,"n_cols":18,"rows_kept":67,"cut":false,"hidden":false,"merged":[[3,16,3,21],[4,7,4,8],[50,3,50,5]]}
[null,null,null,null,null,null,"DESIGN:",{"$f":"IF('Calc Cover Sheet'!B11=\"\",\"\",'Calc Cover Sheet'!B11)","v":"BMV"},"DATE:",{"$f":"IF('Calc Cover Sheet'!D11=\"\",\"\",'Calc Cover Sheet'!D11)","v":"2024-04-19"},"UPDATE:",{"$f":"IF('Calc Cover Sheet'!B13=\"\",\"\",'Calc Cover Sheet'!B13)","v":""},"DATE:",{"$f":"IF('Calc Cover Sheet'!D13=\"\",\"\",'Calc Cover Sheet'!D13)","v":""}]
[null,null,null,null,null,null,"CHECK:",{"$f":"IF('Calc Cover Sheet'!B12=\"\",\"\",'Calc Cover Sheet'!B12)","v":"TLC"},"DATE:",{"$f":"IF('Calc Cover Sheet'!D12=\"\",\"\",'Calc Cover Sheet'!D12)","v":"2024-04-25"},"RECHECK:",{"$f":"IF('Calc Cover Sheet'!B14=\"\",\"\",'Calc Cover Sheet'!B14)","v":""},"DATE:",{"$f":"IF('Calc Cover Sheet'!D14=\"\",\"\",'Calc Cover Sheet'!D14)","v":""}]
[null,null,null,null,null,null,"STRUCTURE:",{"$f":"IF('Calc Cover Sheet'!B7=\"\",\"\",'Calc Cover Sheet'!B7)","v":"HAM-00145-0203"},null,null,"SFN:",{"$f":"IF('Calc Cover Sheet'!B3=\"\",\"\",'Calc Cover Sheet'!B3)","v":3108680},"PID:",{"$f":"IF('Calc Cover Sheet'!B9=\"\",\"\",'Calc Cover Sheet'!B9)","v":110563}]
[null,null,null,null,null,null,null,null,null,null,null,null,null,null,null,null,"Lump Sum Tags (Items with a \"LS\" Pay Unit can be tagged with one or several categories)"]
[null,null,null,null,null,null,"ITEM:",{"$f":"MID(RIGHT(CELL(\"filename\",D2),LEN(CELL(\"filename\",D2))-FIND(\"]\",CELL(\"filename\",D2))),1,9)","v":"503E11101"},null,"PAY UNIT:",{"$f":"INDEX(QryItemE2019!B:B,MATCH(H5,QryItemE2019!A:A,0))","v":"LS"}]
[null,null,null,null,null,null,"SUBJECT:",{"$f":"IF('Calc Cover Sheet'!B2=\"\",\"\",'Calc Cover Sheet'!B2)","v":"ESTIMATED QUANTITIES"}]
[null,null,null,"DESCRIPTION:",{"$f":"INDEX(QryItemE2019!C:C,MATCH(H5,QryItemE2019!A:A,0))","v":"COFFERDAMS AND EXCAVATION BRACING, AS PER PLAN"}]
[null,null,null,"SUPPLEMENTAL DESCRIPTION:"]
[null,null,null,null,null,null,null,null,null,null,null,null,"SUBTOTAL","TOTAL",null,null,"GROUP","<<<<<Tag each subtotal value with a group from this column"]
[null,null,null,null,null,null,null,null,null,null,null,null,null,{"$f":"IF(M10=\"\",\"\",M10+MAX(N$9:N9))","v":""}]
[null,null,null,"W18x76",null,null,null,null,null,null,null,null,null,{"$f":"IF(M11=\"\",\"\",M11+MAX(N$9:N10))","v":""}]
[null,null,null,null,null,null,null,null,null,null,null,null,null,{"$f":"IF(M12=\"\",\"\",M12+MAX(N$9:N11))","v":""}]
[null,null,null,"Excavation Length =",52,"ft",null,null,null,null,null,null,null,{"$f":"IF(M13=\"\",\"\",M13+MAX(N$9:N12))","v":""}]
[null,null,null,"Excavation Width =",15.5,"ft",null,null,null,null,null,null,null,{"$f":"IF(M14=\"\",\"\",M14+MAX(N$9:N13))","v":""}]
[null,null,null,"Excavation Perimeter =",{"$f":"(E13+E14)*2","v":135},"ft",null,null,null,null,null,null,null,{"$f":"IF(M15=\"\",\"\",M15+MAX(N$9:N14))","v":""}]
[null,null,null,"Max beam spa. =",5,"ft"]
[null,null,null,"# beams =",{"$f":"E15/E16","v":27},"each",null,null,null,null,null,null,null,{"$f":"IF(M17=\"\",\"\",M17+MAX(N$9:N16))","v":""}]
[null,null,null,null,null,null,null,null,null,null,null,null,null,{"$f":"IF(M18=\"\",\"\",M18+MAX(N$9:N17))","v":""}]
[null,null,null,"Beam top El =",785.5,null,null,null,null,null,null,null,null,{"$f":"IF(M19=\"\",\"\",M19+MAX(N$9:N18))","v":""}]
[null,null,null,"Beam bott El =",760.5,null,null,null,null,null,null,null,null,{"$f":"IF(M20=\"\",\"\",M20+MAX(N$9:N19))","v":""}]
[null,null,null,"Beam Length =",{"$f":"E19-E20","v":25},"ft",null,null,null,null,null,null,null,{"$f":"IF(M21=\"\",\"\",M21+MAX(N$9:N20))","v":""}]
[null,null,null,null,null,null,null,null,null,null,null,null,null,{"$f":"IF(M22=\"\",\"\",M22+MAX(N$9:N21))","v":""}]
[null,null,null,"Steel cost =",95,"$/ft",null,null,null,null,null,null,null,{"$f":"IF(M23=\"\",\"\",M23+MAX(N$9:N22))","v":""}]
[null,null,null,null,null,null,null,null,null,null,null,null,null,{"$f":"IF(M24=\"\",\"\",M24+MAX(N$9:N23))","v":""}]
[null,null,null,"Beam cost =",{"$f":"E21*E17*E23","v":64125},null,null,null,null,null,null,null,null,{"$f":"IF(M25=\"\",\"\",M25+MAX(N$9:N24))","v":""}]
[null,null,null,null,null,null,null,null,null,null,null,null,null,{"$f":"IF(M26=\"\",\"\",M26+MAX(N$9:N25))","v":""}]
[null,null,null,"Lagging",null,null,null,null,null,null,null,null,null,{"$f":"IF(M27=\"\",\"\",M27+MAX(N$9:N26))","v":""}]
[null,null,null,null,null,null,null,null,null,null,null,null,null,{"$f":"IF(M28=\"\",\"\",M28+MAX(N$9:N27))","v":""}]
[null,null,null,"Bott. Excavation =",770,null,null,null,null,null,null,null,null,{"$f":"IF(M29=\"\",\"\",M29+MAX(N$9:N28))","v":""}]
[null,null,null,"Excavation Depth =",{"$f":"E19-E29","v":15.5},"ft",null,null,null,null,null,null,null,{"$f":"IF(M30=\"\",\"\",M30+MAX(N$9:N29))","v":""}]
[null,null,null,null,null,null,null,null,null,null,null,null,null,{"$f":"IF(M31=\"\",\"\",M31+MAX(N$9:N30))","v":""}]
[null,null,null,"Area =",{"$f":"2*(E13+E14)*E30","v":2092.5},"sq ft",null,null,null,null,null,null,null,{"$f":"IF(M32=\"\",\"\",M32+MAX(N$9:N31))","v":""}]
[null,null,null,"Lagging cost =",38,"$/sq ft",null,null,null,null,null,null,null,{"$f":"IF(M33=\"\",\"\",M33+MAX(N$9:N32))","v":""}]
[null,null,null,null,null,null,null,null,null,null,null,null,null,{"$f":"IF(M34=\"\",\"\",M34+MAX(N$10:N33))","v":""}]
[null,null,null,"Total lagging cost =",{"$f":"E32*E33","v":79515},null,null,null,null,null,null,null,null,{"$f":"IF(M35=\"\",\"\",M35+MAX(N$10:N34))","v":""}]
[null,null,null,null,null,null,null,null,null,null,null,null,null,{"$f":"IF(M36=\"\",\"\",M36+MAX(N$10:N35))","v":""}]
[]
[null,null,null,"Drilled Pier/shaft & Concrete"]
[]
[null,null,null,"Diameter =",30,"in"]
[null,null,null,"Length =",10,"ft"]
[null,null,null,"# piers =",{"$f":"E17","v":27},"each"]
[]
[null,null,null,"Length =",{"$f":"E41*E42","v":270},"ft"]
[null,null,null,"Shaft cost =",300,"$/ft"]
[]
[null,null,null,"Total lagging cost =",{"$f":"E44*E45","v":81000}]
[]
[]
[null,null,null,null,null,null,null,null,null,null,null,null,null,{"$f":"IF(M50=\"\",\"\",M50+MAX(N$10:N36))","v":""}]
[null,null,null,"Total Cofferdam & Excavation =",null,null,{"$f":"ROUNDUP(E25+E35+E47,-3)","v":225000},null,null,null,null,null,null,{"$f":"IF(M51=\"\",\"\",M51+MAX(N$10:N50))","v":""}]
[null,null,null,null,null,null,null,null,null,null,null,null,null,{"$f":"IF(M52=\"\",\"\",M52+MAX(N$10:N51))","v":""}]
[null,null,null,null,null,null,null,null,null,null,null,null,null,{"$f":"IF(M53=\"\",\"\",M53+MAX(N$10:N52))","v":""}]
[null,null,null,null,null,null,null,null,null,null,null,null,null,{"$f":"IF(M54=\"\",\"\",M54+MAX(N$10:N53))","v":""}]
[null,null,null,null,null,null,null,null,null,null,null,null,null,{"$f":"IF(M55=\"\",\"\",M55+MAX(N$10:N54))","v":""}]
[null,null,null,null,null,null,null,null,null,null,null,null,null,{"$f":"IF(M56=\"\",\"\",M56+MAX(N$10:N55))","v":""}]
[null,null,null,null,null,null,null,null,null,null,null,null,null,{"$f":"IF(M57=\"\",\"\",M57+MAX(N$10:N56))","v":""}]
[null,null,null,null,null,null,null,null,null,null,null,null,null,{"$f":"IF(M58=\"\",\"\",M58+MAX(N$10:N57))","v":""}]
[null,null,null,null,null,null,null,null,null,null,null,null,null,{"$f":"IF(M59=\"\",\"\",M59+MAX(N$10:N58))","v":""}]
[null,null,null,null,null,null,null,null,null,null,null,null,null,{"$f":"IF(M60=\"\",\"\",M60+MAX(N$10:N59))","v":""}]
[null,null,null,null,null,null,null,null,null,null,null,null,null,{"$f":"IF(M61=\"\",\"\",M61+MAX(N$10:N60))","v":""}]
[null,null,null,null,null,null,null,null,null,null,null,null,null,{"$f":"IF(M62=\"\",\"\",M62+MAX(N$10:N61))","v":""}]
[null,null,null,null,null,null,null,null,null,null,null,null,null,{"$f":"IF(M63=\"\",\"\",M63+MAX(N$10:N62))","v":""}]
[null,null,null,null,null,null,null,null,null,null,null,null,null,{"$f":"IF(M64=\"\",\"\",M64+MAX(N$10:N63))","v":""}]
[null,null,null,null,null,null,null,null,null,null,null,null,null,{"$f":"IF(M65=\"\",\"\",M65+MAX(N$10:N64))","v":""}]
[null,null,null,null,null,null,null,null,null,null,null,null,null,{"$f":"IF(M66=\"\",\"\",M66+MAX(N$10:N65))","v":""}]
[null,null,null,"SPECIAL INSTRUCTIONS:",{"$f":"INDEX(QryItemE2019!F:F,MATCH(H5,QryItemE2019!A:A,0))","v":""},null,null,null,null,null,null,null,"TOTAL",{"$f":"IF(K5=\"LS\",\"LS\",\" \")","v":"LS"}]

{"sheet":"503E21300","index":7,"n_rows":75,"n_cols":18,"rows_kept":75,"cut":false,"hidden":false,"merged":[[3,16,3,21],[4,7,4,8],[15,7,16,10]]}
[null,null,null,null,null,null,"DESIGN:",{"$f":"IF('Calc Cover Sheet'!B11=\"\",\"\",'Calc Cover Sheet'!B11)","v":"BMV"},"DATE:",{"$f":"IF('Calc Cover Sheet'!D11=\"\",\"\",'Calc Cover Sheet'!D11)","v":"2024-04-19"},"UPDATE:",{"$f":"IF('Calc Cover Sheet'!B13=\"\",\"\",'Calc Cover Sheet'!B13)","v":""},"DATE:",{"$f":"IF('Calc Cover Sheet'!D13=\"\",\"\",'Calc Cover Sheet'!D13)","v":""}]
[null,null,null,null,null,null,"CHECK:",{"$f":"IF('Calc Cover Sheet'!B12=\"\",\"\",'Calc Cover Sheet'!B12)","v":"TLC"},"DATE:",{"$f":"IF('Calc Cover Sheet'!D12=\"\",\"\",'Calc Cover Sheet'!D12)","v":"2024-04-25"},"RECHECK:",{"$f":"IF('Calc Cover Sheet'!B14=\"\",\"\",'Calc Cover Sheet'!B14)","v":""},"DATE:",{"$f":"IF('Calc Cover Sheet'!D14=\"\",\"\",'Calc Cover Sheet'!D14)","v":""}]
[null,null,null,null,null,null,"STRUCTURE:",{"$f":"IF('Calc Cover Sheet'!B7=\"\",\"\",'Calc Cover Sheet'!B7)","v":"HAM-00145-0203"},null,null,"SFN:",{"$f":"IF('Calc Cover Sheet'!B3=\"\",\"\",'Calc Cover Sheet'!B3)","v":3108680},"PID:",{"$f":"IF('Calc Cover Sheet'!B9=\"\",\"\",'Calc Cover Sheet'!B9)","v":110563}]
[null,null,null,null,null,null,null,null,null,null,null,null,null,null,null,null,"Lump Sum Tags (Items with a \"LS\" Pay Unit can be tagged with one or several categories)"]
[null,null,null,null,null,null,"ITEM:",{"$f":"MID(RIGHT(CELL(\"filename\",D2),LEN(CELL(\"filename\",D2))-FIND(\"]\",CELL(\"filename\",D2))),1,9)","v":"503E21300"},null,"PAY UNIT:",{"$f":"INDEX(QryItemE2019!B:B,MATCH(H5,QryItemE2019!A:A,0))","v":"LS"}]
[null,null,null,null,null,null,"SUBJECT:",{"$f":"IF('Calc Cover Sheet'!B2=\"\",\"\",'Calc Cover Sheet'!B2)","v":"ESTIMATED QUANTITIES"}]
[null,null,null,"DESCRIPTION:",{"$f":"INDEX(QryItemE2019!C:C,MATCH(H5,QryItemE2019!A:A,0))","v":"UNCLASSIFIED EXCAVATION"}]
[null,null,null,"SUPPLEMENTAL DESCRIPTION:"]
[null,null,null,null,null,null,null,null,null,null,null,null,"SUBTOTAL","TOTAL",null,null,"GROUP","<<<<<Tag each subtotal value with a group from this column"]
[null,null,null,null,null,null,null,null,null,null,null,null,null,{"$f":"IF(M10=\"\",\"\",M10+MAX(N$9:N9))","v":""}]
[null,null,null,null,null,null,null,null,null,null,null,null,null,{"$f":"IF(M11=\"\",\"\",M11+MAX(N$9:N10))","v":""}]
[null,null,"Pier Excavation",null,null,null,null,null,null,null,null,null,null,{"$f":"IF(M12=\"\",\"\",M12+MAX('840E21000'!N$9:N11))","v":""}]
[null,null,null,null,null,null,null,null,null,null,null,null,null,{"$f":"IF(M13=\"\",\"\",M13+MAX(N$12:N12))","v":""}]
[null,null,null,null,"Depth beyond btm of structure removed = ",7,"ft",null,null,null,null,null,null,{"$f":"IF(M14=\"\",\"\",M14+MAX(N$12:N13))","v":""}]
[null,null,null,null,"Width of Pier Footing = ",9,"ft",null,null,null,null,null,null,{"$f":"IF(M15=\"\",\"\",M15+MAX(N$12:N14))","v":""}]
[null,null,null,null,"Width of Excavation = ",16.5,"ft","Inside dimension of shoring walls",null,null,null,null,null,{"$f":"IF(M16=\"\",\"\",M16+MAX(N$12:N15))","v":""}]
[null,null,null,null,"Length of Excavation = ",53,"ft",null,null,null,null,null,null,{"$f":"IF(M17=\"\",\"\",M17+MAX(N$12:N15))","v":""}]
[null,null,null,null,null,null,null,null,null,null,null,null,null,{"$f":"IF(M18=\"\",\"\",M18+MAX(N$12:N16))","v":""}]
[null,null,null,null,"Volume = ",{"$f":"F14*F16*F17/27","v":226.72222222222223},"CY",null,null,null,null,null,null,{"$f":"IF(M19=\"\",\"\",M19+MAX(N$12:N17))","v":""},null,null,"PIER"]
[]
[null,null,null,null,"Unit cost =",75,"$/CY",null,null,null,null,null,null,{"$f":"IF(M21=\"\",\"\",M21+MAX(N$12:N19))","v":""}]
[null,null,null,null,null,null,null,null,null,null,null,null,null,{"$f":"IF(M22=\"\",\"\",M22+MAX(N$9:N11))","v":""}]
[null,null,null,null,"Total =",{"$f":"ROUNDUP(F19*F21,-2)","v":17100},null,null,null,null,null,null,null,{"$f":"IF(M23=\"\",\"\",M23+MAX(N$9:N22))","v":""}]
[null,null,null,null,null,null,null,null,null,null,null,null,null,{"$f":"IF(M24=\"\",\"\",M24+MAX(N$9:N23))","v":""}]
[null,null,null,null,null,null,null,null,null,null,null,null,null,{"$f":"IF(M25=\"\",\"\",M25+MAX(N$9:N24))","v":""}]
[null,null,null,null,null,null,null,null,null,null,null,null,null,{"$f":"IF(M26=\"\",\"\",M26+MAX(N$9:N25))","v":""}]
[null,null,null,null,null,null,null,null,null,null,null,null,null,{"$f":"IF(M27=\"\",\"\",M27+MAX(N$9:N26))","v":""}]
[]
[null,null,null,null,null,null,null,null,null,null,null,null,null,{"$f":"IF(M29=\"\",\"\",M29+MAX(N$12:N27))","v":""}]
[null,null,null,null,null,null,null,null,null,null,null,null,null,{"$f":"IF(M30=\"\",\"\",M30+MAX(N$12:N28))","v":""}]
[]
[null,null,null,null,null,null,null,null,null,null,null,null,null,{"$f":"IF(M32=\"\",\"\",M32+MAX(N$9:N30))","v":""}]
[null,null,null,null,null,null,null,null,null,null,null,null,null,{"$f":"IF(M33=\"\",\"\",M33+MAX(N$9:N32))","v":""}]
[null,null,null,null,null,null,null,null,null,null,null,null,null,{"$f":"IF(M34=\"\",\"\",M34+MAX(N$9:N33))","v":""}]
[null,null,null,null,null,null,null,null,null,null,null,null,null,{"$f":"IF(M35=\"\",\"\",M35+MAX(N$9:N34))","v":""}]
[null,null,null,null,null,null,null,null,null,null,null,null,null,{"$f":"IF(M36=\"\",\"\",M36+MAX(N$9:N35))","v":""}]
[null,null,null,null,null,null,null,null,null,null,null,null,null,{"$f":"IF(M37=\"\",\"\",M37+MAX(N$9:N36))","v":""}]
[null,null,null,null,null,null,null,null,null,null,null,null,null,{"$f":"IF(M38=\"\",\"\",M38+MAX(N$9:N37))","v":""}]
[null,null,null,null,null,null,null,null,null,null,null,null,null,{"$f":"IF(M39=\"\",\"\",M39+MAX(N$9:N38))","v":""}]
[null,null,null,null,null,null,null,null,null,null,null,null,null,{"$f":"IF(M40=\"\",\"\",M40+MAX(N$9:N39))","v":""}]
[null,null,null,null,null,null,null,null,null,null,null,null,null,{"$f":"IF(M41=\"\",\"\",M41+MAX(N$9:N40))","v":""}]
[null,null,null,null,null,null,null,null,null,null,null,null,null,{"$f":"IF(M42=\"\",\"\",M42+MAX(N$9:N41))","v":""}]
[null,null,null,null,null,null,null,null,null,null,null,null,null,{"$f":"IF(M43=\"\",\"\",M43+MAX(N$9:N42))","v":""}]
[null,null,null,null,null,null,null,null,null,null,null,null,null,{"$f":"IF(M44=\"\",\"\",M44+MAX(N$9:N43))","v":""}]
[null,null,null,null,null,null,null,null,null,null,null,null,null,{"$f":"IF(M45=\"\",\"\",M45+MAX(N$9:N44))","v":""}]
[null,null,null,null,null,null,null,null,null,null,null,null,null,{"$f":"IF(M46=\"\",\"\",M46+MAX(N$9:N45))","v":""}]
[null,null,null,null,null,null,null,null,null,null,null,null,null,{"$f":"IF(M47=\"\",\"\",M47+MAX(N$9:N46))","v":""}]
[null,null,null,null,null,null,null,null,null,null,null,null,null,{"$f":"IF(M48=\"\",\"\",M48+MAX(N$10:N47))","v":""}]
[null,null,null,null,null,null,null,null,null,null,null,null,null,{"$f":"IF(M49=\"\",\"\",M49+MAX(N$10:N48))","v":""}]
[null,null,null,null,null,null,null,null,null,null,null,null,null,{"$f":"IF(M50=\"\",\"\",M50+MAX(N$10:N49))","v":""}]
[null,null,null,null,null,null,null,null,null,null,null,null,null,{"$f":"IF(M51=\"\",\"\",M51+MAX(N$10:N50))","v":""}]
[null,null,null,null,null,null,null,null,null,null,null,null,null,{"$f":"IF(M52=\"\",\"\",M52+MAX(N$10:N51))","v":""}]
[null,null,null,null,null,null,null,null,null,null,null,null,null,{"$f":"IF(M53=\"\",\"\",M53+MAX(N$10:N52))","v":""}]
[null,null,null,null,null,null,null,null,null,null,null,null,null,{"$f":"IF(M54=\"\",\"\",M54+MAX(N$10:N53))","v":""}]
[null,null,null,null,null,null,null,null,null,null,null,null,null,{"$f":"IF(M55=\"\",\"\",M55+MAX(N$10:N54))","v":""}]
[null,null,null,null,null,null,null,null,null,null,null,null,null,{"$f":"IF(M56=\"\",\"\",M56+MAX(N$10:N55))","v":""}]
[null,null,null,null,null,null,null,null,null,null,null,null,null,{"$f":"IF(M57=\"\",\"\",M57+MAX(N$10:N56))","v":""}]
[null,null,null,null,null,null,null,null,null,null,null,null,null,{"$f":"IF(M58=\"\",\"\",M58+MAX(N$10:N57))","v":""}]
[null,null,null,null,null,null,null,null,null,null,null,null,null,{"$f":"IF(M59=\"\",\"\",M59+MAX(N$10:N58))","v":""}]
[null,null,null,null,null,null,null,null,null,null,null,null,null,{"$f":"IF(M60=\"\",\"\",M60+MAX(N$10:N59))","v":""}]
[null,null,null,null,null,null,null,null,null,null,null,null,null,{"$f":"IF(M61=\"\",\"\",M61+MAX(N$10:N60))","v":""}]
[null,null,null,null,null,null,null,null,null,null,null,null,null,{"$f":"IF(M62=\"\",\"\",M62+MAX(N$10:N61))","v":""}]
[null,null,null,null,null,null,null,null,null,null,null,null,null,{"$f":"IF(M63=\"\",\"\",M63+MAX(N$10:N62))","v":""}]
[null,null,null,null,null,null,null,null,null,null,null,null,null,{"$f":"IF(M64=\"\",\"\",M64+MAX(N$10:N63))","v":""}]
[null,null,null,null,null,null,null,null,null,null,null,null,null,{"$f":"IF(M65=\"\",\"\",M65+MAX(N$10:N64))","v":""}]
[null,null,null,null,null,null,null,null,null,null,null,null,null,{"$f":"IF(M66=\"\",\"\",M66+MAX(N$10:N65))","v":""}]
[null,null,null,null,null,null,null,null,null,null,null,null,null,{"$f":"IF(M67=\"\",\"\",M67+MAX(N$10:N66))","v":""}]
[null,null,null,null,null,null,null,null,null,null,null,null,null,{"$f":"IF(M68=\"\",\"\",M68+MAX(N$10:N67))","v":""}]
[null,null,null,null,null,null,null,null,null,null,null,null,null,{"$f":"IF(M69=\"\",\"\",M69+MAX(N$10:N68))","v":""}]
[null,null,null,null,null,null,null,null,null,null,null,null,null,{"$f":"IF(M70=\"\",\"\",M70+MAX(N$10:N69))","v":""}]
[null,null,null,null,null,null,null,null,null,null,null,null,null,{"$f":"IF(M71=\"\",\"\",M71+MAX(N$10:N70))","v":""}]
[null,null,null,null,null,null,null,null,null,null,null,null,null,{"$f":"IF(M72=\"\",\"\",M72+MAX(N$10:N71))","v":""}]
[null,null,null,null,null,null,null,null,null,null,null,null,null,{"$f":"IF(M73=\"\",\"\",M73+MAX(N$10:N72))","v":""}]
[null,null,null,null,null,null,null,null,null,null,null,null,null,{"$f":"IF(M74=\"\",\"\",M74+MAX(N$10:N73))","v":""}]
[null,null,null,"SPECIAL INSTRUCTIONS:",{"$f":"INDEX(QryItemE2019!F:F,MATCH(H5,QryItemE2019!A:A,0))","v":"CHECK UNIT OF MEASURE"},null,null,null,null,null,null,null,"TOTAL",{"$f":"IF(K5=\"LS\",\"LS\",\" \")","v":"LS"}]

{"sheet":"507E00101","index":8,"n_rows":64,"n_cols":18,"rows_kept":64,"cut":false,"hidden":false,"merged":[[3,16,3,21],[4,7,4,8]]}
[null,null,null,null,null,null,"DESIGN:",{"$f":"IF('Calc Cover Sheet'!B11=\"\",\"\",'Calc Cover Sheet'!B11)","v":"BMV"},"DATE:",{"$f":"IF('Calc Cover Sheet'!D11=\"\",\"\",'Calc Cover Sheet'!D11)","v":"2024-04-19"},"UPDATE:",{"$f":"IF('Calc Cover Sheet'!B13=\"\",\"\",'Calc Cover Sheet'!B13)","v":""},"DATE:",{"$f":"IF('Calc Cover Sheet'!D13=\"\",\"\",'Calc Cover Sheet'!D13)","v":""}]
[null,null,null,null,null,null,"CHECK:",{"$f":"IF('Calc Cover Sheet'!B12=\"\",\"\",'Calc Cover Sheet'!B12)","v":"TLC"},"DATE:",{"$f":"IF('Calc Cover Sheet'!D12=\"\",\"\",'Calc Cover Sheet'!D12)","v":"2024-04-25"},"RECHECK:",{"$f":"IF('Calc Cover Sheet'!B14=\"\",\"\",'Calc Cover Sheet'!B14)","v":""},"DATE:",{"$f":"IF('Calc Cover Sheet'!D14=\"\",\"\",'Calc Cover Sheet'!D14)","v":""}]
[null,null,null,null,null,null,"STRUCTURE:",{"$f":"IF('Calc Cover Sheet'!B7=\"\",\"\",'Calc Cover Sheet'!B7)","v":"HAM-00145-0203"},null,null,"SFN:",{"$f":"IF('Calc Cover Sheet'!B3=\"\",\"\",'Calc Cover Sheet'!B3)","v":3108680},"PID:",{"$f":"IF('Calc Cover Sheet'!B9=\"\",\"\",'Calc Cover Sheet'!B9)","v":110563}]
[null,null,null,null,null,null,null,null,null,null,null,null,null,null,null,null,"Lump Sum Tags (Items with a \"LS\" Pay Unit can be tagged with one or several categories)"]
[null,null,null,null,null,null,"ITEM:",{"$f":"MID(RIGHT(CELL(\"filename\",D2),LEN(CELL(\"filename\",D2))-FIND(\"]\",CELL(\"filename\",D2))),1,9)","v":"507E00101"},null,"PAY UNIT:",{"$f":"INDEX(QryItemE2019!B:B,MATCH(H5,QryItemE2019!A:A,0))","v":"FT"}]
[null,null,null,null,null,null,"SUBJECT:",{"$f":"IF('Calc Cover Sheet'!B2=\"\",\"\",'Calc Cover Sheet'!B2)","v":"ESTIMATED QUANTITIES"}]
[null,null,null,"DESCRIPTION:",{"$f":"INDEX(QryItemE2019!C:C,MATCH(H5,QryItemE2019!A:A,0))","v":"STEEL PILES HP10X42, FURNISHED, AS PER PLAN"}]
[null,null,null,"SUPPLEMENTAL DESCRIPTION:"]
[null,null,null,null,null,null,null,null,null,null,null,null,"SUBTOTAL","TOTAL",null,null,"GROUP","<<<<<Tag each subtotal value with a group from this column"]
[null,null,null,null,null,null,null,null,null,null,null,null,null,{"$f":"IF(M10=\"\",\"\",M10+MAX(N$9:N9))","v":""}]
[null,null,null,null,null,null,null,null,null,null,null,null,null,{"$f":"IF(M11=\"\",\"\",M11+MAX(N$9:N10))","v":""}]
[null,null,null,null,null,null,null,null,null,null,null,null,null,{"$f":"IF(M12=\"\",\"\",M12+MAX(N$9:N11))","v":""}]
[null,null,null,"Rear Abut. Pile Length = ",40,"ft",null,null,null,null,null,null,null,{"$f":"IF(M13=\"\",\"\",M13+MAX(N$9:N12))","v":""}]
[null,null,null,"# of Rear Abut. Piles = ",12,"each",null,null,null,null,null,null,null,{"$f":"IF(M14=\"\",\"\",M14+MAX(N$9:N13))","v":""}]
[null,null,null,null,null,null,null,null,null,null,null,null,null,{"$f":"IF(M15=\"\",\"\",M15+MAX(N$9:N14))","v":""}]
[null,null,null,"Fwd. Abut. Pile Length = ",35,"ft",null,null,null,null,null,null,null,{"$f":"IF(M16=\"\",\"\",M16+MAX(N$9:N15))","v":""}]
[null,null,null,"# of Fwd. Abut. Piles = ",12,"each",null,null,null,null,null,null,null,{"$f":"IF(M17=\"\",\"\",M17+MAX(N$9:N16))","v":""}]
[null,null,null,null,null,null,null,null,null,null,null,null,null,{"$f":"IF(M18=\"\",\"\",M18+MAX(N$9:N17))","v":""}]
[null,null,null,"Total Length = ",{"$f":"E13*E14+E16*E17","v":900},"ft",null,null,null,null,null,null,{"$f":"CEILING(E19,1)","v":900},{"$f":"IF(M19=\"\",\"\",M19+MAX(N$9:N18))","v":900},null,null,"ABUT."]
[null,null,null,null,null,null,null,null,null,null,null,null,null,{"$f":"IF(M20=\"\",\"\",M20+MAX(N$9:N19))","v":""}]
[null,null,null,null,null,null,null,null,null,null,null,null,null,{"$f":"IF(M21=\"\",\"\",M21+MAX(N$9:N20))","v":""}]
[null,null,null,null,null,null,null,null,null,null,null,null,null,{"$f":"IF(M22=\"\",\"\",M22+MAX(N$9:N21))","v":""}]
[null,null,null,null,null,null,null,null,null,null,null,null,null,{"$f":"IF(M23=\"\",\"\",M23+MAX(N$9:N22))","v":""}]
[null,null,null,null,null,null,null,null,null,null,null,null,null,{"$f":"IF(M24=\"\",\"\",M24+MAX(N$9:N23))","v":""}]
[null,null,null,null,null,null,null,null,null,null,null,null,null,{"$f":"IF(M25=\"\",\"\",M25+MAX(N$9:N24))","v":""}]
[null,null,null,null,null,null,null,null,null,null,null,null,null,{"$f":"IF(M26=\"\",\"\",M26+MAX(N$9:N25))","v":""}]
[null,null,null,null,null,null,null,null,null,null,null,null,null,{"$f":"IF(M27=\"\",\"\",M27+MAX(N$9:N26))","v":""}]
[null,null,null,null,null,null,null,null,null,null,null,null,null,{"$f":"IF(M28=\"\",\"\",M28+MAX(N$9:N27))","v":""}]
[null,null,null,null,null,null,null,null,null,null,null,null,null,{"$f":"IF(M29=\"\",\"\",M29+MAX(N$9:N28))","v":""}]
[null,null,null,null,null,null,null,null,null,null,null,null,null,{"$f":"IF(M30=\"\",\"\",M30+MAX(N$9:N29))","v":""}]
[null,null,null,null,null,null,null,null,null,null,null,null,null,{"$f":"IF(M31=\"\",\"\",M31+MAX(N$9:N30))","v":""}]
[null,null,null,null,null,null,null,null,null,null,null,null,null,{"$f":"IF(M32=\"\",\"\",M32+MAX(N$9:N31))","v":""}]
[null,null,null,null,null,null,null,null,null,null,null,null,null,{"$f":"IF(M33=\"\",\"\",M33+MAX(N$9:N32))","v":""}]
[null,null,null,null,null,null,null,null,null,null,null,null,null,{"$f":"IF(M34=\"\",\"\",M34+MAX(N$9:N33))","v":""}]
[null,null,null,null,null,null,null,null,null,null,null,null,null,{"$f":"IF(M35=\"\",\"\",M35+MAX(N$9:N34))","v":""}]
[null,null,null,null,null,null,null,null,null,null,null,null,null,{"$f":"IF(M36=\"\",\"\",M36+MAX(N$9:N35))","v":""}]
[null,null,null,null,null,null,null,null,null,null,null,null,null,{"$f":"IF(M37=\"\",\"\",M37+MAX(N$9:N36))","v":""}]
[null,null,null,null,null,null,null,null,null,null,null,null,null,{"$f":"IF(M38=\"\",\"\",M38+MAX(N$9:N37))","v":""}]
[null,null,null,null,null,null,null,null,null,null,null,null,null,{"$f":"IF(M39=\"\",\"\",M39+MAX(N$9:N38))","v":""}]
[null,null,null,null,null,null,null,null,null,null,null,null,null,{"$f":"IF(M40=\"\",\"\",M40+MAX(N$9:N39))","v":""}]
[null,null,null,null,null,null,null,null,null,null,null,null,null,{"$f":"IF(M41=\"\",\"\",M41+MAX(N$9:N40))","v":""}]
[null,null,null,null,null,null,null,null,null,null,null,null,null,{"$f":"IF(M42=\"\",\"\",M42+MAX(N$9:N41))","v":""}]
[null,null,null,null,null,null,null,null,null,null,null,null,null,{"$f":"IF(M43=\"\",\"\",M43+MAX(N$9:N42))","v":""}]
[null,null,null,null,null,null,null,null,null,null,null,null,null,{"$f":"IF(M44=\"\",\"\",M44+MAX(N$9:N43))","v":""}]
[null,null,null,null,null,null,null,null,null,null,null,null,null,{"$f":"IF(M45=\"\",\"\",M45+MAX(N$9:N44))","v":""}]
[null,null,null,null,null,null,null,null,null,null,null,null,null,{"$f":"IF(M46=\"\",\"\",M46+MAX(N$9:N45))","v":""}]
[null,null,null,null,null,null,null,null,null,null,null,null,null,{"$f":"IF(M47=\"\",\"\",M47+MAX(N$9:N46))","v":""}]
[null,null,null,null,null,null,null,null,null,null,null,null,null,{"$f":"IF(M48=\"\",\"\",M48+MAX(N$9:N47))","v":""}]
[null,null,null,null,null,null,null,null,null,null,null,null,null,{"$f":"IF(M49=\"\",\"\",M49+MAX(N$9:N48))","v":""}]
[null,null,null,null,null,null,null,null,null,null,null,null,null,{"$f":"IF(M50=\"\",\"\",M50+MAX(N$9:N49))","v":""}]
[null,null,null,null,null,null,null,null,null,null,null,null,null,{"$f":"IF(M51=\"\",\"\",M51+MAX(N$9:N50))","v":""}]
[null,null,null,null,null,null,null,null,null,null,null,null,null,{"$f":"IF(M52=\"\",\"\",M52+MAX(N$9:N51))","v":""}]
[null,null,null,null,null,null,null,null,null,null,null,null,null,{"$f":"IF(M53=\"\",\"\",M53+MAX(N$9:N52))","v":""}]
[null,null,null,null,null,null,null,null,null,null,null,null,null,{"$f":"IF(M54=\"\",\"\",M54+MAX(N$9:N53))","v":""}]
[null,null,null,null,null,null,null,null,null,null,null,null,null,{"$f":"IF(M55=\"\",\"\",M55+MAX(N$9:N54))","v":""}]
[null,null,null,null,null,null,null,null,null,null,null,null,null,{"$f":"IF(M56=\"\",\"\",M56+MAX(N$9:N55))","v":""}]
[null,null,null,null,null,null,null,null,null,null,null,null,null,{"$f":"IF(M57=\"\",\"\",M57+MAX(N$9:N56))","v":""}]
[null,null,null,null,null,null,null,null,null,null,null,null,null,{"$f":"IF(M58=\"\",\"\",M58+MAX(N$9:N57))","v":""}]
[null,null,null,null,null,null,null,null,null,null,null,null,null,{"$f":"IF(M59=\"\",\"\",M59+MAX(N$9:N58))","v":""}]
[null,null,null,null,null,null,null,null,null,null,null,null,null,{"$f":"IF(M60=\"\",\"\",M60+MAX(N$9:N59))","v":""}]
[null,null,null,null,null,null,null,null,null,null,null,null,null,{"$f":"IF(M61=\"\",\"\",M61+MAX(N$9:N60))","v":""}]
[null,null,null,null,null,null,null,null,null,null,null,null,null,{"$f":"IF(M62=\"\",\"\",M62+MAX(N$9:N61))","v":""}]
[null,null,null,null,null,null,null,null,null,null,null,null,null,{"$f":"IF(M63=\"\",\"\",M63+MAX(N$9:N62))","v":""}]
[null,null,null,"SPECIAL INSTRUCTIONS:",{"$f":"INDEX(QryItemE2019!F:F,MATCH(H5,QryItemE2019!A:A,0))","v":""},null,null,null,null,null,null,null,"TOTAL",{"$f":"IF(K5=\"LS\",\"LS\",\" \")","v":" "}]

{"sheet":"507E92201","index":9,"n_rows":64,"n_cols":18,"rows_kept":64,"cut":false,"hidden":false,"merged":[[3,16,3,21],[4,7,4,8]]}
[null,null,null,null,null,null,"DESIGN:",{"$f":"IF('Calc Cover Sheet'!B11=\"\",\"\",'Calc Cover Sheet'!B11)","v":"BMV"},"DATE:",{"$f":"IF('Calc Cover Sheet'!D11=\"\",\"\",'Calc Cover Sheet'!D11)","v":"2024-04-19"},"UPDATE:",{"$f":"IF('Calc Cover Sheet'!B13=\"\",\"\",'Calc Cover Sheet'!B13)","v":""},"DATE:",{"$f":"IF('Calc Cover Sheet'!D13=\"\",\"\",'Calc Cover Sheet'!D13)","v":""}]
[null,null,null,null,null,null,"CHECK:",{"$f":"IF('Calc Cover Sheet'!B12=\"\",\"\",'Calc Cover Sheet'!B12)","v":"TLC"},"DATE:",{"$f":"IF('Calc Cover Sheet'!D12=\"\",\"\",'Calc Cover Sheet'!D12)","v":"2024-04-25"},"RECHECK:",{"$f":"IF('Calc Cover Sheet'!B14=\"\",\"\",'Calc Cover Sheet'!B14)","v":""},"DATE:",{"$f":"IF('Calc Cover Sheet'!D14=\"\",\"\",'Calc Cover Sheet'!D14)","v":""}]
[null,null,null,null,null,null,"STRUCTURE:",{"$f":"IF('Calc Cover Sheet'!B7=\"\",\"\",'Calc Cover Sheet'!B7)","v":"HAM-00145-0203"},null,null,"SFN:",{"$f":"IF('Calc Cover Sheet'!B3=\"\",\"\",'Calc Cover Sheet'!B3)","v":3108680},"PID:",{"$f":"IF('Calc Cover Sheet'!B9=\"\",\"\",'Calc Cover Sheet'!B9)","v":110563}]
[null,null,null,null,null,null,null,null,null,null,null,null,null,null,null,null,"Lump Sum Tags (Items with a \"LS\" Pay Unit can be tagged with one or several categories)"]
[null,null,null,null,null,null,"ITEM:",{"$f":"MID(RIGHT(CELL(\"filename\",D2),LEN(CELL(\"filename\",D2))-FIND(\"]\",CELL(\"filename\",D2))),1,9)","v":"507E92201"},null,"PAY UNIT:",{"$f":"INDEX(QryItemE2019!B:B,MATCH(H5,QryItemE2019!A:A,0))","v":"FT"}]
[null,null,null,null,null,null,"SUBJECT:",{"$f":"IF('Calc Cover Sheet'!B2=\"\",\"\",'Calc Cover Sheet'!B2)","v":"ESTIMATED QUANTITIES"}]
[null,null,null,"DESCRIPTION:",{"$f":"INDEX(QryItemE2019!C:C,MATCH(H5,QryItemE2019!A:A,0))","v":"PREBORED HOLES, AS PER PLAN"}]
[null,null,null,"SUPPLEMENTAL DESCRIPTION:"]
[null,null,null,null,null,null,null,null,null,null,null,null,"SUBTOTAL","TOTAL",null,null,"GROUP","<<<<<Tag each subtotal value with a group from this column"]
[null,null,null,null,null,null,null,null,null,null,null,null,null,{"$f":"IF(M10=\"\",\"\",M10+MAX(N$9:N9))","v":""}]
[null,null,null,null,null,null,null,null,null,null,null,null,null,{"$f":"IF(M11=\"\",\"\",M11+MAX(N$9:N10))","v":""}]
[null,null,null,null,null,null,null,null,null,null,null,null,null,{"$f":"IF(M12=\"\",\"\",M12+MAX(N$9:N11))","v":""}]
[null,null,null,"# of Rear Abut. Piles = ",12,"each",null,null,null,null,null,null,null,{"$f":"IF(M13=\"\",\"\",M13+MAX(N$9:N12))","v":""}]
[null,null,null,"Exist Ground El =",780.5,"ft","Bottom of MSE wall excavation"]
[null,null,null,"Top of Rock El =",772.33,"ft"]
[null,null,null,"Prebore Depth =",5,"ft"]
[null,null,null,"Total =",{"$f":"E13*((E14-E15)+E16)","v":158.03999999999951},"ft",null,null,null,null,null,null,null,{"$f":"IF(M17=\"\",\"\",M17+MAX(N$9:N16))","v":""}]
[null,null,null,null,null,null,null,null,null,null,null,null,null,{"$f":"IF(M18=\"\",\"\",M18+MAX(N$9:N17))","v":""}]
[null,null,null,"# of Fwd. Abut. Piles = ",12,"each"]
[null,null,null,"Exist Ground El =",783.5,"ft","Bottom of MSE wall excavation"]
[null,null,null,"Top of Rock El =",779.91,"ft"]
[null,null,null,"Prebore Depth =",5,"ft",null,null,null,null,null,null,null,{"$f":"IF(M22=\"\",\"\",M22+MAX(N$9:N19))","v":""}]
[null,null,null,"Total =",{"$f":"E19*((E20-E21)+E22)","v":103.08000000000038},"ft",null,null,null,null,null,null,null,{"$f":"IF(M23=\"\",\"\",M23+MAX(N$9:N22))","v":""}]
[null,null,null,null,null,null,null,null,null,null,null,null,null,{"$f":"IF(M24=\"\",\"\",M24+MAX(N$9:N23))","v":""}]
[null,null,null,null,null,null,null,null,null,null,null,null,null,{"$f":"IF(M25=\"\",\"\",M25+MAX(N$9:N24))","v":""}]
[null,null,null,"Total = ",{"$f":"E17+E23","v":261.11999999999989},"each",null,null,null,null,null,null,{"$f":"CEILING(E26,1)","v":262},{"$f":"IF(M26=\"\",\"\",M26+MAX(N$9:N25))","v":262},null,null,"ABUT."]
[null,null,null,null,null,null,null,null,null,null,null,null,null,{"$f":"IF(M27=\"\",\"\",M27+MAX(N$9:N26))","v":""}]
[null,null,null,null,null,null,null,null,null,null,null,null,null,{"$f":"IF(M28=\"\",\"\",M28+MAX(N$9:N27))","v":""}]
[null,null,null,null,null,null,null,null,null,null,null,null,null,{"$f":"IF(M29=\"\",\"\",M29+MAX(N$9:N28))","v":""}]
[null,null,null,null,null,null,null,null,null,null,null,null,null,{"$f":"IF(M30=\"\",\"\",M30+MAX(N$9:N29))","v":""}]
[null,null,null,null,null,null,null,null,null,null,null,null,null,{"$f":"IF(M31=\"\",\"\",M31+MAX(N$9:N30))","v":""}]
[null,null,null,null,null,null,null,null,null,null,null,null,null,{"$f":"IF(M32=\"\",\"\",M32+MAX(N$9:N31))","v":""}]
[null,null,null,null,null,null,null,null,null,null,null,null,null,{"$f":"IF(M33=\"\",\"\",M33+MAX(N$9:N32))","v":""}]
[null,null,null,null,null,null,null,null,null,null,null,null,null,{"$f":"IF(M34=\"\",\"\",M34+MAX(N$9:N33))","v":""}]
[null,null,null,null,null,null,null,null,null,null,null,null,null,{"$f":"IF(M35=\"\",\"\",M35+MAX(N$9:N34))","v":""}]
[null,null,null,null,null,null,null,null,null,null,null,null,null,{"$f":"IF(M36=\"\",\"\",M36+MAX(N$9:N35))","v":""}]
[null,null,null,null,null,null,null,null,null,null,null,null,null,{"$f":"IF(M37=\"\",\"\",M37+MAX(N$9:N36))","v":""}]
[null,null,null,null,null,null,null,null,null,null,null,null,null,{"$f":"IF(M38=\"\",\"\",M38+MAX(N$9:N37))","v":""}]
[null,null,null,null,null,null,null,null,null,null,null,null,null,{"$f":"IF(M39=\"\",\"\",M39+MAX(N$9:N38))","v":""}]
[null,null,null,null,null,null,null,null,null,null,null,null,null,{"$f":"IF(M40=\"\",\"\",M40+MAX(N$9:N39))","v":""}]
[null,null,null,null,null,null,null,null,null,null,null,null,null,{"$f":"IF(M41=\"\",\"\",M41+MAX(N$9:N40))","v":""}]
[null,null,null,null,null,null,null,null,null,null,null,null,null,{"$f":"IF(M42=\"\",\"\",M42+MAX(N$9:N41))","v":""}]
[null,null,null,null,null,null,null,null,null,null,null,null,null,{"$f":"IF(M43=\"\",\"\",M43+MAX(N$9:N42))","v":""}]
[null,null,null,null,null,null,null,null,null,null,null,null,null,{"$f":"IF(M44=\"\",\"\",M44+MAX(N$9:N43))","v":""}]
[null,null,null,null,null,null,null,null,null,null,null,null,null,{"$f":"IF(M45=\"\",\"\",M45+MAX(N$9:N44))","v":""}]
[null,null,null,null,null,null,null,null,null,null,null,null,null,{"$f":"IF(M46=\"\",\"\",M46+MAX(N$9:N45))","v":""}]
[null,null,null,null,null,null,null,null,null,null,null,null,null,{"$f":"IF(M47=\"\",\"\",M47+MAX(N$9:N46))","v":""}]
[null,null,null,null,null,null,null,null,null,null,null,null,null,{"$f":"IF(M48=\"\",\"\",M48+MAX(N$9:N47))","v":""}]
[null,null,null,null,null,null,null,null,null,null,null,null,null,{"$f":"IF(M49=\"\",\"\",M49+MAX(N$9:N48))","v":""}]
[null,null,null,null,null,null,null,null,null,null,null,null,null,{"$f":"IF(M50=\"\",\"\",M50+MAX(N$9:N49))","v":""}]
[null,null,null,null,null,null,null,null,null,null,null,null,null,{"$f":"IF(M51=\"\",\"\",M51+MAX(N$9:N50))","v":""}]
[null,null,null,null,null,null,null,null,null,null,null,null,null,{"$f":"IF(M52=\"\",\"\",M52+MAX(N$9:N51))","v":""}]
[null,null,null,null,null,null,null,null,null,null,null,null,null,{"$f":"IF(M53=\"\",\"\",M53+MAX(N$9:N52))","v":""}]
[null,null,null,null,null,null,null,null,null,null,null,null,null,{"$f":"IF(M54=\"\",\"\",M54+MAX(N$9:N53))","v":""}]
[null,null,null,null,null,null,null,null,null,null,null,null,null,{"$f":"IF(M55=\"\",\"\",M55+MAX(N$9:N54))","v":""}]
[null,null,null,null,null,null,null,null,null,null,null,null,null,{"$f":"IF(M56=\"\",\"\",M56+MAX(N$9:N55))","v":""}]
[null,null,null,null,null,null,null,null,null,null,null,null,null,{"$f":"IF(M57=\"\",\"\",M57+MAX(N$9:N56))","v":""}]
[null,null,null,null,null,null,null,null,null,null,null,null,null,{"$f":"IF(M58=\"\",\"\",M58+MAX(N$9:N57))","v":""}]
[null,null,null,null,null,null,null,null,null,null,null,null,null,{"$f":"IF(M59=\"\",\"\",M59+MAX(N$9:N58))","v":""}]
[null,null,null,null,null,null,null,null,null,null,null,null,null,{"$f":"IF(M60=\"\",\"\",M60+MAX(N$9:N59))","v":""}]
[null,null,null,null,null,null,null,null,null,null,null,null,null,{"$f":"IF(M61=\"\",\"\",M61+MAX(N$9:N60))","v":""}]
[null,null,null,null,null,null,null,null,null,null,null,null,null,{"$f":"IF(M62=\"\",\"\",M62+MAX(N$9:N61))","v":""}]
[null,null,null,null,null,null,null,null,null,null,null,null,null,{"$f":"IF(M63=\"\",\"\",M63+MAX(N$9:N62))","v":""}]
[null,null,null,"SPECIAL INSTRUCTIONS:",{"$f":"INDEX(QryItemE2019!F:F,MATCH(H5,QryItemE2019!A:A,0))","v":""},null,null,null,null,null,null,null,"TOTAL",{"$f":"IF(K5=\"LS\",\"LS\",\" \")","v":" "}]

{"sheet":"509E26000","index":10,"n_rows":62,"n_cols":18,"rows_kept":62,"cut":false,"hidden":false,"merged":[[3,16,3,21],[4,7,4,8]]}
[null,null,null,null,null,null,"DESIGN:",{"$f":"IF('Calc Cover Sheet'!B11=\"\",\"\",'Calc Cover Sheet'!B11)","v":"BMV"},"DATE:",{"$f":"IF('Calc Cover Sheet'!D11=\"\",\"\",'Calc Cover Sheet'!D11)","v":"2024-04-19"},"UPDATE:",{"$f":"IF('Calc Cover Sheet'!B13=\"\",\"\",'Calc Cover Sheet'!B13)","v":""},"DATE:",{"$f":"IF('Calc Cover Sheet'!D13=\"\",\"\",'Calc Cover Sheet'!D13)","v":""}]
[null,null,null,null,null,null,"CHECK:",{"$f":"IF('Calc Cover Sheet'!B12=\"\",\"\",'Calc Cover Sheet'!B12)","v":"TLC"},"DATE:",{"$f":"IF('Calc Cover Sheet'!D12=\"\",\"\",'Calc Cover Sheet'!D12)","v":"2024-04-25"},"RECHECK:",{"$f":"IF('Calc Cover Sheet'!B14=\"\",\"\",'Calc Cover Sheet'!B14)","v":""},"DATE:",{"$f":"IF('Calc Cover Sheet'!D14=\"\",\"\",'Calc Cover Sheet'!D14)","v":""}]
[null,null,null,null,null,null,"STRUCTURE:",{"$f":"IF('Calc Cover Sheet'!B7=\"\",\"\",'Calc Cover Sheet'!B7)","v":"HAM-00145-0203"},null,null,"SFN:",{"$f":"IF('Calc Cover Sheet'!B3=\"\",\"\",'Calc Cover Sheet'!B3)","v":3108680},"PID:",{"$f":"IF('Calc Cover Sheet'!B9=\"\",\"\",'Calc Cover Sheet'!B9)","v":110563}]
[null,null,null,null,null,null,null,null,null,null,null,null,null,null,null,null,"Lump Sum Tags (Items with a \"LS\" Pay Unit can be tagged with one or several categories)"]
[null,null,null,null,null,null,"ITEM:",{"$f":"MID(RIGHT(CELL(\"filename\",D2),LEN(CELL(\"filename\",D2))-FIND(\"]\",CELL(\"filename\",D2))),1,9)","v":"509E26000"},null,"PAY UNIT:",{"$f":"INDEX(QryItemE2019!B:B,MATCH(H5,QryItemE2019!A:A,0))","v":"LB"}]
[null,null,null,null,null,null,"SUBJECT:",{"$f":"IF('Calc Cover Sheet'!B2=\"\",\"\",'Calc Cover Sheet'!B2)","v":"ESTIMATED QUANTITIES"}]
[null,null,null,"DESCRIPTION:",{"$f":"INDEX(QryItemE2019!C:C,MATCH(H5,QryItemE2019!A:A,0))","v":"GALVANIZED STEEL REINFORCEMENT"}]
[null,null,null,"SUPPLEMENTAL DESCRIPTION:"]
[null,null,null,null,null,null,null,null,null,null,null,null,"SUBTOTAL","TOTAL",null,null,"GROUP","<<<<<Tag each subtotal value with a group from this column"]
[null,null,null,null,null,null,null,null,null,null,null,null,null,{"$f":"IF(M10=\"\",\"\",M10+MAX(N$9:N9))","v":""}]
[null,null,null,null,null,null,null,null,null,null,null,null,null,{"$f":"IF(M11=\"\",\"\",M11+MAX(N$9:N10))","v":""}]
[null,null,null,null,null,null,null,null,null,null,null,null,null,{"$f":"IF(M12=\"\",\"\",M12+MAX(N$9:N11))","v":""}]
[null,null,null,"Abutments = ",5021,"lb",null,null,null,null,null,null,{"$f":"E13","v":5021},{"$f":"IF(M13=\"\",\"\",M13+MAX(N$9:N12))","v":5021},null,null,"ABUT."]
[null,null,null,"Diaphragms =",4659,"lb",null,null,null,null,null,null,{"$f":"E14","v":4659},{"$f":"IF(M14=\"\",\"\",M14+MAX(N$9:N13))","v":9680},null,null,"ABUT."]
[null,null,null,"Piers =",15063,"lb",null,null,null,null,null,null,{"$f":"E15","v":15063},{"$f":"IF(M15=\"\",\"\",M15+MAX(N$9:N14))","v":24743},null,null,"PIER"]
[null,null,null,null,null,null,null,null,null,null,null,null,null,{"$f":"IF(M16=\"\",\"\",M16+MAX(N$9:N15))","v":""}]
[null,null,null,null,null,null,null,null,null,null,null,null,null,{"$f":"IF(M17=\"\",\"\",M17+MAX(N$9:N16))","v":""}]
[null,null,null,"Superstructure =",61557,"lb",null,null,null,null,null,null,{"$f":"E18","v":61557},{"$f":"IF(M18=\"\",\"\",M18+MAX(N$9:N17))","v":86300},null,null,"SUPER."]
[null,null,null,"Bridge Railing =",19390,"lb",null,null,null,null,null,null,{"$f":"E19","v":19390},{"$f":"IF(M19=\"\",\"\",M19+MAX(N$9:N18))","v":105690},null,null,"SUPER."]
[null,null,null,null,null,null,null,null,null,null,null,null,null,{"$f":"IF(M20=\"\",\"\",M20+MAX(N$9:N19))","v":""}]
[null,null,null,"Approach Sidewalk =",1177,"lb",null,null,null,null,null,null,{"$f":"E21","v":1177},{"$f":"IF(M21=\"\",\"\",M21+MAX(N$9:N20))","v":106867},null,null,"GEN."]
[null,null,null,"Moment Slab =",7671,"lb",null,null,null,null,null,null,{"$f":"E22","v":7671},{"$f":"IF(M22=\"\",\"\",M22+MAX(N$9:N21))","v":114538},null,null,"GEN."]
[null,null,null,null,null,null,null,null,null,null,null,null,null,{"$f":"IF(M23=\"\",\"\",M23+MAX(N$9:N22))","v":""}]
[null,null,null,null,null,null,null,null,null,null,null,null,null,{"$f":"IF(M24=\"\",\"\",M24+MAX(N$9:N21))","v":""}]
[]
[null,null,null,null,null,null,null,null,null,null,null,null,null,{"$f":"IF(M26=\"\",\"\",M26+MAX(N$9:N25))","v":""}]
[null,null,null,null,null,null,null,null,null,null,null,null,null,{"$f":"IF(M27=\"\",\"\",M27+MAX(N$9:N26))","v":""}]
[null,null,null,null,null,null,null,null,null,null,null,null,null,{"$f":"IF(M28=\"\",\"\",M28+MAX(N$9:N27))","v":""}]
[null,null,null,null,null,null,null,null,null,null,null,null,null,{"$f":"IF(M29=\"\",\"\",M29+MAX(N$9:N28))","v":""}]
[null,null,null,null,null,null,null,null,null,null,null,null,null,{"$f":"IF(M30=\"\",\"\",M30+MAX(N$9:N29))","v":""}]
[null,null,null,null,null,null,null,null,null,null,null,null,null,{"$f":"IF(M31=\"\",\"\",M31+MAX(N$9:N30))","v":""}]
[null,null,null,null,null,null,null,null,null,null,null,null,null,{"$f":"IF(M32=\"\",\"\",M32+MAX(N$9:N31))","v":""}]
[null,null,null,null,null,null,null,null,null,null,null,null,null,{"$f":"IF(M33=\"\",\"\",M33+MAX(N$9:N32))","v":""}]
[null,null,null,null,null,null,null,null,null,null,null,null,null,{"$f":"IF(M34=\"\",\"\",M34+MAX(N$9:N33))","v":""}]
[null,null,null,null,null,null,null,null,null,null,null,null,null,{"$f":"IF(M35=\"\",\"\",M35+MAX(N$10:N34))","v":""}]
[null,null,null,null,null,null,null,null,null,null,null,null,null,{"$f":"IF(M36=\"\",\"\",M36+MAX(N$10:N35))","v":""}]
[null,null,null,null,null,null,null,null,null,null,null,null,null,{"$f":"IF(M37=\"\",\"\",M37+MAX(N$10:N36))","v":""}]
[null,null,null,null,null,null,null,null,null,null,null,null,null,{"$f":"IF(M38=\"\",\"\",M38+MAX(N$10:N37))","v":""}]
[null,null,null,null,null,null,null,null,null,null,null,null,null,{"$f":"IF(M39=\"\",\"\",M39+MAX(N$10:N38))","v":""}]
[null,null,null,null,null,null,null,null,null,null,null,null,null,{"$f":"IF(M40=\"\",\"\",M40+MAX(N$10:N39))","v":""}]
[null,null,null,null,null,null,null,null,null,null,null,null,null,{"$f":"IF(M41=\"\",\"\",M41+MAX(N$10:N40))","v":""}]
[null,null,null,null,null,null,null,null,null,null,null,null,null,{"$f":"IF(M42=\"\",\"\",M42+MAX(N$10:N41))","v":""}]
[null,null,null,null,null,null,null,null,null,null,null,null,null,{"$f":"IF(M43=\"\",\"\",M43+MAX(N$10:N42))","v":""}]
[null,null,null,null,null,null,null,null,null,null,null,null,null,{"$f":"IF(M44=\"\",\"\",M44+MAX(N$10:N43))","v":""}]
[null,null,null,null,null,null,null,null,null,null,null,null,null,{"$f":"IF(M45=\"\",\"\",M45+MAX(N$10:N44))","v":""}]
[null,null,null,null,null,null,null,null,null,null,null,null,null,{"$f":"IF(M46=\"\",\"\",M46+MAX(N$10:N45))","v":""}]
[null,null,null,null,null,null,null,null,null,null,null,null,null,{"$f":"IF(M47=\"\",\"\",M47+MAX(N$10:N46))","v":""}]
[null,null,null,null,null,null,null,null,null,null,null,null,null,{"$f":"IF(M48=\"\",\"\",M48+MAX(N$10:N47))","v":""}]
[null,null,null,null,null,null,null,null,null,null,null,null,null,{"$f":"IF(M49=\"\",\"\",M49+MAX(N$10:N48))","v":""}]
[null,null,null,null,null,null,null,null,null,null,null,null,null,{"$f":"IF(M50=\"\",\"\",M50+MAX(N$10:N49))","v":""}]
[null,null,null,null,null,null,null,null,null,null,null,null,null,{"$f":"IF(M51=\"\",\"\",M51+MAX(N$10:N50))","v":""}]
[null,null,null,null,null,null,null,null,null,null,null,null,null,{"$f":"IF(M52=\"\",\"\",M52+MAX(N$10:N51))","v":""}]
[null,null,null,null,null,null,null,null,null,null,null,null,null,{"$f":"IF(M53=\"\",\"\",M53+MAX(N$10:N52))","v":""}]
[null,null,null,null,null,null,null,null,null,null,null,null,null,{"$f":"IF(M54=\"\",\"\",M54+MAX(N$10:N53))","v":""}]
[null,null,null,null,null,null,null,null,null,null,null,null,null,{"$f":"IF(M55=\"\",\"\",M55+MAX(N$10:N54))","v":""}]
[null,null,null,null,null,null,null,null,null,null,null,null,null,{"$f":"IF(M56=\"\",\"\",M56+MAX(N$10:N55))","v":""}]
[null,null,null,null,null,null,null,null,null,null,null,null,null,{"$f":"IF(M57=\"\",\"\",M57+MAX(N$10:N56))","v":""}]
[null,null,null,null,null,null,null,null,null,null,null,null,null,{"$f":"IF(M58=\"\",\"\",M58+MAX(N$10:N57))","v":""}]
[null,null,null,null,null,null,null,null,null,null,null,null,null,{"$f":"IF(M59=\"\",\"\",M59+MAX(N$10:N58))","v":""}]
[null,null,null,null,null,null,null,null,null,null,null,null,null,{"$f":"IF(M60=\"\",\"\",M60+MAX(N$10:N59))","v":""}]
[null,null,null,null,null,null,null,null,null,null,null,null,null,{"$f":"IF(M61=\"\",\"\",M61+MAX(N$10:N60))","v":""}]
[null,null,null,"SPECIAL INSTRUCTIONS:",{"$f":"INDEX(QryItemE2019!F:F,MATCH(H5,QryItemE2019!A:A,0))","v":""},null,null,null,null,null,null,null,"TOTAL",{"$f":"IF(K5=\"LS\",\"LS\",\" \")","v":" "}]

{"sheet":"509E30020","index":11,"n_rows":67,"n_cols":18,"rows_kept":67,"cut":false,"hidden":false,"merged":[[3,16,3,21],[4,7,4,8]]}
[null,null,null,null,null,null,"DESIGN:",{"$f":"IF('Calc Cover Sheet'!B11=\"\",\"\",'Calc Cover Sheet'!B11)","v":"BMV"},"DATE:",{"$f":"IF('Calc Cover Sheet'!D11=\"\",\"\",'Calc Cover Sheet'!D11)","v":"2024-04-19"},"UPDATE:",{"$f":"IF('Calc Cover Sheet'!B13=\"\",\"\",'Calc Cover Sheet'!B13)","v":""},"DATE:",{"$f":"IF('Calc Cover Sheet'!D13=\"\",\"\",'Calc Cover Sheet'!D13)","v":""}]
[null,null,null,null,null,null,"CHECK:",{"$f":"IF('Calc Cover Sheet'!B12=\"\",\"\",'Calc Cover Sheet'!B12)","v":"TLC"},"DATE:",{"$f":"IF('Calc Cover Sheet'!D12=\"\",\"\",'Calc Cover Sheet'!D12)","v":"2024-04-25"},"RECHECK:",{"$f":"IF('Calc Cover Sheet'!B14=\"\",\"\",'Calc Cover Sheet'!B14)","v":""},"DATE:",{"$f":"IF('Calc Cover Sheet'!D14=\"\",\"\",'Calc Cover Sheet'!D14)","v":""}]
[null,null,null,null,null,null,"STRUCTURE:",{"$f":"IF('Calc Cover Sheet'!B7=\"\",\"\",'Calc Cover Sheet'!B7)","v":"HAM-00145-0203"},null,null,"SFN:",{"$f":"IF('Calc Cover Sheet'!B3=\"\",\"\",'Calc Cover Sheet'!B3)","v":3108680},"PID:",{"$f":"IF('Calc Cover Sheet'!B9=\"\",\"\",'Calc Cover Sheet'!B9)","v":110563}]
[null,null,null,null,null,null,null,null,null,null,null,null,null,null,null,null,"Lump Sum Tags (Items with a \"LS\" Pay Unit can be tagged with one or several categories)"]
[null,null,null,null,null,null,"ITEM:",{"$f":"MID(RIGHT(CELL(\"filename\",D2),LEN(CELL(\"filename\",D2))-FIND(\"]\",CELL(\"filename\",D2))),1,9)","v":"509E30020"},null,"PAY UNIT:",{"$f":"INDEX(QryItemE2019!B:B,MATCH(H5,QryItemE2019!A:A,0))","v":"FT"}]
[null,null,null,null,null,null,"SUBJECT:",{"$f":"IF('Calc Cover Sheet'!B2=\"\",\"\",'Calc Cover Sheet'!B2)","v":"ESTIMATED QUANTITIES"}]
[null,null,null,"DESCRIPTION:",{"$f":"INDEX(QryItemE2019!C:C,MATCH(H5,QryItemE2019!A:A,0))","v":"NO. 4 DEFORMED GFRP REINFORCEMENT"}]
[null,null,null,"SUPPLEMENTAL DESCRIPTION:"]
[null,null,null,null,null,null,null,null,null,null,null,null,"SUBTOTAL","TOTAL",null,null,"GROUP","<<<<<Tag each subtotal value with a group from this column"]
[null,null,null,null,null,null,null,null,null,null,null,null,null,{"$f":"IF(M10=\"\",\"\",M10+MAX(N$9:N9))","v":""}]
[null,null,"Right Barrier (SBR-1-20)",null,null,null,null,null,null,null,null,null,null,{"$f":"IF(M11=\"\",\"\",M11+MAX(N$10:N10))","v":""}]
[null,null,"See reinforcing steel list",null,null,null,null,null,null,null,null,null,null,{"$f":"IF(M12=\"\",\"\",M12+MAX(N$10:N11))","v":""}]
[]
[]
[]
[null,null,null,null,null,null,null,null,null,null,null,null,null,{"$f":"IF(M16=\"\",\"\",M16+MAX(N$10:N13))","v":""}]
[null,null,null,null,null,null,null,null,null,null,null,null,null,{"$f":"IF(M17=\"\",\"\",M17+MAX(N$10:N16))","v":""}]
[null,null,null,null,"Total Length = ",4602.25,"FT",null,null,null,null,null,{"$f":"CEILING(F18,1)","v":4603},{"$f":"IF(M18=\"\",\"\",M18+MAX(N$10:N17))","v":4603},null,null,"SUPER."]
[null,null,null,null,null,null,null,null,null,null,null,null,null,{"$f":"IF(M19=\"\",\"\",M19+MAX(N$10:N18))","v":""}]
[null,null,null,null,null,null,null,null,null,null,null,null,null,{"$f":"IF(M20=\"\",\"\",M20+MAX(N$10:N18))","v":""}]
[null,null,null,null,null,null,null,null,null,null,null,null,null,{"$f":"IF(M21=\"\",\"\",M21+MAX(N$9:N20))","v":""}]
[]
[null,null,null,null,null,null,null,null,null,null,null,null,null,{"$f":"IF(M23=\"\",\"\",M23+MAX(N$9:N22))","v":""}]
[null,null,null,null,null,null,null,null,null,null,null,null,null,{"$f":"IF(M24=\"\",\"\",M24+MAX(N$9:N23))","v":""}]
[null,null,null,null,null,null,null,null,null,null,null,null,null,{"$f":"IF(M25=\"\",\"\",M25+MAX(N$9:N24))","v":""}]
[null,null,null,null,null,null,null,null,null,null,null,null,null,{"$f":"IF(M26=\"\",\"\",M26+MAX(N$9:N25))","v":""}]
[null,null,null,null,null,null,null,null,null,null,null,null,null,{"$f":"IF(M27=\"\",\"\",M27+MAX(N$9:N26))","v":""}]
[null,null,null,null,null,null,null,null,null,null,null,null,null,{"$f":"IF(M28=\"\",\"\",M28+MAX(N$9:N27))","v":""}]
[null,null,null,null,null,null,null,null,null,null,null,null,null,{"$f":"IF(M29=\"\",\"\",M29+MAX(N$9:N28))","v":""}]
[null,null,null,null,null,null,null,null,null,null,null,null,null,{"$f":"IF(M30=\"\",\"\",M30+MAX(N$9:N29))","v":""}]
[null,null,null,null,null,null,null,null,null,null,null,null,null,{"$f":"IF(M31=\"\",\"\",M31+MAX(N$9:N30))","v":""}]
[null,null,null,null,null,null,null,null,null,null,null,null,null,{"$f":"IF(M32=\"\",\"\",M32+MAX(N$9:N31))","v":""}]
[null,null,null,null,null,null,null,null,null,null,null,null,null,{"$f":"IF(M33=\"\",\"\",M33+MAX(N$9:N32))","v":""}]
[null,null,null,null,null,null,null,null,null,null,null,null,null,{"$f":"IF(M34=\"\",\"\",M34+MAX(N$9:N33))","v":""}]
[null,null,null,null,null,null,null,null,null,null,null,null,null,{"$f":"IF(M35=\"\",\"\",M35+MAX(N$9:N34))","v":""}]
[null,null,null,null,null,null,null,null,null,null,null,null,null,{"$f":"IF(M36=\"\",\"\",M36+MAX(N$9:N35))","v":""}]
[null,null,null,null,null,null,null,null,null,null,null,null,null,{"$f":"IF(M37=\"\",\"\",M37+MAX(N$9:N36))","v":""}]
[null,null,null,null,null,null,null,null,null,null,null,null,null,{"$f":"IF(M38=\"\",\"\",M38+MAX(N$9:N37))","v":""}]
[null,null,null,null,null,null,null,null,null,null,null,null,null,{"$f":"IF(M39=\"\",\"\",M39+MAX(N$9:N38))","v":""}]
[null,null,null,null,null,null,null,null,null,null,null,null,null,{"$f":"IF(M40=\"\",\"\",M40+MAX(N$10:N39))","v":""}]
[null,null,null,null,null,null,null,null,null,null,null,null,null,{"$f":"IF(M41=\"\",\"\",M41+MAX(N$10:N40))","v":""}]
[null,null,null,null,null,null,null,null,null,null,null,null,null,{"$f":"IF(M42=\"\",\"\",M42+MAX(N$10:N41))","v":""}]
[null,null,null,null,null,null,null,null,null,null,null,null,null,{"$f":"IF(M43=\"\",\"\",M43+MAX(N$10:N42))","v":""}]
[null,null,null,null,null,null,null,null,null,null,null,null,null,{"$f":"IF(M44=\"\",\"\",M44+MAX(N$10:N43))","v":""}]
[null,null,null,null,null,null,null,null,null,null,null,null,null,{"$f":"IF(M45=\"\",\"\",M45+MAX(N$10:N44))","v":""}]
[null,null,null,null,null,null,null,null,null,null,null,null,null,{"$f":"IF(M46=\"\",\"\",M46+MAX(N$10:N45))","v":""}]
[null,null,null,null,null,null,null,null,null,null,null,null,null,{"$f":"IF(M47=\"\",\"\",M47+MAX(N$10:N46))","v":""}]
[null,null,null,null,null,null,null,null,null,null,null,null,null,{"$f":"IF(M48=\"\",\"\",M48+MAX(N$10:N47))","v":""}]
[null,null,null,null,null,null,null,null,null,null,null,null,null,{"$f":"IF(M49=\"\",\"\",M49+MAX(N$10:N48))","v":""}]
[null,null,null,null,null,null,null,null,null,null,null,null,null,{"$f":"IF(M50=\"\",\"\",M50+MAX(N$10:N49))","v":""}]
[null,null,null,null,null,null,null,null,null,null,null,null,null,{"$f":"IF(M51=\"\",\"\",M51+MAX(N$10:N50))","v":""}]
[null,null,null,null,null,null,null,null,null,null,null,null,null,{"$f":"IF(M52=\"\",\"\",M52+MAX(N$10:N51))","v":""}]
[null,null,null,null,null,null,null,null,null,null,null,null,null,{"$f":"IF(M53=\"\",\"\",M53+MAX(N$10:N52))","v":""}]
[null,null,null,null,null,null,null,null,null,null,null,null,null,{"$f":"IF(M54=\"\",\"\",M54+MAX(N$10:N53))","v":""}]
[null,null,null,null,null,null,null,null,null,null,null,null,null,{"$f":"IF(M55=\"\",\"\",M55+MAX(N$10:N54))","v":""}]
[null,null,null,null,null,null,null,null,null,null,null,null,null,{"$f":"IF(M56=\"\",\"\",M56+MAX(N$10:N55))","v":""}]
[null,null,null,null,null,null,null,null,null,null,null,null,null,{"$f":"IF(M57=\"\",\"\",M57+MAX(N$10:N56))","v":""}]
[null,null,null,null,null,null,null,null,null,null,null,null,null,{"$f":"IF(M58=\"\",\"\",M58+MAX(N$10:N57))","v":""}]
[null,null,null,null,null,null,null,null,null,null,null,null,null,{"$f":"IF(M59=\"\",\"\",M59+MAX(N$10:N58))","v":""}]
[null,null,null,null,null,null,null,null,null,null,null,null,null,{"$f":"IF(M60=\"\",\"\",M60+MAX(N$10:N59))","v":""}]
[null,null,null,null,null,null,null,null,null,null,null,null,null,{"$f":"IF(M61=\"\",\"\",M61+MAX(N$10:N60))","v":""}]
[null,null,null,null,null,null,null,null,null,null,null,null,null,{"$f":"IF(M62=\"\",\"\",M62+MAX(N$10:N61))","v":""}]
[null,null,null,null,null,null,null,null,null,null,null,null,null,{"$f":"IF(M63=\"\",\"\",M63+MAX(N$10:N62))","v":""}]
[null,null,null,null,null,null,null,null,null,null,null,null,null,{"$f":"IF(M64=\"\",\"\",M64+MAX(N$10:N63))","v":""}]
[null,null,null,null,null,null,null,null,null,null,null,null,null,{"$f":"IF(M65=\"\",\"\",M65+MAX(N$10:N64))","v":""}]
[null,null,null,null,null,null,null,null,null,null,null,null,null,{"$f":"IF(M66=\"\",\"\",M66+MAX(N$10:N65))","v":""}]
[null,null,null,"SPECIAL INSTRUCTIONS:",{"$f":"INDEX(QryItemE2019!F:F,MATCH(H5,QryItemE2019!A:A,0))","v":""},null,null,null,null,null,null,null,"TOTAL",{"$f":"IF(K5=\"LS\",\"LS\",\" \")","v":" "}]

{"sheet":"511E33500","index":12,"n_rows":64,"n_cols":18,"rows_kept":64,"cut":false,"hidden":false,"merged":[[3,16,3,21],[4,7,4,8]]}
[null,null,null,null,null,null,"DESIGN:",{"$f":"IF('Calc Cover Sheet'!B11=\"\",\"\",'Calc Cover Sheet'!B11)","v":"BMV"},"DATE:",{"$f":"IF('Calc Cover Sheet'!D11=\"\",\"\",'Calc Cover Sheet'!D11)","v":"2024-04-19"},"UPDATE:",{"$f":"IF('Calc Cover Sheet'!B13=\"\",\"\",'Calc Cover Sheet'!B13)","v":""},"DATE:",{"$f":"IF('Calc Cover Sheet'!D13=\"\",\"\",'Calc Cover Sheet'!D13)","v":""}]
[null,null,null,null,null,null,"CHECK:",{"$f":"IF('Calc Cover Sheet'!B12=\"\",\"\",'Calc Cover Sheet'!B12)","v":"TLC"},"DATE:",{"$f":"IF('Calc Cover Sheet'!D12=\"\",\"\",'Calc Cover Sheet'!D12)","v":"2024-04-25"},"RECHECK:",{"$f":"IF('Calc Cover Sheet'!B14=\"\",\"\",'Calc Cover Sheet'!B14)","v":""},"DATE:",{"$f":"IF('Calc Cover Sheet'!D14=\"\",\"\",'Calc Cover Sheet'!D14)","v":""}]
[null,null,null,null,null,null,"STRUCTURE:",{"$f":"IF('Calc Cover Sheet'!B7=\"\",\"\",'Calc Cover Sheet'!B7)","v":"HAM-00145-0203"},null,null,"SFN:",{"$f":"IF('Calc Cover Sheet'!B3=\"\",\"\",'Calc Cover Sheet'!B3)","v":3108680},"PID:",{"$f":"IF('Calc Cover Sheet'!B9=\"\",\"\",'Calc Cover Sheet'!B9)","v":110563}]
[null,null,null,null,null,null,null,null,null,null,null,null,null,null,null,null,"Lump Sum Tags (Items with a \"LS\" Pay Unit can be tagged with one or several categories)"]
[null,null,null,null,null,null,"ITEM:",{"$f":"MID(RIGHT(CELL(\"filename\",D2),LEN(CELL(\"filename\",D2))-FIND(\"]\",CELL(\"filename\",D2))),1,9)","v":"511E33500"},null,"PAY UNIT:",{"$f":"INDEX(QryItemE2019!B:B,MATCH(H5,QryItemE2019!A:A,0))","v":"EACH"}]
[null,null,null,null,null,null,"SUBJECT:",{"$f":"IF('Calc Cover Sheet'!B2=\"\",\"\",'Calc Cover Sheet'!B2)","v":"ESTIMATED QUANTITIES"}]
[null,null,null,"DESCRIPTION:",{"$f":"INDEX(QryItemE2019!C:C,MATCH(H5,QryItemE2019!A:A,0))","v":"SEMI-INTEGRAL DIAPHRAGM GUIDE"}]
[null,null,null,"SUPPLEMENTAL DESCRIPTION:"]
[null,null,null,null,null,null,null,null,null,null,null,null,"SUBTOTAL","TOTAL",null,null,"GROUP","<<<<<Tag each subtotal value with a group from this column"]
[null,null,null,null,null,null,null,null,null,null,null,null,null,{"$f":"IF(M10=\"\",\"\",M10+MAX(N$9:N9))","v":""}]
[null,null,null,null,null,null,null,null,null,null,null,null,null,{"$f":"IF(M11=\"\",\"\",M11+MAX(N$9:N10))","v":""}]
[null,null,null,null,null,null,null,null,null,null,null,null,null,{"$f":"IF(M12=\"\",\"\",M12+MAX(N$9:N11))","v":""}]
[null,null,null,"Total = ",2,"each",null,null,null,null,null,null,{"$f":"E13","v":2},{"$f":"IF(M13=\"\",\"\",M13+MAX(N$9:N12))","v":2},null,null,"ABUT."]
[null,null,null,null,null,null,null,null,null,null,null,null,null,{"$f":"IF(M14=\"\",\"\",M14+MAX(N$9:N13))","v":""}]
[null,null,null,null,null,null,null,null,null,null,null,null,null,{"$f":"IF(M15=\"\",\"\",M15+MAX(N$9:N14))","v":""}]
[null,null,null,null,null,null,null,null,null,null,null,null,null,{"$f":"IF(M16=\"\",\"\",M16+MAX(N$9:N15))","v":""}]
[null,null,null,null,null,null,null,null,null,null,null,null,null,{"$f":"IF(M17=\"\",\"\",M17+MAX(N$9:N16))","v":""}]
[null,null,null,null,null,null,null,null,null,null,null,null,null,{"$f":"IF(M18=\"\",\"\",M18+MAX(N$9:N17))","v":""}]
[]
[null,null,null,null,null,null,null,null,null,null,null,null,null,{"$f":"IF(M20=\"\",\"\",M20+MAX(N$9:N19))","v":""}]
[null,null,null,null,null,null,null,null,null,null,null,null,null,{"$f":"IF(M21=\"\",\"\",M21+MAX(N$9:N20))","v":""}]
[null,null,null,null,null,null,null,null,null,null,null,null,null,{"$f":"IF(M22=\"\",\"\",M22+MAX(N$9:N21))","v":""}]
[null,null,null,null,null,null,null,null,null,null,null,null,null,{"$f":"IF(M23=\"\",\"\",M23+MAX(N$9:N22))","v":""}]
[null,null,null,null,null,null,null,null,null,null,null,null,null,{"$f":"IF(M24=\"\",\"\",M24+MAX(N$9:N23))","v":""}]
[null,null,null,null,null,null,null,null,null,null,null,null,null,{"$f":"IF(M25=\"\",\"\",M25+MAX(N$9:N24))","v":""}]
[null,null,null,null,null,null,null,null,null,null,null,null,null,{"$f":"IF(M26=\"\",\"\",M26+MAX(N$9:N25))","v":""}]
[null,null,null,null,null,null,null,null,null,null,null,null,null,{"$f":"IF(M27=\"\",\"\",M27+MAX(N$9:N26))","v":""}]
[null,null,null,null,null,null,null,null,null,null,null,null,null,{"$f":"IF(M28=\"\",\"\",M28+MAX(N$9:N27))","v":""}]
[null,null,null,null,null,null,null,null,null,null,null,null,null,{"$f":"IF(M29=\"\",\"\",M29+MAX(N$9:N28))","v":""}]
[null,null,null,null,null,null,null,null,null,null,null,null,null,{"$f":"IF(M30=\"\",\"\",M30+MAX(N$9:N29))","v":""}]
[null,null,null,null,null,null,null,null,null,null,null,null,null,{"$f":"IF(M31=\"\",\"\",M31+MAX(N$9:N30))","v":""}]
[null,null,null,null,null,null,null,null,null,null,null,null,null,{"$f":"IF(M32=\"\",\"\",M32+MAX(N$9:N31))","v":""}]
[null,null,null,null,null,null,null,null,null,null,null,null,null,{"$f":"IF(M33=\"\",\"\",M33+MAX(N$9:N32))","v":""}]
[null,null,null,null,null,null,null,null,null,null,null,null,null,{"$f":"IF(M34=\"\",\"\",M34+MAX(N$9:N33))","v":""}]
[null,null,null,null,null,null,null,null,null,null,null,null,null,{"$f":"IF(M35=\"\",\"\",M35+MAX(N$9:N34))","v":""}]
[null,null,null,null,null,null,null,null,null,null,null,null,null,{"$f":"IF(M36=\"\",\"\",M36+MAX(N$9:N35))","v":""}]
[null,null,null,null,null,null,null,null,null,null,null,null,null,{"$f":"IF(M37=\"\",\"\",M37+MAX(N$10:N36))","v":""}]
[null,null,null,null,null,null,null,null,null,null,null,null,null,{"$f":"IF(M38=\"\",\"\",M38+MAX(N$10:N37))","v":""}]
[null,null,null,null,null,null,null,null,null,null,null,null,null,{"$f":"IF(M39=\"\",\"\",M39+MAX(N$10:N38))","v":""}]
[null,null,null,null,null,null,null,null,null,null,null,null,null,{"$f":"IF(M40=\"\",\"\",M40+MAX(N$10:N39))","v":""}]
[null,null,null,null,null,null,null,null,null,null,null,null,null,{"$f":"IF(M41=\"\",\"\",M41+MAX(N$10:N40))","v":""}]
[null,null,null,null,null,null,null,null,null,null,null,null,null,{"$f":"IF(M42=\"\",\"\",M42+MAX(N$10:N41))","v":""}]
[null,null,null,null,null,null,null,null,null,null,null,null,null,{"$f":"IF(M43=\"\",\"\",M43+MAX(N$10:N42))","v":""}]
[null,null,null,null,null,null,null,null,null,null,null,null,null,{"$f":"IF(M44=\"\",\"\",M44+MAX(N$10:N43))","v":""}]
[null,null,null,null,null,null,null,null,null,null,null,null,null,{"$f":"IF(M45=\"\",\"\",M45+MAX(N$10:N44))","v":""}]
[null,null,null,null,null,null,null,null,null,null,null,null,null,{"$f":"IF(M46=\"\",\"\",M46+MAX(N$10:N45))","v":""}]
[null,null,null,null,null,null,null,null,null,null,null,null,null,{"$f":"IF(M47=\"\",\"\",M47+MAX(N$10:N46))","v":""}]
[null,null,null,null,null,null,null,null,null,null,null,null,null,{"$f":"IF(M48=\"\",\"\",M48+MAX(N$10:N47))","v":""}]
[null,null,null,null,null,null,null,null,null,null,null,null,null,{"$f":"IF(M49=\"\",\"\",M49+MAX(N$10:N48))","v":""}]
[null,null,null,null,null,null,null,null,null,null,null,null,null,{"$f":"IF(M50=\"\",\"\",M50+MAX(N$10:N49))","v":""}]
[null,null,null,null,null,null,null,null,null,null,null,null,null,{"$f":"IF(M51=\"\",\"\",M51+MAX(N$10:N50))","v":""}]
[null,null,null,null,null,null,null,null,null,null,null,null,null,{"$f":"IF(M52=\"\",\"\",M52+MAX(N$10:N51))","v":""}]
[null,null,null,null,null,null,null,null,null,null,null,null,null,{"$f":"IF(M53=\"\",\"\",M53+MAX(N$10:N52))","v":""}]
[null,null,null,null,null,null,null,null,null,null,null,null,null,{"$f":"IF(M54=\"\",\"\",M54+MAX(N$10:N53))","v":""}]
[null,null,null,null,null,null,null,null,null,null,null,null,null,{"$f":"IF(M55=\"\",\"\",M55+MAX(N$10:N54))","v":""}]
[null,null,null,null,null,null,null,null,null,null,null,null,null,{"$f":"IF(M56=\"\",\"\",M56+MAX(N$10:N55))","v":""}]
[null,null,null,null,null,null,null,null,null,null,null,null,null,{"$f":"IF(M57=\"\",\"\",M57+MAX(N$10:N56))","v":""}]
[null,null,null,null,null,null,null,null,null,null,null,null,null,{"$f":"IF(M58=\"\",\"\",M58+MAX(N$10:N57))","v":""}]
[null,null,null,null,null,null,null,null,null,null,null,null,null,{"$f":"IF(M59=\"\",\"\",M59+MAX(N$10:N58))","v":""}]
[null,null,null,null,null,null,null,null,null,null,null,null,null,{"$f":"IF(M60=\"\",\"\",M60+MAX(N$10:N59))","v":""}]
[null,null,null,null,null,null,null,null,null,null,null,null,null,{"$f":"IF(M61=\"\",\"\",M61+MAX(N$10:N60))","v":""}]
[null,null,null,null,null,null,null,null,null,null,null,null,null,{"$f":"IF(M62=\"\",\"\",M62+MAX(N$10:N61))","v":""}]
[null,null,null,null,null,null,null,null,null,null,null,null,null,{"$f":"IF(M63=\"\",\"\",M63+MAX(N$10:N62))","v":""}]
[null,null,null,"SPECIAL INSTRUCTIONS:",{"$f":"INDEX(QryItemE2019!F:F,MATCH(H5,QryItemE2019!A:A,0))","v":""},null,null,null,null,null,null,null,"TOTAL",{"$f":"IF(K5=\"LS\",\"LS\",\" \")","v":" "}]

{"sheet":"511E34460","index":13,"n_rows":64,"n_cols":18,"rows_kept":64,"cut":false,"hidden":false,"merged":[[3,16,3,21],[4,7,4,8]]}
[null,null,null,null,null,null,"DESIGN:",{"$f":"IF('Calc Cover Sheet'!B11=\"\",\"\",'Calc Cover Sheet'!B11)","v":"BMV"},"DATE:",{"$f":"IF('Calc Cover Sheet'!D11=\"\",\"\",'Calc Cover Sheet'!D11)","v":"2024-04-19"},"UPDATE:",{"$f":"IF('Calc Cover Sheet'!B13=\"\",\"\",'Calc Cover Sheet'!B13)","v":""},"DATE:",{"$f":"IF('Calc Cover Sheet'!D13=\"\",\"\",'Calc Cover Sheet'!D13)","v":""}]
[null,null,null,null,null,null,"CHECK:",{"$f":"IF('Calc Cover Sheet'!B12=\"\",\"\",'Calc Cover Sheet'!B12)","v":"TLC"},"DATE:",{"$f":"IF('Calc Cover Sheet'!D12=\"\",\"\",'Calc Cover Sheet'!D12)","v":"2024-04-25"},"RECHECK:",{"$f":"IF('Calc Cover Sheet'!B14=\"\",\"\",'Calc Cover Sheet'!B14)","v":""},"DATE:",{"$f":"IF('Calc Cover Sheet'!D14=\"\",\"\",'Calc Cover Sheet'!D14)","v":""}]
[null,null,null,null,null,null,"STRUCTURE:",{"$f":"IF('Calc Cover Sheet'!B7=\"\",\"\",'Calc Cover Sheet'!B7)","v":"HAM-00145-0203"},null,null,"SFN:",{"$f":"IF('Calc Cover Sheet'!B3=\"\",\"\",'Calc Cover Sheet'!B3)","v":3108680},"PID:",{"$f":"IF('Calc Cover Sheet'!B9=\"\",\"\",'Calc Cover Sheet'!B9)","v":110563}]
[null,null,null,null,null,null,null,null,null,null,null,null,null,null,null,null,"Lump Sum Tags (Items with a \"LS\" Pay Unit can be tagged with one or several categories)"]
[null,null,null,null,null,null,"ITEM:",{"$f":"MID(RIGHT(CELL(\"filename\",D2),LEN(CELL(\"filename\",D2))-FIND(\"]\",CELL(\"filename\",D2))),1,9)","v":"511E34460"},null,"PAY UNIT:",{"$f":"INDEX(QryItemE2019!B:B,MATCH(H5,QryItemE2019!A:A,0))","v":"CY"}]
[null,null,null,null,null,null,"SUBJECT:",{"$f":"IF('Calc Cover Sheet'!B2=\"\",\"\",'Calc Cover Sheet'!B2)","v":"ESTIMATED QUANTITIES"}]
[null,null,null,"DESCRIPTION:",{"$f":"INDEX(QryItemE2019!C:C,MATCH(H5,QryItemE2019!A:A,0))","v":"CLASS QC SCC CONCRETE, BRIDGE DECK (PARAPET)"}]
[null,null,null,"SUPPLEMENTAL DESCRIPTION:"]
[null,null,null,null,null,null,null,null,null,null,null,null,"SUBTOTAL","TOTAL",null,null,"GROUP","<<<<<Tag each subtotal value with a group from this column"]
[null,null,null,null,null,null,null,null,null,null,null,null,null,{"$f":"IF(M10=\"\",\"\",M10+MAX(N$9:N9))","v":""}]
[null,null,"SBR-1-20 (Applies to Alt 1 and Alt 2)",null,null,null,null,null,null,null,null,null,null,{"$f":"IF(M11=\"\",\"\",M11+MAX(N$9:N10))","v":""}]
[null,null,null,"Bridge Length = ",182.66669999999999,"ft",null,null,null,null,null,null,null,{"$f":"IF(M12=\"\",\"\",M12+MAX(N$9:N11))","v":""}]
[null,null,null,"Approach Length = ",30,"ft",null,null,null,null,null,null,null,{"$f":"IF(M13=\"\",\"\",M13+MAX(N$9:N12))","v":""}]
[null,null,null,"Barrier Area = ",{"$f":"588/(12^2)","v":4.083333333333333},"sf"]
[null,null,null,null,null,null,null,null,null,null,null,null,null,{"$f":"IF(M15=\"\",\"\",M15+MAX(N$9:N13))","v":""}]
[null,null,null,"SBR-1-20 Volume = ",{"$f":"(E12+E13*2)*E14/27","v":36.699593518518519},"CY",null,null,null,null,null,null,{"$f":"CEILING(E16,1)","v":37},{"$f":"IF(M16=\"\",\"\",M16+MAX(N$9:N15))","v":37},null,null,"SUPER."]
[null,null,null,null,null,null,null,null,null,null,null,null,null,{"$f":"IF(M17=\"\",\"\",M17+MAX(N$9:N16))","v":""}]
[null,null,null,null,null,null,null,null,null,null,null,null,null,{"$f":"IF(M18=\"\",\"\",M18+MAX(N$9:N17))","v":""}]
[null,null,"BR-2-15 Modified (Applies to Alt 1 and Alt 2)"]
[null,null,null,null,null,null,null,null,null,null,null,null,null,{"$f":"IF(M20=\"\",\"\",M20+MAX(N$9:N19))","v":""}]
[null,null,null,"Barrier Ht =",3.75,"ft",null,null,null,null,null,null,null,{"$f":"IF(M21=\"\",\"\",M21+MAX(N$9:N20))","v":""}]
[null,null,null,"Barrier Width =",1,"ft",null,null,null,null,null,null,null,{"$f":"IF(M22=\"\",\"\",M22+MAX(N$9:N21))","v":""}]
[null,null,null,null,null,null,null,null,null,null,null,null,null,{"$f":"IF(M23=\"\",\"\",M23+MAX(N$9:N22))","v":""}]
[null,null,null,"BR-2-15 Volume = ",{"$f":"(E21*E22*(E12+2*E13))/27","v":33.703708333333331},"CY",null,null,null,null,null,null,{"$f":"CEILING(E24,1)","v":34},{"$f":"IF(M24=\"\",\"\",M24+MAX(N$9:N23))","v":71},null,null,"SUPER."]
[null,null,null,null,null,null,null,null,null,null,null,null,null,{"$f":"IF(M25=\"\",\"\",M25+MAX(N$9:N24))","v":""}]
[null,null,null,null,null,null,null,null,null,null,null,null,null,{"$f":"IF(M26=\"\",\"\",M26+MAX(N$9:N25))","v":""}]
[null,null,null,null,null,null,null,null,null,null,null,null,null,{"$f":"IF(M27=\"\",\"\",M27+MAX(N$9:N26))","v":""}]
[null,null,null,null,null,null,null,null,null,null,null,null,null,{"$f":"IF(M28=\"\",\"\",M28+MAX(N$9:N27))","v":""}]
[null,null,null,null,null,null,null,null,null,null,null,null,null,{"$f":"IF(M29=\"\",\"\",M29+MAX(N$9:N28))","v":""}]
[null,null,null,null,null,null,null,null,null,null,null,null,null,{"$f":"IF(M30=\"\",\"\",M30+MAX(N$9:N29))","v":""}]
[null,null,null,null,null,null,null,null,null,null,null,null,null,{"$f":"IF(M31=\"\",\"\",M31+MAX(N$9:N30))","v":""}]
[null,null,null,null,null,null,null,null,null,null,null,null,null,{"$f":"IF(M32=\"\",\"\",M32+MAX(N$9:N31))","v":""}]
[null,null,null,null,null,null,null,null,null,null,null,null,null,{"$f":"IF(M33=\"\",\"\",M33+MAX(N$9:N32))","v":""}]
[null,null,null,null,null,null,null,null,null,null,null,null,null,{"$f":"IF(M34=\"\",\"\",M34+MAX(N$9:N33))","v":""}]
[null,null,null,null,null,null,null,null,null,null,null,null,null,{"$f":"IF(M35=\"\",\"\",M35+MAX(N$9:N34))","v":""}]
[null,null,null,null,null,null,null,null,null,null,null,null,null,{"$f":"IF(M36=\"\",\"\",M36+MAX(N$9:N35))","v":""}]
[null,null,null,null,null,null,null,null,null,null,null,null,null,{"$f":"IF(M37=\"\",\"\",M37+MAX(N$10:N36))","v":""}]
[null,null,null,null,null,null,null,null,null,null,null,null,null,{"$f":"IF(M38=\"\",\"\",M38+MAX(N$10:N37))","v":""}]
[null,null,null,null,null,null,null,null,null,null,null,null,null,{"$f":"IF(M39=\"\",\"\",M39+MAX(N$10:N38))","v":""}]
[null,null,null,null,null,null,null,null,null,null,null,null,null,{"$f":"IF(M40=\"\",\"\",M40+MAX(N$10:N39))","v":""}]
[null,null,null,null,null,null,null,null,null,null,null,null,null,{"$f":"IF(M41=\"\",\"\",M41+MAX(N$10:N40))","v":""}]
[null,null,null,null,null,null,null,null,null,null,null,null,null,{"$f":"IF(M42=\"\",\"\",M42+MAX(N$10:N41))","v":""}]
[null,null,null,null,null,null,null,null,null,null,null,null,null,{"$f":"IF(M43=\"\",\"\",M43+MAX(N$10:N42))","v":""}]
[null,null,null,null,null,null,null,null,null,null,null,null,null,{"$f":"IF(M44=\"\",\"\",M44+MAX(N$10:N43))","v":""}]
[null,null,null,null,null,null,null,null,null,null,null,null,null,{"$f":"IF(M45=\"\",\"\",M45+MAX(N$10:N44))","v":""}]
[null,null,null,null,null,null,null,null,null,null,null,null,null,{"$f":"IF(M46=\"\",\"\",M46+MAX(N$10:N45))","v":""}]
[null,null,null,null,null,null,null,null,null,null,null,null,null,{"$f":"IF(M47=\"\",\"\",M47+MAX(N$10:N46))","v":""}]
[null,null,null,null,null,null,null,null,null,null,null,null,null,{"$f":"IF(M48=\"\",\"\",M48+MAX(N$10:N47))","v":""}]
[null,null,null,null,null,null,null,null,null,null,null,null,null,{"$f":"IF(M49=\"\",\"\",M49+MAX(N$10:N48))","v":""}]
[null,null,null,null,null,null,null,null,null,null,null,null,null,{"$f":"IF(M50=\"\",\"\",M50+MAX(N$10:N49))","v":""}]
[null,null,null,null,null,null,null,null,null,null,null,null,null,{"$f":"IF(M51=\"\",\"\",M51+MAX(N$10:N50))","v":""}]
[null,null,null,null,null,null,null,null,null,null,null,null,null,{"$f":"IF(M52=\"\",\"\",M52+MAX(N$10:N51))","v":""}]
[null,null,null,null,null,null,null,null,null,null,null,null,null,{"$f":"IF(M53=\"\",\"\",M53+MAX(N$10:N52))","v":""}]
[null,null,null,null,null,null,null,null,null,null,null,null,null,{"$f":"IF(M54=\"\",\"\",M54+MAX(N$10:N53))","v":""}]
[null,null,null,null,null,null,null,null,null,null,null,null,null,{"$f":"IF(M55=\"\",\"\",M55+MAX(N$10:N54))","v":""}]
[null,null,null,null,null,null,null,null,null,null,null,null,null,{"$f":"IF(M56=\"\",\"\",M56+MAX(N$10:N55))","v":""}]
[null,null,null,null,null,null,null,null,null,null,null,null,null,{"$f":"IF(M57=\"\",\"\",M57+MAX(N$10:N56))","v":""}]
[null,null,null,null,null,null,null,null,null,null,null,null,null,{"$f":"IF(M58=\"\",\"\",M58+MAX(N$10:N57))","v":""}]
[null,null,null,null,null,null,null,null,null,null,null,null,null,{"$f":"IF(M59=\"\",\"\",M59+MAX(N$10:N58))","v":""}]
[null,null,null,null,null,null,null,null,null,null,null,null,null,{"$f":"IF(M60=\"\",\"\",M60+MAX(N$10:N59))","v":""}]
[null,null,null,null,null,null,null,null,null,null,null,null,null,{"$f":"IF(M61=\"\",\"\",M61+MAX(N$10:N60))","v":""}]
[null,null,null,null,null,null,null,null,null,null,null,null,null,{"$f":"IF(M62=\"\",\"\",M62+MAX(N$10:N61))","v":""}]
[null,null,null,null,null,null,null,null,null,null,null,null,null,{"$f":"IF(M63=\"\",\"\",M63+MAX(N$10:N62))","v":""}]
[null,null,null,"SPECIAL INSTRUCTIONS:",{"$f":"INDEX(QryItemE2019!F:F,MATCH(H5,QryItemE2019!A:A,0))","v":""},null,null,null,null,null,null,null,"TOTAL",{"$f":"IF(K5=\"LS\",\"LS\",\" \")","v":" "}]

{"sheet":"511E43510","index":14,"n_rows":62,"n_cols":18,"rows_kept":62,"cut":false,"hidden":false,"merged":[[3,16,3,21],[4,7,4,8]]}
[null,null,null,null,null,null,"DESIGN:",{"$f":"IF('Calc Cover Sheet'!B11=\"\",\"\",'Calc Cover Sheet'!B11)","v":"BMV"},"DATE:",{"$f":"IF('Calc Cover Sheet'!D11=\"\",\"\",'Calc Cover Sheet'!D11)","v":"2024-04-19"},"UPDATE:",{"$f":"IF('Calc Cover Sheet'!B13=\"\",\"\",'Calc Cover Sheet'!B13)","v":""},"DATE:",{"$f":"IF('Calc Cover Sheet'!D13=\"\",\"\",'Calc Cover Sheet'!D13)","v":""}]
[null,null,null,null,null,null,"CHECK:",{"$f":"IF('Calc Cover Sheet'!B12=\"\",\"\",'Calc Cover Sheet'!B12)","v":"TLC"},"DATE:",{"$f":"IF('Calc Cover Sheet'!D12=\"\",\"\",'Calc Cover Sheet'!D12)","v":"2024-04-25"},"RECHECK:",{"$f":"IF('Calc Cover Sheet'!B14=\"\",\"\",'Calc Cover Sheet'!B14)","v":""},"DATE:",{"$f":"IF('Calc Cover Sheet'!D14=\"\",\"\",'Calc Cover Sheet'!D14)","v":""}]
[null,null,null,null,null,null,"STRUCTURE:",{"$f":"IF('Calc Cover Sheet'!B7=\"\",\"\",'Calc Cover Sheet'!B7)","v":"HAM-00145-0203"},null,null,"SFN:",{"$f":"IF('Calc Cover Sheet'!B3=\"\",\"\",'Calc Cover Sheet'!B3)","v":3108680},"PID:",{"$f":"IF('Calc Cover Sheet'!B9=\"\",\"\",'Calc Cover Sheet'!B9)","v":110563}]
[null,null,null,null,null,null,null,null,null,null,null,null,null,null,null,null,"Lump Sum Tags (Items with a \"LS\" Pay Unit can be tagged with one or several categories)"]
[null,null,null,null,null,null,"ITEM:",{"$f":"MID(RIGHT(CELL(\"filename\",D2),LEN(CELL(\"filename\",D2))-FIND(\"]\",CELL(\"filename\",D2))),1,9)","v":"511E43510"},null,"PAY UNIT:",{"$f":"INDEX(QryItemE2019!B:B,MATCH(H5,QryItemE2019!A:A,0))","v":"CY"}]
[null,null,null,null,null,null,"SUBJECT:",{"$f":"IF('Calc Cover Sheet'!B2=\"\",\"\",'Calc Cover Sheet'!B2)","v":"ESTIMATED QUANTITIES"}]
[null,null,null,"DESCRIPTION:",{"$f":"INDEX(QryItemE2019!C:C,MATCH(H5,QryItemE2019!A:A,0))","v":"CLASS QC1 CONCRETE, ABUTMENT INCLUDING FOOTING"}]
[null,null,null,"SUPPLEMENTAL DESCRIPTION:"]
[null,null,null,null,null,null,null,null,null,null,null,null,"SUBTOTAL","TOTAL",null,null,"GROUP","<<<<<Tag each subtotal value with a group from this column"]
[null,null,null,null,null,null,null,null,null,null,null,null,null,{"$f":"IF(M10=\"\",\"\",M10+MAX(N$9:N9))","v":""}]
[null,null,null,null,null,null,null,null,null,null,null,null,null,{"$f":"IF(M11=\"\",\"\",M11+MAX(N$9:N10))","v":""}]
[null,null,null,null,null,null,null,null,null,null,null,null,null,{"$f":"IF(M12=\"\",\"\",M12+MAX(N$9:N11))","v":""}]
[null,null,null,"Abut. Length = ",38.833300000000001,"ft",null,null,null,null,null,null,null,{"$f":"IF(M13=\"\",\"\",M13+MAX(N$9:N12))","v":""}]
[null,null,null,"Abut. Stem Height = ",2,"ft","Average",null,null,null,null,null,null,{"$f":"IF(M14=\"\",\"\",M14+MAX(N$9:N13))","v":""}]
[null,null,null,"Abut. Stem Width = ",3.6667000000000001,"ft",null,null,null,null,null,null,null,{"$f":"IF(M15=\"\",\"\",M15+MAX(N$9:N14))","v":""}]
[null,null,null,"Abut. Footing Height = ",3,"ft",null,null,null,null,null,null,null,{"$f":"IF(M16=\"\",\"\",M16+MAX(N$9:N15))","v":""}]
[null,null,null,"Abut. Footing Width = ",6.5,"ft"]
[null,null,null,null,null,null,null,null,null,null,null,null,null,{"$f":"IF(M18=\"\",\"\",M18+MAX(N$9:N17))","v":""}]
[null,null,null,"Volume = ",{"$f":"2*E13*(E14*E15+E16*E17)/27","v":77.187368312592596},"CY",null,null,null,null,null,null,{"$f":"CEILING(E19,1)","v":78},{"$f":"IF(M19=\"\",\"\",M19+MAX(N$9:N18))","v":78},null,null,"ABUT."]
[null,null,null,null,null,null,null,null,null,null,null,null,null,{"$f":"IF(M20=\"\",\"\",M20+MAX(N$9:N19))","v":""}]
[null,null,null,null,null,null,null,null,null,null,null,null,null,{"$f":"IF(M21=\"\",\"\",M21+MAX(N$9:N20))","v":""}]
[null,null,null,null,null,null,null,null,null,null,null,null,null,{"$f":"IF(M22=\"\",\"\",M22+MAX(N$9:N21))","v":""}]
[null,null,null,null,null,null,null,null,null,null,null,null,null,{"$f":"IF(M23=\"\",\"\",M23+MAX(N$9:N22))","v":""}]
[null,null,null,null,null,null,null,null,null,null,null,null,null,{"$f":"IF(M24=\"\",\"\",M24+MAX(N$9:N23))","v":""}]
[null,null,null,null,null,null,null,null,null,null,null,null,null,{"$f":"IF(M25=\"\",\"\",M25+MAX(N$9:N24))","v":""}]
[null,null,null,null,null,null,null,null,null,null,null,null,null,{"$f":"IF(M26=\"\",\"\",M26+MAX(N$9:N25))","v":""}]
[null,null,null,null,null,null,null,null,null,null,null,null,null,{"$f":"IF(M27=\"\",\"\",M27+MAX(N$9:N26))","v":""}]
[null,null,null,null,null,null,null,null,null,null,null,null,null,{"$f":"IF(M28=\"\",\"\",M28+MAX(N$9:N27))","v":""}]
[null,null,null,null,null,null,null,null,null,null,null,null,null,{"$f":"IF(M29=\"\",\"\",M29+MAX(N$9:N28))","v":""}]
[null,null,null,null,null,null,null,null,null,null,null,null,null,{"$f":"IF(M30=\"\",\"\",M30+MAX(N$9:N29))","v":""}]
[null,null,null,null,null,null,null,null,null,null,null,null,null,{"$f":"IF(M31=\"\",\"\",M31+MAX(N$9:N30))","v":""}]
[null,null,null,null,null,null,null,null,null,null,null,null,null,{"$f":"IF(M32=\"\",\"\",M32+MAX(N$9:N31))","v":""}]
[null,null,null,null,null,null,null,null,null,null,null,null,null,{"$f":"IF(M33=\"\",\"\",M33+MAX(N$9:N32))","v":""}]
[null,null,null,null,null,null,null,null,null,null,null,null,null,{"$f":"IF(M34=\"\",\"\",M34+MAX(N$9:N33))","v":""}]
[null,null,null,null,null,null,null,null,null,null,null,null,null,{"$f":"IF(M35=\"\",\"\",M35+MAX(N$10:N34))","v":""}]
[null,null,null,null,null,null,null,null,null,null,null,null,null,{"$f":"IF(M36=\"\",\"\",M36+MAX(N$10:N35))","v":""}]
[null,null,null,null,null,null,null,null,null,null,null,null,null,{"$f":"IF(M37=\"\",\"\",M37+MAX(N$10:N36))","v":""}]
[null,null,null,null,null,null,null,null,null,null,null,null,null,{"$f":"IF(M38=\"\",\"\",M38+MAX(N$10:N37))","v":""}]
[null,null,null,null,null,null,null,null,null,null,null,null,null,{"$f":"IF(M39=\"\",\"\",M39+MAX(N$10:N38))","v":""}]
[null,null,null,null,null,null,null,null,null,null,null,null,null,{"$f":"IF(M40=\"\",\"\",M40+MAX(N$10:N39))","v":""}]
[null,null,null,null,null,null,null,null,null,null,null,null,null,{"$f":"IF(M41=\"\",\"\",M41+MAX(N$10:N40))","v":""}]
[null,null,null,null,null,null,null,null,null,null,null,null,null,{"$f":"IF(M42=\"\",\"\",M42+MAX(N$10:N41))","v":""}]
[null,null,null,null,null,null,null,null,null,null,null,null,null,{"$f":"IF(M43=\"\",\"\",M43+MAX(N$10:N42))","v":""}]
[null,null,null,null,null,null,null,null,null,null,null,null,null,{"$f":"IF(M44=\"\",\"\",M44+MAX(N$10:N43))","v":""}]
[null,null,null,null,null,null,null,null,null,null,null,null,null,{"$f":"IF(M45=\"\",\"\",M45+MAX(N$10:N44))","v":""}]
[null,null,null,null,null,null,null,null,null,null,null,null,null,{"$f":"IF(M46=\"\",\"\",M46+MAX(N$10:N45))","v":""}]
[null,null,null,null,null,null,null,null,null,null,null,null,null,{"$f":"IF(M47=\"\",\"\",M47+MAX(N$10:N46))","v":""}]
[null,null,null,null,null,null,null,null,null,null,null,null,null,{"$f":"IF(M48=\"\",\"\",M48+MAX(N$10:N47))","v":""}]
[null,null,null,null,null,null,null,null,null,null,null,null,null,{"$f":"IF(M49=\"\",\"\",M49+MAX(N$10:N48))","v":""}]
[null,null,null,null,null,null,null,null,null,null,null,null,null,{"$f":"IF(M50=\"\",\"\",M50+MAX(N$10:N49))","v":""}]
[null,null,null,null,null,null,null,null,null,null,null,null,null,{"$f":"IF(M51=\"\",\"\",M51+MAX(N$10:N50))","v":""}]
[null,null,null,null,null,null,null,null,null,null,null,null,null,{"$f":"IF(M52=\"\",\"\",M52+MAX(N$10:N51))","v":""}]
[null,null,null,null,null,null,null,null,null,null,null,null,null,{"$f":"IF(M53=\"\",\"\",M53+MAX(N$10:N52))","v":""}]
[null,null,null,null,null,null,null,null,null,null,null,null,null,{"$f":"IF(M54=\"\",\"\",M54+MAX(N$10:N53))","v":""}]
[null,null,null,null,null,null,null,null,null,null,null,null,null,{"$f":"IF(M55=\"\",\"\",M55+MAX(N$10:N54))","v":""}]
[null,null,null,null,null,null,null,null,null,null,null,null,null,{"$f":"IF(M56=\"\",\"\",M56+MAX(N$10:N55))","v":""}]
[null,null,null,null,null,null,null,null,null,null,null,null,null,{"$f":"IF(M57=\"\",\"\",M57+MAX(N$10:N56))","v":""}]
[null,null,null,null,null,null,null,null,null,null,null,null,null,{"$f":"IF(M58=\"\",\"\",M58+MAX(N$10:N57))","v":""}]
[null,null,null,null,null,null,null,null,null,null,null,null,null,{"$f":"IF(M59=\"\",\"\",M59+MAX(N$10:N58))","v":""}]
[null,null,null,null,null,null,null,null,null,null,null,null,null,{"$f":"IF(M60=\"\",\"\",M60+MAX(N$10:N59))","v":""}]
[null,null,null,null,null,null,null,null,null,null,null,null,null,{"$f":"IF(M61=\"\",\"\",M61+MAX(N$10:N60))","v":""}]
[null,null,null,"SPECIAL INSTRUCTIONS:",{"$f":"INDEX(QryItemE2019!F:F,MATCH(H5,QryItemE2019!A:A,0))","v":""},null,null,null,null,null,null,null,"TOTAL",{"$f":"IF(K5=\"LS\",\"LS\",\" \")","v":" "}]

{"sheet":"511E46510","index":15,"n_rows":60,"n_cols":18,"rows_kept":60,"cut":false,"hidden":false,"merged":[[3,16,3,21],[4,7,4,8]]}
[null,null,null,null,null,null,"DESIGN:",{"$f":"IF('Calc Cover Sheet'!B11=\"\",\"\",'Calc Cover Sheet'!B11)","v":"BMV"},"DATE:",{"$f":"IF('Calc Cover Sheet'!D11=\"\",\"\",'Calc Cover Sheet'!D11)","v":"2024-04-19"},"UPDATE:",{"$f":"IF('Calc Cover Sheet'!B13=\"\",\"\",'Calc Cover Sheet'!B13)","v":""},"DATE:",{"$f":"IF('Calc Cover Sheet'!D13=\"\",\"\",'Calc Cover Sheet'!D13)","v":""}]
[null,null,null,null,null,null,"CHECK:",{"$f":"IF('Calc Cover Sheet'!B12=\"\",\"\",'Calc Cover Sheet'!B12)","v":"TLC"},"DATE:",{"$f":"IF('Calc Cover Sheet'!D12=\"\",\"\",'Calc Cover Sheet'!D12)","v":"2024-04-25"},"RECHECK:",{"$f":"IF('Calc Cover Sheet'!B14=\"\",\"\",'Calc Cover Sheet'!B14)","v":""},"DATE:",{"$f":"IF('Calc Cover Sheet'!D14=\"\",\"\",'Calc Cover Sheet'!D14)","v":""}]
[null,null,null,null,null,null,"STRUCTURE:",{"$f":"IF('Calc Cover Sheet'!B7=\"\",\"\",'Calc Cover Sheet'!B7)","v":"HAM-00145-0203"},null,null,"SFN:",{"$f":"IF('Calc Cover Sheet'!B3=\"\",\"\",'Calc Cover Sheet'!B3)","v":3108680},"PID:",{"$f":"IF('Calc Cover Sheet'!B9=\"\",\"\",'Calc Cover Sheet'!B9)","v":110563}]
[null,null,null,null,null,null,null,null,null,null,null,null,null,null,null,null,"Lump Sum Tags (Items with a \"LS\" Pay Unit can be tagged with one or several categories)"]
[null,null,null,null,null,null,"ITEM:",{"$f":"MID(RIGHT(CELL(\"filename\",D2),LEN(CELL(\"filename\",D2))-FIND(\"]\",CELL(\"filename\",D2))),1,9)","v":"511E46510"},null,"PAY UNIT:",{"$f":"INDEX(QryItemE2019!B:B,MATCH(H5,QryItemE2019!A:A,0))","v":"CY"}]
[null,null,null,null,null,null,"SUBJECT:",{"$f":"IF('Calc Cover Sheet'!B2=\"\",\"\",'Calc Cover Sheet'!B2)","v":"ESTIMATED QUANTITIES"}]
[null,null,null,"DESCRIPTION:",{"$f":"INDEX(QryItemE2019!C:C,MATCH(H5,QryItemE2019!A:A,0))","v":"CLASS QC1 CONCRETE, FOOTING"}]
[null,null,null,"SUPPLEMENTAL DESCRIPTION:"]
[null,null,null,null,null,null,null,null,null,null,null,null,"SUBTOTAL","TOTAL",null,null,"GROUP","<<<<<Tag each subtotal value with a group from this column"]
[null,null,null,null,null,null,null,null,null,null,null,null,null,{"$f":"IF(M10=\"\",\"\",M10+MAX(N$9:N9))","v":""}]
[null,null,null,null,null,null,null,null,null,null,null,null,null,{"$f":"IF(M11=\"\",\"\",M11+MAX(N$9:N10))","v":""}]
[null,null,null,"Footing Length = ",9,"ft",null,null,null,null,null,null,null,{"$f":"IF(M12=\"\",\"\",M12+MAX(N$9:N11))","v":""}]
[null,null,null,"Footing Width = ",9,"ft",null,null,null,null,null,null,null,{"$f":"IF(M13=\"\",\"\",M13+MAX(N$9:N12))","v":""}]
[null,null,null,"Footing Height = ",3,"ft",null,null,null,null,null,null,null,{"$f":"IF(M14=\"\",\"\",M14+MAX(N$9:N13))","v":""}]
[null,null,null,"# of Footings = ",3,"each"]
[null,null,null,"Columns Volume = ",{"$f":"E12*E13*E14*E15/27","v":27},"CY",null,null,null,null,null,null,{"$f":"E16","v":27},{"$f":"IF(M16=\"\",\"\",M16+MAX(N$9:N15))","v":27},null,null,"PIER"]
[null,null,null,null,null,null,null,null,null,null,null,null,null,{"$f":"IF(M17=\"\",\"\",M17+MAX(N$9:N16))","v":""}]
[null,null,null,null,null,null,null,null,null,null,null,null,null,{"$f":"IF(M18=\"\",\"\",M18+MAX(N$9:N17))","v":""}]
[null,null,null,null,null,null,null,null,null,null,null,null,null,{"$f":"IF(M19=\"\",\"\",M19+MAX(N$9:N18))","v":""}]
[null,null,null,null,null,null,null,null,null,null,null,null,null,{"$f":"IF(M20=\"\",\"\",M20+MAX(N$9:N19))","v":""}]
[null,null,null,null,null,null,null,null,null,null,null,null,null,{"$f":"IF(M21=\"\",\"\",M21+MAX(N$9:N20))","v":""}]
[null,null,null,null,null,null,null,null,null,null,null,null,null,{"$f":"IF(M22=\"\",\"\",M22+MAX(N$9:N21))","v":""}]
[null,null,null,null,null,null,null,null,null,null,null,null,null,{"$f":"IF(M23=\"\",\"\",M23+MAX(N$9:N22))","v":""}]
[null,null,null,null,null,null,null,null,null,null,null,null,null,{"$f":"IF(M24=\"\",\"\",M24+MAX(N$9:N23))","v":""}]
[null,null,null,null,null,null,null,null,null,null,null,null,null,{"$f":"IF(M25=\"\",\"\",M25+MAX(N$9:N24))","v":""}]
[null,null,null,null,null,null,null,null,null,null,null,null,null,{"$f":"IF(M26=\"\",\"\",M26+MAX(N$9:N25))","v":""}]
[null,null,null,null,null,null,null,null,null,null,null,null,null,{"$f":"IF(M27=\"\",\"\",M27+MAX(N$9:N26))","v":""}]
[null,null,null,null,null,null,null,null,null,null,null,null,null,{"$f":"IF(M28=\"\",\"\",M28+MAX(N$9:N27))","v":""}]
[null,null,null,null,null,null,null,null,null,null,null,null,null,{"$f":"IF(M29=\"\",\"\",M29+MAX(N$9:N28))","v":""}]
[null,null,null,null,null,null,null,null,null,null,null,null,null,{"$f":"IF(M30=\"\",\"\",M30+MAX(N$9:N29))","v":""}]
[null,null,null,null,null,null,null,null,null,null,null,null,null,{"$f":"IF(M31=\"\",\"\",M31+MAX(N$9:N30))","v":""}]
[null,null,null,null,null,null,null,null,null,null,null,null,null,{"$f":"IF(M32=\"\",\"\",M32+MAX(N$9:N31))","v":""}]
[null,null,null,null,null,null,null,null,null,null,null,null,null,{"$f":"IF(M33=\"\",\"\",M33+MAX(N$10:N32))","v":""}]
[null,null,null,null,null,null,null,null,null,null,null,null,null,{"$f":"IF(M34=\"\",\"\",M34+MAX(N$10:N33))","v":""}]
[null,null,null,null,null,null,null,null,null,null,null,null,null,{"$f":"IF(M35=\"\",\"\",M35+MAX(N$10:N34))","v":""}]
[null,null,null,null,null,null,null,null,null,null,null,null,null,{"$f":"IF(M36=\"\",\"\",M36+MAX(N$10:N35))","v":""}]
[null,null,null,null,null,null,null,null,null,null,null,null,null,{"$f":"IF(M37=\"\",\"\",M37+MAX(N$10:N36))","v":""}]
[null,null,null,null,null,null,null,null,null,null,null,null,null,{"$f":"IF(M38=\"\",\"\",M38+MAX(N$10:N37))","v":""}]
[null,null,null,null,null,null,null,null,null,null,null,null,null,{"$f":"IF(M39=\"\",\"\",M39+MAX(N$10:N38))","v":""}]
[null,null,null,null,null,null,null,null,null,null,null,null,null,{"$f":"IF(M40=\"\",\"\",M40+MAX(N$10:N39))","v":""}]
[null,null,null,null,null,null,null,null,null,null,null,null,null,{"$f":"IF(M41=\"\",\"\",M41+MAX(N$10:N40))","v":""}]
[null,null,null,null,null,null,null,null,null,null,null,null,null,{"$f":"IF(M42=\"\",\"\",M42+MAX(N$10:N41))","v":""}]
[null,null,null,null,null,null,null,null,null,null,null,null,null,{"$f":"IF(M43=\"\",\"\",M43+MAX(N$10:N42))","v":""}]
[null,null,null,null,null,null,null,null,null,null,null,null,null,{"$f":"IF(M44=\"\",\"\",M44+MAX(N$10:N43))","v":""}]
[null,null,null,null,null,null,null,null,null,null,null,null,null,{"$f":"IF(M45=\"\",\"\",M45+MAX(N$10:N44))","v":""}]
[null,null,null,null,null,null,null,null,null,null,null,null,null,{"$f":"IF(M46=\"\",\"\",M46+MAX(N$10:N45))","v":""}]
[null,null,null,null,null,null,null,null,null,null,null,null,null,{"$f":"IF(M47=\"\",\"\",M47+MAX(N$10:N46))","v":""}]
[null,null,null,null,null,null,null,null,null,null,null,null,null,{"$f":"IF(M48=\"\",\"\",M48+MAX(N$10:N47))","v":""}]
[null,null,null,null,null,null,null,null,null,null,null,null,null,{"$f":"IF(M49=\"\",\"\",M49+MAX(N$10:N48))","v":""}]
[null,null,null,null,null,null,null,null,null,null,null,null,null,{"$f":"IF(M50=\"\",\"\",M50+MAX(N$10:N49))","v":""}]
[null,null,null,null,null,null,null,null,null,null,null,null,null,{"$f":"IF(M51=\"\",\"\",M51+MAX(N$10:N50))","v":""}]
[null,null,null,null,null,null,null,null,null,null,null,null,null,{"$f":"IF(M52=\"\",\"\",M52+MAX(N$10:N51))","v":""}]
[null,null,null,null,null,null,null,null,null,null,null,null,null,{"$f":"IF(M53=\"\",\"\",M53+MAX(N$10:N52))","v":""}]
[null,null,null,null,null,null,null,null,null,null,null,null,null,{"$f":"IF(M54=\"\",\"\",M54+MAX(N$10:N53))","v":""}]
[null,null,null,null,null,null,null,null,null,null,null,null,null,{"$f":"IF(M55=\"\",\"\",M55+MAX(N$10:N54))","v":""}]
[null,null,null,null,null,null,null,null,null,null,null,null,null,{"$f":"IF(M56=\"\",\"\",M56+MAX(N$10:N55))","v":""}]
[null,null,null,null,null,null,null,null,null,null,null,null,null,{"$f":"IF(M57=\"\",\"\",M57+MAX(N$10:N56))","v":""}]
[null,null,null,null,null,null,null,null,null,null,null,null,null,{"$f":"IF(M58=\"\",\"\",M58+MAX(N$10:N57))","v":""}]
[null,null,null,null,null,null,null,null,null,null,null,null,null,{"$f":"IF(M59=\"\",\"\",M59+MAX(N$10:N58))","v":""}]
[null,null,null,"SPECIAL INSTRUCTIONS:",{"$f":"INDEX(QryItemE2019!F:F,MATCH(H5,QryItemE2019!A:A,0))","v":""},null,null,null,null,null,null,null,"TOTAL",{"$f":"IF(K5=\"LS\",\"LS\",\" \")","v":" "}]

{"sheet":"511E53012","index":16,"n_rows":70,"n_cols":18,"rows_kept":70,"cut":false,"hidden":false,"merged":[[3,16,3,21],[4,7,4,8]]}
[null,null,null,null,null,null,"DESIGN:",{"$f":"IF('Calc Cover Sheet'!B11=\"\",\"\",'Calc Cover Sheet'!B11)","v":"BMV"},"DATE:",{"$f":"IF('Calc Cover Sheet'!D11=\"\",\"\",'Calc Cover Sheet'!D11)","v":"2024-04-19"},"UPDATE:",{"$f":"IF('Calc Cover Sheet'!B13=\"\",\"\",'Calc Cover Sheet'!B13)","v":""},"DATE:",{"$f":"IF('Calc Cover Sheet'!D13=\"\",\"\",'Calc Cover Sheet'!D13)","v":""}]
[null,null,null,null,null,null,"CHECK:",{"$f":"IF('Calc Cover Sheet'!B12=\"\",\"\",'Calc Cover Sheet'!B12)","v":"TLC"},"DATE:",{"$f":"IF('Calc Cover Sheet'!D12=\"\",\"\",'Calc Cover Sheet'!D12)","v":"2024-04-25"},"RECHECK:",{"$f":"IF('Calc Cover Sheet'!B14=\"\",\"\",'Calc Cover Sheet'!B14)","v":""},"DATE:",{"$f":"IF('Calc Cover Sheet'!D14=\"\",\"\",'Calc Cover Sheet'!D14)","v":""}]
[null,null,null,null,null,null,"STRUCTURE:",{"$f":"IF('Calc Cover Sheet'!B7=\"\",\"\",'Calc Cover Sheet'!B7)","v":"HAM-00145-0203"},null,null,"SFN:",{"$f":"IF('Calc Cover Sheet'!B3=\"\",\"\",'Calc Cover Sheet'!B3)","v":3108680},"PID:",{"$f":"IF('Calc Cover Sheet'!B9=\"\",\"\",'Calc Cover Sheet'!B9)","v":110563}]
[null,null,null,null,null,null,null,null,null,null,null,null,null,null,null,null,"Lump Sum Tags (Items with a \"LS\" Pay Unit can be tagged with one or several categories)"]
[null,null,null,null,null,null,"ITEM:",{"$f":"MID(RIGHT(CELL(\"filename\",D2),LEN(CELL(\"filename\",D2))-FIND(\"]\",CELL(\"filename\",D2))),1,9)","v":"511E53012"},null,"PAY UNIT:",{"$f":"INDEX(QryItemE2019!B:B,MATCH(H5,QryItemE2019!A:A,0))","v":"CY"}]
[null,null,null,null,null,null,"SUBJECT:",{"$f":"IF('Calc Cover Sheet'!B2=\"\",\"\",'Calc Cover Sheet'!B2)","v":"ESTIMATED QUANTITIES"}]
[null,null,null,"DESCRIPTION:",{"$f":"INDEX(QryItemE2019!C:C,MATCH(H5,QryItemE2019!A:A,0))","v":"CLASS QC2 CONCRETE, MISC.:"}]
[null,null,null,"SUPPLEMENTAL DESCRIPTION:","MOMENT SLAB"]
[null,null,null,null,null,null,null,null,null,null,null,null,"SUBTOTAL","TOTAL",null,null,"GROUP","<<<<<Tag each subtotal value with a group from this column"]
[null,null,null,null,null,null,null,null,null,null,null,null,null,{"$f":"IF(M10=\"\",\"\",M10+MAX(N$9:N9))","v":""}]
[null,null,null,null,null,null,null,null,null,null,null,null,null,{"$f":"IF(M11=\"\",\"\",M11+MAX(N$9:N10))","v":""}]
[null,null,null,null,null,null,null,null,null,null,null,null,null,{"$f":"IF(M12=\"\",\"\",M12+MAX(N$9:N11))","v":""}]
[null,null,null,null,"Rear Moment Slab Length = ",23.832999999999998,"ft",null,null,null,null,null,null,{"$f":"IF(M13=\"\",\"\",M13+MAX(N$9:N12))","v":""}]
[null,null,null,null,"Fwd Moment Slab Length = ",40.832999999999998,"ft",null,null,null,null,null,null,{"$f":"IF(M14=\"\",\"\",M14+MAX(N$9:N13))","v":""}]
[null,null,null,null,"West Moment Slab Width = ",7.1660000000000004,"ft",null,null,null,null,null,null,{"$f":"IF(M15=\"\",\"\",M15+MAX(N$9:N14))","v":""}]
[null,null,null,null,"Avg. West Moment Slab Thickness = ",1,"ft",null,null,null,null,null,null,{"$f":"IF(M16=\"\",\"\",M16+MAX(N$9:N15))","v":""}]
[null,null,null,null,"East Moment Slab Width = ",8.1667000000000005,"ft",null,null,null,null,null,null,{"$f":"IF(M17=\"\",\"\",M17+MAX(N$9:N16))","v":""}]
[null,null,null,null,"East Moment Slab Area = ",14.5,"ft2","Measured in Microstation",null,null,null,null,null,{"$f":"IF(M18=\"\",\"\",M18+MAX(N$9:N17))","v":""}]
[]
[null,null,null,null,"Sidewalk Thickness =",0.66669999999999996,"ft"]
[null,null,null,null,"Sidwalk width =",6,"ft"]
[null,null,null,null,"Barrier Height =",3.75,"ft"]
[null,null,null,null,"Barrier Width =",1,"ft"]
[]
[null,null,null,null,"SBR-1-20 Area =",{"$f":"588/144","v":4.083333333333333},"ft2"]
[]
[null,null,null,null,"Left Concrete Area =",{"$f":"(F15*F16+F20*F21+F22*F23)*(F13+F14)","v":964.57098919999999},"ft2"]
[null,null,null,null,"Right Concrete Area =",{"$f":"(F18+F25)*(F13+F14)","v":1201.7098333333331},"ft2"]
[null,null,null,null,null,null,null,null,null,null,null,null,null,{"$f":"IF(M29=\"\",\"\",M29+MAX(N$9:N18))","v":""}]
[null,null,null,null,"Volume = ",{"$f":"SUM(F27:F28)/27","v":80.232623056790104},"CY",null,null,null,null,null,{"$f":"CEILING(F30,1)","v":81},{"$f":"IF(M30=\"\",\"\",M30+MAX(N$9:N29))","v":81},null,null,"GEN."]
[null,null,null,null,null,null,null,null,null,null,null,null,null,{"$f":"IF(M31=\"\",\"\",M31+MAX(N$9:N30))","v":""}]
[null,null,null,null,null,null,null,null,null,null,null,null,null,{"$f":"IF(M32=\"\",\"\",M32+MAX(N$9:N31))","v":""}]
[null,null,null,null,null,null,null,null,null,null,null,null,null,{"$f":"IF(M33=\"\",\"\",M33+MAX(N$9:N32))","v":""}]
[null,null,null,null,null,null,null,null,null,null,null,null,null,{"$f":"IF(M34=\"\",\"\",M34+MAX(N$9:N33))","v":""}]
[null,null,null,null,null,null,null,null,null,null,null,null,null,{"$f":"IF(M35=\"\",\"\",M35+MAX(N$9:N34))","v":""}]
[null,null,null,null,null,null,null,null,null,null,null,null,null,{"$f":"IF(M36=\"\",\"\",M36+MAX(N$9:N35))","v":""}]
[null,null,null,null,null,null,null,null,null,null,null,null,null,{"$f":"IF(M37=\"\",\"\",M37+MAX(N$9:N36))","v":""}]
[null,null,null,null,null,null,null,null,null,null,null,null,null,{"$f":"IF(M38=\"\",\"\",M38+MAX(N$9:N37))","v":""}]
[null,null,null,null,null,null,null,null,null,null,null,null,null,{"$f":"IF(M39=\"\",\"\",M39+MAX(N$9:N38))","v":""}]
[null,null,null,null,null,null,null,null,null,null,null,null,null,{"$f":"IF(M40=\"\",\"\",M40+MAX(N$9:N39))","v":""}]
[null,null,null,null,null,null,null,null,null,null,null,null,null,{"$f":"IF(M41=\"\",\"\",M41+MAX(N$9:N40))","v":""}]
[null,null,null,null,null,null,null,null,null,null,null,null,null,{"$f":"IF(M42=\"\",\"\",M42+MAX(N$9:N41))","v":""}]
[null,null,null,null,null,null,null,null,null,null,null,null,null,{"$f":"IF(M43=\"\",\"\",M43+MAX(N$10:N42))","v":""}]
[null,null,null,null,null,null,null,null,null,null,null,null,null,{"$f":"IF(M44=\"\",\"\",M44+MAX(N$10:N43))","v":""}]
[null,null,null,null,null,null,null,null,null,null,null,null,null,{"$f":"IF(M45=\"\",\"\",M45+MAX(N$10:N44))","v":""}]
[null,null,null,null,null,null,null,null,null,null,null,null,null,{"$f":"IF(M46=\"\",\"\",M46+MAX(N$10:N45))","v":""}]
[null,null,null,null,null,null,null,null,null,null,null,null,null,{"$f":"IF(M47=\"\",\"\",M47+MAX(N$10:N46))","v":""}]
[null,null,null,null,null,null,null,null,null,null,null,null,null,{"$f":"IF(M48=\"\",\"\",M48+MAX(N$10:N47))","v":""}]
[null,null,null,null,null,null,null,null,null,null,null,null,null,{"$f":"IF(M49=\"\",\"\",M49+MAX(N$10:N48))","v":""}]
[null,null,null,null,null,null,null,null,null,null,null,null,null,{"$f":"IF(M50=\"\",\"\",M50+MAX(N$10:N49))","v":""}]
[null,null,null,null,null,null,null,null,null,null,null,null,null,{"$f":"IF(M51=\"\",\"\",M51+MAX(N$10:N50))","v":""}]
[null,null,null,null,null,null,null,null,null,null,null,null,null,{"$f":"IF(M52=\"\",\"\",M52+MAX(N$10:N51))","v":""}]
[null,null,null,null,null,null,null,null,null,null,null,null,null,{"$f":"IF(M53=\"\",\"\",M53+MAX(N$10:N52))","v":""}]
[null,null,null,null,null,null,null,null,null,null,null,null,null,{"$f":"IF(M54=\"\",\"\",M54+MAX(N$10:N53))","v":""}]
[null,null,null,null,null,null,null,null,null,null,null,null,null,{"$f":"IF(M55=\"\",\"\",M55+MAX(N$10:N54))","v":""}]
[null,null,null,null,null,null,null,null,null,null,null,null,null,{"$f":"IF(M56=\"\",\"\",M56+MAX(N$10:N55))","v":""}]
[null,null,null,null,null,null,null,null,null,null,null,null,null,{"$f":"IF(M57=\"\",\"\",M57+MAX(N$10:N56))","v":""}]
[null,null,null,null,null,null,null,null,null,null,null,null,null,{"$f":"IF(M58=\"\",\"\",M58+MAX(N$10:N57))","v":""}]
[null,null,null,null,null,null,null,null,null,null,null,null,null,{"$f":"IF(M59=\"\",\"\",M59+MAX(N$10:N58))","v":""}]
[null,null,null,null,null,null,null,null,null,null,null,null,null,{"$f":"IF(M60=\"\",\"\",M60+MAX(N$10:N59))","v":""}]
[null,null,null,null,null,null,null,null,null,null,null,null,null,{"$f":"IF(M61=\"\",\"\",M61+MAX(N$10:N60))","v":""}]
[null,null,null,null,null,null,null,null,null,null,null,null,null,{"$f":"IF(M62=\"\",\"\",M62+MAX(N$10:N61))","v":""}]
[null,null,null,null,null,null,null,null,null,null,null,null,null,{"$f":"IF(M63=\"\",\"\",M63+MAX(N$10:N62))","v":""}]
[null,null,null,null,null,null,null,null,null,null,null,null,null,{"$f":"IF(M64=\"\",\"\",M64+MAX(N$10:N63))","v":""}]
[null,null,null,null,null,null,null,null,null,null,null,null,null,{"$f":"IF(M65=\"\",\"\",M65+MAX(N$10:N64))","v":""}]
[null,null,null,null,null,null,null,null,null,null,null,null,null,{"$f":"IF(M66=\"\",\"\",M66+MAX(N$10:N65))","v":""}]
[null,null,null,null,null,null,null,null,null,null,null,null,null,{"$f":"IF(M67=\"\",\"\",M67+MAX(N$10:N66))","v":""}]
[null,null,null,null,null,null,null,null,null,null,null,null,null,{"$f":"IF(M68=\"\",\"\",M68+MAX(N$10:N67))","v":""}]
[null,null,null,null,null,null,null,null,null,null,null,null,null,{"$f":"IF(M69=\"\",\"\",M69+MAX(N$10:N68))","v":""}]
[null,null,null,"SPECIAL INSTRUCTIONS:",{"$f":"INDEX(QryItemE2019!F:F,MATCH(H5,QryItemE2019!A:A,0))","v":"ADD SUPPLEMENTAL DESCRIPTION"},null,null,null,null,null,null,null,"TOTAL",{"$f":"IF(K5=\"LS\",\"LS\",\" \")","v":" "}]

{"sheet":"511E53014","index":17,"n_rows":86,"n_cols":22,"rows_kept":86,"cut":false,"hidden":false,"merged":[[3,16,3,21],[4,7,4,8]]}
[null,null,null,null,null,null,"DESIGN:",{"$f":"IF('Calc Cover Sheet'!B11=\"\",\"\",'Calc Cover Sheet'!B11)","v":"BMV"},"DATE:",{"$f":"IF('Calc Cover Sheet'!D11=\"\",\"\",'Calc Cover Sheet'!D11)","v":"2024-04-19"},"UPDATE:",{"$f":"IF('Calc Cover Sheet'!B13=\"\",\"\",'Calc Cover Sheet'!B13)","v":""},"DATE:",{"$f":"IF('Calc Cover Sheet'!D13=\"\",\"\",'Calc Cover Sheet'!D13)","v":""}]
[null,null,null,null,null,null,"CHECK:",{"$f":"IF('Calc Cover Sheet'!B12=\"\",\"\",'Calc Cover Sheet'!B12)","v":"TLC"},"DATE:",{"$f":"IF('Calc Cover Sheet'!D12=\"\",\"\",'Calc Cover Sheet'!D12)","v":"2024-04-25"},"RECHECK:",{"$f":"IF('Calc Cover Sheet'!B14=\"\",\"\",'Calc Cover Sheet'!B14)","v":""},"DATE:",{"$f":"IF('Calc Cover Sheet'!D14=\"\",\"\",'Calc Cover Sheet'!D14)","v":""}]
[null,null,null,null,null,null,"STRUCTURE:",{"$f":"IF('Calc Cover Sheet'!B7=\"\",\"\",'Calc Cover Sheet'!B7)","v":"HAM-00145-0203"},null,null,"SFN:",{"$f":"IF('Calc Cover Sheet'!B3=\"\",\"\",'Calc Cover Sheet'!B3)","v":3108680},"PID:",{"$f":"IF('Calc Cover Sheet'!B9=\"\",\"\",'Calc Cover Sheet'!B9)","v":110563}]
[null,null,null,null,null,null,null,null,null,null,null,null,null,null,null,null,"Lump Sum Tags (Items with a \"LS\" Pay Unit can be tagged with one or several categories)"]
[null,null,null,null,null,null,"ITEM:",{"$f":"MID(RIGHT(CELL(\"filename\",D2),LEN(CELL(\"filename\",D2))-FIND(\"]\",CELL(\"filename\",D2))),1,9)","v":"511E53014"},null,"PAY UNIT:",{"$f":"INDEX(QryItemE2019!B:B,MATCH(H5,QryItemE2019!A:A,0))","v":"CY"}]
[null,null,null,null,null,null,"SUBJECT:",{"$f":"IF('Calc Cover Sheet'!B2=\"\",\"\",'Calc Cover Sheet'!B2)","v":"ESTIMATED QUANTITIES"}]
[null,null,null,"DESCRIPTION:",{"$f":"INDEX(QryItemE2019!C:C,MATCH(H5,QryItemE2019!A:A,0))","v":"CLASS QC3 CONCRETE, MISC.:"}]
[null,null,null,"SUPPLEMENTAL DESCRIPTION:","WITH QC/QA, SUPERSTRUCTURE"]
[null,null,null,null,null,null,null,null,null,null,null,null,"SUBTOTAL","TOTAL",null,null,"GROUP","<<<<<Tag each subtotal value with a group from this column"]
[null,null,null,null,null,null,null,null,null,null,null,null,null,{"$f":"IF(M10=\"\",\"\",M10+MAX(N$9:N9))","v":""}]
[null,null,"Abut. Diaphragm",null,null,null,null,null,null,null,null,null,null,{"$f":"IF(M11=\"\",\"\",M11+MAX(#REF!))","v":""}]
[null,null,null,null,null,null,null,null,null,null,null,null,null,{"$f":"IF(M12=\"\",\"\",M12+MAX(N$9:N11))","v":""}]
[null,null,null,"Beam Height = ",42,"in",null,null,null,null,null,null,null,{"$f":"IF(M13=\"\",\"\",M13+MAX(N$9:N12))","v":""}]
[null,null,null,"Assumed bearing height = ",{"$f":"1.5+6.25+1.5+(2+9/16)","v":11.8125},"in",null,null,null,null,null,null,null,{"$f":"IF(M14=\"\",\"\",M14+MAX(N$9:N13))","v":""}]
[null,null,null,"Diaphragm Length = ",38.833300000000001,"ft"]
[null,null,null,"Diaphragm Height = ",{"$f":"(E13+E14)/12","v":4.484375},"ft",null,null,null,null,null,null,null,{"$f":"IF(M16=\"\",\"\",M16+MAX(N$9:N14))","v":""}]
[null,null,null,"Diaphragm Width = ",3.6667000000000001,"ft",null,null,null,null,null,null,null,{"$f":"IF(M17=\"\",\"\",M17+MAX(N$9:N16))","v":""}]
[null,null,null,"WF42-49 Area = ",{"$f":"926.3/(12^2)","v":6.4326388888888886},"ft2",null,null,null,null,null,null,null,{"$f":"IF(M18=\"\",\"\",M18+MAX(N$9:N17))","v":""}]
[null,null,null,"# of Beams = ",5,null,null,null,null,null,null,null,null,{"$f":"IF(M19=\"\",\"\",M19+MAX(N$9:N18))","v":""}]
[null,null,null,"Beam Projection into Diaph. = ",2.67,"ft",null,null,null,null,null,null,null,{"$f":"IF(M20=\"\",\"\",M20+MAX(N$9:N19))","v":""}]
[null,null,null,null,null,null,null,null,null,null,null,null,null,{"$f":"IF(M21=\"\",\"\",M21+MAX(N$9:N20))","v":""}]
[null,null,null,"Diaphragm Volume = ",{"$f":"2*(E15*E16*E17-E19*E18*E20)/27","v":40.937385268406629},"CY",null,null,null,null,null,null,{"$f":"CEILING(E22,1)","v":41},{"$f":"IF(M22=\"\",\"\",M22+MAX(N$9:N21))","v":41},null,null,"ABUT."]
[null,null,null,null,null,null,null,null,null,null,null,null,null,{"$f":"IF(M23=\"\",\"\",M23+MAX(N$9:N22))","v":""}]
[null,null,null,null,null,null,null,null,null,null,null,null,null,{"$f":"IF(M24=\"\",\"\",M24+MAX(N$9:N23))","v":""}]
[null,null,"Pier Diaphragm",null,null,null,null,null,null,null,null,null,null,{"$f":"IF(M25=\"\",\"\",M25+MAX(N$9:N24))","v":""}]
[null,null,null,null,null,null,null,null,null,null,null,null,null,{"$f":"IF(M26=\"\",\"\",M26+MAX(N$9:N25))","v":""}]
[null,null,null,"Beam Height = ",42,"in",null,null,null,null,null,null,null,{"$f":"IF(M27=\"\",\"\",M27+MAX(N$9:N26))","v":""}]
[null,null,null,"Diaphragm Length = ",32.666699999999999,"ft",null,null,null,null,null,null,null,{"$f":"IF(M28=\"\",\"\",M28+MAX(N$9:N27))","v":""}]
[null,null,null,"Diaphragm Height = ",{"$f":"(42+4.75)/12","v":3.8958333333333335},"ft",null,null,null,null,null,null,null,{"$f":"IF(M29=\"\",\"\",M29+MAX(N$9:N28))","v":""}]
[null,null,null,"Diaphragm Width = ",1.5,"ft",null,null,null,null,null,null,null,{"$f":"IF(M30=\"\",\"\",M30+MAX(N$9:N29))","v":""},null,null,null,null,null,"Pier Diaphragm Load for RCPier = ",{"$f":"E35*27*0.15/E28","v":0.75841211035754041},"klf"]
[null,null,null,"WF42-49 Area = ",{"$f":"926.3/(12^2)","v":6.4326388888888886},"ft2",null,null,null,null,null,null,null,{"$f":"IF(M31=\"\",\"\",M31+MAX(N$9:N30))","v":""}]
[null,null,null,"# of Beams = ",5,null,null,null,null,null,null,null,null,{"$f":"IF(M32=\"\",\"\",M32+MAX(N$9:N31))","v":""}]
[null,null,null,"Beam overhang into dia. = ",6,"in",null,null,null,null,null,null,null,{"$f":"IF(M33=\"\",\"\",M33+MAX(N$9:N32))","v":""}]
[null,null,null,null,null,null,null,null,null,null,null,null,null,{"$f":"IF(M34=\"\",\"\",M34+MAX(N$9:N33))","v":""}]
[null,null,null,"Diaphragm Volume = ",{"$f":"(E29*E30*E28-E31*(E32-1)*(2*E33/12))/27","v":6.1172397247942385},"CY",null,null,null,null,null,null,{"$f":"CEILING(E35,1)","v":7},{"$f":"IF(M35=\"\",\"\",M35+MAX(N$9:N34))","v":48},null,null,"PIER"]
[null,null,null,null,null,null,null,null,null,null,null,null,null,{"$f":"IF(M36=\"\",\"\",M36+MAX(N$9:N35))","v":""}]
[null,null,null,null,null,null,null,null,null,null,null,null,null,{"$f":"IF(M37=\"\",\"\",M37+MAX(N$9:N36))","v":""}]
[null,null,null,null,null,null,null,null,null,null,null,null,null,{"$f":"IF(M38=\"\",\"\",M38+MAX(N$9:N37))","v":""}]
[null,null,null,null,null,null,null,null,null,null,null,null,null,{"$f":"IF(M39=\"\",\"\",M39+MAX(N$9:N38))","v":""}]
[null,null,null,null,null,null,null,null,null,null,null,null,null,{"$f":"IF(M40=\"\",\"\",M40+MAX(N$9:N39))","v":""}]
[null,null,null,null,null,null,null,null,null,null,null,null,null,{"$f":"IF(M41=\"\",\"\",M41+MAX(N$9:N40))","v":""}]
[null,null,null,null,null,null,null,null,null,null,null,null,null,{"$f":"IF(M42=\"\",\"\",M42+MAX(N$9:N41))","v":""}]
[null,null,null,null,null,null,null,null,null,null,null,null,null,{"$f":"IF(M43=\"\",\"\",M43+MAX(N$9:N42))","v":""}]
[null,null,null,null,null,null,null,null,null,null,null,null,null,{"$f":"IF(M44=\"\",\"\",M44+MAX(N$9:N43))","v":""}]
[null,null,null,null,null,null,null,null,null,null,null,null,null,{"$f":"IF(M45=\"\",\"\",M45+MAX(N$9:N44))","v":""}]
[null,null,null,null,null,null,null,null,null,null,null,null,null,{"$f":"IF(M46=\"\",\"\",M46+MAX(N$9:N45))","v":""}]
[null,null,null,null,null,null,null,null,null,null,null,null,null,{"$f":"IF(M47=\"\",\"\",M47+MAX(N$9:N46))","v":""}]
[null,null,null,null,null,null,null,null,null,null,null,null,null,{"$f":"IF(M48=\"\",\"\",M48+MAX(N$9:N47))","v":""}]
[null,null,null,null,null,null,null,null,null,null,null,null,null,{"$f":"IF(M49=\"\",\"\",M49+MAX(N$9:N48))","v":""}]
[null,null,null,null,null,null,null,null,null,null,null,null,null,{"$f":"IF(M50=\"\",\"\",M50+MAX(N$9:N49))","v":""}]
[null,null,null,null,null,null,null,null,null,null,null,null,null,{"$f":"IF(M51=\"\",\"\",M51+MAX(N$9:N50))","v":""}]
[null,null,null,null,null,null,null,null,null,null,null,null,null,{"$f":"IF(M52=\"\",\"\",M52+MAX(N$9:N51))","v":""}]
[null,null,null,null,null,null,null,null,null,null,null,null,null,{"$f":"IF(M53=\"\",\"\",M53+MAX(N$9:N52))","v":""}]
[null,null,null,null,null,null,null,null,null,null,null,null,null,{"$f":"IF(M54=\"\",\"\",M54+MAX(N$9:N53))","v":""}]
[null,null,null,null,null,null,null,null,null,null,null,null,null,{"$f":"IF(M55=\"\",\"\",M55+MAX(N$9:N54))","v":""}]
[null,null,null,null,null,null,null,null,null,null,null,null,null,{"$f":"IF(M56=\"\",\"\",M56+MAX(N$9:N55))","v":""}]
[null,null,null,null,null,null,null,null,null,null,null,null,null,{"$f":"IF(M57=\"\",\"\",M57+MAX(N$9:N56))","v":""}]
[null,null,null,null,null,null,null,null,null,null,null,null,null,{"$f":"IF(M58=\"\",\"\",M58+MAX(N$9:N57))","v":""}]
[null,null,null,null,null,null,null,null,null,null,null,null,null,{"$f":"IF(M59=\"\",\"\",M59+MAX(N$9:N58))","v":""}]
[null,null,null,null,null,null,null,null,null,null,null,null,null,{"$f":"IF(M60=\"\",\"\",M60+MAX(N$9:N59))","v":""}]
[null,null,null,null,null,null,null,null,null,null,null,null,null,{"$f":"IF(M61=\"\",\"\",M61+MAX(N$9:N60))","v":""}]
[null,null,null,null,null,null,null,null,null,null,null,null,null,{"$f":"IF(M62=\"\",\"\",M62+MAX(N$9:N61))","v":""}]
[null,null,null,null,null,null,null,null,null,null,null,null,null,{"$f":"IF(M63=\"\",\"\",M63+MAX(N$9:N62))","v":""}]
[null,null,null,null,null,null,null,null,null,null,null,null,null,{"$f":"IF(M64=\"\",\"\",M64+MAX(N$9:N63))","v":""}]
[null,null,null,null,null,null,null,null,null,null,null,null,null,{"$f":"IF(M65=\"\",\"\",M65+MAX(N$9:N64))","v":""}]
[null,null,null,null,null,null,null,null,null,null,null,null,null,{"$f":"IF(M66=\"\",\"\",M66+MAX(N$9:N65))","v":""}]
[null,null,null,null,null,null,null,null,null,null,null,null,null,{"$f":"IF(M67=\"\",\"\",M67+MAX(N$9:N66))","v":""}]
[null,null,null,null,null,null,null,null,null,null,null,null,null,{"$f":"IF(M68=\"\",\"\",M68+MAX(N$9:N67))","v":""}]
[null,null,null,null,null,null,null,null,null,null,null,null,null,{"$f":"IF(M69=\"\",\"\",M69+MAX(N$9:N68))","v":""}]
[null,null,null,null,null,null,null,null,null,null,null,null,null,{"$f":"IF(M70=\"\",\"\",M70+MAX(N$9:N69))","v":""}]
[null,null,null,null,null,null,null,null,null,null,null,null,null,{"$f":"IF(M71=\"\",\"\",M71+MAX(N$9:N70))","v":""}]
[null,null,null,null,null,null,null,null,null,null,null,null,null,{"$f":"IF(M72=\"\",\"\",M72+MAX(N$9:N71))","v":""}]
[null,null,null,null,null,null,null,null,null,null,null,null,null,{"$f":"IF(M73=\"\",\"\",M73+MAX(N$9:N72))","v":""}]
[null,null,null,null,null,null,null,null,null,null,null,null,null,{"$f":"IF(M74=\"\",\"\",M74+MAX(N$9:N73))","v":""}]
[null,null,null,null,null,null,null,null,null,null,null,null,null,{"$f":"IF(M75=\"\",\"\",M75+MAX(N$9:N74))","v":""}]
[null,null,null,null,null,null,null,null,null,null,null,null,null,{"$f":"IF(M76=\"\",\"\",M76+MAX(N$9:N75))","v":""}]
[null,null,null,null,null,null,null,null,null,null,null,null,null,{"$f":"IF(M77=\"\",\"\",M77+MAX(N$9:N76))","v":""}]
[null,null,null,null,null,null,null,null,null,null,null,null,null,{"$f":"IF(M78=\"\",\"\",M78+MAX(N$9:N77))","v":""}]
[null,null,null,null,null,null,null,null,null,null,null,null,null,{"$f":"IF(M79=\"\",\"\",M79+MAX(N$9:N78))","v":""}]
[null,null,null,null,null,null,null,null,null,null,null,null,null,{"$f":"IF(M80=\"\",\"\",M80+MAX(N$9:N79))","v":""}]
[null,null,null,null,null,null,null,null,null,null,null,null,null,{"$f":"IF(M81=\"\",\"\",M81+MAX(N$9:N80))","v":""}]
[null,null,null,null,null,null,null,null,null,null,null,null,null,{"$f":"IF(M82=\"\",\"\",M82+MAX(N$9:N81))","v":""}]
[null,null,null,null,null,null,null,null,null,null,null,null,null,{"$f":"IF(M83=\"\",\"\",M83+MAX(N$9:N82))","v":""}]
[null,null,null,null,null,null,null,null,null,null,null,null,null,{"$f":"IF(M84=\"\",\"\",M84+MAX(N$9:N83))","v":""}]
[null,null,null,null,null,null,null,null,null,null,null,null,null,{"$f":"IF(M85=\"\",\"\",M85+MAX(N$9:N84))","v":""}]
[null,null,null,"SPECIAL INSTRUCTIONS:",{"$f":"INDEX(QryItemE2019!F:F,MATCH(H5,QryItemE2019!A:A,0))","v":"ADD SUPPLEMENTAL DESCRIPTION"},null,null,null,null,null,null,null,"TOTAL",{"$f":"IF(K5=\"LS\",\"LS\",\" \")","v":" "}]

{"sheet":"511E53014-02","index":18,"n_rows":61,"n_cols":18,"rows_kept":61,"cut":false,"hidden":false,"merged":[[3,16,3,21],[4,7,4,8]]}
[null,null,null,null,null,null,"DESIGN:",{"$f":"IF('Calc Cover Sheet'!B11=\"\",\"\",'Calc Cover Sheet'!B11)","v":"BMV"},"DATE:",{"$f":"IF('Calc Cover Sheet'!D11=\"\",\"\",'Calc Cover Sheet'!D11)","v":"2024-04-19"},"UPDATE:",{"$f":"IF('Calc Cover Sheet'!B13=\"\",\"\",'Calc Cover Sheet'!B13)","v":""},"DATE:",{"$f":"IF('Calc Cover Sheet'!D13=\"\",\"\",'Calc Cover Sheet'!D13)","v":""}]
[null,null,null,null,null,null,"CHECK:",{"$f":"IF('Calc Cover Sheet'!B12=\"\",\"\",'Calc Cover Sheet'!B12)","v":"TLC"},"DATE:",{"$f":"IF('Calc Cover Sheet'!D12=\"\",\"\",'Calc Cover Sheet'!D12)","v":"2024-04-25"},"RECHECK:",{"$f":"IF('Calc Cover Sheet'!B14=\"\",\"\",'Calc Cover Sheet'!B14)","v":""},"DATE:",{"$f":"IF('Calc Cover Sheet'!D14=\"\",\"\",'Calc Cover Sheet'!D14)","v":""}]
[null,null,null,null,null,null,"STRUCTURE:",{"$f":"IF('Calc Cover Sheet'!B7=\"\",\"\",'Calc Cover Sheet'!B7)","v":"HAM-00145-0203"},null,null,"SFN:",{"$f":"IF('Calc Cover Sheet'!B3=\"\",\"\",'Calc Cover Sheet'!B3)","v":3108680},"PID:",{"$f":"IF('Calc Cover Sheet'!B9=\"\",\"\",'Calc Cover Sheet'!B9)","v":110563}]
[null,null,null,null,null,null,null,null,null,null,null,null,null,null,null,null,"Lump Sum Tags (Items with a \"LS\" Pay Unit can be tagged with one or several categories)"]
[null,null,null,null,null,null,"ITEM:",{"$f":"MID(RIGHT(CELL(\"filename\",D2),LEN(CELL(\"filename\",D2))-FIND(\"]\",CELL(\"filename\",D2))),1,9)","v":"511E53014"},null,"PAY UNIT:",{"$f":"INDEX(QryItemE2019!B:B,MATCH(H5,QryItemE2019!A:A,0))","v":"CY"}]
[null,null,null,null,null,null,"SUBJECT:",{"$f":"IF('Calc Cover Sheet'!B2=\"\",\"\",'Calc Cover Sheet'!B2)","v":"ESTIMATED QUANTITIES"}]
[null,null,null,"DESCRIPTION:",{"$f":"INDEX(QryItemE2019!C:C,MATCH(H5,QryItemE2019!A:A,0))","v":"CLASS QC3 CONCRETE, MISC.:"}]
[null,null,null,"SUPPLEMENTAL DESCRIPTION:","WITH QC/QA, BRIDGE DECK"]
[null,null,null,null,null,null,null,null,null,null,null,null,"SUBTOTAL","TOTAL",null,null,"GROUP","<<<<<Tag each subtotal value with a group from this column"]
[null,null,null,null,null,null,null,null,null,null,null,null,null,{"$f":"IF(M10=\"\",\"\",M10+MAX(N$9:N9))","v":""}]
[null,null,null,"Slab Width = ",38.833300000000001,"ft",null,null,null,null,null,null,null,{"$f":"IF(M11=\"\",\"\",M11+MAX(N$9:N10))","v":""}]
[null,null,null,"Slab Length = ",182.67,"ft",null,null,null,null,null,null,null,{"$f":"IF(M12=\"\",\"\",M12+MAX(N$9:N11))","v":""}]
[null,null,null,"Deck Thickness = ",8.5,"in",null,null,null,null,null,null,null,{"$f":"IF(M13=\"\",\"\",M13+MAX(N$9:N12))","v":""}]
[null,null,null,null,null,null,null,null,null,null,null,null,null,{"$f":"IF(M14=\"\",\"\",M14+MAX(N$9:N13))","v":""}]
[null,null,null,"Overhang additional thickness = ",{"$f":"E19+5","v":8.625},"in",null,null,null,null,null,null,null,{"$f":"IF(M15=\"\",\"\",M15+MAX(N$9:N14))","v":""}]
[null,null,null,"Overhang width = ",{"$f":"3.4167-0.5*4.0833","v":1.3750499999999999},"ft",null,null,null,null,null,null,null,{"$f":"IF(M16=\"\",\"\",M16+MAX(N$9:N15))","v":""}]
[null,null,null,null,null,null,null,null,null,null,null,null,null,{"$f":"IF(M17=\"\",\"\",M17+MAX(N$9:N16))","v":""}]
[null,null,null,"# of Beams = ",5,null,null,null,null,null,null,null,null,{"$f":"IF(M18=\"\",\"\",M18+MAX(N$9:N17))","v":""}]
[null,null,null,"Haunch Thickness = ",3.625,"in","Average"]
[null,null,null,"Haunch Width = ",4.0833000000000004,"ft",null,null,null,null,null,null,null,{"$f":"IF(M20=\"\",\"\",M20+MAX(N$9:N19))","v":""}]
[null,null,null,null,null,null,null,null,null,null,null,null,null,{"$f":"IF(M21=\"\",\"\",M21+MAX(N$9:N20))","v":""}]
[null,null,null,null,null,null,null,null,null,null,null,null,null,{"$f":"IF(M22=\"\",\"\",M22+MAX(N$9:N21))","v":""}]
[null,null,null,"Total Deck Volume = ",{"$f":"E12*(E11*E13/12+2*E16*E15/12+E18*E20*E19/12)/27","v":241.19908891435185},"CY",null,null,null,null,null,null,{"$f":"E23","v":241.19908891435185},{"$f":"IF(M23=\"\",\"\",M23+MAX(N$9:N22))","v":241.19908891435185},null,null,"SUPER."]
[null,null,null,null,null,null,null,null,null,null,null,null,null,{"$f":"IF(M24=\"\",\"\",M24+MAX(N$9:N23))","v":""}]
[null,null,null,null,null,null,null,null,null,null,null,null,null,{"$f":"IF(M25=\"\",\"\",M25+MAX(N$9:N24))","v":""}]
[null,null,null,null,null,null,null,null,null,null,null,null,null,{"$f":"IF(M26=\"\",\"\",M26+MAX(N$9:N25))","v":""}]
[null,null,null,null,null,null,null,null,null,null,null,null,null,{"$f":"IF(M27=\"\",\"\",M27+MAX(N$9:N26))","v":""}]
[null,null,null,null,null,null,null,null,null,null,null,null,null,{"$f":"IF(M28=\"\",\"\",M28+MAX(N$9:N27))","v":""}]
[null,null,null,null,null,null,null,null,null,null,null,null,null,{"$f":"IF(M29=\"\",\"\",M29+MAX(N$9:N28))","v":""}]
[null,null,null,null,null,null,null,null,null,null,null,null,null,{"$f":"IF(M30=\"\",\"\",M30+MAX(N$9:N29))","v":""}]
[null,null,null,null,null,null,null,null,null,null,null,null,null,{"$f":"IF(M31=\"\",\"\",M31+MAX(N$9:N30))","v":""}]
[null,null,null,null,null,null,null,null,null,null,null,null,null,{"$f":"IF(M32=\"\",\"\",M32+MAX(N$9:N31))","v":""}]
[null,null,null,null,null,null,null,null,null,null,null,null,null,{"$f":"IF(M33=\"\",\"\",M33+MAX(N$9:N32))","v":""}]
[null,null,null,null,null,null,null,null,null,null,null,null,null,{"$f":"IF(M34=\"\",\"\",M34+MAX(N$10:N33))","v":""}]
[null,null,null,null,null,null,null,null,null,null,null,null,null,{"$f":"IF(M35=\"\",\"\",M35+MAX(N$10:N34))","v":""}]
[null,null,null,null,null,null,null,null,null,null,null,null,null,{"$f":"IF(M36=\"\",\"\",M36+MAX(N$10:N35))","v":""}]
[null,null,null,null,null,null,null,null,null,null,null,null,null,{"$f":"IF(M37=\"\",\"\",M37+MAX(N$10:N36))","v":""}]
[null,null,null,null,null,null,null,null,null,null,null,null,null,{"$f":"IF(M38=\"\",\"\",M38+MAX(N$10:N37))","v":""}]
[null,null,null,null,null,null,null,null,null,null,null,null,null,{"$f":"IF(M39=\"\",\"\",M39+MAX(N$10:N38))","v":""}]
[null,null,null,null,null,null,null,null,null,null,null,null,null,{"$f":"IF(M40=\"\",\"\",M40+MAX(N$10:N39))","v":""}]
[null,null,null,null,null,null,null,null,null,null,null,null,null,{"$f":"IF(M41=\"\",\"\",M41+MAX(N$10:N40))","v":""}]
[null,null,null,null,null,null,null,null,null,null,null,null,null,{"$f":"IF(M42=\"\",\"\",M42+MAX(N$10:N41))","v":""}]
[null,null,null,null,null,null,null,null,null,null,null,null,null,{"$f":"IF(M43=\"\",\"\",M43+MAX(N$10:N42))","v":""}]
[null,null,null,null,null,null,null,null,null,null,null,null,null,{"$f":"IF(M44=\"\",\"\",M44+MAX(N$10:N43))","v":""}]
[null,null,null,null,null,null,null,null,null,null,null,null,null,{"$f":"IF(M45=\"\",\"\",M45+MAX(N$10:N44))","v":""}]
[null,null,null,null,null,null,null,null,null,null,null,null,null,{"$f":"IF(M46=\"\",\"\",M46+MAX(N$10:N45))","v":""}]
[null,null,null,null,null,null,null,null,null,null,null,null,null,{"$f":"IF(M47=\"\",\"\",M47+MAX(N$10:N46))","v":""}]
[null,null,null,null,null,null,null,null,null,null,null,null,null,{"$f":"IF(M48=\"\",\"\",M48+MAX(N$10:N47))","v":""}]
[null,null,null,null,null,null,null,null,null,null,null,null,null,{"$f":"IF(M49=\"\",\"\",M49+MAX(N$10:N48))","v":""}]
[null,null,null,null,null,null,null,null,null,null,null,null,null,{"$f":"IF(M50=\"\",\"\",M50+MAX(N$10:N49))","v":""}]
[null,null,null,null,null,null,null,null,null,null,null,null,null,{"$f":"IF(M51=\"\",\"\",M51+MAX(N$10:N50))","v":""}]
[null,null,null,null,null,null,null,null,null,null,null,null,null,{"$f":"IF(M52=\"\",\"\",M52+MAX(N$10:N51))","v":""}]
[null,null,null,null,null,null,null,null,null,null,null,null,null,{"$f":"IF(M53=\"\",\"\",M53+MAX(N$10:N52))","v":""}]
[null,null,null,null,null,null,null,null,null,null,null,null,null,{"$f":"IF(M54=\"\",\"\",M54+MAX(N$10:N53))","v":""}]
[null,null,null,null,null,null,null,null,null,null,null,null,null,{"$f":"IF(M55=\"\",\"\",M55+MAX(N$10:N54))","v":""}]
[null,null,null,null,null,null,null,null,null,null,null,null,null,{"$f":"IF(M56=\"\",\"\",M56+MAX(N$10:N55))","v":""}]
[null,null,null,null,null,null,null,null,null,null,null,null,null,{"$f":"IF(M57=\"\",\"\",M57+MAX(N$10:N56))","v":""}]
[null,null,null,null,null,null,null,null,null,null,null,null,null,{"$f":"IF(M58=\"\",\"\",M58+MAX(N$10:N57))","v":""}]
[null,null,null,null,null,null,null,null,null,null,null,null,null,{"$f":"IF(M59=\"\",\"\",M59+MAX(N$10:N58))","v":""}]
[null,null,null,null,null,null,null,null,null,null,null,null,null,{"$f":"IF(M60=\"\",\"\",M60+MAX(N$10:N59))","v":""}]
[null,null,null,"SPECIAL INSTRUCTIONS:",{"$f":"INDEX(QryItemE2019!F:F,MATCH(H5,QryItemE2019!A:A,0))","v":"ADD SUPPLEMENTAL DESCRIPTION"},null,null,null,null,null,null,null,"TOTAL",{"$f":"IF(K5=\"LS\",\"LS\",\" \")","v":" "}]

{"sheet":"511E53014-04","index":19,"n_rows":64,"n_cols":18,"rows_kept":64,"cut":false,"hidden":false,"merged":[[3,16,3,21],[4,7,4,8]]}
[null,null,null,null,null,null,"DESIGN:",{"$f":"IF('Calc Cover Sheet'!B11=\"\",\"\",'Calc Cover Sheet'!B11)","v":"BMV"},"DATE:",{"$f":"IF('Calc Cover Sheet'!D11=\"\",\"\",'Calc Cover Sheet'!D11)","v":"2024-04-19"},"UPDATE:",{"$f":"IF('Calc Cover Sheet'!B13=\"\",\"\",'Calc Cover Sheet'!B13)","v":""},"DATE:",{"$f":"IF('Calc Cover Sheet'!D13=\"\",\"\",'Calc Cover Sheet'!D13)","v":""}]
[null,null,null,null,null,null,"CHECK:",{"$f":"IF('Calc Cover Sheet'!B12=\"\",\"\",'Calc Cover Sheet'!B12)","v":"TLC"},"DATE:",{"$f":"IF('Calc Cover Sheet'!D12=\"\",\"\",'Calc Cover Sheet'!D12)","v":"2024-04-25"},"RECHECK:",{"$f":"IF('Calc Cover Sheet'!B14=\"\",\"\",'Calc Cover Sheet'!B14)","v":""},"DATE:",{"$f":"IF('Calc Cover Sheet'!D14=\"\",\"\",'Calc Cover Sheet'!D14)","v":""}]
[null,null,null,null,null,null,"STRUCTURE:",{"$f":"IF('Calc Cover Sheet'!B7=\"\",\"\",'Calc Cover Sheet'!B7)","v":"HAM-00145-0203"},null,null,"SFN:",{"$f":"IF('Calc Cover Sheet'!B3=\"\",\"\",'Calc Cover Sheet'!B3)","v":3108680},"* Preliminary Assumption",{"$f":"IF('Calc Cover Sheet'!B9=\"\",\"\",'Calc Cover Sheet'!B9)","v":110563}]
[null,null,null,null,null,null,null,null,null,null,null,null,null,null,null,null,"Lump Sum Tags (Items with a \"LS\" Pay Unit can be tagged with one or several categories)"]
[null,null,null,null,null,null,"ITEM:",{"$f":"MID(RIGHT(CELL(\"filename\",D2),LEN(CELL(\"filename\",D2))-FIND(\"]\",CELL(\"filename\",D2))),1,9)","v":"511E53014"},null,"PAY UNIT:",{"$f":"INDEX(QryItemE2019!B:B,MATCH(H5,QryItemE2019!A:A,0))","v":"CY"}]
[null,null,null,null,null,null,"SUBJECT:",{"$f":"IF('Calc Cover Sheet'!B2=\"\",\"\",'Calc Cover Sheet'!B2)","v":"ESTIMATED QUANTITIES"}]
[null,null,null,"DESCRIPTION:",{"$f":"INDEX(QryItemE2019!C:C,MATCH(H5,QryItemE2019!A:A,0))","v":"CLASS QC3 CONCRETE, MISC.:"}]
[null,null,null,"SUPPLEMENTAL DESCRIPTION:","WITH QC/QA, PIER ABOVE FOOTINGS"]
[null,null,null,null,null,null,null,null,null,null,null,null,"SUBTOTAL","TOTAL",null,null,"GROUP","<<<<<Tag each subtotal value with a group from this column"]
[null,null,null,null,null,null,null,null,null,null,null,null,null,{"$f":"IF(M10=\"\",\"\",M10+MAX(N$9:N9))","v":""}]
[null,null,null,null,null,null,null,null,null,null,null,null,null,{"$f":"IF(M11=\"\",\"\",M11+MAX(N$9:N10))","v":""}]
[null,null,null,"Avg. Cap Height = ",4.4400000000000004,"ft",null,null,null,null,null,null,null,{"$f":"IF(M12=\"\",\"\",M12+MAX(N$9:N11))","v":""}]
[null,null,null,"Cap Width = ",3.5,"ft",null,null,null,null,null,null,null,{"$f":"IF(M13=\"\",\"\",M13+MAX(N$9:N12))","v":""}]
[null,null,null,"Cap Length = ",36.166699999999999,"ft",null,null,null,null,null,null,null,{"$f":"IF(M14=\"\",\"\",M14+MAX(N$9:N13))","v":""}]
[null,null,null,"Cap Volume = ",{"$f":"E12*E13*E14/27","v":20.815945111111112},"CY",null,null,null,null,null,null,{"$f":"CEILING(E15,1)","v":21},{"$f":"IF(M15=\"\",\"\",M15+MAX(N$9:N14))","v":21},null,null,"PIER"]
[null,null,null,null,null,null,null,null,null,null,null,null,null,{"$f":"IF(M16=\"\",\"\",M16+MAX(N$9:N15))","v":""}]
[null,null,null,"Colmn Diameter = ",3,"ft",null,null,null,null,null,null,null,{"$f":"IF(M17=\"\",\"\",M17+MAX(N$9:N16))","v":""}]
[null,null,null,"Column Height = ",28.2,"ft",null,null,null,null,null,null,null,{"$f":"IF(M18=\"\",\"\",M18+MAX(N$9:N17))","v":""}]
[null,null,null,"# of Columns = ",3,"each"]
[null,null,null,"Columns Volume = ",{"$f":"(E19*E18*PI()*(E17/2)^2)/27","v":22.148228207808042},"CY",null,null,null,null,null,null,{"$f":"CEILING(E20,1)","v":23},{"$f":"IF(M20=\"\",\"\",M20+MAX(N$9:N19))","v":44},null,null,"PIER"]
[null,null,null,null,null,null,null,null,null,null,null,null,null,{"$f":"IF(M21=\"\",\"\",M21+MAX(N$9:N20))","v":""}]
[null,null,null,"Seismic Pedestal Width =",2,"ft",null,null,null,null,null,null,null,{"$f":"IF(M22=\"\",\"\",M22+MAX(N$9:N21))","v":""}]
[null,null,null,"Seismic Pedestal length =",3.5,"ft",null,null,null,null,null,null,null,{"$f":"IF(M23=\"\",\"\",M23+MAX(N$9:N22))","v":""}]
[null,null,null,"Seismic Pedestal height =",0.75,"ft",null,null,null,null,null,null,null,{"$f":"IF(M24=\"\",\"\",M24+MAX(N$9:N23))","v":""}]
[null,null,null,"Pedestal Volume = ",{"$f":"(E22*E23*E24)/27","v":0.19444444444444445},"CY",null,null,null,null,null,null,{"$f":"CEILING(E25,1)","v":1},{"$f":"IF(M25=\"\",\"\",M25+MAX(N$9:N24))","v":45},null,null,"PIER"]
[null,null,null,null,null,null,null,null,null,null,null,null,null,{"$f":"IF(M26=\"\",\"\",M26+MAX(N$9:N25))","v":""}]
[null,null,null,null,null,null,null,null,null,null,null,null,null,{"$f":"IF(M27=\"\",\"\",M27+MAX(N$9:N26))","v":""}]
[null,null,null,null,null,null,null,null,null,null,null,null,null,{"$f":"IF(M28=\"\",\"\",M28+MAX(N$9:N27))","v":""}]
[null,null,null,null,null,null,null,null,null,null,null,null,null,{"$f":"IF(M29=\"\",\"\",M29+MAX(N$9:N28))","v":""}]
[null,null,null,null,null,null,null,null,null,null,null,null,null,{"$f":"IF(M30=\"\",\"\",M30+MAX(N$9:N29))","v":""}]
[null,null,null,null,null,null,null,null,null,null,null,null,null,{"$f":"IF(M31=\"\",\"\",M31+MAX(N$9:N30))","v":""}]
[null,null,null,null,null,null,null,null,null,null,null,null,null,{"$f":"IF(M32=\"\",\"\",M32+MAX(N$9:N31))","v":""}]
[null,null,null,null,null,null,null,null,null,null,null,null,null,{"$f":"IF(M33=\"\",\"\",M33+MAX(N$9:N32))","v":""}]
[null,null,null,null,null,null,null,null,null,null,null,null,null,{"$f":"IF(M34=\"\",\"\",M34+MAX(N$9:N33))","v":""}]
[null,null,null,null,null,null,null,null,null,null,null,null,null,{"$f":"IF(M35=\"\",\"\",M35+MAX(N$9:N34))","v":""}]
[null,null,null,null,null,null,null,null,null,null,null,null,null,{"$f":"IF(M36=\"\",\"\",M36+MAX(N$9:N35))","v":""}]
[null,null,null,null,null,null,null,null,null,null,null,null,null,{"$f":"IF(M37=\"\",\"\",M37+MAX(N$10:N36))","v":""}]
[null,null,null,null,null,null,null,null,null,null,null,null,null,{"$f":"IF(M38=\"\",\"\",M38+MAX(N$10:N37))","v":""}]
[null,null,null,null,null,null,null,null,null,null,null,null,null,{"$f":"IF(M39=\"\",\"\",M39+MAX(N$10:N38))","v":""}]
[null,null,null,null,null,null,null,null,null,null,null,null,null,{"$f":"IF(M40=\"\",\"\",M40+MAX(N$10:N39))","v":""}]
[null,null,null,null,null,null,null,null,null,null,null,null,null,{"$f":"IF(M41=\"\",\"\",M41+MAX(N$10:N40))","v":""}]
[null,null,null,null,null,null,null,null,null,null,null,null,null,{"$f":"IF(M42=\"\",\"\",M42+MAX(N$10:N41))","v":""}]
[null,null,null,null,null,null,null,null,null,null,null,null,null,{"$f":"IF(M43=\"\",\"\",M43+MAX(N$10:N42))","v":""}]
[null,null,null,null,null,null,null,null,null,null,null,null,null,{"$f":"IF(M44=\"\",\"\",M44+MAX(N$10:N43))","v":""}]
[null,null,null,null,null,null,null,null,null,null,null,null,null,{"$f":"IF(M45=\"\",\"\",M45+MAX(N$10:N44))","v":""}]
[null,null,null,null,null,null,null,null,null,null,null,null,null,{"$f":"IF(M46=\"\",\"\",M46+MAX(N$10:N45))","v":""}]
[null,null,null,null,null,null,null,null,null,null,null,null,null,{"$f":"IF(M47=\"\",\"\",M47+MAX(N$10:N46))","v":""}]
[null,null,null,null,null,null,null,null,null,null,null,null,null,{"$f":"IF(M48=\"\",\"\",M48+MAX(N$10:N47))","v":""}]
[null,null,null,null,null,null,null,null,null,null,null,null,null,{"$f":"IF(M49=\"\",\"\",M49+MAX(N$10:N48))","v":""}]
[null,null,null,null,null,null,null,null,null,null,null,null,null,{"$f":"IF(M50=\"\",\"\",M50+MAX(N$10:N49))","v":""}]
[null,null,null,null,null,null,null,null,null,null,null,null,null,{"$f":"IF(M51=\"\",\"\",M51+MAX(N$10:N50))","v":""}]
[null,null,null,null,null,null,null,null,null,null,null,null,null,{"$f":"IF(M52=\"\",\"\",M52+MAX(N$10:N51))","v":""}]
[null,null,null,null,null,null,null,null,null,null,null,null,null,{"$f":"IF(M53=\"\",\"\",M53+MAX(N$10:N52))","v":""}]
[null,null,null,null,null,null,null,null,null,null,null,null,null,{"$f":"IF(M54=\"\",\"\",M54+MAX(N$10:N53))","v":""}]
[null,null,null,null,null,null,null,null,null,null,null,null,null,{"$f":"IF(M55=\"\",\"\",M55+MAX(N$10:N54))","v":""}]
[null,null,null,null,null,null,null,null,null,null,null,null,null,{"$f":"IF(M56=\"\",\"\",M56+MAX(N$10:N55))","v":""}]
[null,null,null,null,null,null,null,null,null,null,null,null,null,{"$f":"IF(M57=\"\",\"\",M57+MAX(N$10:N56))","v":""}]
[null,null,null,null,null,null,null,null,null,null,null,null,null,{"$f":"IF(M58=\"\",\"\",M58+MAX(N$10:N57))","v":""}]
[null,null,null,null,null,null,null,null,null,null,null,null,null,{"$f":"IF(M59=\"\",\"\",M59+MAX(N$10:N58))","v":""}]
[null,null,null,null,null,null,null,null,null,null,null,null,null,{"$f":"IF(M60=\"\",\"\",M60+MAX(N$10:N59))","v":""}]
[null,null,null,null,null,null,null,null,null,null,null,null,null,{"$f":"IF(M61=\"\",\"\",M61+MAX(N$10:N60))","v":""}]
[null,null,null,null,null,null,null,null,null,null,null,null,null,{"$f":"IF(M62=\"\",\"\",M62+MAX(N$10:N61))","v":""}]
[null,null,null,null,null,null,null,null,null,null,null,null,null,{"$f":"IF(M63=\"\",\"\",M63+MAX(N$10:N62))","v":""}]
[null,null,null,"SPECIAL INSTRUCTIONS:",{"$f":"INDEX(QryItemE2019!F:F,MATCH(H5,QryItemE2019!A:A,0))","v":"ADD SUPPLEMENTAL DESCRIPTION"},null,null,null,null,null,null,null,"TOTAL",{"$f":"IF(K5=\"LS\",\"LS\",\" \")","v":" "}]

{"sheet":"511E53014-05","index":20,"n_rows":64,"n_cols":18,"rows_kept":64,"cut":false,"hidden":false,"merged":[[3,16,3,21],[4,7,4,8]]}
[null,null,null,null,null,null,"DESIGN:",{"$f":"IF('Calc Cover Sheet'!B11=\"\",\"\",'Calc Cover Sheet'!B11)","v":"BMV"},"DATE:",{"$f":"IF('Calc Cover Sheet'!D11=\"\",\"\",'Calc Cover Sheet'!D11)","v":"2024-04-19"},"UPDATE:",{"$f":"IF('Calc Cover Sheet'!B13=\"\",\"\",'Calc Cover Sheet'!B13)","v":""},"DATE:",{"$f":"IF('Calc Cover Sheet'!D13=\"\",\"\",'Calc Cover Sheet'!D13)","v":""}]
[null,null,null,null,null,null,"CHECK:",{"$f":"IF('Calc Cover Sheet'!B12=\"\",\"\",'Calc Cover Sheet'!B12)","v":"TLC"},"DATE:",{"$f":"IF('Calc Cover Sheet'!D12=\"\",\"\",'Calc Cover Sheet'!D12)","v":"2024-04-25"},"RECHECK:",{"$f":"IF('Calc Cover Sheet'!B14=\"\",\"\",'Calc Cover Sheet'!B14)","v":""},"DATE:",{"$f":"IF('Calc Cover Sheet'!D14=\"\",\"\",'Calc Cover Sheet'!D14)","v":""}]
[null,null,null,null,null,null,"STRUCTURE:",{"$f":"IF('Calc Cover Sheet'!B7=\"\",\"\",'Calc Cover Sheet'!B7)","v":"HAM-00145-0203"},null,null,"SFN:",{"$f":"IF('Calc Cover Sheet'!B3=\"\",\"\",'Calc Cover Sheet'!B3)","v":3108680},"* Preliminary Assumption",{"$f":"IF('Calc Cover Sheet'!B9=\"\",\"\",'Calc Cover Sheet'!B9)","v":110563}]
[null,null,null,null,null,null,null,null,null,null,null,null,null,null,null,null,"Lump Sum Tags (Items with a \"LS\" Pay Unit can be tagged with one or several categories)"]
[null,null,null,null,null,null,"ITEM:",{"$f":"MID(RIGHT(CELL(\"filename\",D2),LEN(CELL(\"filename\",D2))-FIND(\"]\",CELL(\"filename\",D2))),1,9)","v":"511E53014"},null,"PAY UNIT:",{"$f":"INDEX(QryItemE2019!B:B,MATCH(H5,QryItemE2019!A:A,0))","v":"CY"}]
[null,null,null,null,null,null,"SUBJECT:",{"$f":"IF('Calc Cover Sheet'!B2=\"\",\"\",'Calc Cover Sheet'!B2)","v":"ESTIMATED QUANTITIES"}]
[null,null,null,"DESCRIPTION:",{"$f":"INDEX(QryItemE2019!C:C,MATCH(H5,QryItemE2019!A:A,0))","v":"CLASS QC3 CONCRETE, MISC.:"}]
[null,null,null,"SUPPLEMENTAL DESCRIPTION:","WITH QC/QA, SIDEWALK"]
[null,null,null,null,null,null,null,null,null,null,null,null,"SUBTOTAL","TOTAL",null,null,"GROUP","<<<<<Tag each subtotal value with a group from this column"]
[null,null,null,null,null,null,null,null,null,null,null,null,null,{"$f":"IF(M10=\"\",\"\",M10+MAX(N$9:N9))","v":""}]
[null,null,null,null,null,null,null,null,null,null,null,null,null,{"$f":"IF(M11=\"\",\"\",M11+MAX(N$9:N10))","v":""}]
[null,null,null,"Bridge Length =",182.67,"ft",null,null,null,null,null,null,null,{"$f":"IF(M12=\"\",\"\",M12+MAX(N$9:N11))","v":""}]
[null,null,null,"Approach Length =",30,"ft",null,null,null,null,null,null,null,{"$f":"IF(M13=\"\",\"\",M13+MAX(N$9:N12))","v":""}]
[null,null,null,"# Approaches =",2,"ea",null,null,null,null,null,null,null,{"$f":"IF(M14=\"\",\"\",M14+MAX(N$9:N13))","v":""}]
[null,null,null,"Sidewalk Width =",6,"ft"]
[null,null,null,"Sidewalk Thickness =",8,"in",null,null,null,null,null,null,null,{"$f":"IF(M16=\"\",\"\",M16+MAX(N$9:N15))","v":""}]
[null,null,null,null,null,null,null,null,null,null,null,null,null,{"$f":"IF(M17=\"\",\"\",M17+MAX(N$9:N16))","v":""}]
[null,null,null,null,null,null,null,null,null,null,null,null,null,{"$f":"IF(M18=\"\",\"\",M18+MAX(N$9:N17))","v":""}]
[]
[null,null,null,"Sidewalk Volume = ",{"$f":"((E12+E13*E14)*E15*(E16/12))/27","v":35.951111111111111},"CY",null,null,null,null,null,null,{"$f":"CEILING(E20,1)","v":36},{"$f":"IF(M20=\"\",\"\",M20+MAX(N$9:N19))","v":36},null,null,"SUPER."]
[null,null,null,null,null,null,null,null,null,null,null,null,null,{"$f":"IF(M21=\"\",\"\",M21+MAX(N$9:N20))","v":""}]
[null,null,null,null,null,null,null,null,null,null,null,null,null,{"$f":"IF(M22=\"\",\"\",M22+MAX(N$9:N21))","v":""}]
[null,null,null,null,null,null,null,null,null,null,null,null,null,{"$f":"IF(M23=\"\",\"\",M23+MAX(N$9:N22))","v":""}]
[null,null,null,null,null,null,null,null,null,null,null,null,null,{"$f":"IF(M24=\"\",\"\",M24+MAX(N$9:N23))","v":""}]
[]
[null,null,null,null,null,null,null,null,null,null,null,null,null,{"$f":"IF(M26=\"\",\"\",M26+MAX(N$9:N25))","v":""}]
[null,null,null,null,null,null,null,null,null,null,null,null,null,{"$f":"IF(M27=\"\",\"\",M27+MAX(N$9:N26))","v":""}]
[null,null,null,null,null,null,null,null,null,null,null,null,null,{"$f":"IF(M28=\"\",\"\",M28+MAX(N$9:N27))","v":""}]
[null,null,null,null,null,null,null,null,null,null,null,null,null,{"$f":"IF(M29=\"\",\"\",M29+MAX(N$9:N28))","v":""}]
[null,null,null,null,null,null,null,null,null,null,null,null,null,{"$f":"IF(M30=\"\",\"\",M30+MAX(N$9:N29))","v":""}]
[null,null,null,null,null,null,null,null,null,null,null,null,null,{"$f":"IF(M31=\"\",\"\",M31+MAX(N$9:N30))","v":""}]
[null,null,null,null,null,null,null,null,null,null,null,null,null,{"$f":"IF(M32=\"\",\"\",M32+MAX(N$9:N31))","v":""}]
[null,null,null,null,null,null,null,null,null,null,null,null,null,{"$f":"IF(M33=\"\",\"\",M33+MAX(N$9:N32))","v":""}]
[null,null,null,null,null,null,null,null,null,null,null,null,null,{"$f":"IF(M34=\"\",\"\",M34+MAX(N$9:N33))","v":""}]
[null,null,null,null,null,null,null,null,null,null,null,null,null,{"$f":"IF(M35=\"\",\"\",M35+MAX(N$9:N34))","v":""}]
[null,null,null,null,null,null,null,null,null,null,null,null,null,{"$f":"IF(M36=\"\",\"\",M36+MAX(N$9:N35))","v":""}]
[null,null,null,null,null,null,null,null,null,null,null,null,null,{"$f":"IF(M37=\"\",\"\",M37+MAX(N$10:N36))","v":""}]
[null,null,null,null,null,null,null,null,null,null,null,null,null,{"$f":"IF(M38=\"\",\"\",M38+MAX(N$10:N37))","v":""}]
[null,null,null,null,null,null,null,null,null,null,null,null,null,{"$f":"IF(M39=\"\",\"\",M39+MAX(N$10:N38))","v":""}]
[null,null,null,null,null,null,null,null,null,null,null,null,null,{"$f":"IF(M40=\"\",\"\",M40+MAX(N$10:N39))","v":""}]
[null,null,null,null,null,null,null,null,null,null,null,null,null,{"$f":"IF(M41=\"\",\"\",M41+MAX(N$10:N40))","v":""}]
[null,null,null,null,null,null,null,null,null,null,null,null,null,{"$f":"IF(M42=\"\",\"\",M42+MAX(N$10:N41))","v":""}]
[null,null,null,null,null,null,null,null,null,null,null,null,null,{"$f":"IF(M43=\"\",\"\",M43+MAX(N$10:N42))","v":""}]
[null,null,null,null,null,null,null,null,null,null,null,null,null,{"$f":"IF(M44=\"\",\"\",M44+MAX(N$10:N43))","v":""}]
[null,null,null,null,null,null,null,null,null,null,null,null,null,{"$f":"IF(M45=\"\",\"\",M45+MAX(N$10:N44))","v":""}]
[null,null,null,null,null,null,null,null,null,null,null,null,null,{"$f":"IF(M46=\"\",\"\",M46+MAX(N$10:N45))","v":""}]
[null,null,null,null,null,null,null,null,null,null,null,null,null,{"$f":"IF(M47=\"\",\"\",M47+MAX(N$10:N46))","v":""}]
[null,null,null,null,null,null,null,null,null,null,null,null,null,{"$f":"IF(M48=\"\",\"\",M48+MAX(N$10:N47))","v":""}]
[null,null,null,null,null,null,null,null,null,null,null,null,null,{"$f":"IF(M49=\"\",\"\",M49+MAX(N$10:N48))","v":""}]
[null,null,null,null,null,null,null,null,null,null,null,null,null,{"$f":"IF(M50=\"\",\"\",M50+MAX(N$10:N49))","v":""}]
[null,null,null,null,null,null,null,null,null,null,null,null,null,{"$f":"IF(M51=\"\",\"\",M51+MAX(N$10:N50))","v":""}]
[null,null,null,null,null,null,null,null,null,null,null,null,null,{"$f":"IF(M52=\"\",\"\",M52+MAX(N$10:N51))","v":""}]
[null,null,null,null,null,null,null,null,null,null,null,null,null,{"$f":"IF(M53=\"\",\"\",M53+MAX(N$10:N52))","v":""}]
[null,null,null,null,null,null,null,null,null,null,null,null,null,{"$f":"IF(M54=\"\",\"\",M54+MAX(N$10:N53))","v":""}]
[null,null,null,null,null,null,null,null,null,null,null,null,null,{"$f":"IF(M55=\"\",\"\",M55+MAX(N$10:N54))","v":""}]
[null,null,null,null,null,null,null,null,null,null,null,null,null,{"$f":"IF(M56=\"\",\"\",M56+MAX(N$10:N55))","v":""}]
[null,null,null,null,null,null,null,null,null,null,null,null,null,{"$f":"IF(M57=\"\",\"\",M57+MAX(N$10:N56))","v":""}]
[null,null,null,null,null,null,null,null,null,null,null,null,null,{"$f":"IF(M58=\"\",\"\",M58+MAX(N$10:N57))","v":""}]
[null,null,null,null,null,null,null,null,null,null,null,null,null,{"$f":"IF(M59=\"\",\"\",M59+MAX(N$10:N58))","v":""}]
[null,null,null,null,null,null,null,null,null,null,null,null,null,{"$f":"IF(M60=\"\",\"\",M60+MAX(N$10:N59))","v":""}]
[null,null,null,null,null,null,null,null,null,null,null,null,null,{"$f":"IF(M61=\"\",\"\",M61+MAX(N$10:N60))","v":""}]
[null,null,null,null,null,null,null,null,null,null,null,null,null,{"$f":"IF(M62=\"\",\"\",M62+MAX(N$10:N61))","v":""}]
[null,null,null,null,null,null,null,null,null,null,null,null,null,{"$f":"IF(M63=\"\",\"\",M63+MAX(N$10:N62))","v":""}]
[null,null,null,"SPECIAL INSTRUCTIONS:",{"$f":"INDEX(QryItemE2019!F:F,MATCH(H5,QryItemE2019!A:A,0))","v":"ADD SUPPLEMENTAL DESCRIPTION"},null,null,null,null,null,null,null,"TOTAL",{"$f":"IF(K5=\"LS\",\"LS\",\" \")","v":" "}]

{"sheet":"512E10050","index":21,"n_rows":83,"n_cols":18,"rows_kept":83,"cut":false,"hidden":false,"merged":[[3,16,3,21],[4,7,4,8]]}
[null,null,null,null,null,null,"DESIGN:",{"$f":"IF('Calc Cover Sheet'!B11=\"\",\"\",'Calc Cover Sheet'!B11)","v":"BMV"},"DATE:",{"$f":"IF('Calc Cover Sheet'!D11=\"\",\"\",'Calc Cover Sheet'!D11)","v":"2024-04-19"},"UPDATE:",{"$f":"IF('Calc Cover Sheet'!B13=\"\",\"\",'Calc Cover Sheet'!B13)","v":""},"DATE:",{"$f":"IF('Calc Cover Sheet'!D13=\"\",\"\",'Calc Cover Sheet'!D13)","v":""}]
[null,null,null,null,null,null,"CHECK:",{"$f":"IF('Calc Cover Sheet'!B12=\"\",\"\",'Calc Cover Sheet'!B12)","v":"TLC"},"DATE:",{"$f":"IF('Calc Cover Sheet'!D12=\"\",\"\",'Calc Cover Sheet'!D12)","v":"2024-04-25"},"RECHECK:",{"$f":"IF('Calc Cover Sheet'!B14=\"\",\"\",'Calc Cover Sheet'!B14)","v":""},"DATE:",{"$f":"IF('Calc Cover Sheet'!D14=\"\",\"\",'Calc Cover Sheet'!D14)","v":""}]
[null,null,null,null,null,null,"STRUCTURE:",{"$f":"IF('Calc Cover Sheet'!B7=\"\",\"\",'Calc Cover Sheet'!B7)","v":"HAM-00145-0203"},null,null,"SFN:",{"$f":"IF('Calc Cover Sheet'!B3=\"\",\"\",'Calc Cover Sheet'!B3)","v":3108680},"PID:",{"$f":"IF('Calc Cover Sheet'!B9=\"\",\"\",'Calc Cover Sheet'!B9)","v":110563}]
[null,null,null,null,null,null,null,null,null,null,null,null,null,null,null,null,"Lump Sum Tags (Items with a \"LS\" Pay Unit can be tagged with one or several categories)"]
[null,null,null,null,null,null,"ITEM:",{"$f":"MID(RIGHT(CELL(\"filename\",D2),LEN(CELL(\"filename\",D2))-FIND(\"]\",CELL(\"filename\",D2))),1,9)","v":"512E10050"},null,"PAY UNIT:",{"$f":"INDEX(QryItemE2019!B:B,MATCH(H5,QryItemE2019!A:A,0))","v":"SY"}]
[null,null,null,null,null,null,"SUBJECT:",{"$f":"IF('Calc Cover Sheet'!B2=\"\",\"\",'Calc Cover Sheet'!B2)","v":"ESTIMATED QUANTITIES"}]
[null,null,null,"DESCRIPTION:",{"$f":"INDEX(QryItemE2019!C:C,MATCH(H5,QryItemE2019!A:A,0))","v":"SEALING OF CONCRETE SURFACES (NON-EPOXY)"}]
[null,null,null,"SUPPLEMENTAL DESCRIPTION:"]
[null,null,null,null,null,null,null,null,null,null,null,null,"SUBTOTAL","TOTAL",null,null,"GROUP","<<<<<Tag each subtotal value with a group from this column"]
[null,null,null,null,null,null,null,null,null,null,null,null,null,{"$f":"IF(M10=\"\",\"\",M10+MAX(N$9:N9))","v":""}]
[null,null,"SIDEWALK SURFACE",null,null,null,null,null,null,null,null,null,null,{"$f":"IF(M11=\"\",\"\",M11+MAX(N$9:N10))","v":""}]
[null,null,null,null,"Bridge Length = ",182.67,"ft",null,null,null,null,null,null,{"$f":"IF(M12=\"\",\"\",M12+MAX(N$10:N11))","v":""}]
[null,null,null,null,"Approach Length = ",30,"ft each"]
[null,null,null,null,"Rear Moment Slab =",{"$f":"23+7/12","v":23.583333333333332},"ft"]
[null,null,null,null,"Fwd Moment Slab =",{"$f":"40+7/12","v":40.583333333333336},"ft"]
[null,null,null,null,"Type C Installation =",1.8332999999999999,"ft"]
[null,null,null,null,"Total Sealed Length =",{"$f":"F12+F13*2+F14+F15+F16*2","v":310.50326666666666},"ft"]
[]
[null,null,null,null,"Sidewalk Width = ",6,"ft",null,null,null,null,null,null,{"$f":"IF(M19=\"\",\"\",M19+MAX(N$10:N12))","v":""}]
[null,null,null,null,"Sidewalk Curb Height = ",0.66669999999999996,"ft",null,null,null,null,null,null,{"$f":"IF(M20=\"\",\"\",M20+MAX(N$10:N19))","v":""}]
[null,null,null,null,null,null,null,null,null,null,null,null,null,{"$f":"IF(M21=\"\",\"\",M21+MAX(N$10:N19))","v":""}]
[null,null,null,null,"Sidewalk Sealed Area = ",{"$f":"F17*(F19+F20)/9","v":230.00356976518515},"SY",null,null,null,null,null,{"$f":"CEILING(F22,1)","v":231},{"$f":"IF(M22=\"\",\"\",M22+MAX(N$10:N21))","v":231},null,null,"GEN."]
[]
[null,null,null,null,null,null,null,null,null,null,null,null,null,{"$f":"IF(M24=\"\",\"\",M24+MAX(N$9:N23))","v":""}]
[null,null,null,null,null,null,null,null,null,null,null,null,null,{"$f":"IF(M25=\"\",\"\",M25+MAX(N$9:N24))","v":""}]
[null,null,null,null,null,null,null,null,null,null,null,null,null,{"$f":"IF(M26=\"\",\"\",M26+MAX(N$9:N25))","v":""}]
[null,null,null,null,null,null,null,null,null,null,null,null,null,{"$f":"IF(M27=\"\",\"\",M27+MAX(N$9:N26))","v":""}]
[null,null,null,null,null,null,null,null,null,null,null,null,null,{"$f":"IF(M28=\"\",\"\",M28+MAX(N$9:N27))","v":""}]
[null,null,null,null,null,null,null,null,null,null,null,null,null,{"$f":"IF(M29=\"\",\"\",M29+MAX(N$9:N28))","v":""}]
[null,null,null,null,null,null,null,null,null,null,null,null,null,{"$f":"IF(M30=\"\",\"\",M30+MAX(N$9:N29))","v":""}]
[null,null,null,null,null,null,null,null,null,null,null,null,null,{"$f":"IF(M31=\"\",\"\",M31+MAX(N$9:N30))","v":""}]
[null,null,null,null,null,null,null,null,null,null,null,null,null,{"$f":"IF(M32=\"\",\"\",M32+MAX(N$9:N31))","v":""}]
[null,null,null,null,null,null,null,null,null,null,null,null,null,{"$f":"IF(M33=\"\",\"\",M33+MAX(N$9:N32))","v":""}]
[null,null,null,null,null,null,null,null,null,null,null,null,null,{"$f":"IF(M34=\"\",\"\",M34+MAX(N$10:N33))","v":""}]
[null,null,null,null,null,null,null,null,null,null,null,null,null,{"$f":"IF(M35=\"\",\"\",M35+MAX(N$10:N34))","v":""}]
[null,null,null,null,null,null,null,null,null,null,null,null,null,{"$f":"IF(M36=\"\",\"\",M36+MAX(N$10:N35))","v":""}]
[null,null,null,null,null,null,null,null,null,null,null,null,null,{"$f":"IF(M37=\"\",\"\",M37+MAX(N$10:N36))","v":""}]
[null,null,null,null,null,null,null,null,null,null,null,null,null,{"$f":"IF(M38=\"\",\"\",M38+MAX(N$10:N37))","v":""}]
[null,null,null,null,null,null,null,null,null,null,null,null,null,{"$f":"IF(M39=\"\",\"\",M39+MAX(N$10:N38))","v":""}]
[null,null,null,null,null,null,null,null,null,null,null,null,null,{"$f":"IF(M40=\"\",\"\",M40+MAX(N$10:N39))","v":""}]
[null,null,null,null,null,null,null,null,null,null,null,null,null,{"$f":"IF(M41=\"\",\"\",M41+MAX(N$10:N40))","v":""}]
[null,null,null,null,null,null,null,null,null,null,null,null,null,{"$f":"IF(M42=\"\",\"\",M42+MAX(N$10:N41))","v":""}]
[null,null,null,null,null,null,null,null,null,null,null,null,null,{"$f":"IF(M43=\"\",\"\",M43+MAX(N$10:N42))","v":""},null,null,"GEN."]
[null,null,null,null,null,null,null,null,null,null,null,null,null,{"$f":"IF(M44=\"\",\"\",M44+MAX(N$10:N43))","v":""}]
[null,null,null,null,null,null,null,null,null,null,null,null,null,{"$f":"IF(M45=\"\",\"\",M45+MAX(N$10:N44))","v":""}]
[null,null,null,null,null,null,null,null,null,null,null,null,null,{"$f":"IF(M46=\"\",\"\",M46+MAX(N$10:N45))","v":""}]
[null,null,null,null,null,null,null,null,null,null,null,null,null,{"$f":"IF(M47=\"\",\"\",M47+MAX(N$10:N46))","v":""}]
[null,null,null,null,null,null,null,null,null,null,null,null,null,{"$f":"IF(M48=\"\",\"\",M48+MAX(N$10:N47))","v":""}]
[null,null,null,null,null,null,null,null,null,null,null,null,null,{"$f":"IF(M49=\"\",\"\",M49+MAX(N$10:N48))","v":""}]
[null,null,null,null,null,null,null,null,null,null,null,null,null,{"$f":"IF(M50=\"\",\"\",M50+MAX(N$10:N49))","v":""}]
[null,null,null,null,null,null,null,null,null,null,null,null,null,{"$f":"IF(M51=\"\",\"\",M51+MAX(N$10:N50))","v":""}]
[null,null,null,null,null,null,null,null,null,null,null,null,null,{"$f":"IF(M52=\"\",\"\",M52+MAX(N$10:N51))","v":""}]
[null,null,null,null,null,null,null,null,null,null,null,null,null,{"$f":"IF(M53=\"\",\"\",M53+MAX(N$10:N52))","v":""}]
[null,null,null,null,null,null,null,null,null,null,null,null,null,{"$f":"IF(M54=\"\",\"\",M54+MAX(N$10:N53))","v":""}]
[null,null,null,null,null,null,null,null,null,null,null,null,null,{"$f":"IF(M55=\"\",\"\",M55+MAX(N$10:N54))","v":""}]
[null,null,null,null,null,null,null,null,null,null,null,null,null,{"$f":"IF(M56=\"\",\"\",M56+MAX(N$10:N55))","v":""}]
[null,null,null,null,null,null,null,null,null,null,null,null,null,{"$f":"IF(M57=\"\",\"\",M57+MAX(N$10:N56))","v":""}]
[null,null,null,null,null,null,null,null,null,null,null,null,null,{"$f":"IF(M58=\"\",\"\",M58+MAX(N$10:N57))","v":""}]
[null,null,null,null,null,null,null,null,null,null,null,null,null,{"$f":"IF(M59=\"\",\"\",M59+MAX(N$10:N58))","v":""}]
[null,null,null,null,null,null,null,null,null,null,null,null,null,{"$f":"IF(M60=\"\",\"\",M60+MAX(N$10:N59))","v":""}]
[null,null,null,null,null,null,null,null,null,null,null,null,null,{"$f":"IF(M61=\"\",\"\",M61+MAX(N$10:N60))","v":""}]
[null,null,null,null,null,null,null,null,null,null,null,null,null,{"$f":"IF(M62=\"\",\"\",M62+MAX(N$10:N61))","v":""}]
[null,null,null,null,null,null,null,null,null,null,null,null,null,{"$f":"IF(M63=\"\",\"\",M63+MAX(N$10:N62))","v":""}]
[null,null,null,null,null,null,null,null,null,null,null,null,null,{"$f":"IF(M64=\"\",\"\",M64+MAX(N$10:N63))","v":""}]
[null,null,null,null,null,null,null,null,null,null,null,null,null,{"$f":"IF(M65=\"\",\"\",M65+MAX(N$10:N64))","v":""}]
[null,null,null,null,null,null,null,null,null,null,null,null,null,{"$f":"IF(M66=\"\",\"\",M66+MAX(N$10:N65))","v":""}]
[null,null,null,null,null,null,null,null,null,null,null,null,null,{"$f":"IF(M67=\"\",\"\",M67+MAX(N$10:N66))","v":""}]
[null,null,null,null,null,null,null,null,null,null,null,null,null,{"$f":"IF(M68=\"\",\"\",M68+MAX(N$10:N67))","v":""}]
[null,null,null,null,null,null,null,null,null,null,null,null,null,{"$f":"IF(M69=\"\",\"\",M69+MAX(N$10:N68))","v":""}]
[null,null,null,null,null,null,null,null,null,null,null,null,null,{"$f":"IF(M70=\"\",\"\",M70+MAX(N$10:N69))","v":""}]
[null,null,null,null,null,null,null,null,null,null,null,null,null,{"$f":"IF(M71=\"\",\"\",M71+MAX(N$10:N70))","v":""}]
[null,null,null,null,null,null,null,null,null,null,null,null,null,{"$f":"IF(M72=\"\",\"\",M72+MAX(N$10:N71))","v":""}]
[null,null,null,null,null,null,null,null,null,null,null,null,null,{"$f":"IF(M73=\"\",\"\",M73+MAX(N$10:N72))","v":""}]
[null,null,null,null,null,null,null,null,null,null,null,null,null,{"$f":"IF(M74=\"\",\"\",M74+MAX(N$10:N73))","v":""}]
[null,null,null,null,null,null,null,null,null,null,null,null,null,{"$f":"IF(M75=\"\",\"\",M75+MAX(N$10:N74))","v":""}]
[null,null,null,null,null,null,null,null,null,null,null,null,null,{"$f":"IF(M76=\"\",\"\",M76+MAX(N$10:N75))","v":""}]
[null,null,null,null,null,null,null,null,null,null,null,null,null,{"$f":"IF(M77=\"\",\"\",M77+MAX(N$10:N76))","v":""}]
[null,null,null,null,null,null,null,null,null,null,null,null,null,{"$f":"IF(M78=\"\",\"\",M78+MAX(N$10:N77))","v":""}]
[null,null,null,null,null,null,null,null,null,null,null,null,null,{"$f":"IF(M79=\"\",\"\",M79+MAX(N$10:N78))","v":""}]
[null,null,null,null,null,null,null,null,null,null,null,null,null,{"$f":"IF(M80=\"\",\"\",M80+MAX(N$10:N79))","v":""}]
[null,null,null,null,null,null,null,null,null,null,null,null,null,{"$f":"IF(M81=\"\",\"\",M81+MAX(N$10:N80))","v":""}]
[null,null,null,null,null,null,null,null,null,null,null,null,null,{"$f":"IF(M82=\"\",\"\",M82+MAX(N$10:N81))","v":""}]
[null,null,null,"SPECIAL INSTRUCTIONS:",{"$f":"INDEX(QryItemE2019!F:F,MATCH(H5,QryItemE2019!A:A,0))","v":""},null,null,null,null,null,null,null,"TOTAL",{"$f":"IF(K5=\"LS\",\"LS\",\" \")","v":" "}]

{"sheet":"512E10100","index":22,"n_rows":57,"n_cols":18,"rows_kept":57,"cut":false,"hidden":false,"merged":[[3,16,3,21],[4,7,4,8]]}
[null,null,null,null,null,null,"DESIGN:",{"$f":"IF('Calc Cover Sheet'!B11=\"\",\"\",'Calc Cover Sheet'!B11)","v":"BMV"},"DATE:",{"$f":"IF('Calc Cover Sheet'!D11=\"\",\"\",'Calc Cover Sheet'!D11)","v":"2024-04-19"},"UPDATE:",{"$f":"IF('Calc Cover Sheet'!B13=\"\",\"\",'Calc Cover Sheet'!B13)","v":""},"DATE:",{"$f":"IF('Calc Cover Sheet'!D13=\"\",\"\",'Calc Cover Sheet'!D13)","v":""}]
[null,null,null,null,null,null,"CHECK:",{"$f":"IF('Calc Cover Sheet'!B12=\"\",\"\",'Calc Cover Sheet'!B12)","v":"TLC"},"DATE:",{"$f":"IF('Calc Cover Sheet'!D12=\"\",\"\",'Calc Cover Sheet'!D12)","v":"2024-04-25"},"RECHECK:",{"$f":"IF('Calc Cover Sheet'!B14=\"\",\"\",'Calc Cover Sheet'!B14)","v":""},"DATE:",{"$f":"IF('Calc Cover Sheet'!D14=\"\",\"\",'Calc Cover Sheet'!D14)","v":""}]
[null,null,null,null,null,null,"STRUCTURE:",{"$f":"IF('Calc Cover Sheet'!B7=\"\",\"\",'Calc Cover Sheet'!B7)","v":"HAM-00145-0203"},null,null,"SFN:",{"$f":"IF('Calc Cover Sheet'!B3=\"\",\"\",'Calc Cover Sheet'!B3)","v":3108680},"PID:",{"$f":"IF('Calc Cover Sheet'!B9=\"\",\"\",'Calc Cover Sheet'!B9)","v":110563}]
[null,null,null,null,null,null,null,null,null,null,null,null,null,null,null,null,"Lump Sum Tags (Items with a \"LS\" Pay Unit can be tagged with one or several categories)"]
[null,null,null,null,null,null,"ITEM:",{"$f":"MID(RIGHT(CELL(\"filename\",D2),LEN(CELL(\"filename\",D2))-FIND(\"]\",CELL(\"filename\",D2))),1,9)","v":"512E10100"},null,"PAY UNIT:",{"$f":"INDEX(QryItemE2019!B:B,MATCH(H5,QryItemE2019!A:A,0))","v":"SY"}]
[null,null,null,null,null,null,"SUBJECT:",{"$f":"IF('Calc Cover Sheet'!B2=\"\",\"\",'Calc Cover Sheet'!B2)","v":"ESTIMATED QUANTITIES"}]
[null,null,null,"DESCRIPTION:",{"$f":"INDEX(QryItemE2019!C:C,MATCH(H5,QryItemE2019!A:A,0))","v":"SEALING OF CONCRETE SURFACES (EPOXY-URETHANE)"}]
[null,null,null,"SUPPLEMENTAL DESCRIPTION:","LIGHT NEUTRAL) (MSE WALLS)"]
[null,null,null,null,null,null,null,null,null,null,null,null,"SUBTOTAL","TOTAL",null,null,"GROUP","<<<<<Tag each subtotal value with a group from this column"]
[null,null,null,null,null,null,null,null,null,null,null,null,null,{"$f":"IF(M10=\"\",\"\",M10+MAX(N$9:N9))","v":""}]
[null,null,null,null,null,null,null,null,null,null,null,null,null,{"$f":"IF(M11=\"\",\"\",M11+MAX(N$10:N10))","v":""}]
[null,null,"MSE WALLS"]
[null,null,null,null,null,null,null,null,null,null,null,null,null,{"$f":"IF(M13=\"\",\"\",M13+MAX(N$10:N11))","v":""}]
[null,null,null,null,"Top of Coping Width = ",{"$f":"10/12","v":0.83333333333333337},"ft",null,null,null,null,null,null,{"$f":"IF(M14=\"\",\"\",M14+MAX(N$10:N13))","v":""}]
[null,null,null,null,null,null,null,null,null,null,null,null,null,{"$f":"IF(M15=\"\",\"\",M15+MAX(N$10:N14))","v":""}]
[null,null,"Rear Left",null,null,null,null,null,null,null,null,null,null,{"$f":"IF(M16=\"\",\"\",M16+MAX(N$10:N15))","v":""}]
[null,null,null,null,"Avg. Top of Wall Elev. = ",{"$f":"AVERAGE(806.98,805.19)","v":806.08500000000004},null,null,null,null,null,null,null,{"$f":"IF(M17=\"\",\"\",M17+MAX(N$10:N16))","v":""}]
[null,null,null,null,"Avg. Groundline Elev. = ",794,null,"*Estimate",null,null,null,null,null,{"$f":"IF(M18=\"\",\"\",M18+MAX(N$10:N16))","v":""}]
[null,null,null,null,"Length = ",48,"ft",null,null,null,null,null,null,{"$f":"IF(M19=\"\",\"\",M19+MAX(N$10:N18))","v":""}]
[null,null,"Rear Abutment"]
[null,null,null,null,"Avg. Top of Wall Elev. = ",799.55]
[null,null,null,null,"Avg. Groundline Elev. = ",784,null,"*Estimate",null,null,null,null,null,{"$f":"IF(M22=\"\",\"\",M22+MAX(N$10:N21))","v":""}]
[null,null,null,null,"Length = ",40,"ft",null,null,null,null,null,null,{"$f":"IF(M23=\"\",\"\",M23+MAX(N$10:N22))","v":""}]
[null,null,"Rear Right",null,null,null,null,null,null,null,null,null,null,{"$f":"IF(M24=\"\",\"\",M24+MAX(N$10:N23))","v":""}]
[null,null,null,null,"Avg. Top of Wall Elev. = ",{"$f":"AVERAGE(806.98,805.19)","v":806.08500000000004},null,null,null,null,null,null,null,{"$f":"IF(M25=\"\",\"\",M25+MAX(N$10:N24))","v":""}]
[null,null,null,null,"Avg. Groundline Elev. = ",794,null,"*Estimate",null,null,null,null,null,{"$f":"IF(M26=\"\",\"\",M26+MAX(N$10:N25))","v":""}]
[null,null,null,null,"Length = ",48,"ft"]
[null,null,"Fwd Left"]
[null,null,null,null,"Avg. Top of Wall Elev. = ",{"$f":"AVERAGE(816.78,814.29)","v":815.53499999999997},null,null,null,null,null,null,null,{"$f":"IF(M29=\"\",\"\",M29+MAX(N$9:N10))","v":""}]
[null,null,null,null,"Avg. Groundline Elev. = ",801,null,"*Estimate",null,null,null,null,null,{"$f":"IF(M30=\"\",\"\",M30+MAX(N$9:N29))","v":""}]
[null,null,null,null,"Length = ",65,"ft",null,null,null,null,null,null,{"$f":"IF(M31=\"\",\"\",M31+MAX(N$9:N9))","v":""}]
[null,null,"Fwd Abutment"]
[null,null,null,null,"Avg. Top of Wall Elev. = ",806.61]
[null,null,null,null,"Avg. Groundline Elev. = ",787,null,"*Estimate",null,null,null,null,null,{"$f":"IF(M34=\"\",\"\",M34+MAX(N$9:N30))","v":""}]
[null,null,null,null,"Length = ",40,"ft",null,null,null,null,null,null,{"$f":"IF(M35=\"\",\"\",M35+MAX(N$9:N34))","v":""}]
[null,null,"Fwd Right",null,null,null,null,null,null,null,null,null,null,{"$f":"IF(M36=\"\",\"\",M36+MAX(N$9:N35))","v":""}]
[null,null,null,null,"Avg. Top of Wall Elev. = ",{"$f":"AVERAGE(814.29,816.74)","v":815.51499999999999},null,null,null,null,null,null,null,{"$f":"IF(M37=\"\",\"\",M37+MAX(N$9:N36))","v":""}]
[null,null,null,null,"Avg. Groundline Elev. = ",801,null,"*Estimate"]
[null,null,null,null,"Length = ",65,"ft",null,null,null,null,null,null,{"$f":"IF(M39=\"\",\"\",M39+MAX(N$9:N38))","v":""}]
[null,null,null,null,null,null,null,null,null,null,null,null,null,{"$f":"IF(M40=\"\",\"\",M40+MAX(N$9:N39))","v":""}]
[null,null,null,null,"MSE Wall Sealant Area = ",{"$f":"(SUM(F19+F23+F27+F31+F35+F39)*F14+(F17-F18)*F19+(F21-F22)*F23+(F25-F26)*F27+(F29-F30)*F31+(F33-F34)*F35+(F37-F38)*F39) / 9","v":523.3122222222222},"SY",null,null,null,null,null,{"$f":"CEILING(F41,1)","v":524},{"$f":"IF(M41=\"\",\"\",M41+MAX(N$10:N40))","v":524},null,null,"GEN."]
[null,null,null,null,null,null,null,null,null,null,null,null,null,{"$f":"IF(M42=\"\",\"\",M42+MAX(N$10:N41))","v":""}]
[null,null,null,null,null,null,null,null,null,null,null,null,null,{"$f":"IF(M43=\"\",\"\",M43+MAX(N$10:N42))","v":""}]
[null,null,null,null,null,null,null,null,null,null,null,null,null,{"$f":"IF(M44=\"\",\"\",M44+MAX(N$10:N43))","v":""}]
[null,null,null,null,null,null,null,null,null,null,null,null,null,{"$f":"IF(M45=\"\",\"\",M45+MAX(N$10:N44))","v":""}]
[null,null,null,null,null,null,null,null,null,null,null,null,null,{"$f":"IF(M46=\"\",\"\",M46+MAX(N$10:N45))","v":""}]
[null,null,null,null,null,null,null,null,null,null,null,null,null,{"$f":"IF(M47=\"\",\"\",M47+MAX(N$10:N46))","v":""}]
[null,null,null,null,null,null,null,null,null,null,null,null,null,{"$f":"IF(M48=\"\",\"\",M48+MAX(N$10:N47))","v":""}]
[null,null,null,null,null,null,null,null,null,null,null,null,null,{"$f":"IF(M49=\"\",\"\",M49+MAX(N$10:N48))","v":""}]
[null,null,null,null,null,null,null,null,null,null,null,null,null,{"$f":"IF(M50=\"\",\"\",M50+MAX(N$10:N49))","v":""}]
[null,null,null,null,null,null,null,null,null,null,null,null,null,{"$f":"IF(M51=\"\",\"\",M51+MAX(N$10:N50))","v":""}]
[null,null,null,null,null,null,null,null,null,null,null,null,null,{"$f":"IF(M52=\"\",\"\",M52+MAX(N$10:N51))","v":""}]
[]
[]
[null,null,null,null,null,null,null,null,null,null,null,null,null,{"$f":"IF(M55=\"\",\"\",M55+MAX(N$10:N52))","v":""}]
[null,null,null,null,null,null,null,null,null,null,null,null,null,{"$f":"IF(M56=\"\",\"\",M56+MAX(N$10:N55))","v":""}]
[null,null,null,"SPECIAL INSTRUCTIONS:",{"$f":"INDEX(QryItemE2019!F:F,MATCH(H5,QryItemE2019!A:A,0))","v":""},null,null,null,null,null,null,null,"TOTAL",{"$f":"IF(K5=\"LS\",\"LS\",\" \")","v":" "}]

{"sheet":"512E10100 (Gray 1&2)","index":23,"n_rows":67,"n_cols":18,"rows_kept":67,"cut":false,"hidden":false,"merged":[[3,16,3,21],[4,7,4,8]]}
[null,null,null,null,null,null,"DESIGN:",{"$f":"IF('Calc Cover Sheet'!B11=\"\",\"\",'Calc Cover Sheet'!B11)","v":"BMV"},"DATE:",{"$f":"IF('Calc Cover Sheet'!D11=\"\",\"\",'Calc Cover Sheet'!D11)","v":"2024-04-19"},"UPDATE:",{"$f":"IF('Calc Cover Sheet'!B13=\"\",\"\",'Calc Cover Sheet'!B13)","v":""},"DATE:",{"$f":"IF('Calc Cover Sheet'!D13=\"\",\"\",'Calc Cover Sheet'!D13)","v":""}]
[null,null,null,null,null,null,"CHECK:",{"$f":"IF('Calc Cover Sheet'!B12=\"\",\"\",'Calc Cover Sheet'!B12)","v":"TLC"},"DATE:",{"$f":"IF('Calc Cover Sheet'!D12=\"\",\"\",'Calc Cover Sheet'!D12)","v":"2024-04-25"},"RECHECK:",{"$f":"IF('Calc Cover Sheet'!B14=\"\",\"\",'Calc Cover Sheet'!B14)","v":""},"DATE:",{"$f":"IF('Calc Cover Sheet'!D14=\"\",\"\",'Calc Cover Sheet'!D14)","v":""}]
[null,null,null,null,null,null,"STRUCTURE:",{"$f":"IF('Calc Cover Sheet'!B7=\"\",\"\",'Calc Cover Sheet'!B7)","v":"HAM-00145-0203"},null,null,"SFN:",{"$f":"IF('Calc Cover Sheet'!B3=\"\",\"\",'Calc Cover Sheet'!B3)","v":3108680},"PID:",{"$f":"IF('Calc Cover Sheet'!B9=\"\",\"\",'Calc Cover Sheet'!B9)","v":110563}]
[null,null,null,null,null,null,null,null,null,null,null,null,null,null,null,null,"Lump Sum Tags (Items with a \"LS\" Pay Unit can be tagged with one or several categories)"]
[null,null,null,null,null,null,"ITEM:",{"$f":"MID(RIGHT(CELL(\"filename\",D2),LEN(CELL(\"filename\",D2))-FIND(\"]\",CELL(\"filename\",D2))),1,9)","v":"512E10100"},null,"PAY UNIT:",{"$f":"INDEX(QryItemE2019!B:B,MATCH(H5,QryItemE2019!A:A,0))","v":"SY"}]
[null,null,null,null,null,null,"SUBJECT:",{"$f":"IF('Calc Cover Sheet'!B2=\"\",\"\",'Calc Cover Sheet'!B2)","v":"ESTIMATED QUANTITIES"}]
[null,null,null,"DESCRIPTION:",{"$f":"INDEX(QryItemE2019!C:C,MATCH(H5,QryItemE2019!A:A,0))","v":"SEALING OF CONCRETE SURFACES (EPOXY-URETHANE)"}]
[null,null,null,"SUPPLEMENTAL DESCRIPTION:","GRAY"]
[null,null,null,null,null,null,null,null,null,null,null,null,"SUBTOTAL","TOTAL",null,null,"GROUP","<<<<<Tag each subtotal value with a group from this column"]
[null,null,null,null,null,null,null,null,null,null,null,null,null,{"$f":"IF(M10=\"\",\"\",M10+MAX(N$9:N9))","v":""}]
[null,null,"BARRIER, DECK EDGE, EXT. BEAM EDGE AND BOTTOM",null,null,null,null,null,null,null,null,null,null,{"$f":"IF(M11=\"\",\"\",M11+MAX(N$10:N10))","v":""}]
[null,null,null,null,null,"Alt 1"]
[null,null,null,null,"Bridge Length = ",182.66669999999999,"ft",null,null,null,null,null,null,{"$f":"IF(M13=\"\",\"\",M13+MAX(N$10:N11))","v":""}]
[null,null,null,null,"Left Barrier Surface Length = ",{"$f":"3+1+3.76","v":7.76},"ft",null,null,null,null,null,null,{"$f":"IF(M14=\"\",\"\",M14+MAX(N$10:N13))","v":""}]
[null,null,null,null,"Right Barrier Surface Length = ",{"$f":"3.5+0.8333+SQRT(0.6667^2+3.5^2)","v":7.8962326249593886},"ft",null,null,null,null,null,null,{"$f":"IF(M15=\"\",\"\",M15+MAX(N$10:N14))","v":""}]
[null,null,null,null,"Exposed Left Deck Edges = ",{"$f":"0.16667+1+(3.5/12)+3.416667-0.5*4.0833","v":2.8333536666666661},"ft",null,null,null,null,null,null,{"$f":"IF(M16=\"\",\"\",M16+MAX(N$10:N15))","v":""}]
[null,null,null,null,"Exposed Right Deck Edges = ",{"$f":"0.16667+1+(2.375/12)+3.416667-0.5*4.0833","v":2.7396036666666661},"ft",null,null,null,null,null,null,{"$f":"IF(M17=\"\",\"\",M17+MAX(N$10:N16))","v":""}]
[null,null,null,null,"Sealed Beam Edge = ",null,"ft",null,null,null,null,null,null,{"$f":"IF(M18=\"\",\"\",M18+MAX(N$10:N16))","v":""}]
[null,null,null,null,null,null,null,null,null,null,null,null,null,{"$f":"IF(M19=\"\",\"\",M19+MAX(N$10:N18))","v":""}]
[null,null,null,null,"Barrier, Deck Edge Sealed Area = ",{"$f":"F13*((F14+F16+F18)+(F15+F17+F18))/9","v":430.87400815049654},"SY",null,null,null,null,null,{"$f":"CEILING(F20,1)","v":431},{"$f":"IF(M20=\"\",\"\",M20+MAX(N$10:N19))","v":431},null,null,"SUPER."]
[]
[null,null,"Approach Barrier",null,null,null,null,null,null,null,null,null,null,{"$f":"IF(M22=\"\",\"\",M22+MAX(N$10:N21))","v":""}]
[null,null,null,null,null,null,null,null,null,null,null,null,null,{"$f":"IF(M23=\"\",\"\",M23+MAX(N$10:N22))","v":""}]
[null,null,null,null,"Approach Barrier Length = ",{"$f":"311.6-F13","v":128.93330000000003},"ft",null,null,null,null,null,null,{"$f":"IF(M24=\"\",\"\",M24+MAX(N$10:N23))","v":""}]
[null,null,null,null,"Sealed Length = ",{"$f":"F14+F15","v":15.656232624959388},"ft",null,null,null,null,null,null,{"$f":"IF(M25=\"\",\"\",M25+MAX(N$10:N24))","v":""}]
[null,null,null,null,null,null,null,null,null,null,null,null,null,{"$f":"IF(M26=\"\",\"\",M26+MAX(N$10:N25))","v":""}]
[null,null,null,null,"Barrier, Deck Edge, Beam Sealed Area = ",{"$f":"F24*F25/9","v":224.28997087818632},"SY",null,null,null,null,null,{"$f":"CEILING(F27,1)","v":225},{"$f":"IF(M27=\"\",\"\",M27+MAX(N$10:N26))","v":656},null,null,"GEN."]
[]
[null,null,null,null,null,null,null,null,null,null,null,null,null,{"$f":"IF(M29=\"\",\"\",M29+MAX(N$10:N28))","v":""}]
[null,null,null,null,null,null,null,null,null,null,null,null,null,{"$f":"IF(M30=\"\",\"\",M30+MAX(N$10:N29))","v":""}]
[null,null,"ABUTMENTS",null,null,null,null,null,null,null,null,null,null,{"$f":"IF(M31=\"\",\"\",M31+MAX(N$10:N30))","v":""}]
[null,null,null,null,"Bearing Plates/HP height = ",{"$f":"9.5/12","v":0.79166666666666663},"ft",null,null,null,null,null,null,{"$f":"IF(M32=\"\",\"\",M32+MAX(N$10:N31))","v":""}]
[null,null,null,null,"Beam Height = ",{"$f":"42/12","v":3.5},"ft",null,null,null,null,null,null,{"$f":"IF(M33=\"\",\"\",M33+MAX(N$10:N32))","v":""}]
[null,null,null,null,"Haunch Height = ",{"$f":"3.25/12","v":0.27083333333333331},"ft",null,null,null,null,null,null,{"$f":"IF(M34=\"\",\"\",M34+MAX(N$10:N33))","v":""}]
[null,null,null,null,"Deck Thickness = ",{"$f":"8.5/12","v":0.70833333333333337},"ft",null,null,null,null,null,null,{"$f":"IF(M35=\"\",\"\",M35+MAX(N$10:N34))","v":""}]
[null,null,null,null,"Approach Thickness = ",1.4166700000000001,"ft",null,null,null,null,null,null,{"$f":"IF(M36=\"\",\"\",M36+MAX(N$10:N35))","v":""}]
[null,null,null,null,null,null,null,null,null,null,null,null,null,{"$f":"IF(M37=\"\",\"\",M37+MAX(N$10:N36))","v":""}]
[null,null,null,null,"Abut. Length = ",38.833300000000001,"ft",null,null,null,null,null,null,{"$f":"IF(M38=\"\",\"\",M38+MAX(N$10:N37))","v":""}]
[null,null,null,null,"Sealed Footing Depth = ",{"$f":"1.4167+0.5","v":1.9167000000000001},"ft","* Includes exposed front face",null,null,null,null,null,{"$f":"IF(M39=\"\",\"\",M39+MAX(N$10:N38))","v":""}]
[null,null,null,null,"Abut. Stem Height = ",2,"ft",null,null,null,null,null,null,{"$f":"IF(M40=\"\",\"\",M40+MAX(N$10:N39))","v":""}]
[null,null,null,null,"Sealed Diaphragm Height = ",{"$f":"F32+F33+F34+F35-F36","v":3.8541633333333332},"ft",null,null,null,null,null,null,{"$f":"IF(M41=\"\",\"\",M41+MAX(N$10:N40))","v":""}]
[null,null,null,null,null,null,null,null,null,null,null,null,null,{"$f":"IF(M42=\"\",\"\",M42+MAX(N$10:N41))","v":""}]
[null,null,null,null,"Abutment Sealed Area = ",{"$f":"2*F38*(F39+F40+F41)/9","v":67.059614907185178},"SY",null,null,null,null,null,{"$f":"F43","v":67.059614907185178},{"$f":"IF(M43=\"\",\"\",M43+MAX(N$10:N42))","v":723.05961490718516},null,null,"ABUT."]
[null,null,null,null,null,null,null,null,null,null,null,null,null,{"$f":"IF(M44=\"\",\"\",M44+MAX(N$10:N43))","v":""}]
[null,null,null,null,null,null,null,null,null,null,null,null,null,{"$f":"IF(M45=\"\",\"\",M45+MAX(N$10:N44))","v":""}]
[null,null,"PIER",null,null,null,null,null,null,null,null,null,null,{"$f":"IF(M46=\"\",\"\",M46+MAX(N$10:N45))","v":""}]
[null,null,null,null,"Bottom of Pier Cap Elev. = ",801.2,null,null,null,null,null,null,null,{"$f":"IF(M47=\"\",\"\",M47+MAX(N$10:N46))","v":""}]
[null,null,null,null,"Avg. Ground line at Columns = ",786,null,null,null,null,null,null,null,{"$f":"IF(M48=\"\",\"\",M48+MAX(N$10:N47))","v":""}]
[null,null,null,null,"Column Height = ",{"$f":"F47-F48","v":15.200000000000045},"ft",null,null,null,null,null,null,{"$f":"IF(M49=\"\",\"\",M49+MAX(N$10:N48))","v":""}]
[null,null,null,null,"Column Diameter = ",3,"ft",null,null,null,null,null,null,{"$f":"IF(M50=\"\",\"\",M50+MAX(N$10:N49))","v":""}]
[null,null,null,null,"# of Columns = ",3,null,null,null,null,null,null,null,{"$f":"IF(M51=\"\",\"\",M51+MAX(N$10:N50))","v":""}]
[null,null,null,null,null,null,null,null,null,null,null,null,null,{"$f":"IF(M52=\"\",\"\",M52+MAX(N$10:N51))","v":""}]
[null,null,null,null,"Pier Sealed Area = ",{"$f":"F51*PI()*F50*F49/9","v":47.752208334564997},"SY",null,null,null,null,null,{"$f":"F53","v":47.752208334564997},{"$f":"IF(M53=\"\",\"\",M53+MAX(N$10:N52))","v":770.81182324175018},null,null,"PIER"]
[null,null,null,null,null,null,null,null,null,null,null,null,null,{"$f":"IF(M54=\"\",\"\",M54+MAX(N$10:N53))","v":""}]
[null,null,null,null,null,null,null,null,null,null,null,null,null,{"$f":"IF(M55=\"\",\"\",M55+MAX(N$10:N54))","v":""}]
[null,null,null,null,null,null,null,null,null,null,null,null,null,{"$f":"IF(M56=\"\",\"\",M56+MAX(N$10:N55))","v":""}]
[null,null,null,null,null,null,null,null,null,null,null,null,null,{"$f":"IF(M57=\"\",\"\",M57+MAX(N$10:N56))","v":""}]
[null,null,null,null,null,null,null,null,null,null,null,null,null,{"$f":"IF(M58=\"\",\"\",M58+MAX(N$10:N57))","v":""}]
[null,null,null,null,null,null,null,null,null,null,null,null,null,{"$f":"IF(M59=\"\",\"\",M59+MAX(N$10:N58))","v":""}]
[null,null,null,null,null,null,null,null,null,null,null,null,null,{"$f":"IF(M60=\"\",\"\",M60+MAX(N$10:N59))","v":""}]
[null,null,null,null,null,null,null,null,null,null,null,null,null,{"$f":"IF(M61=\"\",\"\",M61+MAX(N$10:N60))","v":""}]
[null,null,null,null,null,null,null,null,null,null,null,null,null,{"$f":"IF(M62=\"\",\"\",M62+MAX(N$10:N61))","v":""}]
[null,null,null,null,null,null,null,null,null,null,null,null,null,{"$f":"IF(M63=\"\",\"\",M63+MAX(N$10:N62))","v":""}]
[null,null,null,null,null,null,null,null,null,null,null,null,null,{"$f":"IF(M64=\"\",\"\",M64+MAX(N$10:N63))","v":""}]
[null,null,null,null,null,null,null,null,null,null,null,null,null,{"$f":"IF(M65=\"\",\"\",M65+MAX(N$10:N64))","v":""}]
[null,null,null,null,null,null,null,null,null,null,null,null,null,{"$f":"IF(M66=\"\",\"\",M66+MAX(N$10:N65))","v":""}]
[null,null,null,"SPECIAL INSTRUCTIONS:",{"$f":"INDEX(QryItemE2019!F:F,MATCH(H5,QryItemE2019!A:A,0))","v":""},null,null,null,null,null,null,null,"TOTAL",{"$f":"IF(K5=\"LS\",\"LS\",\" \")","v":" "}]

{"sheet":"512E10100 (Gray Beams)","index":24,"n_rows":67,"n_cols":18,"rows_kept":67,"cut":false,"hidden":false,"merged":[[3,16,3,21],[4,7,4,8]]}
[null,null,null,null,null,null,"DESIGN:",{"$f":"IF('Calc Cover Sheet'!B11=\"\",\"\",'Calc Cover Sheet'!B11)","v":"BMV"},"DATE:",{"$f":"IF('Calc Cover Sheet'!D11=\"\",\"\",'Calc Cover Sheet'!D11)","v":"2024-04-19"},"UPDATE:",{"$f":"IF('Calc Cover Sheet'!B13=\"\",\"\",'Calc Cover Sheet'!B13)","v":""},"DATE:",{"$f":"IF('Calc Cover Sheet'!D13=\"\",\"\",'Calc Cover Sheet'!D13)","v":""}]
[null,null,null,null,null,null,"CHECK:",{"$f":"IF('Calc Cover Sheet'!B12=\"\",\"\",'Calc Cover Sheet'!B12)","v":"TLC"},"DATE:",{"$f":"IF('Calc Cover Sheet'!D12=\"\",\"\",'Calc Cover Sheet'!D12)","v":"2024-04-25"},"RECHECK:",{"$f":"IF('Calc Cover Sheet'!B14=\"\",\"\",'Calc Cover Sheet'!B14)","v":""},"DATE:",{"$f":"IF('Calc Cover Sheet'!D14=\"\",\"\",'Calc Cover Sheet'!D14)","v":""}]
[null,null,null,null,null,null,"STRUCTURE:",{"$f":"IF('Calc Cover Sheet'!B7=\"\",\"\",'Calc Cover Sheet'!B7)","v":"HAM-00145-0203"},null,null,"SFN:",{"$f":"IF('Calc Cover Sheet'!B3=\"\",\"\",'Calc Cover Sheet'!B3)","v":3108680},"PID:",{"$f":"IF('Calc Cover Sheet'!B9=\"\",\"\",'Calc Cover Sheet'!B9)","v":110563}]
[null,null,null,null,null,null,null,null,null,null,null,null,null,null,null,null,"Lump Sum Tags (Items with a \"LS\" Pay Unit can be tagged with one or several categories)"]
[null,null,null,null,null,null,"ITEM:",{"$f":"MID(RIGHT(CELL(\"filename\",D2),LEN(CELL(\"filename\",D2))-FIND(\"]\",CELL(\"filename\",D2))),1,9)","v":"512E10100"},null,"PAY UNIT:",{"$f":"INDEX(QryItemE2019!B:B,MATCH(H5,QryItemE2019!A:A,0))","v":"SY"}]
[null,null,null,null,null,null,"SUBJECT:",{"$f":"IF('Calc Cover Sheet'!B2=\"\",\"\",'Calc Cover Sheet'!B2)","v":"ESTIMATED QUANTITIES"}]
[null,null,null,"DESCRIPTION:",{"$f":"INDEX(QryItemE2019!C:C,MATCH(H5,QryItemE2019!A:A,0))","v":"SEALING OF CONCRETE SURFACES (EPOXY-URETHANE)"}]
[null,null,null,"SUPPLEMENTAL DESCRIPTION:","GRAY) (FASCIA BEAMS) (ALTERNATIVE 1"]
[null,null,null,null,null,null,null,null,null,null,null,null,"SUBTOTAL","TOTAL",null,null,"GROUP","<<<<<Tag each subtotal value with a group from this column"]
[null,null,null,null,null,null,null,null,null,null,null,null,null,{"$f":"IF(M10=\"\",\"\",M10+MAX(N$9:N9))","v":""}]
[null,null,"EXT. BEAM EDGE AND BOTTOM",null,null,null,null,null,null,null,null,null,null,{"$f":"IF(M11=\"\",\"\",M11+MAX(N$10:N10))","v":""}]
[null,null,null,null,null,"Alt 2"]
[null,null,null,null,"Bridge Length = ",182.66669999999999,"ft",null,null,null,null,null,null,{"$f":"IF(M13=\"\",\"\",M13+MAX(N$10:N11))","v":""}]
[null,null,null,null,"Left Barrier Surface Length = ",0,"ft",null,null,null,null,null,null,{"$f":"IF(M14=\"\",\"\",M14+MAX(N$10:N13))","v":""}]
[null,null,null,null,"Right Barrier Surface Length = ",0,"ft",null,null,null,null,null,null,{"$f":"IF(M15=\"\",\"\",M15+MAX(N$10:N14))","v":""}]
[null,null,null,null,"Exposed Left Deck Edges = ",0,"ft",null,null,null,null,null,null,{"$f":"IF(M16=\"\",\"\",M16+MAX(N$10:N15))","v":""}]
[null,null,null,null,"Exposed Right Deck Edges = ",0,"ft",null,null,null,null,null,null,{"$f":"IF(M17=\"\",\"\",M17+MAX(N$10:N16))","v":""}]
[null,null,null,null,"Sealed Beam Edge = ",{"$f":"(SQRT(3^2+17.5^2)+SQRT(3^2+3^2)+16.5+SQRT(2^2+2^2)+SQRT(7^2+14^2)+5.5+40+5.5)/12","v":8.9982353799107262},"ft",null,null,null,null,null,null,{"$f":"IF(M18=\"\",\"\",M18+MAX(N$10:N16))","v":""}]
[null,null,null,null,null,null,null,null,null,null,null,null,null,{"$f":"IF(M19=\"\",\"\",M19+MAX(N$10:N18))","v":""}]
[null,null,null,null,"Beam Sealed Area = ",{"$f":"F13*((F14+F16+F18)+(F15+F17+F18))/9","v":365.26176948256415},"SY",null,null,null,null,null,{"$f":"CEILING(F20,1)","v":366},{"$f":"IF(M20=\"\",\"\",M20+MAX(N$10:N19))","v":366},null,null,"SUPER."]
[]
[]
[]
[]
[]
[]
[]
[]
[]
[]
[]
[]
[]
[]
[]
[]
[]
[]
[]
[]
[]
[]
[]
[]
[]
[]
[]
[]
[]
[]
[]
[]
[]
[]
[null,null,null,null,null,null,null,null,null,null,null,null,null,{"$f":"IF(M55=\"\",\"\",M55+MAX(N$10:N54))","v":""}]
[null,null,null,null,null,null,null,null,null,null,null,null,null,{"$f":"IF(M56=\"\",\"\",M56+MAX(N$10:N55))","v":""}]
[null,null,null,null,null,null,null,null,null,null,null,null,null,{"$f":"IF(M57=\"\",\"\",M57+MAX(N$10:N56))","v":""}]
[null,null,null,null,null,null,null,null,null,null,null,null,null,{"$f":"IF(M58=\"\",\"\",M58+MAX(N$10:N57))","v":""}]
[null,null,null,null,null,null,null,null,null,null,null,null,null,{"$f":"IF(M59=\"\",\"\",M59+MAX(N$10:N58))","v":""}]
[null,null,null,null,null,null,null,null,null,null,null,null,null,{"$f":"IF(M60=\"\",\"\",M60+MAX(N$10:N59))","v":""}]
[null,null,null,null,null,null,null,null,null,null,null,null,null,{"$f":"IF(M61=\"\",\"\",M61+MAX(N$10:N60))","v":""}]
[null,null,null,null,null,null,null,null,null,null,null,null,null,{"$f":"IF(M62=\"\",\"\",M62+MAX(N$10:N61))","v":""}]
[null,null,null,null,null,null,null,null,null,null,null,null,null,{"$f":"IF(M63=\"\",\"\",M63+MAX(N$10:N62))","v":""}]
[null,null,null,null,null,null,null,null,null,null,null,null,null,{"$f":"IF(M64=\"\",\"\",M64+MAX(N$10:N63))","v":""}]
[null,null,null,null,null,null,null,null,null,null,null,null,null,{"$f":"IF(M65=\"\",\"\",M65+MAX(N$10:N64))","v":""}]
[null,null,null,null,null,null,null,null,null,null,null,null,null,{"$f":"IF(M66=\"\",\"\",M66+MAX(N$10:N65))","v":""}]
[null,null,null,"SPECIAL INSTRUCTIONS:",{"$f":"INDEX(QryItemE2019!F:F,MATCH(H5,QryItemE2019!A:A,0))","v":""},null,null,null,null,null,null,null,"TOTAL",{"$f":"IF(K5=\"LS\",\"LS\",\" \")","v":" "}]

{"sheet":"512E10100 (Green Beams)","index":25,"n_rows":36,"n_cols":18,"rows_kept":36,"cut":false,"hidden":false,"merged":[[3,16,3,21],[4,7,4,8]]}
[null,null,null,null,null,null,"DESIGN:",{"$f":"IF('Calc Cover Sheet'!B11=\"\",\"\",'Calc Cover Sheet'!B11)","v":"BMV"},"DATE:",{"$f":"IF('Calc Cover Sheet'!D11=\"\",\"\",'Calc Cover Sheet'!D11)","v":"2024-04-19"},"UPDATE:",{"$f":"IF('Calc Cover Sheet'!B13=\"\",\"\",'Calc Cover Sheet'!B13)","v":""},"DATE:",{"$f":"IF('Calc Cover Sheet'!D13=\"\",\"\",'Calc Cover Sheet'!D13)","v":""}]
[null,null,null,null,null,null,"CHECK:",{"$f":"IF('Calc Cover Sheet'!B12=\"\",\"\",'Calc Cover Sheet'!B12)","v":"TLC"},"DATE:",{"$f":"IF('Calc Cover Sheet'!D12=\"\",\"\",'Calc Cover Sheet'!D12)","v":"2024-04-25"},"RECHECK:",{"$f":"IF('Calc Cover Sheet'!B14=\"\",\"\",'Calc Cover Sheet'!B14)","v":""},"DATE:",{"$f":"IF('Calc Cover Sheet'!D14=\"\",\"\",'Calc Cover Sheet'!D14)","v":""}]
[null,null,null,null,null,null,"STRUCTURE:",{"$f":"IF('Calc Cover Sheet'!B7=\"\",\"\",'Calc Cover Sheet'!B7)","v":"HAM-00145-0203"},null,null,"SFN:",{"$f":"IF('Calc Cover Sheet'!B3=\"\",\"\",'Calc Cover Sheet'!B3)","v":3108680},"PID:",{"$f":"IF('Calc Cover Sheet'!B9=\"\",\"\",'Calc Cover Sheet'!B9)","v":110563}]
[null,null,null,null,null,null,null,null,null,null,null,null,null,null,null,null,"Lump Sum Tags (Items with a \"LS\" Pay Unit can be tagged with one or several categories)"]
[null,null,null,null,null,null,"ITEM:",{"$f":"MID(RIGHT(CELL(\"filename\",D2),LEN(CELL(\"filename\",D2))-FIND(\"]\",CELL(\"filename\",D2))),1,9)","v":"512E10100"},null,"PAY UNIT:",{"$f":"INDEX(QryItemE2019!B:B,MATCH(H5,QryItemE2019!A:A,0))","v":"SY"}]
[null,null,null,null,null,null,"SUBJECT:",{"$f":"IF('Calc Cover Sheet'!B2=\"\",\"\",'Calc Cover Sheet'!B2)","v":"ESTIMATED QUANTITIES"}]
[null,null,null,"DESCRIPTION:",{"$f":"INDEX(QryItemE2019!C:C,MATCH(H5,QryItemE2019!A:A,0))","v":"SEALING OF CONCRETE SURFACES (EPOXY-URETHANE)"}]
[null,null,null,"SUPPLEMENTAL DESCRIPTION:","DARK GREEN) (FASCIA BEAMS) (ALTERNATIVE 2"]
[null,null,null,null,null,null,null,null,null,null,null,null,"SUBTOTAL","TOTAL",null,null,"GROUP","<<<<<Tag each subtotal value with a group from this column"]
[null,null,null,null,null,null,null,null,null,null,null,null,null,{"$f":"IF(M10=\"\",\"\",M10+MAX(N$9:N9))","v":""}]
[null,null,"EXT. BEAM EDGE AND BOTTOM",null,null,null,null,null,null,null,null,null,null,{"$f":"IF(M11=\"\",\"\",M11+MAX(N$10:N10))","v":""}]
[null,null,null,null,null,"Alt 2"]
[null,null,null,null,"Bridge Length = ",182.66669999999999,"ft",null,null,null,null,null,null,{"$f":"IF(M13=\"\",\"\",M13+MAX(N$10:N11))","v":""}]
[null,null,null,null,"Left Barrier Surface Length = ",0,"ft",null,null,null,null,null,null,{"$f":"IF(M14=\"\",\"\",M14+MAX(N$10:N13))","v":""}]
[null,null,null,null,"Right Barrier Surface Length = ",0,"ft",null,null,null,null,null,null,{"$f":"IF(M15=\"\",\"\",M15+MAX(N$10:N14))","v":""}]
[null,null,null,null,"Exposed Left Deck Edges = ",0,"ft",null,null,null,null,null,null,{"$f":"IF(M16=\"\",\"\",M16+MAX(N$10:N15))","v":""}]
[null,null,null,null,"Exposed Right Deck Edges = ",0,"ft",null,null,null,null,null,null,{"$f":"IF(M17=\"\",\"\",M17+MAX(N$10:N16))","v":""}]
[null,null,null,null,"Sealed Beam Edge = ",{"$f":"(SQRT(3^2+17.5^2)+SQRT(3^2+3^2)+16.5+SQRT(2^2+2^2)+SQRT(7^2+14^2)+5.5+40+5.5)/12","v":8.9982353799107262},"ft",null,null,null,null,null,null,{"$f":"IF(M18=\"\",\"\",M18+MAX(N$10:N16))","v":""}]
[null,null,null,null,null,null,null,null,null,null,null,null,null,{"$f":"IF(M19=\"\",\"\",M19+MAX(N$10:N18))","v":""}]
[null,null,null,null,"Beam Sealed Area = ",{"$f":"F13*((F14+F16+F18)+(F15+F17+F18))/9","v":365.26176948256415},"SY",null,null,null,null,null,{"$f":"CEILING(F20,1)","v":366},{"$f":"IF(M20=\"\",\"\",M20+MAX(N$10:N19))","v":366},null,null,"SUPER."]
[]
[null,null,null,null,null,null,null,null,null,null,null,null,null,{"$f":"IF(M22=\"\",\"\",M22+MAX(N$10:N21))","v":""}]
[null,null,null,null,null,null,null,null,null,null,null,null,null,{"$f":"IF(M23=\"\",\"\",M23+MAX(N$10:N22))","v":""}]
[null,null,null,null,null,null,null,null,null,null,null,null,null,{"$f":"IF(M24=\"\",\"\",M24+MAX(N$10:N23))","v":""}]
[null,null,null,null,null,null,null,null,null,null,null,null,null,{"$f":"IF(M25=\"\",\"\",M25+MAX(N$10:N24))","v":""}]
[null,null,null,null,null,null,null,null,null,null,null,null,null,{"$f":"IF(M26=\"\",\"\",M26+MAX(N$10:N25))","v":""}]
[null,null,null,null,null,null,null,null,null,null,null,null,null,{"$f":"IF(M27=\"\",\"\",M27+MAX(N$10:N26))","v":""}]
[null,null,null,null,null,null,null,null,null,null,null,null,null,{"$f":"IF(M28=\"\",\"\",M28+MAX(N$10:N27))","v":""}]
[null,null,null,null,null,null,null,null,null,null,null,null,null,{"$f":"IF(M29=\"\",\"\",M29+MAX(N$10:N28))","v":""}]
[null,null,null,null,null,null,null,null,null,null,null,null,null,{"$f":"IF(M30=\"\",\"\",M30+MAX(N$10:N29))","v":""}]
[null,null,null,null,null,null,null,null,null,null,null,null,null,{"$f":"IF(M31=\"\",\"\",M31+MAX(N$10:N30))","v":""}]
[null,null,null,null,null,null,null,null,null,null,null,null,null,{"$f":"IF(M32=\"\",\"\",M32+MAX(N$10:N31))","v":""}]
[null,null,null,null,null,null,null,null,null,null,null,null,null,{"$f":"IF(M33=\"\",\"\",M33+MAX(N$10:N32))","v":""}]
[null,null,null,null,null,null,null,null,null,null,null,null,null,{"$f":"IF(M34=\"\",\"\",M34+MAX(N$10:N33))","v":""}]
[null,null,null,null,null,null,null,null,null,null,null,null,null,{"$f":"IF(M35=\"\",\"\",M35+MAX(N$10:N34))","v":""}]
[null,null,null,"SPECIAL INSTRUCTIONS:",{"$f":"INDEX(QryItemE2019!F:F,MATCH(H5,QryItemE2019!A:A,0))","v":""},null,null,null,null,null,null,null,"TOTAL",{"$f":"IF(K5=\"LS\",\"LS\",\" \")","v":" "}]

{"sheet":"515E15080","index":26,"n_rows":64,"n_cols":18,"rows_kept":64,"cut":false,"hidden":false,"merged":[[3,16,3,21],[4,7,4,8]]}
[null,null,null,null,null,null,"DESIGN:",{"$f":"IF('Calc Cover Sheet'!B11=\"\",\"\",'Calc Cover Sheet'!B11)","v":"BMV"},"DATE:",{"$f":"IF('Calc Cover Sheet'!D11=\"\",\"\",'Calc Cover Sheet'!D11)","v":"2024-04-19"},"UPDATE:",{"$f":"IF('Calc Cover Sheet'!B13=\"\",\"\",'Calc Cover Sheet'!B13)","v":""},"DATE:",{"$f":"IF('Calc Cover Sheet'!D13=\"\",\"\",'Calc Cover Sheet'!D13)","v":""}]
[null,null,null,null,null,null,"CHECK:",{"$f":"IF('Calc Cover Sheet'!B12=\"\",\"\",'Calc Cover Sheet'!B12)","v":"TLC"},"DATE:",{"$f":"IF('Calc Cover Sheet'!D12=\"\",\"\",'Calc Cover Sheet'!D12)","v":"2024-04-25"},"RECHECK:",{"$f":"IF('Calc Cover Sheet'!B14=\"\",\"\",'Calc Cover Sheet'!B14)","v":""},"DATE:",{"$f":"IF('Calc Cover Sheet'!D14=\"\",\"\",'Calc Cover Sheet'!D14)","v":""}]
[null,null,null,null,null,null,"STRUCTURE:",{"$f":"IF('Calc Cover Sheet'!B7=\"\",\"\",'Calc Cover Sheet'!B7)","v":"HAM-00145-0203"},null,null,"SFN:",{"$f":"IF('Calc Cover Sheet'!B3=\"\",\"\",'Calc Cover Sheet'!B3)","v":3108680},"PID:",{"$f":"IF('Calc Cover Sheet'!B9=\"\",\"\",'Calc Cover Sheet'!B9)","v":110563}]
[null,null,null,null,null,null,null,null,null,null,null,null,null,null,null,null,"Lump Sum Tags (Items with a \"LS\" Pay Unit can be tagged with one or several categories)"]
[null,null,null,null,null,null,"ITEM:",{"$f":"MID(RIGHT(CELL(\"filename\",D2),LEN(CELL(\"filename\",D2))-FIND(\"]\",CELL(\"filename\",D2))),1,9)","v":"515E15080"},null,"PAY UNIT:",{"$f":"INDEX(QryItemE2019!B:B,MATCH(H5,QryItemE2019!A:A,0))","v":"EACH"}]
[null,null,null,null,null,null,"SUBJECT:",{"$f":"IF('Calc Cover Sheet'!B2=\"\",\"\",'Calc Cover Sheet'!B2)","v":"ESTIMATED QUANTITIES"}]
[null,null,null,"DESCRIPTION:",{"$f":"INDEX(QryItemE2019!C:C,MATCH(H5,QryItemE2019!A:A,0))","v":"DRAPED STRAND PRESTRESSED CONCRETE BRIDGE I-BEAM MEMBERS, LEVEL 3, TYPE WF42-49"}]
[null,null,null,"SUPPLEMENTAL DESCRIPTION:","90'-7\" LENGTH"]
[null,null,null,null,null,null,null,null,null,null,null,null,"SUBTOTAL","TOTAL",null,null,"GROUP","<<<<<Tag each subtotal value with a group from this column"]
[null,null,null,null,null,null,null,null,null,null,null,null,null,{"$f":"IF(M10=\"\",\"\",M10+MAX(N$9:N9))","v":""}]
[null,null,null,null,null,null,null,null,null,null,null,null,null,{"$f":"IF(M11=\"\",\"\",M11+MAX(N$9:N10))","v":""}]
[null,null,null,"Beam Lines = ",5,"each",null,null,null,null,null,null,null,{"$f":"IF(M12=\"\",\"\",M12+MAX(N$9:N11))","v":""}]
[null,null,null,"Spans = ",2,null,null,null,null,null,null,null,null,{"$f":"IF(M13=\"\",\"\",M13+MAX(N$9:N12))","v":""}]
[null,null,null,null,null,null,null,null,null,null,null,null,null,{"$f":"IF(M14=\"\",\"\",M14+MAX(N$9:N13))","v":""}]
[null,null,null,"Total = ",{"$f":"E12*E13","v":10},"each",null,null,null,null,null,null,{"$f":"E15","v":10},{"$f":"IF(M15=\"\",\"\",M15+MAX(N$9:N14))","v":10},null,null,"SUPER."]
[null,null,null,null,null,null,null,null,null,null,null,null,null,{"$f":"IF(M16=\"\",\"\",M16+MAX(N$9:N15))","v":""}]
[null,null,null,null,null,null,null,null,null,null,null,null,null,{"$f":"IF(M17=\"\",\"\",M17+MAX(N$9:N16))","v":""}]
[null,null,null,null,null,null,null,null,null,null,null,null,null,{"$f":"IF(M18=\"\",\"\",M18+MAX(N$9:N17))","v":""}]
[]
[null,null,null,null,null,null,null,null,null,null,null,null,null,{"$f":"IF(M20=\"\",\"\",M20+MAX(N$9:N19))","v":""}]
[null,null,null,null,null,null,null,null,null,null,null,null,null,{"$f":"IF(M21=\"\",\"\",M21+MAX(N$9:N20))","v":""}]
[null,null,null,null,null,null,null,null,null,null,null,null,null,{"$f":"IF(M22=\"\",\"\",M22+MAX(N$9:N21))","v":""}]
[null,null,null,null,null,null,null,null,null,null,null,null,null,{"$f":"IF(M23=\"\",\"\",M23+MAX(N$9:N22))","v":""}]
[null,null,null,null,null,null,null,null,null,null,null,null,null,{"$f":"IF(M24=\"\",\"\",M24+MAX(N$9:N23))","v":""}]
[null,null,null,null,null,null,null,null,null,null,null,null,null,{"$f":"IF(M25=\"\",\"\",M25+MAX(N$9:N24))","v":""}]
[null,null,null,null,null,null,null,null,null,null,null,null,null,{"$f":"IF(M26=\"\",\"\",M26+MAX(N$9:N25))","v":""}]
[null,null,null,null,null,null,null,null,null,null,null,null,null,{"$f":"IF(M27=\"\",\"\",M27+MAX(N$9:N26))","v":""}]
[null,null,null,null,null,null,null,null,null,null,null,null,null,{"$f":"IF(M28=\"\",\"\",M28+MAX(N$9:N27))","v":""}]
[null,null,null,null,null,null,null,null,null,null,null,null,null,{"$f":"IF(M29=\"\",\"\",M29+MAX(N$9:N28))","v":""}]
[null,null,null,null,null,null,null,null,null,null,null,null,null,{"$f":"IF(M30=\"\",\"\",M30+MAX(N$9:N29))","v":""}]
[null,null,null,null,null,null,null,null,null,null,null,null,null,{"$f":"IF(M31=\"\",\"\",M31+MAX(N$9:N30))","v":""}]
[null,null,null,null,null,null,null,null,null,null,null,null,null,{"$f":"IF(M32=\"\",\"\",M32+MAX(N$9:N31))","v":""}]
[null,null,null,null,null,null,null,null,null,null,null,null,null,{"$f":"IF(M33=\"\",\"\",M33+MAX(N$9:N32))","v":""}]
[null,null,null,null,null,null,null,null,null,null,null,null,null,{"$f":"IF(M34=\"\",\"\",M34+MAX(N$9:N33))","v":""}]
[null,null,null,null,null,null,null,null,null,null,null,null,null,{"$f":"IF(M35=\"\",\"\",M35+MAX(N$9:N34))","v":""}]
[null,null,null,null,null,null,null,null,null,null,null,null,null,{"$f":"IF(M36=\"\",\"\",M36+MAX(N$9:N35))","v":""}]
[null,null,null,null,null,null,null,null,null,null,null,null,null,{"$f":"IF(M37=\"\",\"\",M37+MAX(N$10:N36))","v":""}]
[null,null,null,null,null,null,null,null,null,null,null,null,null,{"$f":"IF(M38=\"\",\"\",M38+MAX(N$10:N37))","v":""}]
[null,null,null,null,null,null,null,null,null,null,null,null,null,{"$f":"IF(M39=\"\",\"\",M39+MAX(N$10:N38))","v":""}]
[null,null,null,null,null,null,null,null,null,null,null,null,null,{"$f":"IF(M40=\"\",\"\",M40+MAX(N$10:N39))","v":""}]
[null,null,null,null,null,null,null,null,null,null,null,null,null,{"$f":"IF(M41=\"\",\"\",M41+MAX(N$10:N40))","v":""}]
[null,null,null,null,null,null,null,null,null,null,null,null,null,{"$f":"IF(M42=\"\",\"\",M42+MAX(N$10:N41))","v":""}]
[null,null,null,null,null,null,null,null,null,null,null,null,null,{"$f":"IF(M43=\"\",\"\",M43+MAX(N$10:N42))","v":""}]
[null,null,null,null,null,null,null,null,null,null,null,null,null,{"$f":"IF(M44=\"\",\"\",M44+MAX(N$10:N43))","v":""}]
[null,null,null,null,null,null,null,null,null,null,null,null,null,{"$f":"IF(M45=\"\",\"\",M45+MAX(N$10:N44))","v":""}]
[null,null,null,null,null,null,null,null,null,null,null,null,null,{"$f":"IF(M46=\"\",\"\",M46+MAX(N$10:N45))","v":""}]
[null,null,null,null,null,null,null,null,null,null,null,null,null,{"$f":"IF(M47=\"\",\"\",M47+MAX(N$10:N46))","v":""}]
[null,null,null,null,null,null,null,null,null,null,null,null,null,{"$f":"IF(M48=\"\",\"\",M48+MAX(N$10:N47))","v":""}]
[null,null,null,null,null,null,null,null,null,null,null,null,null,{"$f":"IF(M49=\"\",\"\",M49+MAX(N$10:N48))","v":""}]
[null,null,null,null,null,null,null,null,null,null,null,null,null,{"$f":"IF(M50=\"\",\"\",M50+MAX(N$10:N49))","v":""}]
[null,null,null,null,null,null,null,null,null,null,null,null,null,{"$f":"IF(M51=\"\",\"\",M51+MAX(N$10:N50))","v":""}]
[null,null,null,null,null,null,null,null,null,null,null,null,null,{"$f":"IF(M52=\"\",\"\",M52+MAX(N$10:N51))","v":""}]
[null,null,null,null,null,null,null,null,null,null,null,null,null,{"$f":"IF(M53=\"\",\"\",M53+MAX(N$10:N52))","v":""}]
[null,null,null,null,null,null,null,null,null,null,null,null,null,{"$f":"IF(M54=\"\",\"\",M54+MAX(N$10:N53))","v":""}]
[null,null,null,null,null,null,null,null,null,null,null,null,null,{"$f":"IF(M55=\"\",\"\",M55+MAX(N$10:N54))","v":""}]
[null,null,null,null,null,null,null,null,null,null,null,null,null,{"$f":"IF(M56=\"\",\"\",M56+MAX(N$10:N55))","v":""}]
[null,null,null,null,null,null,null,null,null,null,null,null,null,{"$f":"IF(M57=\"\",\"\",M57+MAX(N$10:N56))","v":""}]
[null,null,null,null,null,null,null,null,null,null,null,null,null,{"$f":"IF(M58=\"\",\"\",M58+MAX(N$10:N57))","v":""}]
[null,null,null,null,null,null,null,null,null,null,null,null,null,{"$f":"IF(M59=\"\",\"\",M59+MAX(N$10:N58))","v":""}]
[null,null,null,null,null,null,null,null,null,null,null,null,null,{"$f":"IF(M60=\"\",\"\",M60+MAX(N$10:N59))","v":""}]
[null,null,null,null,null,null,null,null,null,null,null,null,null,{"$f":"IF(M61=\"\",\"\",M61+MAX(N$10:N60))","v":""}]
[null,null,null,null,null,null,null,null,null,null,null,null,null,{"$f":"IF(M62=\"\",\"\",M62+MAX(N$10:N61))","v":""}]
[null,null,null,null,null,null,null,null,null,null,null,null,null,{"$f":"IF(M63=\"\",\"\",M63+MAX(N$10:N62))","v":""}]
[null,null,null,"SPECIAL INSTRUCTIONS:",{"$f":"INDEX(QryItemE2019!F:F,MATCH(H5,QryItemE2019!A:A,0))","v":"SPECIFY BEAM LENGTH"},null,null,null,null,null,null,null,"TOTAL",{"$f":"IF(K5=\"LS\",\"LS\",\" \")","v":" "}]

{"sheet":"515E20000","index":27,"n_rows":64,"n_cols":18,"rows_kept":64,"cut":false,"hidden":false,"merged":[[3,16,3,21],[4,7,4,8]]}
[null,null,null,null,null,null,"DESIGN:",{"$f":"IF('Calc Cover Sheet'!B11=\"\",\"\",'Calc Cover Sheet'!B11)","v":"BMV"},"DATE:",{"$f":"IF('Calc Cover Sheet'!D11=\"\",\"\",'Calc Cover Sheet'!D11)","v":"2024-04-19"},"UPDATE:",{"$f":"IF('Calc Cover Sheet'!B13=\"\",\"\",'Calc Cover Sheet'!B13)","v":""},"DATE:",{"$f":"IF('Calc Cover Sheet'!D13=\"\",\"\",'Calc Cover Sheet'!D13)","v":""}]
[null,null,null,null,null,null,"CHECK:",{"$f":"IF('Calc Cover Sheet'!B12=\"\",\"\",'Calc Cover Sheet'!B12)","v":"TLC"},"DATE:",{"$f":"IF('Calc Cover Sheet'!D12=\"\",\"\",'Calc Cover Sheet'!D12)","v":"2024-04-25"},"RECHECK:",{"$f":"IF('Calc Cover Sheet'!B14=\"\",\"\",'Calc Cover Sheet'!B14)","v":""},"DATE:",{"$f":"IF('Calc Cover Sheet'!D14=\"\",\"\",'Calc Cover Sheet'!D14)","v":""}]
[null,null,null,null,null,null,"STRUCTURE:",{"$f":"IF('Calc Cover Sheet'!B7=\"\",\"\",'Calc Cover Sheet'!B7)","v":"HAM-00145-0203"},null,null,"SFN:",{"$f":"IF('Calc Cover Sheet'!B3=\"\",\"\",'Calc Cover Sheet'!B3)","v":3108680},"PID:",{"$f":"IF('Calc Cover Sheet'!B9=\"\",\"\",'Calc Cover Sheet'!B9)","v":110563}]
[null,null,null,null,null,null,null,null,null,null,null,null,null,null,null,null,"Lump Sum Tags (Items with a \"LS\" Pay Unit can be tagged with one or several categories)"]
[null,null,null,null,null,null,"ITEM:",{"$f":"MID(RIGHT(CELL(\"filename\",D2),LEN(CELL(\"filename\",D2))-FIND(\"]\",CELL(\"filename\",D2))),1,9)","v":"515E20000"},null,"PAY UNIT:",{"$f":"INDEX(QryItemE2019!B:B,MATCH(H5,QryItemE2019!A:A,0))","v":"EACH"}]
[null,null,null,null,null,null,"SUBJECT:",{"$f":"IF('Calc Cover Sheet'!B2=\"\",\"\",'Calc Cover Sheet'!B2)","v":"ESTIMATED QUANTITIES"}]
[null,null,null,"DESCRIPTION:",{"$f":"INDEX(QryItemE2019!C:C,MATCH(H5,QryItemE2019!A:A,0))","v":"INTERMEDIATE DIAPHRAGMS"}]
[null,null,null,"SUPPLEMENTAL DESCRIPTION:"]
[null,null,null,null,null,null,null,null,null,null,null,null,"SUBTOTAL","TOTAL",null,null,"GROUP","<<<<<Tag each subtotal value with a group from this column"]
[null,null,null,null,null,null,null,null,null,null,null,null,null,{"$f":"IF(M10=\"\",\"\",M10+MAX(N$9:N9))","v":""}]
[null,null,null,null,null,null,null,null,null,null,null,null,null,{"$f":"IF(M11=\"\",\"\",M11+MAX(N$9:N10))","v":""}]
[null,null,null,"Beam Spaces = ",4,null,null,null,null,null,null,null,null,{"$f":"IF(M12=\"\",\"\",M12+MAX(N$9:N11))","v":""}]
[null,null,null,"Spans = ",2,null,null,null,null,null,null,null,null,{"$f":"IF(M13=\"\",\"\",M13+MAX(N$9:N12))","v":""}]
[null,null,null,"Diaphragms per Span = ",3,null,null,null,null,null,null,null,null,{"$f":"IF(M14=\"\",\"\",M14+MAX(N$9:N13))","v":""}]
[null,null,null,null,null,null,null,null,null,null,null,null,null,{"$f":"IF(M15=\"\",\"\",M15+MAX(N$9:N14))","v":""}]
[null,null,null,"Total = ",{"$f":"E12*E13*E14","v":24},"each",null,null,null,null,null,null,{"$f":"E16","v":24},{"$f":"IF(M16=\"\",\"\",M16+MAX(N$9:N15))","v":24},null,null,"SUPER."]
[null,null,null,null,null,null,null,null,null,null,null,null,null,{"$f":"IF(M17=\"\",\"\",M17+MAX(N$9:N16))","v":""}]
[null,null,null,null,null,null,null,null,null,null,null,null,null,{"$f":"IF(M18=\"\",\"\",M18+MAX(N$9:N17))","v":""}]
[]
[null,null,null,null,null,null,null,null,null,null,null,null,null,{"$f":"IF(M20=\"\",\"\",M20+MAX(N$9:N19))","v":""}]
[null,null,null,null,null,null,null,null,null,null,null,null,null,{"$f":"IF(M21=\"\",\"\",M21+MAX(N$9:N20))","v":""}]
[null,null,null,null,null,null,null,null,null,null,null,null,null,{"$f":"IF(M22=\"\",\"\",M22+MAX(N$9:N21))","v":""}]
[null,null,null,null,null,null,null,null,null,null,null,null,null,{"$f":"IF(M23=\"\",\"\",M23+MAX(N$9:N22))","v":""}]
[null,null,null,null,null,null,null,null,null,null,null,null,null,{"$f":"IF(M24=\"\",\"\",M24+MAX(N$9:N23))","v":""}]
[null,null,null,null,null,null,null,null,null,null,null,null,null,{"$f":"IF(M25=\"\",\"\",M25+MAX(N$9:N24))","v":""}]
[null,null,null,null,null,null,null,null,null,null,null,null,null,{"$f":"IF(M26=\"\",\"\",M26+MAX(N$9:N25))","v":""}]
[null,null,null,null,null,null,null,null,null,null,null,null,null,{"$f":"IF(M27=\"\",\"\",M27+MAX(N$9:N26))","v":""}]
[null,null,null,null,null,null,null,null,null,null,null,null,null,{"$f":"IF(M28=\"\",\"\",M28+MAX(N$9:N27))","v":""}]
[null,null,null,null,null,null,null,null,null,null,null,null,null,{"$f":"IF(M29=\"\",\"\",M29+MAX(N$9:N28))","v":""}]
[null,null,null,null,null,null,null,null,null,null,null,null,null,{"$f":"IF(M30=\"\",\"\",M30+MAX(N$9:N29))","v":""}]
[null,null,null,null,null,null,null,null,null,null,null,null,null,{"$f":"IF(M31=\"\",\"\",M31+MAX(N$9:N30))","v":""}]
[null,null,null,null,null,null,null,null,null,null,null,null,null,{"$f":"IF(M32=\"\",\"\",M32+MAX(N$9:N31))","v":""}]
[null,null,null,null,null,null,null,null,null,null,null,null,null,{"$f":"IF(M33=\"\",\"\",M33+MAX(N$9:N32))","v":""}]
[null,null,null,null,null,null,null,null,null,null,null,null,null,{"$f":"IF(M34=\"\",\"\",M34+MAX(N$9:N33))","v":""}]
[null,null,null,null,null,null,null,null,null,null,null,null,null,{"$f":"IF(M35=\"\",\"\",M35+MAX(N$9:N34))","v":""}]
[null,null,null,null,null,null,null,null,null,null,null,null,null,{"$f":"IF(M36=\"\",\"\",M36+MAX(N$9:N35))","v":""}]
[null,null,null,null,null,null,null,null,null,null,null,null,null,{"$f":"IF(M37=\"\",\"\",M37+MAX(N$10:N36))","v":""}]
[null,null,null,null,null,null,null,null,null,null,null,null,null,{"$f":"IF(M38=\"\",\"\",M38+MAX(N$10:N37))","v":""}]
[null,null,null,null,null,null,null,null,null,null,null,null,null,{"$f":"IF(M39=\"\",\"\",M39+MAX(N$10:N38))","v":""}]
[null,null,null,null,null,null,null,null,null,null,null,null,null,{"$f":"IF(M40=\"\",\"\",M40+MAX(N$10:N39))","v":""}]
[null,null,null,null,null,null,null,null,null,null,null,null,null,{"$f":"IF(M41=\"\",\"\",M41+MAX(N$10:N40))","v":""}]
[null,null,null,null,null,null,null,null,null,null,null,null,null,{"$f":"IF(M42=\"\",\"\",M42+MAX(N$10:N41))","v":""}]
[null,null,null,null,null,null,null,null,null,null,null,null,null,{"$f":"IF(M43=\"\",\"\",M43+MAX(N$10:N42))","v":""}]
[null,null,null,null,null,null,null,null,null,null,null,null,null,{"$f":"IF(M44=\"\",\"\",M44+MAX(N$10:N43))","v":""}]
[null,null,null,null,null,null,null,null,null,null,null,null,null,{"$f":"IF(M45=\"\",\"\",M45+MAX(N$10:N44))","v":""}]
[null,null,null,null,null,null,null,null,null,null,null,null,null,{"$f":"IF(M46=\"\",\"\",M46+MAX(N$10:N45))","v":""}]
[null,null,null,null,null,null,null,null,null,null,null,null,null,{"$f":"IF(M47=\"\",\"\",M47+MAX(N$10:N46))","v":""}]
[null,null,null,null,null,null,null,null,null,null,null,null,null,{"$f":"IF(M48=\"\",\"\",M48+MAX(N$10:N47))","v":""}]
[null,null,null,null,null,null,null,null,null,null,null,null,null,{"$f":"IF(M49=\"\",\"\",M49+MAX(N$10:N48))","v":""}]
[null,null,null,null,null,null,null,null,null,null,null,null,null,{"$f":"IF(M50=\"\",\"\",M50+MAX(N$10:N49))","v":""}]
[null,null,null,null,null,null,null,null,null,null,null,null,null,{"$f":"IF(M51=\"\",\"\",M51+MAX(N$10:N50))","v":""}]
[null,null,null,null,null,null,null,null,null,null,null,null,null,{"$f":"IF(M52=\"\",\"\",M52+MAX(N$10:N51))","v":""}]
[null,null,null,null,null,null,null,null,null,null,null,null,null,{"$f":"IF(M53=\"\",\"\",M53+MAX(N$10:N52))","v":""}]
[null,null,null,null,null,null,null,null,null,null,null,null,null,{"$f":"IF(M54=\"\",\"\",M54+MAX(N$10:N53))","v":""}]
[null,null,null,null,null,null,null,null,null,null,null,null,null,{"$f":"IF(M55=\"\",\"\",M55+MAX(N$10:N54))","v":""}]
[null,null,null,null,null,null,null,null,null,null,null,null,null,{"$f":"IF(M56=\"\",\"\",M56+MAX(N$10:N55))","v":""}]
[null,null,null,null,null,null,null,null,null,null,null,null,null,{"$f":"IF(M57=\"\",\"\",M57+MAX(N$10:N56))","v":""}]
[null,null,null,null,null,null,null,null,null,null,null,null,null,{"$f":"IF(M58=\"\",\"\",M58+MAX(N$10:N57))","v":""}]
[null,null,null,null,null,null,null,null,null,null,null,null,null,{"$f":"IF(M59=\"\",\"\",M59+MAX(N$10:N58))","v":""}]
[null,null,null,null,null,null,null,null,null,null,null,null,null,{"$f":"IF(M60=\"\",\"\",M60+MAX(N$10:N59))","v":""}]
[null,null,null,null,null,null,null,null,null,null,null,null,null,{"$f":"IF(M61=\"\",\"\",M61+MAX(N$10:N60))","v":""}]
[null,null,null,null,null,null,null,null,null,null,null,null,null,{"$f":"IF(M62=\"\",\"\",M62+MAX(N$10:N61))","v":""}]
[null,null,null,null,null,null,null,null,null,null,null,null,null,{"$f":"IF(M63=\"\",\"\",M63+MAX(N$10:N62))","v":""}]
[null,null,null,"SPECIAL INSTRUCTIONS:",{"$f":"INDEX(QryItemE2019!F:F,MATCH(H5,QryItemE2019!A:A,0))","v":""},null,null,null,null,null,null,null,"TOTAL",{"$f":"IF(K5=\"LS\",\"LS\",\" \")","v":" "}]

{"sheet":"516E10010","index":28,"n_rows":62,"n_cols":18,"rows_kept":62,"cut":false,"hidden":false,"merged":[[3,16,3,21],[4,7,4,8]]}
[null,null,null,null,null,null,"DESIGN:",{"$f":"IF('Calc Cover Sheet'!B11=\"\",\"\",'Calc Cover Sheet'!B11)","v":"BMV"},"DATE:",{"$f":"IF('Calc Cover Sheet'!D11=\"\",\"\",'Calc Cover Sheet'!D11)","v":"2024-04-19"},"UPDATE:",{"$f":"IF('Calc Cover Sheet'!B13=\"\",\"\",'Calc Cover Sheet'!B13)","v":""},"DATE:",{"$f":"IF('Calc Cover Sheet'!D13=\"\",\"\",'Calc Cover Sheet'!D13)","v":""}]
[null,null,null,null,null,null,"CHECK:",{"$f":"IF('Calc Cover Sheet'!B12=\"\",\"\",'Calc Cover Sheet'!B12)","v":"TLC"},"DATE:",{"$f":"IF('Calc Cover Sheet'!D12=\"\",\"\",'Calc Cover Sheet'!D12)","v":"2024-04-25"},"RECHECK:",{"$f":"IF('Calc Cover Sheet'!B14=\"\",\"\",'Calc Cover Sheet'!B14)","v":""},"DATE:",{"$f":"IF('Calc Cover Sheet'!D14=\"\",\"\",'Calc Cover Sheet'!D14)","v":""}]
[null,null,null,null,null,null,"STRUCTURE:",{"$f":"IF('Calc Cover Sheet'!B7=\"\",\"\",'Calc Cover Sheet'!B7)","v":"HAM-00145-0203"},null,null,"SFN:",{"$f":"IF('Calc Cover Sheet'!B3=\"\",\"\",'Calc Cover Sheet'!B3)","v":3108680},"PID:",{"$f":"IF('Calc Cover Sheet'!B9=\"\",\"\",'Calc Cover Sheet'!B9)","v":110563}]
[null,null,null,null,null,null,null,null,null,null,null,null,null,null,null,null,"Lump Sum Tags (Items with a \"LS\" Pay Unit can be tagged with one or several categories)"]
[null,null,null,null,null,null,"ITEM:",{"$f":"MID(RIGHT(CELL(\"filename\",D2),LEN(CELL(\"filename\",D2))-FIND(\"]\",CELL(\"filename\",D2))),1,9)","v":"516E10010"},null,"PAY UNIT:",{"$f":"INDEX(QryItemE2019!B:B,MATCH(H5,QryItemE2019!A:A,0))","v":"FT"}]
[null,null,null,null,null,null,"SUBJECT:",{"$f":"IF('Calc Cover Sheet'!B2=\"\",\"\",'Calc Cover Sheet'!B2)","v":"ESTIMATED QUANTITIES"}]
[null,null,null,"DESCRIPTION:",{"$f":"INDEX(QryItemE2019!C:C,MATCH(H5,QryItemE2019!A:A,0))","v":"ARMORLESS PREFORMED JOINT SEAL"}]
[null,null,null,"SUPPLEMENTAL DESCRIPTION:"]
[null,null,null,null,null,null,null,null,null,null,null,null,"SUBTOTAL","TOTAL",null,null,"GROUP","<<<<<Tag each subtotal value with a group from this column"]
[null,null,null,null,null,null,null,null,null,null,null,null,null,{"$f":"IF(M10=\"\",\"\",M10+MAX(N$9:N9))","v":""}]
[null,null,null,null,null,null,null,null,null,null,null,null,null,{"$f":"IF(M11=\"\",\"\",M11+MAX(N$9:N10))","v":""}]
[null,null,null,"Length = ",38.833300000000001,"ft",null,null,null,null,null,null,null,{"$f":"IF(M12=\"\",\"\",M12+MAX(N$9:N11))","v":""}]
[null,null,null,"# of Approaches = ",2,null,null,null,null,null,null,null,null,{"$f":"IF(M13=\"\",\"\",M13+MAX(N$9:N12))","v":""}]
[null,null,null,null,null,null,null,null,null,null,null,null,null,{"$f":"IF(M14=\"\",\"\",M14+MAX(N$9:N13))","v":""}]
[null,null,null,"Volume = ",{"$f":"E13*E12","v":77.666600000000003},"CF",null,null,null,null,null,null,{"$f":"CEILING(E15,1)","v":78},{"$f":"IF(M15=\"\",\"\",M15+MAX(N$9:N14))","v":78},null,null,"GEN."]
[null,null,null,null,null,null,null,null,null,null,null,null,null,{"$f":"IF(M16=\"\",\"\",M16+MAX(N$9:N15))","v":""}]
[]
[null,null,null,null,null,null,null,null,null,null,null,null,null,{"$f":"IF(M18=\"\",\"\",M18+MAX(N$9:N17))","v":""}]
[null,null,null,null,null,null,null,null,null,null,null,null,null,{"$f":"IF(M19=\"\",\"\",M19+MAX(N$9:N18))","v":""}]
[null,null,null,null,null,null,null,null,null,null,null,null,null,{"$f":"IF(M20=\"\",\"\",M20+MAX(N$9:N19))","v":""}]
[null,null,null,null,null,null,null,null,null,null,null,null,null,{"$f":"IF(M21=\"\",\"\",M21+MAX(N$9:N20))","v":""}]
[null,null,null,null,null,null,null,null,null,null,null,null,null,{"$f":"IF(M22=\"\",\"\",M22+MAX(N$9:N21))","v":""}]
[null,null,null,null,null,null,null,null,null,null,null,null,null,{"$f":"IF(M23=\"\",\"\",M23+MAX(N$9:N22))","v":""}]
[null,null,null,null,null,null,null,null,null,null,null,null,null,{"$f":"IF(M24=\"\",\"\",M24+MAX(N$9:N23))","v":""}]
[null,null,null,null,null,null,null,null,null,null,null,null,null,{"$f":"IF(M25=\"\",\"\",M25+MAX(N$9:N24))","v":""}]
[null,null,null,null,null,null,null,null,null,null,null,null,null,{"$f":"IF(M26=\"\",\"\",M26+MAX(N$9:N25))","v":""}]
[null,null,null,null,null,null,null,null,null,null,null,null,null,{"$f":"IF(M27=\"\",\"\",M27+MAX(N$9:N26))","v":""}]
[null,null,null,null,null,null,null,null,null,null,null,null,null,{"$f":"IF(M28=\"\",\"\",M28+MAX(N$9:N27))","v":""}]
[null,null,null,null,null,null,null,null,null,null,null,null,null,{"$f":"IF(M29=\"\",\"\",M29+MAX(N$9:N28))","v":""}]
[null,null,null,null,null,null,null,null,null,null,null,null,null,{"$f":"IF(M30=\"\",\"\",M30+MAX(N$9:N29))","v":""}]
[null,null,null,null,null,null,null,null,null,null,null,null,null,{"$f":"IF(M31=\"\",\"\",M31+MAX(N$9:N30))","v":""}]
[null,null,null,null,null,null,null,null,null,null,null,null,null,{"$f":"IF(M32=\"\",\"\",M32+MAX(N$9:N31))","v":""}]
[null,null,null,null,null,null,null,null,null,null,null,null,null,{"$f":"IF(M33=\"\",\"\",M33+MAX(N$9:N32))","v":""}]
[null,null,null,null,null,null,null,null,null,null,null,null,null,{"$f":"IF(M34=\"\",\"\",M34+MAX(N$9:N33))","v":""}]
[null,null,null,null,null,null,null,null,null,null,null,null,null,{"$f":"IF(M35=\"\",\"\",M35+MAX(N$10:N34))","v":""}]
[null,null,null,null,null,null,null,null,null,null,null,null,null,{"$f":"IF(M36=\"\",\"\",M36+MAX(N$10:N35))","v":""}]
[null,null,null,null,null,null,null,null,null,null,null,null,null,{"$f":"IF(M37=\"\",\"\",M37+MAX(N$10:N36))","v":""}]
[null,null,null,null,null,null,null,null,null,null,null,null,null,{"$f":"IF(M38=\"\",\"\",M38+MAX(N$10:N37))","v":""}]
[null,null,null,null,null,null,null,null,null,null,null,null,null,{"$f":"IF(M39=\"\",\"\",M39+MAX(N$10:N38))","v":""}]
[null,null,null,null,null,null,null,null,null,null,null,null,null,{"$f":"IF(M40=\"\",\"\",M40+MAX(N$10:N39))","v":""}]
[null,null,null,null,null,null,null,null,null,null,null,null,null,{"$f":"IF(M41=\"\",\"\",M41+MAX(N$10:N40))","v":""}]
[null,null,null,null,null,null,null,null,null,null,null,null,null,{"$f":"IF(M42=\"\",\"\",M42+MAX(N$10:N41))","v":""}]
[null,null,null,null,null,null,null,null,null,null,null,null,null,{"$f":"IF(M43=\"\",\"\",M43+MAX(N$10:N42))","v":""}]
[null,null,null,null,null,null,null,null,null,null,null,null,null,{"$f":"IF(M44=\"\",\"\",M44+MAX(N$10:N43))","v":""}]
[null,null,null,null,null,null,null,null,null,null,null,null,null,{"$f":"IF(M45=\"\",\"\",M45+MAX(N$10:N44))","v":""}]
[null,null,null,null,null,null,null,null,null,null,null,null,null,{"$f":"IF(M46=\"\",\"\",M46+MAX(N$10:N45))","v":""}]
[null,null,null,null,null,null,null,null,null,null,null,null,null,{"$f":"IF(M47=\"\",\"\",M47+MAX(N$10:N46))","v":""}]
[null,null,null,null,null,null,null,null,null,null,null,null,null,{"$f":"IF(M48=\"\",\"\",M48+MAX(N$10:N47))","v":""}]
[null,null,null,null,null,null,null,null,null,null,null,null,null,{"$f":"IF(M49=\"\",\"\",M49+MAX(N$10:N48))","v":""}]
[null,null,null,null,null,null,null,null,null,null,null,null,null,{"$f":"IF(M50=\"\",\"\",M50+MAX(N$10:N49))","v":""}]
[null,null,null,null,null,null,null,null,null,null,null,null,null,{"$f":"IF(M51=\"\",\"\",M51+MAX(N$10:N50))","v":""}]
[null,null,null,null,null,null,null,null,null,null,null,null,null,{"$f":"IF(M52=\"\",\"\",M52+MAX(N$10:N51))","v":""}]
[null,null,null,null,null,null,null,null,null,null,null,null,null,{"$f":"IF(M53=\"\",\"\",M53+MAX(N$10:N52))","v":""}]
[null,null,null,null,null,null,null,null,null,null,null,null,null,{"$f":"IF(M54=\"\",\"\",M54+MAX(N$10:N53))","v":""}]
[null,null,null,null,null,null,null,null,null,null,null,null,null,{"$f":"IF(M55=\"\",\"\",M55+MAX(N$10:N54))","v":""}]
[null,null,null,null,null,null,null,null,null,null,null,null,null,{"$f":"IF(M56=\"\",\"\",M56+MAX(N$10:N55))","v":""}]
[null,null,null,null,null,null,null,null,null,null,null,null,null,{"$f":"IF(M57=\"\",\"\",M57+MAX(N$10:N56))","v":""}]
[null,null,null,null,null,null,null,null,null,null,null,null,null,{"$f":"IF(M58=\"\",\"\",M58+MAX(N$10:N57))","v":""}]
[null,null,null,null,null,null,null,null,null,null,null,null,null,{"$f":"IF(M59=\"\",\"\",M59+MAX(N$10:N58))","v":""}]
[null,null,null,null,null,null,null,null,null,null,null,null,null,{"$f":"IF(M60=\"\",\"\",M60+MAX(N$10:N59))","v":""}]
[null,null,null,null,null,null,null,null,null,null,null,null,null,{"$f":"IF(M61=\"\",\"\",M61+MAX(N$10:N60))","v":""}]
[null,null,null,"SPECIAL INSTRUCTIONS:",{"$f":"INDEX(QryItemE2019!F:F,MATCH(H5,QryItemE2019!A:A,0))","v":""},null,null,null,null,null,null,null,"TOTAL",{"$f":"IF(K5=\"LS\",\"LS\",\" \")","v":" "}]

{"sheet":"516E13200","index":29,"n_rows":50,"n_cols":18,"rows_kept":50,"cut":false,"hidden":false,"merged":[[3,16,3,21],[4,7,4,8]]}
[null,null,null,null,null,null,"DESIGN:",{"$f":"IF('Calc Cover Sheet'!B11=\"\",\"\",'Calc Cover Sheet'!B11)","v":"BMV"},"DATE:",{"$f":"IF('Calc Cover Sheet'!D11=\"\",\"\",'Calc Cover Sheet'!D11)","v":"2024-04-19"},"UPDATE:",{"$f":"IF('Calc Cover Sheet'!B13=\"\",\"\",'Calc Cover Sheet'!B13)","v":""},"DATE:",{"$f":"IF('Calc Cover Sheet'!D13=\"\",\"\",'Calc Cover Sheet'!D13)","v":""}]
[null,null,null,null,null,null,"CHECK:",{"$f":"IF('Calc Cover Sheet'!B12=\"\",\"\",'Calc Cover Sheet'!B12)","v":"TLC"},"DATE:",{"$f":"IF('Calc Cover Sheet'!D12=\"\",\"\",'Calc Cover Sheet'!D12)","v":"2024-04-25"},"RECHECK:",{"$f":"IF('Calc Cover Sheet'!B14=\"\",\"\",'Calc Cover Sheet'!B14)","v":""},"DATE:",{"$f":"IF('Calc Cover Sheet'!D14=\"\",\"\",'Calc Cover Sheet'!D14)","v":""}]
[null,null,null,null,null,null,"STRUCTURE:",{"$f":"IF('Calc Cover Sheet'!B7=\"\",\"\",'Calc Cover Sheet'!B7)","v":"HAM-00145-0203"},null,null,"SFN:",{"$f":"IF('Calc Cover Sheet'!B3=\"\",\"\",'Calc Cover Sheet'!B3)","v":3108680},"PID:",{"$f":"IF('Calc Cover Sheet'!B9=\"\",\"\",'Calc Cover Sheet'!B9)","v":110563}]
[null,null,null,null,null,null,null,null,null,null,null,null,null,null,null,null,"Lump Sum Tags (Items with a \"LS\" Pay Unit can be tagged with one or several categories)"]
[null,null,null,null,null,null,"ITEM:",{"$f":"MID(RIGHT(CELL(\"filename\",D2),LEN(CELL(\"filename\",D2))-FIND(\"]\",CELL(\"filename\",D2))),1,9)","v":"516E13200"},null,"PAY UNIT:",{"$f":"INDEX(QryItemE2019!B:B,MATCH(H5,QryItemE2019!A:A,0))","v":"SF"}]
[null,null,null,null,null,null,"SUBJECT:",{"$f":"IF('Calc Cover Sheet'!B2=\"\",\"\",'Calc Cover Sheet'!B2)","v":"ESTIMATED QUANTITIES"}]
[null,null,null,"DESCRIPTION:",{"$f":"INDEX(QryItemE2019!C:C,MATCH(H5,QryItemE2019!A:A,0))","v":"1/2\" PREFORMED EXPANSION JOINT FILLER"}]
[null,null,null,"SUPPLEMENTAL DESCRIPTION:"]
[null,null,null,null,null,null,null,null,null,null,null,null,"SUBTOTAL","TOTAL",null,null,"GROUP","<<<<<Tag each subtotal value with a group from this column"]
[null,null,null,null,null,null,null,null,null,null,null,null,null,{"$f":"IF(M10=\"\",\"\",M10+MAX(N$9:N9))","v":""}]
[null,null,null,null,null,null,null,null,null,null,null,null,null,{"$f":"IF(M11=\"\",\"\",M11+MAX(N$9:N10))","v":""}]
[null,null,"Between Concrete Slope Protection and MSE Wall/Abutment Footing",null,null,null,null,null,null,null,null,null,null,{"$f":"IF(M12=\"\",\"\",M12+MAX(N$9:N11))","v":""}]
[null,null,null,null,null,null,null,null,null,null,null,null,null,{"$f":"IF(M13=\"\",\"\",M13+MAX(N$9:N12))","v":""}]
[null,null,null,"Height of PEJF = ",0.5,"ft",null,null,null,null,null,null,null,{"$f":"IF(M14=\"\",\"\",M14+MAX(N$9:N13))","v":""}]
[null,null,null,"Length at Rear Abutment = ",38.833300000000001,"ft",null,null,null,null,null,null,null,{"$f":"IF(M15=\"\",\"\",M15+MAX(N$9:N14))","v":""}]
[null,null,null,"Length at Fwd Abutment = ",38.833300000000001,"ft"]
[null,null,null,null,null,null,null,null,null,null,null,null,null,{"$f":"IF(M17=\"\",\"\",M17+MAX(N$9:N16))","v":""}]
[null,null,null,"Area = ",{"$f":"2*E14*(E15+E16)","v":77.666600000000003},"SF",null,null,null,null,null,null,{"$f":"CEILING(E18,1)","v":78},{"$f":"IF(M18=\"\",\"\",M18+MAX(N$9:N17))","v":78},null,null,"GEN."]
[null,null,null,null,null,null,null,null,null,null,null,null,null,{"$f":"IF(M19=\"\",\"\",M19+MAX(N$9:N18))","v":""}]
[null,null,null,null,null,null,null,null,null,null,null,null,null,{"$f":"IF(M20=\"\",\"\",M20+MAX(N$9:N19))","v":""}]
[null,null,null,null,null,null,null,null,null,null,null,null,null,{"$f":"IF(M21=\"\",\"\",M21+MAX(N$9:N20))","v":""}]
[null,null,null,null,null,null,null,null,null,null,null,null,null,{"$f":"IF(M22=\"\",\"\",M22+MAX(N$9:N21))","v":""}]
[null,null,null,null,null,null,null,null,null,null,null,null,null,{"$f":"IF(M23=\"\",\"\",M23+MAX(N$10:N22))","v":""}]
[null,null,null,null,null,null,null,null,null,null,null,null,null,{"$f":"IF(M24=\"\",\"\",M24+MAX(N$10:N23))","v":""}]
[null,null,null,null,null,null,null,null,null,null,null,null,null,{"$f":"IF(M25=\"\",\"\",M25+MAX(N$10:N24))","v":""}]
[null,null,null,null,null,null,null,null,null,null,null,null,null,{"$f":"IF(M26=\"\",\"\",M26+MAX(N$10:N25))","v":""}]
[null,null,null,null,null,null,null,null,null,null,null,null,null,{"$f":"IF(M27=\"\",\"\",M27+MAX(N$10:N26))","v":""}]
[null,null,null,null,null,null,null,null,null,null,null,null,null,{"$f":"IF(M28=\"\",\"\",M28+MAX(N$10:N27))","v":""}]
[null,null,null,null,null,null,null,null,null,null,null,null,null,{"$f":"IF(M29=\"\",\"\",M29+MAX(N$10:N28))","v":""}]
[null,null,null,null,null,null,null,null,null,null,null,null,null,{"$f":"IF(M30=\"\",\"\",M30+MAX(N$10:N29))","v":""}]
[null,null,null,null,null,null,null,null,null,null,null,null,null,{"$f":"IF(M31=\"\",\"\",M31+MAX(N$10:N30))","v":""}]
[null,null,null,null,null,null,null,null,null,null,null,null,null,{"$f":"IF(M32=\"\",\"\",M32+MAX(N$10:N31))","v":""}]
[null,null,null,null,null,null,null,null,null,null,null,null,null,{"$f":"IF(M33=\"\",\"\",M33+MAX(N$10:N32))","v":""}]
[null,null,null,null,null,null,null,null,null,null,null,null,null,{"$f":"IF(M34=\"\",\"\",M34+MAX(N$10:N33))","v":""}]
[null,null,null,null,null,null,null,null,null,null,null,null,null,{"$f":"IF(M35=\"\",\"\",M35+MAX(N$10:N34))","v":""}]
[null,null,null,null,null,null,null,null,null,null,null,null,null,{"$f":"IF(M36=\"\",\"\",M36+MAX(N$10:N35))","v":""}]
[null,null,null,null,null,null,null,null,null,null,null,null,null,{"$f":"IF(M37=\"\",\"\",M37+MAX(N$10:N36))","v":""}]
[null,null,null,null,null,null,null,null,null,null,null,null,null,{"$f":"IF(M38=\"\",\"\",M38+MAX(N$10:N37))","v":""}]
[null,null,null,null,null,null,null,null,null,null,null,null,null,{"$f":"IF(M39=\"\",\"\",M39+MAX(N$10:N38))","v":""}]
[null,null,null,null,null,null,null,null,null,null,null,null,null,{"$f":"IF(M40=\"\",\"\",M40+MAX(N$10:N39))","v":""}]
[null,null,null,null,null,null,null,null,null,null,null,null,null,{"$f":"IF(M41=\"\",\"\",M41+MAX(N$10:N40))","v":""}]
[null,null,null,null,null,null,null,null,null,null,null,null,null,{"$f":"IF(M42=\"\",\"\",M42+MAX(N$10:N41))","v":""}]
[null,null,null,null,null,null,null,null,null,null,null,null,null,{"$f":"IF(M43=\"\",\"\",M43+MAX(N$10:N42))","v":""}]
[null,null,null,null,null,null,null,null,null,null,null,null,null,{"$f":"IF(M44=\"\",\"\",M44+MAX(N$10:N43))","v":""}]
[null,null,null,null,null,null,null,null,null,null,null,null,null,{"$f":"IF(M45=\"\",\"\",M45+MAX(N$10:N44))","v":""}]
[null,null,null,null,null,null,null,null,null,null,null,null,null,{"$f":"IF(M46=\"\",\"\",M46+MAX(N$10:N45))","v":""}]
[null,null,null,null,null,null,null,null,null,null,null,null,null,{"$f":"IF(M47=\"\",\"\",M47+MAX(N$10:N46))","v":""}]
[null,null,null,null,null,null,null,null,null,null,null,null,null,{"$f":"IF(M48=\"\",\"\",M48+MAX(N$10:N47))","v":""}]
[null,null,null,null,null,null,null,null,null,null,null,null,null,{"$f":"IF(M49=\"\",\"\",M49+MAX(N$10:N48))","v":""}]
[null,null,null,"SPECIAL INSTRUCTIONS:",{"$f":"INDEX(QryItemE2019!F:F,MATCH(H5,QryItemE2019!A:A,0))","v":""},null,null,null,null,null,null,null,"TOTAL",{"$f":"IF(K5=\"LS\",\"LS\",\" \")","v":" "}]

{"sheet":"516E13600","index":30,"n_rows":50,"n_cols":18,"rows_kept":50,"cut":false,"hidden":false,"merged":[[3,16,3,21],[4,7,4,8]]}
[null,null,null,null,null,null,"DESIGN:",{"$f":"IF('Calc Cover Sheet'!B11=\"\",\"\",'Calc Cover Sheet'!B11)","v":"BMV"},"DATE:",{"$f":"IF('Calc Cover Sheet'!D11=\"\",\"\",'Calc Cover Sheet'!D11)","v":"2024-04-19"},"UPDATE:",{"$f":"IF('Calc Cover Sheet'!B13=\"\",\"\",'Calc Cover Sheet'!B13)","v":""},"DATE:",{"$f":"IF('Calc Cover Sheet'!D13=\"\",\"\",'Calc Cover Sheet'!D13)","v":""}]
[null,null,null,null,null,null,"CHECK:",{"$f":"IF('Calc Cover Sheet'!B12=\"\",\"\",'Calc Cover Sheet'!B12)","v":"TLC"},"DATE:",{"$f":"IF('Calc Cover Sheet'!D12=\"\",\"\",'Calc Cover Sheet'!D12)","v":"2024-04-25"},"RECHECK:",{"$f":"IF('Calc Cover Sheet'!B14=\"\",\"\",'Calc Cover Sheet'!B14)","v":""},"DATE:",{"$f":"IF('Calc Cover Sheet'!D14=\"\",\"\",'Calc Cover Sheet'!D14)","v":""}]
[null,null,null,null,null,null,"STRUCTURE:",{"$f":"IF('Calc Cover Sheet'!B7=\"\",\"\",'Calc Cover Sheet'!B7)","v":"HAM-00145-0203"},null,null,"SFN:",{"$f":"IF('Calc Cover Sheet'!B3=\"\",\"\",'Calc Cover Sheet'!B3)","v":3108680},"PID:",{"$f":"IF('Calc Cover Sheet'!B9=\"\",\"\",'Calc Cover Sheet'!B9)","v":110563}]
[null,null,null,null,null,null,null,null,null,null,null,null,null,null,null,null,"Lump Sum Tags (Items with a \"LS\" Pay Unit can be tagged with one or several categories)"]
[null,null,null,null,null,null,"ITEM:",{"$f":"MID(RIGHT(CELL(\"filename\",D2),LEN(CELL(\"filename\",D2))-FIND(\"]\",CELL(\"filename\",D2))),1,9)","v":"516E13600"},null,"PAY UNIT:",{"$f":"INDEX(QryItemE2019!B:B,MATCH(H5,QryItemE2019!A:A,0))","v":"SF"}]
[null,null,null,null,null,null,"SUBJECT:",{"$f":"IF('Calc Cover Sheet'!B2=\"\",\"\",'Calc Cover Sheet'!B2)","v":"ESTIMATED QUANTITIES"}]
[null,null,null,"DESCRIPTION:",{"$f":"INDEX(QryItemE2019!C:C,MATCH(H5,QryItemE2019!A:A,0))","v":"1\" PREFORMED EXPANSION JOINT FILLER"}]
[null,null,null,"SUPPLEMENTAL DESCRIPTION:"]
[null,null,null,null,null,null,null,null,null,null,null,null,"SUBTOTAL","TOTAL",null,null,"GROUP","<<<<<Tag each subtotal value with a group from this column"]
[null,null,null,null,null,null,null,null,null,null,null,null,null,{"$f":"IF(M10=\"\",\"\",M10+MAX(N$9:N9))","v":""}]
[null,null,null,null,null,null,null,null,null,null,null,null,null,{"$f":"IF(M11=\"\",\"\",M11+MAX(N$9:N10))","v":""}]
[null,null,"MOMENT SLAB BARRIER ENDS",null,null,null,null,null,null,null,null,null,null,{"$f":"IF(M12=\"\",\"\",M12+MAX(N$9:N11))","v":""}]
[null,null,null,null,null,null,null,null,null,null,null,null,null,{"$f":"IF(M13=\"\",\"\",M13+MAX(N$9:N12))","v":""}]
[null,null,null,"West railing (BR-2-15)",null,null,null,null,null,null,null,null,null,{"$f":"IF(M14=\"\",\"\",M14+MAX(N$9:N13))","v":""}]
[null,null,null,null,null,null,null,null,null,null,null,null,null,{"$f":"IF(M15=\"\",\"\",M15+MAX(N$9:N14))","v":""}]
[null,null,null,"Width =",1,"ft"]
[null,null,null,"Height =",3.75,"ft",null,null,null,null,null,null,null,{"$f":"IF(M17=\"\",\"\",M17+MAX(N$9:N16))","v":""}]
[null,null,null,"# Ends =",2,"each",null,null,null,null,null,null,null,{"$f":"IF(M18=\"\",\"\",M18+MAX(N$9:N17))","v":""}]
[null,null,null,"Area =",{"$f":"E16*E17*E18","v":7.5},"SF",null,null,null,null,null,null,{"$f":"E19","v":7.5},{"$f":"IF(M19=\"\",\"\",M19+MAX(N$9:N18))","v":7.5},null,null,"GEN."]
[null,null,null,null,null,null,null,null,null,null,null,null,null,{"$f":"IF(M20=\"\",\"\",M20+MAX(N$9:N19))","v":""}]
[null,null,null,"East railing (SBR-1-20)",null,null,null,null,null,null,null,null,null,{"$f":"IF(M21=\"\",\"\",M21+MAX(N$9:N20))","v":""}]
[null,null,null,null,null,null,null,null,null,null,null,null,null,{"$f":"IF(M22=\"\",\"\",M22+MAX(N$9:N21))","v":""}]
[null,null,null,"Area =",588,"sq in",null,"from std dwg",null,null,null,null,null,{"$f":"IF(M23=\"\",\"\",M23+MAX(N$10:N22))","v":""}]
[null,null,null,"Area =",{"$f":"E23/144","v":4.083333333333333},"sq ft",null,null,null,null,null,null,null,{"$f":"IF(M24=\"\",\"\",M24+MAX(N$10:N23))","v":""}]
[null,null,null,"# Ends =",2,"each",null,null,null,null,null,null,null,{"$f":"IF(M25=\"\",\"\",M25+MAX(N$10:N24))","v":""}]
[null,null,null,"Area =",{"$f":"E24*E25","v":8.1666666666666661},"SF",null,null,null,null,null,null,{"$f":"E26","v":8.1666666666666661},{"$f":"IF(M26=\"\",\"\",M26+MAX(N$10:N25))","v":15.666666666666666},null,null,"GEN."]
[null,null,null,null,null,null,null,null,null,null,null,null,null,{"$f":"IF(M27=\"\",\"\",M27+MAX(N$10:N26))","v":""}]
[null,null,null,null,null,null,null,null,null,null,null,null,null,{"$f":"IF(M28=\"\",\"\",M28+MAX(N$10:N27))","v":""}]
[null,null,null,null,null,null,null,null,null,null,null,null,null,{"$f":"IF(M29=\"\",\"\",M29+MAX(N$10:N28))","v":""}]
[null,null,null,null,null,null,null,null,null,null,null,null,null,{"$f":"IF(M30=\"\",\"\",M30+MAX(N$10:N29))","v":""}]
[null,null,null,null,null,null,null,null,null,null,null,null,null,{"$f":"IF(M31=\"\",\"\",M31+MAX(N$10:N30))","v":""}]
[null,null,null,null,null,null,null,null,null,null,null,null,null,{"$f":"IF(M32=\"\",\"\",M32+MAX(N$10:N31))","v":""}]
[null,null,null,null,null,null,null,null,null,null,null,null,null,{"$f":"IF(M33=\"\",\"\",M33+MAX(N$10:N32))","v":""}]
[null,null,null,null,null,null,null,null,null,null,null,null,null,{"$f":"IF(M34=\"\",\"\",M34+MAX(N$10:N33))","v":""}]
[null,null,null,null,null,null,null,null,null,null,null,null,null,{"$f":"IF(M35=\"\",\"\",M35+MAX(N$10:N34))","v":""}]
[null,null,null,null,null,null,null,null,null,null,null,null,null,{"$f":"IF(M36=\"\",\"\",M36+MAX(N$10:N35))","v":""}]
[null,null,null,null,null,null,null,null,null,null,null,null,null,{"$f":"IF(M37=\"\",\"\",M37+MAX(N$10:N36))","v":""}]
[null,null,null,null,null,null,null,null,null,null,null,null,null,{"$f":"IF(M38=\"\",\"\",M38+MAX(N$10:N37))","v":""}]
[null,null,null,null,null,null,null,null,null,null,null,null,null,{"$f":"IF(M39=\"\",\"\",M39+MAX(N$10:N38))","v":""}]
[null,null,null,null,null,null,null,null,null,null,null,null,null,{"$f":"IF(M40=\"\",\"\",M40+MAX(N$10:N39))","v":""}]
[null,null,null,null,null,null,null,null,null,null,null,null,null,{"$f":"IF(M41=\"\",\"\",M41+MAX(N$10:N40))","v":""}]
[null,null,null,null,null,null,null,null,null,null,null,null,null,{"$f":"IF(M42=\"\",\"\",M42+MAX(N$10:N41))","v":""}]
[null,null,null,null,null,null,null,null,null,null,null,null,null,{"$f":"IF(M43=\"\",\"\",M43+MAX(N$10:N42))","v":""}]
[null,null,null,null,null,null,null,null,null,null,null,null,null,{"$f":"IF(M44=\"\",\"\",M44+MAX(N$10:N43))","v":""}]
[null,null,null,null,null,null,null,null,null,null,null,null,null,{"$f":"IF(M45=\"\",\"\",M45+MAX(N$10:N44))","v":""}]
[null,null,null,null,null,null,null,null,null,null,null,null,null,{"$f":"IF(M46=\"\",\"\",M46+MAX(N$10:N45))","v":""}]
[null,null,null,null,null,null,null,null,null,null,null,null,null,{"$f":"IF(M47=\"\",\"\",M47+MAX(N$10:N46))","v":""}]
[null,null,null,null,null,null,null,null,null,null,null,null,null,{"$f":"IF(M48=\"\",\"\",M48+MAX(N$10:N47))","v":""}]
[null,null,null,null,null,null,null,null,null,null,null,null,null,{"$f":"IF(M49=\"\",\"\",M49+MAX(N$10:N48))","v":""}]
[null,null,null,"SPECIAL INSTRUCTIONS:",{"$f":"INDEX(QryItemE2019!F:F,MATCH(H5,QryItemE2019!A:A,0))","v":""},null,null,null,null,null,null,null,"TOTAL",{"$f":"IF(K5=\"LS\",\"LS\",\" \")","v":" "}]

{"sheet":"516E13900","index":31,"n_rows":71,"n_cols":18,"rows_kept":71,"cut":false,"hidden":false,"merged":[[3,16,3,21],[4,7,4,8],[34,6,35,10]]}
[null,null,null,null,null,null,"DESIGN:",{"$f":"IF('Calc Cover Sheet'!B11=\"\",\"\",'Calc Cover Sheet'!B11)","v":"BMV"},"DATE:",{"$f":"IF('Calc Cover Sheet'!D11=\"\",\"\",'Calc Cover Sheet'!D11)","v":"2024-04-19"},"UPDATE:",{"$f":"IF('Calc Cover Sheet'!B13=\"\",\"\",'Calc Cover Sheet'!B13)","v":""},"DATE:",{"$f":"IF('Calc Cover Sheet'!D13=\"\",\"\",'Calc Cover Sheet'!D13)","v":""}]
[null,null,null,null,null,null,"CHECK:",{"$f":"IF('Calc Cover Sheet'!B12=\"\",\"\",'Calc Cover Sheet'!B12)","v":"TLC"},"DATE:",{"$f":"IF('Calc Cover Sheet'!D12=\"\",\"\",'Calc Cover Sheet'!D12)","v":"2024-04-25"},"RECHECK:",{"$f":"IF('Calc Cover Sheet'!B14=\"\",\"\",'Calc Cover Sheet'!B14)","v":""},"DATE:",{"$f":"IF('Calc Cover Sheet'!D14=\"\",\"\",'Calc Cover Sheet'!D14)","v":""}]
[null,null,null,null,null,null,"STRUCTURE:",{"$f":"IF('Calc Cover Sheet'!B7=\"\",\"\",'Calc Cover Sheet'!B7)","v":"HAM-00145-0203"},null,null,"SFN:",{"$f":"IF('Calc Cover Sheet'!B3=\"\",\"\",'Calc Cover Sheet'!B3)","v":3108680},"PID:",{"$f":"IF('Calc Cover Sheet'!B9=\"\",\"\",'Calc Cover Sheet'!B9)","v":110563}]
[null,null,null,null,null,null,null,null,null,null,null,null,null,null,null,null,"Lump Sum Tags (Items with a \"LS\" Pay Unit can be tagged with one or several categories)"]
[null,null,null,null,null,null,"ITEM:",{"$f":"MID(RIGHT(CELL(\"filename\",D2),LEN(CELL(\"filename\",D2))-FIND(\"]\",CELL(\"filename\",D2))),1,9)","v":"516E13900"},null,"PAY UNIT:",{"$f":"INDEX(QryItemE2019!B:B,MATCH(H5,QryItemE2019!A:A,0))","v":"SF"}]
[null,null,null,null,null,null,"SUBJECT:",{"$f":"IF('Calc Cover Sheet'!B2=\"\",\"\",'Calc Cover Sheet'!B2)","v":"ESTIMATED QUANTITIES"}]
[null,null,null,"DESCRIPTION:",{"$f":"INDEX(QryItemE2019!C:C,MATCH(H5,QryItemE2019!A:A,0))","v":"2\" PREFORMED EXPANSION JOINT FILLER"}]
[null,null,null,"SUPPLEMENTAL DESCRIPTION:"]
[null,null,null,null,null,null,null,null,null,null,null,null,"SUBTOTAL","TOTAL",null,null,"GROUP","<<<<<Tag each subtotal value with a group from this column"]
[null,null,null,null,null,null,null,null,null,null,null,null,null,{"$f":"IF(M10=\"\",\"\",M10+MAX(N$9:N9))","v":""}]
[null,null,null,null,null,null,null,null,null,null,null,null,null,{"$f":"IF(M11=\"\",\"\",M11+MAX(N$9:N10))","v":""}]
[null,null,"Between MSE Wall and Abutment",null,null,null,null,null,null,null,null,null,null,{"$f":"IF(M12=\"\",\"\",M12+MAX(N$9:N11))","v":""}]
[null,null,null,null,null,null,null,null,null,null,null,null,null,{"$f":"IF(M13=\"\",\"\",M13+MAX(N$9:N12))","v":""}]
[null,null,null,"Diaphragm Height = ",5.6,"ft",null,null,null,null,null,null,null,{"$f":"IF(M14=\"\",\"\",M14+MAX(N$9:N13))","v":""}]
[null,null,null,"Diaphragm Width = ",{"$f":"'511E53014'!E17","v":3.6667000000000001},"ft",null,null,null,null,null,null,null,{"$f":"IF(M15=\"\",\"\",M15+MAX(N$9:N14))","v":""}]
[null,null,null,"Abut. Stem Height = ",2,"ft"]
[null,null,null,"Abut. Footing Height = ",3,"ft",null,null,null,null,null,null,null,{"$f":"IF(M17=\"\",\"\",M17+MAX(N$9:N15))","v":""}]
[null,null,null,"Abutment Stem Width = ",3.6667000000000001,"ft",null,null,null,null,null,null,null,{"$f":"IF(M18=\"\",\"\",M18+MAX(N$9:N17))","v":""}]
[null,null,null,"Abutment Footing Width = ",6.5,"ft",null,null,null,null,null,null,null,{"$f":"IF(M19=\"\",\"\",M19+MAX(N$9:N13))","v":""}]
[null,null,null,"# of Abutments = ",2]
[null,null,null,null,null,null,null,null,null,null,null,null,null,{"$f":"IF(M21=\"\",\"\",M21+MAX(N$9:N19))","v":""}]
[null,null,null,"Area = ",{"$f":"2*E20*(E19*E17+E18*E16+E15*E14)","v":189.46768},"SF",null,null,null,null,null,null,{"$f":"CEILING(E22,1)","v":190},{"$f":"IF(M22=\"\",\"\",M22+MAX(N$9:N21))","v":190},null,null,"GEN."]
[null,null,null,null,null,null,null,null,null,null,null,null,null,{"$f":"IF(M23=\"\",\"\",M23+MAX(N$9:N22))","v":""}]
[null,null,"Between MSE Wall and Approach Slab",null,null,null,null,null,null,null,null,null,null,{"$f":"IF(M24=\"\",\"\",M24+MAX(N$9:N23))","v":""}]
[]
[null,null,null,"Approach Slab Length = ",30,"ft",null,null,null,null,null,null,null,{"$f":"IF(M26=\"\",\"\",M26+MAX(N$9:N25))","v":""}]
[null,null,null,"Approach Slab Thickness = ",17,"in",null,null,null,null,null,null,null,{"$f":"IF(M27=\"\",\"\",M27+MAX(N$9:N26))","v":""}]
[null,null,null,"# of Approaches -= ",2,"each",null,null,null,null,null,null,null,{"$f":"IF(M28=\"\",\"\",M28+MAX(N$9:N27))","v":""}]
[null,null,null,null,null,null,null,null,null,null,null,null,null,{"$f":"IF(M29=\"\",\"\",M29+MAX(N$9:N28))","v":""}]
[null,null,null,"Area = ",{"$f":"2*E28*E26*E27/12","v":170},"SF",null,null,null,null,null,null,{"$f":"CEILING(E30,1)","v":170},{"$f":"IF(M30=\"\",\"\",M30+MAX(N$9:N29))","v":360},null,null,"GEN."]
[null,null,null,null,null,null,null,null,null,null,null,null,null,{"$f":"IF(M31=\"\",\"\",M31+MAX(N$9:N30))","v":""}]
[null,null,null,null,null,null,null,null,null,null,null,null,null,{"$f":"IF(M32=\"\",\"\",M32+MAX(N$9:N31))","v":""}]
[null,null,"Between MSE Wall and Moment Slab",null,null,null,null,null,null,null,null,null,null,{"$f":"IF(M33=\"\",\"\",M33+MAX(N$9:N32))","v":""}]
[]
[null,null,null,"Rear Moment Slabs Length = ",11,"ft","MSE wall does not extend full moment slab length",null,null,null,null,null,null,{"$f":"IF(M35=\"\",\"\",M35+MAX(N$9:N34))","v":""}]
[null,null,null,"Fwd Moment Slabs Length = ",28,"ft",null,null,null,null,null,null,null,{"$f":"IF(M36=\"\",\"\",M36+MAX(N$9:N35))","v":""}]
[null,null,null,"Left Moment Slab PEJF Thickness = ",2.25,"ft"]
[null,null,null,"Right Moment Slab PEJF Thickness = ",1,"ft",null,null,null,null,null,null,null,{"$f":"IF(M38=\"\",\"\",M38+MAX(N$9:N35))","v":""}]
[null,null,null,null,null,null,null,null,null,null,null,null,null,{"$f":"IF(M39=\"\",\"\",M39+MAX(N$9:N38))","v":""}]
[null,null,null,"Area = ",{"$f":"((E37+E38)*(E36+E35))*2","v":253.5},"SF",null,null,null,null,null,null,{"$f":"CEILING(E40,1)","v":254},{"$f":"IF(M40=\"\",\"\",M40+MAX(N$9:N39))","v":614},null,null,"GEN."]
[null,null,null,null,null,null,null,null,null,null,null,null,null,{"$f":"IF(M41=\"\",\"\",M41+MAX(N$9:N40))","v":""}]
[null,null,null,null,null,null,null,null,null,null,null,null,null,{"$f":"IF(M42=\"\",\"\",M42+MAX(N$9:N41))","v":""}]
[null,null,null,null,null,null,null,null,null,null,null,null,null,{"$f":"IF(M43=\"\",\"\",M43+MAX(N$9:N42))","v":""}]
[null,null,null,null,null,null,null,null,null,null,null,null,null,{"$f":"IF(M44=\"\",\"\",M44+MAX(N$10:N43))","v":""}]
[null,null,null,null,null,null,null,null,null,null,null,null,null,{"$f":"IF(M45=\"\",\"\",M45+MAX(N$10:N44))","v":""}]
[null,null,null,null,null,null,null,null,null,null,null,null,null,{"$f":"IF(M46=\"\",\"\",M46+MAX(N$10:N45))","v":""}]
[null,null,null,null,null,null,null,null,null,null,null,null,null,{"$f":"IF(M47=\"\",\"\",M47+MAX(N$10:N46))","v":""}]
[null,null,null,null,null,null,null,null,null,null,null,null,null,{"$f":"IF(M48=\"\",\"\",M48+MAX(N$10:N47))","v":""}]
[null,null,null,null,null,null,null,null,null,null,null,null,null,{"$f":"IF(M49=\"\",\"\",M49+MAX(N$10:N48))","v":""}]
[null,null,null,null,null,null,null,null,null,null,null,null,null,{"$f":"IF(M50=\"\",\"\",M50+MAX(N$10:N49))","v":""}]
[null,null,null,null,null,null,null,null,null,null,null,null,null,{"$f":"IF(M51=\"\",\"\",M51+MAX(N$10:N50))","v":""}]
[null,null,null,null,null,null,null,null,null,null,null,null,null,{"$f":"IF(M52=\"\",\"\",M52+MAX(N$10:N51))","v":""}]
[null,null,null,null,null,null,null,null,null,null,null,null,null,{"$f":"IF(M53=\"\",\"\",M53+MAX(N$10:N52))","v":""}]
[null,null,null,null,null,null,null,null,null,null,null,null,null,{"$f":"IF(M54=\"\",\"\",M54+MAX(N$10:N53))","v":""}]
[null,null,null,null,null,null,null,null,null,null,null,null,null,{"$f":"IF(M55=\"\",\"\",M55+MAX(N$10:N54))","v":""}]
[null,null,null,null,null,null,null,null,null,null,null,null,null,{"$f":"IF(M56=\"\",\"\",M56+MAX(N$10:N55))","v":""}]
[null,null,null,null,null,null,null,null,null,null,null,null,null,{"$f":"IF(M57=\"\",\"\",M57+MAX(N$10:N56))","v":""}]
[null,null,null,null,null,null,null,null,null,null,null,null,null,{"$f":"IF(M58=\"\",\"\",M58+MAX(N$10:N57))","v":""}]
[null,null,null,null,null,null,null,null,null,null,null,null,null,{"$f":"IF(M59=\"\",\"\",M59+MAX(N$10:N58))","v":""}]
[null,null,null,null,null,null,null,null,null,null,null,null,null,{"$f":"IF(M60=\"\",\"\",M60+MAX(N$10:N59))","v":""}]
[null,null,null,null,null,null,null,null,null,null,null,null,null,{"$f":"IF(M61=\"\",\"\",M61+MAX(N$10:N60))","v":""}]
[null,null,null,null,null,null,null,null,null,null,null,null,null,{"$f":"IF(M62=\"\",\"\",M62+MAX(N$10:N61))","v":""}]
[null,null,null,null,null,null,null,null,null,null,null,null,null,{"$f":"IF(M63=\"\",\"\",M63+MAX(N$10:N62))","v":""}]
[null,null,null,null,null,null,null,null,null,null,null,null,null,{"$f":"IF(M64=\"\",\"\",M64+MAX(N$10:N63))","v":""}]
[null,null,null,null,null,null,null,null,null,null,null,null,null,{"$f":"IF(M65=\"\",\"\",M65+MAX(N$10:N64))","v":""}]
[null,null,null,null,null,null,null,null,null,null,null,null,null,{"$f":"IF(M66=\"\",\"\",M66+MAX(N$10:N65))","v":""}]
[null,null,null,null,null,null,null,null,null,null,null,null,null,{"$f":"IF(M67=\"\",\"\",M67+MAX(N$10:N66))","v":""}]
[null,null,null,null,null,null,null,null,null,null,null,null,null,{"$f":"IF(M68=\"\",\"\",M68+MAX(N$10:N67))","v":""}]
[null,null,null,null,null,null,null,null,null,null,null,null,null,{"$f":"IF(M69=\"\",\"\",M69+MAX(N$10:N68))","v":""}]
[null,null,null,null,null,null,null,null,null,null,null,null,null,{"$f":"IF(M70=\"\",\"\",M70+MAX(N$10:N69))","v":""}]
[null,null,null,"SPECIAL INSTRUCTIONS:",{"$f":"INDEX(QryItemE2019!F:F,MATCH(H5,QryItemE2019!A:A,0))","v":""},null,null,null,null,null,null,null,"TOTAL",{"$f":"IF(K5=\"LS\",\"LS\",\" \")","v":" "}]

{"sheet":"516E14020","index":32,"n_rows":64,"n_cols":18,"rows_kept":64,"cut":false,"hidden":false,"merged":[[3,16,3,21],[4,7,4,8]]}
[null,null,null,null,null,null,"DESIGN:",{"$f":"IF('Calc Cover Sheet'!B11=\"\",\"\",'Calc Cover Sheet'!B11)","v":"BMV"},"DATE:",{"$f":"IF('Calc Cover Sheet'!D11=\"\",\"\",'Calc Cover Sheet'!D11)","v":"2024-04-19"},"UPDATE:",{"$f":"IF('Calc Cover Sheet'!B13=\"\",\"\",'Calc Cover Sheet'!B13)","v":""},"DATE:",{"$f":"IF('Calc Cover Sheet'!D13=\"\",\"\",'Calc Cover Sheet'!D13)","v":""}]
[null,null,null,null,null,null,"CHECK:",{"$f":"IF('Calc Cover Sheet'!B12=\"\",\"\",'Calc Cover Sheet'!B12)","v":"TLC"},"DATE:",{"$f":"IF('Calc Cover Sheet'!D12=\"\",\"\",'Calc Cover Sheet'!D12)","v":"2024-04-25"},"RECHECK:",{"$f":"IF('Calc Cover Sheet'!B14=\"\",\"\",'Calc Cover Sheet'!B14)","v":""},"DATE:",{"$f":"IF('Calc Cover Sheet'!D14=\"\",\"\",'Calc Cover Sheet'!D14)","v":""}]
[null,null,null,null,null,null,"STRUCTURE:",{"$f":"IF('Calc Cover Sheet'!B7=\"\",\"\",'Calc Cover Sheet'!B7)","v":"HAM-00145-0203"},null,null,"SFN:",{"$f":"IF('Calc Cover Sheet'!B3=\"\",\"\",'Calc Cover Sheet'!B3)","v":3108680},"PID:",{"$f":"IF('Calc Cover Sheet'!B9=\"\",\"\",'Calc Cover Sheet'!B9)","v":110563}]
[null,null,null,null,null,null,null,null,null,null,null,null,null,null,null,null,"Lump Sum Tags (Items with a \"LS\" Pay Unit can be tagged with one or several categories)"]
[null,null,null,null,null,null,"ITEM:",{"$f":"MID(RIGHT(CELL(\"filename\",D2),LEN(CELL(\"filename\",D2))-FIND(\"]\",CELL(\"filename\",D2))),1,9)","v":"516E14020"},null,"PAY UNIT:",{"$f":"INDEX(QryItemE2019!B:B,MATCH(H5,QryItemE2019!A:A,0))","v":"FT"}]
[null,null,null,null,null,null,"SUBJECT:",{"$f":"IF('Calc Cover Sheet'!B2=\"\",\"\",'Calc Cover Sheet'!B2)","v":"ESTIMATED QUANTITIES"}]
[null,null,null,"DESCRIPTION:",{"$f":"INDEX(QryItemE2019!C:C,MATCH(H5,QryItemE2019!A:A,0))","v":"SEMI-INTEGRAL ABUTMENT EXPANSION JOINT SEAL"}]
[null,null,null,"SUPPLEMENTAL DESCRIPTION:"]
[null,null,null,null,null,null,null,null,null,null,null,null,"SUBTOTAL","TOTAL",null,null,"GROUP","<<<<<Tag each subtotal value with a group from this column"]
[null,null,null,null,null,null,null,null,null,null,null,null,null,{"$f":"IF(M10=\"\",\"\",M10+MAX(N$9:N9))","v":""}]
[null,null,null,null,null,null,null,null,null,null,null,null,null,{"$f":"IF(M11=\"\",\"\",M11+MAX(N$9:N10))","v":""}]
[null,null,null,"Abutment Seat Length = ",38.833300000000001,"ft",null,null,null,null,null,null,null,{"$f":"IF(M12=\"\",\"\",M12+MAX(N$9:N11))","v":""}]
[null,null,null,"# of Abutments = ",2,null,null,null,null,null,null,null,null,{"$f":"IF(M13=\"\",\"\",M13+MAX(N$9:N12))","v":""}]
[null,null,null,null,null,null,null,null,null,null,null,null,null,{"$f":"IF(M14=\"\",\"\",M14+MAX(N$9:N13))","v":""}]
[null,null,null,"Length = ",{"$f":"E13*E12","v":77.666600000000003},null,null,null,null,null,null,null,{"$f":"E15","v":77.666600000000003},{"$f":"IF(M15=\"\",\"\",M15+MAX(N$9:N14))","v":77.666600000000003},null,null,"ABUT."]
[null,null,null,null,null,null,null,null,null,null,null,null,null,{"$f":"IF(M16=\"\",\"\",M16+MAX(N$9:N15))","v":""}]
[null,null,null,null,null,null,null,null,null,null,null,null,null,{"$f":"IF(M17=\"\",\"\",M17+MAX(N$9:N16))","v":""}]
[null,null,null,null,null,null,null,null,null,null,null,null,null,{"$f":"IF(M18=\"\",\"\",M18+MAX(N$9:N17))","v":""}]
[]
[null,null,null,null,null,null,null,null,null,null,null,null,null,{"$f":"IF(M20=\"\",\"\",M20+MAX(N$9:N19))","v":""}]
[null,null,null,null,null,null,null,null,null,null,null,null,null,{"$f":"IF(M21=\"\",\"\",M21+MAX(N$9:N20))","v":""}]
[null,null,null,null,null,null,null,null,null,null,null,null,null,{"$f":"IF(M22=\"\",\"\",M22+MAX(N$9:N21))","v":""}]
[null,null,null,null,null,null,null,null,null,null,null,null,null,{"$f":"IF(M23=\"\",\"\",M23+MAX(N$9:N22))","v":""}]
[null,null,null,null,null,null,null,null,null,null,null,null,null,{"$f":"IF(M24=\"\",\"\",M24+MAX(N$9:N23))","v":""}]
[null,null,null,null,null,null,null,null,null,null,null,null,null,{"$f":"IF(M25=\"\",\"\",M25+MAX(N$9:N24))","v":""}]
[null,null,null,null,null,null,null,null,null,null,null,null,null,{"$f":"IF(M26=\"\",\"\",M26+MAX(N$9:N25))","v":""}]
[null,null,null,null,null,null,null,null,null,null,null,null,null,{"$f":"IF(M27=\"\",\"\",M27+MAX(N$9:N26))","v":""}]
[null,null,null,null,null,null,null,null,null,null,null,null,null,{"$f":"IF(M28=\"\",\"\",M28+MAX(N$9:N27))","v":""}]
[null,null,null,null,null,null,null,null,null,null,null,null,null,{"$f":"IF(M29=\"\",\"\",M29+MAX(N$9:N28))","v":""}]
[null,null,null,null,null,null,null,null,null,null,null,null,null,{"$f":"IF(M30=\"\",\"\",M30+MAX(N$9:N29))","v":""}]
[null,null,null,null,null,null,null,null,null,null,null,null,null,{"$f":"IF(M31=\"\",\"\",M31+MAX(N$9:N30))","v":""}]
[null,null,null,null,null,null,null,null,null,null,null,null,null,{"$f":"IF(M32=\"\",\"\",M32+MAX(N$9:N31))","v":""}]
[null,null,null,null,null,null,null,null,null,null,null,null,null,{"$f":"IF(M33=\"\",\"\",M33+MAX(N$9:N32))","v":""}]
[null,null,null,null,null,null,null,null,null,null,null,null,null,{"$f":"IF(M34=\"\",\"\",M34+MAX(N$9:N33))","v":""}]
[null,null,null,null,null,null,null,null,null,null,null,null,null,{"$f":"IF(M35=\"\",\"\",M35+MAX(N$9:N34))","v":""}]
[null,null,null,null,null,null,null,null,null,null,null,null,null,{"$f":"IF(M36=\"\",\"\",M36+MAX(N$9:N35))","v":""}]
[null,null,null,null,null,null,null,null,null,null,null,null,null,{"$f":"IF(M37=\"\",\"\",M37+MAX(N$10:N36))","v":""}]
[null,null,null,null,null,null,null,null,null,null,null,null,null,{"$f":"IF(M38=\"\",\"\",M38+MAX(N$10:N37))","v":""}]
[null,null,null,null,null,null,null,null,null,null,null,null,null,{"$f":"IF(M39=\"\",\"\",M39+MAX(N$10:N38))","v":""}]
[null,null,null,null,null,null,null,null,null,null,null,null,null,{"$f":"IF(M40=\"\",\"\",M40+MAX(N$10:N39))","v":""}]
[null,null,null,null,null,null,null,null,null,null,null,null,null,{"$f":"IF(M41=\"\",\"\",M41+MAX(N$10:N40))","v":""}]
[null,null,null,null,null,null,null,null,null,null,null,null,null,{"$f":"IF(M42=\"\",\"\",M42+MAX(N$10:N41))","v":""}]
[null,null,null,null,null,null,null,null,null,null,null,null,null,{"$f":"IF(M43=\"\",\"\",M43+MAX(N$10:N42))","v":""}]
[null,null,null,null,null,null,null,null,null,null,null,null,null,{"$f":"IF(M44=\"\",\"\",M44+MAX(N$10:N43))","v":""}]
[null,null,null,null,null,null,null,null,null,null,null,null,null,{"$f":"IF(M45=\"\",\"\",M45+MAX(N$10:N44))","v":""}]
[null,null,null,null,null,null,null,null,null,null,null,null,null,{"$f":"IF(M46=\"\",\"\",M46+MAX(N$10:N45))","v":""}]
[null,null,null,null,null,null,null,null,null,null,null,null,null,{"$f":"IF(M47=\"\",\"\",M47+MAX(N$10:N46))","v":""}]
[null,null,null,null,null,null,null,null,null,null,null,null,null,{"$f":"IF(M48=\"\",\"\",M48+MAX(N$10:N47))","v":""}]
[null,null,null,null,null,null,null,null,null,null,null,null,null,{"$f":"IF(M49=\"\",\"\",M49+MAX(N$10:N48))","v":""}]
[null,null,null,null,null,null,null,null,null,null,null,null,null,{"$f":"IF(M50=\"\",\"\",M50+MAX(N$10:N49))","v":""}]
[null,null,null,null,null,null,null,null,null,null,null,null,null,{"$f":"IF(M51=\"\",\"\",M51+MAX(N$10:N50))","v":""}]
[null,null,null,null,null,null,null,null,null,null,null,null,null,{"$f":"IF(M52=\"\",\"\",M52+MAX(N$10:N51))","v":""}]
[null,null,null,null,null,null,null,null,null,null,null,null,null,{"$f":"IF(M53=\"\",\"\",M53+MAX(N$10:N52))","v":""}]
[null,null,null,null,null,null,null,null,null,null,null,null,null,{"$f":"IF(M54=\"\",\"\",M54+MAX(N$10:N53))","v":""}]
[null,null,null,null,null,null,null,null,null,null,null,null,null,{"$f":"IF(M55=\"\",\"\",M55+MAX(N$10:N54))","v":""}]
[null,null,null,null,null,null,null,null,null,null,null,null,null,{"$f":"IF(M56=\"\",\"\",M56+MAX(N$10:N55))","v":""}]
[null,null,null,null,null,null,null,null,null,null,null,null,null,{"$f":"IF(M57=\"\",\"\",M57+MAX(N$10:N56))","v":""}]
[null,null,null,null,null,null,null,null,null,null,null,null,null,{"$f":"IF(M58=\"\",\"\",M58+MAX(N$10:N57))","v":""}]
[null,null,null,null,null,null,null,null,null,null,null,null,null,{"$f":"IF(M59=\"\",\"\",M59+MAX(N$10:N58))","v":""}]
[null,null,null,null,null,null,null,null,null,null,null,null,null,{"$f":"IF(M60=\"\",\"\",M60+MAX(N$10:N59))","v":""}]
[null,null,null,null,null,null,null,null,null,null,null,null,null,{"$f":"IF(M61=\"\",\"\",M61+MAX(N$10:N60))","v":""}]
[null,null,null,null,null,null,null,null,null,null,null,null,null,{"$f":"IF(M62=\"\",\"\",M62+MAX(N$10:N61))","v":""}]
[null,null,null,null,null,null,null,null,null,null,null,null,null,{"$f":"IF(M63=\"\",\"\",M63+MAX(N$10:N62))","v":""}]
[null,null,null,"SPECIAL INSTRUCTIONS:",{"$f":"INDEX(QryItemE2019!F:F,MATCH(H5,QryItemE2019!A:A,0))","v":""},null,null,null,null,null,null,null,"TOTAL",{"$f":"IF(K5=\"LS\",\"LS\",\" \")","v":" "}]

{"sheet":"516E44101","index":33,"n_rows":64,"n_cols":18,"rows_kept":64,"cut":false,"hidden":false,"merged":[[3,16,3,21],[4,7,4,8]]}
[null,null,null,null,null,null,"DESIGN:",{"$f":"IF('Calc Cover Sheet'!B11=\"\",\"\",'Calc Cover Sheet'!B11)","v":"BMV"},"DATE:",{"$f":"IF('Calc Cover Sheet'!D11=\"\",\"\",'Calc Cover Sheet'!D11)","v":"2024-04-19"},"UPDATE:",{"$f":"IF('Calc Cover Sheet'!B13=\"\",\"\",'Calc Cover Sheet'!B13)","v":""},"DATE:",{"$f":"IF('Calc Cover Sheet'!D13=\"\",\"\",'Calc Cover Sheet'!D13)","v":""}]
[null,null,null,null,null,null,"CHECK:",{"$f":"IF('Calc Cover Sheet'!B12=\"\",\"\",'Calc Cover Sheet'!B12)","v":"TLC"},"DATE:",{"$f":"IF('Calc Cover Sheet'!D12=\"\",\"\",'Calc Cover Sheet'!D12)","v":"2024-04-25"},"RECHECK:",{"$f":"IF('Calc Cover Sheet'!B14=\"\",\"\",'Calc Cover Sheet'!B14)","v":""},"DATE:",{"$f":"IF('Calc Cover Sheet'!D14=\"\",\"\",'Calc Cover Sheet'!D14)","v":""}]
[null,null,null,null,null,null,"STRUCTURE:",{"$f":"IF('Calc Cover Sheet'!B7=\"\",\"\",'Calc Cover Sheet'!B7)","v":"HAM-00145-0203"},null,null,"SFN:",{"$f":"IF('Calc Cover Sheet'!B3=\"\",\"\",'Calc Cover Sheet'!B3)","v":3108680},"PID:",{"$f":"IF('Calc Cover Sheet'!B9=\"\",\"\",'Calc Cover Sheet'!B9)","v":110563}]
[null,null,null,null,null,null,null,null,null,null,null,null,null,null,null,null,"Lump Sum Tags (Items with a \"LS\" Pay Unit can be tagged with one or several categories)"]
[null,null,null,null,null,null,"ITEM:",{"$f":"MID(RIGHT(CELL(\"filename\",D2),LEN(CELL(\"filename\",D2))-FIND(\"]\",CELL(\"filename\",D2))),1,9)","v":"516E44101"},null,"PAY UNIT:",{"$f":"INDEX(QryItemE2019!B:B,MATCH(H5,QryItemE2019!A:A,0))","v":"EACH"}]
[null,null,null,null,null,null,"SUBJECT:",{"$f":"IF('Calc Cover Sheet'!B2=\"\",\"\",'Calc Cover Sheet'!B2)","v":"ESTIMATED QUANTITIES"}]
[null,null,null,"DESCRIPTION:",{"$f":"INDEX(QryItemE2019!C:C,MATCH(H5,QryItemE2019!A:A,0))","v":"ELASTOMERIC BEARING WITH INTERNAL LAMINATES AND LOAD PLATE (NEOPRENE), AS PER PLAN"}]
[null,null,null,"SUPPLEMENTAL DESCRIPTION:","2 9/16\" x 2'-4\" x 10\" WITH W-SECTION"]
[null,null,null,null,null,null,null,null,null,null,null,null,"SUBTOTAL","TOTAL",null,null,"GROUP","<<<<<Tag each subtotal value with a group from this column"]
[null,null,null,null,null,null,null,null,null,null,null,null,null,{"$f":"IF(M10=\"\",\"\",M10+MAX(N$9:N9))","v":""}]
[null,null,null,null,null,null,null,null,null,null,null,null,null,{"$f":"IF(M11=\"\",\"\",M11+MAX(N$9:N10))","v":""}]
[null,null,null,"# of Beams = ",5,null,null,null,null,null,null,null,null,{"$f":"IF(M12=\"\",\"\",M12+MAX(N$9:N11))","v":""}]
[null,null,null,"# of Abutments = ",2,null,null,null,null,null,null,null,null,{"$f":"IF(M13=\"\",\"\",M13+MAX(N$9:N12))","v":""}]
[null,null,null,null,null,null,null,null,null,null,null,null,null,{"$f":"IF(M14=\"\",\"\",M14+MAX(N$9:N13))","v":""}]
[null,null,null,"Total = ",{"$f":"E12*E13","v":10},"each",null,null,null,null,null,null,{"$f":"E15","v":10},{"$f":"IF(M15=\"\",\"\",M15+MAX(N$9:N14))","v":10},null,null,"ABUT."]
[null,null,null,null,null,null,null,null,null,null,null,null,null,{"$f":"IF(M16=\"\",\"\",M16+MAX(N$9:N15))","v":""}]
[null,null,null,null,null,null,null,null,null,null,null,null,null,{"$f":"IF(M17=\"\",\"\",M17+MAX(N$9:N16))","v":""}]
[null,null,null,null,null,null,null,null,null,null,null,null,null,{"$f":"IF(M18=\"\",\"\",M18+MAX(N$9:N17))","v":""}]
[]
[null,null,null,null,null,null,null,null,null,null,null,null,null,{"$f":"IF(M20=\"\",\"\",M20+MAX(N$9:N19))","v":""}]
[null,null,null,null,null,null,null,null,null,null,null,null,null,{"$f":"IF(M21=\"\",\"\",M21+MAX(N$9:N20))","v":""}]
[null,null,null,null,null,null,null,null,null,null,null,null,null,{"$f":"IF(M22=\"\",\"\",M22+MAX(N$9:N21))","v":""}]
[null,null,null,null,null,null,null,null,null,null,null,null,null,{"$f":"IF(M23=\"\",\"\",M23+MAX(N$9:N22))","v":""}]
[null,null,null,null,null,null,null,null,null,null,null,null,null,{"$f":"IF(M24=\"\",\"\",M24+MAX(N$9:N23))","v":""}]
[null,null,null,null,null,null,null,null,null,null,null,null,null,{"$f":"IF(M25=\"\",\"\",M25+MAX(N$9:N24))","v":""}]
[null,null,null,null,null,null,null,null,null,null,null,null,null,{"$f":"IF(M26=\"\",\"\",M26+MAX(N$9:N25))","v":""}]
[null,null,null,null,null,null,null,null,null,null,null,null,null,{"$f":"IF(M27=\"\",\"\",M27+MAX(N$9:N26))","v":""}]
[null,null,null,null,null,null,null,null,null,null,null,null,null,{"$f":"IF(M28=\"\",\"\",M28+MAX(N$9:N27))","v":""}]
[null,null,null,null,null,null,null,null,null,null,null,null,null,{"$f":"IF(M29=\"\",\"\",M29+MAX(N$9:N28))","v":""}]
[null,null,null,null,null,null,null,null,null,null,null,null,null,{"$f":"IF(M30=\"\",\"\",M30+MAX(N$9:N29))","v":""}]
[null,null,null,null,null,null,null,null,null,null,null,null,null,{"$f":"IF(M31=\"\",\"\",M31+MAX(N$9:N30))","v":""}]
[null,null,null,null,null,null,null,null,null,null,null,null,null,{"$f":"IF(M32=\"\",\"\",M32+MAX(N$9:N31))","v":""}]
[null,null,null,null,null,null,null,null,null,null,null,null,null,{"$f":"IF(M33=\"\",\"\",M33+MAX(N$9:N32))","v":""}]
[null,null,null,null,null,null,null,null,null,null,null,null,null,{"$f":"IF(M34=\"\",\"\",M34+MAX(N$9:N33))","v":""}]
[null,null,null,null,null,null,null,null,null,null,null,null,null,{"$f":"IF(M35=\"\",\"\",M35+MAX(N$9:N34))","v":""}]
[null,null,null,null,null,null,null,null,null,null,null,null,null,{"$f":"IF(M36=\"\",\"\",M36+MAX(N$9:N35))","v":""}]
[null,null,null,null,null,null,null,null,null,null,null,null,null,{"$f":"IF(M37=\"\",\"\",M37+MAX(N$10:N36))","v":""}]
[null,null,null,null,null,null,null,null,null,null,null,null,null,{"$f":"IF(M38=\"\",\"\",M38+MAX(N$10:N37))","v":""}]
[null,null,null,null,null,null,null,null,null,null,null,null,null,{"$f":"IF(M39=\"\",\"\",M39+MAX(N$10:N38))","v":""}]
[null,null,null,null,null,null,null,null,null,null,null,null,null,{"$f":"IF(M40=\"\",\"\",M40+MAX(N$10:N39))","v":""}]
[null,null,null,null,null,null,null,null,null,null,null,null,null,{"$f":"IF(M41=\"\",\"\",M41+MAX(N$10:N40))","v":""}]
[null,null,null,null,null,null,null,null,null,null,null,null,null,{"$f":"IF(M42=\"\",\"\",M42+MAX(N$10:N41))","v":""}]
[null,null,null,null,null,null,null,null,null,null,null,null,null,{"$f":"IF(M43=\"\",\"\",M43+MAX(N$10:N42))","v":""}]
[null,null,null,null,null,null,null,null,null,null,null,null,null,{"$f":"IF(M44=\"\",\"\",M44+MAX(N$10:N43))","v":""}]
[null,null,null,null,null,null,null,null,null,null,null,null,null,{"$f":"IF(M45=\"\",\"\",M45+MAX(N$10:N44))","v":""}]
[null,null,null,null,null,null,null,null,null,null,null,null,null,{"$f":"IF(M46=\"\",\"\",M46+MAX(N$10:N45))","v":""}]
[null,null,null,null,null,null,null,null,null,null,null,null,null,{"$f":"IF(M47=\"\",\"\",M47+MAX(N$10:N46))","v":""}]
[null,null,null,null,null,null,null,null,null,null,null,null,null,{"$f":"IF(M48=\"\",\"\",M48+MAX(N$10:N47))","v":""}]
[null,null,null,null,null,null,null,null,null,null,null,null,null,{"$f":"IF(M49=\"\",\"\",M49+MAX(N$10:N48))","v":""}]
[null,null,null,null,null,null,null,null,null,null,null,null,null,{"$f":"IF(M50=\"\",\"\",M50+MAX(N$10:N49))","v":""}]
[null,null,null,null,null,null,null,null,null,null,null,null,null,{"$f":"IF(M51=\"\",\"\",M51+MAX(N$10:N50))","v":""}]
[null,null,null,null,null,null,null,null,null,null,null,null,null,{"$f":"IF(M52=\"\",\"\",M52+MAX(N$10:N51))","v":""}]
[null,null,null,null,null,null,null,null,null,null,null,null,null,{"$f":"IF(M53=\"\",\"\",M53+MAX(N$10:N52))","v":""}]
[null,null,null,null,null,null,null,null,null,null,null,null,null,{"$f":"IF(M54=\"\",\"\",M54+MAX(N$10:N53))","v":""}]
[null,null,null,null,null,null,null,null,null,null,null,null,null,{"$f":"IF(M55=\"\",\"\",M55+MAX(N$10:N54))","v":""}]
[null,null,null,null,null,null,null,null,null,null,null,null,null,{"$f":"IF(M56=\"\",\"\",M56+MAX(N$10:N55))","v":""}]
[null,null,null,null,null,null,null,null,null,null,null,null,null,{"$f":"IF(M57=\"\",\"\",M57+MAX(N$10:N56))","v":""}]
[null,null,null,null,null,null,null,null,null,null,null,null,null,{"$f":"IF(M58=\"\",\"\",M58+MAX(N$10:N57))","v":""}]
[null,null,null,null,null,null,null,null,null,null,null,null,null,{"$f":"IF(M59=\"\",\"\",M59+MAX(N$10:N58))","v":""}]
[null,null,null,null,null,null,null,null,null,null,null,null,null,{"$f":"IF(M60=\"\",\"\",M60+MAX(N$10:N59))","v":""}]
[null,null,null,null,null,null,null,null,null,null,null,null,null,{"$f":"IF(M61=\"\",\"\",M61+MAX(N$10:N60))","v":""}]
[null,null,null,null,null,null,null,null,null,null,null,null,null,{"$f":"IF(M62=\"\",\"\",M62+MAX(N$10:N61))","v":""}]
[null,null,null,null,null,null,null,null,null,null,null,null,null,{"$f":"IF(M63=\"\",\"\",M63+MAX(N$10:N62))","v":""}]
[null,null,null,"SPECIAL INSTRUCTIONS:",{"$f":"INDEX(QryItemE2019!F:F,MATCH(H5,QryItemE2019!A:A,0))","v":"2\"-3\" TK, SPECIFY DIMENSIONS"},null,null,null,null,null,null,null,"TOTAL",{"$f":"IF(K5=\"LS\",\"LS\",\" \")","v":" "}]

{"sheet":"516E44101p","index":34,"n_rows":64,"n_cols":18,"rows_kept":64,"cut":false,"hidden":false,"merged":[[3,16,3,21],[4,7,4,8]]}
[null,null,null,null,null,null,"DESIGN:",{"$f":"IF('Calc Cover Sheet'!B11=\"\",\"\",'Calc Cover Sheet'!B11)","v":"BMV"},"DATE:",{"$f":"IF('Calc Cover Sheet'!D11=\"\",\"\",'Calc Cover Sheet'!D11)","v":"2024-04-19"},"UPDATE:",{"$f":"IF('Calc Cover Sheet'!B13=\"\",\"\",'Calc Cover Sheet'!B13)","v":""},"DATE:",{"$f":"IF('Calc Cover Sheet'!D13=\"\",\"\",'Calc Cover Sheet'!D13)","v":""}]
[null,null,null,null,null,null,"CHECK:",{"$f":"IF('Calc Cover Sheet'!B12=\"\",\"\",'Calc Cover Sheet'!B12)","v":"TLC"},"DATE:",{"$f":"IF('Calc Cover Sheet'!D12=\"\",\"\",'Calc Cover Sheet'!D12)","v":"2024-04-25"},"RECHECK:",{"$f":"IF('Calc Cover Sheet'!B14=\"\",\"\",'Calc Cover Sheet'!B14)","v":""},"DATE:",{"$f":"IF('Calc Cover Sheet'!D14=\"\",\"\",'Calc Cover Sheet'!D14)","v":""}]
[null,null,null,null,null,null,"STRUCTURE:",{"$f":"IF('Calc Cover Sheet'!B7=\"\",\"\",'Calc Cover Sheet'!B7)","v":"HAM-00145-0203"},null,null,"SFN:",{"$f":"IF('Calc Cover Sheet'!B3=\"\",\"\",'Calc Cover Sheet'!B3)","v":3108680},"PID:",{"$f":"IF('Calc Cover Sheet'!B9=\"\",\"\",'Calc Cover Sheet'!B9)","v":110563}]
[null,null,null,null,null,null,null,null,null,null,null,null,null,null,null,null,"Lump Sum Tags (Items with a \"LS\" Pay Unit can be tagged with one or several categories)"]
[null,null,null,null,null,null,"ITEM:",{"$f":"MID(RIGHT(CELL(\"filename\",D2),LEN(CELL(\"filename\",D2))-FIND(\"]\",CELL(\"filename\",D2))),1,9)","v":"516E44101"},null,"PAY UNIT:",{"$f":"INDEX(QryItemE2019!B:B,MATCH(H5,QryItemE2019!A:A,0))","v":"EACH"}]
[null,null,null,null,null,null,"SUBJECT:",{"$f":"IF('Calc Cover Sheet'!B2=\"\",\"\",'Calc Cover Sheet'!B2)","v":"ESTIMATED QUANTITIES"}]
[null,null,null,"DESCRIPTION:",{"$f":"INDEX(QryItemE2019!C:C,MATCH(H5,QryItemE2019!A:A,0))","v":"ELASTOMERIC BEARING WITH INTERNAL LAMINATES AND LOAD PLATE (NEOPRENE), AS PER PLAN"}]
[null,null,null,"SUPPLEMENTAL DESCRIPTION:","2 9/16\" x 2'-4\" x 10\""]
[null,null,null,null,null,null,null,null,null,null,null,null,"SUBTOTAL","TOTAL",null,null,"GROUP","<<<<<Tag each subtotal value with a group from this column"]
[null,null,null,null,null,null,null,null,null,null,null,null,null,{"$f":"IF(M10=\"\",\"\",M10+MAX(N$9:N9))","v":""}]
[null,null,null,null,null,null,null,null,null,null,null,null,null,{"$f":"IF(M11=\"\",\"\",M11+MAX(N$9:N10))","v":""}]
[null,null,null,"# of Beams = ",5,"each",null,null,null,null,null,null,null,{"$f":"IF(M12=\"\",\"\",M12+MAX(N$9:N11))","v":""}]
[null,null,null,"# of piers = ",1,"each",null,null,null,null,null,null,null,{"$f":"IF(M13=\"\",\"\",M13+MAX(N$9:N12))","v":""}]
[null,null,null,"# of brg lines = ",2,"each",null,null,null,null,null,null,null,{"$f":"IF(M14=\"\",\"\",M14+MAX(N$9:N13))","v":""}]
[]
[null,null,null,"Total = ",{"$f":"E12*E13*E14","v":10},"each",null,null,null,null,null,null,{"$f":"E16","v":10},{"$f":"IF(M16=\"\",\"\",M16+MAX(N$9:N15))","v":10},null,null,"PIER"]
[null,null,null,null,null,null,null,null,null,null,null,null,null,{"$f":"IF(M17=\"\",\"\",M17+MAX(N$9:N16))","v":""}]
[null,null,null,null,null,null,null,null,null,null,null,null,null,{"$f":"IF(M18=\"\",\"\",M18+MAX(N$9:N17))","v":""}]
[]
[null,null,null,null,null,null,null,null,null,null,null,null,null,{"$f":"IF(M20=\"\",\"\",M20+MAX(N$9:N19))","v":""}]
[null,null,null,null,null,null,null,null,null,null,null,null,null,{"$f":"IF(M21=\"\",\"\",M21+MAX(N$9:N20))","v":""}]
[null,null,null,null,null,null,null,null,null,null,null,null,null,{"$f":"IF(M22=\"\",\"\",M22+MAX(N$9:N21))","v":""}]
[null,null,null,null,null,null,null,null,null,null,null,null,null,{"$f":"IF(M23=\"\",\"\",M23+MAX(N$9:N22))","v":""}]
[null,null,null,null,null,null,null,null,null,null,null,null,null,{"$f":"IF(M24=\"\",\"\",M24+MAX(N$9:N23))","v":""}]
[null,null,null,null,null,null,null,null,null,null,null,null,null,{"$f":"IF(M25=\"\",\"\",M25+MAX(N$9:N24))","v":""}]
[null,null,null,null,null,null,null,null,null,null,null,null,null,{"$f":"IF(M26=\"\",\"\",M26+MAX(N$9:N25))","v":""}]
[null,null,null,null,null,null,null,null,null,null,null,null,null,{"$f":"IF(M27=\"\",\"\",M27+MAX(N$9:N26))","v":""}]
[null,null,null,null,null,null,null,null,null,null,null,null,null,{"$f":"IF(M28=\"\",\"\",M28+MAX(N$9:N27))","v":""}]
[null,null,null,null,null,null,null,null,null,null,null,null,null,{"$f":"IF(M29=\"\",\"\",M29+MAX(N$9:N28))","v":""}]
[null,null,null,null,null,null,null,null,null,null,null,null,null,{"$f":"IF(M30=\"\",\"\",M30+MAX(N$9:N29))","v":""}]
[null,null,null,null,null,null,null,null,null,null,null,null,null,{"$f":"IF(M31=\"\",\"\",M31+MAX(N$9:N30))","v":""}]
[null,null,null,null,null,null,null,null,null,null,null,null,null,{"$f":"IF(M32=\"\",\"\",M32+MAX(N$9:N31))","v":""}]
[null,null,null,null,null,null,null,null,null,null,null,null,null,{"$f":"IF(M33=\"\",\"\",M33+MAX(N$9:N32))","v":""}]
[null,null,null,null,null,null,null,null,null,null,null,null,null,{"$f":"IF(M34=\"\",\"\",M34+MAX(N$9:N33))","v":""}]
[null,null,null,null,null,null,null,null,null,null,null,null,null,{"$f":"IF(M35=\"\",\"\",M35+MAX(N$9:N34))","v":""}]
[null,null,null,null,null,null,null,null,null,null,null,null,null,{"$f":"IF(M36=\"\",\"\",M36+MAX(N$9:N35))","v":""}]
[null,null,null,null,null,null,null,null,null,null,null,null,null,{"$f":"IF(M37=\"\",\"\",M37+MAX(N$10:N36))","v":""}]
[null,null,null,null,null,null,null,null,null,null,null,null,null,{"$f":"IF(M38=\"\",\"\",M38+MAX(N$10:N37))","v":""}]
[null,null,null,null,null,null,null,null,null,null,null,null,null,{"$f":"IF(M39=\"\",\"\",M39+MAX(N$10:N38))","v":""}]
[null,null,null,null,null,null,null,null,null,null,null,null,null,{"$f":"IF(M40=\"\",\"\",M40+MAX(N$10:N39))","v":""}]
[null,null,null,null,null,null,null,null,null,null,null,null,null,{"$f":"IF(M41=\"\",\"\",M41+MAX(N$10:N40))","v":""}]
[null,null,null,null,null,null,null,null,null,null,null,null,null,{"$f":"IF(M42=\"\",\"\",M42+MAX(N$10:N41))","v":""}]
[null,null,null,null,null,null,null,null,null,null,null,null,null,{"$f":"IF(M43=\"\",\"\",M43+MAX(N$10:N42))","v":""}]
[null,null,null,null,null,null,null,null,null,null,null,null,null,{"$f":"IF(M44=\"\",\"\",M44+MAX(N$10:N43))","v":""}]
[null,null,null,null,null,null,null,null,null,null,null,null,null,{"$f":"IF(M45=\"\",\"\",M45+MAX(N$10:N44))","v":""}]
[null,null,null,null,null,null,null,null,null,null,null,null,null,{"$f":"IF(M46=\"\",\"\",M46+MAX(N$10:N45))","v":""}]
[null,null,null,null,null,null,null,null,null,null,null,null,null,{"$f":"IF(M47=\"\",\"\",M47+MAX(N$10:N46))","v":""}]
[null,null,null,null,null,null,null,null,null,null,null,null,null,{"$f":"IF(M48=\"\",\"\",M48+MAX(N$10:N47))","v":""}]
[null,null,null,null,null,null,null,null,null,null,null,null,null,{"$f":"IF(M49=\"\",\"\",M49+MAX(N$10:N48))","v":""}]
[null,null,null,null,null,null,null,null,null,null,null,null,null,{"$f":"IF(M50=\"\",\"\",M50+MAX(N$10:N49))","v":""}]
[null,null,null,null,null,null,null,null,null,null,null,null,null,{"$f":"IF(M51=\"\",\"\",M51+MAX(N$10:N50))","v":""}]
[null,null,null,null,null,null,null,null,null,null,null,null,null,{"$f":"IF(M52=\"\",\"\",M52+MAX(N$10:N51))","v":""}]
[null,null,null,null,null,null,null,null,null,null,null,null,null,{"$f":"IF(M53=\"\",\"\",M53+MAX(N$10:N52))","v":""}]
[null,null,null,null,null,null,null,null,null,null,null,null,null,{"$f":"IF(M54=\"\",\"\",M54+MAX(N$10:N53))","v":""}]
[null,null,null,null,null,null,null,null,null,null,null,null,null,{"$f":"IF(M55=\"\",\"\",M55+MAX(N$10:N54))","v":""}]
[null,null,null,null,null,null,null,null,null,null,null,null,null,{"$f":"IF(M56=\"\",\"\",M56+MAX(N$10:N55))","v":""}]
[null,null,null,null,null,null,null,null,null,null,null,null,null,{"$f":"IF(M57=\"\",\"\",M57+MAX(N$10:N56))","v":""}]
[null,null,null,null,null,null,null,null,null,null,null,null,null,{"$f":"IF(M58=\"\",\"\",M58+MAX(N$10:N57))","v":""}]
[null,null,null,null,null,null,null,null,null,null,null,null,null,{"$f":"IF(M59=\"\",\"\",M59+MAX(N$10:N58))","v":""}]
[null,null,null,null,null,null,null,null,null,null,null,null,null,{"$f":"IF(M60=\"\",\"\",M60+MAX(N$10:N59))","v":""}]
[null,null,null,null,null,null,null,null,null,null,null,null,null,{"$f":"IF(M61=\"\",\"\",M61+MAX(N$10:N60))","v":""}]
[null,null,null,null,null,null,null,null,null,null,null,null,null,{"$f":"IF(M62=\"\",\"\",M62+MAX(N$10:N61))","v":""}]
[null,null,null,null,null,null,null,null,null,null,null,null,null,{"$f":"IF(M63=\"\",\"\",M63+MAX(N$10:N62))","v":""}]
[null,null,null,"SPECIAL INSTRUCTIONS:",{"$f":"INDEX(QryItemE2019!F:F,MATCH(H5,QryItemE2019!A:A,0))","v":"2\"-3\" TK, SPECIFY DIMENSIONS"},null,null,null,null,null,null,null,"TOTAL",{"$f":"IF(K5=\"LS\",\"LS\",\" \")","v":" "}]

{"sheet":"526E30011","index":35,"n_rows":64,"n_cols":18,"rows_kept":64,"cut":false,"hidden":false,"merged":[[3,16,3,21],[4,7,4,8]]}
[null,null,null,null,null,null,"DESIGN:",{"$f":"IF('Calc Cover Sheet'!B11=\"\",\"\",'Calc Cover Sheet'!B11)","v":"BMV"},"DATE:",{"$f":"IF('Calc Cover Sheet'!D11=\"\",\"\",'Calc Cover Sheet'!D11)","v":"2024-04-19"},"UPDATE:",{"$f":"IF('Calc Cover Sheet'!B13=\"\",\"\",'Calc Cover Sheet'!B13)","v":""},"DATE:",{"$f":"IF('Calc Cover Sheet'!D13=\"\",\"\",'Calc Cover Sheet'!D13)","v":""}]
[null,null,null,null,null,null,"CHECK:",{"$f":"IF('Calc Cover Sheet'!B12=\"\",\"\",'Calc Cover Sheet'!B12)","v":"TLC"},"DATE:",{"$f":"IF('Calc Cover Sheet'!D12=\"\",\"\",'Calc Cover Sheet'!D12)","v":"2024-04-25"},"RECHECK:",{"$f":"IF('Calc Cover Sheet'!B14=\"\",\"\",'Calc Cover Sheet'!B14)","v":""},"DATE:",{"$f":"IF('Calc Cover Sheet'!D14=\"\",\"\",'Calc Cover Sheet'!D14)","v":""}]
[null,null,null,null,null,null,"STRUCTURE:",{"$f":"IF('Calc Cover Sheet'!B7=\"\",\"\",'Calc Cover Sheet'!B7)","v":"HAM-00145-0203"},null,null,"SFN:",{"$f":"IF('Calc Cover Sheet'!B3=\"\",\"\",'Calc Cover Sheet'!B3)","v":3108680},"PID:",{"$f":"IF('Calc Cover Sheet'!B9=\"\",\"\",'Calc Cover Sheet'!B9)","v":110563}]
[null,null,null,null,null,null,null,null,null,null,null,null,null,null,null,null,"Lump Sum Tags (Items with a \"LS\" Pay Unit can be tagged with one or several categories)"]
[null,null,null,null,null,null,"ITEM:",{"$f":"MID(RIGHT(CELL(\"filename\",D2),LEN(CELL(\"filename\",D2))-FIND(\"]\",CELL(\"filename\",D2))),1,9)","v":"526E30011"},null,"PAY UNIT:",{"$f":"INDEX(QryItemE2019!B:B,MATCH(H5,QryItemE2019!A:A,0))","v":"SY"}]
[null,null,null,null,null,null,"SUBJECT:",{"$f":"IF('Calc Cover Sheet'!B2=\"\",\"\",'Calc Cover Sheet'!B2)","v":"ESTIMATED QUANTITIES"}]
[null,null,null,"DESCRIPTION:",{"$f":"INDEX(QryItemE2019!C:C,MATCH(H5,QryItemE2019!A:A,0))","v":"REINFORCED CONCRETE APPROACH SLABS WITH QC/QA (T=17\"), AS PER PLAN"}]
[null,null,null,"SUPPLEMENTAL DESCRIPTION:"]
[null,null,null,null,null,null,null,null,null,null,null,null,"SUBTOTAL","TOTAL",null,null,"GROUP","<<<<<Tag each subtotal value with a group from this column"]
[null,null,null,null,null,null,null,null,null,null,null,null,null,{"$f":"IF(M10=\"\",\"\",M10+MAX(N$9:N9))","v":""}]
[null,null,null,null,null,null,null,null,null,null,null,null,null,{"$f":"IF(M11=\"\",\"\",M11+MAX(N$9:N10))","v":""}]
[null,null,null,"Length = ",30,"ft",null,null,null,null,null,null,null,{"$f":"IF(M12=\"\",\"\",M12+MAX(N$9:N11))","v":""}]
[null,null,null,"Width = ",38.833300000000001,"ft",null,null,null,null,null,null,null,{"$f":"IF(M13=\"\",\"\",M13+MAX(N$9:N12))","v":""}]
[null,null,null,"# of Approaches = ",2,"each",null,null,null,null,null,null,null,{"$f":"IF(M14=\"\",\"\",M14+MAX(N$9:N13))","v":""}]
[null,null,null,null,null,null,null,null,null,null,null,null,null,{"$f":"IF(M15=\"\",\"\",M15+MAX(N$9:N14))","v":""}]
[null,null,null,"Area = ",{"$f":"E14*E12*E13/9","v":258.88866666666667},"SY",null,null,null,null,null,null,{"$f":"E16","v":258.88866666666667},{"$f":"IF(M16=\"\",\"\",M16+MAX(N$9:N15))","v":258.88866666666667},null,null,"GEN."]
[null,null,null,null,null,null,null,null,null,null,null,null,null,{"$f":"IF(M17=\"\",\"\",M17+MAX(N$9:N16))","v":""}]
[null,null,null,null,null,null,null,null,null,null,null,null,null,{"$f":"IF(M18=\"\",\"\",M18+MAX(N$9:N17))","v":""}]
[]
[null,null,null,null,null,null,null,null,null,null,null,null,null,{"$f":"IF(M20=\"\",\"\",M20+MAX(N$9:N19))","v":""}]
[null,null,null,null,null,null,null,null,null,null,null,null,null,{"$f":"IF(M21=\"\",\"\",M21+MAX(N$9:N20))","v":""}]
[null,null,null,null,null,null,null,null,null,null,null,null,null,{"$f":"IF(M22=\"\",\"\",M22+MAX(N$9:N21))","v":""}]
[null,null,null,null,null,null,null,null,null,null,null,null,null,{"$f":"IF(M23=\"\",\"\",M23+MAX(N$9:N22))","v":""}]
[null,null,null,null,null,null,null,null,null,null,null,null,null,{"$f":"IF(M24=\"\",\"\",M24+MAX(N$9:N23))","v":""}]
[null,null,null,null,null,null,null,null,null,null,null,null,null,{"$f":"IF(M25=\"\",\"\",M25+MAX(N$9:N24))","v":""}]
[null,null,null,null,null,null,null,null,null,null,null,null,null,{"$f":"IF(M26=\"\",\"\",M26+MAX(N$9:N25))","v":""}]
[null,null,null,null,null,null,null,null,null,null,null,null,null,{"$f":"IF(M27=\"\",\"\",M27+MAX(N$9:N26))","v":""}]
[null,null,null,null,null,null,null,null,null,null,null,null,null,{"$f":"IF(M28=\"\",\"\",M28+MAX(N$9:N27))","v":""}]
[null,null,null,null,null,null,null,null,null,null,null,null,null,{"$f":"IF(M29=\"\",\"\",M29+MAX(N$9:N28))","v":""}]
[null,null,null,null,null,null,null,null,null,null,null,null,null,{"$f":"IF(M30=\"\",\"\",M30+MAX(N$9:N29))","v":""}]
[null,null,null,null,null,null,null,null,null,null,null,null,null,{"$f":"IF(M31=\"\",\"\",M31+MAX(N$9:N30))","v":""}]
[null,null,null,null,null,null,null,null,null,null,null,null,null,{"$f":"IF(M32=\"\",\"\",M32+MAX(N$9:N31))","v":""}]
[null,null,null,null,null,null,null,null,null,null,null,null,null,{"$f":"IF(M33=\"\",\"\",M33+MAX(N$9:N32))","v":""}]
[null,null,null,null,null,null,null,null,null,null,null,null,null,{"$f":"IF(M34=\"\",\"\",M34+MAX(N$9:N33))","v":""}]
[null,null,null,null,null,null,null,null,null,null,null,null,null,{"$f":"IF(M35=\"\",\"\",M35+MAX(N$9:N34))","v":""}]
[null,null,null,null,null,null,null,null,null,null,null,null,null,{"$f":"IF(M36=\"\",\"\",M36+MAX(N$9:N35))","v":""}]
[null,null,null,null,null,null,null,null,null,null,null,null,null,{"$f":"IF(M37=\"\",\"\",M37+MAX(N$10:N36))","v":""}]
[null,null,null,null,null,null,null,null,null,null,null,null,null,{"$f":"IF(M38=\"\",\"\",M38+MAX(N$10:N37))","v":""}]
[null,null,null,null,null,null,null,null,null,null,null,null,null,{"$f":"IF(M39=\"\",\"\",M39+MAX(N$10:N38))","v":""}]
[null,null,null,null,null,null,null,null,null,null,null,null,null,{"$f":"IF(M40=\"\",\"\",M40+MAX(N$10:N39))","v":""}]
[null,null,null,null,null,null,null,null,null,null,null,null,null,{"$f":"IF(M41=\"\",\"\",M41+MAX(N$10:N40))","v":""}]
[null,null,null,null,null,null,null,null,null,null,null,null,null,{"$f":"IF(M42=\"\",\"\",M42+MAX(N$10:N41))","v":""}]
[null,null,null,null,null,null,null,null,null,null,null,null,null,{"$f":"IF(M43=\"\",\"\",M43+MAX(N$10:N42))","v":""}]
[null,null,null,null,null,null,null,null,null,null,null,null,null,{"$f":"IF(M44=\"\",\"\",M44+MAX(N$10:N43))","v":""}]
[null,null,null,null,null,null,null,null,null,null,null,null,null,{"$f":"IF(M45=\"\",\"\",M45+MAX(N$10:N44))","v":""}]
[null,null,null,null,null,null,null,null,null,null,null,null,null,{"$f":"IF(M46=\"\",\"\",M46+MAX(N$10:N45))","v":""}]
[null,null,null,null,null,null,null,null,null,null,null,null,null,{"$f":"IF(M47=\"\",\"\",M47+MAX(N$10:N46))","v":""}]
[null,null,null,null,null,null,null,null,null,null,null,null,null,{"$f":"IF(M48=\"\",\"\",M48+MAX(N$10:N47))","v":""}]
[null,null,null,null,null,null,null,null,null,null,null,null,null,{"$f":"IF(M49=\"\",\"\",M49+MAX(N$10:N48))","v":""}]
[null,null,null,null,null,null,null,null,null,null,null,null,null,{"$f":"IF(M50=\"\",\"\",M50+MAX(N$10:N49))","v":""}]
[null,null,null,null,null,null,null,null,null,null,null,null,null,{"$f":"IF(M51=\"\",\"\",M51+MAX(N$10:N50))","v":""}]
[null,null,null,null,null,null,null,null,null,null,null,null,null,{"$f":"IF(M52=\"\",\"\",M52+MAX(N$10:N51))","v":""}]
[null,null,null,null,null,null,null,null,null,null,null,null,null,{"$f":"IF(M53=\"\",\"\",M53+MAX(N$10:N52))","v":""}]
[null,null,null,null,null,null,null,null,null,null,null,null,null,{"$f":"IF(M54=\"\",\"\",M54+MAX(N$10:N53))","v":""}]
[null,null,null,null,null,null,null,null,null,null,null,null,null,{"$f":"IF(M55=\"\",\"\",M55+MAX(N$10:N54))","v":""}]
[null,null,null,null,null,null,null,null,null,null,null,null,null,{"$f":"IF(M56=\"\",\"\",M56+MAX(N$10:N55))","v":""}]
[null,null,null,null,null,null,null,null,null,null,null,null,null,{"$f":"IF(M57=\"\",\"\",M57+MAX(N$10:N56))","v":""}]
[null,null,null,null,null,null,null,null,null,null,null,null,null,{"$f":"IF(M58=\"\",\"\",M58+MAX(N$10:N57))","v":""}]
[null,null,null,null,null,null,null,null,null,null,null,null,null,{"$f":"IF(M59=\"\",\"\",M59+MAX(N$10:N58))","v":""}]
[null,null,null,null,null,null,null,null,null,null,null,null,null,{"$f":"IF(M60=\"\",\"\",M60+MAX(N$10:N59))","v":""}]
[null,null,null,null,null,null,null,null,null,null,null,null,null,{"$f":"IF(M61=\"\",\"\",M61+MAX(N$10:N60))","v":""}]
[null,null,null,null,null,null,null,null,null,null,null,null,null,{"$f":"IF(M62=\"\",\"\",M62+MAX(N$10:N61))","v":""}]
[null,null,null,null,null,null,null,null,null,null,null,null,null,{"$f":"IF(M63=\"\",\"\",M63+MAX(N$10:N62))","v":""}]
[null,null,null,"SPECIAL INSTRUCTIONS:",{"$f":"INDEX(QryItemE2019!F:F,MATCH(H5,QryItemE2019!A:A,0))","v":""},null,null,null,null,null,null,null,"TOTAL",{"$f":"IF(K5=\"LS\",\"LS\",\" \")","v":" "}]

{"sheet":"526E90031","index":36,"n_rows":64,"n_cols":18,"rows_kept":64,"cut":false,"hidden":false,"merged":[[3,16,3,21],[4,7,4,8]]}
[null,null,null,null,null,null,"DESIGN:",{"$f":"IF('Calc Cover Sheet'!B11=\"\",\"\",'Calc Cover Sheet'!B11)","v":"BMV"},"DATE:",{"$f":"IF('Calc Cover Sheet'!D11=\"\",\"\",'Calc Cover Sheet'!D11)","v":"2024-04-19"},"UPDATE:",{"$f":"IF('Calc Cover Sheet'!B13=\"\",\"\",'Calc Cover Sheet'!B13)","v":""},"DATE:",{"$f":"IF('Calc Cover Sheet'!D13=\"\",\"\",'Calc Cover Sheet'!D13)","v":""}]
[null,null,null,null,null,null,"CHECK:",{"$f":"IF('Calc Cover Sheet'!B12=\"\",\"\",'Calc Cover Sheet'!B12)","v":"TLC"},"DATE:",{"$f":"IF('Calc Cover Sheet'!D12=\"\",\"\",'Calc Cover Sheet'!D12)","v":"2024-04-25"},"RECHECK:",{"$f":"IF('Calc Cover Sheet'!B14=\"\",\"\",'Calc Cover Sheet'!B14)","v":""},"DATE:",{"$f":"IF('Calc Cover Sheet'!D14=\"\",\"\",'Calc Cover Sheet'!D14)","v":""}]
[null,null,null,null,null,null,"STRUCTURE:",{"$f":"IF('Calc Cover Sheet'!B7=\"\",\"\",'Calc Cover Sheet'!B7)","v":"HAM-00145-0203"},null,null,"SFN:",{"$f":"IF('Calc Cover Sheet'!B3=\"\",\"\",'Calc Cover Sheet'!B3)","v":3108680},"PID:",{"$f":"IF('Calc Cover Sheet'!B9=\"\",\"\",'Calc Cover Sheet'!B9)","v":110563}]
[null,null,null,null,null,null,null,null,null,null,null,null,null,null,null,null,"Lump Sum Tags (Items with a \"LS\" Pay Unit can be tagged with one or several categories)"]
[null,null,null,null,null,null,"ITEM:",{"$f":"MID(RIGHT(CELL(\"filename\",D2),LEN(CELL(\"filename\",D2))-FIND(\"]\",CELL(\"filename\",D2))),1,9)","v":"526E90031"},null,"PAY UNIT:",{"$f":"INDEX(QryItemE2019!B:B,MATCH(H5,QryItemE2019!A:A,0))","v":"FT"}]
[null,null,null,null,null,null,"SUBJECT:",{"$f":"IF('Calc Cover Sheet'!B2=\"\",\"\",'Calc Cover Sheet'!B2)","v":"ESTIMATED QUANTITIES"}]
[null,null,null,"DESCRIPTION:",{"$f":"INDEX(QryItemE2019!C:C,MATCH(H5,QryItemE2019!A:A,0))","v":"TYPE C INSTALLATION, AS PER PLAN"}]
[null,null,null,"SUPPLEMENTAL DESCRIPTION:"]
[null,null,null,null,null,null,null,null,null,null,null,null,"SUBTOTAL","TOTAL",null,null,"GROUP","<<<<<Tag each subtotal value with a group from this column"]
[null,null,null,null,null,null,null,null,null,null,null,null,null,{"$f":"IF(M10=\"\",\"\",M10+MAX(N$9:N9))","v":""}]
[null,null,null,null,null,null,null,null,null,null,null,null,null,{"$f":"IF(M11=\"\",\"\",M11+MAX(N$9:N10))","v":""}]
[null,null,null,null,null,null,null,null,null,null,null,null,null,{"$f":"IF(M12=\"\",\"\",M12+MAX(N$9:N11))","v":""}]
[null,null,null,"Width = ",38.833300000000001,"ft",null,null,null,null,null,null,null,{"$f":"IF(M13=\"\",\"\",M13+MAX(N$9:N12))","v":""}]
[null,null,null,"# of Approaches = ",2,"each",null,null,null,null,null,null,null,{"$f":"IF(M14=\"\",\"\",M14+MAX(N$9:N13))","v":""}]
[null,null,null,null,null,null,null,null,null,null,null,null,null,{"$f":"IF(M15=\"\",\"\",M15+MAX(N$9:N14))","v":""}]
[null,null,null,"Total = ",{"$f":"E13*E14","v":77.666600000000003},"FT",null,null,null,null,null,null,{"$f":"E16","v":77.666600000000003},{"$f":"IF(M16=\"\",\"\",M16+MAX(N$9:N15))","v":77.666600000000003},null,null,"GEN."]
[null,null,null,null,null,null,null,null,null,null,null,null,null,{"$f":"IF(M17=\"\",\"\",M17+MAX(N$9:N16))","v":""}]
[null,null,null,null,null,null,null,null,null,null,null,null,null,{"$f":"IF(M18=\"\",\"\",M18+MAX(N$9:N17))","v":""}]
[]
[null,null,null,null,null,null,null,null,null,null,null,null,null,{"$f":"IF(M20=\"\",\"\",M20+MAX(N$9:N19))","v":""}]
[null,null,null,null,null,null,null,null,null,null,null,null,null,{"$f":"IF(M21=\"\",\"\",M21+MAX(N$9:N20))","v":""}]
[null,null,null,null,null,null,null,null,null,null,null,null,null,{"$f":"IF(M22=\"\",\"\",M22+MAX(N$9:N21))","v":""}]
[null,null,null,null,null,null,null,null,null,null,null,null,null,{"$f":"IF(M23=\"\",\"\",M23+MAX(N$9:N22))","v":""}]
[null,null,null,null,null,null,null,null,null,null,null,null,null,{"$f":"IF(M24=\"\",\"\",M24+MAX(N$9:N23))","v":""}]
[null,null,null,null,null,null,null,null,null,null,null,null,null,{"$f":"IF(M25=\"\",\"\",M25+MAX(N$9:N24))","v":""}]
[null,null,null,null,null,null,null,null,null,null,null,null,null,{"$f":"IF(M26=\"\",\"\",M26+MAX(N$9:N25))","v":""}]
[null,null,null,null,null,null,null,null,null,null,null,null,null,{"$f":"IF(M27=\"\",\"\",M27+MAX(N$9:N26))","v":""}]
[null,null,null,null,null,null,null,null,null,null,null,null,null,{"$f":"IF(M28=\"\",\"\",M28+MAX(N$9:N27))","v":""}]
[null,null,null,null,null,null,null,null,null,null,null,null,null,{"$f":"IF(M29=\"\",\"\",M29+MAX(N$9:N28))","v":""}]
[null,null,null,null,null,null,null,null,null,null,null,null,null,{"$f":"IF(M30=\"\",\"\",M30+MAX(N$9:N29))","v":""}]
[null,null,null,null,null,null,null,null,null,null,null,null,null,{"$f":"IF(M31=\"\",\"\",M31+MAX(N$9:N30))","v":""}]
[null,null,null,null,null,null,null,null,null,null,null,null,null,{"$f":"IF(M32=\"\",\"\",M32+MAX(N$9:N31))","v":""}]
[null,null,null,null,null,null,null,null,null,null,null,null,null,{"$f":"IF(M33=\"\",\"\",M33+MAX(N$9:N32))","v":""}]
[null,null,null,null,null,null,null,null,null,null,null,null,null,{"$f":"IF(M34=\"\",\"\",M34+MAX(N$9:N33))","v":""}]
[null,null,null,null,null,null,null,null,null,null,null,null,null,{"$f":"IF(M35=\"\",\"\",M35+MAX(N$9:N34))","v":""}]
[null,null,null,null,null,null,null,null,null,null,null,null,null,{"$f":"IF(M36=\"\",\"\",M36+MAX(N$9:N35))","v":""}]
[null,null,null,null,null,null,null,null,null,null,null,null,null,{"$f":"IF(M37=\"\",\"\",M37+MAX(N$10:N36))","v":""}]
[null,null,null,null,null,null,null,null,null,null,null,null,null,{"$f":"IF(M38=\"\",\"\",M38+MAX(N$10:N37))","v":""}]
[null,null,null,null,null,null,null,null,null,null,null,null,null,{"$f":"IF(M39=\"\",\"\",M39+MAX(N$10:N38))","v":""}]
[null,null,null,null,null,null,null,null,null,null,null,null,null,{"$f":"IF(M40=\"\",\"\",M40+MAX(N$10:N39))","v":""}]
[null,null,null,null,null,null,null,null,null,null,null,null,null,{"$f":"IF(M41=\"\",\"\",M41+MAX(N$10:N40))","v":""}]
[null,null,null,null,null,null,null,null,null,null,null,null,null,{"$f":"IF(M42=\"\",\"\",M42+MAX(N$10:N41))","v":""}]
[null,null,null,null,null,null,null,null,null,null,null,null,null,{"$f":"IF(M43=\"\",\"\",M43+MAX(N$10:N42))","v":""}]
[null,null,null,null,null,null,null,null,null,null,null,null,null,{"$f":"IF(M44=\"\",\"\",M44+MAX(N$10:N43))","v":""}]
[null,null,null,null,null,null,null,null,null,null,null,null,null,{"$f":"IF(M45=\"\",\"\",M45+MAX(N$10:N44))","v":""}]
[null,null,null,null,null,null,null,null,null,null,null,null,null,{"$f":"IF(M46=\"\",\"\",M46+MAX(N$10:N45))","v":""}]
[null,null,null,null,null,null,null,null,null,null,null,null,null,{"$f":"IF(M47=\"\",\"\",M47+MAX(N$10:N46))","v":""}]
[null,null,null,null,null,null,null,null,null,null,null,null,null,{"$f":"IF(M48=\"\",\"\",M48+MAX(N$10:N47))","v":""}]
[null,null,null,null,null,null,null,null,null,null,null,null,null,{"$f":"IF(M49=\"\",\"\",M49+MAX(N$10:N48))","v":""}]
[null,null,null,null,null,null,null,null,null,null,null,null,null,{"$f":"IF(M50=\"\",\"\",M50+MAX(N$10:N49))","v":""}]
[null,null,null,null,null,null,null,null,null,null,null,null,null,{"$f":"IF(M51=\"\",\"\",M51+MAX(N$10:N50))","v":""}]
[null,null,null,null,null,null,null,null,null,null,null,null,null,{"$f":"IF(M52=\"\",\"\",M52+MAX(N$10:N51))","v":""}]
[null,null,null,null,null,null,null,null,null,null,null,null,null,{"$f":"IF(M53=\"\",\"\",M53+MAX(N$10:N52))","v":""}]
[null,null,null,null,null,null,null,null,null,null,null,null,null,{"$f":"IF(M54=\"\",\"\",M54+MAX(N$10:N53))","v":""}]
[null,null,null,null,null,null,null,null,null,null,null,null,null,{"$f":"IF(M55=\"\",\"\",M55+MAX(N$10:N54))","v":""}]
[null,null,null,null,null,null,null,null,null,null,null,null,null,{"$f":"IF(M56=\"\",\"\",M56+MAX(N$10:N55))","v":""}]
[null,null,null,null,null,null,null,null,null,null,null,null,null,{"$f":"IF(M57=\"\",\"\",M57+MAX(N$10:N56))","v":""}]
[null,null,null,null,null,null,null,null,null,null,null,null,null,{"$f":"IF(M58=\"\",\"\",M58+MAX(N$10:N57))","v":""}]
[null,null,null,null,null,null,null,null,null,null,null,null,null,{"$f":"IF(M59=\"\",\"\",M59+MAX(N$10:N58))","v":""}]
[null,null,null,null,null,null,null,null,null,null,null,null,null,{"$f":"IF(M60=\"\",\"\",M60+MAX(N$10:N59))","v":""}]
[null,null,null,null,null,null,null,null,null,null,null,null,null,{"$f":"IF(M61=\"\",\"\",M61+MAX(N$10:N60))","v":""}]
[null,null,null,null,null,null,null,null,null,null,null,null,null,{"$f":"IF(M62=\"\",\"\",M62+MAX(N$10:N61))","v":""}]
[null,null,null,null,null,null,null,null,null,null,null,null,null,{"$f":"IF(M63=\"\",\"\",M63+MAX(N$10:N62))","v":""}]
[null,null,null,"SPECIAL INSTRUCTIONS:",{"$f":"INDEX(QryItemE2019!F:F,MATCH(H5,QryItemE2019!A:A,0))","v":""},null,null,null,null,null,null,null,"TOTAL",{"$f":"IF(K5=\"LS\",\"LS\",\" \")","v":" "}]

{"sheet":"530E13000","index":37,"n_rows":64,"n_cols":18,"rows_kept":64,"cut":false,"hidden":false,"merged":[[3,16,3,21],[4,7,4,8]]}
[null,null,null,null,null,null,"DESIGN:",{"$f":"IF('Calc Cover Sheet'!B11=\"\",\"\",'Calc Cover Sheet'!B11)","v":"BMV"},"DATE:",{"$f":"IF('Calc Cover Sheet'!D11=\"\",\"\",'Calc Cover Sheet'!D11)","v":"2024-04-19"},"UPDATE:",{"$f":"IF('Calc Cover Sheet'!B13=\"\",\"\",'Calc Cover Sheet'!B13)","v":""},"DATE:",{"$f":"IF('Calc Cover Sheet'!D13=\"\",\"\",'Calc Cover Sheet'!D13)","v":""}]
[null,null,null,null,null,null,"CHECK:",{"$f":"IF('Calc Cover Sheet'!B12=\"\",\"\",'Calc Cover Sheet'!B12)","v":"TLC"},"DATE:",{"$f":"IF('Calc Cover Sheet'!D12=\"\",\"\",'Calc Cover Sheet'!D12)","v":"2024-04-25"},"RECHECK:",{"$f":"IF('Calc Cover Sheet'!B14=\"\",\"\",'Calc Cover Sheet'!B14)","v":""},"DATE:",{"$f":"IF('Calc Cover Sheet'!D14=\"\",\"\",'Calc Cover Sheet'!D14)","v":""}]
[null,null,null,null,null,null,"STRUCTURE:",{"$f":"IF('Calc Cover Sheet'!B7=\"\",\"\",'Calc Cover Sheet'!B7)","v":"HAM-00145-0203"},null,null,"SFN:",{"$f":"IF('Calc Cover Sheet'!B3=\"\",\"\",'Calc Cover Sheet'!B3)","v":3108680},"PID:",{"$f":"IF('Calc Cover Sheet'!B9=\"\",\"\",'Calc Cover Sheet'!B9)","v":110563}]
[null,null,null,null,null,null,null,null,null,null,null,null,null,null,null,null,"Lump Sum Tags (Items with a \"LS\" Pay Unit can be tagged with one or several categories)"]
[null,null,null,null,null,null,"ITEM:",{"$f":"MID(RIGHT(CELL(\"filename\",D2),LEN(CELL(\"filename\",D2))-FIND(\"]\",CELL(\"filename\",D2))),1,9)","v":"530E13000"},null,"PAY UNIT:",{"$f":"INDEX(QryItemE2019!B:B,MATCH(H5,QryItemE2019!A:A,0))","v":"SF"}]
[null,null,null,null,null,null,"SUBJECT:",{"$f":"IF('Calc Cover Sheet'!B2=\"\",\"\",'Calc Cover Sheet'!B2)","v":"ESTIMATED QUANTITIES"}]
[null,null,null,"DESCRIPTION:",{"$f":"INDEX(QryItemE2019!C:C,MATCH(H5,QryItemE2019!A:A,0))","v":"SPECIAL - FORM LINER"}]
[null,null,null,"SUPPLEMENTAL DESCRIPTION:"]
[null,null,null,null,null,null,null,null,null,null,null,null,"SUBTOTAL","TOTAL",null,null,"GROUP","<<<<<Tag each subtotal value with a group from this column"]
[null,null,null,null,null,null,null,null,null,null,null,null,null,{"$f":"IF(M10=\"\",\"\",M10+MAX(N$9:N9))","v":""}]
[null,null,null,null,null,null,null,null,null,null,null,null,null,{"$f":"IF(M11=\"\",\"\",M11+MAX(N$9:N10))","v":""}]
[null,null,null,"West railing (BR-2-15)",null,null,null,null,null,null,null,null,null,{"$f":"IF(M12=\"\",\"\",M12+MAX(N$9:N11))","v":""}]
[null,null,null,"Height = ",3.75,"ft",null,null,null,null,null,null,null,{"$f":"IF(M13=\"\",\"\",M13+MAX(N$9:N12))","v":""}]
[null,null,null,"Bridge Length = ",182.667,"ft",null,null,null,null,null,null,null,{"$f":"IF(M14=\"\",\"\",M14+MAX(N$9:N13))","v":""}]
[null,null,null,"Approach Length =",30,"ft/each",null,null,null,null,null,null,null,{"$f":"IF(M15=\"\",\"\",M15+MAX(N$9:N14))","v":""}]
[null,null,null,"Moment Slab Length =",{"$f":"9+10/12","v":9.8333333333333339},"ft",null,"Rear Abut"]
[null,null,null,"Moment Slab Length =",{"$f":"7+7+12+10/12","v":26.833333333333332},"ft",null,"Fwd Abut",null,null,null,null,null,{"$f":"IF(M17=\"\",\"\",M17+MAX(N$9:N16))","v":""}]
[null,null,null,null,null,null,null,null,null,null,null,null,null,{"$f":"IF(M18=\"\",\"\",M18+MAX(N$9:N17))","v":""}]
[null,null,null,"Area =",{"$f":"E13*(E14+(2*E15)+E16+E17)","v":1047.50125},"SF",null,null,null,null,null,null,{"$f":"E19","v":1047.50125},{"$f":"IF(M19=\"\",\"\",M19+MAX(N$9:N18))","v":1047.50125},null,null,"GEN."]
[null,null,null,null,null,null,null,null,null,null,null,null,null,{"$f":"IF(M20=\"\",\"\",M20+MAX(N$9:N19))","v":""}]
[null,null,null,"East railing (SBR-1-20)",null,null,null,null,null,null,null,null,null,{"$f":"IF(M21=\"\",\"\",M21+MAX(N$9:N20))","v":""}]
[null,null,null,"Height = ",3.75,"ft",null,null,null,null,null,null,null,{"$f":"IF(M22=\"\",\"\",M22+MAX(N$9:N21))","v":""}]
[null,null,null,"Bridge Length = ",182.667,"ft",null,null,null,null,null,null,null,{"$f":"IF(M23=\"\",\"\",M23+MAX(N$9:N22))","v":""}]
[null,null,null,"Approach Length =",30,"ft/each",null,null,null,null,null,null,null,{"$f":"IF(M24=\"\",\"\",M24+MAX(N$9:N23))","v":""}]
[null,null,null,"Moment Slab Length =",{"$f":"9+10/12","v":9.8333333333333339},"ft",null,"Rear Abut",null,null,null,null,null,{"$f":"IF(M25=\"\",\"\",M25+MAX(N$9:N24))","v":""}]
[null,null,null,"Moment Slab Length =",{"$f":"40+10/12","v":40.833333333333336},"ft",null,"Fwd Abut",null,null,null,null,null,{"$f":"IF(M26=\"\",\"\",M26+MAX(N$9:N25))","v":""}]
[null,null,null,null,null,null,null,null,null,null,null,null,null,{"$f":"IF(M27=\"\",\"\",M27+MAX(N$9:N26))","v":""}]
[null,null,null,"Area =",{"$f":"E22*(E23+(2*E24)+E25+E26)","v":1100.00125},"SF",null,null,null,null,null,null,{"$f":"E28","v":1100.00125},{"$f":"IF(M28=\"\",\"\",M28+MAX(N$9:N27))","v":2147.5025000000001},null,null,"GEN."]
[null,null,null,null,null,null,null,null,null,null,null,null,null,{"$f":"IF(M29=\"\",\"\",M29+MAX(N$9:N28))","v":""}]
[null,null,null,null,null,null,null,null,null,null,null,null,null,{"$f":"IF(M30=\"\",\"\",M30+MAX(N$9:N29))","v":""}]
[null,null,null,null,null,null,null,null,null,null,null,null,null,{"$f":"IF(M31=\"\",\"\",M31+MAX(N$9:N30))","v":""}]
[null,null,null,null,null,null,null,null,null,null,null,null,null,{"$f":"IF(M32=\"\",\"\",M32+MAX(N$9:N31))","v":""}]
[null,null,null,null,null,null,null,null,null,null,null,null,null,{"$f":"IF(M33=\"\",\"\",M33+MAX(N$9:N32))","v":""}]
[null,null,null,null,null,null,null,null,null,null,null,null,null,{"$f":"IF(M34=\"\",\"\",M34+MAX(N$9:N33))","v":""}]
[null,null,null,null,null,null,null,null,null,null,null,null,null,{"$f":"IF(M35=\"\",\"\",M35+MAX(N$9:N34))","v":""}]
[null,null,null,null,null,null,null,null,null,null,null,null,null,{"$f":"IF(M36=\"\",\"\",M36+MAX(N$9:N35))","v":""}]
[null,null,null,null,null,null,null,null,null,null,null,null,null,{"$f":"IF(M37=\"\",\"\",M37+MAX(N$10:N36))","v":""}]
[null,null,null,null,null,null,null,null,null,null,null,null,null,{"$f":"IF(M38=\"\",\"\",M38+MAX(N$10:N37))","v":""}]
[null,null,null,null,null,null,null,null,null,null,null,null,null,{"$f":"IF(M39=\"\",\"\",M39+MAX(N$10:N38))","v":""}]
[null,null,null,null,null,null,null,null,null,null,null,null,null,{"$f":"IF(M40=\"\",\"\",M40+MAX(N$10:N39))","v":""}]
[null,null,null,null,null,null,null,null,null,null,null,null,null,{"$f":"IF(M41=\"\",\"\",M41+MAX(N$10:N40))","v":""}]
[null,null,null,null,null,null,null,null,null,null,null,null,null,{"$f":"IF(M42=\"\",\"\",M42+MAX(N$10:N41))","v":""}]
[null,null,null,null,null,null,null,null,null,null,null,null,null,{"$f":"IF(M43=\"\",\"\",M43+MAX(N$10:N42))","v":""}]
[null,null,null,null,null,null,null,null,null,null,null,null,null,{"$f":"IF(M44=\"\",\"\",M44+MAX(N$10:N43))","v":""}]
[null,null,null,null,null,null,null,null,null,null,null,null,null,{"$f":"IF(M45=\"\",\"\",M45+MAX(N$10:N44))","v":""}]
[null,null,null,null,null,null,null,null,null,null,null,null,null,{"$f":"IF(M46=\"\",\"\",M46+MAX(N$10:N45))","v":""}]
[null,null,null,null,null,null,null,null,null,null,null,null,null,{"$f":"IF(M47=\"\",\"\",M47+MAX(N$10:N46))","v":""}]
[null,null,null,null,null,null,null,null,null,null,null,null,null,{"$f":"IF(M48=\"\",\"\",M48+MAX(N$10:N47))","v":""}]
[null,null,null,null,null,null,null,null,null,null,null,null,null,{"$f":"IF(M49=\"\",\"\",M49+MAX(N$10:N48))","v":""}]
[null,null,null,null,null,null,null,null,null,null,null,null,null,{"$f":"IF(M50=\"\",\"\",M50+MAX(N$10:N49))","v":""}]
[null,null,null,null,null,null,null,null,null,null,null,null,null,{"$f":"IF(M51=\"\",\"\",M51+MAX(N$10:N50))","v":""}]
[null,null,null,null,null,null,null,null,null,null,null,null,null,{"$f":"IF(M52=\"\",\"\",M52+MAX(N$10:N51))","v":""}]
[null,null,null,null,null,null,null,null,null,null,null,null,null,{"$f":"IF(M53=\"\",\"\",M53+MAX(N$10:N52))","v":""}]
[null,null,null,null,null,null,null,null,null,null,null,null,null,{"$f":"IF(M54=\"\",\"\",M54+MAX(N$10:N53))","v":""}]
[null,null,null,null,null,null,null,null,null,null,null,null,null,{"$f":"IF(M55=\"\",\"\",M55+MAX(N$10:N54))","v":""}]
[null,null,null,null,null,null,null,null,null,null,null,null,null,{"$f":"IF(M56=\"\",\"\",M56+MAX(N$10:N55))","v":""}]
[null,null,null,null,null,null,null,null,null,null,null,null,null,{"$f":"IF(M57=\"\",\"\",M57+MAX(N$10:N56))","v":""}]
[null,null,null,null,null,null,null,null,null,null,null,null,null,{"$f":"IF(M58=\"\",\"\",M58+MAX(N$10:N57))","v":""}]
[null,null,null,null,null,null,null,null,null,null,null,null,null,{"$f":"IF(M59=\"\",\"\",M59+MAX(N$10:N58))","v":""}]
[null,null,null,null,null,null,null,null,null,null,null,null,null,{"$f":"IF(M60=\"\",\"\",M60+MAX(N$10:N59))","v":""}]
[null,null,null,null,null,null,null,null,null,null,null,null,null,{"$f":"IF(M61=\"\",\"\",M61+MAX(N$10:N60))","v":""}]
[null,null,null,null,null,null,null,null,null,null,null,null,null,{"$f":"IF(M62=\"\",\"\",M62+MAX(N$10:N61))","v":""}]
[null,null,null,null,null,null,null,null,null,null,null,null,null,{"$f":"IF(M63=\"\",\"\",M63+MAX(N$10:N62))","v":""}]
[null,null,null,"SPECIAL INSTRUCTIONS:",{"$f":"INDEX(QryItemE2019!F:F,MATCH(H5,QryItemE2019!A:A,0))","v":""},null,null,null,null,null,null,null,"TOTAL",{"$f":"IF(K5=\"LS\",\"LS\",\" \")","v":" "}]

{"sheet":"601E21000","index":38,"n_rows":64,"n_cols":18,"rows_kept":64,"cut":false,"hidden":false,"merged":[[3,16,3,21],[4,7,4,8]]}
[null,null,null,null,null,null,"DESIGN:",{"$f":"IF('Calc Cover Sheet'!B11=\"\",\"\",'Calc Cover Sheet'!B11)","v":"BMV"},"DATE:",{"$f":"IF('Calc Cover Sheet'!D11=\"\",\"\",'Calc Cover Sheet'!D11)","v":"2024-04-19"},"UPDATE:",{"$f":"IF('Calc Cover Sheet'!B13=\"\",\"\",'Calc Cover Sheet'!B13)","v":""},"DATE:",{"$f":"IF('Calc Cover Sheet'!D13=\"\",\"\",'Calc Cover Sheet'!D13)","v":""}]
[null,null,null,null,null,null,"CHECK:",{"$f":"IF('Calc Cover Sheet'!B12=\"\",\"\",'Calc Cover Sheet'!B12)","v":"TLC"},"DATE:",{"$f":"IF('Calc Cover Sheet'!D12=\"\",\"\",'Calc Cover Sheet'!D12)","v":"2024-04-25"},"RECHECK:",{"$f":"IF('Calc Cover Sheet'!B14=\"\",\"\",'Calc Cover Sheet'!B14)","v":""},"DATE:",{"$f":"IF('Calc Cover Sheet'!D14=\"\",\"\",'Calc Cover Sheet'!D14)","v":""}]
[null,null,null,null,null,null,"STRUCTURE:",{"$f":"IF('Calc Cover Sheet'!B7=\"\",\"\",'Calc Cover Sheet'!B7)","v":"HAM-00145-0203"},null,null,"SFN:",{"$f":"IF('Calc Cover Sheet'!B3=\"\",\"\",'Calc Cover Sheet'!B3)","v":3108680},"PID:",{"$f":"IF('Calc Cover Sheet'!B9=\"\",\"\",'Calc Cover Sheet'!B9)","v":110563}]
[null,null,null,null,null,null,null,null,null,null,null,null,null,null,null,null,"Lump Sum Tags (Items with a \"LS\" Pay Unit can be tagged with one or several categories)"]
[null,null,null,null,null,null,"ITEM:",{"$f":"MID(RIGHT(CELL(\"filename\",D2),LEN(CELL(\"filename\",D2))-FIND(\"]\",CELL(\"filename\",D2))),1,9)","v":"601E21000"},null,"PAY UNIT:",{"$f":"INDEX(QryItemE2019!B:B,MATCH(H5,QryItemE2019!A:A,0))","v":"SY"}]
[null,null,null,null,null,null,"SUBJECT:",{"$f":"IF('Calc Cover Sheet'!B2=\"\",\"\",'Calc Cover Sheet'!B2)","v":"ESTIMATED QUANTITIES"}]
[null,null,null,"DESCRIPTION:",{"$f":"INDEX(QryItemE2019!C:C,MATCH(H5,QryItemE2019!A:A,0))","v":"CONCRETE SLOPE PROTECTION"}]
[null,null,null,"SUPPLEMENTAL DESCRIPTION:"]
[null,null,null,null,null,null,null,null,null,null,null,null,"SUBTOTAL","TOTAL",null,null,"GROUP","<<<<<Tag each subtotal value with a group from this column"]
[null,null,null,null,null,null,null,null,null,null,null,null,null,{"$f":"IF(M10=\"\",\"\",M10+MAX(N$9:N9))","v":""}]
[null,null,null,null,null,null,null,null,null,null,null,null,null,{"$f":"IF(M11=\"\",\"\",M11+MAX(N$9:N10))","v":""}]
[null,null,"Between MSE Wall and Abutment Footing",null,null,null,null,null,null,null,null,null,null,{"$f":"IF(M12=\"\",\"\",M12+MAX(N$9:N11))","v":""}]
[null,null,null,null,null,null,null,null,null,null,null,null,null,{"$f":"IF(M13=\"\",\"\",M13+MAX(N$9:N12))","v":""}]
[null,null,null,"Length at Rear Abut. = ",38.833300000000001,"ft",null,null,null,null,null,null,null,{"$f":"IF(M14=\"\",\"\",M14+MAX(N$9:N13))","v":""}]
[null,null,null,"Length at Fwd Abut. = ",38.833300000000001,"ft",null,null,null,null,null,null,null,{"$f":"IF(M15=\"\",\"\",M15+MAX(N$9:N14))","v":""}]
[null,null,null,"Width = ",1.9167000000000001,"ft",null,null,null,null,null,null,null,{"$f":"IF(M16=\"\",\"\",M16+MAX(N$9:N15))","v":""}]
[null,null,null,null,null,null,null,null,null,null,null,null,null,{"$f":"IF(M17=\"\",\"\",M17+MAX(N$9:N16))","v":""}]
[null,null,null,"Area = ",{"$f":"E16*(E14+E15)/9","v":16.540396913333336},"SY",null,null,null,null,null,null,{"$f":"CEILING(E18,1)","v":17},{"$f":"IF(M18=\"\",\"\",M18+MAX(N$9:N17))","v":17},null,null,"ABUT."]
[]
[null,null,null,null,null,null,null,null,null,null,null,null,null,{"$f":"IF(M20=\"\",\"\",M20+MAX(N$9:N19))","v":""}]
[null,null,null,null,null,null,null,null,null,null,null,null,null,{"$f":"IF(M21=\"\",\"\",M21+MAX(N$9:N20))","v":""}]
[null,null,null,null,null,null,null,null,null,null,null,null,null,{"$f":"IF(M22=\"\",\"\",M22+MAX(N$9:N21))","v":""}]
[null,null,null,null,null,null,null,null,null,null,null,null,null,{"$f":"IF(M23=\"\",\"\",M23+MAX(N$9:N22))","v":""}]
[null,null,null,null,null,null,null,null,null,null,null,null,null,{"$f":"IF(M24=\"\",\"\",M24+MAX(N$9:N23))","v":""}]
[null,null,null,null,null,null,null,null,null,null,null,null,null,{"$f":"IF(M25=\"\",\"\",M25+MAX(N$9:N24))","v":""}]
[null,null,null,null,null,null,null,null,null,null,null,null,null,{"$f":"IF(M26=\"\",\"\",M26+MAX(N$9:N25))","v":""}]
[null,null,null,null,null,null,null,null,null,null,null,null,null,{"$f":"IF(M27=\"\",\"\",M27+MAX(N$9:N26))","v":""}]
[null,null,null,null,null,null,null,null,null,null,null,null,null,{"$f":"IF(M28=\"\",\"\",M28+MAX(N$9:N27))","v":""}]
[null,null,null,null,null,null,null,null,null,null,null,null,null,{"$f":"IF(M29=\"\",\"\",M29+MAX(N$9:N28))","v":""}]
[null,null,null,null,null,null,null,null,null,null,null,null,null,{"$f":"IF(M30=\"\",\"\",M30+MAX(N$9:N29))","v":""}]
[null,null,null,null,null,null,null,null,null,null,null,null,null,{"$f":"IF(M31=\"\",\"\",M31+MAX(N$9:N30))","v":""}]
[null,null,null,null,null,null,null,null,null,null,null,null,null,{"$f":"IF(M32=\"\",\"\",M32+MAX(N$9:N31))","v":""}]
[null,null,null,null,null,null,null,null,null,null,null,null,null,{"$f":"IF(M33=\"\",\"\",M33+MAX(N$9:N32))","v":""}]
[null,null,null,null,null,null,null,null,null,null,null,null,null,{"$f":"IF(M34=\"\",\"\",M34+MAX(N$9:N33))","v":""}]
[null,null,null,null,null,null,null,null,null,null,null,null,null,{"$f":"IF(M35=\"\",\"\",M35+MAX(N$9:N34))","v":""}]
[null,null,null,null,null,null,null,null,null,null,null,null,null,{"$f":"IF(M36=\"\",\"\",M36+MAX(N$9:N35))","v":""}]
[null,null,null,null,null,null,null,null,null,null,null,null,null,{"$f":"IF(M37=\"\",\"\",M37+MAX(N$10:N36))","v":""}]
[null,null,null,null,null,null,null,null,null,null,null,null,null,{"$f":"IF(M38=\"\",\"\",M38+MAX(N$10:N37))","v":""}]
[null,null,null,null,null,null,null,null,null,null,null,null,null,{"$f":"IF(M39=\"\",\"\",M39+MAX(N$10:N38))","v":""}]
[null,null,null,null,null,null,null,null,null,null,null,null,null,{"$f":"IF(M40=\"\",\"\",M40+MAX(N$10:N39))","v":""}]
[null,null,null,null,null,null,null,null,null,null,null,null,null,{"$f":"IF(M41=\"\",\"\",M41+MAX(N$10:N40))","v":""}]
[null,null,null,null,null,null,null,null,null,null,null,null,null,{"$f":"IF(M42=\"\",\"\",M42+MAX(N$10:N41))","v":""}]
[null,null,null,null,null,null,null,null,null,null,null,null,null,{"$f":"IF(M43=\"\",\"\",M43+MAX(N$10:N42))","v":""}]
[null,null,null,null,null,null,null,null,null,null,null,null,null,{"$f":"IF(M44=\"\",\"\",M44+MAX(N$10:N43))","v":""}]
[null,null,null,null,null,null,null,null,null,null,null,null,null,{"$f":"IF(M45=\"\",\"\",M45+MAX(N$10:N44))","v":""}]
[null,null,null,null,null,null,null,null,null,null,null,null,null,{"$f":"IF(M46=\"\",\"\",M46+MAX(N$10:N45))","v":""}]
[null,null,null,null,null,null,null,null,null,null,null,null,null,{"$f":"IF(M47=\"\",\"\",M47+MAX(N$10:N46))","v":""}]
[null,null,null,null,null,null,null,null,null,null,null,null,null,{"$f":"IF(M48=\"\",\"\",M48+MAX(N$10:N47))","v":""}]
[null,null,null,null,null,null,null,null,null,null,null,null,null,{"$f":"IF(M49=\"\",\"\",M49+MAX(N$10:N48))","v":""}]
[null,null,null,null,null,null,null,null,null,null,null,null,null,{"$f":"IF(M50=\"\",\"\",M50+MAX(N$10:N49))","v":""}]
[null,null,null,null,null,null,null,null,null,null,null,null,null,{"$f":"IF(M51=\"\",\"\",M51+MAX(N$10:N50))","v":""}]
[null,null,null,null,null,null,null,null,null,null,null,null,null,{"$f":"IF(M52=\"\",\"\",M52+MAX(N$10:N51))","v":""}]
[null,null,null,null,null,null,null,null,null,null,null,null,null,{"$f":"IF(M53=\"\",\"\",M53+MAX(N$10:N52))","v":""}]
[null,null,null,null,null,null,null,null,null,null,null,null,null,{"$f":"IF(M54=\"\",\"\",M54+MAX(N$10:N53))","v":""}]
[null,null,null,null,null,null,null,null,null,null,null,null,null,{"$f":"IF(M55=\"\",\"\",M55+MAX(N$10:N54))","v":""}]
[null,null,null,null,null,null,null,null,null,null,null,null,null,{"$f":"IF(M56=\"\",\"\",M56+MAX(N$10:N55))","v":""}]
[null,null,null,null,null,null,null,null,null,null,null,null,null,{"$f":"IF(M57=\"\",\"\",M57+MAX(N$10:N56))","v":""}]
[null,null,null,null,null,null,null,null,null,null,null,null,null,{"$f":"IF(M58=\"\",\"\",M58+MAX(N$10:N57))","v":""}]
[null,null,null,null,null,null,null,null,null,null,null,null,null,{"$f":"IF(M59=\"\",\"\",M59+MAX(N$10:N58))","v":""}]
[null,null,null,null,null,null,null,null,null,null,null,null,null,{"$f":"IF(M60=\"\",\"\",M60+MAX(N$10:N59))","v":""}]
[null,null,null,null,null,null,null,null,null,null,null,null,null,{"$f":"IF(M61=\"\",\"\",M61+MAX(N$10:N60))","v":""}]
[null,null,null,null,null,null,null,null,null,null,null,null,null,{"$f":"IF(M62=\"\",\"\",M62+MAX(N$10:N61))","v":""}]
[null,null,null,null,null,null,null,null,null,null,null,null,null,{"$f":"IF(M63=\"\",\"\",M63+MAX(N$10:N62))","v":""}]
[null,null,null,"SPECIAL INSTRUCTIONS:",{"$f":"INDEX(QryItemE2019!F:F,MATCH(H5,QryItemE2019!A:A,0))","v":""},null,null,null,null,null,null,null,"TOTAL",{"$f":"IF(K5=\"LS\",\"LS\",\" \")","v":" "}]

{"sheet":"607E39900","index":39,"n_rows":64,"n_cols":18,"rows_kept":64,"cut":false,"hidden":false,"merged":[[3,16,3,21],[4,7,4,8]]}
[null,null,null,null,null,null,"DESIGN:",{"$f":"IF('Calc Cover Sheet'!B11=\"\",\"\",'Calc Cover Sheet'!B11)","v":"BMV"},"DATE:",{"$f":"IF('Calc Cover Sheet'!D11=\"\",\"\",'Calc Cover Sheet'!D11)","v":"2024-04-19"},"UPDATE:",{"$f":"IF('Calc Cover Sheet'!B13=\"\",\"\",'Calc Cover Sheet'!B13)","v":""},"DATE:",{"$f":"IF('Calc Cover Sheet'!D13=\"\",\"\",'Calc Cover Sheet'!D13)","v":""}]
[null,null,null,null,null,null,"CHECK:",{"$f":"IF('Calc Cover Sheet'!B12=\"\",\"\",'Calc Cover Sheet'!B12)","v":"TLC"},"DATE:",{"$f":"IF('Calc Cover Sheet'!D12=\"\",\"\",'Calc Cover Sheet'!D12)","v":"2024-04-25"},"RECHECK:",{"$f":"IF('Calc Cover Sheet'!B14=\"\",\"\",'Calc Cover Sheet'!B14)","v":""},"DATE:",{"$f":"IF('Calc Cover Sheet'!D14=\"\",\"\",'Calc Cover Sheet'!D14)","v":""}]
[null,null,null,null,null,null,"STRUCTURE:",{"$f":"IF('Calc Cover Sheet'!B7=\"\",\"\",'Calc Cover Sheet'!B7)","v":"HAM-00145-0203"},null,null,"SFN:",{"$f":"IF('Calc Cover Sheet'!B3=\"\",\"\",'Calc Cover Sheet'!B3)","v":3108680},"PID:",{"$f":"IF('Calc Cover Sheet'!B9=\"\",\"\",'Calc Cover Sheet'!B9)","v":110563}]
[null,null,null,null,null,null,null,null,null,null,null,null,null,null,null,null,"Lump Sum Tags (Items with a \"LS\" Pay Unit can be tagged with one or several categories)"]
[null,null,null,null,null,null,"ITEM:",{"$f":"MID(RIGHT(CELL(\"filename\",D2),LEN(CELL(\"filename\",D2))-FIND(\"]\",CELL(\"filename\",D2))),1,9)","v":"607E39900"},null,"PAY UNIT:",{"$f":"INDEX(QryItemE2019!B:B,MATCH(H5,QryItemE2019!A:A,0))","v":"FT"}]
[null,null,null,null,null,null,"SUBJECT:",{"$f":"IF('Calc Cover Sheet'!B2=\"\",\"\",'Calc Cover Sheet'!B2)","v":"ESTIMATED QUANTITIES"}]
[null,null,null,"DESCRIPTION:",{"$f":"INDEX(QryItemE2019!C:C,MATCH(H5,QryItemE2019!A:A,0))","v":"VANDAL PROTECTION FENCE, 6' STRAIGHT, COATED FABRIC"}]
[null,null,null,"SUPPLEMENTAL DESCRIPTION:","ALTERNATIVE 1"]
[null,null,null,null,null,null,null,null,null,null,null,null,"SUBTOTAL","TOTAL",null,null,"GROUP","<<<<<Tag each subtotal value with a group from this column"]
[null,null,null,null,null,null,null,null,null,null,null,null,null,{"$f":"IF(M10=\"\",\"\",M10+MAX(N$9:N9))","v":""}]
[null,null,null,null,null,null,null,null,null,null,null,null,null,{"$f":"IF(M11=\"\",\"\",M11+MAX(N$9:N10))","v":""}]
[null,null,null,null,null,null,null,null,null,null,null,null,null,{"$f":"IF(M12=\"\",\"\",M12+MAX(N$9:N11))","v":""}]
[null,null,null,"Length = ",178,"ft",null,null,null,null,null,null,{"$f":"E13","v":178},{"$f":"IF(M13=\"\",\"\",M13+MAX(N$9:N12))","v":178},null,null,"GEN."]
[null,null,null,null,null,null,null,null,null,null,null,null,null,{"$f":"IF(M14=\"\",\"\",M14+MAX(N$9:N13))","v":""}]
[null,null,null,null,null,null,null,null,null,null,null,null,null,{"$f":"IF(M15=\"\",\"\",M15+MAX(N$9:N14))","v":""}]
[null,null,null,null,null,null,null,null,null,null,null,null,null,{"$f":"IF(M16=\"\",\"\",M16+MAX(N$9:N15))","v":""}]
[null,null,null,null,null,null,null,null,null,null,null,null,null,{"$f":"IF(M17=\"\",\"\",M17+MAX(N$9:N16))","v":""}]
[null,null,null,null,null,null,null,null,null,null,null,null,null,{"$f":"IF(M18=\"\",\"\",M18+MAX(N$9:N17))","v":""}]
[]
[null,null,null,null,null,null,null,null,null,null,null,null,null,{"$f":"IF(M20=\"\",\"\",M20+MAX(N$9:N19))","v":""}]
[null,null,null,null,null,null,null,null,null,null,null,null,null,{"$f":"IF(M21=\"\",\"\",M21+MAX(N$9:N20))","v":""}]
[null,null,null,null,null,null,null,null,null,null,null,null,null,{"$f":"IF(M22=\"\",\"\",M22+MAX(N$9:N21))","v":""}]
[null,null,null,null,null,null,null,null,null,null,null,null,null,{"$f":"IF(M23=\"\",\"\",M23+MAX(N$9:N22))","v":""}]
[null,null,null,null,null,null,null,null,null,null,null,null,null,{"$f":"IF(M24=\"\",\"\",M24+MAX(N$9:N23))","v":""}]
[null,null,null,null,null,null,null,null,null,null,null,null,null,{"$f":"IF(M25=\"\",\"\",M25+MAX(N$9:N24))","v":""}]
[null,null,null,null,null,null,null,null,null,null,null,null,null,{"$f":"IF(M26=\"\",\"\",M26+MAX(N$9:N25))","v":""}]
[null,null,null,null,null,null,null,null,null,null,null,null,null,{"$f":"IF(M27=\"\",\"\",M27+MAX(N$9:N26))","v":""}]
[null,null,null,null,null,null,null,null,null,null,null,null,null,{"$f":"IF(M28=\"\",\"\",M28+MAX(N$9:N27))","v":""}]
[null,null,null,null,null,null,null,null,null,null,null,null,null,{"$f":"IF(M29=\"\",\"\",M29+MAX(N$9:N28))","v":""}]
[null,null,null,null,null,null,null,null,null,null,null,null,null,{"$f":"IF(M30=\"\",\"\",M30+MAX(N$9:N29))","v":""}]
[null,null,null,null,null,null,null,null,null,null,null,null,null,{"$f":"IF(M31=\"\",\"\",M31+MAX(N$9:N30))","v":""}]
[null,null,null,null,null,null,null,null,null,null,null,null,null,{"$f":"IF(M32=\"\",\"\",M32+MAX(N$9:N31))","v":""}]
[null,null,null,null,null,null,null,null,null,null,null,null,null,{"$f":"IF(M33=\"\",\"\",M33+MAX(N$9:N32))","v":""}]
[null,null,null,null,null,null,null,null,null,null,null,null,null,{"$f":"IF(M34=\"\",\"\",M34+MAX(N$9:N33))","v":""}]
[null,null,null,null,null,null,null,null,null,null,null,null,null,{"$f":"IF(M35=\"\",\"\",M35+MAX(N$9:N34))","v":""}]
[null,null,null,null,null,null,null,null,null,null,null,null,null,{"$f":"IF(M36=\"\",\"\",M36+MAX(N$9:N35))","v":""}]
[null,null,null,null,null,null,null,null,null,null,null,null,null,{"$f":"IF(M37=\"\",\"\",M37+MAX(N$10:N36))","v":""}]
[null,null,null,null,null,null,null,null,null,null,null,null,null,{"$f":"IF(M38=\"\",\"\",M38+MAX(N$10:N37))","v":""}]
[null,null,null,null,null,null,null,null,null,null,null,null,null,{"$f":"IF(M39=\"\",\"\",M39+MAX(N$10:N38))","v":""}]
[null,null,null,null,null,null,null,null,null,null,null,null,null,{"$f":"IF(M40=\"\",\"\",M40+MAX(N$10:N39))","v":""}]
[null,null,null,null,null,null,null,null,null,null,null,null,null,{"$f":"IF(M41=\"\",\"\",M41+MAX(N$10:N40))","v":""}]
[null,null,null,null,null,null,null,null,null,null,null,null,null,{"$f":"IF(M42=\"\",\"\",M42+MAX(N$10:N41))","v":""}]
[null,null,null,null,null,null,null,null,null,null,null,null,null,{"$f":"IF(M43=\"\",\"\",M43+MAX(N$10:N42))","v":""}]
[null,null,null,null,null,null,null,null,null,null,null,null,null,{"$f":"IF(M44=\"\",\"\",M44+MAX(N$10:N43))","v":""}]
[null,null,null,null,null,null,null,null,null,null,null,null,null,{"$f":"IF(M45=\"\",\"\",M45+MAX(N$10:N44))","v":""}]
[null,null,null,null,null,null,null,null,null,null,null,null,null,{"$f":"IF(M46=\"\",\"\",M46+MAX(N$10:N45))","v":""}]
[null,null,null,null,null,null,null,null,null,null,null,null,null,{"$f":"IF(M47=\"\",\"\",M47+MAX(N$10:N46))","v":""}]
[null,null,null,null,null,null,null,null,null,null,null,null,null,{"$f":"IF(M48=\"\",\"\",M48+MAX(N$10:N47))","v":""}]
[null,null,null,null,null,null,null,null,null,null,null,null,null,{"$f":"IF(M49=\"\",\"\",M49+MAX(N$10:N48))","v":""}]
[null,null,null,null,null,null,null,null,null,null,null,null,null,{"$f":"IF(M50=\"\",\"\",M50+MAX(N$10:N49))","v":""}]
[null,null,null,null,null,null,null,null,null,null,null,null,null,{"$f":"IF(M51=\"\",\"\",M51+MAX(N$10:N50))","v":""}]
[null,null,null,null,null,null,null,null,null,null,null,null,null,{"$f":"IF(M52=\"\",\"\",M52+MAX(N$10:N51))","v":""}]
[null,null,null,null,null,null,null,null,null,null,null,null,null,{"$f":"IF(M53=\"\",\"\",M53+MAX(N$10:N52))","v":""}]
[null,null,null,null,null,null,null,null,null,null,null,null,null,{"$f":"IF(M54=\"\",\"\",M54+MAX(N$10:N53))","v":""}]
[null,null,null,null,null,null,null,null,null,null,null,null,null,{"$f":"IF(M55=\"\",\"\",M55+MAX(N$10:N54))","v":""}]
[null,null,null,null,null,null,null,null,null,null,null,null,null,{"$f":"IF(M56=\"\",\"\",M56+MAX(N$10:N55))","v":""}]
[null,null,null,null,null,null,null,null,null,null,null,null,null,{"$f":"IF(M57=\"\",\"\",M57+MAX(N$10:N56))","v":""}]
[null,null,null,null,null,null,null,null,null,null,null,null,null,{"$f":"IF(M58=\"\",\"\",M58+MAX(N$10:N57))","v":""}]
[null,null,null,null,null,null,null,null,null,null,null,null,null,{"$f":"IF(M59=\"\",\"\",M59+MAX(N$10:N58))","v":""}]
[null,null,null,null,null,null,null,null,null,null,null,null,null,{"$f":"IF(M60=\"\",\"\",M60+MAX(N$10:N59))","v":""}]
[null,null,null,null,null,null,null,null,null,null,null,null,null,{"$f":"IF(M61=\"\",\"\",M61+MAX(N$10:N60))","v":""}]
[null,null,null,null,null,null,null,null,null,null,null,null,null,{"$f":"IF(M62=\"\",\"\",M62+MAX(N$10:N61))","v":""}]
[null,null,null,null,null,null,null,null,null,null,null,null,null,{"$f":"IF(M63=\"\",\"\",M63+MAX(N$10:N62))","v":""}]
[null,null,null,"SPECIAL INSTRUCTIONS:",{"$f":"INDEX(QryItemE2019!F:F,MATCH(H5,QryItemE2019!A:A,0))","v":"SEE BDM 310.11, STR GROUNDING"},null,null,null,null,null,null,null,"TOTAL",{"$f":"IF(K5=\"LS\",\"LS\",\" \")","v":" "}]

{"sheet":"607E39930","index":40,"n_rows":64,"n_cols":18,"rows_kept":64,"cut":false,"hidden":false,"merged":[[3,16,3,21],[4,7,4,8]]}
[null,null,null,null,null,null,"DESIGN:",{"$f":"IF('Calc Cover Sheet'!B11=\"\",\"\",'Calc Cover Sheet'!B11)","v":"BMV"},"DATE:",{"$f":"IF('Calc Cover Sheet'!D11=\"\",\"\",'Calc Cover Sheet'!D11)","v":"2024-04-19"},"UPDATE:",{"$f":"IF('Calc Cover Sheet'!B13=\"\",\"\",'Calc Cover Sheet'!B13)","v":""},"DATE:",{"$f":"IF('Calc Cover Sheet'!D13=\"\",\"\",'Calc Cover Sheet'!D13)","v":""}]
[null,null,null,null,null,null,"CHECK:",{"$f":"IF('Calc Cover Sheet'!B12=\"\",\"\",'Calc Cover Sheet'!B12)","v":"TLC"},"DATE:",{"$f":"IF('Calc Cover Sheet'!D12=\"\",\"\",'Calc Cover Sheet'!D12)","v":"2024-04-25"},"RECHECK:",{"$f":"IF('Calc Cover Sheet'!B14=\"\",\"\",'Calc Cover Sheet'!B14)","v":""},"DATE:",{"$f":"IF('Calc Cover Sheet'!D14=\"\",\"\",'Calc Cover Sheet'!D14)","v":""}]
[null,null,null,null,null,null,"STRUCTURE:",{"$f":"IF('Calc Cover Sheet'!B7=\"\",\"\",'Calc Cover Sheet'!B7)","v":"HAM-00145-0203"},null,null,"SFN:",{"$f":"IF('Calc Cover Sheet'!B3=\"\",\"\",'Calc Cover Sheet'!B3)","v":3108680},"PID:",{"$f":"IF('Calc Cover Sheet'!B9=\"\",\"\",'Calc Cover Sheet'!B9)","v":110563}]
[null,null,null,null,null,null,null,null,null,null,null,null,null,null,null,null,"Lump Sum Tags (Items with a \"LS\" Pay Unit can be tagged with one or several categories)"]
[null,null,null,null,null,null,"ITEM:",{"$f":"MID(RIGHT(CELL(\"filename\",D2),LEN(CELL(\"filename\",D2))-FIND(\"]\",CELL(\"filename\",D2))),1,9)","v":"607E39930"},null,"PAY UNIT:",{"$f":"INDEX(QryItemE2019!B:B,MATCH(H5,QryItemE2019!A:A,0))","v":"FT"}]
[null,null,null,null,null,null,"SUBJECT:",{"$f":"IF('Calc Cover Sheet'!B2=\"\",\"\",'Calc Cover Sheet'!B2)","v":"ESTIMATED QUANTITIES"}]
[null,null,null,"DESCRIPTION:",{"$f":"INDEX(QryItemE2019!C:C,MATCH(H5,QryItemE2019!A:A,0))","v":"VANDAL PROTECTION FENCE, 12' CURVED, COATED FABRIC"}]
[null,null,null,"SUPPLEMENTAL DESCRIPTION:","ALTERNATIVE 1"]
[null,null,null,null,null,null,null,null,null,null,null,null,"SUBTOTAL","TOTAL",null,null,"GROUP","<<<<<Tag each subtotal value with a group from this column"]
[null,null,null,null,null,null,null,null,null,null,null,null,null,{"$f":"IF(M10=\"\",\"\",M10+MAX(N$9:N9))","v":""}]
[null,null,null,null,null,null,null,null,null,null,null,null,null,{"$f":"IF(M11=\"\",\"\",M11+MAX(N$9:N10))","v":""}]
[null,null,null,"Length = ",178,"ft",null,null,null,null,null,null,{"$f":"E12","v":178},{"$f":"IF(M12=\"\",\"\",M12+MAX(N$9:N11))","v":178},null,null,"GEN."]
[null,null,null,null,null,null,null,null,null,null,null,null,null,{"$f":"IF(M13=\"\",\"\",M13+MAX(N$9:N12))","v":""}]
[null,null,null,null,null,null,null,null,null,null,null,null,null,{"$f":"IF(M14=\"\",\"\",M14+MAX(N$9:N13))","v":""}]
[null,null,null,null,null,null,null,null,null,null,null,null,null,{"$f":"IF(M15=\"\",\"\",M15+MAX(N$9:N14))","v":""}]
[null,null,null,null,null,null,null,null,null,null,null,null,null,{"$f":"IF(M16=\"\",\"\",M16+MAX(N$9:N15))","v":""}]
[null,null,null,null,null,null,null,null,null,null,null,null,null,{"$f":"IF(M17=\"\",\"\",M17+MAX(N$9:N16))","v":""}]
[null,null,null,null,null,null,null,null,null,null,null,null,null,{"$f":"IF(M18=\"\",\"\",M18+MAX(N$9:N17))","v":""}]
[]
[null,null,null,null,null,null,null,null,null,null,null,null,null,{"$f":"IF(M20=\"\",\"\",M20+MAX(N$9:N19))","v":""}]
[null,null,null,null,null,null,null,null,null,null,null,null,null,{"$f":"IF(M21=\"\",\"\",M21+MAX(N$9:N20))","v":""}]
[null,null,null,null,null,null,null,null,null,null,null,null,null,{"$f":"IF(M22=\"\",\"\",M22+MAX(N$9:N21))","v":""}]
[null,null,null,null,null,null,null,null,null,null,null,null,null,{"$f":"IF(M23=\"\",\"\",M23+MAX(N$9:N22))","v":""}]
[null,null,null,null,null,null,null,null,null,null,null,null,null,{"$f":"IF(M24=\"\",\"\",M24+MAX(N$9:N23))","v":""}]
[null,null,null,null,null,null,null,null,null,null,null,null,null,{"$f":"IF(M25=\"\",\"\",M25+MAX(N$9:N24))","v":""}]
[null,null,null,null,null,null,null,null,null,null,null,null,null,{"$f":"IF(M26=\"\",\"\",M26+MAX(N$9:N25))","v":""}]
[null,null,null,null,null,null,null,null,null,null,null,null,null,{"$f":"IF(M27=\"\",\"\",M27+MAX(N$9:N26))","v":""}]
[null,null,null,null,null,null,null,null,null,null,null,null,null,{"$f":"IF(M28=\"\",\"\",M28+MAX(N$9:N27))","v":""}]
[null,null,null,null,null,null,null,null,null,null,null,null,null,{"$f":"IF(M29=\"\",\"\",M29+MAX(N$9:N28))","v":""}]
[null,null,null,null,null,null,null,null,null,null,null,null,null,{"$f":"IF(M30=\"\",\"\",M30+MAX(N$9:N29))","v":""}]
[null,null,null,null,null,null,null,null,null,null,null,null,null,{"$f":"IF(M31=\"\",\"\",M31+MAX(N$9:N30))","v":""}]
[null,null,null,null,null,null,null,null,null,null,null,null,null,{"$f":"IF(M32=\"\",\"\",M32+MAX(N$9:N31))","v":""}]
[null,null,null,null,null,null,null,null,null,null,null,null,null,{"$f":"IF(M33=\"\",\"\",M33+MAX(N$9:N32))","v":""}]
[null,null,null,null,null,null,null,null,null,null,null,null,null,{"$f":"IF(M34=\"\",\"\",M34+MAX(N$9:N33))","v":""}]
[null,null,null,null,null,null,null,null,null,null,null,null,null,{"$f":"IF(M35=\"\",\"\",M35+MAX(N$9:N34))","v":""}]
[null,null,null,null,null,null,null,null,null,null,null,null,null,{"$f":"IF(M36=\"\",\"\",M36+MAX(N$9:N35))","v":""}]
[null,null,null,null,null,null,null,null,null,null,null,null,null,{"$f":"IF(M37=\"\",\"\",M37+MAX(N$10:N36))","v":""}]
[null,null,null,null,null,null,null,null,null,null,null,null,null,{"$f":"IF(M38=\"\",\"\",M38+MAX(N$10:N37))","v":""}]
[null,null,null,null,null,null,null,null,null,null,null,null,null,{"$f":"IF(M39=\"\",\"\",M39+MAX(N$10:N38))","v":""}]
[null,null,null,null,null,null,null,null,null,null,null,null,null,{"$f":"IF(M40=\"\",\"\",M40+MAX(N$10:N39))","v":""}]
[null,null,null,null,null,null,null,null,null,null,null,null,null,{"$f":"IF(M41=\"\",\"\",M41+MAX(N$10:N40))","v":""}]
[null,null,null,null,null,null,null,null,null,null,null,null,null,{"$f":"IF(M42=\"\",\"\",M42+MAX(N$10:N41))","v":""}]
[null,null,null,null,null,null,null,null,null,null,null,null,null,{"$f":"IF(M43=\"\",\"\",M43+MAX(N$10:N42))","v":""}]
[null,null,null,null,null,null,null,null,null,null,null,null,null,{"$f":"IF(M44=\"\",\"\",M44+MAX(N$10:N43))","v":""}]
[null,null,null,null,null,null,null,null,null,null,null,null,null,{"$f":"IF(M45=\"\",\"\",M45+MAX(N$10:N44))","v":""}]
[null,null,null,null,null,null,null,null,null,null,null,null,null,{"$f":"IF(M46=\"\",\"\",M46+MAX(N$10:N45))","v":""}]
[null,null,null,null,null,null,null,null,null,null,null,null,null,{"$f":"IF(M47=\"\",\"\",M47+MAX(N$10:N46))","v":""}]
[null,null,null,null,null,null,null,null,null,null,null,null,null,{"$f":"IF(M48=\"\",\"\",M48+MAX(N$10:N47))","v":""}]
[null,null,null,null,null,null,null,null,null,null,null,null,null,{"$f":"IF(M49=\"\",\"\",M49+MAX(N$10:N48))","v":""}]
[null,null,null,null,null,null,null,null,null,null,null,null,null,{"$f":"IF(M50=\"\",\"\",M50+MAX(N$10:N49))","v":""}]
[null,null,null,null,null,null,null,null,null,null,null,null,null,{"$f":"IF(M51=\"\",\"\",M51+MAX(N$10:N50))","v":""}]
[null,null,null,null,null,null,null,null,null,null,null,null,null,{"$f":"IF(M52=\"\",\"\",M52+MAX(N$10:N51))","v":""}]
[null,null,null,null,null,null,null,null,null,null,null,null,null,{"$f":"IF(M53=\"\",\"\",M53+MAX(N$10:N52))","v":""}]
[null,null,null,null,null,null,null,null,null,null,null,null,null,{"$f":"IF(M54=\"\",\"\",M54+MAX(N$10:N53))","v":""}]
[null,null,null,null,null,null,null,null,null,null,null,null,null,{"$f":"IF(M55=\"\",\"\",M55+MAX(N$10:N54))","v":""}]
[null,null,null,null,null,null,null,null,null,null,null,null,null,{"$f":"IF(M56=\"\",\"\",M56+MAX(N$10:N55))","v":""}]
[null,null,null,null,null,null,null,null,null,null,null,null,null,{"$f":"IF(M57=\"\",\"\",M57+MAX(N$10:N56))","v":""}]
[null,null,null,null,null,null,null,null,null,null,null,null,null,{"$f":"IF(M58=\"\",\"\",M58+MAX(N$10:N57))","v":""}]
[null,null,null,null,null,null,null,null,null,null,null,null,null,{"$f":"IF(M59=\"\",\"\",M59+MAX(N$10:N58))","v":""}]
[null,null,null,null,null,null,null,null,null,null,null,null,null,{"$f":"IF(M60=\"\",\"\",M60+MAX(N$10:N59))","v":""}]
[null,null,null,null,null,null,null,null,null,null,null,null,null,{"$f":"IF(M61=\"\",\"\",M61+MAX(N$10:N60))","v":""}]
[null,null,null,null,null,null,null,null,null,null,null,null,null,{"$f":"IF(M62=\"\",\"\",M62+MAX(N$10:N61))","v":""}]
[null,null,null,null,null,null,null,null,null,null,null,null,null,{"$f":"IF(M63=\"\",\"\",M63+MAX(N$10:N62))","v":""}]
[null,null,null,"SPECIAL INSTRUCTIONS:",{"$f":"INDEX(QryItemE2019!F:F,MATCH(H5,QryItemE2019!A:A,0))","v":"SEE BDM 310.11, STR GROUNDING"},null,null,null,null,null,null,null,"TOTAL",{"$f":"IF(K5=\"LS\",\"LS\",\" \")","v":" "}]

{"sheet":"607E40000","index":41,"n_rows":65,"n_cols":18,"rows_kept":65,"cut":false,"hidden":false,"merged":[[3,16,3,21],[4,7,4,8]]}
[null,null,null,null,null,null,"DESIGN:",{"$f":"IF('Calc Cover Sheet'!B11=\"\",\"\",'Calc Cover Sheet'!B11)","v":"BMV"},"DATE:",{"$f":"IF('Calc Cover Sheet'!D11=\"\",\"\",'Calc Cover Sheet'!D11)","v":"2024-04-19"},"UPDATE:",{"$f":"IF('Calc Cover Sheet'!B13=\"\",\"\",'Calc Cover Sheet'!B13)","v":""},"DATE:",{"$f":"IF('Calc Cover Sheet'!D13=\"\",\"\",'Calc Cover Sheet'!D13)","v":""}]
[null,null,null,null,null,null,"CHECK:",{"$f":"IF('Calc Cover Sheet'!B12=\"\",\"\",'Calc Cover Sheet'!B12)","v":"TLC"},"DATE:",{"$f":"IF('Calc Cover Sheet'!D12=\"\",\"\",'Calc Cover Sheet'!D12)","v":"2024-04-25"},"RECHECK:",{"$f":"IF('Calc Cover Sheet'!B14=\"\",\"\",'Calc Cover Sheet'!B14)","v":""},"DATE:",{"$f":"IF('Calc Cover Sheet'!D14=\"\",\"\",'Calc Cover Sheet'!D14)","v":""}]
[null,null,null,null,null,null,"STRUCTURE:",{"$f":"IF('Calc Cover Sheet'!B7=\"\",\"\",'Calc Cover Sheet'!B7)","v":"HAM-00145-0203"},null,null,"SFN:",{"$f":"IF('Calc Cover Sheet'!B3=\"\",\"\",'Calc Cover Sheet'!B3)","v":3108680},"PID:",{"$f":"IF('Calc Cover Sheet'!B9=\"\",\"\",'Calc Cover Sheet'!B9)","v":110563}]
[null,null,null,null,null,null,null,null,null,null,null,null,null,null,null,null,"Lump Sum Tags (Items with a \"LS\" Pay Unit can be tagged with one or several categories)"]
[null,null,null,null,null,null,"ITEM:",{"$f":"MID(RIGHT(CELL(\"filename\",D2),LEN(CELL(\"filename\",D2))-FIND(\"]\",CELL(\"filename\",D2))),1,9)","v":"607E40000"},null,"PAY UNIT:",{"$f":"INDEX(QryItemE2019!B:B,MATCH(H5,QryItemE2019!A:A,0))","v":"FT"}]
[null,null,null,null,null,null,"SUBJECT:",{"$f":"IF('Calc Cover Sheet'!B2=\"\",\"\",'Calc Cover Sheet'!B2)","v":"ESTIMATED QUANTITIES"}]
[null,null,null,"DESCRIPTION:",{"$f":"INDEX(QryItemE2019!C:C,MATCH(H5,QryItemE2019!A:A,0))","v":"SPECIAL - VANDAL PROTECTION FENCE"}]
[null,null,null,"SUPPLEMENTAL DESCRIPTION:","11'-10\" TALL AESTHETIC FENCE) (ALTERNATIVE 2"]
[null,null,null,null,null,null,null,null,null,null,null,null,"SUBTOTAL","TOTAL",null,null,"GROUP","<<<<<Tag each subtotal value with a group from this column"]
[null,null,null,null,null,null,null,null,null,null,null,null,null,{"$f":"IF(M10=\"\",\"\",M10+MAX(N$9:N9))","v":""}]
[null,null,"** Alternative 2 Only"]
[null,null,null,null,null,null,null,null,null,null,null,null,null,{"$f":"IF(M12=\"\",\"\",M12+MAX(N$9:N10))","v":""}]
[null,null,null,"Length per side = ",178,"ft",null,null,null,null,null,null,null,{"$f":"IF(M13=\"\",\"\",M13+MAX(N$9:N12))","v":""}]
[null,null,null,null,null,null,null,null,null,null,null,null,null,{"$f":"IF(M14=\"\",\"\",M14+MAX(N$9:N13))","v":""}]
[null,null,null,"Total Length = ",{"$f":"E13","v":178},"ft",null,null,null,null,null,null,{"$f":"CEILING(E15,1)","v":178},{"$f":"IF(M15=\"\",\"\",M15+MAX(N$9:N14))","v":178},null,null,"GEN."]
[null,null,null,null,null,null,null,null,null,null,null,null,null,{"$f":"IF(M16=\"\",\"\",M16+MAX(N$9:N15))","v":""}]
[null,null,null,null,null,null,null,null,null,null,null,null,null,{"$f":"IF(M17=\"\",\"\",M17+MAX(N$9:N16))","v":""}]
[null,null,null,null,null,null,null,null,null,null,null,null,null,{"$f":"IF(M18=\"\",\"\",M18+MAX(N$9:N17))","v":""}]
[null,null,null,null,null,null,null,null,null,null,null,null,null,{"$f":"IF(M19=\"\",\"\",M19+MAX(N$9:N18))","v":""}]
[]
[null,null,null,null,null,null,null,null,null,null,null,null,null,{"$f":"IF(M21=\"\",\"\",M21+MAX(N$9:N20))","v":""}]
[null,null,null,null,null,null,null,null,null,null,null,null,null,{"$f":"IF(M22=\"\",\"\",M22+MAX(N$9:N21))","v":""}]
[null,null,null,null,null,null,null,null,null,null,null,null,null,{"$f":"IF(M23=\"\",\"\",M23+MAX(N$9:N22))","v":""}]
[null,null,null,null,null,null,null,null,null,null,null,null,null,{"$f":"IF(M24=\"\",\"\",M24+MAX(N$9:N23))","v":""}]
[null,null,null,null,null,null,null,null,null,null,null,null,null,{"$f":"IF(M25=\"\",\"\",M25+MAX(N$9:N24))","v":""}]
[null,null,null,null,null,null,null,null,null,null,null,null,null,{"$f":"IF(M26=\"\",\"\",M26+MAX(N$9:N25))","v":""}]
[null,null,null,null,null,null,null,null,null,null,null,null,null,{"$f":"IF(M27=\"\",\"\",M27+MAX(N$9:N26))","v":""}]
[null,null,null,null,null,null,null,null,null,null,null,null,null,{"$f":"IF(M28=\"\",\"\",M28+MAX(N$9:N27))","v":""}]
[null,null,null,null,null,null,null,null,null,null,null,null,null,{"$f":"IF(M29=\"\",\"\",M29+MAX(N$9:N28))","v":""}]
[null,null,null,null,null,null,null,null,null,null,null,null,null,{"$f":"IF(M30=\"\",\"\",M30+MAX(N$9:N29))","v":""}]
[null,null,null,null,null,null,null,null,null,null,null,null,null,{"$f":"IF(M31=\"\",\"\",M31+MAX(N$9:N30))","v":""}]
[null,null,null,null,null,null,null,null,null,null,null,null,null,{"$f":"IF(M32=\"\",\"\",M32+MAX(N$9:N31))","v":""}]
[null,null,null,null,null,null,null,null,null,null,null,null,null,{"$f":"IF(M33=\"\",\"\",M33+MAX(N$9:N32))","v":""}]
[null,null,null,null,null,null,null,null,null,null,null,null,null,{"$f":"IF(M34=\"\",\"\",M34+MAX(N$9:N33))","v":""}]
[null,null,null,null,null,null,null,null,null,null,null,null,null,{"$f":"IF(M35=\"\",\"\",M35+MAX(N$9:N34))","v":""}]
[null,null,null,null,null,null,null,null,null,null,null,null,null,{"$f":"IF(M36=\"\",\"\",M36+MAX(N$9:N35))","v":""}]
[null,null,null,null,null,null,null,null,null,null,null,null,null,{"$f":"IF(M37=\"\",\"\",M37+MAX(N$9:N36))","v":""}]
[null,null,null,null,null,null,null,null,null,null,null,null,null,{"$f":"IF(M38=\"\",\"\",M38+MAX(N$10:N37))","v":""}]
[null,null,null,null,null,null,null,null,null,null,null,null,null,{"$f":"IF(M39=\"\",\"\",M39+MAX(N$10:N38))","v":""}]
[null,null,null,null,null,null,null,null,null,null,null,null,null,{"$f":"IF(M40=\"\",\"\",M40+MAX(N$10:N39))","v":""}]
[null,null,null,null,null,null,null,null,null,null,null,null,null,{"$f":"IF(M41=\"\",\"\",M41+MAX(N$10:N40))","v":""}]
[null,null,null,null,null,null,null,null,null,null,null,null,null,{"$f":"IF(M42=\"\",\"\",M42+MAX(N$10:N41))","v":""}]
[null,null,null,null,null,null,null,null,null,null,null,null,null,{"$f":"IF(M43=\"\",\"\",M43+MAX(N$10:N42))","v":""}]
[null,null,null,null,null,null,null,null,null,null,null,null,null,{"$f":"IF(M44=\"\",\"\",M44+MAX(N$10:N43))","v":""}]
[null,null,null,null,null,null,null,null,null,null,null,null,null,{"$f":"IF(M45=\"\",\"\",M45+MAX(N$10:N44))","v":""}]
[null,null,null,null,null,null,null,null,null,null,null,null,null,{"$f":"IF(M46=\"\",\"\",M46+MAX(N$10:N45))","v":""}]
[null,null,null,null,null,null,null,null,null,null,null,null,null,{"$f":"IF(M47=\"\",\"\",M47+MAX(N$10:N46))","v":""}]
[null,null,null,null,null,null,null,null,null,null,null,null,null,{"$f":"IF(M48=\"\",\"\",M48+MAX(N$10:N47))","v":""}]
[null,null,null,null,null,null,null,null,null,null,null,null,null,{"$f":"IF(M49=\"\",\"\",M49+MAX(N$10:N48))","v":""}]
[null,null,null,null,null,null,null,null,null,null,null,null,null,{"$f":"IF(M50=\"\",\"\",M50+MAX(N$10:N49))","v":""}]
[null,null,null,null,null,null,null,null,null,null,null,null,null,{"$f":"IF(M51=\"\",\"\",M51+MAX(N$10:N50))","v":""}]
[null,null,null,null,null,null,null,null,null,null,null,null,null,{"$f":"IF(M52=\"\",\"\",M52+MAX(N$10:N51))","v":""}]
[null,null,null,null,null,null,null,null,null,null,null,null,null,{"$f":"IF(M53=\"\",\"\",M53+MAX(N$10:N52))","v":""}]
[null,null,null,null,null,null,null,null,null,null,null,null,null,{"$f":"IF(M54=\"\",\"\",M54+MAX(N$10:N53))","v":""}]
[null,null,null,null,null,null,null,null,null,null,null,null,null,{"$f":"IF(M55=\"\",\"\",M55+MAX(N$10:N54))","v":""}]
[null,null,null,null,null,null,null,null,null,null,null,null,null,{"$f":"IF(M56=\"\",\"\",M56+MAX(N$10:N55))","v":""}]
[null,null,null,null,null,null,null,null,null,null,null,null,null,{"$f":"IF(M57=\"\",\"\",M57+MAX(N$10:N56))","v":""}]
[null,null,null,null,null,null,null,null,null,null,null,null,null,{"$f":"IF(M58=\"\",\"\",M58+MAX(N$10:N57))","v":""}]
[null,null,null,null,null,null,null,null,null,null,null,null,null,{"$f":"IF(M59=\"\",\"\",M59+MAX(N$10:N58))","v":""}]
[null,null,null,null,null,null,null,null,null,null,null,null,null,{"$f":"IF(M60=\"\",\"\",M60+MAX(N$10:N59))","v":""}]
[null,null,null,null,null,null,null,null,null,null,null,null,null,{"$f":"IF(M61=\"\",\"\",M61+MAX(N$10:N60))","v":""}]
[null,null,null,null,null,null,null,null,null,null,null,null,null,{"$f":"IF(M62=\"\",\"\",M62+MAX(N$10:N61))","v":""}]
[null,null,null,null,null,null,null,null,null,null,null,null,null,{"$f":"IF(M63=\"\",\"\",M63+MAX(N$10:N62))","v":""}]
[null,null,null,null,null,null,null,null,null,null,null,null,null,{"$f":"IF(M64=\"\",\"\",M64+MAX(N$10:N63))","v":""}]
[null,null,null,"SPECIAL INSTRUCTIONS:",{"$f":"INDEX(QryItemE2019!F:F,MATCH(H5,QryItemE2019!A:A,0))","v":"SEE BDM 310.11, STR GROUNDING"},null,null,null,null,null,null,null,"TOTAL",{"$f":"IF(K5=\"LS\",\"LS\",\" \")","v":" "}]

{"sheet":"607E40000 (2)","index":42,"n_rows":65,"n_cols":18,"rows_kept":65,"cut":false,"hidden":false,"merged":[[3,16,3,21],[4,7,4,8]]}
[null,null,null,null,null,null,"DESIGN:",{"$f":"IF('Calc Cover Sheet'!B11=\"\",\"\",'Calc Cover Sheet'!B11)","v":"BMV"},"DATE:",{"$f":"IF('Calc Cover Sheet'!D11=\"\",\"\",'Calc Cover Sheet'!D11)","v":"2024-04-19"},"UPDATE:",{"$f":"IF('Calc Cover Sheet'!B13=\"\",\"\",'Calc Cover Sheet'!B13)","v":""},"DATE:",{"$f":"IF('Calc Cover Sheet'!D13=\"\",\"\",'Calc Cover Sheet'!D13)","v":""}]
[null,null,null,null,null,null,"CHECK:",{"$f":"IF('Calc Cover Sheet'!B12=\"\",\"\",'Calc Cover Sheet'!B12)","v":"TLC"},"DATE:",{"$f":"IF('Calc Cover Sheet'!D12=\"\",\"\",'Calc Cover Sheet'!D12)","v":"2024-04-25"},"RECHECK:",{"$f":"IF('Calc Cover Sheet'!B14=\"\",\"\",'Calc Cover Sheet'!B14)","v":""},"DATE:",{"$f":"IF('Calc Cover Sheet'!D14=\"\",\"\",'Calc Cover Sheet'!D14)","v":""}]
[null,null,null,null,null,null,"STRUCTURE:",{"$f":"IF('Calc Cover Sheet'!B7=\"\",\"\",'Calc Cover Sheet'!B7)","v":"HAM-00145-0203"},null,null,"SFN:",{"$f":"IF('Calc Cover Sheet'!B3=\"\",\"\",'Calc Cover Sheet'!B3)","v":3108680},"PID:",{"$f":"IF('Calc Cover Sheet'!B9=\"\",\"\",'Calc Cover Sheet'!B9)","v":110563}]
[null,null,null,null,null,null,null,null,null,null,null,null,null,null,null,null,"Lump Sum Tags (Items with a \"LS\" Pay Unit can be tagged with one or several categories)"]
[null,null,null,null,null,null,"ITEM:",{"$f":"MID(RIGHT(CELL(\"filename\",D2),LEN(CELL(\"filename\",D2))-FIND(\"]\",CELL(\"filename\",D2))),1,9)","v":"607E40000"},null,"PAY UNIT:",{"$f":"INDEX(QryItemE2019!B:B,MATCH(H5,QryItemE2019!A:A,0))","v":"FT"}]
[null,null,null,null,null,null,"SUBJECT:",{"$f":"IF('Calc Cover Sheet'!B2=\"\",\"\",'Calc Cover Sheet'!B2)","v":"ESTIMATED QUANTITIES"}]
[null,null,null,"DESCRIPTION:",{"$f":"INDEX(QryItemE2019!C:C,MATCH(H5,QryItemE2019!A:A,0))","v":"SPECIAL - VANDAL PROTECTION FENCE"}]
[null,null,null,"SUPPLEMENTAL DESCRIPTION:","6'-7\" TALL AESTHETIC FENCE) (ALTERNATIVE 2"]
[null,null,null,null,null,null,null,null,null,null,null,null,"SUBTOTAL","TOTAL",null,null,"GROUP","<<<<<Tag each subtotal value with a group from this column"]
[null,null,null,null,null,null,null,null,null,null,null,null,null,{"$f":"IF(M10=\"\",\"\",M10+MAX(N$9:N9))","v":""}]
[null,null,"** Alternative 2 Only"]
[null,null,null,null,null,null,null,null,null,null,null,null,null,{"$f":"IF(M12=\"\",\"\",M12+MAX(N$9:N10))","v":""}]
[null,null,null,"Length per side = ",178,"ft",null,null,null,null,null,null,null,{"$f":"IF(M13=\"\",\"\",M13+MAX(N$9:N12))","v":""}]
[null,null,null,null,null,null,null,null,null,null,null,null,null,{"$f":"IF(M14=\"\",\"\",M14+MAX(N$9:N13))","v":""}]
[null,null,null,"Total Length = ",{"$f":"E13","v":178},"ft",null,null,null,null,null,null,{"$f":"CEILING(E15,1)","v":178},{"$f":"IF(M15=\"\",\"\",M15+MAX(N$9:N14))","v":178},null,null,"GEN."]
[null,null,null,null,null,null,null,null,null,null,null,null,null,{"$f":"IF(M16=\"\",\"\",M16+MAX(N$9:N15))","v":""}]
[null,null,null,null,null,null,null,null,null,null,null,null,null,{"$f":"IF(M17=\"\",\"\",M17+MAX(N$9:N16))","v":""}]
[null,null,null,null,null,null,null,null,null,null,null,null,null,{"$f":"IF(M18=\"\",\"\",M18+MAX(N$9:N17))","v":""}]
[null,null,null,null,null,null,null,null,null,null,null,null,null,{"$f":"IF(M19=\"\",\"\",M19+MAX(N$9:N18))","v":""}]
[]
[null,null,null,null,null,null,null,null,null,null,null,null,null,{"$f":"IF(M21=\"\",\"\",M21+MAX(N$9:N20))","v":""}]
[null,null,null,null,null,null,null,null,null,null,null,null,null,{"$f":"IF(M22=\"\",\"\",M22+MAX(N$9:N21))","v":""}]
[null,null,null,null,null,null,null,null,null,null,null,null,null,{"$f":"IF(M23=\"\",\"\",M23+MAX(N$9:N22))","v":""}]
[null,null,null,null,null,null,null,null,null,null,null,null,null,{"$f":"IF(M24=\"\",\"\",M24+MAX(N$9:N23))","v":""}]
[null,null,null,null,null,null,null,null,null,null,null,null,null,{"$f":"IF(M25=\"\",\"\",M25+MAX(N$9:N24))","v":""}]
[null,null,null,null,null,null,null,null,null,null,null,null,null,{"$f":"IF(M26=\"\",\"\",M26+MAX(N$9:N25))","v":""}]
[null,null,null,null,null,null,null,null,null,null,null,null,null,{"$f":"IF(M27=\"\",\"\",M27+MAX(N$9:N26))","v":""}]
[null,null,null,null,null,null,null,null,null,null,null,null,null,{"$f":"IF(M28=\"\",\"\",M28+MAX(N$9:N27))","v":""}]
[null,null,null,null,null,null,null,null,null,null,null,null,null,{"$f":"IF(M29=\"\",\"\",M29+MAX(N$9:N28))","v":""}]
[null,null,null,null,null,null,null,null,null,null,null,null,null,{"$f":"IF(M30=\"\",\"\",M30+MAX(N$9:N29))","v":""}]
[null,null,null,null,null,null,null,null,null,null,null,null,null,{"$f":"IF(M31=\"\",\"\",M31+MAX(N$9:N30))","v":""}]
[null,null,null,null,null,null,null,null,null,null,null,null,null,{"$f":"IF(M32=\"\",\"\",M32+MAX(N$9:N31))","v":""}]
[null,null,null,null,null,null,null,null,null,null,null,null,null,{"$f":"IF(M33=\"\",\"\",M33+MAX(N$9:N32))","v":""}]
[null,null,null,null,null,null,null,null,null,null,null,null,null,{"$f":"IF(M34=\"\",\"\",M34+MAX(N$9:N33))","v":""}]
[null,null,null,null,null,null,null,null,null,null,null,null,null,{"$f":"IF(M35=\"\",\"\",M35+MAX(N$9:N34))","v":""}]
[null,null,null,null,null,null,null,null,null,null,null,null,null,{"$f":"IF(M36=\"\",\"\",M36+MAX(N$9:N35))","v":""}]
[null,null,null,null,null,null,null,null,null,null,null,null,null,{"$f":"IF(M37=\"\",\"\",M37+MAX(N$9:N36))","v":""}]
[null,null,null,null,null,null,null,null,null,null,null,null,null,{"$f":"IF(M38=\"\",\"\",M38+MAX(N$10:N37))","v":""}]
[null,null,null,null,null,null,null,null,null,null,null,null,null,{"$f":"IF(M39=\"\",\"\",M39+MAX(N$10:N38))","v":""}]
[null,null,null,null,null,null,null,null,null,null,null,null,null,{"$f":"IF(M40=\"\",\"\",M40+MAX(N$10:N39))","v":""}]
[null,null,null,null,null,null,null,null,null,null,null,null,null,{"$f":"IF(M41=\"\",\"\",M41+MAX(N$10:N40))","v":""}]
[null,null,null,null,null,null,null,null,null,null,null,null,null,{"$f":"IF(M42=\"\",\"\",M42+MAX(N$10:N41))","v":""}]
[null,null,null,null,null,null,null,null,null,null,null,null,null,{"$f":"IF(M43=\"\",\"\",M43+MAX(N$10:N42))","v":""}]
[null,null,null,null,null,null,null,null,null,null,null,null,null,{"$f":"IF(M44=\"\",\"\",M44+MAX(N$10:N43))","v":""}]
[null,null,null,null,null,null,null,null,null,null,null,null,null,{"$f":"IF(M45=\"\",\"\",M45+MAX(N$10:N44))","v":""}]
[null,null,null,null,null,null,null,null,null,null,null,null,null,{"$f":"IF(M46=\"\",\"\",M46+MAX(N$10:N45))","v":""}]
[null,null,null,null,null,null,null,null,null,null,null,null,null,{"$f":"IF(M47=\"\",\"\",M47+MAX(N$10:N46))","v":""}]
[null,null,null,null,null,null,null,null,null,null,null,null,null,{"$f":"IF(M48=\"\",\"\",M48+MAX(N$10:N47))","v":""}]
[null,null,null,null,null,null,null,null,null,null,null,null,null,{"$f":"IF(M49=\"\",\"\",M49+MAX(N$10:N48))","v":""}]
[null,null,null,null,null,null,null,null,null,null,null,null,null,{"$f":"IF(M50=\"\",\"\",M50+MAX(N$10:N49))","v":""}]
[null,null,null,null,null,null,null,null,null,null,null,null,null,{"$f":"IF(M51=\"\",\"\",M51+MAX(N$10:N50))","v":""}]
[null,null,null,null,null,null,null,null,null,null,null,null,null,{"$f":"IF(M52=\"\",\"\",M52+MAX(N$10:N51))","v":""}]
[null,null,null,null,null,null,null,null,null,null,null,null,null,{"$f":"IF(M53=\"\",\"\",M53+MAX(N$10:N52))","v":""}]
[null,null,null,null,null,null,null,null,null,null,null,null,null,{"$f":"IF(M54=\"\",\"\",M54+MAX(N$10:N53))","v":""}]
[null,null,null,null,null,null,null,null,null,null,null,null,null,{"$f":"IF(M55=\"\",\"\",M55+MAX(N$10:N54))","v":""}]
[null,null,null,null,null,null,null,null,null,null,null,null,null,{"$f":"IF(M56=\"\",\"\",M56+MAX(N$10:N55))","v":""}]
[null,null,null,null,null,null,null,null,null,null,null,null,null,{"$f":"IF(M57=\"\",\"\",M57+MAX(N$10:N56))","v":""}]
[null,null,null,null,null,null,null,null,null,null,null,null,null,{"$f":"IF(M58=\"\",\"\",M58+MAX(N$10:N57))","v":""}]
[null,null,null,null,null,null,null,null,null,null,null,null,null,{"$f":"IF(M59=\"\",\"\",M59+MAX(N$10:N58))","v":""}]
[null,null,null,null,null,null,null,null,null,null,null,null,null,{"$f":"IF(M60=\"\",\"\",M60+MAX(N$10:N59))","v":""}]
[null,null,null,null,null,null,null,null,null,null,null,null,null,{"$f":"IF(M61=\"\",\"\",M61+MAX(N$10:N60))","v":""}]
[null,null,null,null,null,null,null,null,null,null,null,null,null,{"$f":"IF(M62=\"\",\"\",M62+MAX(N$10:N61))","v":""}]
[null,null,null,null,null,null,null,null,null,null,null,null,null,{"$f":"IF(M63=\"\",\"\",M63+MAX(N$10:N62))","v":""}]
[null,null,null,null,null,null,null,null,null,null,null,null,null,{"$f":"IF(M64=\"\",\"\",M64+MAX(N$10:N63))","v":""}]
[null,null,null,"SPECIAL INSTRUCTIONS:",{"$f":"INDEX(QryItemE2019!F:F,MATCH(H5,QryItemE2019!A:A,0))","v":"SEE BDM 310.11, STR GROUNDING"},null,null,null,null,null,null,null,"TOTAL",{"$f":"IF(K5=\"LS\",\"LS\",\" \")","v":" "}]

{"sheet":"622E25000","index":43,"n_rows":64,"n_cols":18,"rows_kept":64,"cut":false,"hidden":false,"merged":[[3,16,3,21],[4,7,4,8]]}
[null,null,null,null,null,null,"DESIGN:",{"$f":"IF('Calc Cover Sheet'!B11=\"\",\"\",'Calc Cover Sheet'!B11)","v":"BMV"},"DATE:",{"$f":"IF('Calc Cover Sheet'!D11=\"\",\"\",'Calc Cover Sheet'!D11)","v":"2024-04-19"},"UPDATE:",{"$f":"IF('Calc Cover Sheet'!B13=\"\",\"\",'Calc Cover Sheet'!B13)","v":""},"DATE:",{"$f":"IF('Calc Cover Sheet'!D13=\"\",\"\",'Calc Cover Sheet'!D13)","v":""}]
[null,null,null,null,null,null,"CHECK:",{"$f":"IF('Calc Cover Sheet'!B12=\"\",\"\",'Calc Cover Sheet'!B12)","v":"TLC"},"DATE:",{"$f":"IF('Calc Cover Sheet'!D12=\"\",\"\",'Calc Cover Sheet'!D12)","v":"2024-04-25"},"RECHECK:",{"$f":"IF('Calc Cover Sheet'!B14=\"\",\"\",'Calc Cover Sheet'!B14)","v":""},"DATE:",{"$f":"IF('Calc Cover Sheet'!D14=\"\",\"\",'Calc Cover Sheet'!D14)","v":""}]
[null,null,null,null,null,null,"STRUCTURE:",{"$f":"IF('Calc Cover Sheet'!B7=\"\",\"\",'Calc Cover Sheet'!B7)","v":"HAM-00145-0203"},null,null,"SFN:",{"$f":"IF('Calc Cover Sheet'!B3=\"\",\"\",'Calc Cover Sheet'!B3)","v":3108680},"PID:",{"$f":"IF('Calc Cover Sheet'!B9=\"\",\"\",'Calc Cover Sheet'!B9)","v":110563}]
[null,null,null,null,null,null,null,null,null,null,null,null,null,null,null,null,"Lump Sum Tags (Items with a \"LS\" Pay Unit can be tagged with one or several categories)"]
[null,null,null,null,null,null,"ITEM:",{"$f":"MID(RIGHT(CELL(\"filename\",D2),LEN(CELL(\"filename\",D2))-FIND(\"]\",CELL(\"filename\",D2))),1,9)","v":"622E25000"},null,"PAY UNIT:",{"$f":"INDEX(QryItemE2019!B:B,MATCH(H5,QryItemE2019!A:A,0))","v":"EACH"}]
[null,null,null,null,null,null,"SUBJECT:",{"$f":"IF('Calc Cover Sheet'!B2=\"\",\"\",'Calc Cover Sheet'!B2)","v":"ESTIMATED QUANTITIES"}]
[null,null,null,"DESCRIPTION:",{"$f":"INDEX(QryItemE2019!C:C,MATCH(H5,QryItemE2019!A:A,0))","v":"CONCRETE BARRIER END SECTION, TYPE D"}]
[null,null,null,"SUPPLEMENTAL DESCRIPTION:"]
[null,null,null,null,null,null,null,null,null,null,null,null,"SUBTOTAL","TOTAL",null,null,"GROUP","<<<<<Tag each subtotal value with a group from this column"]
[null,null,null,null,null,null,null,null,null,null,null,null,null,{"$f":"IF(M10=\"\",\"\",M10+MAX(N$9:N9))","v":""}]
[null,null,null,null,null,null,null,null,null,null,null,null,null,{"$f":"IF(M11=\"\",\"\",M11+MAX(N$9:N10))","v":""}]
[null,null,null,"Total = ",1,"each",null,null,null,null,null,null,{"$f":"E12","v":1},{"$f":"IF(M12=\"\",\"\",M12+MAX(N$9:N11))","v":1},null,null,"GEN."]
[null,null,null,null,null,null,null,null,null,null,null,null,null,{"$f":"IF(M13=\"\",\"\",M13+MAX(N$9:N12))","v":""}]
[null,null,null,null,null,null,null,null,null,null,null,null,null,{"$f":"IF(M14=\"\",\"\",M14+MAX(N$9:N13))","v":""}]
[null,null,null,null,null,null,null,null,null,null,null,null,null,{"$f":"IF(M15=\"\",\"\",M15+MAX(N$9:N14))","v":""}]
[null,null,null,null,null,null,null,null,null,null,null,null,null,{"$f":"IF(M16=\"\",\"\",M16+MAX(N$9:N15))","v":""}]
[null,null,null,null,null,null,null,null,null,null,null,null,null,{"$f":"IF(M17=\"\",\"\",M17+MAX(N$9:N16))","v":""}]
[null,null,null,null,null,null,null,null,null,null,null,null,null,{"$f":"IF(M18=\"\",\"\",M18+MAX(N$9:N17))","v":""}]
[]
[null,null,null,null,null,null,null,null,null,null,null,null,null,{"$f":"IF(M20=\"\",\"\",M20+MAX(N$9:N19))","v":""}]
[null,null,null,null,null,null,null,null,null,null,null,null,null,{"$f":"IF(M21=\"\",\"\",M21+MAX(N$9:N20))","v":""}]
[null,null,null,null,null,null,null,null,null,null,null,null,null,{"$f":"IF(M22=\"\",\"\",M22+MAX(N$9:N21))","v":""}]
[null,null,null,null,null,null,null,null,null,null,null,null,null,{"$f":"IF(M23=\"\",\"\",M23+MAX(N$9:N22))","v":""}]
[null,null,null,null,null,null,null,null,null,null,null,null,null,{"$f":"IF(M24=\"\",\"\",M24+MAX(N$9:N23))","v":""}]
[null,null,null,null,null,null,null,null,null,null,null,null,null,{"$f":"IF(M25=\"\",\"\",M25+MAX(N$9:N24))","v":""}]
[null,null,null,null,null,null,null,null,null,null,null,null,null,{"$f":"IF(M26=\"\",\"\",M26+MAX(N$9:N25))","v":""}]
[null,null,null,null,null,null,null,null,null,null,null,null,null,{"$f":"IF(M27=\"\",\"\",M27+MAX(N$9:N26))","v":""}]
[null,null,null,null,null,null,null,null,null,null,null,null,null,{"$f":"IF(M28=\"\",\"\",M28+MAX(N$9:N27))","v":""}]
[null,null,null,null,null,null,null,null,null,null,null,null,null,{"$f":"IF(M29=\"\",\"\",M29+MAX(N$9:N28))","v":""}]
[null,null,null,null,null,null,null,null,null,null,null,null,null,{"$f":"IF(M30=\"\",\"\",M30+MAX(N$9:N29))","v":""}]
[null,null,null,null,null,null,null,null,null,null,null,null,null,{"$f":"IF(M31=\"\",\"\",M31+MAX(N$9:N30))","v":""}]
[null,null,null,null,null,null,null,null,null,null,null,null,null,{"$f":"IF(M32=\"\",\"\",M32+MAX(N$9:N31))","v":""}]
[null,null,null,null,null,null,null,null,null,null,null,null,null,{"$f":"IF(M33=\"\",\"\",M33+MAX(N$9:N32))","v":""}]
[null,null,null,null,null,null,null,null,null,null,null,null,null,{"$f":"IF(M34=\"\",\"\",M34+MAX(N$9:N33))","v":""}]
[null,null,null,null,null,null,null,null,null,null,null,null,null,{"$f":"IF(M35=\"\",\"\",M35+MAX(N$9:N34))","v":""}]
[null,null,null,null,null,null,null,null,null,null,null,null,null,{"$f":"IF(M36=\"\",\"\",M36+MAX(N$9:N35))","v":""}]
[null,null,null,null,null,null,null,null,null,null,null,null,null,{"$f":"IF(M37=\"\",\"\",M37+MAX(N$10:N36))","v":""}]
[null,null,null,null,null,null,null,null,null,null,null,null,null,{"$f":"IF(M38=\"\",\"\",M38+MAX(N$10:N37))","v":""}]
[null,null,null,null,null,null,null,null,null,null,null,null,null,{"$f":"IF(M39=\"\",\"\",M39+MAX(N$10:N38))","v":""}]
[null,null,null,null,null,null,null,null,null,null,null,null,null,{"$f":"IF(M40=\"\",\"\",M40+MAX(N$10:N39))","v":""}]
[null,null,null,null,null,null,null,null,null,null,null,null,null,{"$f":"IF(M41=\"\",\"\",M41+MAX(N$10:N40))","v":""}]
[null,null,null,null,null,null,null,null,null,null,null,null,null,{"$f":"IF(M42=\"\",\"\",M42+MAX(N$10:N41))","v":""}]
[null,null,null,null,null,null,null,null,null,null,null,null,null,{"$f":"IF(M43=\"\",\"\",M43+MAX(N$10:N42))","v":""}]
[null,null,null,null,null,null,null,null,null,null,null,null,null,{"$f":"IF(M44=\"\",\"\",M44+MAX(N$10:N43))","v":""}]
[null,null,null,null,null,null,null,null,null,null,null,null,null,{"$f":"IF(M45=\"\",\"\",M45+MAX(N$10:N44))","v":""}]
[null,null,null,null,null,null,null,null,null,null,null,null,null,{"$f":"IF(M46=\"\",\"\",M46+MAX(N$10:N45))","v":""}]
[null,null,null,null,null,null,null,null,null,null,null,null,null,{"$f":"IF(M47=\"\",\"\",M47+MAX(N$10:N46))","v":""}]
[null,null,null,null,null,null,null,null,null,null,null,null,null,{"$f":"IF(M48=\"\",\"\",M48+MAX(N$10:N47))","v":""}]
[null,null,null,null,null,null,null,null,null,null,null,null,null,{"$f":"IF(M49=\"\",\"\",M49+MAX(N$10:N48))","v":""}]
[null,null,null,null,null,null,null,null,null,null,null,null,null,{"$f":"IF(M50=\"\",\"\",M50+MAX(N$10:N49))","v":""}]
[null,null,null,null,null,null,null,null,null,null,null,null,null,{"$f":"IF(M51=\"\",\"\",M51+MAX(N$10:N50))","v":""}]
[null,null,null,null,null,null,null,null,null,null,null,null,null,{"$f":"IF(M52=\"\",\"\",M52+MAX(N$10:N51))","v":""}]
[null,null,null,null,null,null,null,null,null,null,null,null,null,{"$f":"IF(M53=\"\",\"\",M53+MAX(N$10:N52))","v":""}]
[null,null,null,null,null,null,null,null,null,null,null,null,null,{"$f":"IF(M54=\"\",\"\",M54+MAX(N$10:N53))","v":""}]
[null,null,null,null,null,null,null,null,null,null,null,null,null,{"$f":"IF(M55=\"\",\"\",M55+MAX(N$10:N54))","v":""}]
[null,null,null,null,null,null,null,null,null,null,null,null,null,{"$f":"IF(M56=\"\",\"\",M56+MAX(N$10:N55))","v":""}]
[null,null,null,null,null,null,null,null,null,null,null,null,null,{"$f":"IF(M57=\"\",\"\",M57+MAX(N$10:N56))","v":""}]
[null,null,null,null,null,null,null,null,null,null,null,null,null,{"$f":"IF(M58=\"\",\"\",M58+MAX(N$10:N57))","v":""}]
[null,null,null,null,null,null,null,null,null,null,null,null,null,{"$f":"IF(M59=\"\",\"\",M59+MAX(N$10:N58))","v":""}]
[null,null,null,null,null,null,null,null,null,null,null,null,null,{"$f":"IF(M60=\"\",\"\",M60+MAX(N$10:N59))","v":""}]
[null,null,null,null,null,null,null,null,null,null,null,null,null,{"$f":"IF(M61=\"\",\"\",M61+MAX(N$10:N60))","v":""}]
[null,null,null,null,null,null,null,null,null,null,null,null,null,{"$f":"IF(M62=\"\",\"\",M62+MAX(N$10:N61))","v":""}]
[null,null,null,null,null,null,null,null,null,null,null,null,null,{"$f":"IF(M63=\"\",\"\",M63+MAX(N$10:N62))","v":""}]
[null,null,null,"SPECIAL INSTRUCTIONS:",{"$f":"INDEX(QryItemE2019!F:F,MATCH(H5,QryItemE2019!A:A,0))","v":""},null,null,null,null,null,null,null,"TOTAL",{"$f":"IF(K5=\"LS\",\"LS\",\" \")","v":" "}]

{"sheet":"625E25502","index":44,"n_rows":64,"n_cols":18,"rows_kept":64,"cut":false,"hidden":false,"merged":[[3,16,3,21],[4,7,4,8]]}
[null,null,null,null,null,null,"DESIGN:",{"$f":"IF('Calc Cover Sheet'!B11=\"\",\"\",'Calc Cover Sheet'!B11)","v":"BMV"},"DATE:",{"$f":"IF('Calc Cover Sheet'!D11=\"\",\"\",'Calc Cover Sheet'!D11)","v":"2024-04-19"},"UPDATE:",{"$f":"IF('Calc Cover Sheet'!B13=\"\",\"\",'Calc Cover Sheet'!B13)","v":""},"DATE:",{"$f":"IF('Calc Cover Sheet'!D13=\"\",\"\",'Calc Cover Sheet'!D13)","v":""}]
[null,null,null,null,null,null,"CHECK:",{"$f":"IF('Calc Cover Sheet'!B12=\"\",\"\",'Calc Cover Sheet'!B12)","v":"TLC"},"DATE:",{"$f":"IF('Calc Cover Sheet'!D12=\"\",\"\",'Calc Cover Sheet'!D12)","v":"2024-04-25"},"RECHECK:",{"$f":"IF('Calc Cover Sheet'!B14=\"\",\"\",'Calc Cover Sheet'!B14)","v":""},"DATE:",{"$f":"IF('Calc Cover Sheet'!D14=\"\",\"\",'Calc Cover Sheet'!D14)","v":""}]
[null,null,null,null,null,null,"STRUCTURE:",{"$f":"IF('Calc Cover Sheet'!B7=\"\",\"\",'Calc Cover Sheet'!B7)","v":"HAM-00145-0203"},null,null,"SFN:",{"$f":"IF('Calc Cover Sheet'!B3=\"\",\"\",'Calc Cover Sheet'!B3)","v":3108680},"PID:",{"$f":"IF('Calc Cover Sheet'!B9=\"\",\"\",'Calc Cover Sheet'!B9)","v":110563}]
[null,null,null,null,null,null,null,null,null,null,null,null,null,null,null,null,"Lump Sum Tags (Items with a \"LS\" Pay Unit can be tagged with one or several categories)"]
[null,null,null,null,null,null,"ITEM:",{"$f":"MID(RIGHT(CELL(\"filename\",D2),LEN(CELL(\"filename\",D2))-FIND(\"]\",CELL(\"filename\",D2))),1,9)","v":"625E25502"},null,"PAY UNIT:",{"$f":"INDEX(QryItemE2019!B:B,MATCH(H5,QryItemE2019!A:A,0))","v":"FT"}]
[null,null,null,null,null,null,"SUBJECT:",{"$f":"IF('Calc Cover Sheet'!B2=\"\",\"\",'Calc Cover Sheet'!B2)","v":"ESTIMATED QUANTITIES"}]
[null,null,null,"DESCRIPTION:",{"$f":"INDEX(QryItemE2019!C:C,MATCH(H5,QryItemE2019!A:A,0))","v":"CONDUIT, 3\", 725.05"}]
[null,null,null,"SUPPLEMENTAL DESCRIPTION:"]
[null,null,null,null,null,null,null,null,null,null,null,null,"SUBTOTAL","TOTAL",null,null,"GROUP","<<<<<Tag each subtotal value with a group from this column"]
[null,null,null,null,null,null,null,null,null,null,null,null,null,{"$f":"IF(M10=\"\",\"\",M10+MAX(N$9:N9))","v":""}]
[null,null,null,null,null,null,null,null,null,null,null,null,null,{"$f":"IF(M11=\"\",\"\",M11+MAX(N$9:N10))","v":""}]
[null,null,null,"Approx. length per side = ",330,"ft",null,null,null,null,null,null,null,{"$f":"IF(M12=\"\",\"\",M12+MAX(N$9:N11))","v":""}]
[null,null,null,null,null,null,null,null,null,null,null,null,null,{"$f":"IF(M13=\"\",\"\",M13+MAX(N$9:N12))","v":""}]
[null,null,null,"Total = ",{"$f":"2*E12","v":660},"FT",null,null,null,null,null,null,{"$f":"E14","v":660},{"$f":"IF(M14=\"\",\"\",M14+MAX(N$9:N13))","v":660},null,null,"GEN."]
[null,null,null,null,null,null,null,null,null,null,null,null,null,{"$f":"IF(M15=\"\",\"\",M15+MAX(N$9:N14))","v":""}]
[null,null,null,null,null,null,null,null,null,null,null,null,null,{"$f":"IF(M16=\"\",\"\",M16+MAX(N$9:N15))","v":""}]
[null,null,null,null,null,null,null,null,null,null,null,null,null,{"$f":"IF(M17=\"\",\"\",M17+MAX(N$9:N16))","v":""}]
[null,null,null,null,null,null,null,null,null,null,null,null,null,{"$f":"IF(M18=\"\",\"\",M18+MAX(N$9:N17))","v":""}]
[]
[null,null,null,null,null,null,null,null,null,null,null,null,null,{"$f":"IF(M20=\"\",\"\",M20+MAX(N$9:N19))","v":""}]
[null,null,null,null,null,null,null,null,null,null,null,null,null,{"$f":"IF(M21=\"\",\"\",M21+MAX(N$9:N20))","v":""}]
[null,null,null,null,null,null,null,null,null,null,null,null,null,{"$f":"IF(M22=\"\",\"\",M22+MAX(N$9:N21))","v":""}]
[null,null,null,null,null,null,null,null,null,null,null,null,null,{"$f":"IF(M23=\"\",\"\",M23+MAX(N$9:N22))","v":""}]
[null,null,null,null,null,null,null,null,null,null,null,null,null,{"$f":"IF(M24=\"\",\"\",M24+MAX(N$9:N23))","v":""}]
[null,null,null,null,null,null,null,null,null,null,null,null,null,{"$f":"IF(M25=\"\",\"\",M25+MAX(N$9:N24))","v":""}]
[null,null,null,null,null,null,null,null,null,null,null,null,null,{"$f":"IF(M26=\"\",\"\",M26+MAX(N$9:N25))","v":""}]
[null,null,null,null,null,null,null,null,null,null,null,null,null,{"$f":"IF(M27=\"\",\"\",M27+MAX(N$9:N26))","v":""}]
[null,null,null,null,null,null,null,null,null,null,null,null,null,{"$f":"IF(M28=\"\",\"\",M28+MAX(N$9:N27))","v":""}]
[null,null,null,null,null,null,null,null,null,null,null,null,null,{"$f":"IF(M29=\"\",\"\",M29+MAX(N$9:N28))","v":""}]
[null,null,null,null,null,null,null,null,null,null,null,null,null,{"$f":"IF(M30=\"\",\"\",M30+MAX(N$9:N29))","v":""}]
[null,null,null,null,null,null,null,null,null,null,null,null,null,{"$f":"IF(M31=\"\",\"\",M31+MAX(N$9:N30))","v":""}]
[null,null,null,null,null,null,null,null,null,null,null,null,null,{"$f":"IF(M32=\"\",\"\",M32+MAX(N$9:N31))","v":""}]
[null,null,null,null,null,null,null,null,null,null,null,null,null,{"$f":"IF(M33=\"\",\"\",M33+MAX(N$9:N32))","v":""}]
[null,null,null,null,null,null,null,null,null,null,null,null,null,{"$f":"IF(M34=\"\",\"\",M34+MAX(N$9:N33))","v":""}]
[null,null,null,null,null,null,null,null,null,null,null,null,null,{"$f":"IF(M35=\"\",\"\",M35+MAX(N$9:N34))","v":""}]
[null,null,null,null,null,null,null,null,null,null,null,null,null,{"$f":"IF(M36=\"\",\"\",M36+MAX(N$9:N35))","v":""}]
[null,null,null,null,null,null,null,null,null,null,null,null,null,{"$f":"IF(M37=\"\",\"\",M37+MAX(N$10:N36))","v":""}]
[null,null,null,null,null,null,null,null,null,null,null,null,null,{"$f":"IF(M38=\"\",\"\",M38+MAX(N$10:N37))","v":""}]
[null,null,null,null,null,null,null,null,null,null,null,null,null,{"$f":"IF(M39=\"\",\"\",M39+MAX(N$10:N38))","v":""}]
[null,null,null,null,null,null,null,null,null,null,null,null,null,{"$f":"IF(M40=\"\",\"\",M40+MAX(N$10:N39))","v":""}]
[null,null,null,null,null,null,null,null,null,null,null,null,null,{"$f":"IF(M41=\"\",\"\",M41+MAX(N$10:N40))","v":""}]
[null,null,null,null,null,null,null,null,null,null,null,null,null,{"$f":"IF(M42=\"\",\"\",M42+MAX(N$10:N41))","v":""}]
[null,null,null,null,null,null,null,null,null,null,null,null,null,{"$f":"IF(M43=\"\",\"\",M43+MAX(N$10:N42))","v":""}]
[null,null,null,null,null,null,null,null,null,null,null,null,null,{"$f":"IF(M44=\"\",\"\",M44+MAX(N$10:N43))","v":""}]
[null,null,null,null,null,null,null,null,null,null,null,null,null,{"$f":"IF(M45=\"\",\"\",M45+MAX(N$10:N44))","v":""}]
[null,null,null,null,null,null,null,null,null,null,null,null,null,{"$f":"IF(M46=\"\",\"\",M46+MAX(N$10:N45))","v":""}]
[null,null,null,null,null,null,null,null,null,null,null,null,null,{"$f":"IF(M47=\"\",\"\",M47+MAX(N$10:N46))","v":""}]
[null,null,null,null,null,null,null,null,null,null,null,null,null,{"$f":"IF(M48=\"\",\"\",M48+MAX(N$10:N47))","v":""}]
[null,null,null,null,null,null,null,null,null,null,null,null,null,{"$f":"IF(M49=\"\",\"\",M49+MAX(N$10:N48))","v":""}]
[null,null,null,null,null,null,null,null,null,null,null,null,null,{"$f":"IF(M50=\"\",\"\",M50+MAX(N$10:N49))","v":""}]
[null,null,null,null,null,null,null,null,null,null,null,null,null,{"$f":"IF(M51=\"\",\"\",M51+MAX(N$10:N50))","v":""}]
[null,null,null,null,null,null,null,null,null,null,null,null,null,{"$f":"IF(M52=\"\",\"\",M52+MAX(N$10:N51))","v":""}]
[null,null,null,null,null,null,null,null,null,null,null,null,null,{"$f":"IF(M53=\"\",\"\",M53+MAX(N$10:N52))","v":""}]
[null,null,null,null,null,null,null,null,null,null,null,null,null,{"$f":"IF(M54=\"\",\"\",M54+MAX(N$10:N53))","v":""}]
[null,null,null,null,null,null,null,null,null,null,null,null,null,{"$f":"IF(M55=\"\",\"\",M55+MAX(N$10:N54))","v":""}]
[null,null,null,null,null,null,null,null,null,null,null,null,null,{"$f":"IF(M56=\"\",\"\",M56+MAX(N$10:N55))","v":""}]
[null,null,null,null,null,null,null,null,null,null,null,null,null,{"$f":"IF(M57=\"\",\"\",M57+MAX(N$10:N56))","v":""}]
[null,null,null,null,null,null,null,null,null,null,null,null,null,{"$f":"IF(M58=\"\",\"\",M58+MAX(N$10:N57))","v":""}]
[null,null,null,null,null,null,null,null,null,null,null,null,null,{"$f":"IF(M59=\"\",\"\",M59+MAX(N$10:N58))","v":""}]
[null,null,null,null,null,null,null,null,null,null,null,null,null,{"$f":"IF(M60=\"\",\"\",M60+MAX(N$10:N59))","v":""}]
[null,null,null,null,null,null,null,null,null,null,null,null,null,{"$f":"IF(M61=\"\",\"\",M61+MAX(N$10:N60))","v":""}]
[null,null,null,null,null,null,null,null,null,null,null,null,null,{"$f":"IF(M62=\"\",\"\",M62+MAX(N$10:N61))","v":""}]
[null,null,null,null,null,null,null,null,null,null,null,null,null,{"$f":"IF(M63=\"\",\"\",M63+MAX(N$10:N62))","v":""}]
[null,null,null,"SPECIAL INSTRUCTIONS:",{"$f":"INDEX(QryItemE2019!F:F,MATCH(H5,QryItemE2019!A:A,0))","v":""},null,null,null,null,null,null,null,"TOTAL",{"$f":"IF(K5=\"LS\",\"LS\",\" \")","v":" "}]

{"sheet":"625E29920","index":45,"n_rows":64,"n_cols":18,"rows_kept":64,"cut":false,"hidden":false,"merged":[[3,16,3,21],[4,7,4,8]]}
[null,null,null,null,null,null,"DESIGN:",{"$f":"IF('Calc Cover Sheet'!B11=\"\",\"\",'Calc Cover Sheet'!B11)","v":"BMV"},"DATE:",{"$f":"IF('Calc Cover Sheet'!D11=\"\",\"\",'Calc Cover Sheet'!D11)","v":"2024-04-19"},"UPDATE:",{"$f":"IF('Calc Cover Sheet'!B13=\"\",\"\",'Calc Cover Sheet'!B13)","v":""},"DATE:",{"$f":"IF('Calc Cover Sheet'!D13=\"\",\"\",'Calc Cover Sheet'!D13)","v":""}]
[null,null,null,null,null,null,"CHECK:",{"$f":"IF('Calc Cover Sheet'!B12=\"\",\"\",'Calc Cover Sheet'!B12)","v":"TLC"},"DATE:",{"$f":"IF('Calc Cover Sheet'!D12=\"\",\"\",'Calc Cover Sheet'!D12)","v":"2024-04-25"},"RECHECK:",{"$f":"IF('Calc Cover Sheet'!B14=\"\",\"\",'Calc Cover Sheet'!B14)","v":""},"DATE:",{"$f":"IF('Calc Cover Sheet'!D14=\"\",\"\",'Calc Cover Sheet'!D14)","v":""}]
[null,null,null,null,null,null,"STRUCTURE:",{"$f":"IF('Calc Cover Sheet'!B7=\"\",\"\",'Calc Cover Sheet'!B7)","v":"HAM-00145-0203"},null,null,"SFN:",{"$f":"IF('Calc Cover Sheet'!B3=\"\",\"\",'Calc Cover Sheet'!B3)","v":3108680},"PID:",{"$f":"IF('Calc Cover Sheet'!B9=\"\",\"\",'Calc Cover Sheet'!B9)","v":110563}]
[null,null,null,null,null,null,null,null,null,null,null,null,null,null,null,null,"Lump Sum Tags (Items with a \"LS\" Pay Unit can be tagged with one or several categories)"]
[null,null,null,null,null,null,"ITEM:",{"$f":"MID(RIGHT(CELL(\"filename\",D2),LEN(CELL(\"filename\",D2))-FIND(\"]\",CELL(\"filename\",D2))),1,9)","v":"625E29920"},null,"PAY UNIT:",{"$f":"INDEX(QryItemE2019!B:B,MATCH(H5,QryItemE2019!A:A,0))","v":"EACH"}]
[null,null,null,null,null,null,"SUBJECT:",{"$f":"IF('Calc Cover Sheet'!B2=\"\",\"\",'Calc Cover Sheet'!B2)","v":"ESTIMATED QUANTITIES"}]
[null,null,null,"DESCRIPTION:",{"$f":"INDEX(QryItemE2019!C:C,MATCH(H5,QryItemE2019!A:A,0))","v":"STRUCTURE JUNCTION BOX"}]
[null,null,null,"SUPPLEMENTAL DESCRIPTION:"]
[null,null,null,null,null,null,null,null,null,null,null,null,"SUBTOTAL","TOTAL",null,null,"GROUP","<<<<<Tag each subtotal value with a group from this column"]
[null,null,null,null,null,null,null,null,null,null,null,null,null,{"$f":"IF(M10=\"\",\"\",M10+MAX(N$9:N9))","v":""}]
[null,null,null,null,null,null,null,null,null,null,null,null,null,{"$f":"IF(M11=\"\",\"\",M11+MAX(N$9:N10))","v":""}]
[null,null,null,null,null,null,null,null,null,null,null,null,null,{"$f":"IF(M12=\"\",\"\",M12+MAX(N$9:N11))","v":""}]
[null,null,null,null,null,null,null,null,null,null,null,null,null,{"$f":"IF(M13=\"\",\"\",M13+MAX(N$9:N12))","v":""}]
[null,null,null,"Total = ",2,"each",null,null,null,null,null,null,{"$f":"E14","v":2},{"$f":"IF(M14=\"\",\"\",M14+MAX(N$9:N13))","v":2},null,null,"GEN."]
[null,null,null,null,null,null,null,null,null,null,null,null,null,{"$f":"IF(M15=\"\",\"\",M15+MAX(N$9:N14))","v":""}]
[null,null,null,null,null,null,null,null,null,null,null,null,null,{"$f":"IF(M16=\"\",\"\",M16+MAX(N$9:N15))","v":""}]
[null,null,null,null,null,null,null,null,null,null,null,null,null,{"$f":"IF(M17=\"\",\"\",M17+MAX(N$9:N16))","v":""}]
[null,null,null,null,null,null,null,null,null,null,null,null,null,{"$f":"IF(M18=\"\",\"\",M18+MAX(N$9:N17))","v":""}]
[]
[null,null,null,null,null,null,null,null,null,null,null,null,null,{"$f":"IF(M20=\"\",\"\",M20+MAX(N$9:N19))","v":""}]
[null,null,null,null,null,null,null,null,null,null,null,null,null,{"$f":"IF(M21=\"\",\"\",M21+MAX(N$9:N20))","v":""}]
[null,null,null,null,null,null,null,null,null,null,null,null,null,{"$f":"IF(M22=\"\",\"\",M22+MAX(N$9:N21))","v":""}]
[null,null,null,null,null,null,null,null,null,null,null,null,null,{"$f":"IF(M23=\"\",\"\",M23+MAX(N$9:N22))","v":""}]
[null,null,null,null,null,null,null,null,null,null,null,null,null,{"$f":"IF(M24=\"\",\"\",M24+MAX(N$9:N23))","v":""}]
[null,null,null,null,null,null,null,null,null,null,null,null,null,{"$f":"IF(M25=\"\",\"\",M25+MAX(N$9:N24))","v":""}]
[null,null,null,null,null,null,null,null,null,null,null,null,null,{"$f":"IF(M26=\"\",\"\",M26+MAX(N$9:N25))","v":""}]
[null,null,null,null,null,null,null,null,null,null,null,null,null,{"$f":"IF(M27=\"\",\"\",M27+MAX(N$9:N26))","v":""}]
[null,null,null,null,null,null,null,null,null,null,null,null,null,{"$f":"IF(M28=\"\",\"\",M28+MAX(N$9:N27))","v":""}]
[null,null,null,null,null,null,null,null,null,null,null,null,null,{"$f":"IF(M29=\"\",\"\",M29+MAX(N$9:N28))","v":""}]
[null,null,null,null,null,null,null,null,null,null,null,null,null,{"$f":"IF(M30=\"\",\"\",M30+MAX(N$9:N29))","v":""}]
[null,null,null,null,null,null,null,null,null,null,null,null,null,{"$f":"IF(M31=\"\",\"\",M31+MAX(N$9:N30))","v":""}]
[null,null,null,null,null,null,null,null,null,null,null,null,null,{"$f":"IF(M32=\"\",\"\",M32+MAX(N$9:N31))","v":""}]
[null,null,null,null,null,null,null,null,null,null,null,null,null,{"$f":"IF(M33=\"\",\"\",M33+MAX(N$9:N32))","v":""}]
[null,null,null,null,null,null,null,null,null,null,null,null,null,{"$f":"IF(M34=\"\",\"\",M34+MAX(N$9:N33))","v":""}]
[null,null,null,null,null,null,null,null,null,null,null,null,null,{"$f":"IF(M35=\"\",\"\",M35+MAX(N$9:N34))","v":""}]
[null,null,null,null,null,null,null,null,null,null,null,null,null,{"$f":"IF(M36=\"\",\"\",M36+MAX(N$9:N35))","v":""}]
[null,null,null,null,null,null,null,null,null,null,null,null,null,{"$f":"IF(M37=\"\",\"\",M37+MAX(N$10:N36))","v":""}]
[null,null,null,null,null,null,null,null,null,null,null,null,null,{"$f":"IF(M38=\"\",\"\",M38+MAX(N$10:N37))","v":""}]
[null,null,null,null,null,null,null,null,null,null,null,null,null,{"$f":"IF(M39=\"\",\"\",M39+MAX(N$10:N38))","v":""}]
[null,null,null,null,null,null,null,null,null,null,null,null,null,{"$f":"IF(M40=\"\",\"\",M40+MAX(N$10:N39))","v":""}]
[null,null,null,null,null,null,null,null,null,null,null,null,null,{"$f":"IF(M41=\"\",\"\",M41+MAX(N$10:N40))","v":""}]
[null,null,null,null,null,null,null,null,null,null,null,null,null,{"$f":"IF(M42=\"\",\"\",M42+MAX(N$10:N41))","v":""}]
[null,null,null,null,null,null,null,null,null,null,null,null,null,{"$f":"IF(M43=\"\",\"\",M43+MAX(N$10:N42))","v":""}]
[null,null,null,null,null,null,null,null,null,null,null,null,null,{"$f":"IF(M44=\"\",\"\",M44+MAX(N$10:N43))","v":""}]
[null,null,null,null,null,null,null,null,null,null,null,null,null,{"$f":"IF(M45=\"\",\"\",M45+MAX(N$10:N44))","v":""}]
[null,null,null,null,null,null,null,null,null,null,null,null,null,{"$f":"IF(M46=\"\",\"\",M46+MAX(N$10:N45))","v":""}]
[null,null,null,null,null,null,null,null,null,null,null,null,null,{"$f":"IF(M47=\"\",\"\",M47+MAX(N$10:N46))","v":""}]
[null,null,null,null,null,null,null,null,null,null,null,null,null,{"$f":"IF(M48=\"\",\"\",M48+MAX(N$10:N47))","v":""}]
[null,null,null,null,null,null,null,null,null,null,null,null,null,{"$f":"IF(M49=\"\",\"\",M49+MAX(N$10:N48))","v":""}]
[null,null,null,null,null,null,null,null,null,null,null,null,null,{"$f":"IF(M50=\"\",\"\",M50+MAX(N$10:N49))","v":""}]
[null,null,null,null,null,null,null,null,null,null,null,null,null,{"$f":"IF(M51=\"\",\"\",M51+MAX(N$10:N50))","v":""}]
[null,null,null,null,null,null,null,null,null,null,null,null,null,{"$f":"IF(M52=\"\",\"\",M52+MAX(N$10:N51))","v":""}]
[null,null,null,null,null,null,null,null,null,null,null,null,null,{"$f":"IF(M53=\"\",\"\",M53+MAX(N$10:N52))","v":""}]
[null,null,null,null,null,null,null,null,null,null,null,null,null,{"$f":"IF(M54=\"\",\"\",M54+MAX(N$10:N53))","v":""}]
[null,null,null,null,null,null,null,null,null,null,null,null,null,{"$f":"IF(M55=\"\",\"\",M55+MAX(N$10:N54))","v":""}]
[null,null,null,null,null,null,null,null,null,null,null,null,null,{"$f":"IF(M56=\"\",\"\",M56+MAX(N$10:N55))","v":""}]
[null,null,null,null,null,null,null,null,null,null,null,null,null,{"$f":"IF(M57=\"\",\"\",M57+MAX(N$10:N56))","v":""}]
[null,null,null,null,null,null,null,null,null,null,null,null,null,{"$f":"IF(M58=\"\",\"\",M58+MAX(N$10:N57))","v":""}]
[null,null,null,null,null,null,null,null,null,null,null,null,null,{"$f":"IF(M59=\"\",\"\",M59+MAX(N$10:N58))","v":""}]
[null,null,null,null,null,null,null,null,null,null,null,null,null,{"$f":"IF(M60=\"\",\"\",M60+MAX(N$10:N59))","v":""}]
[null,null,null,null,null,null,null,null,null,null,null,null,null,{"$f":"IF(M61=\"\",\"\",M61+MAX(N$10:N60))","v":""}]
[null,null,null,null,null,null,null,null,null,null,null,null,null,{"$f":"IF(M62=\"\",\"\",M62+MAX(N$10:N61))","v":""}]
[null,null,null,null,null,null,null,null,null,null,null,null,null,{"$f":"IF(M63=\"\",\"\",M63+MAX(N$10:N62))","v":""}]
[null,null,null,"SPECIAL INSTRUCTIONS:",{"$f":"INDEX(QryItemE2019!F:F,MATCH(H5,QryItemE2019!A:A,0))","v":""},null,null,null,null,null,null,null,"TOTAL",{"$f":"IF(K5=\"LS\",\"LS\",\" \")","v":" "}]

{"sheet":"625E30520","index":46,"n_rows":64,"n_cols":18,"rows_kept":64,"cut":false,"hidden":false,"merged":[[3,16,3,21],[4,7,4,8]]}
[null,null,null,null,null,null,"DESIGN:",{"$f":"IF('Calc Cover Sheet'!B11=\"\",\"\",'Calc Cover Sheet'!B11)","v":"BMV"},"DATE:",{"$f":"IF('Calc Cover Sheet'!D11=\"\",\"\",'Calc Cover Sheet'!D11)","v":"2024-04-19"},"UPDATE:",{"$f":"IF('Calc Cover Sheet'!B13=\"\",\"\",'Calc Cover Sheet'!B13)","v":""},"DATE:",{"$f":"IF('Calc Cover Sheet'!D13=\"\",\"\",'Calc Cover Sheet'!D13)","v":""}]
[null,null,null,null,null,null,"CHECK:",{"$f":"IF('Calc Cover Sheet'!B12=\"\",\"\",'Calc Cover Sheet'!B12)","v":"TLC"},"DATE:",{"$f":"IF('Calc Cover Sheet'!D12=\"\",\"\",'Calc Cover Sheet'!D12)","v":"2024-04-25"},"RECHECK:",{"$f":"IF('Calc Cover Sheet'!B14=\"\",\"\",'Calc Cover Sheet'!B14)","v":""},"DATE:",{"$f":"IF('Calc Cover Sheet'!D14=\"\",\"\",'Calc Cover Sheet'!D14)","v":""}]
[null,null,null,null,null,null,"STRUCTURE:",{"$f":"IF('Calc Cover Sheet'!B7=\"\",\"\",'Calc Cover Sheet'!B7)","v":"HAM-00145-0203"},null,null,"SFN:",{"$f":"IF('Calc Cover Sheet'!B3=\"\",\"\",'Calc Cover Sheet'!B3)","v":3108680},"PID:",{"$f":"IF('Calc Cover Sheet'!B9=\"\",\"\",'Calc Cover Sheet'!B9)","v":110563}]
[null,null,null,null,null,null,null,null,null,null,null,null,null,null,null,null,"Lump Sum Tags (Items with a \"LS\" Pay Unit can be tagged with one or several categories)"]
[null,null,null,null,null,null,"ITEM:",{"$f":"MID(RIGHT(CELL(\"filename\",D2),LEN(CELL(\"filename\",D2))-FIND(\"]\",CELL(\"filename\",D2))),1,9)","v":"625E30520"},null,"PAY UNIT:",{"$f":"INDEX(QryItemE2019!B:B,MATCH(H5,QryItemE2019!A:A,0))","v":"EACH"}]
[null,null,null,null,null,null,"SUBJECT:",{"$f":"IF('Calc Cover Sheet'!B2=\"\",\"\",'Calc Cover Sheet'!B2)","v":"ESTIMATED QUANTITIES"}]
[null,null,null,"DESCRIPTION:",{"$f":"INDEX(QryItemE2019!C:C,MATCH(H5,QryItemE2019!A:A,0))","v":"PULL BOX, 725.06, SIZE 7"}]
[null,null,null,"SUPPLEMENTAL DESCRIPTION:"]
[null,null,null,null,null,null,null,null,null,null,null,null,"SUBTOTAL","TOTAL",null,null,"GROUP","<<<<<Tag each subtotal value with a group from this column"]
[null,null,null,null,null,null,null,null,null,null,null,null,null,{"$f":"IF(M10=\"\",\"\",M10+MAX(N$9:N9))","v":""}]
[null,null,null,null,null,null,null,null,null,null,null,null,null,{"$f":"IF(M11=\"\",\"\",M11+MAX(N$9:N10))","v":""}]
[null,null,null,null,null,null,null,null,null,null,null,null,null,{"$f":"IF(M12=\"\",\"\",M12+MAX(N$9:N11))","v":""}]
[null,null,null,null,null,null,null,null,null,null,null,null,null,{"$f":"IF(M13=\"\",\"\",M13+MAX(N$9:N12))","v":""}]
[null,null,null,"Total = ",4,"each",null,null,null,null,null,null,{"$f":"E14","v":4},{"$f":"IF(M14=\"\",\"\",M14+MAX(N$9:N13))","v":4},null,null,"GEN."]
[null,null,null,null,null,null,null,null,null,null,null,null,null,{"$f":"IF(M15=\"\",\"\",M15+MAX(N$9:N14))","v":""}]
[null,null,null,null,null,null,null,null,null,null,null,null,null,{"$f":"IF(M16=\"\",\"\",M16+MAX(N$9:N15))","v":""}]
[null,null,null,null,null,null,null,null,null,null,null,null,null,{"$f":"IF(M17=\"\",\"\",M17+MAX(N$9:N16))","v":""}]
[null,null,null,null,null,null,null,null,null,null,null,null,null,{"$f":"IF(M18=\"\",\"\",M18+MAX(N$9:N17))","v":""}]
[]
[null,null,null,null,null,null,null,null,null,null,null,null,null,{"$f":"IF(M20=\"\",\"\",M20+MAX(N$9:N19))","v":""}]
[null,null,null,null,null,null,null,null,null,null,null,null,null,{"$f":"IF(M21=\"\",\"\",M21+MAX(N$9:N20))","v":""}]
[null,null,null,null,null,null,null,null,null,null,null,null,null,{"$f":"IF(M22=\"\",\"\",M22+MAX(N$9:N21))","v":""}]
[null,null,null,null,null,null,null,null,null,null,null,null,null,{"$f":"IF(M23=\"\",\"\",M23+MAX(N$9:N22))","v":""}]
[null,null,null,null,null,null,null,null,null,null,null,null,null,{"$f":"IF(M24=\"\",\"\",M24+MAX(N$9:N23))","v":""}]
[null,null,null,null,null,null,null,null,null,null,null,null,null,{"$f":"IF(M25=\"\",\"\",M25+MAX(N$9:N24))","v":""}]
[null,null,null,null,null,null,null,null,null,null,null,null,null,{"$f":"IF(M26=\"\",\"\",M26+MAX(N$9:N25))","v":""}]
[null,null,null,null,null,null,null,null,null,null,null,null,null,{"$f":"IF(M27=\"\",\"\",M27+MAX(N$9:N26))","v":""}]
[null,null,null,null,null,null,null,null,null,null,null,null,null,{"$f":"IF(M28=\"\",\"\",M28+MAX(N$9:N27))","v":""}]
[null,null,null,null,null,null,null,null,null,null,null,null,null,{"$f":"IF(M29=\"\",\"\",M29+MAX(N$9:N28))","v":""}]
[null,null,null,null,null,null,null,null,null,null,null,null,null,{"$f":"IF(M30=\"\",\"\",M30+MAX(N$9:N29))","v":""}]
[null,null,null,null,null,null,null,null,null,null,null,null,null,{"$f":"IF(M31=\"\",\"\",M31+MAX(N$9:N30))","v":""}]
[null,null,null,null,null,null,null,null,null,null,null,null,null,{"$f":"IF(M32=\"\",\"\",M32+MAX(N$9:N31))","v":""}]
[null,null,null,null,null,null,null,null,null,null,null,null,null,{"$f":"IF(M33=\"\",\"\",M33+MAX(N$9:N32))","v":""}]
[null,null,null,null,null,null,null,null,null,null,null,null,null,{"$f":"IF(M34=\"\",\"\",M34+MAX(N$9:N33))","v":""}]
[null,null,null,null,null,null,null,null,null,null,null,null,null,{"$f":"IF(M35=\"\",\"\",M35+MAX(N$9:N34))","v":""}]
[null,null,null,null,null,null,null,null,null,null,null,null,null,{"$f":"IF(M36=\"\",\"\",M36+MAX(N$9:N35))","v":""}]
[null,null,null,null,null,null,null,null,null,null,null,null,null,{"$f":"IF(M37=\"\",\"\",M37+MAX(N$10:N36))","v":""}]
[null,null,null,null,null,null,null,null,null,null,null,null,null,{"$f":"IF(M38=\"\",\"\",M38+MAX(N$10:N37))","v":""}]
[null,null,null,null,null,null,null,null,null,null,null,null,null,{"$f":"IF(M39=\"\",\"\",M39+MAX(N$10:N38))","v":""}]
[null,null,null,null,null,null,null,null,null,null,null,null,null,{"$f":"IF(M40=\"\",\"\",M40+MAX(N$10:N39))","v":""}]
[null,null,null,null,null,null,null,null,null,null,null,null,null,{"$f":"IF(M41=\"\",\"\",M41+MAX(N$10:N40))","v":""}]
[null,null,null,null,null,null,null,null,null,null,null,null,null,{"$f":"IF(M42=\"\",\"\",M42+MAX(N$10:N41))","v":""}]
[null,null,null,null,null,null,null,null,null,null,null,null,null,{"$f":"IF(M43=\"\",\"\",M43+MAX(N$10:N42))","v":""}]
[null,null,null,null,null,null,null,null,null,null,null,null,null,{"$f":"IF(M44=\"\",\"\",M44+MAX(N$10:N43))","v":""}]
[null,null,null,null,null,null,null,null,null,null,null,null,null,{"$f":"IF(M45=\"\",\"\",M45+MAX(N$10:N44))","v":""}]
[null,null,null,null,null,null,null,null,null,null,null,null,null,{"$f":"IF(M46=\"\",\"\",M46+MAX(N$10:N45))","v":""}]
[null,null,null,null,null,null,null,null,null,null,null,null,null,{"$f":"IF(M47=\"\",\"\",M47+MAX(N$10:N46))","v":""}]
[null,null,null,null,null,null,null,null,null,null,null,null,null,{"$f":"IF(M48=\"\",\"\",M48+MAX(N$10:N47))","v":""}]
[null,null,null,null,null,null,null,null,null,null,null,null,null,{"$f":"IF(M49=\"\",\"\",M49+MAX(N$10:N48))","v":""}]
[null,null,null,null,null,null,null,null,null,null,null,null,null,{"$f":"IF(M50=\"\",\"\",M50+MAX(N$10:N49))","v":""}]
[null,null,null,null,null,null,null,null,null,null,null,null,null,{"$f":"IF(M51=\"\",\"\",M51+MAX(N$10:N50))","v":""}]
[null,null,null,null,null,null,null,null,null,null,null,null,null,{"$f":"IF(M52=\"\",\"\",M52+MAX(N$10:N51))","v":""}]
[null,null,null,null,null,null,null,null,null,null,null,null,null,{"$f":"IF(M53=\"\",\"\",M53+MAX(N$10:N52))","v":""}]
[null,null,null,null,null,null,null,null,null,null,null,null,null,{"$f":"IF(M54=\"\",\"\",M54+MAX(N$10:N53))","v":""}]
[null,null,null,null,null,null,null,null,null,null,null,null,null,{"$f":"IF(M55=\"\",\"\",M55+MAX(N$10:N54))","v":""}]
[null,null,null,null,null,null,null,null,null,null,null,null,null,{"$f":"IF(M56=\"\",\"\",M56+MAX(N$10:N55))","v":""}]
[null,null,null,null,null,null,null,null,null,null,null,null,null,{"$f":"IF(M57=\"\",\"\",M57+MAX(N$10:N56))","v":""}]
[null,null,null,null,null,null,null,null,null,null,null,null,null,{"$f":"IF(M58=\"\",\"\",M58+MAX(N$10:N57))","v":""}]
[null,null,null,null,null,null,null,null,null,null,null,null,null,{"$f":"IF(M59=\"\",\"\",M59+MAX(N$10:N58))","v":""}]
[null,null,null,null,null,null,null,null,null,null,null,null,null,{"$f":"IF(M60=\"\",\"\",M60+MAX(N$10:N59))","v":""}]
[null,null,null,null,null,null,null,null,null,null,null,null,null,{"$f":"IF(M61=\"\",\"\",M61+MAX(N$10:N60))","v":""}]
[null,null,null,null,null,null,null,null,null,null,null,null,null,{"$f":"IF(M62=\"\",\"\",M62+MAX(N$10:N61))","v":""}]
[null,null,null,null,null,null,null,null,null,null,null,null,null,{"$f":"IF(M63=\"\",\"\",M63+MAX(N$10:N62))","v":""}]
[null,null,null,"SPECIAL INSTRUCTIONS:",{"$f":"INDEX(QryItemE2019!F:F,MATCH(H5,QryItemE2019!A:A,0))","v":""},null,null,null,null,null,null,null,"TOTAL",{"$f":"IF(K5=\"LS\",\"LS\",\" \")","v":" "}]

{"sheet":"625E33000","index":47,"n_rows":64,"n_cols":18,"rows_kept":64,"cut":false,"hidden":false,"merged":[[3,16,3,21],[4,7,4,8]]}
[null,null,null,null,null,null,"DESIGN:",{"$f":"IF('Calc Cover Sheet'!B11=\"\",\"\",'Calc Cover Sheet'!B11)","v":"BMV"},"DATE:",{"$f":"IF('Calc Cover Sheet'!D11=\"\",\"\",'Calc Cover Sheet'!D11)","v":"2024-04-19"},"UPDATE:",{"$f":"IF('Calc Cover Sheet'!B13=\"\",\"\",'Calc Cover Sheet'!B13)","v":""},"DATE:",{"$f":"IF('Calc Cover Sheet'!D13=\"\",\"\",'Calc Cover Sheet'!D13)","v":""}]
[null,null,null,null,null,null,"CHECK:",{"$f":"IF('Calc Cover Sheet'!B12=\"\",\"\",'Calc Cover Sheet'!B12)","v":"TLC"},"DATE:",{"$f":"IF('Calc Cover Sheet'!D12=\"\",\"\",'Calc Cover Sheet'!D12)","v":"2024-04-25"},"RECHECK:",{"$f":"IF('Calc Cover Sheet'!B14=\"\",\"\",'Calc Cover Sheet'!B14)","v":""},"DATE:",{"$f":"IF('Calc Cover Sheet'!D14=\"\",\"\",'Calc Cover Sheet'!D14)","v":""}]
[null,null,null,null,null,null,"STRUCTURE:",{"$f":"IF('Calc Cover Sheet'!B7=\"\",\"\",'Calc Cover Sheet'!B7)","v":"HAM-00145-0203"},null,null,"SFN:",{"$f":"IF('Calc Cover Sheet'!B3=\"\",\"\",'Calc Cover Sheet'!B3)","v":3108680},"PID:",{"$f":"IF('Calc Cover Sheet'!B9=\"\",\"\",'Calc Cover Sheet'!B9)","v":110563}]
[null,null,null,null,null,null,null,null,null,null,null,null,null,null,null,null,"Lump Sum Tags (Items with a \"LS\" Pay Unit can be tagged with one or several categories)"]
[null,null,null,null,null,null,"ITEM:",{"$f":"MID(RIGHT(CELL(\"filename\",D2),LEN(CELL(\"filename\",D2))-FIND(\"]\",CELL(\"filename\",D2))),1,9)","v":"625E33000"},null,"PAY UNIT:",{"$f":"INDEX(QryItemE2019!B:B,MATCH(H5,QryItemE2019!A:A,0))","v":"EACH"}]
[null,null,null,null,null,null,"SUBJECT:",{"$f":"IF('Calc Cover Sheet'!B2=\"\",\"\",'Calc Cover Sheet'!B2)","v":"ESTIMATED QUANTITIES"}]
[null,null,null,"DESCRIPTION:",{"$f":"INDEX(QryItemE2019!C:C,MATCH(H5,QryItemE2019!A:A,0))","v":"STRUCTURE GROUNDING SYSTEM"}]
[null,null,null,"SUPPLEMENTAL DESCRIPTION:"]
[null,null,null,null,null,null,null,null,null,null,null,null,"SUBTOTAL","TOTAL",null,null,"GROUP","<<<<<Tag each subtotal value with a group from this column"]
[null,null,null,null,null,null,null,null,null,null,null,null,null,{"$f":"IF(M10=\"\",\"\",M10+MAX(N$9:N9))","v":""}]
[null,null,null,null,null,null,null,null,null,null,null,null,null,{"$f":"IF(M11=\"\",\"\",M11+MAX(N$9:N10))","v":""}]
[null,null,null,"Total = ",1,"each",null,null,null,null,null,null,{"$f":"E12","v":1},{"$f":"IF(M12=\"\",\"\",M12+MAX(N$9:N11))","v":1},null,null,"GEN."]
[null,null,null,null,null,null,null,null,null,null,null,null,null,{"$f":"IF(M13=\"\",\"\",M13+MAX(N$9:N12))","v":""}]
[null,null,null,null,null,null,null,null,null,null,null,null,null,{"$f":"IF(M14=\"\",\"\",M14+MAX(N$9:N13))","v":""}]
[null,null,null,null,null,null,null,null,null,null,null,null,null,{"$f":"IF(M15=\"\",\"\",M15+MAX(N$9:N14))","v":""}]
[null,null,null,null,null,null,null,null,null,null,null,null,null,{"$f":"IF(M16=\"\",\"\",M16+MAX(N$9:N15))","v":""}]
[null,null,null,null,null,null,null,null,null,null,null,null,null,{"$f":"IF(M17=\"\",\"\",M17+MAX(N$9:N16))","v":""}]
[null,null,null,null,null,null,null,null,null,null,null,null,null,{"$f":"IF(M18=\"\",\"\",M18+MAX(N$9:N17))","v":""}]
[]
[null,null,null,null,null,null,null,null,null,null,null,null,null,{"$f":"IF(M20=\"\",\"\",M20+MAX(N$9:N19))","v":""}]
[null,null,null,null,null,null,null,null,null,null,null,null,null,{"$f":"IF(M21=\"\",\"\",M21+MAX(N$9:N20))","v":""}]
[null,null,null,null,null,null,null,null,null,null,null,null,null,{"$f":"IF(M22=\"\",\"\",M22+MAX(N$9:N21))","v":""}]
[null,null,null,null,null,null,null,null,null,null,null,null,null,{"$f":"IF(M23=\"\",\"\",M23+MAX(N$9:N22))","v":""}]
[null,null,null,null,null,null,null,null,null,null,null,null,null,{"$f":"IF(M24=\"\",\"\",M24+MAX(N$9:N23))","v":""}]
[null,null,null,null,null,null,null,null,null,null,null,null,null,{"$f":"IF(M25=\"\",\"\",M25+MAX(N$9:N24))","v":""}]
[null,null,null,null,null,null,null,null,null,null,null,null,null,{"$f":"IF(M26=\"\",\"\",M26+MAX(N$9:N25))","v":""}]
[null,null,null,null,null,null,null,null,null,null,null,null,null,{"$f":"IF(M27=\"\",\"\",M27+MAX(N$9:N26))","v":""}]
[null,null,null,null,null,null,null,null,null,null,null,null,null,{"$f":"IF(M28=\"\",\"\",M28+MAX(N$9:N27))","v":""}]
[null,null,null,null,null,null,null,null,null,null,null,null,null,{"$f":"IF(M29=\"\",\"\",M29+MAX(N$9:N28))","v":""}]
[null,null,null,null,null,null,null,null,null,null,null,null,null,{"$f":"IF(M30=\"\",\"\",M30+MAX(N$9:N29))","v":""}]
[null,null,null,null,null,null,null,null,null,null,null,null,null,{"$f":"IF(M31=\"\",\"\",M31+MAX(N$9:N30))","v":""}]
[null,null,null,null,null,null,null,null,null,null,null,null,null,{"$f":"IF(M32=\"\",\"\",M32+MAX(N$9:N31))","v":""}]
[null,null,null,null,null,null,null,null,null,null,null,null,null,{"$f":"IF(M33=\"\",\"\",M33+MAX(N$9:N32))","v":""}]
[null,null,null,null,null,null,null,null,null,null,null,null,null,{"$f":"IF(M34=\"\",\"\",M34+MAX(N$9:N33))","v":""}]
[null,null,null,null,null,null,null,null,null,null,null,null,null,{"$f":"IF(M35=\"\",\"\",M35+MAX(N$9:N34))","v":""}]
[null,null,null,null,null,null,null,null,null,null,null,null,null,{"$f":"IF(M36=\"\",\"\",M36+MAX(N$9:N35))","v":""}]
[null,null,null,null,null,null,null,null,null,null,null,null,null,{"$f":"IF(M37=\"\",\"\",M37+MAX(N$10:N36))","v":""}]
[null,null,null,null,null,null,null,null,null,null,null,null,null,{"$f":"IF(M38=\"\",\"\",M38+MAX(N$10:N37))","v":""}]
[null,null,null,null,null,null,null,null,null,null,null,null,null,{"$f":"IF(M39=\"\",\"\",M39+MAX(N$10:N38))","v":""}]
[null,null,null,null,null,null,null,null,null,null,null,null,null,{"$f":"IF(M40=\"\",\"\",M40+MAX(N$10:N39))","v":""}]
[null,null,null,null,null,null,null,null,null,null,null,null,null,{"$f":"IF(M41=\"\",\"\",M41+MAX(N$10:N40))","v":""}]
[null,null,null,null,null,null,null,null,null,null,null,null,null,{"$f":"IF(M42=\"\",\"\",M42+MAX(N$10:N41))","v":""}]
[null,null,null,null,null,null,null,null,null,null,null,null,null,{"$f":"IF(M43=\"\",\"\",M43+MAX(N$10:N42))","v":""}]
[null,null,null,null,null,null,null,null,null,null,null,null,null,{"$f":"IF(M44=\"\",\"\",M44+MAX(N$10:N43))","v":""}]
[null,null,null,null,null,null,null,null,null,null,null,null,null,{"$f":"IF(M45=\"\",\"\",M45+MAX(N$10:N44))","v":""}]
[null,null,null,null,null,null,null,null,null,null,null,null,null,{"$f":"IF(M46=\"\",\"\",M46+MAX(N$10:N45))","v":""}]
[null,null,null,null,null,null,null,null,null,null,null,null,null,{"$f":"IF(M47=\"\",\"\",M47+MAX(N$10:N46))","v":""}]
[null,null,null,null,null,null,null,null,null,null,null,null,null,{"$f":"IF(M48=\"\",\"\",M48+MAX(N$10:N47))","v":""}]
[null,null,null,null,null,null,null,null,null,null,null,null,null,{"$f":"IF(M49=\"\",\"\",M49+MAX(N$10:N48))","v":""}]
[null,null,null,null,null,null,null,null,null,null,null,null,null,{"$f":"IF(M50=\"\",\"\",M50+MAX(N$10:N49))","v":""}]
[null,null,null,null,null,null,null,null,null,null,null,null,null,{"$f":"IF(M51=\"\",\"\",M51+MAX(N$10:N50))","v":""}]
[null,null,null,null,null,null,null,null,null,null,null,null,null,{"$f":"IF(M52=\"\",\"\",M52+MAX(N$10:N51))","v":""}]
[null,null,null,null,null,null,null,null,null,null,null,null,null,{"$f":"IF(M53=\"\",\"\",M53+MAX(N$10:N52))","v":""}]
[null,null,null,null,null,null,null,null,null,null,null,null,null,{"$f":"IF(M54=\"\",\"\",M54+MAX(N$10:N53))","v":""}]
[null,null,null,null,null,null,null,null,null,null,null,null,null,{"$f":"IF(M55=\"\",\"\",M55+MAX(N$10:N54))","v":""}]
[null,null,null,null,null,null,null,null,null,null,null,null,null,{"$f":"IF(M56=\"\",\"\",M56+MAX(N$10:N55))","v":""}]
[null,null,null,null,null,null,null,null,null,null,null,null,null,{"$f":"IF(M57=\"\",\"\",M57+MAX(N$10:N56))","v":""}]
[null,null,null,null,null,null,null,null,null,null,null,null,null,{"$f":"IF(M58=\"\",\"\",M58+MAX(N$10:N57))","v":""}]
[null,null,null,null,null,null,null,null,null,null,null,null,null,{"$f":"IF(M59=\"\",\"\",M59+MAX(N$10:N58))","v":""}]
[null,null,null,null,null,null,null,null,null,null,null,null,null,{"$f":"IF(M60=\"\",\"\",M60+MAX(N$10:N59))","v":""}]
[null,null,null,null,null,null,null,null,null,null,null,null,null,{"$f":"IF(M61=\"\",\"\",M61+MAX(N$10:N60))","v":""}]
[null,null,null,null,null,null,null,null,null,null,null,null,null,{"$f":"IF(M62=\"\",\"\",M62+MAX(N$10:N61))","v":""}]
[null,null,null,null,null,null,null,null,null,null,null,null,null,{"$f":"IF(M63=\"\",\"\",M63+MAX(N$10:N62))","v":""}]
[null,null,null,"SPECIAL INSTRUCTIONS:",{"$f":"INDEX(QryItemE2019!F:F,MATCH(H5,QryItemE2019!A:A,0))","v":""},null,null,null,null,null,null,null,"TOTAL",{"$f":"IF(K5=\"LS\",\"LS\",\" \")","v":" "}]

{"sheet":"840E20000","index":48,"n_rows":64,"n_cols":18,"rows_kept":64,"cut":false,"hidden":false,"merged":[[3,16,3,21],[4,7,4,8]]}
[null,null,null,null,null,null,"DESIGN:",{"$f":"IF('Calc Cover Sheet'!B11=\"\",\"\",'Calc Cover Sheet'!B11)","v":"BMV"},"DATE:",{"$f":"IF('Calc Cover Sheet'!D11=\"\",\"\",'Calc Cover Sheet'!D11)","v":"2024-04-19"},"UPDATE:",{"$f":"IF('Calc Cover Sheet'!B13=\"\",\"\",'Calc Cover Sheet'!B13)","v":""},"DATE:",{"$f":"IF('Calc Cover Sheet'!D13=\"\",\"\",'Calc Cover Sheet'!D13)","v":""}]
[null,null,null,null,null,null,"CHECK:",{"$f":"IF('Calc Cover Sheet'!B12=\"\",\"\",'Calc Cover Sheet'!B12)","v":"TLC"},"DATE:",{"$f":"IF('Calc Cover Sheet'!D12=\"\",\"\",'Calc Cover Sheet'!D12)","v":"2024-04-25"},"RECHECK:",{"$f":"IF('Calc Cover Sheet'!B14=\"\",\"\",'Calc Cover Sheet'!B14)","v":""},"DATE:",{"$f":"IF('Calc Cover Sheet'!D14=\"\",\"\",'Calc Cover Sheet'!D14)","v":""}]
[null,null,null,null,null,null,"STRUCTURE:",{"$f":"IF('Calc Cover Sheet'!B7=\"\",\"\",'Calc Cover Sheet'!B7)","v":"HAM-00145-0203"},null,null,"SFN:",{"$f":"IF('Calc Cover Sheet'!B3=\"\",\"\",'Calc Cover Sheet'!B3)","v":3108680},"PID:",{"$f":"IF('Calc Cover Sheet'!B9=\"\",\"\",'Calc Cover Sheet'!B9)","v":110563}]
[null,null,null,null,null,null,null,null,null,null,null,null,null,null,null,null,"Lump Sum Tags (Items with a \"LS\" Pay Unit can be tagged with one or several categories)"]
[null,null,null,null,null,null,"ITEM:",{"$f":"MID(RIGHT(CELL(\"filename\",D2),LEN(CELL(\"filename\",D2))-FIND(\"]\",CELL(\"filename\",D2))),1,9)","v":"840E20000"},null,"PAY UNIT:",{"$f":"INDEX(QryItemE2019!B:B,MATCH(H5,QryItemE2019!A:A,0))","v":"SF"}]
[null,null,null,null,null,null,"SUBJECT:",{"$f":"IF('Calc Cover Sheet'!B2=\"\",\"\",'Calc Cover Sheet'!B2)","v":"ESTIMATED QUANTITIES"}]
[null,null,null,"DESCRIPTION:",{"$f":"INDEX(QryItemE2019!C:C,MATCH(H5,QryItemE2019!A:A,0))","v":"MECHANICALLY STABILIZED EARTH WALL"}]
[null,null,null,"SUPPLEMENTAL DESCRIPTION:"]
[null,null,null,null,null,null,null,null,null,null,null,null,"SUBTOTAL","TOTAL",null,null,"GROUP","<<<<<Tag each subtotal value with a group from this column"]
[null,null,null,null,null,null,null,null,null,null,null,null,null,{"$f":"IF(M10=\"\",\"\",M10+MAX(N$9:N9))","v":""}]
[null,null,null,null,null,null,null,null,null,null,null,null,null,{"$f":"IF(M11=\"\",\"\",M11+MAX(N$9:N10))","v":""}]
[null,null,"Rear Left",null,null,null,null,null,null,null,null,null,null,{"$f":"IF(M12=\"\",\"\",M12+MAX(N$9:N11))","v":""}]
[null,null,null,null,"Avg. Top of Wall Elev. = ",{"$f":"'512E10100'!F17-1.5","v":804.58500000000004},null,null,null,null,null,null,null,{"$f":"IF(M13=\"\",\"\",M13+MAX(N$9:N12))","v":""}]
[null,null,null,null,"Avg. Btm of Wall Elev. = ",{"$f":"AVERAGE(781,791)","v":786},null,null,null,null,null,null,null,{"$f":"IF(M14=\"\",\"\",M14+MAX(N$9:N13))","v":""}]
[null,null,null,null,"Length = ",48,"ft",null,null,null,null,null,null,{"$f":"IF(M15=\"\",\"\",M15+MAX(N$9:N14))","v":""}]
[null,null,null,null,"Area = ",{"$f":"(F13-F14)*F15","v":892.08000000000175},"SF",null,null,null,null,null,{"$f":"CEILING(F16,1)","v":893},{"$f":"IF(M16=\"\",\"\",M16+MAX(N$9:N15))","v":893},null,null,"GEN."]
[null,null,null,null,null,null,null,null,null,null,null,null,null,{"$f":"IF(M17=\"\",\"\",M17+MAX(N$9:N16))","v":""}]
[null,null,"Rear Abutment",null,null,null,null,null,null,null,null,null,null,{"$f":"IF(M18=\"\",\"\",M18+MAX(N$9:N17))","v":""}]
[null,null,null,null,"Avg. Top of Wall Elev. = ",{"$f":"'512E10100'!F21-1.5","v":798.05}]
[null,null,null,null,"Avg. Btm of Wall Elev. = ",781,null,null,null,null,null,null,null,{"$f":"IF(M20=\"\",\"\",M20+MAX(N$9:N19))","v":""}]
[null,null,null,null,"Length = ",40.083329999999997,"ft",null,null,null,null,null,null,{"$f":"IF(M21=\"\",\"\",M21+MAX(N$9:N20))","v":""}]
[null,null,null,null,"Area = ",{"$f":"(F19-F20)*F21","v":683.42077649999817},"SF",null,null,null,null,null,{"$f":"CEILING(F22,1)","v":684},{"$f":"IF(M22=\"\",\"\",M22+MAX(N$9:N21))","v":1577},null,null,"GEN."]
[null,null,null,null,null,null,null,null,null,null,null,null,null,{"$f":"IF(M23=\"\",\"\",M23+MAX(N$9:N22))","v":""}]
[null,null,"Rear Right",null,null,null,null,null,null,null,null,null,null,{"$f":"IF(M24=\"\",\"\",M24+MAX(N$9:N23))","v":""}]
[null,null,null,null,"Avg. Top of Wall Elev. = ",{"$f":"'512E10100'!F25-1.5","v":804.58500000000004},null,null,null,null,null,null,null,{"$f":"IF(M25=\"\",\"\",M25+MAX(N$9:N24))","v":""}]
[null,null,null,null,"Avg. Btm of Wall Elev. = ",{"$f":"AVERAGE(781,791)","v":786},null,null,null,null,null,null,null,{"$f":"IF(M26=\"\",\"\",M26+MAX(N$9:N25))","v":""}]
[null,null,null,null,"Length = ",48,"ft",null,null,null,null,null,null,{"$f":"IF(M27=\"\",\"\",M27+MAX(N$9:N26))","v":""}]
[null,null,null,null,"Area = ",{"$f":"(F25-F26)*F27","v":892.08000000000175},"SF",null,null,null,null,null,{"$f":"CEILING(F28,1)","v":893},{"$f":"IF(M28=\"\",\"\",M28+MAX(N$9:N27))","v":2470},null,null,"GEN."]
[null,null,null,null,null,null,null,null,null,null,null,null,null,{"$f":"IF(M29=\"\",\"\",M29+MAX(N$9:N28))","v":""}]
[null,null,null,null,null,null,null,null,null,null,null,null,null,{"$f":"IF(M30=\"\",\"\",M30+MAX(N$9:N29))","v":""}]
[null,null,"Fwd Left",null,null,null,null,null,null,null,null,null,null,{"$f":"IF(M31=\"\",\"\",M31+MAX(N$9:N30))","v":""}]
[null,null,null,null,"Avg. Top of Wall Elev. = ",{"$f":"'512E10100'!F29-1.5","v":814.03499999999997},null,null,null,null,null,null,null,{"$f":"IF(M32=\"\",\"\",M32+MAX(N$9:N31))","v":""}]
[null,null,null,null,"Avg. Btm of Wall Elev. = ",{"$f":"AVERAGE(784,799)","v":791.5},null,null,null,null,null,null,null,{"$f":"IF(M33=\"\",\"\",M33+MAX(N$9:N32))","v":""}]
[null,null,null,null,"Length = ",65,"ft",null,null,null,null,null,null,{"$f":"IF(M34=\"\",\"\",M34+MAX(N$9:N33))","v":""}]
[null,null,null,null,"Area = ",{"$f":"(F32-F33)*F34","v":1464.7749999999978},"SF",null,null,null,null,null,{"$f":"CEILING(F35,1)","v":1465},{"$f":"IF(M35=\"\",\"\",M35+MAX(N$9:N34))","v":3935},null,null,"GEN."]
[null,null,null,null,null,null,null,null,null,null,null,null,null,{"$f":"IF(M36=\"\",\"\",M36+MAX(N$9:N35))","v":""}]
[null,null,"Fwd Abutment",null,null,null,null,null,null,null,null,null,null,{"$f":"IF(M37=\"\",\"\",M37+MAX(N$10:N36))","v":""}]
[null,null,null,null,"Avg. Top of Wall Elev. = ",{"$f":"'512E10100'!F33-1.5","v":805.11},null,null,null,null,null,null,null,{"$f":"IF(M38=\"\",\"\",M38+MAX(N$10:N37))","v":""}]
[null,null,null,null,"Avg. Btm of Wall Elev. = ",784,null,null,null,null,null,null,null,{"$f":"IF(M39=\"\",\"\",M39+MAX(N$10:N38))","v":""}]
[null,null,null,null,"Length = ",40.083300000000001,"ft",null,null,null,null,null,null,{"$f":"IF(M40=\"\",\"\",M40+MAX(N$10:N39))","v":""}]
[null,null,null,null,"Area = ",{"$f":"(F38-F39)*F40","v":846.15846300000055},"SF",null,null,null,null,null,{"$f":"CEILING(F41,1)","v":847},{"$f":"IF(M41=\"\",\"\",M41+MAX(N$10:N40))","v":4782},null,null,"GEN."]
[null,null,null,null,null,null,null,null,null,null,null,null,null,{"$f":"IF(M42=\"\",\"\",M42+MAX(N$10:N41))","v":""}]
[null,null,"Fwd Right",null,null,null,null,null,null,null,null,null,null,{"$f":"IF(M43=\"\",\"\",M43+MAX(N$10:N42))","v":""}]
[null,null,null,null,"Avg. Top of Wall Elev. = ",{"$f":"'512E10100'!F37-1.5","v":814.01499999999999},null,null,null,null,null,null,null,{"$f":"IF(M44=\"\",\"\",M44+MAX(N$10:N43))","v":""}]
[null,null,null,null,"Avg. Btm of Wall Elev. = ",{"$f":"AVERAGE(784,799)","v":791.5},null,null,null,null,null,null,null,{"$f":"IF(M45=\"\",\"\",M45+MAX(N$10:N44))","v":""}]
[null,null,null,null,"Length = ",65,"ft",null,null,null,null,null,null,{"$f":"IF(M46=\"\",\"\",M46+MAX(N$10:N45))","v":""}]
[null,null,null,null,"Area = ",{"$f":"(F44-F45)*F46","v":1463.474999999999},"SF",null,null,null,null,null,{"$f":"CEILING(F47,1)","v":1464},{"$f":"IF(M47=\"\",\"\",M47+MAX(N$10:N46))","v":6246},null,null,"GEN."]
[null,null,null,null,null,null,null,null,null,null,null,null,null,{"$f":"IF(M48=\"\",\"\",M48+MAX(N$10:N47))","v":""}]
[null,null,null,null,null,null,null,null,null,null,null,null,null,{"$f":"IF(M49=\"\",\"\",M49+MAX(N$10:N48))","v":""}]
[null,null,null,null,null,null,null,null,null,null,null,null,null,{"$f":"IF(M50=\"\",\"\",M50+MAX(N$10:N49))","v":""}]
[null,null,null,null,null,null,null,null,null,null,null,null,null,{"$f":"IF(M51=\"\",\"\",M51+MAX(N$10:N50))","v":""}]
[null,null,null,null,null,null,null,null,null,null,null,null,null,{"$f":"IF(M52=\"\",\"\",M52+MAX(N$10:N51))","v":""}]
[null,null,null,null,null,null,null,null,null,null,null,null,null,{"$f":"IF(M53=\"\",\"\",M53+MAX(N$10:N52))","v":""}]
[null,null,null,null,null,null,null,null,null,null,null,null,null,{"$f":"IF(M54=\"\",\"\",M54+MAX(N$10:N53))","v":""}]
[null,null,null,null,null,null,null,null,null,null,null,null,null,{"$f":"IF(M55=\"\",\"\",M55+MAX(N$10:N54))","v":""}]
[null,null,null,null,null,null,null,null,null,null,null,null,null,{"$f":"IF(M56=\"\",\"\",M56+MAX(N$10:N55))","v":""}]
[null,null,null,null,null,null,null,null,null,null,null,null,null,{"$f":"IF(M57=\"\",\"\",M57+MAX(N$10:N56))","v":""}]
[null,null,null,null,null,null,null,null,null,null,null,null,null,{"$f":"IF(M58=\"\",\"\",M58+MAX(N$10:N57))","v":""}]
[null,null,null,null,null,null,null,null,null,null,null,null,null,{"$f":"IF(M59=\"\",\"\",M59+MAX(N$10:N58))","v":""}]
[null,null,null,null,null,null,null,null,null,null,null,null,null,{"$f":"IF(M60=\"\",\"\",M60+MAX(N$10:N59))","v":""}]
[null,null,null,null,null,null,null,null,null,null,null,null,null,{"$f":"IF(M61=\"\",\"\",M61+MAX(N$10:N60))","v":""}]
[null,null,null,null,null,null,null,null,null,null,null,null,null,{"$f":"IF(M62=\"\",\"\",M62+MAX(N$10:N61))","v":""}]
[null,null,null,null,null,null,null,null,null,null,null,null,null,{"$f":"IF(M63=\"\",\"\",M63+MAX(N$10:N62))","v":""}]
[null,null,null,"SPECIAL INSTRUCTIONS:",{"$f":"INDEX(QryItemE2019!F:F,MATCH(H5,QryItemE2019!A:A,0))","v":""},null,null,null,null,null,null,null,"TOTAL",{"$f":"IF(K5=\"LS\",\"LS\",\" \")","v":" "}]

{"sheet":"840E21000","index":49,"n_rows":82,"n_cols":18,"rows_kept":82,"cut":false,"hidden":false,"merged":[[3,16,3,21],[4,7,4,8]]}
[null,null,null,null,null,null,"DESIGN:",{"$f":"IF('Calc Cover Sheet'!B11=\"\",\"\",'Calc Cover Sheet'!B11)","v":"BMV"},"DATE:",{"$f":"IF('Calc Cover Sheet'!D11=\"\",\"\",'Calc Cover Sheet'!D11)","v":"2024-04-19"},"UPDATE:",{"$f":"IF('Calc Cover Sheet'!B13=\"\",\"\",'Calc Cover Sheet'!B13)","v":""},"DATE:",{"$f":"IF('Calc Cover Sheet'!D13=\"\",\"\",'Calc Cover Sheet'!D13)","v":""}]
[null,null,null,null,null,null,"CHECK:",{"$f":"IF('Calc Cover Sheet'!B12=\"\",\"\",'Calc Cover Sheet'!B12)","v":"TLC"},"DATE:",{"$f":"IF('Calc Cover Sheet'!D12=\"\",\"\",'Calc Cover Sheet'!D12)","v":"2024-04-25"},"RECHECK:",{"$f":"IF('Calc Cover Sheet'!B14=\"\",\"\",'Calc Cover Sheet'!B14)","v":""},"DATE:",{"$f":"IF('Calc Cover Sheet'!D14=\"\",\"\",'Calc Cover Sheet'!D14)","v":""}]
[null,null,null,null,null,null,"STRUCTURE:",{"$f":"IF('Calc Cover Sheet'!B7=\"\",\"\",'Calc Cover Sheet'!B7)","v":"HAM-00145-0203"},null,null,"SFN:",{"$f":"IF('Calc Cover Sheet'!B3=\"\",\"\",'Calc Cover Sheet'!B3)","v":3108680},"PID:",{"$f":"IF('Calc Cover Sheet'!B9=\"\",\"\",'Calc Cover Sheet'!B9)","v":110563}]
[null,null,null,null,null,null,null,null,null,null,null,null,null,null,null,null,"Lump Sum Tags (Items with a \"LS\" Pay Unit can be tagged with one or several categories)"]
[null,null,null,null,null,null,"ITEM:",{"$f":"MID(RIGHT(CELL(\"filename\",D2),LEN(CELL(\"filename\",D2))-FIND(\"]\",CELL(\"filename\",D2))),1,9)","v":"840E21000"},null,"PAY UNIT:",{"$f":"INDEX(QryItemE2019!B:B,MATCH(H5,QryItemE2019!A:A,0))","v":"CY"}]
[null,null,null,null,null,null,"SUBJECT:",{"$f":"IF('Calc Cover Sheet'!B2=\"\",\"\",'Calc Cover Sheet'!B2)","v":"ESTIMATED QUANTITIES"}]
[null,null,null,"DESCRIPTION:",{"$f":"INDEX(QryItemE2019!C:C,MATCH(H5,QryItemE2019!A:A,0))","v":"WALL EXCAVATION"}]
[null,null,null,"SUPPLEMENTAL DESCRIPTION:"]
[null,null,null,null,null,null,null,null,null,null,null,null,"SUBTOTAL","TOTAL",null,null,"GROUP","<<<<<Tag each subtotal value with a group from this column"]
[null,null,null,null,null,null,null,null,null,null,null,null,null,{"$f":"IF(M10=\"\",\"\",M10+MAX(N$9:N9))","v":""}]
[null,null,null,null,null,null,null,null,null,null,null,null,null,{"$f":"IF(M11=\"\",\"\",M11+MAX(N$9:N10))","v":""}]
[null,null,"Rear Abutment/MSE Wall Excavation",null,null,null,null,null,null,null,null,null,null,{"$f":"IF(M12=\"\",\"\",M12+MAX('840E21000'!N$9:N11))","v":""}]
[null,null,null,null,null,null,null,null,null,null,null,null,null,{"$f":"IF(M13=\"\",\"\",M13+MAX(N$12:N12))","v":""}]
[null,null,null,"Avg. Existing Ground Elev. = ",793,null,null,null,null,null,null,null,null,{"$f":"IF(M14=\"\",\"\",M14+MAX(N$12:N13))","v":""}]
[null,null,null,"Width of Excavation = ",{"$f":"40.083333+2","v":42.083333000000003},"ft",null,null,null,null,null,null,null,{"$f":"IF(M15=\"\",\"\",M15+MAX(N$12:N14))","v":""}]
[null,null,null,"Length of Excavation = ",48,"ft",null,null,null,null,null,null,null,{"$f":"IF(M16=\"\",\"\",M16+MAX(N$12:N14))","v":""}]
[null,null,null,"Avg. Bott. of Excav. = ",{"$f":"(780.5*12+AVERAGE(780.5+2.5,791)*36)/(12+36)","v":785.375},"ft"]
[null,null,null,null,null,null,null,null,null,null,null,null,null,{"$f":"IF(M18=\"\",\"\",M18+MAX(N$12:N15))","v":""}]
[null,null,null,"Rear Excavation Volume = ",{"$f":"(E14-E17)*E15*E16/27","v":570.46295844444444},"CY",null,null,null,null,null,null,{"$f":"CEILING(E19,1)","v":571},{"$f":"IF(M19=\"\",\"\",M19+MAX(N$12:N18))","v":571},null,null,"GEN."]
[null,null,null,null,null,null,null,null,null,null,null,null,null,{"$f":"IF(M20=\"\",\"\",M20+MAX(N$9:N11))","v":""}]
[null,null,null,null,null,null,null,null,null,null,null,null,null,{"$f":"IF(M21=\"\",\"\",M21+MAX(N$9:N20))","v":""}]
[null,null,"Forward Abutment/MSE Wall Excavation",null,null,null,null,null,null,null,null,null,null,{"$f":"IF(M22=\"\",\"\",M22+MAX(N$9:N21))","v":""}]
[null,null,null,null,null,null,null,null,null,null,null,null,null,{"$f":"IF(M23=\"\",\"\",M23+MAX(N$9:N22))","v":""}]
[null,null,null,"Avg. Existing Ground Elev. = ",801,null,null,null,null,null,null,null,null,{"$f":"IF(M24=\"\",\"\",M24+MAX(N$12:N23))","v":""}]
[null,null,null,"Width of Excavation = ",{"$f":"40.083333+2","v":42.083333000000003},"ft",null,null,null,null,null,null,null,{"$f":"IF(M25=\"\",\"\",M25+MAX(N$12:N24))","v":""}]
[null,null,null,"Length of Excavation = ",65,"ft",null,null,null,null,null,null,null,{"$f":"IF(M26=\"\",\"\",M26+MAX(N$12:N24))","v":""}]
[null,null,null,"Avg. Bott. of Excav. = ",{"$f":"(783.5*10.125+798.5*9.875+AVERAGE(786,796)*45)/(10.125+9.875+45)","v":790.97115384615381},"ft"]
[null,null,null,null,null,null,null,null,null,null,null,null,null,{"$f":"IF(M28=\"\",\"\",M28+MAX(N$12:N25))","v":""}]
[null,null,null,"Rear Excavation Volume = ",{"$f":"(E24-E27)*E25*E26/27","v":1016.0397296064851},"CY",null,null,null,null,null,null,{"$f":"CEILING(E29,1)","v":1017},{"$f":"IF(M29=\"\",\"\",M29+MAX(N$12:N28))","v":1588},null,null,"GEN."]
[null,null,null,null,null,null,null,null,null,null,null,null,null,{"$f":"IF(M30=\"\",\"\",M30+MAX(N$9:N29))","v":""}]
[null,null,null,null,null,null,null,null,null,null,null,null,null,{"$f":"IF(M31=\"\",\"\",M31+MAX(N$9:N30))","v":""}]
[null,null,null,null,null,null,null,null,null,null,null,null,null,{"$f":"IF(M32=\"\",\"\",M32+MAX(N$9:N31))","v":""}]
[null,null,null,null,null,null,null,null,null,null,null,null,null,{"$f":"IF(M33=\"\",\"\",M33+MAX(N$9:N32))","v":""}]
[null,null,null,null,null,null,null,null,null,null,null,null,null,{"$f":"IF(M34=\"\",\"\",M34+MAX(N$9:N33))","v":""}]
[null,null,null,null,null,null,null,null,null,null,null,null,null,{"$f":"IF(M35=\"\",\"\",M35+MAX(N$9:N34))","v":""}]
[null,null,null,null,null,null,null,null,null,null,null,null,null,{"$f":"IF(M36=\"\",\"\",M36+MAX(N$9:N35))","v":""}]
[null,null,null,null,null,null,null,null,null,null,null,null,null,{"$f":"IF(M37=\"\",\"\",M37+MAX(N$9:N36))","v":""}]
[null,null,null,null,null,null,null,null,null,null,null,null,null,{"$f":"IF(M38=\"\",\"\",M38+MAX(N$9:N37))","v":""}]
[null,null,null,null,null,null,null,null,null,null,null,null,null,{"$f":"IF(M39=\"\",\"\",M39+MAX(N$9:N38))","v":""}]
[null,null,null,null,null,null,null,null,null,null,null,null,null,{"$f":"IF(M40=\"\",\"\",M40+MAX(N$9:N39))","v":""}]
[null,null,null,null,null,null,null,null,null,null,null,null,null,{"$f":"IF(M41=\"\",\"\",M41+MAX(N$9:N40))","v":""}]
[null,null,null,null,null,null,null,null,null,null,null,null,null,{"$f":"IF(M42=\"\",\"\",M42+MAX(N$9:N41))","v":""}]
[null,null,null,null,null,null,null,null,null,null,null,null,null,{"$f":"IF(M43=\"\",\"\",M43+MAX(N$9:N42))","v":""}]
[null,null,null,null,null,null,null,null,null,null,null,null,null,{"$f":"IF(M44=\"\",\"\",M44+MAX(N$9:N43))","v":""}]
[null,null,null,null,null,null,null,null,null,null,null,null,null,{"$f":"IF(M45=\"\",\"\",M45+MAX(N$9:N44))","v":""}]
[null,null,null,null,null,null,null,null,null,null,null,null,null,{"$f":"IF(M46=\"\",\"\",M46+MAX(N$9:N45))","v":""}]
[null,null,null,null,null,null,null,null,null,null,null,null,null,{"$f":"IF(M47=\"\",\"\",M47+MAX(N$9:N46))","v":""}]
[null,null,null,null,null,null,null,null,null,null,null,null,null,{"$f":"IF(M48=\"\",\"\",M48+MAX(N$9:N47))","v":""}]
[null,null,null,null,null,null,null,null,null,null,null,null,null,{"$f":"IF(M49=\"\",\"\",M49+MAX(N$9:N48))","v":""}]
[null,null,null,null,null,null,null,null,null,null,null,null,null,{"$f":"IF(M50=\"\",\"\",M50+MAX(N$9:N49))","v":""}]
[null,null,null,null,null,null,null,null,null,null,null,null,null,{"$f":"IF(M51=\"\",\"\",M51+MAX(N$9:N50))","v":""}]
[null,null,null,null,null,null,null,null,null,null,null,null,null,{"$f":"IF(M52=\"\",\"\",M52+MAX(N$9:N51))","v":""}]
[null,null,null,null,null,null,null,null,null,null,null,null,null,{"$f":"IF(M53=\"\",\"\",M53+MAX(N$9:N52))","v":""}]
[null,null,null,null,null,null,null,null,null,null,null,null,null,{"$f":"IF(M54=\"\",\"\",M54+MAX(N$9:N53))","v":""}]
[null,null,null,null,null,null,null,null,null,null,null,null,null,{"$f":"IF(M55=\"\",\"\",M55+MAX(N$10:N54))","v":""}]
[null,null,null,null,null,null,null,null,null,null,null,null,null,{"$f":"IF(M56=\"\",\"\",M56+MAX(N$10:N55))","v":""}]
[null,null,null,null,null,null,null,null,null,null,null,null,null,{"$f":"IF(M57=\"\",\"\",M57+MAX(N$10:N56))","v":""}]
[null,null,null,null,null,null,null,null,null,null,null,null,null,{"$f":"IF(M58=\"\",\"\",M58+MAX(N$10:N57))","v":""}]
[null,null,null,null,null,null,null,null,null,null,null,null,null,{"$f":"IF(M59=\"\",\"\",M59+MAX(N$10:N58))","v":""}]
[null,null,null,null,null,null,null,null,null,null,null,null,null,{"$f":"IF(M60=\"\",\"\",M60+MAX(N$10:N59))","v":""}]
[null,null,null,null,null,null,null,null,null,null,null,null,null,{"$f":"IF(M61=\"\",\"\",M61+MAX(N$10:N60))","v":""}]
[null,null,null,null,null,null,null,null,null,null,null,null,null,{"$f":"IF(M62=\"\",\"\",M62+MAX(N$10:N61))","v":""}]
[null,null,null,null,null,null,null,null,null,null,null,null,null,{"$f":"IF(M63=\"\",\"\",M63+MAX(N$10:N62))","v":""}]
[null,null,null,null,null,null,null,null,null,null,null,null,null,{"$f":"IF(M64=\"\",\"\",M64+MAX(N$10:N63))","v":""}]
[null,null,null,null,null,null,null,null,null,null,null,null,null,{"$f":"IF(M65=\"\",\"\",M65+MAX(N$10:N64))","v":""}]
[null,null,null,null,null,null,null,null,null,null,null,null,null,{"$f":"IF(M66=\"\",\"\",M66+MAX(N$10:N65))","v":""}]
[null,null,null,null,null,null,null,null,null,null,null,null,null,{"$f":"IF(M67=\"\",\"\",M67+MAX(N$10:N66))","v":""}]
[null,null,null,null,null,null,null,null,null,null,null,null,null,{"$f":"IF(M68=\"\",\"\",M68+MAX(N$10:N67))","v":""}]
[null,null,null,null,null,null,null,null,null,null,null,null,null,{"$f":"IF(M69=\"\",\"\",M69+MAX(N$10:N68))","v":""}]
[null,null,null,null,null,null,null,null,null,null,null,null,null,{"$f":"IF(M70=\"\",\"\",M70+MAX(N$10:N69))","v":""}]
[null,null,null,null,null,null,null,null,null,null,null,null,null,{"$f":"IF(M71=\"\",\"\",M71+MAX(N$10:N70))","v":""}]
[null,null,null,null,null,null,null,null,null,null,null,null,null,{"$f":"IF(M72=\"\",\"\",M72+MAX(N$10:N71))","v":""}]
[null,null,null,null,null,null,null,null,null,null,null,null,null,{"$f":"IF(M73=\"\",\"\",M73+MAX(N$10:N72))","v":""}]
[null,null,null,null,null,null,null,null,null,null,null,null,null,{"$f":"IF(M74=\"\",\"\",M74+MAX(N$10:N73))","v":""}]
[null,null,null,null,null,null,null,null,null,null,null,null,null,{"$f":"IF(M75=\"\",\"\",M75+MAX(N$10:N74))","v":""}]
[null,null,null,null,null,null,null,null,null,null,null,null,null,{"$f":"IF(M76=\"\",\"\",M76+MAX(N$10:N75))","v":""}]
[null,null,null,null,null,null,null,null,null,null,null,null,null,{"$f":"IF(M77=\"\",\"\",M77+MAX(N$10:N76))","v":""}]
[null,null,null,null,null,null,null,null,null,null,null,null,null,{"$f":"IF(M78=\"\",\"\",M78+MAX(N$10:N77))","v":""}]
[null,null,null,null,null,null,null,null,null,null,null,null,null,{"$f":"IF(M79=\"\",\"\",M79+MAX(N$10:N78))","v":""}]
[null,null,null,null,null,null,null,null,null,null,null,null,null,{"$f":"IF(M80=\"\",\"\",M80+MAX(N$10:N79))","v":""}]
[null,null,null,null,null,null,null,null,null,null,null,null,null,{"$f":"IF(M81=\"\",\"\",M81+MAX(N$10:N80))","v":""}]
[null,null,null,"SPECIAL INSTRUCTIONS:",{"$f":"INDEX(QryItemE2019!F:F,MATCH(H5,QryItemE2019!A:A,0))","v":""},null,null,null,null,null,null,null,"TOTAL",{"$f":"IF(K5=\"LS\",\"LS\",\" \")","v":" "}]

{"sheet":"840E22000","index":50,"n_rows":60,"n_cols":18,"rows_kept":60,"cut":false,"hidden":false,"merged":[[3,16,3,21],[4,7,4,8]]}
[null,null,null,null,null,null,"DESIGN:",{"$f":"IF('Calc Cover Sheet'!B11=\"\",\"\",'Calc Cover Sheet'!B11)","v":"BMV"},"DATE:",{"$f":"IF('Calc Cover Sheet'!D11=\"\",\"\",'Calc Cover Sheet'!D11)","v":"2024-04-19"},"UPDATE:",{"$f":"IF('Calc Cover Sheet'!B13=\"\",\"\",'Calc Cover Sheet'!B13)","v":""},"DATE:",{"$f":"IF('Calc Cover Sheet'!D13=\"\",\"\",'Calc Cover Sheet'!D13)","v":""}]
[null,null,null,null,null,null,"CHECK:",{"$f":"IF('Calc Cover Sheet'!B12=\"\",\"\",'Calc Cover Sheet'!B12)","v":"TLC"},"DATE:",{"$f":"IF('Calc Cover Sheet'!D12=\"\",\"\",'Calc Cover Sheet'!D12)","v":"2024-04-25"},"RECHECK:",{"$f":"IF('Calc Cover Sheet'!B14=\"\",\"\",'Calc Cover Sheet'!B14)","v":""},"DATE:",{"$f":"IF('Calc Cover Sheet'!D14=\"\",\"\",'Calc Cover Sheet'!D14)","v":""}]
[null,null,null,null,null,null,"STRUCTURE:",{"$f":"IF('Calc Cover Sheet'!B7=\"\",\"\",'Calc Cover Sheet'!B7)","v":"HAM-00145-0203"},null,null,"SFN:",{"$f":"IF('Calc Cover Sheet'!B3=\"\",\"\",'Calc Cover Sheet'!B3)","v":3108680},"PID:",{"$f":"IF('Calc Cover Sheet'!B9=\"\",\"\",'Calc Cover Sheet'!B9)","v":110563}]
[null,null,null,null,null,null,null,null,null,null,null,null,null,null,null,null,"Lump Sum Tags (Items with a \"LS\" Pay Unit can be tagged with one or several categories)"]
[null,null,null,null,null,null,"ITEM:",{"$f":"MID(RIGHT(CELL(\"filename\",D2),LEN(CELL(\"filename\",D2))-FIND(\"]\",CELL(\"filename\",D2))),1,9)","v":"840E22000"},null,"PAY UNIT:",{"$f":"INDEX(QryItemE2019!B:B,MATCH(H5,QryItemE2019!A:A,0))","v":"SY"}]
[null,null,null,null,null,null,"SUBJECT:",{"$f":"IF('Calc Cover Sheet'!B2=\"\",\"\",'Calc Cover Sheet'!B2)","v":"ESTIMATED QUANTITIES"}]
[null,null,null,"DESCRIPTION:",{"$f":"INDEX(QryItemE2019!C:C,MATCH(H5,QryItemE2019!A:A,0))","v":"FOUNDATION PREPARATION"}]
[null,null,null,"SUPPLEMENTAL DESCRIPTION:"]
[null,null,null,null,null,null,null,null,null,null,null,null,"SUBTOTAL","TOTAL",null,null,"GROUP","<<<<<Tag each subtotal value with a group from this column"]
[null,null,null,null,null,null,null,null,null,null,null,null,null,{"$f":"IF(M10=\"\",\"\",M10+MAX(N$9:N9))","v":""}]
[null,null,null,null,null,null,null,null,null,null,null,null,null,{"$f":"IF(M11=\"\",\"\",M11+MAX(N$9:N10))","v":""}]
[null,null,null,null,null,null,null,null,null,null,null,null,null,{"$f":"IF(M12=\"\",\"\",M12+MAX(N$9:N11))","v":""}]
[null,null,"Rear Abutment/MSE Wall",null,null,null,null,null,null,null,null,null,null,{"$f":"IF(M13=\"\",\"\",M13+MAX('840E21000'!N$9:N12))","v":""}]
[null,null,null,null,null,null,null,null,null,null,null,null,null,{"$f":"IF(M14=\"\",\"\",M14+MAX(N$12:N13))","v":""}]
[null,null,null,"Soil Reinforcement length = ",{"$f":"'203E35120'!E17","v":20},"ft"]
[null,null,null,"Width of Foundation Preparation = ",{"$f":"'203E35120'!E28","v":43.632000000000005},"ft",null,null,null,null,null,null,null,{"$f":"IF(M16=\"\",\"\",M16+MAX(N$12:N14))","v":""}]
[null,null,null,"Length of Excavation = ",{"$f":"'203E35120'!E29","v":49.771000000000001},"ft",null,null,null,null,null,null,null,{"$f":"IF(M17=\"\",\"\",M17+MAX(N$12:N15))","v":""}]
[null,null,null,null,null,null,null,null,null,null,null,null,null,{"$f":"IF(M18=\"\",\"\",M18+MAX(N$12:N16))","v":""}]
[null,null,null,"Rear Excavation Area = ",{"$f":"E17*E16/9","v":241.28980800000005},"SY",null,null,null,null,null,null,{"$f":"CEILING(E19,1)","v":242},{"$f":"IF(M19=\"\",\"\",M19+MAX(N$12:N18))","v":242},null,null,"GEN."]
[null,null,null,null,null,null,null,null,null,null,null,null,null,{"$f":"IF(M20=\"\",\"\",M20+MAX(N$9:N12))","v":""}]
[null,null,null,null,null,null,null,null,null,null,null,null,null,{"$f":"IF(M21=\"\",\"\",M21+MAX(N$9:N20))","v":""}]
[null,null,"Forward Abutment/MSE Wall",null,null,null,null,null,null,null,null,null,null,{"$f":"IF(M22=\"\",\"\",M22+MAX(N$9:N21))","v":""}]
[null,null,null,null,null,null,null,null,null,null,null,null,null,{"$f":"IF(M23=\"\",\"\",M23+MAX(N$9:N22))","v":""}]
[null,null,null,"Soil Reinforcement length = ",{"$f":"'203E35120'!E18","v":23},"ft",null,null,null,null,null,null,null,{"$f":"IF(M24=\"\",\"\",M24+MAX(N$9:N23))","v":""}]
[null,null,null,"Width of Excavation = ",{"$f":"'203E35120'!E32","v":43.632000000000005}]
[null,null,null,"Length of Excavation = ",{"$f":"'203E35120'!E33","v":66.771000000000001},null,null,null,null,null,null,null,null,{"$f":"IF(M26=\"\",\"\",M26+MAX(N$12:N24))","v":""}]
[null,null,null,null,null,null,null,null,null,null,null,null,null,{"$f":"IF(M27=\"\",\"\",M27+MAX(N$9:N25))","v":""}]
[null,null,null,"Fwd Excavation Area = ",{"$f":"E26*E25/9","v":323.70580800000005},"SY",null,null,null,null,null,null,{"$f":"CEILING(E28,1)","v":324},{"$f":"IF(M28=\"\",\"\",M28+MAX(N$9:N27))","v":566},null,null,"GEN."]
[null,null,null,null,null,null,null,null,null,null,null,null,null,{"$f":"IF(M29=\"\",\"\",M29+MAX(N$9:N28))","v":""}]
[null,null,null,null,null,null,null,null,null,null,null,null,null,{"$f":"IF(M30=\"\",\"\",M30+MAX(N$9:N29))","v":""}]
[null,null,null,null,null,null,null,null,null,null,null,null,null,{"$f":"IF(M31=\"\",\"\",M31+MAX(N$9:N30))","v":""}]
[null,null,null,null,null,null,null,null,null,null,null,null,null,{"$f":"IF(M32=\"\",\"\",M32+MAX(N$9:N31))","v":""}]
[null,null,null,null,null,null,null,null,null,null,null,null,null,{"$f":"IF(M33=\"\",\"\",M33+MAX(N$10:N32))","v":""}]
[null,null,null,null,null,null,null,null,null,null,null,null,null,{"$f":"IF(M34=\"\",\"\",M34+MAX(N$10:N33))","v":""}]
[null,null,null,null,null,null,null,null,null,null,null,null,null,{"$f":"IF(M35=\"\",\"\",M35+MAX(N$10:N34))","v":""}]
[null,null,null,null,null,null,null,null,null,null,null,null,null,{"$f":"IF(M36=\"\",\"\",M36+MAX(N$10:N35))","v":""}]
[null,null,null,null,null,null,null,null,null,null,null,null,null,{"$f":"IF(M37=\"\",\"\",M37+MAX(N$10:N36))","v":""}]
[null,null,null,null,null,null,null,null,null,null,null,null,null,{"$f":"IF(M38=\"\",\"\",M38+MAX(N$10:N37))","v":""}]
[null,null,null,null,null,null,null,null,null,null,null,null,null,{"$f":"IF(M39=\"\",\"\",M39+MAX(N$10:N38))","v":""}]
[null,null,null,null,null,null,null,null,null,null,null,null,null,{"$f":"IF(M40=\"\",\"\",M40+MAX(N$10:N39))","v":""}]
[null,null,null,null,null,null,null,null,null,null,null,null,null,{"$f":"IF(M41=\"\",\"\",M41+MAX(N$10:N40))","v":""}]
[null,null,null,null,null,null,null,null,null,null,null,null,null,{"$f":"IF(M42=\"\",\"\",M42+MAX(N$10:N41))","v":""}]
[null,null,null,null,null,null,null,null,null,null,null,null,null,{"$f":"IF(M43=\"\",\"\",M43+MAX(N$10:N42))","v":""}]
[null,null,null,null,null,null,null,null,null,null,null,null,null,{"$f":"IF(M44=\"\",\"\",M44+MAX(N$10:N43))","v":""}]
[null,null,null,null,null,null,null,null,null,null,null,null,null,{"$f":"IF(M45=\"\",\"\",M45+MAX(N$10:N44))","v":""}]
[null,null,null,null,null,null,null,null,null,null,null,null,null,{"$f":"IF(M46=\"\",\"\",M46+MAX(N$10:N45))","v":""}]
[null,null,null,null,null,null,null,null,null,null,null,null,null,{"$f":"IF(M47=\"\",\"\",M47+MAX(N$10:N46))","v":""}]
[null,null,null,null,null,null,null,null,null,null,null,null,null,{"$f":"IF(M48=\"\",\"\",M48+MAX(N$10:N47))","v":""}]
[null,null,null,null,null,null,null,null,null,null,null,null,null,{"$f":"IF(M49=\"\",\"\",M49+MAX(N$10:N48))","v":""}]
[null,null,null,null,null,null,null,null,null,null,null,null,null,{"$f":"IF(M50=\"\",\"\",M50+MAX(N$10:N49))","v":""}]
[null,null,null,null,null,null,null,null,null,null,null,null,null,{"$f":"IF(M51=\"\",\"\",M51+MAX(N$10:N50))","v":""}]
[null,null,null,null,null,null,null,null,null,null,null,null,null,{"$f":"IF(M52=\"\",\"\",M52+MAX(N$10:N51))","v":""}]
[null,null,null,null,null,null,null,null,null,null,null,null,null,{"$f":"IF(M53=\"\",\"\",M53+MAX(N$10:N52))","v":""}]
[null,null,null,null,null,null,null,null,null,null,null,null,null,{"$f":"IF(M54=\"\",\"\",M54+MAX(N$10:N53))","v":""}]
[null,null,null,null,null,null,null,null,null,null,null,null,null,{"$f":"IF(M55=\"\",\"\",M55+MAX(N$10:N54))","v":""}]
[null,null,null,null,null,null,null,null,null,null,null,null,null,{"$f":"IF(M56=\"\",\"\",M56+MAX(N$10:N55))","v":""}]
[null,null,null,null,null,null,null,null,null,null,null,null,null,{"$f":"IF(M57=\"\",\"\",M57+MAX(N$10:N56))","v":""}]
[null,null,null,null,null,null,null,null,null,null,null,null,null,{"$f":"IF(M58=\"\",\"\",M58+MAX(N$10:N57))","v":""}]
[null,null,null,null,null,null,null,null,null,null,null,null,null,{"$f":"IF(M59=\"\",\"\",M59+MAX(N$10:N58))","v":""}]
[null,null,null,"SPECIAL INSTRUCTIONS:",{"$f":"INDEX(QryItemE2019!F:F,MATCH(H5,QryItemE2019!A:A,0))","v":""},null,null,null,null,null,null,null,"TOTAL",{"$f":"IF(K5=\"LS\",\"LS\",\" \")","v":" "}]

{"sheet":"840E23000","index":51,"n_rows":60,"n_cols":18,"rows_kept":60,"cut":false,"hidden":false,"merged":[[3,16,3,21],[4,7,4,8]]}
[null,null,null,null,null,null,"DESIGN:",{"$f":"IF('Calc Cover Sheet'!B11=\"\",\"\",'Calc Cover Sheet'!B11)","v":"BMV"},"DATE:",{"$f":"IF('Calc Cover Sheet'!D11=\"\",\"\",'Calc Cover Sheet'!D11)","v":"2024-04-19"},"UPDATE:",{"$f":"IF('Calc Cover Sheet'!B13=\"\",\"\",'Calc Cover Sheet'!B13)","v":""},"DATE:",{"$f":"IF('Calc Cover Sheet'!D13=\"\",\"\",'Calc Cover Sheet'!D13)","v":""}]
[null,null,null,null,null,null,"CHECK:",{"$f":"IF('Calc Cover Sheet'!B12=\"\",\"\",'Calc Cover Sheet'!B12)","v":"TLC"},"DATE:",{"$f":"IF('Calc Cover Sheet'!D12=\"\",\"\",'Calc Cover Sheet'!D12)","v":"2024-04-25"},"RECHECK:",{"$f":"IF('Calc Cover Sheet'!B14=\"\",\"\",'Calc Cover Sheet'!B14)","v":""},"DATE:",{"$f":"IF('Calc Cover Sheet'!D14=\"\",\"\",'Calc Cover Sheet'!D14)","v":""}]
[null,null,null,null,null,null,"STRUCTURE:",{"$f":"IF('Calc Cover Sheet'!B7=\"\",\"\",'Calc Cover Sheet'!B7)","v":"HAM-00145-0203"},null,null,"SFN:",{"$f":"IF('Calc Cover Sheet'!B3=\"\",\"\",'Calc Cover Sheet'!B3)","v":3108680},"PID:",{"$f":"IF('Calc Cover Sheet'!B9=\"\",\"\",'Calc Cover Sheet'!B9)","v":110563}]
[null,null,null,null,null,null,null,null,null,null,null,null,null,null,null,null,"Lump Sum Tags (Items with a \"LS\" Pay Unit can be tagged with one or several categories)"]
[null,null,null,null,null,null,"ITEM:",{"$f":"MID(RIGHT(CELL(\"filename\",D2),LEN(CELL(\"filename\",D2))-FIND(\"]\",CELL(\"filename\",D2))),1,9)","v":"840E23000"},null,"PAY UNIT:",{"$f":"INDEX(QryItemE2019!B:B,MATCH(H5,QryItemE2019!A:A,0))","v":"CY"}]
[null,null,null,null,null,null,"SUBJECT:",{"$f":"IF('Calc Cover Sheet'!B2=\"\",\"\",'Calc Cover Sheet'!B2)","v":"ESTIMATED QUANTITIES"}]
[null,null,null,"DESCRIPTION:",{"$f":"INDEX(QryItemE2019!C:C,MATCH(H5,QryItemE2019!A:A,0))","v":"SELECT GRANULAR BACKFILL"}]
[null,null,null,"SUPPLEMENTAL DESCRIPTION:"]
[null,null,null,null,null,null,null,null,null,null,null,null,"SUBTOTAL","TOTAL",null,null,"GROUP","<<<<<Tag each subtotal value with a group from this column"]
[null,null,null,null,null,null,null,null,null,null,null,null,null,{"$f":"IF(M10=\"\",\"\",M10+MAX(N$9:N9))","v":""}]
[null,null,null,null,null,null,null,null,null,null,null,null,null,{"$f":"IF(M11=\"\",\"\",M11+MAX(N$9:N10))","v":""}]
[null,null,null,null,null,null,null,null,null,null,null,null,null,{"$f":"IF(M12=\"\",\"\",M12+MAX(N$9:N11))","v":""}]
[null,null,null,null,null,null,null,null,null,null,null,null,null,{"$f":"IF(M13=\"\",\"\",M13+MAX(N$9:N12))","v":""}]
[null,null,null,"Approach Slab Thickness = ",17,"in",null,null,null,null,null,null,null,{"$f":"IF(M14=\"\",\"\",M14+MAX(N$9:N13))","v":""}]
[null,null,null,"Deck thickness = ",8.5,"in",null,null,null,null,null,null,null,{"$f":"IF(M15=\"\",\"\",M15+MAX(N$9:N14))","v":""}]
[null,null,null,"Beam Height = ",42,"in",null,null,null,null,null,null,null,{"$f":"IF(M16=\"\",\"\",M16+MAX(N$9:N15))","v":""}]
[null,null,null,"Assumed haunch = ",4.75,"in",null,null,null,null,null,null,null,{"$f":"IF(M17=\"\",\"\",M17+MAX(N$9:N16))","v":""}]
[null,null,null,"Bearing height = ",{"$f":"1.5+6.25+1.5+2+9/16","v":11.8125},"in",null,null,null,null,null,null,null,{"$f":"IF(M18=\"\",\"\",M18+MAX(N$9:N17))","v":""}]
[null,null,null,"Abut. Stem Height = ",24,"in",null,null,null,null,null,null,null,{"$f":"IF(M19=\"\",\"\",M19+MAX(N$9:N18))","v":""}]
[null,null,null,"Abut. Footing Height = ",36,"in",null,null,null,null,null,null,null,{"$f":"IF(M20=\"\",\"\",M20+MAX(N$9:N19))","v":""}]
[null,null,null,null,null,null,null,null,null,null,null,null,null,{"$f":"IF(M21=\"\",\"\",M21+MAX(N$9:N20))","v":""}]
[null,null,"Rear Abutment:",null,null,null,null,null,null,null,null,null,null,{"$f":"IF(M22=\"\",\"\",M22+MAX(N$9:N21))","v":""}]
[null,null,null,"Length of Rear Turnbacks = ",48,"ft",null,null,null,null,null,null,null,{"$f":"IF(M23=\"\",\"\",M23+MAX(N$9:N22))","v":""}]
[null,null,null,"Length at Rear Abut. = ",38.833300000000001,"ft",null,null,null,null,null,null,null,{"$f":"IF(M24=\"\",\"\",M24+MAX(N$9:N23))","v":""}]
[null,null,null,"Avg. Top Elev. At Turnback = ",806.1,null,null,null,null,null,null,null,null,{"$f":"IF(M25=\"\",\"\",M25+MAX(N$9:N24))","v":""}]
[null,null,null,"Avg. Bottom Elev. = ",786,null,null,null,null,null,null,null,null,{"$f":"IF(M26=\"\",\"\",M26+MAX(N$9:N25))","v":""}]
[null,null,null,"Depth of Granular Material = ",{"$f":"E25-E26","v":20.100000000000023},"ft",null,null,null,null,null,null,null,{"$f":"IF(M27=\"\",\"\",M27+MAX(N$9:N26))","v":""}]
[null,null,null,"Granular Material Volume = ",{"$f":"'203E35111'!E26/2","v":239.09965970426506},"CY","* Single direction hatch in figure",null,null,null,null,null,null,{"$f":"IF(M28=\"\",\"\",M28+MAX(N$9:N27))","v":""}]
[null,null,null,"Double hatch Volume = ",{"$f":"8.5*E24*(($E$15+$E$16+$E$17+$E$18+$E$19+$E$20-$E$14)/12)/27","v":112.1289064525463},"CY","* Both direction hatch in figure",null,null,null,null,null,null,{"$f":"IF(M29=\"\",\"\",M29+MAX(N$9:N28))","v":""}]
[null,null,null,"Yellow Area Volume = ",{"$f":"E23*E24*E27/27","v":1387.643253333335},"CY","* Yellow shaded area in figure",null,null,null,null,null,null,{"$f":"IF(M30=\"\",\"\",M30+MAX(N$9:N29))","v":""}]
[null,null,null,null,null,null,null,null,null,null,null,null,null,{"$f":"IF(M31=\"\",\"\",M31+MAX(N$9:N30))","v":""}]
[null,null,null,"Select Granular Backfill Volume = ",{"$f":"E30-E28-E29","v":1036.4146871765236},"CY",null,null,null,null,null,null,{"$f":"CEILING(E32,1)","v":1037},{"$f":"IF(M32=\"\",\"\",M32+MAX(N$9:N31))","v":1037},null,null,"GEN."]
[null,null,null,null,null,null,null,null,null,null,null,null,null,{"$f":"IF(M33=\"\",\"\",M33+MAX(N$9:N32))","v":""}]
[null,null,null,null,null,null,null,null,null,null,null,null,null,{"$f":"IF(M34=\"\",\"\",M34+MAX(N$9:N33))","v":""}]
[null,null,"Fwd Abutment:",null,null,null,null,null,null,null,null,null,null,{"$f":"IF(M35=\"\",\"\",M35+MAX(N$9:N34))","v":""}]
[null,null,null,"Length of Rear Turnbacks = ",65,"ft",null,null,null,null,null,null,null,{"$f":"IF(M36=\"\",\"\",M36+MAX(N$9:N35))","v":""}]
[null,null,null,"Length at Rear Abut. = ",38.833300000000001,"ft",null,null,null,null,null,null,null,{"$f":"IF(M37=\"\",\"\",M37+MAX(N$9:N36))","v":""}]
[null,null,null,"Avg. Top Elev. At Turnback = ",815.54,null,null,null,null,null,null,null,null,{"$f":"IF(M38=\"\",\"\",M38+MAX(N$9:N37))","v":""}]
[null,null,null,"Avg. Bottom Elev. = ",792.75,null,null,null,null,null,null,null,null,{"$f":"IF(M39=\"\",\"\",M39+MAX(N$9:N38))","v":""}]
[null,null,null,"Depth of Granular Material = ",{"$f":"E38-E39","v":22.789999999999964},"ft",null,null,null,null,null,null,null,{"$f":"IF(M40=\"\",\"\",M40+MAX(N$9:N39))","v":""}]
[null,null,null,"Granular Material Volume = ",{"$f":"E28","v":239.09965970426506},"CY","* Single direction hatch in figure",null,null,null,null,null,null,{"$f":"IF(M41=\"\",\"\",M41+MAX(N$9:N40))","v":""}]
[null,null,null,"Double hatch Volume = ",{"$f":"8.5*E37*(($E$15+$E$16+$E$17+$E$18+$E$19+$E$20-$E$14)/12)/27","v":112.1289064525463},"CY","* Both direction hatch in figure",null,null,null,null,null,null,{"$f":"IF(M42=\"\",\"\",M42+MAX(N$9:N41))","v":""}]
[null,null,null,"Yellow Area Volume = ",{"$f":"E36*E37*E40/27","v":2130.5818131481446},"CY","* Yellow shaded area in figure",null,null,null,null,null,null,{"$f":"IF(M43=\"\",\"\",M43+MAX(N$9:N42))","v":""}]
[null,null,null,null,null,null,null,null,null,null,null,null,null,{"$f":"IF(M44=\"\",\"\",M44+MAX(N$9:N43))","v":""}]
[null,null,null,"Select Granular Backfill Volume = ",{"$f":"E43-E41-E42","v":1779.3532469913332},"CY",null,null,null,null,null,null,{"$f":"CEILING(E45,1)","v":1780},{"$f":"IF(M45=\"\",\"\",M45+MAX(N$9:N44))","v":2817},null,null,"GEN."]
[null,null,null,null,null,null,null,null,null,null,null,null,null,{"$f":"IF(M46=\"\",\"\",M46+MAX(N$9:N45))","v":""}]
[null,null,null,null,null,null,null,null,null,null,null,null,null,{"$f":"IF(M47=\"\",\"\",M47+MAX(N$9:N46))","v":""}]
[null,null,null,null,null,null,null,null,null,null,null,null,null,{"$f":"IF(M48=\"\",\"\",M48+MAX(N$9:N47))","v":""}]
[null,null,null,null,null,null,null,null,null,null,null,null,null,{"$f":"IF(M49=\"\",\"\",M49+MAX(N$9:N48))","v":""}]
[null,null,null,null,null,null,null,null,null,null,null,null,null,{"$f":"IF(M50=\"\",\"\",M50+MAX(N$9:N49))","v":""}]
[null,null,null,null,null,null,null,null,null,null,null,null,null,{"$f":"IF(M51=\"\",\"\",M51+MAX(N$9:N50))","v":""}]
[null,null,null,null,null,null,null,null,null,null,null,null,null,{"$f":"IF(M52=\"\",\"\",M52+MAX(N$9:N51))","v":""}]
[null,null,null,null,null,null,null,null,null,null,null,null,null,{"$f":"IF(M53=\"\",\"\",M53+MAX(N$9:N52))","v":""}]
[null,null,null,null,null,null,null,null,null,null,null,null,null,{"$f":"IF(M54=\"\",\"\",M54+MAX(N$9:N53))","v":""}]
[null,null,null,null,null,null,null,null,null,null,null,null,null,{"$f":"IF(M55=\"\",\"\",M55+MAX(N$9:N54))","v":""}]
[null,null,null,null,null,null,null,null,null,null,null,null,null,{"$f":"IF(M56=\"\",\"\",M56+MAX(N$9:N55))","v":""}]
[null,null,null,null,null,null,null,null,null,null,null,null,null,{"$f":"IF(M57=\"\",\"\",M57+MAX(N$9:N56))","v":""}]
[null,null,null,null,null,null,null,null,null,null,null,null,null,{"$f":"IF(M58=\"\",\"\",M58+MAX(N$9:N57))","v":""}]
[null,null,null,null,null,null,null,null,null,null,null,null,null,{"$f":"IF(M59=\"\",\"\",M59+MAX(N$9:N58))","v":""}]
[null,null,null,"SPECIAL INSTRUCTIONS:",{"$f":"INDEX(QryItemE2019!F:F,MATCH(H5,QryItemE2019!A:A,0))","v":""},null,null,null,null,null,null,null,"TOTAL",{"$f":"IF(K5=\"LS\",\"LS\",\" \")","v":" "}]

{"sheet":"840E25010","index":52,"n_rows":63,"n_cols":18,"rows_kept":63,"cut":false,"hidden":false,"merged":[[3,16,3,21],[4,7,4,8]]}
[null,null,null,null,null,null,"DESIGN:",{"$f":"IF('Calc Cover Sheet'!B11=\"\",\"\",'Calc Cover Sheet'!B11)","v":"BMV"},"DATE:",{"$f":"IF('Calc Cover Sheet'!D11=\"\",\"\",'Calc Cover Sheet'!D11)","v":"2024-04-19"},"UPDATE:",{"$f":"IF('Calc Cover Sheet'!B13=\"\",\"\",'Calc Cover Sheet'!B13)","v":""},"DATE:",{"$f":"IF('Calc Cover Sheet'!D13=\"\",\"\",'Calc Cover Sheet'!D13)","v":""}]
[null,null,null,null,null,null,"CHECK:",{"$f":"IF('Calc Cover Sheet'!B12=\"\",\"\",'Calc Cover Sheet'!B12)","v":"TLC"},"DATE:",{"$f":"IF('Calc Cover Sheet'!D12=\"\",\"\",'Calc Cover Sheet'!D12)","v":"2024-04-25"},"RECHECK:",{"$f":"IF('Calc Cover Sheet'!B14=\"\",\"\",'Calc Cover Sheet'!B14)","v":""},"DATE:",{"$f":"IF('Calc Cover Sheet'!D14=\"\",\"\",'Calc Cover Sheet'!D14)","v":""}]
[null,null,null,null,null,null,"STRUCTURE:",{"$f":"IF('Calc Cover Sheet'!B7=\"\",\"\",'Calc Cover Sheet'!B7)","v":"HAM-00145-0203"},null,null,"SFN:",{"$f":"IF('Calc Cover Sheet'!B3=\"\",\"\",'Calc Cover Sheet'!B3)","v":3108680},"PID:",{"$f":"IF('Calc Cover Sheet'!B9=\"\",\"\",'Calc Cover Sheet'!B9)","v":110563}]
[null,null,null,null,null,null,null,null,null,null,null,null,null,null,null,null,"Lump Sum Tags (Items with a \"LS\" Pay Unit can be tagged with one or several categories)"]
[null,null,null,null,null,null,"ITEM:",{"$f":"MID(RIGHT(CELL(\"filename\",D2),LEN(CELL(\"filename\",D2))-FIND(\"]\",CELL(\"filename\",D2))),1,9)","v":"840E25010"},null,"PAY UNIT:",{"$f":"INDEX(QryItemE2019!B:B,MATCH(H5,QryItemE2019!A:A,0))","v":"FT"}]
[null,null,null,null,null,null,"SUBJECT:",{"$f":"IF('Calc Cover Sheet'!B2=\"\",\"\",'Calc Cover Sheet'!B2)","v":"ESTIMATED QUANTITIES"}]
[null,null,null,"DESCRIPTION:",{"$f":"INDEX(QryItemE2019!C:C,MATCH(H5,QryItemE2019!A:A,0))","v":"6\" DRAINAGE PIPE, PERFORATED"}]
[null,null,null,"SUPPLEMENTAL DESCRIPTION:"]
[null,null,null,null,null,null,null,null,null,null,null,null,"SUBTOTAL","TOTAL",null,null,"GROUP","<<<<<Tag each subtotal value with a group from this column"]
[null,null,null,null,null,null,null,null,null,null,null,null,null,{"$f":"IF(M10=\"\",\"\",M10+MAX(N$9:N9))","v":""}]
[null,null,null,null,null,null,null,null,null,null,null,null,null,{"$f":"IF(M11=\"\",\"\",M11+MAX(N$9:N10))","v":""}]
[null,null,null,null,"Rear Abutment = ",{"$f":"2*48+40","v":136},"ft",null,null,null,null,null,null,{"$f":"IF(M12=\"\",\"\",M12+MAX(N$9:N11))","v":""}]
[null,null,null,null,"Fwd Abutment = ",{"$f":"2*65+40","v":170},"ft"]
[null,null,null,null,null,null,null,null,null,null,null,null,null,{"$f":"IF(M14=\"\",\"\",M14+MAX(N$9:N13))","v":""}]
[null,null,null,null,"CPP Length = ",{"$f":"F12+F13","v":306},"FT",null,null,null,null,null,{"$f":"CEILING(F15,1)","v":306},{"$f":"IF(M15=\"\",\"\",M15+MAX(N$9:N14))","v":306},null,null,"GEN."]
[null,null,null,null,null,null,null,null,null,null,null,null,null,{"$f":"IF(M16=\"\",\"\",M16+MAX(N$9:N15))","v":""}]
[null,null,null,null,null,null,null,null,null,null,null,null,null,{"$f":"IF(M17=\"\",\"\",M17+MAX(N$9:N16))","v":""}]
[]
[null,null,null,null,null,null,null,null,null,null,null,null,null,{"$f":"IF(M19=\"\",\"\",M19+MAX(N$9:N18))","v":""}]
[null,null,null,null,null,null,null,null,null,null,null,null,null,{"$f":"IF(M20=\"\",\"\",M20+MAX(N$9:N19))","v":""}]
[null,null,null,null,null,null,null,null,null,null,null,null,null,{"$f":"IF(M21=\"\",\"\",M21+MAX(N$9:N20))","v":""}]
[null,null,null,null,null,null,null,null,null,null,null,null,null,{"$f":"IF(M22=\"\",\"\",M22+MAX(N$9:N21))","v":""}]
[null,null,null,null,null,null,null,null,null,null,null,null,null,{"$f":"IF(M23=\"\",\"\",M23+MAX(N$9:N22))","v":""}]
[null,null,null,null,null,null,null,null,null,null,null,null,null,{"$f":"IF(M24=\"\",\"\",M24+MAX(N$9:N23))","v":""}]
[null,null,null,null,null,null,null,null,null,null,null,null,null,{"$f":"IF(M25=\"\",\"\",M25+MAX(N$9:N24))","v":""}]
[null,null,null,null,null,null,null,null,null,null,null,null,null,{"$f":"IF(M26=\"\",\"\",M26+MAX(N$9:N25))","v":""}]
[null,null,null,null,null,null,null,null,null,null,null,null,null,{"$f":"IF(M27=\"\",\"\",M27+MAX(N$9:N26))","v":""}]
[null,null,null,null,null,null,null,null,null,null,null,null,null,{"$f":"IF(M28=\"\",\"\",M28+MAX(N$9:N27))","v":""}]
[null,null,null,null,null,null,null,null,null,null,null,null,null,{"$f":"IF(M29=\"\",\"\",M29+MAX(N$9:N28))","v":""}]
[null,null,null,null,null,null,null,null,null,null,null,null,null,{"$f":"IF(M30=\"\",\"\",M30+MAX(N$9:N29))","v":""}]
[null,null,null,null,null,null,null,null,null,null,null,null,null,{"$f":"IF(M31=\"\",\"\",M31+MAX(N$9:N30))","v":""}]
[null,null,null,null,null,null,null,null,null,null,null,null,null,{"$f":"IF(M32=\"\",\"\",M32+MAX(N$9:N31))","v":""}]
[null,null,null,null,null,null,null,null,null,null,null,null,null,{"$f":"IF(M33=\"\",\"\",M33+MAX(N$9:N32))","v":""}]
[null,null,null,null,null,null,null,null,null,null,null,null,null,{"$f":"IF(M34=\"\",\"\",M34+MAX(N$9:N33))","v":""}]
[null,null,null,null,null,null,null,null,null,null,null,null,null,{"$f":"IF(M35=\"\",\"\",M35+MAX(N$9:N34))","v":""}]
[null,null,null,null,null,null,null,null,null,null,null,null,null,{"$f":"IF(M36=\"\",\"\",M36+MAX(N$10:N35))","v":""}]
[null,null,null,null,null,null,null,null,null,null,null,null,null,{"$f":"IF(M37=\"\",\"\",M37+MAX(N$10:N36))","v":""}]
[null,null,null,null,null,null,null,null,null,null,null,null,null,{"$f":"IF(M38=\"\",\"\",M38+MAX(N$10:N37))","v":""}]
[null,null,null,null,null,null,null,null,null,null,null,null,null,{"$f":"IF(M39=\"\",\"\",M39+MAX(N$10:N38))","v":""}]
[null,null,null,null,null,null,null,null,null,null,null,null,null,{"$f":"IF(M40=\"\",\"\",M40+MAX(N$10:N39))","v":""}]
[null,null,null,null,null,null,null,null,null,null,null,null,null,{"$f":"IF(M41=\"\",\"\",M41+MAX(N$10:N40))","v":""}]
[null,null,null,null,null,null,null,null,null,null,null,null,null,{"$f":"IF(M42=\"\",\"\",M42+MAX(N$10:N41))","v":""}]
[null,null,null,null,null,null,null,null,null,null,null,null,null,{"$f":"IF(M43=\"\",\"\",M43+MAX(N$10:N42))","v":""}]
[null,null,null,null,null,null,null,null,null,null,null,null,null,{"$f":"IF(M44=\"\",\"\",M44+MAX(N$10:N43))","v":""}]
[null,null,null,null,null,null,null,null,null,null,null,null,null,{"$f":"IF(M45=\"\",\"\",M45+MAX(N$10:N44))","v":""}]
[null,null,null,null,null,null,null,null,null,null,null,null,null,{"$f":"IF(M46=\"\",\"\",M46+MAX(N$10:N45))","v":""}]
[null,null,null,null,null,null,null,null,null,null,null,null,null,{"$f":"IF(M47=\"\",\"\",M47+MAX(N$10:N46))","v":""}]
[null,null,null,null,null,null,null,null,null,null,null,null,null,{"$f":"IF(M48=\"\",\"\",M48+MAX(N$10:N47))","v":""}]
[null,null,null,null,null,null,null,null,null,null,null,null,null,{"$f":"IF(M49=\"\",\"\",M49+MAX(N$10:N48))","v":""}]
[null,null,null,null,null,null,null,null,null,null,null,null,null,{"$f":"IF(M50=\"\",\"\",M50+MAX(N$10:N49))","v":""}]
[null,null,null,null,null,null,null,null,null,null,null,null,null,{"$f":"IF(M51=\"\",\"\",M51+MAX(N$10:N50))","v":""}]
[null,null,null,null,null,null,null,null,null,null,null,null,null,{"$f":"IF(M52=\"\",\"\",M52+MAX(N$10:N51))","v":""}]
[null,null,null,null,null,null,null,null,null,null,null,null,null,{"$f":"IF(M53=\"\",\"\",M53+MAX(N$10:N52))","v":""}]
[null,null,null,null,null,null,null,null,null,null,null,null,null,{"$f":"IF(M54=\"\",\"\",M54+MAX(N$10:N53))","v":""}]
[null,null,null,null,null,null,null,null,null,null,null,null,null,{"$f":"IF(M55=\"\",\"\",M55+MAX(N$10:N54))","v":""}]
[null,null,null,null,null,null,null,null,null,null,null,null,null,{"$f":"IF(M56=\"\",\"\",M56+MAX(N$10:N55))","v":""}]
[null,null,null,null,null,null,null,null,null,null,null,null,null,{"$f":"IF(M57=\"\",\"\",M57+MAX(N$10:N56))","v":""}]
[null,null,null,null,null,null,null,null,null,null,null,null,null,{"$f":"IF(M58=\"\",\"\",M58+MAX(N$10:N57))","v":""}]
[null,null,null,null,null,null,null,null,null,null,null,null,null,{"$f":"IF(M59=\"\",\"\",M59+MAX(N$10:N58))","v":""}]
[null,null,null,null,null,null,null,null,null,null,null,null,null,{"$f":"IF(M60=\"\",\"\",M60+MAX(N$10:N59))","v":""}]
[null,null,null,null,null,null,null,null,null,null,null,null,null,{"$f":"IF(M61=\"\",\"\",M61+MAX(N$10:N60))","v":""}]
[null,null,null,null,null,null,null,null,null,null,null,null,null,{"$f":"IF(M62=\"\",\"\",M62+MAX(N$10:N61))","v":""}]
[null,null,null,"SPECIAL INSTRUCTIONS:",{"$f":"INDEX(QryItemE2019!F:F,MATCH(H5,QryItemE2019!A:A,0))","v":""},null,null,null,null,null,null,null,"TOTAL",{"$f":"IF(K5=\"LS\",\"LS\",\" \")","v":" "}]

{"sheet":"840E25020","index":53,"n_rows":64,"n_cols":18,"rows_kept":64,"cut":false,"hidden":false,"merged":[[3,16,3,21],[4,7,4,8]]}
[null,null,null,null,null,null,"DESIGN:",{"$f":"IF('Calc Cover Sheet'!B11=\"\",\"\",'Calc Cover Sheet'!B11)","v":"BMV"},"DATE:",{"$f":"IF('Calc Cover Sheet'!D11=\"\",\"\",'Calc Cover Sheet'!D11)","v":"2024-04-19"},"UPDATE:",{"$f":"IF('Calc Cover Sheet'!B13=\"\",\"\",'Calc Cover Sheet'!B13)","v":""},"DATE:",{"$f":"IF('Calc Cover Sheet'!D13=\"\",\"\",'Calc Cover Sheet'!D13)","v":""}]
[null,null,null,null,null,null,"CHECK:",{"$f":"IF('Calc Cover Sheet'!B12=\"\",\"\",'Calc Cover Sheet'!B12)","v":"TLC"},"DATE:",{"$f":"IF('Calc Cover Sheet'!D12=\"\",\"\",'Calc Cover Sheet'!D12)","v":"2024-04-25"},"RECHECK:",{"$f":"IF('Calc Cover Sheet'!B14=\"\",\"\",'Calc Cover Sheet'!B14)","v":""},"DATE:",{"$f":"IF('Calc Cover Sheet'!D14=\"\",\"\",'Calc Cover Sheet'!D14)","v":""}]
[null,null,null,null,null,null,"STRUCTURE:",{"$f":"IF('Calc Cover Sheet'!B7=\"\",\"\",'Calc Cover Sheet'!B7)","v":"HAM-00145-0203"},null,null,"SFN:",{"$f":"IF('Calc Cover Sheet'!B3=\"\",\"\",'Calc Cover Sheet'!B3)","v":3108680},"PID:",{"$f":"IF('Calc Cover Sheet'!B9=\"\",\"\",'Calc Cover Sheet'!B9)","v":110563}]
[null,null,null,null,null,null,null,null,null,null,null,null,null,null,null,null,"Lump Sum Tags (Items with a \"LS\" Pay Unit can be tagged with one or several categories)"]
[null,null,null,null,null,null,"ITEM:",{"$f":"MID(RIGHT(CELL(\"filename\",D2),LEN(CELL(\"filename\",D2))-FIND(\"]\",CELL(\"filename\",D2))),1,9)","v":"840E25020"},null,"PAY UNIT:",{"$f":"INDEX(QryItemE2019!B:B,MATCH(H5,QryItemE2019!A:A,0))","v":"FT"}]
[null,null,null,null,null,null,"SUBJECT:",{"$f":"IF('Calc Cover Sheet'!B2=\"\",\"\",'Calc Cover Sheet'!B2)","v":"ESTIMATED QUANTITIES"}]
[null,null,null,"DESCRIPTION:",{"$f":"INDEX(QryItemE2019!C:C,MATCH(H5,QryItemE2019!A:A,0))","v":"6\" DRAINAGE PIPE, NON-PERFORATED"}]
[null,null,null,"SUPPLEMENTAL DESCRIPTION:"]
[null,null,null,null,null,null,null,null,null,null,null,null,"SUBTOTAL","TOTAL",null,null,"GROUP","<<<<<Tag each subtotal value with a group from this column"]
[null,null,null,null,null,null,null,null,null,null,null,null,null,{"$f":"IF(M10=\"\",\"\",M10+MAX(N$9:N9))","v":""}]
[null,null,null,"Rear Abut = ",5,"ft",null,null,null,null,null,null,null,{"$f":"IF(M11=\"\",\"\",M11+MAX(N$9:N10))","v":""}]
[null,null,null,"Fwd Abut = ",5,"ft",null,null,null,null,null,null,null,{"$f":"IF(M12=\"\",\"\",M12+MAX(N$9:N11))","v":""}]
[null,null,null,"Length = ",{"$f":"SUM(E11:E12)","v":10},"ft",null,null,null,null,null,null,{"$f":"CEILING(E13,1)","v":10},{"$f":"IF(M13=\"\",\"\",M13+MAX(N$9:N12))","v":10},null,null,"GEN."]
[null,null,null,null,null,null,null,null,null,null,null,null,null,{"$f":"IF(M14=\"\",\"\",M14+MAX(N$9:N13))","v":""}]
[null,null,null,null,null,null,null,null,null,null,null,null,null,{"$f":"IF(M15=\"\",\"\",M15+MAX(N$9:N14))","v":""}]
[null,null,null,null,null,null,null,null,null,null,null,null,null,{"$f":"IF(M16=\"\",\"\",M16+MAX(N$9:N15))","v":""}]
[null,null,null,null,null,null,null,null,null,null,null,null,null,{"$f":"IF(M17=\"\",\"\",M17+MAX(N$9:N16))","v":""}]
[null,null,null,null,null,null,null,null,null,null,null,null,null,{"$f":"IF(M18=\"\",\"\",M18+MAX(N$9:N17))","v":""}]
[]
[null,null,null,null,null,null,null,null,null,null,null,null,null,{"$f":"IF(M20=\"\",\"\",M20+MAX(N$9:N19))","v":""}]
[null,null,null,null,null,null,null,null,null,null,null,null,null,{"$f":"IF(M21=\"\",\"\",M21+MAX(N$9:N20))","v":""}]
[null,null,null,null,null,null,null,null,null,null,null,null,null,{"$f":"IF(M22=\"\",\"\",M22+MAX(N$9:N21))","v":""}]
[null,null,null,null,null,null,null,null,null,null,null,null,null,{"$f":"IF(M23=\"\",\"\",M23+MAX(N$9:N22))","v":""}]
[null,null,null,null,null,null,null,null,null,null,null,null,null,{"$f":"IF(M24=\"\",\"\",M24+MAX(N$9:N23))","v":""}]
[null,null,null,null,null,null,null,null,null,null,null,null,null,{"$f":"IF(M25=\"\",\"\",M25+MAX(N$9:N24))","v":""}]
[null,null,null,null,null,null,null,null,null,null,null,null,null,{"$f":"IF(M26=\"\",\"\",M26+MAX(N$9:N25))","v":""}]
[null,null,null,null,null,null,null,null,null,null,null,null,null,{"$f":"IF(M27=\"\",\"\",M27+MAX(N$9:N26))","v":""}]
[null,null,null,null,null,null,null,null,null,null,null,null,null,{"$f":"IF(M28=\"\",\"\",M28+MAX(N$9:N27))","v":""}]
[null,null,null,null,null,null,null,null,null,null,null,null,null,{"$f":"IF(M29=\"\",\"\",M29+MAX(N$9:N28))","v":""}]
[null,null,null,null,null,null,null,null,null,null,null,null,null,{"$f":"IF(M30=\"\",\"\",M30+MAX(N$9:N29))","v":""}]
[null,null,null,null,null,null,null,null,null,null,null,null,null,{"$f":"IF(M31=\"\",\"\",M31+MAX(N$9:N30))","v":""}]
[null,null,null,null,null,null,null,null,null,null,null,null,null,{"$f":"IF(M32=\"\",\"\",M32+MAX(N$9:N31))","v":""}]
[null,null,null,null,null,null,null,null,null,null,null,null,null,{"$f":"IF(M33=\"\",\"\",M33+MAX(N$9:N32))","v":""}]
[null,null,null,null,null,null,null,null,null,null,null,null,null,{"$f":"IF(M34=\"\",\"\",M34+MAX(N$9:N33))","v":""}]
[null,null,null,null,null,null,null,null,null,null,null,null,null,{"$f":"IF(M35=\"\",\"\",M35+MAX(N$9:N34))","v":""}]
[null,null,null,null,null,null,null,null,null,null,null,null,null,{"$f":"IF(M36=\"\",\"\",M36+MAX(N$9:N35))","v":""}]
[null,null,null,null,null,null,null,null,null,null,null,null,null,{"$f":"IF(M37=\"\",\"\",M37+MAX(N$10:N36))","v":""}]
[null,null,null,null,null,null,null,null,null,null,null,null,null,{"$f":"IF(M38=\"\",\"\",M38+MAX(N$10:N37))","v":""}]
[null,null,null,null,null,null,null,null,null,null,null,null,null,{"$f":"IF(M39=\"\",\"\",M39+MAX(N$10:N38))","v":""}]
[null,null,null,null,null,null,null,null,null,null,null,null,null,{"$f":"IF(M40=\"\",\"\",M40+MAX(N$10:N39))","v":""}]
[null,null,null,null,null,null,null,null,null,null,null,null,null,{"$f":"IF(M41=\"\",\"\",M41+MAX(N$10:N40))","v":""}]
[null,null,null,null,null,null,null,null,null,null,null,null,null,{"$f":"IF(M42=\"\",\"\",M42+MAX(N$10:N41))","v":""}]
[null,null,null,null,null,null,null,null,null,null,null,null,null,{"$f":"IF(M43=\"\",\"\",M43+MAX(N$10:N42))","v":""}]
[null,null,null,null,null,null,null,null,null,null,null,null,null,{"$f":"IF(M44=\"\",\"\",M44+MAX(N$10:N43))","v":""}]
[null,null,null,null,null,null,null,null,null,null,null,null,null,{"$f":"IF(M45=\"\",\"\",M45+MAX(N$10:N44))","v":""}]
[null,null,null,null,null,null,null,null,null,null,null,null,null,{"$f":"IF(M46=\"\",\"\",M46+MAX(N$10:N45))","v":""}]
[null,null,null,null,null,null,null,null,null,null,null,null,null,{"$f":"IF(M47=\"\",\"\",M47+MAX(N$10:N46))","v":""}]
[null,null,null,null,null,null,null,null,null,null,null,null,null,{"$f":"IF(M48=\"\",\"\",M48+MAX(N$10:N47))","v":""}]
[null,null,null,null,null,null,null,null,null,null,null,null,null,{"$f":"IF(M49=\"\",\"\",M49+MAX(N$10:N48))","v":""}]
[null,null,null,null,null,null,null,null,null,null,null,null,null,{"$f":"IF(M50=\"\",\"\",M50+MAX(N$10:N49))","v":""}]
[null,null,null,null,null,null,null,null,null,null,null,null,null,{"$f":"IF(M51=\"\",\"\",M51+MAX(N$10:N50))","v":""}]
[null,null,null,null,null,null,null,null,null,null,null,null,null,{"$f":"IF(M52=\"\",\"\",M52+MAX(N$10:N51))","v":""}]
[null,null,null,null,null,null,null,null,null,null,null,null,null,{"$f":"IF(M53=\"\",\"\",M53+MAX(N$10:N52))","v":""}]
[null,null,null,null,null,null,null,null,null,null,null,null,null,{"$f":"IF(M54=\"\",\"\",M54+MAX(N$10:N53))","v":""}]
[null,null,null,null,null,null,null,null,null,null,null,null,null,{"$f":"IF(M55=\"\",\"\",M55+MAX(N$10:N54))","v":""}]
[null,null,null,null,null,null,null,null,null,null,null,null,null,{"$f":"IF(M56=\"\",\"\",M56+MAX(N$10:N55))","v":""}]
[null,null,null,null,null,null,null,null,null,null,null,null,null,{"$f":"IF(M57=\"\",\"\",M57+MAX(N$10:N56))","v":""}]
[null,null,null,null,null,null,null,null,null,null,null,null,null,{"$f":"IF(M58=\"\",\"\",M58+MAX(N$10:N57))","v":""}]
[null,null,null,null,null,null,null,null,null,null,null,null,null,{"$f":"IF(M59=\"\",\"\",M59+MAX(N$10:N58))","v":""}]
[null,null,null,null,null,null,null,null,null,null,null,null,null,{"$f":"IF(M60=\"\",\"\",M60+MAX(N$10:N59))","v":""}]
[null,null,null,null,null,null,null,null,null,null,null,null,null,{"$f":"IF(M61=\"\",\"\",M61+MAX(N$10:N60))","v":""}]
[null,null,null,null,null,null,null,null,null,null,null,null,null,{"$f":"IF(M62=\"\",\"\",M62+MAX(N$10:N61))","v":""}]
[null,null,null,null,null,null,null,null,null,null,null,null,null,{"$f":"IF(M63=\"\",\"\",M63+MAX(N$10:N62))","v":""}]
[null,null,null,"SPECIAL INSTRUCTIONS:",{"$f":"INDEX(QryItemE2019!F:F,MATCH(H5,QryItemE2019!A:A,0))","v":""},null,null,null,null,null,null,null,"TOTAL",{"$f":"IF(K5=\"LS\",\"LS\",\" \")","v":" "}]

{"sheet":"840E26000","index":54,"n_rows":67,"n_cols":18,"rows_kept":67,"cut":false,"hidden":false,"merged":[[3,16,3,21],[4,7,4,8]]}
[null,null,null,null,null,null,"DESIGN:",{"$f":"IF('Calc Cover Sheet'!B11=\"\",\"\",'Calc Cover Sheet'!B11)","v":"BMV"},"DATE:",{"$f":"IF('Calc Cover Sheet'!D11=\"\",\"\",'Calc Cover Sheet'!D11)","v":"2024-04-19"},"UPDATE:",{"$f":"IF('Calc Cover Sheet'!B13=\"\",\"\",'Calc Cover Sheet'!B13)","v":""},"DATE:",{"$f":"IF('Calc Cover Sheet'!D13=\"\",\"\",'Calc Cover Sheet'!D13)","v":""}]
[null,null,null,null,null,null,"CHECK:",{"$f":"IF('Calc Cover Sheet'!B12=\"\",\"\",'Calc Cover Sheet'!B12)","v":"TLC"},"DATE:",{"$f":"IF('Calc Cover Sheet'!D12=\"\",\"\",'Calc Cover Sheet'!D12)","v":"2024-04-25"},"RECHECK:",{"$f":"IF('Calc Cover Sheet'!B14=\"\",\"\",'Calc Cover Sheet'!B14)","v":""},"DATE:",{"$f":"IF('Calc Cover Sheet'!D14=\"\",\"\",'Calc Cover Sheet'!D14)","v":""}]
[null,null,null,null,null,null,"STRUCTURE:",{"$f":"IF('Calc Cover Sheet'!B7=\"\",\"\",'Calc Cover Sheet'!B7)","v":"HAM-00145-0203"},null,null,"SFN:",{"$f":"IF('Calc Cover Sheet'!B3=\"\",\"\",'Calc Cover Sheet'!B3)","v":3108680},"PID:",{"$f":"IF('Calc Cover Sheet'!B9=\"\",\"\",'Calc Cover Sheet'!B9)","v":110563}]
[null,null,null,null,null,null,null,null,null,null,null,null,null,null,null,null,"Lump Sum Tags (Items with a \"LS\" Pay Unit can be tagged with one or several categories)"]
[null,null,null,null,null,null,"ITEM:",{"$f":"MID(RIGHT(CELL(\"filename\",D2),LEN(CELL(\"filename\",D2))-FIND(\"]\",CELL(\"filename\",D2))),1,9)","v":"840E26000"},null,"PAY UNIT:",{"$f":"INDEX(QryItemE2019!B:B,MATCH(H5,QryItemE2019!A:A,0))","v":"FT"}]
[null,null,null,null,null,null,"SUBJECT:",{"$f":"IF('Calc Cover Sheet'!B2=\"\",\"\",'Calc Cover Sheet'!B2)","v":"ESTIMATED QUANTITIES"}]
[null,null,null,"DESCRIPTION:",{"$f":"INDEX(QryItemE2019!C:C,MATCH(H5,QryItemE2019!A:A,0))","v":"CONCRETE COPING"}]
[null,null,null,"SUPPLEMENTAL DESCRIPTION:"]
[null,null,null,null,null,null,null,null,null,null,null,null,"SUBTOTAL","TOTAL",null,null,"GROUP","<<<<<Tag each subtotal value with a group from this column"]
[null,null,null,null,null,null,null,null,null,null,null,null,null,{"$f":"IF(M10=\"\",\"\",M10+MAX(N$9:N9))","v":""}]
[null,null,null,null,null,null,null,null,null,null,null,null,null,{"$f":"IF(M11=\"\",\"\",M11+MAX(N$9:N10))","v":""}]
[null,null,"MSE WALL COPING",null,null,null,null,null,null,null,null,null,null,{"$f":"IF(M12=\"\",\"\",M12+MAX(N$9:N11))","v":""}]
[null,null,null,null,null,null,null,null,null,null,null,null,null,{"$f":"IF(M13=\"\",\"\",M13+MAX(N$9:N12))","v":""}]
[null,null,null,null,"Rear Abut MSE Length = ",40,"ft",null,null,null,null,null,null,{"$f":"IF(M14=\"\",\"\",M14+MAX(N$9:N13))","v":""}]
[null,null,null,null,"Rear Abut Verticals Length = ",{"$f":"806.98-798.05-1.5","v":7.4300000000000637},"ft",null,null,null,null,null,null,{"$f":"IF(M15=\"\",\"\",M15+MAX(N$9:N14))","v":""}]
[null,null,null,null,"Fwd Abut MSE Length = ",40,"ft",null,null,null,null,null,null,{"$f":"IF(M16=\"\",\"\",M16+MAX(N$9:N14))","v":""}]
[null,null,null,null,"Fwd Abut Verticals Length = ",{"$f":"814.29-805.11-1.5","v":7.67999999999995},"ft",null,null,null,null,null,null,{"$f":"IF(M17=\"\",\"\",M17+MAX(N$9:N16))","v":""}]
[null,null,null,null,"Rear Turnback MSE Length = ",48,"ft",null,null,null,null,null,null,{"$f":"IF(M18=\"\",\"\",M18+MAX(N$9:N14))","v":""}]
[null,null,null,null,"Fwd Turnback MSE Length = ",65,"ft",null,null,null,null,null,null,{"$f":"IF(M19=\"\",\"\",M19+MAX(N$9:N18))","v":""}]
[null,null,null,null,null,null,null,null,null,null,null,null,null,{"$f":"IF(M20=\"\",\"\",M20+MAX(N$9:N19))","v":""}]
[null,null,null,null,"Total Length = ",{"$f":"F14+2*F15+F16+2*F17+2*F18+2*F19","v":336.22},"ft",null,null,null,null,null,{"$f":"CEILING(F21,1)","v":337},{"$f":"IF(M21=\"\",\"\",M21+MAX(N$9:N20))","v":337},null,null,"GEN."]
[]
[null,null,null,null,null,null,null,null,null,null,null,null,null,{"$f":"IF(M23=\"\",\"\",M23+MAX(N$9:N22))","v":""}]
[null,null,null,null,null,null,null,null,null,null,null,null,null,{"$f":"IF(M24=\"\",\"\",M24+MAX(N$9:N23))","v":""}]
[null,null,null,null,null,null,null,null,null,null,null,null,null,{"$f":"IF(M25=\"\",\"\",M25+MAX(N$9:N24))","v":""}]
[null,null,null,null,null,null,null,null,null,null,null,null,null,{"$f":"IF(M26=\"\",\"\",M26+MAX(N$9:N25))","v":""}]
[null,null,null,null,null,null,null,null,null,null,null,null,null,{"$f":"IF(M27=\"\",\"\",M27+MAX(N$9:N26))","v":""}]
[null,null,null,null,null,null,null,null,null,null,null,null,null,{"$f":"IF(M28=\"\",\"\",M28+MAX(N$9:N27))","v":""}]
[null,null,null,null,null,null,null,null,null,null,null,null,null,{"$f":"IF(M29=\"\",\"\",M29+MAX(N$9:N28))","v":""}]
[null,null,null,null,null,null,null,null,null,null,null,null,null,{"$f":"IF(M30=\"\",\"\",M30+MAX(N$9:N29))","v":""}]
[null,null,null,null,null,null,null,null,null,null,null,null,null,{"$f":"IF(M31=\"\",\"\",M31+MAX(N$9:N30))","v":""}]
[null,null,null,null,null,null,null,null,null,null,null,null,null,{"$f":"IF(M32=\"\",\"\",M32+MAX(N$9:N31))","v":""}]
[null,null,null,null,null,null,null,null,null,null,null,null,null,{"$f":"IF(M33=\"\",\"\",M33+MAX(N$9:N32))","v":""}]
[null,null,null,null,null,null,null,null,null,null,null,null,null,{"$f":"IF(M34=\"\",\"\",M34+MAX(N$9:N33))","v":""}]
[null,null,null,null,null,null,null,null,null,null,null,null,null,{"$f":"IF(M35=\"\",\"\",M35+MAX(N$9:N34))","v":""}]
[null,null,null,null,null,null,null,null,null,null,null,null,null,{"$f":"IF(M36=\"\",\"\",M36+MAX(N$9:N35))","v":""}]
[null,null,null,null,null,null,null,null,null,null,null,null,null,{"$f":"IF(M37=\"\",\"\",M37+MAX(N$9:N36))","v":""}]
[null,null,null,null,null,null,null,null,null,null,null,null,null,{"$f":"IF(M38=\"\",\"\",M38+MAX(N$9:N37))","v":""}]
[null,null,null,null,null,null,null,null,null,null,null,null,null,{"$f":"IF(M39=\"\",\"\",M39+MAX(N$9:N38))","v":""}]
[null,null,null,null,null,null,null,null,null,null,null,null,null,{"$f":"IF(M40=\"\",\"\",M40+MAX(N$10:N39))","v":""}]
[null,null,null,null,null,null,null,null,null,null,null,null,null,{"$f":"IF(M41=\"\",\"\",M41+MAX(N$10:N40))","v":""}]
[null,null,null,null,null,null,null,null,null,null,null,null,null,{"$f":"IF(M42=\"\",\"\",M42+MAX(N$10:N41))","v":""}]
[null,null,null,null,null,null,null,null,null,null,null,null,null,{"$f":"IF(M43=\"\",\"\",M43+MAX(N$10:N42))","v":""}]
[null,null,null,null,null,null,null,null,null,null,null,null,null,{"$f":"IF(M44=\"\",\"\",M44+MAX(N$10:N43))","v":""}]
[null,null,null,null,null,null,null,null,null,null,null,null,null,{"$f":"IF(M45=\"\",\"\",M45+MAX(N$10:N44))","v":""}]
[null,null,null,null,null,null,null,null,null,null,null,null,null,{"$f":"IF(M46=\"\",\"\",M46+MAX(N$10:N45))","v":""}]
[null,null,null,null,null,null,null,null,null,null,null,null,null,{"$f":"IF(M47=\"\",\"\",M47+MAX(N$10:N46))","v":""}]
[null,null,null,null,null,null,null,null,null,null,null,null,null,{"$f":"IF(M48=\"\",\"\",M48+MAX(N$10:N47))","v":""}]
[null,null,null,null,null,null,null,null,null,null,null,null,null,{"$f":"IF(M49=\"\",\"\",M49+MAX(N$10:N48))","v":""}]
[null,null,null,null,null,null,null,null,null,null,null,null,null,{"$f":"IF(M50=\"\",\"\",M50+MAX(N$10:N49))","v":""}]
[null,null,null,null,null,null,null,null,null,null,null,null,null,{"$f":"IF(M51=\"\",\"\",M51+MAX(N$10:N50))","v":""}]
[null,null,null,null,null,null,null,null,null,null,null,null,null,{"$f":"IF(M52=\"\",\"\",M52+MAX(N$10:N51))","v":""}]
[null,null,null,null,null,null,null,null,null,null,null,null,null,{"$f":"IF(M53=\"\",\"\",M53+MAX(N$10:N52))","v":""}]
[null,null,null,null,null,null,null,null,null,null,null,null,null,{"$f":"IF(M54=\"\",\"\",M54+MAX(N$10:N53))","v":""}]
[null,null,null,null,null,null,null,null,null,null,null,null,null,{"$f":"IF(M55=\"\",\"\",M55+MAX(N$10:N54))","v":""}]
[null,null,null,null,null,null,null,null,null,null,null,null,null,{"$f":"IF(M56=\"\",\"\",M56+MAX(N$10:N55))","v":""}]
[null,null,null,null,null,null,null,null,null,null,null,null,null,{"$f":"IF(M57=\"\",\"\",M57+MAX(N$10:N56))","v":""}]
[null,null,null,null,null,null,null,null,null,null,null,null,null,{"$f":"IF(M58=\"\",\"\",M58+MAX(N$10:N57))","v":""}]
[null,null,null,null,null,null,null,null,null,null,null,null,null,{"$f":"IF(M59=\"\",\"\",M59+MAX(N$10:N58))","v":""}]
[null,null,null,null,null,null,null,null,null,null,null,null,null,{"$f":"IF(M60=\"\",\"\",M60+MAX(N$10:N59))","v":""}]
[null,null,null,null,null,null,null,null,null,null,null,null,null,{"$f":"IF(M61=\"\",\"\",M61+MAX(N$10:N60))","v":""}]
[null,null,null,null,null,null,null,null,null,null,null,null,null,{"$f":"IF(M62=\"\",\"\",M62+MAX(N$10:N61))","v":""}]
[null,null,null,null,null,null,null,null,null,null,null,null,null,{"$f":"IF(M63=\"\",\"\",M63+MAX(N$10:N62))","v":""}]
[null,null,null,null,null,null,null,null,null,null,null,null,null,{"$f":"IF(M64=\"\",\"\",M64+MAX(N$10:N63))","v":""}]
[null,null,null,null,null,null,null,null,null,null,null,null,null,{"$f":"IF(M65=\"\",\"\",M65+MAX(N$10:N64))","v":""}]
[null,null,null,null,null,null,null,null,null,null,null,null,null,{"$f":"IF(M66=\"\",\"\",M66+MAX(N$10:N65))","v":""}]
[null,null,null,"SPECIAL INSTRUCTIONS:",{"$f":"INDEX(QryItemE2019!F:F,MATCH(H5,QryItemE2019!A:A,0))","v":""},null,null,null,null,null,null,null,"TOTAL",{"$f":"IF(K5=\"LS\",\"LS\",\" \")","v":" "}]

{"sheet":"840E27000","index":55,"n_rows":64,"n_cols":18,"rows_kept":64,"cut":false,"hidden":false,"merged":[[3,16,3,21],[4,7,4,8]]}
[null,null,null,null,null,null,"DESIGN:",{"$f":"IF('Calc Cover Sheet'!B11=\"\",\"\",'Calc Cover Sheet'!B11)","v":"BMV"},"DATE:",{"$f":"IF('Calc Cover Sheet'!D11=\"\",\"\",'Calc Cover Sheet'!D11)","v":"2024-04-19"},"UPDATE:",{"$f":"IF('Calc Cover Sheet'!B13=\"\",\"\",'Calc Cover Sheet'!B13)","v":""},"DATE:",{"$f":"IF('Calc Cover Sheet'!D13=\"\",\"\",'Calc Cover Sheet'!D13)","v":""}]
[null,null,null,null,null,null,"CHECK:",{"$f":"IF('Calc Cover Sheet'!B12=\"\",\"\",'Calc Cover Sheet'!B12)","v":"TLC"},"DATE:",{"$f":"IF('Calc Cover Sheet'!D12=\"\",\"\",'Calc Cover Sheet'!D12)","v":"2024-04-25"},"RECHECK:",{"$f":"IF('Calc Cover Sheet'!B14=\"\",\"\",'Calc Cover Sheet'!B14)","v":""},"DATE:",{"$f":"IF('Calc Cover Sheet'!D14=\"\",\"\",'Calc Cover Sheet'!D14)","v":""}]
[null,null,null,null,null,null,"STRUCTURE:",{"$f":"IF('Calc Cover Sheet'!B7=\"\",\"\",'Calc Cover Sheet'!B7)","v":"HAM-00145-0203"},null,null,"SFN:",{"$f":"IF('Calc Cover Sheet'!B3=\"\",\"\",'Calc Cover Sheet'!B3)","v":3108680},"PID:",{"$f":"IF('Calc Cover Sheet'!B9=\"\",\"\",'Calc Cover Sheet'!B9)","v":110563}]
[null,null,null,null,null,null,null,null,null,null,null,null,null,null,null,null,"Lump Sum Tags (Items with a \"LS\" Pay Unit can be tagged with one or several categories)"]
[null,null,null,null,null,null,"ITEM:",{"$f":"MID(RIGHT(CELL(\"filename\",D2),LEN(CELL(\"filename\",D2))-FIND(\"]\",CELL(\"filename\",D2))),1,9)","v":"840E27000"},null,"PAY UNIT:",{"$f":"INDEX(QryItemE2019!B:B,MATCH(H5,QryItemE2019!A:A,0))","v":"DAY"}]
[null,null,null,null,null,null,"SUBJECT:",{"$f":"IF('Calc Cover Sheet'!B2=\"\",\"\",'Calc Cover Sheet'!B2)","v":"ESTIMATED QUANTITIES"}]
[null,null,null,"DESCRIPTION:",{"$f":"INDEX(QryItemE2019!C:C,MATCH(H5,QryItemE2019!A:A,0))","v":"ON-SITE ASSISTANCE"}]
[null,null,null,"SUPPLEMENTAL DESCRIPTION:"]
[null,null,null,null,null,null,null,null,null,null,null,null,"SUBTOTAL","TOTAL",null,null,"GROUP","<<<<<Tag each subtotal value with a group from this column"]
[null,null,null,null,null,null,null,null,null,null,null,null,null,{"$f":"IF(M10=\"\",\"\",M10+MAX(N$9:N9))","v":""}]
[null,null,null,null,null,null,null,null,null,null,null,null,null,{"$f":"IF(M11=\"\",\"\",M11+MAX(N$9:N10))","v":""}]
[null,null,null,null,null,null,null,null,null,null,null,null,null,{"$f":"IF(M12=\"\",\"\",M12+MAX(N$9:N11))","v":""}]
[null,null,null,null,null,null,null,null,null,null,null,null,null,{"$f":"IF(M13=\"\",\"\",M13+MAX(N$9:N12))","v":""}]
[null,null,null,null,null,null,null,null,null,null,null,null,null,{"$f":"IF(M14=\"\",\"\",M14+MAX(N$9:N13))","v":""}]
[null,null,null,"Total =",5,"days",null,"See designer note of SS840",null,null,null,null,{"$f":"E15","v":5},{"$f":"IF(M15=\"\",\"\",M15+MAX(N$9:N14))","v":5},null,null,"GEN."]
[null,null,null,null,null,null,null,null,null,null,null,null,null,{"$f":"IF(M16=\"\",\"\",M16+MAX(N$9:N15))","v":""}]
[null,null,null,null,null,null,null,null,null,null,null,null,null,{"$f":"IF(M17=\"\",\"\",M17+MAX(N$9:N16))","v":""}]
[null,null,null,null,null,null,null,null,null,null,null,null,null,{"$f":"IF(M18=\"\",\"\",M18+MAX(N$9:N17))","v":""}]
[]
[null,null,null,null,null,null,null,null,null,null,null,null,null,{"$f":"IF(M20=\"\",\"\",M20+MAX(N$9:N19))","v":""}]
[null,null,null,null,null,null,null,null,null,null,null,null,null,{"$f":"IF(M21=\"\",\"\",M21+MAX(N$9:N20))","v":""}]
[null,null,null,null,null,null,null,null,null,null,null,null,null,{"$f":"IF(M22=\"\",\"\",M22+MAX(N$9:N21))","v":""}]
[null,null,null,null,null,null,null,null,null,null,null,null,null,{"$f":"IF(M23=\"\",\"\",M23+MAX(N$9:N22))","v":""}]
[null,null,null,null,null,null,null,null,null,null,null,null,null,{"$f":"IF(M24=\"\",\"\",M24+MAX(N$9:N23))","v":""}]
[null,null,null,null,null,null,null,null,null,null,null,null,null,{"$f":"IF(M25=\"\",\"\",M25+MAX(N$9:N24))","v":""}]
[null,null,null,null,null,null,null,null,null,null,null,null,null,{"$f":"IF(M26=\"\",\"\",M26+MAX(N$9:N25))","v":""}]
[null,null,null,null,null,null,null,null,null,null,null,null,null,{"$f":"IF(M27=\"\",\"\",M27+MAX(N$9:N26))","v":""}]
[null,null,null,null,null,null,null,null,null,null,null,null,null,{"$f":"IF(M28=\"\",\"\",M28+MAX(N$9:N27))","v":""}]
[null,null,null,null,null,null,null,null,null,null,null,null,null,{"$f":"IF(M29=\"\",\"\",M29+MAX(N$9:N28))","v":""}]
[null,null,null,null,null,null,null,null,null,null,null,null,null,{"$f":"IF(M30=\"\",\"\",M30+MAX(N$9:N29))","v":""}]
[null,null,null,null,null,null,null,null,null,null,null,null,null,{"$f":"IF(M31=\"\",\"\",M31+MAX(N$9:N30))","v":""}]
[null,null,null,null,null,null,null,null,null,null,null,null,null,{"$f":"IF(M32=\"\",\"\",M32+MAX(N$9:N31))","v":""}]
[null,null,null,null,null,null,null,null,null,null,null,null,null,{"$f":"IF(M33=\"\",\"\",M33+MAX(N$9:N32))","v":""}]
[null,null,null,null,null,null,null,null,null,null,null,null,null,{"$f":"IF(M34=\"\",\"\",M34+MAX(N$9:N33))","v":""}]
[null,null,null,null,null,null,null,null,null,null,null,null,null,{"$f":"IF(M35=\"\",\"\",M35+MAX(N$9:N34))","v":""}]
[null,null,null,null,null,null,null,null,null,null,null,null,null,{"$f":"IF(M36=\"\",\"\",M36+MAX(N$9:N35))","v":""}]
[null,null,null,null,null,null,null,null,null,null,null,null,null,{"$f":"IF(M37=\"\",\"\",M37+MAX(N$10:N36))","v":""}]
[null,null,null,null,null,null,null,null,null,null,null,null,null,{"$f":"IF(M38=\"\",\"\",M38+MAX(N$10:N37))","v":""}]
[null,null,null,null,null,null,null,null,null,null,null,null,null,{"$f":"IF(M39=\"\",\"\",M39+MAX(N$10:N38))","v":""}]
[null,null,null,null,null,null,null,null,null,null,null,null,null,{"$f":"IF(M40=\"\",\"\",M40+MAX(N$10:N39))","v":""}]
[null,null,null,null,null,null,null,null,null,null,null,null,null,{"$f":"IF(M41=\"\",\"\",M41+MAX(N$10:N40))","v":""}]
[null,null,null,null,null,null,null,null,null,null,null,null,null,{"$f":"IF(M42=\"\",\"\",M42+MAX(N$10:N41))","v":""}]
[null,null,null,null,null,null,null,null,null,null,null,null,null,{"$f":"IF(M43=\"\",\"\",M43+MAX(N$10:N42))","v":""}]
[null,null,null,null,null,null,null,null,null,null,null,null,null,{"$f":"IF(M44=\"\",\"\",M44+MAX(N$10:N43))","v":""}]
[null,null,null,null,null,null,null,null,null,null,null,null,null,{"$f":"IF(M45=\"\",\"\",M45+MAX(N$10:N44))","v":""}]
[null,null,null,null,null,null,null,null,null,null,null,null,null,{"$f":"IF(M46=\"\",\"\",M46+MAX(N$10:N45))","v":""}]
[null,null,null,null,null,null,null,null,null,null,null,null,null,{"$f":"IF(M47=\"\",\"\",M47+MAX(N$10:N46))","v":""}]
[null,null,null,null,null,null,null,null,null,null,null,null,null,{"$f":"IF(M48=\"\",\"\",M48+MAX(N$10:N47))","v":""}]
[null,null,null,null,null,null,null,null,null,null,null,null,null,{"$f":"IF(M49=\"\",\"\",M49+MAX(N$10:N48))","v":""}]
[null,null,null,null,null,null,null,null,null,null,null,null,null,{"$f":"IF(M50=\"\",\"\",M50+MAX(N$10:N49))","v":""}]
[null,null,null,null,null,null,null,null,null,null,null,null,null,{"$f":"IF(M51=\"\",\"\",M51+MAX(N$10:N50))","v":""}]
[null,null,null,null,null,null,null,null,null,null,null,null,null,{"$f":"IF(M52=\"\",\"\",M52+MAX(N$10:N51))","v":""}]
[null,null,null,null,null,null,null,null,null,null,null,null,null,{"$f":"IF(M53=\"\",\"\",M53+MAX(N$10:N52))","v":""}]
[null,null,null,null,null,null,null,null,null,null,null,null,null,{"$f":"IF(M54=\"\",\"\",M54+MAX(N$10:N53))","v":""}]
[null,null,null,null,null,null,null,null,null,null,null,null,null,{"$f":"IF(M55=\"\",\"\",M55+MAX(N$10:N54))","v":""}]
[null,null,null,null,null,null,null,null,null,null,null,null,null,{"$f":"IF(M56=\"\",\"\",M56+MAX(N$10:N55))","v":""}]
[null,null,null,null,null,null,null,null,null,null,null,null,null,{"$f":"IF(M57=\"\",\"\",M57+MAX(N$10:N56))","v":""}]
[null,null,null,null,null,null,null,null,null,null,null,null,null,{"$f":"IF(M58=\"\",\"\",M58+MAX(N$10:N57))","v":""}]
[null,null,null,null,null,null,null,null,null,null,null,null,null,{"$f":"IF(M59=\"\",\"\",M59+MAX(N$10:N58))","v":""}]
[null,null,null,null,null,null,null,null,null,null,null,null,null,{"$f":"IF(M60=\"\",\"\",M60+MAX(N$10:N59))","v":""}]
[null,null,null,null,null,null,null,null,null,null,null,null,null,{"$f":"IF(M61=\"\",\"\",M61+MAX(N$10:N60))","v":""}]
[null,null,null,null,null,null,null,null,null,null,null,null,null,{"$f":"IF(M62=\"\",\"\",M62+MAX(N$10:N61))","v":""}]
[null,null,null,null,null,null,null,null,null,null,null,null,null,{"$f":"IF(M63=\"\",\"\",M63+MAX(N$10:N62))","v":""}]
[null,null,null,"SPECIAL INSTRUCTIONS:",{"$f":"INDEX(QryItemE2019!F:F,MATCH(H5,QryItemE2019!A:A,0))","v":""},null,null,null,null,null,null,null,"TOTAL",{"$f":"IF(K5=\"LS\",\"LS\",\" \")","v":" "}]

{"sheet":"878E25000","index":56,"n_rows":64,"n_cols":18,"rows_kept":64,"cut":false,"hidden":false,"merged":[[3,16,3,21],[4,7,4,8]]}
[null,null,null,null,null,null,"DESIGN:",{"$f":"IF('Calc Cover Sheet'!B11=\"\",\"\",'Calc Cover Sheet'!B11)","v":"BMV"},"DATE:",{"$f":"IF('Calc Cover Sheet'!D11=\"\",\"\",'Calc Cover Sheet'!D11)","v":"2024-04-19"},"UPDATE:",{"$f":"IF('Calc Cover Sheet'!B13=\"\",\"\",'Calc Cover Sheet'!B13)","v":""},"DATE:",{"$f":"IF('Calc Cover Sheet'!D13=\"\",\"\",'Calc Cover Sheet'!D13)","v":""}]
[null,null,null,null,null,null,"CHECK:",{"$f":"IF('Calc Cover Sheet'!B12=\"\",\"\",'Calc Cover Sheet'!B12)","v":"TLC"},"DATE:",{"$f":"IF('Calc Cover Sheet'!D12=\"\",\"\",'Calc Cover Sheet'!D12)","v":"2024-04-25"},"RECHECK:",{"$f":"IF('Calc Cover Sheet'!B14=\"\",\"\",'Calc Cover Sheet'!B14)","v":""},"DATE:",{"$f":"IF('Calc Cover Sheet'!D14=\"\",\"\",'Calc Cover Sheet'!D14)","v":""}]
[null,null,null,null,null,null,"STRUCTURE:",{"$f":"IF('Calc Cover Sheet'!B7=\"\",\"\",'Calc Cover Sheet'!B7)","v":"HAM-00145-0203"},null,null,"SFN:",{"$f":"IF('Calc Cover Sheet'!B3=\"\",\"\",'Calc Cover Sheet'!B3)","v":3108680},"PID:",{"$f":"IF('Calc Cover Sheet'!B9=\"\",\"\",'Calc Cover Sheet'!B9)","v":110563}]
[null,null,null,null,null,null,null,null,null,null,null,null,null,null,null,null,"Lump Sum Tags (Items with a \"LS\" Pay Unit can be tagged with one or several categories)"]
[null,null,null,null,null,null,"ITEM:",{"$f":"MID(RIGHT(CELL(\"filename\",D2),LEN(CELL(\"filename\",D2))-FIND(\"]\",CELL(\"filename\",D2))),1,9)","v":"878E25000"},null,"PAY UNIT:",{"$f":"INDEX(QryItemE2019!B:B,MATCH(H5,QryItemE2019!A:A,0))","v":"LS"}]
[null,null,null,null,null,null,"SUBJECT:",{"$f":"IF('Calc Cover Sheet'!B2=\"\",\"\",'Calc Cover Sheet'!B2)","v":"ESTIMATED QUANTITIES"}]
[null,null,null,"DESCRIPTION:",{"$f":"INDEX(QryItemE2019!C:C,MATCH(H5,QryItemE2019!A:A,0))","v":"INSPECTION AND COMPACTION TESTING OF UNBOUND MATERIALS"}]
[null,null,null,"SUPPLEMENTAL DESCRIPTION:"]
[null,null,null,null,null,null,null,null,null,null,null,null,"SUBTOTAL","TOTAL",null,null,"GROUP","<<<<<Tag each subtotal value with a group from this column"]
[null,null,null,null,null,null,null,null,null,null,null,null,null,{"$f":"IF(M10=\"\",\"\",M10+MAX(N$9:N9))","v":""}]
[null,null,null,null,null,null,null,null,null,null,null,null,null,{"$f":"IF(M11=\"\",\"\",M11+MAX(N$9:N10))","v":""}]
[null,null,null,null,null,null,null,null,null,null,null,null,null,{"$f":"IF(M12=\"\",\"\",M12+MAX(N$9:N11))","v":""}]
[null,null,null,null,null,null,null,null,null,null,null,null,null,{"$f":"IF(M13=\"\",\"\",M13+MAX(N$9:N12))","v":""}]
[null,null,null,null,null,null,null,null,null,null,null,null,null,{"$f":"IF(M14=\"\",\"\",M14+MAX(N$9:N13))","v":""}]
[null,null,null,"Lump Sum",null,null,null,null,null,null,null,null,null,{"$f":"IF(M15=\"\",\"\",M15+MAX(N$9:N14))","v":""}]
[null,null,null,null,null,null,null,null,null,null,null,null,null,{"$f":"IF(M16=\"\",\"\",M16+MAX(N$9:N15))","v":""}]
[null,null,null,"Cost = ",15000,null,null,null,null,null,null,null,null,{"$f":"IF(M17=\"\",\"\",M17+MAX(N$9:N16))","v":""}]
[null,null,null,null,null,null,null,null,null,null,null,null,null,{"$f":"IF(M18=\"\",\"\",M18+MAX(N$9:N17))","v":""}]
[]
[null,null,null,null,null,null,null,null,null,null,null,null,null,{"$f":"IF(M20=\"\",\"\",M20+MAX(N$9:N19))","v":""}]
[null,null,null,null,null,null,null,null,null,null,null,null,null,{"$f":"IF(M21=\"\",\"\",M21+MAX(N$9:N20))","v":""}]
[null,null,null,null,null,null,null,null,null,null,null,null,null,{"$f":"IF(M22=\"\",\"\",M22+MAX(N$9:N21))","v":""}]
[null,null,null,null,null,null,null,null,null,null,null,null,null,{"$f":"IF(M23=\"\",\"\",M23+MAX(N$9:N22))","v":""}]
[null,null,null,null,null,null,null,null,null,null,null,null,null,{"$f":"IF(M24=\"\",\"\",M24+MAX(N$9:N23))","v":""}]
[null,null,null,null,null,null,null,null,null,null,null,null,null,{"$f":"IF(M25=\"\",\"\",M25+MAX(N$9:N24))","v":""}]
[null,null,null,null,null,null,null,null,null,null,null,null,null,{"$f":"IF(M26=\"\",\"\",M26+MAX(N$9:N25))","v":""}]
[null,null,null,null,null,null,null,null,null,null,null,null,null,{"$f":"IF(M27=\"\",\"\",M27+MAX(N$9:N26))","v":""}]
[null,null,null,null,null,null,null,null,null,null,null,null,null,{"$f":"IF(M28=\"\",\"\",M28+MAX(N$9:N27))","v":""}]
[null,null,null,null,null,null,null,null,null,null,null,null,null,{"$f":"IF(M29=\"\",\"\",M29+MAX(N$9:N28))","v":""}]
[null,null,null,null,null,null,null,null,null,null,null,null,null,{"$f":"IF(M30=\"\",\"\",M30+MAX(N$9:N29))","v":""}]
[null,null,null,null,null,null,null,null,null,null,null,null,null,{"$f":"IF(M31=\"\",\"\",M31+MAX(N$9:N30))","v":""}]
[null,null,null,null,null,null,null,null,null,null,null,null,null,{"$f":"IF(M32=\"\",\"\",M32+MAX(N$9:N31))","v":""}]
[null,null,null,null,null,null,null,null,null,null,null,null,null,{"$f":"IF(M33=\"\",\"\",M33+MAX(N$9:N32))","v":""}]
[null,null,null,null,null,null,null,null,null,null,null,null,null,{"$f":"IF(M34=\"\",\"\",M34+MAX(N$9:N33))","v":""}]
[null,null,null,null,null,null,null,null,null,null,null,null,null,{"$f":"IF(M35=\"\",\"\",M35+MAX(N$9:N34))","v":""}]
[null,null,null,null,null,null,null,null,null,null,null,null,null,{"$f":"IF(M36=\"\",\"\",M36+MAX(N$9:N35))","v":""}]
[null,null,null,null,null,null,null,null,null,null,null,null,null,{"$f":"IF(M37=\"\",\"\",M37+MAX(N$10:N36))","v":""}]
[null,null,null,null,null,null,null,null,null,null,null,null,null,{"$f":"IF(M38=\"\",\"\",M38+MAX(N$10:N37))","v":""}]
[null,null,null,null,null,null,null,null,null,null,null,null,null,{"$f":"IF(M39=\"\",\"\",M39+MAX(N$10:N38))","v":""}]
[null,null,null,null,null,null,null,null,null,null,null,null,null,{"$f":"IF(M40=\"\",\"\",M40+MAX(N$10:N39))","v":""}]
[null,null,null,null,null,null,null,null,null,null,null,null,null,{"$f":"IF(M41=\"\",\"\",M41+MAX(N$10:N40))","v":""}]
[null,null,null,null,null,null,null,null,null,null,null,null,null,{"$f":"IF(M42=\"\",\"\",M42+MAX(N$10:N41))","v":""}]
[null,null,null,null,null,null,null,null,null,null,null,null,null,{"$f":"IF(M43=\"\",\"\",M43+MAX(N$10:N42))","v":""}]
[null,null,null,null,null,null,null,null,null,null,null,null,null,{"$f":"IF(M44=\"\",\"\",M44+MAX(N$10:N43))","v":""}]
[null,null,null,null,null,null,null,null,null,null,null,null,null,{"$f":"IF(M45=\"\",\"\",M45+MAX(N$10:N44))","v":""}]
[null,null,null,null,null,null,null,null,null,null,null,null,null,{"$f":"IF(M46=\"\",\"\",M46+MAX(N$10:N45))","v":""}]
[null,null,null,null,null,null,null,null,null,null,null,null,null,{"$f":"IF(M47=\"\",\"\",M47+MAX(N$10:N46))","v":""}]
[null,null,null,null,null,null,null,null,null,null,null,null,null,{"$f":"IF(M48=\"\",\"\",M48+MAX(N$10:N47))","v":""}]
[null,null,null,null,null,null,null,null,null,null,null,null,null,{"$f":"IF(M49=\"\",\"\",M49+MAX(N$10:N48))","v":""}]
[null,null,null,null,null,null,null,null,null,null,null,null,null,{"$f":"IF(M50=\"\",\"\",M50+MAX(N$10:N49))","v":""}]
[null,null,null,null,null,null,null,null,null,null,null,null,null,{"$f":"IF(M51=\"\",\"\",M51+MAX(N$10:N50))","v":""}]
[null,null,null,null,null,null,null,null,null,null,null,null,null,{"$f":"IF(M52=\"\",\"\",M52+MAX(N$10:N51))","v":""}]
[null,null,null,null,null,null,null,null,null,null,null,null,null,{"$f":"IF(M53=\"\",\"\",M53+MAX(N$10:N52))","v":""}]
[null,null,null,null,null,null,null,null,null,null,null,null,null,{"$f":"IF(M54=\"\",\"\",M54+MAX(N$10:N53))","v":""}]
[null,null,null,null,null,null,null,null,null,null,null,null,null,{"$f":"IF(M55=\"\",\"\",M55+MAX(N$10:N54))","v":""}]
[null,null,null,null,null,null,null,null,null,null,null,null,null,{"$f":"IF(M56=\"\",\"\",M56+MAX(N$10:N55))","v":""}]
[null,null,null,null,null,null,null,null,null,null,null,null,null,{"$f":"IF(M57=\"\",\"\",M57+MAX(N$10:N56))","v":""}]
[null,null,null,null,null,null,null,null,null,null,null,null,null,{"$f":"IF(M58=\"\",\"\",M58+MAX(N$10:N57))","v":""}]
[null,null,null,null,null,null,null,null,null,null,null,null,null,{"$f":"IF(M59=\"\",\"\",M59+MAX(N$10:N58))","v":""}]
[null,null,null,null,null,null,null,null,null,null,null,null,null,{"$f":"IF(M60=\"\",\"\",M60+MAX(N$10:N59))","v":""}]
[null,null,null,null,null,null,null,null,null,null,null,null,null,{"$f":"IF(M61=\"\",\"\",M61+MAX(N$10:N60))","v":""}]
[null,null,null,null,null,null,null,null,null,null,null,null,null,{"$f":"IF(M62=\"\",\"\",M62+MAX(N$10:N61))","v":""}]
[null,null,null,null,null,null,null,null,null,null,null,null,null,{"$f":"IF(M63=\"\",\"\",M63+MAX(N$10:N62))","v":""}]
[null,null,null,"SPECIAL INSTRUCTIONS:",{"$f":"INDEX(QryItemE2019!F:F,MATCH(H5,QryItemE2019!A:A,0))","v":""},null,null,null,null,null,null,null,"TOTAL",{"$f":"IF(K5=\"LS\",\"LS\",\" \")","v":"LS"}]

{"sheet":"Estimated Quantities","index":57,"n_rows":273,"n_cols":27,"rows_kept":273,"cut":false,"hidden":false,"merged":[[80,12,80,24],[83,12,83,24],[72,12,72,24],[74,12,74,24],[85,12,85,24],[84,12,84,24],[73,12,73,24],[76,12,76,24],[78,12,78,24],[82,12,82,24],[30,12,30,24],[35,12,35,24],[37,12,37,24],[75,12,75,24],[70,12,70,24],[31,12,31,24],[32,12,32,24],[33,12,33,24],[34,12,34,24],[36,12,36,24],[38,12,38,24],[39,12,39,24],[40,12,40,24],[41,12,41,24],[42,12,42,24],[43,12,43,24],[0,8,0,12],[28,12,29,24],[28,8,29,8],[28,11,29,11],[28,10,29,10],[25,8,25,12],[28,9,29,9],[26,3,26,4],[26,7,27,7],[27,3,27,4],[28,3,29,3],[28,4,29,4],[28,5,29,5],[28,6,29,6],[28,7,29,7],[44,12,44,24],[45,12,45,24],[46,12,46,24],[47,12,47,24],[48,12,48,24],[49,12,49,24],[50,12,50,24],[51,12,51,24],[52,12,52,24],[53,12,53,24],[54,12,54,24],[55,12,55,24],[56,12,56,24],[57,12,57,24],[58,12,58,24],[59,12,59,24],[60,12,60,24],[61,12,61,24],[62,12,62,24],[63,12,63,24],[69,12,69,24],[71,12,71,24],[64,12,64,24],[65,12,65,24],[66,12,66,24],[67,12,67,24],[68,12,68,24]]}
["Instructions",null,null,null,null,null,null,null,"Category Name"]
["1. Set up the Quantity Categories columns below.",null,null,null,null,null,null,null,{"$f":"IF(I$29<>\"\",I$29,IF(OFFSET(I$29,0,-1)<>\"\",OFFSET(I$29,0,-1),IF(OFFSET(I$29,0,-2)<>\"\",OFFSET(I$29,0,-2),IF(OFFSET(I$29,0,-3)<>\"\",OFFSET(I$29,0,-3),IF(OFFSET(I$29,0,-4)<>\"\",OFFSET(I$29,0,-4),IF(OFFSET(I$29,0,-5)<>\"\",OFFSET(I$29,0,-5),IF(OFFSET(I$29,0,-6)<>\"\",OFFSET(I$29,0,-6),IF(OFFSET(I$29,0,-7)<>\"\",OFFSET(I$29,0,-7),IF(OFFSET(I$29,0,-8)<>\"\",OFFSET(I$29,0,-8),IF(OFFSET(I$29,0,-9)<>\"\",OFFSET(I$29,0,-9),IF(OFFSET(I$29,0,-10)<>\"\",OFFSET(I$29,0,-10),IF(OFFSET(I$29,0,-11)<>\"\",OFFSET(I$29,0,-11),IF(OFFSET(I$29,0,-12)<>\"\",OFFSET(I$29,0,-12),\"ERROR: Enter category Manually\")))))))))))))&IF(I$30=\"\",\"\",\" \"&I$30)","v":"ABUT."},null,{"$f":"IF(K$29<>\"\",K$29,IF(OFFSET(K$29,0,-1)<>\"\",OFFSET(K$29,0,-1),IF(OFFSET(K$29,0,-2)<>\"\",OFFSET(K$29,0,-2),IF(OFFSET(K$29,0,-3)<>\"\",OFFSET(K$29,0,-3),IF(OFFSET(K$29,0,-4)<>\"\",OFFSET(K$29,0,-4),IF(OFFSET(K$29,0,-5)<>\"\",OFFSET(K$29,0,-5),IF(OFFSET(K$29,0,-6)<>\"\",OFFSET(K$29,0,-6),IF(OFFSET(K$29,0,-7)<>\"\",OFFSET(K$29,0,-7),IF(OFFSET(K$29,0,-8)<>\"\",OFFSET(K$29,0,-8),IF(OFFSET(K$29,0,-9)<>\"\",OFFSET(K$29,0,-9),IF(OFFSET(K$29,0,-10)<>\"\",OFFSET(K$29,0,-10),IF(OFFSET(K$29,0,-11)<>\"\",OFFSET(K$29,0,-11),IF(OFFSET(K$29,0,-12)<>\"\",OFFSET(K$29,0,-12),\"ERROR: Enter category Manually\")))))))))))))&IF(K$30=\"\",\"\",\" \"&K$30)","v":"SUPER."},"GEN.","PIER"]
["        Create new columns by inserting a new column and then copying a whole existing column into the new column."]
["        Make sure to insert new columns in between existing \"Quantity Categories\" columns rather than at the end. Otherwise, the dropdown menus won't show all categories."]
["2. When calculating quantities, tag each subtotal with a group."]
["3. Press Button 1 below to import the data to the below table."]
[]
[]
[]
[]
[]
["Do's"]
["• Insert new calculation rows in the item sheets. Make sure to update formulas in the \"TOTALS\" and \"GROUPS\" column by filling or dragging downward."]
["• Insert or delete columns in the \"Reference Sheet No.\" section below"]
[]
["Dont's"]
["• Insert new columns in the item sheets"]
[]
["Spreadsheet Limits"]
[null,"The table on this sheet:  150 rows"]
[null,"Item quantity sheets:  10,000 rows"]
["Note:  The pressing Button 1 only edits data in the \"Sheet Name\" column and the \"Reference Sheet No.\" columns. Everything else is done with in-sheet formulas"]
[]
[]
[]
[null,null,null,null,null,null,null,null,"Quantity Categories"]
[null,null,null,{"$f":"CONCATENATE(\"MADE BY:  \",'Calc Cover Sheet'!B11)","v":"MADE BY:  BMV"},null,"DATE:  ",{"$f":"'Calc Cover Sheet'!D11","v":"2024-04-19"},"ESTIMATED QUANTITIES"]
[null,null,null,{"$f":"CONCATENATE(\"CHECKED BY:  \",'Calc Cover Sheet'!B12)","v":"CHECKED BY:  TLC"},null,"DATE:  ",{"$f":"'Calc Cover Sheet'!D12","v":"2024-04-25"},null,null,null,null,null,null,null,null,null,null,null,null,null,null,null,null,null,{"$f":"IF('Calc Cover Sheet'!B3=\"\",\"\",CONCATENATE(\"STRUCTURAL FILE NUMBER:  \",'Calc Cover Sheet'!B3))","v":"STRUCTURAL FILE NUMBER:  3108680"}]
[null,null,null,"ITEM","EXTENSION","TOTAL","UNIT","DESCRIPTION","ABUT.","PIER","SUPER.","GEN.","REFERENCE SHEET NO."]
[null,null,"Sheet Name"]
[null,null,"202E11003",{"$f":"IF($C31=\"\",\"\",MID($C31,1,3))","v":"202"},{"$f":"IF($C31=\"\",\"\",MID($C31,5,5))","v":"11003"},{"$f":"IF($C31=\"\",\"\",IF(INDIRECT(\"'\"&$C31&\"'\"&\"!K5\")=\"LS\",\"LUMP\",MAX(INDIRECT(\"'\"&$C31&\"'\"&\"!N10:N1000\"))))","v":"LUMP"},{"$f":"IF($C31=\"\",\"\",IF(INDIRECT(\"'\"&$C31&\"'\"&\"!K5\")=\"LS\",\"\",INDIRECT(\"'\"&$C31&\"'\"&\"!K5\")))","v":""},{"$f":"IF($C31=\"\",\"\",IF(INDIRECT(\"'\"&$C31&\"'\"&\"!E8\")=\"\",INDIRECT(\"'\"&$C31&\"'\"&\"!E7\"),CONCATENATE(INDIRECT(\"'\"&$C31&\"'\"&\"!E7\"),\" (\",INDIRECT(\"'\"&$C31&\"'\"&\"!E8\"),\")\")))","v":"STRUCTURE REMOVED, OVER 20 FOOT SPAN, AS PER PLAN"},{"$f":"IF($C31=\"\",\"\",IF($F31=\"LUMP\",IF(ISERROR(MATCH(I$2,INDIRECT(\"'\"&$C31&\"'\"&\"!$Q$5:$V$5\"),0)),\"\",\"LUMP\"),IF(SUMIF(INDIRECT(\"'\"&$C31&\"'\"&\"!$Q$10:$Q$10000\"),I$2,INDIRECT(\"'\"&$C31&\"'\"&\"!$M$10:$M$10000\"))=0,\"\",SUMIF(INDIRECT(\"'\"&$C31&\"'\"&\"!$Q$10:$Q$10000\"),I$2,INDIRECT(\"'\"&$C31&\"'\"&\"!$M$10:$M$10000\")))))","v":""},{"$f":"IF($C31=\"\",\"\",IF($F31=\"LUMP\",IF(ISERROR(MATCH(M$2,INDIRECT(\"'\"&$C31&\"'\"&\"!$Q$5:$V$5\"),0)),\"\",\"LUMP\"),IF(SUMIF(INDIRECT(\"'\"&$C31&\"'\"&\"!$Q$10:$Q$10000\"),M$2,INDIRECT(\"'\"&$C31&\"'\"&\"!$M$10:$M$10000\"))=0,\"\",SUMIF(INDIRECT(\"'\"&$C31&\"'\"&\"!$Q$10:$Q$10000\"),M$2,INDIRECT(\"'\"&$C31&\"'\"&\"!$M$10:$M$10000\")))))","v":""},"","","S.02/45"]
[null,null,"202E22900",{"$f":"IF($C32=\"\",\"\",MID($C32,1,3))","v":"202"},{"$f":"IF($C32=\"\",\"\",MID($C32,5,5))","v":"22900"},{"$f":"IF($C32=\"\",\"\",IF(INDIRECT(\"'\"&$C32&\"'\"&\"!K5\")=\"LS\",\"LUMP\",MAX(INDIRECT(\"'\"&$C32&\"'\"&\"!N10:N1000\"))))","v":167},{"$f":"IF($C32=\"\",\"\",IF(INDIRECT(\"'\"&$C32&\"'\"&\"!K5\")=\"LS\",\"\",INDIRECT(\"'\"&$C32&\"'\"&\"!K5\")))","v":"SY"},{"$f":"IF($C32=\"\",\"\",IF(INDIRECT(\"'\"&$C32&\"'\"&\"!E8\")=\"\",INDIRECT(\"'\"&$C32&\"'\"&\"!E7\"),CONCATENATE(INDIRECT(\"'\"&$C32&\"'\"&\"!E7\"),\" (\",INDIRECT(\"'\"&$C32&\"'\"&\"!E8\"),\")\")))","v":"APPROACH SLAB REMOVED"},"",{"$f":"IF($C32=\"\",\"\",IF($F32=\"LUMP\",IF(ISERROR(MATCH(M$2,INDIRECT(\"'\"&$C32&\"'\"&\"!$Q$5:$V$5\"),0)),\"\",\"LUMP\"),IF(SUMIF(INDIRECT(\"'\"&$C32&\"'\"&\"!$Q$10:$Q$10000\"),M$2,INDIRECT(\"'\"&$C32&\"'\"&\"!$M$10:$M$10000\"))=0,\"\",SUMIF(INDIRECT(\"'\"&$C32&\"'\"&\"!$Q$10:$Q$10000\"),M$2,INDIRECT(\"'\"&$C32&\"'\"&\"!$M$10:$M$10000\")))))","v":""},"",167]
[null,null,"202E23500","202","23500",167,"SY","WEARING COURSE REMOVED","",{"$f":"IF($C33=\"\",\"\",IF($F33=\"LUMP\",IF(ISERROR(MATCH(M$2,INDIRECT(\"'\"&$C33&\"'\"&\"!$Q$5:$V$5\"),0)),\"\",\"LUMP\"),IF(SUMIF(INDIRECT(\"'\"&$C33&\"'\"&\"!$Q$10:$Q$10000\"),M$2,INDIRECT(\"'\"&$C33&\"'\"&\"!$M$10:$M$10000\"))=0,\"\",SUMIF(INDIRECT(\"'\"&$C33&\"'\"&\"!$Q$10:$Q$10000\"),M$2,INDIRECT(\"'\"&$C33&\"'\"&\"!$M$10:$M$10000\")))))","v":""},"",167]
[null,null,null,"","","","","","","","",""]
[null,null,"203E35111","203","35111",479,"CY","GRANULAR MATERIAL, TYPE B, AS PER PLAN",479,"","","","S.02/45"]
[null,null,"203E35120","203","35120",189,"CY","GRANULAR MATERIAL, TYPE C",189,"","",""]
[null,null,null,"","","","","","","","",""]
[null,null,"503E11101","503","11101","LUMP","","COFFERDAMS AND EXCAVATION BRACING, AS PER PLAN","","","","","S.04/45"]
[null,null,"503E21300","503","21300","LUMP","","UNCLASSIFIED EXCAVATION","","","",""]
[null,null,null,"","","","","","","","",""]
[null,null,"507E00101","507","00101",900,"FT","STEEL PILES HP10X42, FURNISHED, AS PER PLAN",900,"","","","S.02/45"]
[null,null,"507E92201","507","92201",262,"FT","PREBORED HOLES, AS PER PLAN",262,"","","","S.02/45"]
[null,null,null,"","","","","","","","",""]
[null,null,"509E26000","509",{"$f":"IF($C44=\"\",\"\",MID($C44,5,5))","v":"26000"},114538,"LB","GALVANIZED STEEL REINFORCEMENT",9680,15063,80947,8848]
[null,null,"509E30020","509","30020",4603,"FT","NO. 4 DEFORMED GFRP REINFORCEMENT","","",4603,""]
[null,null,null,"","","","","","","","",""]
[null,null,"511E33500","511",{"$f":"IF($C47=\"\",\"\",MID($C47,5,5))","v":"33500"},2,"EACH","SEMI-INTEGRAL DIAPHRAGM GUIDE",{"$f":"IF($C47=\"\",\"\",IF($F47=\"LUMP\",IF(ISERROR(MATCH(I$2,INDIRECT(\"'\"&$C47&\"'\"&\"!$Q$5:$V$5\"),0)),\"\",\"LUMP\"),IF(SUMIF(INDIRECT(\"'\"&$C47&\"'\"&\"!$Q$10:$Q$10000\"),I$2,INDIRECT(\"'\"&$C47&\"'\"&\"!$M$10:$M$10000\"))=0,\"\",SUMIF(INDIRECT(\"'\"&$C47&\"'\"&\"!$Q$10:$Q$10000\"),I$2,INDIRECT(\"'\"&$C47&\"'\"&\"!$M$10:$M$10000\")))))","v":2},"","",""]
[null,null,"511E34460","511","34460",71,"CY",{"$f":"IF($C48=\"\",\"\",IF(INDIRECT(\"'\"&$C48&\"'\"&\"!E8\")=\"\",INDIRECT(\"'\"&$C48&\"'\"&\"!E7\"),CONCATENATE(INDIRECT(\"'\"&$C48&\"'\"&\"!E7\"),\" \",INDIRECT(\"'\"&$C48&\"'\"&\"!E8\"))))","v":"CLASS QC SCC CONCRETE, BRIDGE DECK (PARAPET)"},"","",71,""]
[null,null,"511E43510","511","43510",78,"CY","CLASS QC1 CONCRETE, ABUTMENT INCLUDING FOOTING",78,"","",""]
[null,null,"511E46510","511","46510",27,"CY","CLASS QC1 CONCRETE, FOOTING","",27,"",""]
[null,null,"511E53012","511","53012",81,"CY","CLASS QC2 CONCRETE, MISC.: MOMENT SLAB","","","",81,"S.02/45"]
[null,null,"511E53014","511","53014",48,"CY","CLASS QC3 CONCRETE, MISC.: WITH QC/QA, SUPERSTRUCTURE",41,7,"","","S.05/45"]
[null,null,"511E53014-02","511","53014",{"$f":"IF($C53=\"\",\"\",IF(INDIRECT(\"'\"&$C53&\"'\"&\"!K5\")=\"LS\",\"LUMP\",MAX(INDIRECT(\"'\"&$C53&\"'\"&\"!N10:N1000\"))))","v":241.19908891435185},"CY","CLASS QC3 CONCRETE, MISC.: WITH QC/QA, BRIDGE DECK","","",241.19908891435185,"","S.05/45"]
[null,null,"511E53014-04","511","53014",45,"CY","CLASS QC3 CONCRETE, MISC.: WITH QC/QA, PIER ABOVE FOOTINGS","",45,"","","S.04/45"]
[null,null,"511E53014-05","511","53014",36,"CY",{"$f":"IF($C55=\"\",\"\",IF(INDIRECT(\"'\"&$C55&\"'\"&\"!E8\")=\"\",INDIRECT(\"'\"&$C55&\"'\"&\"!E7\"),CONCATENATE(INDIRECT(\"'\"&$C55&\"'\"&\"!E7\"),INDIRECT(\"'\"&$C55&\"'\"&\"!E8\"))))","v":"CLASS QC3 CONCRETE, MISC.:WITH QC/QA, SIDEWALK"},"","",36,"","S.05/45"]
[null,null,null,"","","","","","","","",""]
[null,null,"512E10050","512","10050",231,"SY","SEALING OF CONCRETE SURFACES (NON-EPOXY)","","","",231]
[null,null,"512E10100","512","10100",{"$f":"IF($C58=\"\",\"\",IF(INDIRECT(\"'\"&$C58&\"'\"&\"!K5\")=\"LS\",\"LUMP\",MAX(INDIRECT(\"'\"&$C58&\"'\"&\"!N10:N1000\"))))","v":524},"SY",{"$f":"IF($C58=\"\",\"\",IF(INDIRECT(\"'\"&$C58&\"'\"&\"!E8\")=\"\",INDIRECT(\"'\"&$C58&\"'\"&\"!E7\"),CONCATENATE(INDIRECT(\"'\"&$C58&\"'\"&\"!E7\"),\" (\",INDIRECT(\"'\"&$C58&\"'\"&\"!E8\"))))","v":"SEALING OF CONCRETE SURFACES (EPOXY-URETHANE) (LIGHT NEUTRAL) (MSE WALLS)"},"","","",524,"S.02/45"]
[null,null,"512E10100 (Gray 1&2)","512","10100",770.81182324175018,"SY","SEALING OF CONCRETE SURFACES (EPOXY-URETHANE) (GRAY)",67.059614907185178,47.752208334564997,431,225,"S.02/45"]
[null,null,"512E10100 (Gray Beams)","512","10100",366,"SY","SEALING OF CONCRETE SURFACES (EPOXY-URETHANE) (GRAY) (FASCIA BEAMS) (ALTERNATIVE 1)","","",366,""]
[null,null,"512E10100 (Green Beams)","512","10100",366,"SY","SEALING OF CONCRETE SURFACES (EPOXY-URETHANE) (DARK GREEN) (FASCIA BEAMS) (ALTERNATIVE 2)","","",366,""]
[null,null,null,"","","","","","","","",""]
[null,null,"515E15080","515","15080",10,"EACH","DRAPED STRAND PRESTRESSED CONCRETE BRIDGE I-BEAM MEMBERS, LEVEL 3, TYPE WF42-49 (90'-7\" LENGTH)","","",10,""]
[null,null,"515E20000","515","20000",24,"EACH","INTERMEDIATE DIAPHRAGMS","","",24,""]
[null,null,null,"","","","","","","","",""]
[null,null,"516E10010","516","10010",78,"FT","ARMORLESS PREFORMED JOINT SEAL","","","",78]
[null,null,"516E13200","516","13200",78,"SF","1/2\" PREFORMED EXPANSION JOINT FILLER","","","",78]
[null,null,"516E13600","516","13600",15.666666666666666,"SF","1\" PREFORMED EXPANSION JOINT FILLER","","","",15.666666666666666]
[null,null,"516E13900","516","13900",614,"SF","2\" PREFORMED EXPANSION JOINT FILLER","","","",614]
[null,null,"516E14020","516","14020",77.666600000000003,"FT","SEMI-INTEGRAL ABUTMENT EXPANSION JOINT SEAL",77.666600000000003,"","",""]
[null,null,"516E44101","516","44101",10,"EACH","ELASTOMERIC BEARING WITH INTERNAL LAMINATES AND LOAD PLATE (NEOPRENE), AS PER PLAN (2 9/16\" x 2'-4\" x 10\" WITH W-SECTION)",10,"","","","S.21/45"]
[null,null,"516E44101p",{"$f":"IF($C72=\"\",\"\",MID($C72,1,3))","v":"516"},"44101",10,"EACH","ELASTOMERIC BEARING WITH INTERNAL LAMINATES AND LOAD PLATE (NEOPRENE), AS PER PLAN (2 9/16\" x 2'-4\" x 10\")","",10,"","","S.21/45"]
[null,null,null,{"$f":"IF($C73=\"\",\"\",MID($C73,1,3))","v":""},"","","","","","","",""]
[null,null,"526E30011","526","30011",258.88866666666667,"SY","REINFORCED CONCRETE APPROACH SLABS WITH QC/QA (T=17\"), AS PER PLAN","","","",258.88866666666667,"S.03/45"]
[null,null,"526E90031","526","90031",77.666600000000003,"FT","TYPE C INSTALLATION, AS PER PLAN","","","",77.666600000000003,"S.03/45"]
[null,null,null,"","",{"$f":"IF($C76=\"\",\"\",IF(INDIRECT(\"'\"&$C76&\"'\"&\"!K5\")=\"LS\",\"LUMP\",MAX(INDIRECT(\"'\"&$C76&\"'\"&\"!N10:N1000\"))))","v":""},"","","","","","",null,null,null,null,null,null,null,null,null,null,null,null,null,null,{"$f":"IF(ISERROR(FIND(\"AS PER PLAN\",H88)),\"\",\"NOTE:  AS PER PLAN ITEM\")","v":""}]
[null,null,"530E13000","530","13000",2147.5025000000001,"SF","SPECIAL - FORM LINER","","","",2147.5025000000001,"S.31/45",null,null,null,null,null,null,null,null,null,null,null,null,null,""]
[null,null,null,"","","","","","","","","",null,null,null,null,null,null,null,null,null,null,null,null,null,null,""]
[null,null,"601E21000","601","21000",17,"SY","CONCRETE SLOPE PROTECTION",17,"","","",null,null,null,null,null,null,null,null,null,null,null,null,null,null,""]
[null,null,null,"","","","","","","","","",null,null,null,null,null,null,null,null,null,null,null,null,null,null,""]
[null,null,"607E39900","607","39900",178,"FT","VANDAL PROTECTION FENCE, 6' STRAIGHT, COATED FABRIC (ALTERNATIVE 1)","","","",178,null,null,null,null,null,null,null,null,null,null,null,null,null,null,""]
[null,null,"607E39930","607","39930",178,"FT","VANDAL PROTECTION FENCE, 12' CURVED, COATED FABRIC (ALTERNATIVE 1)","","","",178,null,null,null,null,null,null,null,null,null,null,null,null,null,null,""]
[null,null,"607E40000",{"$f":"IF($C83=\"\",\"\",MID($C83,1,3))","v":"607"},"40000",178,"FT",{"$f":"IF($C83=\"\",\"\",IF(INDIRECT(\"'\"&$C83&\"'\"&\"!E8\")=\"\",INDIRECT(\"'\"&$C83&\"'\"&\"!E7\"),CONCATENATE(INDIRECT(\"'\"&$C83&\"'\"&\"!E7\"),\" (\",INDIRECT(\"'\"&$C83&\"'\"&\"!E8\"),\")\")))","v":"SPECIAL - VANDAL PROTECTION FENCE (11'-10\" TALL AESTHETIC FENCE) (ALTERNATIVE 2)"},"","","",178,"S.03/45",null,null,null,null,null,null,null,null,null,null,null,null,null,""]
[null,null,"607E40000 (2)","607","40000",178,"FT","SPECIAL - VANDAL PROTECTION FENCE (6'-7\" TALL AESTHETIC FENCE) (ALTERNATIVE 2)","","","",178,"S.03/45",null,null,null,null,null,null,null,null,null,null,null,null,null,""]
[null,null,null,"","","","","","","","","",null,null,null,null,null,null,null,null,null,null,null,null,null,null,""]
[null,null,"622E25000","622","25000",1,"EACH","CONCRETE BARRIER END SECTION, TYPE D","","","",1,null,null,null,null,null,null,null,null,null,null,null,null,null,null,""]
[null,null,null,"","","","","","","","","",null,null,null,null,null,null,null,null,null,null,null,null,null,null,""]
[null,null,"625E25502","625","25502",660,"FT","CONDUIT, 3\", 725.05","","","",660,null,null,null,null,null,null,null,null,null,null,null,null,null,null,""]
[null,null,"625E29920","625","29920",2,"EACH","STRUCTURE JUNCTION BOX","","","",2,null,null,null,null,null,null,null,null,null,null,null,null,null,null,""]
[null,null,"625E30520","625","30520",4,"EACH","PULL BOX, 725.06, SIZE 7","","","",4,null,null,null,null,null,null,null,null,null,null,null,null,null,null,""]
[null,null,"625E33000","625","33000",1,"EACH","STRUCTURE GROUNDING SYSTEM","","","",1,null,null,null,null,null,null,null,null,null,null,null,null,null,null,""]
[null,null,null,"","","","","","","","","",null,null,null,null,null,null,null,null,null,null,null,null,null,null,""]
[null,null,"840E20000","840","20000",6246,"SF","MECHANICALLY STABILIZED EARTH WALL","","","",6246,null,null,null,null,null,null,null,null,null,null,null,null,null,null,""]
[null,null,"840E21000","840","21000",1588,"CY","WALL EXCAVATION","","","",1588,null,null,null,null,null,null,null,null,null,null,null,null,null,null,""]
[null,null,"840E22000","840","22000",566,"SY","FOUNDATION PREPARATION","","","",566,null,null,null,null,null,null,null,null,null,null,null,null,null,null,""]
[null,null,"840E23000","840","23000",{"$f":"IF($C96=\"\",\"\",IF(INDIRECT(\"'\"&$C96&\"'\"&\"!K5\")=\"LS\",\"LUMP\",MAX(INDIRECT(\"'\"&$C96&\"'\"&\"!N10:N1000\"))))","v":2817},{"$f":"IF($C96=\"\",\"\",IF(INDIRECT(\"'\"&$C96&\"'\"&\"!K5\")=\"LS\",\"\",INDIRECT(\"'\"&$C96&\"'\"&\"!K5\")))","v":"CY"},{"$f":"IF($C96=\"\",\"\",IF(INDIRECT(\"'\"&$C96&\"'\"&\"!E8\")=\"\",INDIRECT(\"'\"&$C96&\"'\"&\"!E7\"),CONCATENATE(INDIRECT(\"'\"&$C96&\"'\"&\"!E7\"),\" (\",INDIRECT(\"'\"&$C96&\"'\"&\"!E8\"),\")\")))","v":"SELECT GRANULAR BACKFILL"},"","","",2817,null,null,null,null,null,null,null,null,null,null,null,null,null,null,""]
[null,null,"840E25010","840","25010",306,"FT","6\" DRAINAGE PIPE, PERFORATED","",{"$f":"IF($C97=\"\",\"\",IF($F97=\"LUMP\",IF(ISERROR(MATCH(M$2,INDIRECT(\"'\"&$C97&\"'\"&\"!$Q$5:$V$5\"),0)),\"\",\"LUMP\"),IF(SUMIF(INDIRECT(\"'\"&$C97&\"'\"&\"!$Q$10:$Q$10000\"),M$2,INDIRECT(\"'\"&$C97&\"'\"&\"!$M$10:$M$10000\"))=0,\"\",SUMIF(INDIRECT(\"'\"&$C97&\"'\"&\"!$Q$10:$Q$10000\"),M$2,INDIRECT(\"'\"&$C97&\"'\"&\"!$M$10:$M$10000\")))))","v":""},"",306,null,null,null,null,null,null,null,null,null,null,null,null,null,null,""]
[null,null,"840E25020","840","25020",10,"FT","6\" DRAINAGE PIPE, NON-PERFORATED","","","",10,null,null,null,null,null,null,null,null,null,null,null,null,null,null,""]
[null,null,"840E26000",{"$f":"IF($C99=\"\",\"\",MID($C99,1,3))","v":"840"},{"$f":"IF($C99=\"\",\"\",MID($C99,5,5))","v":"26000"},337,"FT","CONCRETE COPING","","","",337,null,null,null,null,null,null,null,null,null,null,null,null,null,null,""]
[null,null,"840E27000","840","27000",5,"DAY","ON-SITE ASSISTANCE","","","",5,null,null,null,null,null,null,null,null,null,null,null,null,null,null,""]
[null,null,null,"","","","","","","","","",null,null,null,null,null,null,null,null,null,null,null,null,null,null,""]
[null,null,"878E25000","878","25000","LUMP","","INSPECTION AND COMPACTION TESTING OF UNBOUND MATERIALS","","","","",null,null,null,null,null,null,null,null,null,null,null,null,null,null,""]
[null,null,null,"","","","","",{"$f":"IF($C103=\"\",\"\",IF($F103=\"LUMP\",IF(ISERROR(MATCH(#REF!,INDIRECT(\"'\"&$C103&\"'\"&\"!$Q$5:$V$5\"),0)),\"\",\"LUMP\"),IF(SUMIF(INDIRECT(\"'\"&$C103&\"'\"&\"!$Q$10:$Q$10000\"),#REF!,INDIRECT(\"'\"&$C103&\"'\"&\"!$M$10:$M$10000\"))=0,\"\",SUMIF(INDIRECT(\"'\"&$C103&\"'\"&\"!$Q$10:$Q$10000\"),#REF!,INDIRECT(\"'\"&$C103&\"'\"&\"!$M$10:$M$10000\")))))","v":""},null,{"$f":"IF($C103=\"\",\"\",IF($F103=\"LUMP\",IF(ISERROR(MATCH(K$2,INDIRECT(\"'\"&$C103&\"'\"&\"!$Q$5:$V$5\"),0)),\"\",\"LUMP\"),IF(SUMIF(INDIRECT(\"'\"&$C103&\"'\"&\"!$Q$10:$Q$10000\"),K$2,INDIRECT(\"'\"&$C103&\"'\"&\"!$M$10:$M$10000\"))=0,\"\",SUMIF(INDIRECT(\"'\"&$C103&\"'\"&\"!$Q$10:$Q$10000\"),K$2,INDIRECT(\"'\"&$C103&\"'\"&\"!$M$10:$M$10000\")))))","v":""},"",null,null,null,null,null,null,null,null,null,null,null,null,null,null,""]
[null,null,null,"","","","","",{"$f":"IF($C104=\"\",\"\",IF($F104=\"LUMP\",IF(ISERROR(MATCH(#REF!,INDIRECT(\"'\"&$C104&\"'\"&\"!$Q$5:$V$5\"),0)),\"\",\"LUMP\"),IF(SUMIF(INDIRECT(\"'\"&$C104&\"'\"&\"!$Q$10:$Q$10000\"),#REF!,INDIRECT(\"'\"&$C104&\"'\"&\"!$M$10:$M$10000\"))=0,\"\",SUMIF(INDIRECT(\"'\"&$C104&\"'\"&\"!$Q$10:$Q$10000\"),#REF!,INDIRECT(\"'\"&$C104&\"'\"&\"!$M$10:$M$10000\")))))","v":""},null,"",{"$f":"IF($C104=\"\",\"\",IF($F104=\"LUMP\",IF(ISERROR(MATCH(L$2,INDIRECT(\"'\"&$C104&\"'\"&\"!$Q$5:$V$5\"),0)),\"\",\"LUMP\"),IF(SUMIF(INDIRECT(\"'\"&$C104&\"'\"&\"!$Q$10:$Q$10000\"),L$2,INDIRECT(\"'\"&$C104&\"'\"&\"!$M$10:$M$10000\"))=0,\"\",SUMIF(INDIRECT(\"'\"&$C104&\"'\"&\"!$Q$10:$Q$10000\"),L$2,INDIRECT(\"'\"&$C104&\"'\"&\"!$M$10:$M$10000\")))))","v":""},null,null,null,null,null,null,null,null,null,null,null,null,null,null,""]
[null,null,null,"","","","","",{"$f":"IF($C105=\"\",\"\",IF($F105=\"LUMP\",IF(ISERROR(MATCH(#REF!,INDIRECT(\"'\"&$C105&\"'\"&\"!$Q$5:$V$5\"),0)),\"\",\"LUMP\"),IF(SUMIF(INDIRECT(\"'\"&$C105&\"'\"&\"!$Q$10:$Q$10000\"),#REF!,INDIRECT(\"'\"&$C105&\"'\"&\"!$M$10:$M$10000\"))=0,\"\",SUMIF(INDIRECT(\"'\"&$C105&\"'\"&\"!$Q$10:$Q$10000\"),#REF!,INDIRECT(\"'\"&$C105&\"'\"&\"!$M$10:$M$10000\")))))","v":""},null,"",{"$f":"IF($C105=\"\",\"\",IF($F105=\"LUMP\",IF(ISERROR(MATCH(I$2,INDIRECT(\"'\"&$C105&\"'\"&\"!$Q$5:$V$5\"),0)),\"\",\"LUMP\"),IF(SUMIF(INDIRECT(\"'\"&$C105&\"'\"&\"!$Q$10:$Q$10000\"),I$2,INDIRECT(\"'\"&$C105&\"'\"&\"!$M$10:$M$10000\"))=0,\"\",SUMIF(INDIRECT(\"'\"&$C105&\"'\"&\"!$Q$10:$Q$10000\"),I$2,INDIRECT(\"'\"&$C105&\"'\"&\"!$M$10:$M$10000\")))))","v":""},null,null,null,null,null,null,null,null,null,null,null,null,null,null,""]
[null,null,null,"","","","","",{"$f":"IF($C106=\"\",\"\",IF($F106=\"LUMP\",IF(ISERROR(MATCH(#REF!,INDIRECT(\"'\"&$C106&\"'\"&\"!$Q$5:$V$5\"),0)),\"\",\"LUMP\"),IF(SUMIF(INDIRECT(\"'\"&$C106&\"'\"&\"!$Q$10:$Q$10000\"),#REF!,INDIRECT(\"'\"&$C106&\"'\"&\"!$M$10:$M$10000\"))=0,\"\",SUMIF(INDIRECT(\"'\"&$C106&\"'\"&\"!$Q$10:$Q$10000\"),#REF!,INDIRECT(\"'\"&$C106&\"'\"&\"!$M$10:$M$10000\")))))","v":""},null,"","",null,null,null,null,null,null,null,null,null,null,null,null,null,null,""]
[null,null,null,"","","","","",{"$f":"IF($C107=\"\",\"\",IF($F107=\"LUMP\",IF(ISERROR(MATCH(#REF!,INDIRECT(\"'\"&$C107&\"'\"&\"!$Q$5:$V$5\"),0)),\"\",\"LUMP\"),IF(SUMIF(INDIRECT(\"'\"&$C107&\"'\"&\"!$Q$10:$Q$10000\"),#REF!,INDIRECT(\"'\"&$C107&\"'\"&\"!$M$10:$M$10000\"))=0,\"\",SUMIF(INDIRECT(\"'\"&$C107&\"'\"&\"!$Q$10:$Q$10000\"),#REF!,INDIRECT(\"'\"&$C107&\"'\"&\"!$M$10:$M$10000\")))))","v":""},null,"","",null,null,null,null,null,null,null,null,null,null,null,null,null,null,{"$f":"IF(ISERROR(FIND(\"AS PER PLAN\",H119)),\"\",\"NOTE:  AS PER PLAN ITEM\")","v":""}]
[null,null,null,"","","","","",{"$f":"IF($C108=\"\",\"\",IF($F108=\"LUMP\",IF(ISERROR(MATCH(#REF!,INDIRECT(\"'\"&$C108&\"'\"&\"!$Q$5:$V$5\"),0)),\"\",\"LUMP\"),IF(SUMIF(INDIRECT(\"'\"&$C108&\"'\"&\"!$Q$10:$Q$10000\"),#REF!,INDIRECT(\"'\"&$C108&\"'\"&\"!$M$10:$M$10000\"))=0,\"\",SUMIF(INDIRECT(\"'\"&$C108&\"'\"&\"!$Q$10:$Q$10000\"),#REF!,INDIRECT(\"'\"&$C108&\"'\"&\"!$M$10:$M$10000\")))))","v":""},null,"","",null,null,null,null,null,null,null,null,null,null,null,null,null,null,""]
[null,null,null,"","","","","",{"$f":"IF($C109=\"\",\"\",IF($F109=\"LUMP\",IF(ISERROR(MATCH(#REF!,INDIRECT(\"'\"&$C109&\"'\"&\"!$Q$5:$V$5\"),0)),\"\",\"LUMP\"),IF(SUMIF(INDIRECT(\"'\"&$C109&\"'\"&\"!$Q$10:$Q$10000\"),#REF!,INDIRECT(\"'\"&$C109&\"'\"&\"!$M$10:$M$10000\"))=0,\"\",SUMIF(INDIRECT(\"'\"&$C109&\"'\"&\"!$Q$10:$Q$10000\"),#REF!,INDIRECT(\"'\"&$C109&\"'\"&\"!$M$10:$M$10000\")))))","v":""},null,"","",null,null,null,null,null,null,null,null,null,null,null,null,null,null,""]
[null,null,null,"","","","","",{"$f":"IF($C110=\"\",\"\",IF($F110=\"LUMP\",IF(ISERROR(MATCH(#REF!,INDIRECT(\"'\"&$C110&\"'\"&\"!$Q$5:$V$5\"),0)),\"\",\"LUMP\"),IF(SUMIF(INDIRECT(\"'\"&$C110&\"'\"&\"!$Q$10:$Q$10000\"),#REF!,INDIRECT(\"'\"&$C110&\"'\"&\"!$M$10:$M$10000\"))=0,\"\",SUMIF(INDIRECT(\"'\"&$C110&\"'\"&\"!$Q$10:$Q$10000\"),#REF!,INDIRECT(\"'\"&$C110&\"'\"&\"!$M$10:$M$10000\")))))","v":""},null,"","",null,null,null,null,null,null,null,null,null,null,null,null,null,null,""]
[null,null,null,"","","","","",{"$f":"IF($C111=\"\",\"\",IF($F111=\"LUMP\",IF(ISERROR(MATCH(#REF!,INDIRECT(\"'\"&$C111&\"'\"&\"!$Q$5:$V$5\"),0)),\"\",\"LUMP\"),IF(SUMIF(INDIRECT(\"'\"&$C111&\"'\"&\"!$Q$10:$Q$10000\"),#REF!,INDIRECT(\"'\"&$C111&\"'\"&\"!$M$10:$M$10000\"))=0,\"\",SUMIF(INDIRECT(\"'\"&$C111&\"'\"&\"!$Q$10:$Q$10000\"),#REF!,INDIRECT(\"'\"&$C111&\"'\"&\"!$M$10:$M$10000\")))))","v":""},null,"","",null,null,null,null,null,null,null,null,null,null,null,null,null,null,""]
[null,null,null,"","","","","",{"$f":"IF($C112=\"\",\"\",IF($F112=\"LUMP\",IF(ISERROR(MATCH(#REF!,INDIRECT(\"'\"&$C112&\"'\"&\"!$Q$5:$V$5\"),0)),\"\",\"LUMP\"),IF(SUMIF(INDIRECT(\"'\"&$C112&\"'\"&\"!$Q$10:$Q$10000\"),#REF!,INDIRECT(\"'\"&$C112&\"'\"&\"!$M$10:$M$10000\"))=0,\"\",SUMIF(INDIRECT(\"'\"&$C112&\"'\"&\"!$Q$10:$Q$10000\"),#REF!,INDIRECT(\"'\"&$C112&\"'\"&\"!$M$10:$M$10000\")))))","v":""},null,"","",null,null,null,null,null,null,null,null,null,null,null,null,null,null,""]
[null,null,null,"","","","","",{"$f":"IF($C113=\"\",\"\",IF($F113=\"LUMP\",IF(ISERROR(MATCH(#REF!,INDIRECT(\"'\"&$C113&\"'\"&\"!$Q$5:$V$5\"),0)),\"\",\"LUMP\"),IF(SUMIF(INDIRECT(\"'\"&$C113&\"'\"&\"!$Q$10:$Q$10000\"),#REF!,INDIRECT(\"'\"&$C113&\"'\"&\"!$M$10:$M$10000\"))=0,\"\",SUMIF(INDIRECT(\"'\"&$C113&\"'\"&\"!$Q$10:$Q$10000\"),#REF!,INDIRECT(\"'\"&$C113&\"'\"&\"!$M$10:$M$10000\")))))","v":""},null,"","",null,null,null,null,null,null,null,null,null,null,null,null,null,null,""]
[null,null,null,"","","","","",{"$f":"IF($C114=\"\",\"\",IF($F114=\"LUMP\",IF(ISERROR(MATCH(#REF!,INDIRECT(\"'\"&$C114&\"'\"&\"!$Q$5:$V$5\"),0)),\"\",\"LUMP\"),IF(SUMIF(INDIRECT(\"'\"&$C114&\"'\"&\"!$Q$10:$Q$10000\"),#REF!,INDIRECT(\"'\"&$C114&\"'\"&\"!$M$10:$M$10000\"))=0,\"\",SUMIF(INDIRECT(\"'\"&$C114&\"'\"&\"!$Q$10:$Q$10000\"),#REF!,INDIRECT(\"'\"&$C114&\"'\"&\"!$M$10:$M$10000\")))))","v":""},null,"","",null,null,null,null,null,null,null,null,null,null,null,null,null,null,""]
[null,null,null,"","","","","",{"$f":"IF($C115=\"\",\"\",IF($F115=\"LUMP\",IF(ISERROR(MATCH(#REF!,INDIRECT(\"'\"&$C115&\"'\"&\"!$Q$5:$V$5\"),0)),\"\",\"LUMP\"),IF(SUMIF(INDIRECT(\"'\"&$C115&\"'\"&\"!$Q$10:$Q$10000\"),#REF!,INDIRECT(\"'\"&$C115&\"'\"&\"!$M$10:$M$10000\"))=0,\"\",SUMIF(INDIRECT(\"'\"&$C115&\"'\"&\"!$Q$10:$Q$10000\"),#REF!,INDIRECT(\"'\"&$C115&\"'\"&\"!$M$10:$M$10000\")))))","v":""},null,"","",null,null,null,null,null,null,null,null,null,null,null,null,null,null,""]
[null,null,null,"","","","","",{"$f":"IF($C116=\"\",\"\",IF($F116=\"LUMP\",IF(ISERROR(MATCH(#REF!,INDIRECT(\"'\"&$C116&\"'\"&\"!$Q$5:$V$5\"),0)),\"\",\"LUMP\"),IF(SUMIF(INDIRECT(\"'\"&$C116&\"'\"&\"!$Q$10:$Q$10000\"),#REF!,INDIRECT(\"'\"&$C116&\"'\"&\"!$M$10:$M$10000\"))=0,\"\",SUMIF(INDIRECT(\"'\"&$C116&\"'\"&\"!$Q$10:$Q$10000\"),#REF!,INDIRECT(\"'\"&$C116&\"'\"&\"!$M$10:$M$10000\")))))","v":""},null,"","",null,null,null,null,null,null,null,null,null,null,null,null,null,null,""]
[null,null,null,"","","","","",{"$f":"IF($C117=\"\",\"\",IF($F117=\"LUMP\",IF(ISERROR(MATCH(#REF!,INDIRECT(\"'\"&$C117&\"'\"&\"!$Q$5:$V$5\"),0)),\"\",\"LUMP\"),IF(SUMIF(INDIRECT(\"'\"&$C117&\"'\"&\"!$Q$10:$Q$10000\"),#REF!,INDIRECT(\"'\"&$C117&\"'\"&\"!$M$10:$M$10000\"))=0,\"\",SUMIF(INDIRECT(\"'\"&$C117&\"'\"&\"!$Q$10:$Q$10000\"),#REF!,INDIRECT(\"'\"&$C117&\"'\"&\"!$M$10:$M$10000\")))))","v":""},null,"","",null,null,null,null,null,null,null,null,null,null,null,null,null,null,""]
[null,null,null,"","","","","",{"$f":"IF($C118=\"\",\"\",IF($F118=\"LUMP\",IF(ISERROR(MATCH(#REF!,INDIRECT(\"'\"&$C118&\"'\"&\"!$Q$5:$V$5\"),0)),\"\",\"LUMP\"),IF(SUMIF(INDIRECT(\"'\"&$C118&\"'\"&\"!$Q$10:$Q$10000\"),#REF!,INDIRECT(\"'\"&$C118&\"'\"&\"!$M$10:$M$10000\"))=0,\"\",SUMIF(INDIRECT(\"'\"&$C118&\"'\"&\"!$Q$10:$Q$10000\"),#REF!,INDIRECT(\"'\"&$C118&\"'\"&\"!$M$10:$M$10000\")))))","v":""},null,"","",null,null,null,null,null,null,null,null,null,null,null,null,null,null,""]
[null,null,null,"","","","","",{"$f":"IF($C119=\"\",\"\",IF($F119=\"LUMP\",IF(ISERROR(MATCH(#REF!,INDIRECT(\"'\"&$C119&\"'\"&\"!$Q$5:$V$5\"),0)),\"\",\"LUMP\"),IF(SUMIF(INDIRECT(\"'\"&$C119&\"'\"&\"!$Q$10:$Q$10000\"),#REF!,INDIRECT(\"'\"&$C119&\"'\"&\"!$M$10:$M$10000\"))=0,\"\",SUMIF(INDIRECT(\"'\"&$C119&\"'\"&\"!$Q$10:$Q$10000\"),#REF!,INDIRECT(\"'\"&$C119&\"'\"&\"!$M$10:$M$10000\")))))","v":""},null,"","",null,null,null,null,null,null,null,null,null,null,null,null,null,null,""]
[null,null,null,"","","","","",{"$f":"IF($C120=\"\",\"\",IF($F120=\"LUMP\",IF(ISERROR(MATCH(#REF!,INDIRECT(\"'\"&$C120&\"'\"&\"!$Q$5:$V$5\"),0)),\"\",\"LUMP\"),IF(SUMIF(INDIRECT(\"'\"&$C120&\"'\"&\"!$Q$10:$Q$10000\"),#REF!,INDIRECT(\"'\"&$C120&\"'\"&\"!$M$10:$M$10000\"))=0,\"\",SUMIF(INDIRECT(\"'\"&$C120&\"'\"&\"!$Q$10:$Q$10000\"),#REF!,INDIRECT(\"'\"&$C120&\"'\"&\"!$M$10:$M$10000\")))))","v":""},null,"","",null,null,null,null,null,null,null,null,null,null,null,null,null,null,""]
[null,null,null,"","","","","",{"$f":"IF($C121=\"\",\"\",IF($F121=\"LUMP\",IF(ISERROR(MATCH(#REF!,INDIRECT(\"'\"&$C121&\"'\"&\"!$Q$5:$V$5\"),0)),\"\",\"LUMP\"),IF(SUMIF(INDIRECT(\"'\"&$C121&\"'\"&\"!$Q$10:$Q$10000\"),#REF!,INDIRECT(\"'\"&$C121&\"'\"&\"!$M$10:$M$10000\"))=0,\"\",SUMIF(INDIRECT(\"'\"&$C121&\"'\"&\"!$Q$10:$Q$10000\"),#REF!,INDIRECT(\"'\"&$C121&\"'\"&\"!$M$10:$M$10000\")))))","v":""},null,"","",null,null,null,null,null,null,null,null,null,null,null,null,null,null,""]
[null,null,null,"","","","","",{"$f":"IF($C122=\"\",\"\",IF($F122=\"LUMP\",IF(ISERROR(MATCH(#REF!,INDIRECT(\"'\"&$C122&\"'\"&\"!$Q$5:$V$5\"),0)),\"\",\"LUMP\"),IF(SUMIF(INDIRECT(\"'\"&$C122&\"'\"&\"!$Q$10:$Q$10000\"),#REF!,INDIRECT(\"'\"&$C122&\"'\"&\"!$M$10:$M$10000\"))=0,\"\",SUMIF(INDIRECT(\"'\"&$C122&\"'\"&\"!$Q$10:$Q$10000\"),#REF!,INDIRECT(\"'\"&$C122&\"'\"&\"!$M$10:$M$10000\")))))","v":""},null,"",{"$f":"IF($C122=\"\",\"\",IF($F122=\"LUMP\",IF(ISERROR(MATCH(I$2,INDIRECT(\"'\"&$C122&\"'\"&\"!$Q$5:$V$5\"),0)),\"\",\"LUMP\"),IF(SUMIF(INDIRECT(\"'\"&$C122&\"'\"&\"!$Q$10:$Q$10000\"),I$2,INDIRECT(\"'\"&$C122&\"'\"&\"!$M$10:$M$10000\"))=0,\"\",SUMIF(INDIRECT(\"'\"&$C122&\"'\"&\"!$Q$10:$Q$10000\"),I$2,INDIRECT(\"'\"&$C122&\"'\"&\"!$M$10:$M$10000\")))))","v":""},null,null,null,null,null,null,null,null,null,null,null,null,null,null,""]
[null,null,null,"","","","","",{"$f":"IF($C123=\"\",\"\",IF($F123=\"LUMP\",IF(ISERROR(MATCH(#REF!,INDIRECT(\"'\"&$C123&\"'\"&\"!$Q$5:$V$5\"),0)),\"\",\"LUMP\"),IF(SUMIF(INDIRECT(\"'\"&$C123&\"'\"&\"!$Q$10:$Q$10000\"),#REF!,INDIRECT(\"'\"&$C123&\"'\"&\"!$M$10:$M$10000\"))=0,\"\",SUMIF(INDIRECT(\"'\"&$C123&\"'\"&\"!$Q$10:$Q$10000\"),#REF!,INDIRECT(\"'\"&$C123&\"'\"&\"!$M$10:$M$10000\")))))","v":""},null,"","",null,null,null,null,null,null,null,null,null,null,null,null,null,null,""]
[null,null,null,"","","","","",{"$f":"IF($C124=\"\",\"\",IF($F124=\"LUMP\",IF(ISERROR(MATCH(#REF!,INDIRECT(\"'\"&$C124&\"'\"&\"!$Q$5:$V$5\"),0)),\"\",\"LUMP\"),IF(SUMIF(INDIRECT(\"'\"&$C124&\"'\"&\"!$Q$10:$Q$10000\"),#REF!,INDIRECT(\"'\"&$C124&\"'\"&\"!$M$10:$M$10000\"))=0,\"\",SUMIF(INDIRECT(\"'\"&$C124&\"'\"&\"!$Q$10:$Q$10000\"),#REF!,INDIRECT(\"'\"&$C124&\"'\"&\"!$M$10:$M$10000\")))))","v":""},null,"","",null,null,null,null,null,null,null,null,null,null,null,null,null,null,""]
[null,null,null,"","","","","",{"$f":"IF($C125=\"\",\"\",IF($F125=\"LUMP\",IF(ISERROR(MATCH(#REF!,INDIRECT(\"'\"&$C125&\"'\"&\"!$Q$5:$V$5\"),0)),\"\",\"LUMP\"),IF(SUMIF(INDIRECT(\"'\"&$C125&\"'\"&\"!$Q$10:$Q$10000\"),#REF!,INDIRECT(\"'\"&$C125&\"'\"&\"!$M$10:$M$10000\"))=0,\"\",SUMIF(INDIRECT(\"'\"&$C125&\"'\"&\"!$Q$10:$Q$10000\"),#REF!,INDIRECT(\"'\"&$C125&\"'\"&\"!$M$10:$M$10000\")))))","v":""},null,"","",null,null,null,null,null,null,null,null,null,null,null,null,null,null,""]
[null,null,null,"","","","","",{"$f":"IF($C126=\"\",\"\",IF($F126=\"LUMP\",IF(ISERROR(MATCH(#REF!,INDIRECT(\"'\"&$C126&\"'\"&\"!$Q$5:$V$5\"),0)),\"\",\"LUMP\"),IF(SUMIF(INDIRECT(\"'\"&$C126&\"'\"&\"!$Q$10:$Q$10000\"),#REF!,INDIRECT(\"'\"&$C126&\"'\"&\"!$M$10:$M$10000\"))=0,\"\",SUMIF(INDIRECT(\"'\"&$C126&\"'\"&\"!$Q$10:$Q$10000\"),#REF!,INDIRECT(\"'\"&$C126&\"'\"&\"!$M$10:$M$10000\")))))","v":""},null,"","",null,null,null,null,null,null,null,null,null,null,null,null,null,null,""]
[null,null,null,"","","","","",{"$f":"IF($C127=\"\",\"\",IF($F127=\"LUMP\",IF(ISERROR(MATCH(#REF!,INDIRECT(\"'\"&$C127&\"'\"&\"!$Q$5:$V$5\"),0)),\"\",\"LUMP\"),IF(SUMIF(INDIRECT(\"'\"&$C127&\"'\"&\"!$Q$10:$Q$10000\"),#REF!,INDIRECT(\"'\"&$C127&\"'\"&\"!$M$10:$M$10000\"))=0,\"\",SUMIF(INDIRECT(\"'\"&$C127&\"'\"&\"!$Q$10:$Q$10000\"),#REF!,INDIRECT(\"'\"&$C127&\"'\"&\"!$M$10:$M$10000\")))))","v":""},null,"","",null,null,null,null,null,null,null,null,null,null,null,null,null,null,""]
[null,null,null,"","","","","",{"$f":"IF($C128=\"\",\"\",IF($F128=\"LUMP\",IF(ISERROR(MATCH(#REF!,INDIRECT(\"'\"&$C128&\"'\"&\"!$Q$5:$V$5\"),0)),\"\",\"LUMP\"),IF(SUMIF(INDIRECT(\"'\"&$C128&\"'\"&\"!$Q$10:$Q$10000\"),#REF!,INDIRECT(\"'\"&$C128&\"'\"&\"!$M$10:$M$10000\"))=0,\"\",SUMIF(INDIRECT(\"'\"&$C128&\"'\"&\"!$Q$10:$Q$10000\"),#REF!,INDIRECT(\"'\"&$C128&\"'\"&\"!$M$10:$M$10000\")))))","v":""},null,"","",null,null,null,null,null,null,null,null,null,null,null,null,null,null,""]
[null,null,null,"","","","","",{"$f":"IF($C129=\"\",\"\",IF($F129=\"LUMP\",IF(ISERROR(MATCH(#REF!,INDIRECT(\"'\"&$C129&\"'\"&\"!$Q$5:$V$5\"),0)),\"\",\"LUMP\"),IF(SUMIF(INDIRECT(\"'\"&$C129&\"'\"&\"!$Q$10:$Q$10000\"),#REF!,INDIRECT(\"'\"&$C129&\"'\"&\"!$M$10:$M$10000\"))=0,\"\",SUMIF(INDIRECT(\"'\"&$C129&\"'\"&\"!$Q$10:$Q$10000\"),#REF!,INDIRECT(\"'\"&$C129&\"'\"&\"!$M$10:$M$10000\")))))","v":""},null,"","",null,null,null,null,null,null,null,null,null,null,null,null,null,null,""]
[null,null,null,"","","","","",{"$f":"IF($C130=\"\",\"\",IF($F130=\"LUMP\",IF(ISERROR(MATCH(#REF!,INDIRECT(\"'\"&$C130&\"'\"&\"!$Q$5:$V$5\"),0)),\"\",\"LUMP\"),IF(SUMIF(INDIRECT(\"'\"&$C130&\"'\"&\"!$Q$10:$Q$10000\"),#REF!,INDIRECT(\"'\"&$C130&\"'\"&\"!$M$10:$M$10000\"))=0,\"\",SUMIF(INDIRECT(\"'\"&$C130&\"'\"&\"!$Q$10:$Q$10000\"),#REF!,INDIRECT(\"'\"&$C130&\"'\"&\"!$M$10:$M$10000\")))))","v":""},null,"","",null,null,null,null,null,null,null,null,null,null,null,null,null,null,""]
[null,null,null,"","","","","",{"$f":"IF($C131=\"\",\"\",IF($F131=\"LUMP\",IF(ISERROR(MATCH(#REF!,INDIRECT(\"'\"&$C131&\"'\"&\"!$Q$5:$V$5\"),0)),\"\",\"LUMP\"),IF(SUMIF(INDIRECT(\"'\"&$C131&\"'\"&\"!$Q$10:$Q$10000\"),#REF!,INDIRECT(\"'\"&$C131&\"'\"&\"!$M$10:$M$10000\"))=0,\"\",SUMIF(INDIRECT(\"'\"&$C131&\"'\"&\"!$Q$10:$Q$10000\"),#REF!,INDIRECT(\"'\"&$C131&\"'\"&\"!$M$10:$M$10000\")))))","v":""},null,{"$f":"IF($C131=\"\",\"\",IF($F131=\"LUMP\",IF(ISERROR(MATCH(K$2,INDIRECT(\"'\"&$C131&\"'\"&\"!$Q$5:$V$5\"),0)),\"\",\"LUMP\"),IF(SUMIF(INDIRECT(\"'\"&$C131&\"'\"&\"!$Q$10:$Q$10000\"),K$2,INDIRECT(\"'\"&$C131&\"'\"&\"!$M$10:$M$10000\"))=0,\"\",SUMIF(INDIRECT(\"'\"&$C131&\"'\"&\"!$Q$10:$Q$10000\"),K$2,INDIRECT(\"'\"&$C131&\"'\"&\"!$M$10:$M$10000\")))))","v":""},"",null,null,null,null,null,null,null,null,null,null,null,null,null,null,""]
[null,null,null,"","","","","",{"$f":"IF($C132=\"\",\"\",IF($F132=\"LUMP\",IF(ISERROR(MATCH(#REF!,INDIRECT(\"'\"&$C132&\"'\"&\"!$Q$5:$V$5\"),0)),\"\",\"LUMP\"),IF(SUMIF(INDIRECT(\"'\"&$C132&\"'\"&\"!$Q$10:$Q$10000\"),#REF!,INDIRECT(\"'\"&$C132&\"'\"&\"!$M$10:$M$10000\"))=0,\"\",SUMIF(INDIRECT(\"'\"&$C132&\"'\"&\"!$Q$10:$Q$10000\"),#REF!,INDIRECT(\"'\"&$C132&\"'\"&\"!$M$10:$M$10000\")))))","v":""},null,"","",null,null,null,null,null,null,null,null,null,null,null,null,null,null,""]
[null,null,null,"","","","","",{"$f":"IF($C133=\"\",\"\",IF($F133=\"LUMP\",IF(ISERROR(MATCH(#REF!,INDIRECT(\"'\"&$C133&\"'\"&\"!$Q$5:$V$5\"),0)),\"\",\"LUMP\"),IF(SUMIF(INDIRECT(\"'\"&$C133&\"'\"&\"!$Q$10:$Q$10000\"),#REF!,INDIRECT(\"'\"&$C133&\"'\"&\"!$M$10:$M$10000\"))=0,\"\",SUMIF(INDIRECT(\"'\"&$C133&\"'\"&\"!$Q$10:$Q$10000\"),#REF!,INDIRECT(\"'\"&$C133&\"'\"&\"!$M$10:$M$10000\")))))","v":""},null,"","",null,null,null,null,null,null,null,null,null,null,null,null,null,null,""]
[null,null,null,"","","","","",{"$f":"IF($C134=\"\",\"\",IF($F134=\"LUMP\",IF(ISERROR(MATCH(#REF!,INDIRECT(\"'\"&$C134&\"'\"&\"!$Q$5:$V$5\"),0)),\"\",\"LUMP\"),IF(SUMIF(INDIRECT(\"'\"&$C134&\"'\"&\"!$Q$10:$Q$10000\"),#REF!,INDIRECT(\"'\"&$C134&\"'\"&\"!$M$10:$M$10000\"))=0,\"\",SUMIF(INDIRECT(\"'\"&$C134&\"'\"&\"!$Q$10:$Q$10000\"),#REF!,INDIRECT(\"'\"&$C134&\"'\"&\"!$M$10:$M$10000\")))))","v":""},null,"","",null,null,null,null,null,null,null,null,null,null,null,null,null,null,""]
[null,null,null,"","","","","",{"$f":"IF($C135=\"\",\"\",IF($F135=\"LUMP\",IF(ISERROR(MATCH(#REF!,INDIRECT(\"'\"&$C135&\"'\"&\"!$Q$5:$V$5\"),0)),\"\",\"LUMP\"),IF(SUMIF(INDIRECT(\"'\"&$C135&\"'\"&\"!$Q$10:$Q$10000\"),#REF!,INDIRECT(\"'\"&$C135&\"'\"&\"!$M$10:$M$10000\"))=0,\"\",SUMIF(INDIRECT(\"'\"&$C135&\"'\"&\"!$Q$10:$Q$10000\"),#REF!,INDIRECT(\"'\"&$C135&\"'\"&\"!$M$10:$M$10000\")))))","v":""},null,"","",null,null,null,null,null,null,null,null,null,null,null,null,null,null,""]
[null,null,null,"","","","","",{"$f":"IF($C136=\"\",\"\",IF($F136=\"LUMP\",IF(ISERROR(MATCH(#REF!,INDIRECT(\"'\"&$C136&\"'\"&\"!$Q$5:$V$5\"),0)),\"\",\"LUMP\"),IF(SUMIF(INDIRECT(\"'\"&$C136&\"'\"&\"!$Q$10:$Q$10000\"),#REF!,INDIRECT(\"'\"&$C136&\"'\"&\"!$M$10:$M$10000\"))=0,\"\",SUMIF(INDIRECT(\"'\"&$C136&\"'\"&\"!$Q$10:$Q$10000\"),#REF!,INDIRECT(\"'\"&$C136&\"'\"&\"!$M$10:$M$10000\")))))","v":""},null,"","",null,null,null,null,null,null,null,null,null,null,null,null,null,null,""]
[null,null,null,"","","","","",{"$f":"IF($C137=\"\",\"\",IF($F137=\"LUMP\",IF(ISERROR(MATCH(#REF!,INDIRECT(\"'\"&$C137&\"'\"&\"!$Q$5:$V$5\"),0)),\"\",\"LUMP\"),IF(SUMIF(INDIRECT(\"'\"&$C137&\"'\"&\"!$Q$10:$Q$10000\"),#REF!,INDIRECT(\"'\"&$C137&\"'\"&\"!$M$10:$M$10000\"))=0,\"\",SUMIF(INDIRECT(\"'\"&$C137&\"'\"&\"!$Q$10:$Q$10000\"),#REF!,INDIRECT(\"'\"&$C137&\"'\"&\"!$M$10:$M$10000\")))))","v":""},null,"","",null,null,null,null,null,null,null,null,null,null,null,null,null,null,""]
[null,null,null,"","","","","",{"$f":"IF($C138=\"\",\"\",IF($F138=\"LUMP\",IF(ISERROR(MATCH(#REF!,INDIRECT(\"'\"&$C138&\"'\"&\"!$Q$5:$V$5\"),0)),\"\",\"LUMP\"),IF(SUMIF(INDIRECT(\"'\"&$C138&\"'\"&\"!$Q$10:$Q$10000\"),#REF!,INDIRECT(\"'\"&$C138&\"'\"&\"!$M$10:$M$10000\"))=0,\"\",SUMIF(INDIRECT(\"'\"&$C138&\"'\"&\"!$Q$10:$Q$10000\"),#REF!,INDIRECT(\"'\"&$C138&\"'\"&\"!$M$10:$M$10000\")))))","v":""},null,"","",null,null,null,null,null,null,null,null,null,null,null,null,null,null,""]
[null,null,null,"","","","","",{"$f":"IF($C139=\"\",\"\",IF($F139=\"LUMP\",IF(ISERROR(MATCH(#REF!,INDIRECT(\"'\"&$C139&\"'\"&\"!$Q$5:$V$5\"),0)),\"\",\"LUMP\"),IF(SUMIF(INDIRECT(\"'\"&$C139&\"'\"&\"!$Q$10:$Q$10000\"),#REF!,INDIRECT(\"'\"&$C139&\"'\"&\"!$M$10:$M$10000\"))=0,\"\",SUMIF(INDIRECT(\"'\"&$C139&\"'\"&\"!$Q$10:$Q$10000\"),#REF!,INDIRECT(\"'\"&$C139&\"'\"&\"!$M$10:$M$10000\")))))","v":""},null,"","",null,null,null,null,null,null,null,null,null,null,null,null,null,null,{"$f":"IF(ISERROR(FIND(\"AS PER PLAN\",H151)),\"\",\"NOTE:  AS PER PLAN ITEM\")","v":""}]
[null,null,null,"","","","","",{"$f":"IF($C140=\"\",\"\",IF($F140=\"LUMP\",IF(ISERROR(MATCH(#REF!,INDIRECT(\"'\"&$C140&\"'\"&\"!$Q$5:$V$5\"),0)),\"\",\"LUMP\"),IF(SUMIF(INDIRECT(\"'\"&$C140&\"'\"&\"!$Q$10:$Q$10000\"),#REF!,INDIRECT(\"'\"&$C140&\"'\"&\"!$M$10:$M$10000\"))=0,\"\",SUMIF(INDIRECT(\"'\"&$C140&\"'\"&\"!$Q$10:$Q$10000\"),#REF!,INDIRECT(\"'\"&$C140&\"'\"&\"!$M$10:$M$10000\")))))","v":""},null,"","",null,null,null,null,null,null,null,null,null,null,null,null,null,null,""]
[null,null,null,"","","","","",{"$f":"IF($C141=\"\",\"\",IF($F141=\"LUMP\",IF(ISERROR(MATCH(#REF!,INDIRECT(\"'\"&$C141&\"'\"&\"!$Q$5:$V$5\"),0)),\"\",\"LUMP\"),IF(SUMIF(INDIRECT(\"'\"&$C141&\"'\"&\"!$Q$10:$Q$10000\"),#REF!,INDIRECT(\"'\"&$C141&\"'\"&\"!$M$10:$M$10000\"))=0,\"\",SUMIF(INDIRECT(\"'\"&$C141&\"'\"&\"!$Q$10:$Q$10000\"),#REF!,INDIRECT(\"'\"&$C141&\"'\"&\"!$M$10:$M$10000\")))))","v":""},null,"","",null,null,null,null,null,null,null,null,null,null,null,null,null,null,""]
[null,null,null,"","","","","",{"$f":"IF($C142=\"\",\"\",IF($F142=\"LUMP\",IF(ISERROR(MATCH(#REF!,INDIRECT(\"'\"&$C142&\"'\"&\"!$Q$5:$V$5\"),0)),\"\",\"LUMP\"),IF(SUMIF(INDIRECT(\"'\"&$C142&\"'\"&\"!$Q$10:$Q$10000\"),#REF!,INDIRECT(\"'\"&$C142&\"'\"&\"!$M$10:$M$10000\"))=0,\"\",SUMIF(INDIRECT(\"'\"&$C142&\"'\"&\"!$Q$10:$Q$10000\"),#REF!,INDIRECT(\"'\"&$C142&\"'\"&\"!$M$10:$M$10000\")))))","v":""},null,"","",null,null,null,null,null,null,null,null,null,null,null,null,null,null,""]
[null,null,null,"","","","","",{"$f":"IF($C143=\"\",\"\",IF($F143=\"LUMP\",IF(ISERROR(MATCH(#REF!,INDIRECT(\"'\"&$C143&\"'\"&\"!$Q$5:$V$5\"),0)),\"\",\"LUMP\"),IF(SUMIF(INDIRECT(\"'\"&$C143&\"'\"&\"!$Q$10:$Q$10000\"),#REF!,INDIRECT(\"'\"&$C143&\"'\"&\"!$M$10:$M$10000\"))=0,\"\",SUMIF(INDIRECT(\"'\"&$C143&\"'\"&\"!$Q$10:$Q$10000\"),#REF!,INDIRECT(\"'\"&$C143&\"'\"&\"!$M$10:$M$10000\")))))","v":""},null,"","",null,null,null,null,null,null,null,null,null,null,null,null,null,null,""]
[null,null,null,"","","","","",{"$f":"IF($C144=\"\",\"\",IF($F144=\"LUMP\",IF(ISERROR(MATCH(#REF!,INDIRECT(\"'\"&$C144&\"'\"&\"!$Q$5:$V$5\"),0)),\"\",\"LUMP\"),IF(SUMIF(INDIRECT(\"'\"&$C144&\"'\"&\"!$Q$10:$Q$10000\"),#REF!,INDIRECT(\"'\"&$C144&\"'\"&\"!$M$10:$M$10000\"))=0,\"\",SUMIF(INDIRECT(\"'\"&$C144&\"'\"&\"!$Q$10:$Q$10000\"),#REF!,INDIRECT(\"'\"&$C144&\"'\"&\"!$M$10:$M$10000\")))))","v":""},null,"","",null,null,null,null,null,null,null,null,null,null,null,null,null,null,""]
[null,null,null,"","","","","",{"$f":"IF($C145=\"\",\"\",IF($F145=\"LUMP\",IF(ISERROR(MATCH(#REF!,INDIRECT(\"'\"&$C145&\"'\"&\"!$Q$5:$V$5\"),0)),\"\",\"LUMP\"),IF(SUMIF(INDIRECT(\"'\"&$C145&\"'\"&\"!$Q$10:$Q$10000\"),#REF!,INDIRECT(\"'\"&$C145&\"'\"&\"!$M$10:$M$10000\"))=0,\"\",SUMIF(INDIRECT(\"'\"&$C145&\"'\"&\"!$Q$10:$Q$10000\"),#REF!,INDIRECT(\"'\"&$C145&\"'\"&\"!$M$10:$M$10000\")))))","v":""},null,"","",null,null,null,null,null,null,null,null,null,null,null,null,null,null,""]
[null,null,null,"","","","","",{"$f":"IF($C146=\"\",\"\",IF($F146=\"LUMP\",IF(ISERROR(MATCH(#REF!,INDIRECT(\"'\"&$C146&\"'\"&\"!$Q$5:$V$5\"),0)),\"\",\"LUMP\"),IF(SUMIF(INDIRECT(\"'\"&$C146&\"'\"&\"!$Q$10:$Q$10000\"),#REF!,INDIRECT(\"'\"&$C146&\"'\"&\"!$M$10:$M$10000\"))=0,\"\",SUMIF(INDIRECT(\"'\"&$C146&\"'\"&\"!$Q$10:$Q$10000\"),#REF!,INDIRECT(\"'\"&$C146&\"'\"&\"!$M$10:$M$10000\")))))","v":""},null,"","",null,null,null,null,null,null,null,null,null,null,null,null,null,null,""]
[null,null,null,"","","","","",{"$f":"IF($C147=\"\",\"\",IF($F147=\"LUMP\",IF(ISERROR(MATCH(#REF!,INDIRECT(\"'\"&$C147&\"'\"&\"!$Q$5:$V$5\"),0)),\"\",\"LUMP\"),IF(SUMIF(INDIRECT(\"'\"&$C147&\"'\"&\"!$Q$10:$Q$10000\"),#REF!,INDIRECT(\"'\"&$C147&\"'\"&\"!$M$10:$M$10000\"))=0,\"\",SUMIF(INDIRECT(\"'\"&$C147&\"'\"&\"!$Q$10:$Q$10000\"),#REF!,INDIRECT(\"'\"&$C147&\"'\"&\"!$M$10:$M$10000\")))))","v":""},null,"","",null,null,null,null,null,null,null,null,null,null,null,null,null,null,""]
[null,null,null,"","","","","",{"$f":"IF($C148=\"\",\"\",IF($F148=\"LUMP\",IF(ISERROR(MATCH(#REF!,INDIRECT(\"'\"&$C148&\"'\"&\"!$Q$5:$V$5\"),0)),\"\",\"LUMP\"),IF(SUMIF(INDIRECT(\"'\"&$C148&\"'\"&\"!$Q$10:$Q$10000\"),#REF!,INDIRECT(\"'\"&$C148&\"'\"&\"!$M$10:$M$10000\"))=0,\"\",SUMIF(INDIRECT(\"'\"&$C148&\"'\"&\"!$Q$10:$Q$10000\"),#REF!,INDIRECT(\"'\"&$C148&\"'\"&\"!$M$10:$M$10000\")))))","v":""},null,"","",null,null,null,null,null,null,null,null,null,null,null,null,null,null,""]
[null,null,null,"","","","","",{"$f":"IF($C149=\"\",\"\",IF($F149=\"LUMP\",IF(ISERROR(MATCH(#REF!,INDIRECT(\"'\"&$C149&\"'\"&\"!$Q$5:$V$5\"),0)),\"\",\"LUMP\"),IF(SUMIF(INDIRECT(\"'\"&$C149&\"'\"&\"!$Q$10:$Q$10000\"),#REF!,INDIRECT(\"'\"&$C149&\"'\"&\"!$M$10:$M$10000\"))=0,\"\",SUMIF(INDIRECT(\"'\"&$C149&\"'\"&\"!$Q$10:$Q$10000\"),#REF!,INDIRECT(\"'\"&$C149&\"'\"&\"!$M$10:$M$10000\")))))","v":""},null,"","",null,null,null,null,null,null,null,null,null,null,null,null,null,null,""]
[null,null,null,"","","","","",{"$f":"IF($C150=\"\",\"\",IF($F150=\"LUMP\",IF(ISERROR(MATCH(#REF!,INDIRECT(\"'\"&$C150&\"'\"&\"!$Q$5:$V$5\"),0)),\"\",\"LUMP\"),IF(SUMIF(INDIRECT(\"'\"&$C150&\"'\"&\"!$Q$10:$Q$10000\"),#REF!,INDIRECT(\"'\"&$C150&\"'\"&\"!$M$10:$M$10000\"))=0,\"\",SUMIF(INDIRECT(\"'\"&$C150&\"'\"&\"!$Q$10:$Q$10000\"),#REF!,INDIRECT(\"'\"&$C150&\"'\"&\"!$M$10:$M$10000\")))))","v":""},null,"","",null,null,null,null,null,null,null,null,null,null,null,null,null,null,""]
[null,null,null,"","","","","",{"$f":"IF($C151=\"\",\"\",IF($F151=\"LUMP\",IF(ISERROR(MATCH(#REF!,INDIRECT(\"'\"&$C151&\"'\"&\"!$Q$5:$V$5\"),0)),\"\",\"LUMP\"),IF(SUMIF(INDIRECT(\"'\"&$C151&\"'\"&\"!$Q$10:$Q$10000\"),#REF!,INDIRECT(\"'\"&$C151&\"'\"&\"!$M$10:$M$10000\"))=0,\"\",SUMIF(INDIRECT(\"'\"&$C151&\"'\"&\"!$Q$10:$Q$10000\"),#REF!,INDIRECT(\"'\"&$C151&\"'\"&\"!$M$10:$M$10000\")))))","v":""},null,"","",null,null,null,null,null,null,null,null,null,null,null,null,null,null,""]
[null,null,null,"","","","","",{"$f":"IF($C152=\"\",\"\",IF($F152=\"LUMP\",IF(ISERROR(MATCH(#REF!,INDIRECT(\"'\"&$C152&\"'\"&\"!$Q$5:$V$5\"),0)),\"\",\"LUMP\"),IF(SUMIF(INDIRECT(\"'\"&$C152&\"'\"&\"!$Q$10:$Q$10000\"),#REF!,INDIRECT(\"'\"&$C152&\"'\"&\"!$M$10:$M$10000\"))=0,\"\",SUMIF(INDIRECT(\"'\"&$C152&\"'\"&\"!$Q$10:$Q$10000\"),#REF!,INDIRECT(\"'\"&$C152&\"'\"&\"!$M$10:$M$10000\")))))","v":""},null,"","",null,null,null,null,null,null,null,null,null,null,null,null,null,null,""]
[null,null,null,"","","","","",{"$f":"IF($C153=\"\",\"\",IF($F153=\"LUMP\",IF(ISERROR(MATCH(#REF!,INDIRECT(\"'\"&$C153&\"'\"&\"!$Q$5:$V$5\"),0)),\"\",\"LUMP\"),IF(SUMIF(INDIRECT(\"'\"&$C153&\"'\"&\"!$Q$10:$Q$10000\"),#REF!,INDIRECT(\"'\"&$C153&\"'\"&\"!$M$10:$M$10000\"))=0,\"\",SUMIF(INDIRECT(\"'\"&$C153&\"'\"&\"!$Q$10:$Q$10000\"),#REF!,INDIRECT(\"'\"&$C153&\"'\"&\"!$M$10:$M$10000\")))))","v":""},null,"","",null,null,null,null,null,null,null,null,null,null,null,null,null,null,""]
[null,null,null,"","","","","",{"$f":"IF($C154=\"\",\"\",IF($F154=\"LUMP\",IF(ISERROR(MATCH(#REF!,INDIRECT(\"'\"&$C154&\"'\"&\"!$Q$5:$V$5\"),0)),\"\",\"LUMP\"),IF(SUMIF(INDIRECT(\"'\"&$C154&\"'\"&\"!$Q$10:$Q$10000\"),#REF!,INDIRECT(\"'\"&$C154&\"'\"&\"!$M$10:$M$10000\"))=0,\"\",SUMIF(INDIRECT(\"'\"&$C154&\"'\"&\"!$Q$10:$Q$10000\"),#REF!,INDIRECT(\"'\"&$C154&\"'\"&\"!$M$10:$M$10000\")))))","v":""},null,"",{"$f":"IF($C154=\"\",\"\",IF($F154=\"LUMP\",IF(ISERROR(MATCH(I$2,INDIRECT(\"'\"&$C154&\"'\"&\"!$Q$5:$V$5\"),0)),\"\",\"LUMP\"),IF(SUMIF(INDIRECT(\"'\"&$C154&\"'\"&\"!$Q$10:$Q$10000\"),I$2,INDIRECT(\"'\"&$C154&\"'\"&\"!$M$10:$M$10000\"))=0,\"\",SUMIF(INDIRECT(\"'\"&$C154&\"'\"&\"!$Q$10:$Q$10000\"),I$2,INDIRECT(\"'\"&$C154&\"'\"&\"!$M$10:$M$10000\")))))","v":""},null,null,null,null,null,null,null,null,null,null,null,null,null,null,""]
[null,null,null,"","","","","",{"$f":"IF($C155=\"\",\"\",IF($F155=\"LUMP\",IF(ISERROR(MATCH(#REF!,INDIRECT(\"'\"&$C155&\"'\"&\"!$Q$5:$V$5\"),0)),\"\",\"LUMP\"),IF(SUMIF(INDIRECT(\"'\"&$C155&\"'\"&\"!$Q$10:$Q$10000\"),#REF!,INDIRECT(\"'\"&$C155&\"'\"&\"!$M$10:$M$10000\"))=0,\"\",SUMIF(INDIRECT(\"'\"&$C155&\"'\"&\"!$Q$10:$Q$10000\"),#REF!,INDIRECT(\"'\"&$C155&\"'\"&\"!$M$10:$M$10000\")))))","v":""},null,"","",null,null,null,null,null,null,null,null,null,null,null,null,null,null,""]
[null,null,null,"","","","","",{"$f":"IF($C156=\"\",\"\",IF($F156=\"LUMP\",IF(ISERROR(MATCH(#REF!,INDIRECT(\"'\"&$C156&\"'\"&\"!$Q$5:$V$5\"),0)),\"\",\"LUMP\"),IF(SUMIF(INDIRECT(\"'\"&$C156&\"'\"&\"!$Q$10:$Q$10000\"),#REF!,INDIRECT(\"'\"&$C156&\"'\"&\"!$M$10:$M$10000\"))=0,\"\",SUMIF(INDIRECT(\"'\"&$C156&\"'\"&\"!$Q$10:$Q$10000\"),#REF!,INDIRECT(\"'\"&$C156&\"'\"&\"!$M$10:$M$10000\")))))","v":""},null,"","",null,null,null,null,null,null,null,null,null,null,null,null,null,null,""]
[null,null,null,"","","","","",{"$f":"IF($C157=\"\",\"\",IF($F157=\"LUMP\",IF(ISERROR(MATCH(#REF!,INDIRECT(\"'\"&$C157&\"'\"&\"!$Q$5:$V$5\"),0)),\"\",\"LUMP\"),IF(SUMIF(INDIRECT(\"'\"&$C157&\"'\"&\"!$Q$10:$Q$10000\"),#REF!,INDIRECT(\"'\"&$C157&\"'\"&\"!$M$10:$M$10000\"))=0,\"\",SUMIF(INDIRECT(\"'\"&$C157&\"'\"&\"!$Q$10:$Q$10000\"),#REF!,INDIRECT(\"'\"&$C157&\"'\"&\"!$M$10:$M$10000\")))))","v":""},null,"","",null,null,null,null,null,null,null,null,null,null,null,null,null,null,""]
[null,null,null,"","","","","",{"$f":"IF($C158=\"\",\"\",IF($F158=\"LUMP\",IF(ISERROR(MATCH(#REF!,INDIRECT(\"'\"&$C158&\"'\"&\"!$Q$5:$V$5\"),0)),\"\",\"LUMP\"),IF(SUMIF(INDIRECT(\"'\"&$C158&\"'\"&\"!$Q$10:$Q$10000\"),#REF!,INDIRECT(\"'\"&$C158&\"'\"&\"!$M$10:$M$10000\"))=0,\"\",SUMIF(INDIRECT(\"'\"&$C158&\"'\"&\"!$Q$10:$Q$10000\"),#REF!,INDIRECT(\"'\"&$C158&\"'\"&\"!$M$10:$M$10000\")))))","v":""},null,"","",null,null,null,null,null,null,null,null,null,null,null,null,null,null,""]
[null,null,null,"","","","","",{"$f":"IF($C159=\"\",\"\",IF($F159=\"LUMP\",IF(ISERROR(MATCH(#REF!,INDIRECT(\"'\"&$C159&\"'\"&\"!$Q$5:$V$5\"),0)),\"\",\"LUMP\"),IF(SUMIF(INDIRECT(\"'\"&$C159&\"'\"&\"!$Q$10:$Q$10000\"),#REF!,INDIRECT(\"'\"&$C159&\"'\"&\"!$M$10:$M$10000\"))=0,\"\",SUMIF(INDIRECT(\"'\"&$C159&\"'\"&\"!$Q$10:$Q$10000\"),#REF!,INDIRECT(\"'\"&$C159&\"'\"&\"!$M$10:$M$10000\")))))","v":""},null,"","",null,null,null,null,null,null,null,null,null,null,null,null,null,null,""]
[null,null,null,"","",{"$f":"IF($C160=\"\",\"\",IF(INDIRECT(\"'\"&$C160&\"'\"&\"!K5\")=\"LS\",\"LUMP\",MAX(INDIRECT(\"'\"&$C160&\"'\"&\"!N10:N1000\"))))","v":""},{"$f":"IF($C160=\"\",\"\",IF(INDIRECT(\"'\"&$C160&\"'\"&\"!K5\")=\"LS\",\"\",INDIRECT(\"'\"&$C160&\"'\"&\"!K5\")))","v":""},{"$f":"IF($C160=\"\",\"\",IF(INDIRECT(\"'\"&$C160&\"'\"&\"!E8\")=\"\",INDIRECT(\"'\"&$C160&\"'\"&\"!E7\"),CONCATENATE(INDIRECT(\"'\"&$C160&\"'\"&\"!E7\"),\" (\",INDIRECT(\"'\"&$C160&\"'\"&\"!E8\"),\")\")))","v":""},{"$f":"IF($C160=\"\",\"\",IF($F160=\"LUMP\",IF(ISERROR(MATCH(#REF!,INDIRECT(\"'\"&$C160&\"'\"&\"!$Q$5:$V$5\"),0)),\"\",\"LUMP\"),IF(SUMIF(INDIRECT(\"'\"&$C160&\"'\"&\"!$Q$10:$Q$10000\"),#REF!,INDIRECT(\"'\"&$C160&\"'\"&\"!$M$10:$M$10000\"))=0,\"\",SUMIF(INDIRECT(\"'\"&$C160&\"'\"&\"!$Q$10:$Q$10000\"),#REF!,INDIRECT(\"'\"&$C160&\"'\"&\"!$M$10:$M$10000\")))))","v":""},null,"","",null,null,null,null,null,null,null,null,null,null,null,null,null,null,""]
[null,null,null,"","","","","",{"$f":"IF($C161=\"\",\"\",IF($F161=\"LUMP\",IF(ISERROR(MATCH(#REF!,INDIRECT(\"'\"&$C161&\"'\"&\"!$Q$5:$V$5\"),0)),\"\",\"LUMP\"),IF(SUMIF(INDIRECT(\"'\"&$C161&\"'\"&\"!$Q$10:$Q$10000\"),#REF!,INDIRECT(\"'\"&$C161&\"'\"&\"!$M$10:$M$10000\"))=0,\"\",SUMIF(INDIRECT(\"'\"&$C161&\"'\"&\"!$Q$10:$Q$10000\"),#REF!,INDIRECT(\"'\"&$C161&\"'\"&\"!$M$10:$M$10000\")))))","v":""},null,"","",null,null,null,null,null,null,null,null,null,null,null,null,null,null,""]
[null,null,null,"","","","","",{"$f":"IF($C162=\"\",\"\",IF($F162=\"LUMP\",IF(ISERROR(MATCH(#REF!,INDIRECT(\"'\"&$C162&\"'\"&\"!$Q$5:$V$5\"),0)),\"\",\"LUMP\"),IF(SUMIF(INDIRECT(\"'\"&$C162&\"'\"&\"!$Q$10:$Q$10000\"),#REF!,INDIRECT(\"'\"&$C162&\"'\"&\"!$M$10:$M$10000\"))=0,\"\",SUMIF(INDIRECT(\"'\"&$C162&\"'\"&\"!$Q$10:$Q$10000\"),#REF!,INDIRECT(\"'\"&$C162&\"'\"&\"!$M$10:$M$10000\")))))","v":""},null,"","",null,null,null,null,null,null,null,null,null,null,null,null,null,null,""]
[null,null,null,{"$f":"IF($C163=\"\",\"\",MID($C163,1,3))","v":""},{"$f":"IF($C163=\"\",\"\",MID($C163,5,5))","v":""},"","","",{"$f":"IF($C163=\"\",\"\",IF($F163=\"LUMP\",IF(ISERROR(MATCH(#REF!,INDIRECT(\"'\"&$C163&\"'\"&\"!$Q$5:$V$5\"),0)),\"\",\"LUMP\"),IF(SUMIF(INDIRECT(\"'\"&$C163&\"'\"&\"!$Q$10:$Q$10000\"),#REF!,INDIRECT(\"'\"&$C163&\"'\"&\"!$M$10:$M$10000\"))=0,\"\",SUMIF(INDIRECT(\"'\"&$C163&\"'\"&\"!$Q$10:$Q$10000\"),#REF!,INDIRECT(\"'\"&$C163&\"'\"&\"!$M$10:$M$10000\")))))","v":""},null,{"$f":"IF($C163=\"\",\"\",IF($F163=\"LUMP\",IF(ISERROR(MATCH(K$2,INDIRECT(\"'\"&$C163&\"'\"&\"!$Q$5:$V$5\"),0)),\"\",\"LUMP\"),IF(SUMIF(INDIRECT(\"'\"&$C163&\"'\"&\"!$Q$10:$Q$10000\"),K$2,INDIRECT(\"'\"&$C163&\"'\"&\"!$M$10:$M$10000\"))=0,\"\",SUMIF(INDIRECT(\"'\"&$C163&\"'\"&\"!$Q$10:$Q$10000\"),K$2,INDIRECT(\"'\"&$C163&\"'\"&\"!$M$10:$M$10000\")))))","v":""},"",null,null,null,null,null,null,null,null,null,null,null,null,null,null,""]
[null,null,null,"","","","","",{"$f":"IF($C164=\"\",\"\",IF($F164=\"LUMP\",IF(ISERROR(MATCH(#REF!,INDIRECT(\"'\"&$C164&\"'\"&\"!$Q$5:$V$5\"),0)),\"\",\"LUMP\"),IF(SUMIF(INDIRECT(\"'\"&$C164&\"'\"&\"!$Q$10:$Q$10000\"),#REF!,INDIRECT(\"'\"&$C164&\"'\"&\"!$M$10:$M$10000\"))=0,\"\",SUMIF(INDIRECT(\"'\"&$C164&\"'\"&\"!$Q$10:$Q$10000\"),#REF!,INDIRECT(\"'\"&$C164&\"'\"&\"!$M$10:$M$10000\")))))","v":""},null,"","",null,null,null,null,null,null,null,null,null,null,null,null,null,null,""]
[null,null,null,"","","","","",{"$f":"IF($C165=\"\",\"\",IF($F165=\"LUMP\",IF(ISERROR(MATCH(#REF!,INDIRECT(\"'\"&$C165&\"'\"&\"!$Q$5:$V$5\"),0)),\"\",\"LUMP\"),IF(SUMIF(INDIRECT(\"'\"&$C165&\"'\"&\"!$Q$10:$Q$10000\"),#REF!,INDIRECT(\"'\"&$C165&\"'\"&\"!$M$10:$M$10000\"))=0,\"\",SUMIF(INDIRECT(\"'\"&$C165&\"'\"&\"!$Q$10:$Q$10000\"),#REF!,INDIRECT(\"'\"&$C165&\"'\"&\"!$M$10:$M$10000\")))))","v":""},null,"","",null,null,null,null,null,null,null,null,null,null,null,null,null,null,""]
[null,null,null,"","","","","",{"$f":"IF($C166=\"\",\"\",IF($F166=\"LUMP\",IF(ISERROR(MATCH(#REF!,INDIRECT(\"'\"&$C166&\"'\"&\"!$Q$5:$V$5\"),0)),\"\",\"LUMP\"),IF(SUMIF(INDIRECT(\"'\"&$C166&\"'\"&\"!$Q$10:$Q$10000\"),#REF!,INDIRECT(\"'\"&$C166&\"'\"&\"!$M$10:$M$10000\"))=0,\"\",SUMIF(INDIRECT(\"'\"&$C166&\"'\"&\"!$Q$10:$Q$10000\"),#REF!,INDIRECT(\"'\"&$C166&\"'\"&\"!$M$10:$M$10000\")))))","v":""},null,"","",null,null,null,null,null,null,null,null,null,null,null,null,null,null,""]
[null,null,null,"","","","","",{"$f":"IF($C167=\"\",\"\",IF($F167=\"LUMP\",IF(ISERROR(MATCH(#REF!,INDIRECT(\"'\"&$C167&\"'\"&\"!$Q$5:$V$5\"),0)),\"\",\"LUMP\"),IF(SUMIF(INDIRECT(\"'\"&$C167&\"'\"&\"!$Q$10:$Q$10000\"),#REF!,INDIRECT(\"'\"&$C167&\"'\"&\"!$M$10:$M$10000\"))=0,\"\",SUMIF(INDIRECT(\"'\"&$C167&\"'\"&\"!$Q$10:$Q$10000\"),#REF!,INDIRECT(\"'\"&$C167&\"'\"&\"!$M$10:$M$10000\")))))","v":""},null,"","",null,null,null,null,null,null,null,null,null,null,null,null,null,null,""]
[null,null,null,"","","","","",{"$f":"IF($C168=\"\",\"\",IF($F168=\"LUMP\",IF(ISERROR(MATCH(#REF!,INDIRECT(\"'\"&$C168&\"'\"&\"!$Q$5:$V$5\"),0)),\"\",\"LUMP\"),IF(SUMIF(INDIRECT(\"'\"&$C168&\"'\"&\"!$Q$10:$Q$10000\"),#REF!,INDIRECT(\"'\"&$C168&\"'\"&\"!$M$10:$M$10000\"))=0,\"\",SUMIF(INDIRECT(\"'\"&$C168&\"'\"&\"!$Q$10:$Q$10000\"),#REF!,INDIRECT(\"'\"&$C168&\"'\"&\"!$M$10:$M$10000\")))))","v":""},null,"","",null,null,null,null,null,null,null,null,null,null,null,null,null,null,""]
[null,null,null,"","","","","",{"$f":"IF($C169=\"\",\"\",IF($F169=\"LUMP\",IF(ISERROR(MATCH(#REF!,INDIRECT(\"'\"&$C169&\"'\"&\"!$Q$5:$V$5\"),0)),\"\",\"LUMP\"),IF(SUMIF(INDIRECT(\"'\"&$C169&\"'\"&\"!$Q$10:$Q$10000\"),#REF!,INDIRECT(\"'\"&$C169&\"'\"&\"!$M$10:$M$10000\"))=0,\"\",SUMIF(INDIRECT(\"'\"&$C169&\"'\"&\"!$Q$10:$Q$10000\"),#REF!,INDIRECT(\"'\"&$C169&\"'\"&\"!$M$10:$M$10000\")))))","v":""},null,"","",null,null,null,null,null,null,null,null,null,null,null,null,null,null,""]
[null,null,null,"","","","","",{"$f":"IF($C170=\"\",\"\",IF($F170=\"LUMP\",IF(ISERROR(MATCH(#REF!,INDIRECT(\"'\"&$C170&\"'\"&\"!$Q$5:$V$5\"),0)),\"\",\"LUMP\"),IF(SUMIF(INDIRECT(\"'\"&$C170&\"'\"&\"!$Q$10:$Q$10000\"),#REF!,INDIRECT(\"'\"&$C170&\"'\"&\"!$M$10:$M$10000\"))=0,\"\",SUMIF(INDIRECT(\"'\"&$C170&\"'\"&\"!$Q$10:$Q$10000\"),#REF!,INDIRECT(\"'\"&$C170&\"'\"&\"!$M$10:$M$10000\")))))","v":""},null,"","",null,null,null,null,null,null,null,null,null,null,null,null,null,null,""]
[null,null,null,"","","","","",{"$f":"IF($C171=\"\",\"\",IF($F171=\"LUMP\",IF(ISERROR(MATCH(#REF!,INDIRECT(\"'\"&$C171&\"'\"&\"!$Q$5:$V$5\"),0)),\"\",\"LUMP\"),IF(SUMIF(INDIRECT(\"'\"&$C171&\"'\"&\"!$Q$10:$Q$10000\"),#REF!,INDIRECT(\"'\"&$C171&\"'\"&\"!$M$10:$M$10000\"))=0,\"\",SUMIF(INDIRECT(\"'\"&$C171&\"'\"&\"!$Q$10:$Q$10000\"),#REF!,INDIRECT(\"'\"&$C171&\"'\"&\"!$M$10:$M$10000\")))))","v":""},null,"","",null,null,null,null,null,null,null,null,null,null,null,null,null,null,""]
[null,null,null,"","","","","",{"$f":"IF($C172=\"\",\"\",IF($F172=\"LUMP\",IF(ISERROR(MATCH(#REF!,INDIRECT(\"'\"&$C172&\"'\"&\"!$Q$5:$V$5\"),0)),\"\",\"LUMP\"),IF(SUMIF(INDIRECT(\"'\"&$C172&\"'\"&\"!$Q$10:$Q$10000\"),#REF!,INDIRECT(\"'\"&$C172&\"'\"&\"!$M$10:$M$10000\"))=0,\"\",SUMIF(INDIRECT(\"'\"&$C172&\"'\"&\"!$Q$10:$Q$10000\"),#REF!,INDIRECT(\"'\"&$C172&\"'\"&\"!$M$10:$M$10000\")))))","v":""},null,"",""]
[null,null,null,"","","","","",{"$f":"IF($C173=\"\",\"\",IF($F173=\"LUMP\",IF(ISERROR(MATCH(#REF!,INDIRECT(\"'\"&$C173&\"'\"&\"!$Q$5:$V$5\"),0)),\"\",\"LUMP\"),IF(SUMIF(INDIRECT(\"'\"&$C173&\"'\"&\"!$Q$10:$Q$10000\"),#REF!,INDIRECT(\"'\"&$C173&\"'\"&\"!$M$10:$M$10000\"))=0,\"\",SUMIF(INDIRECT(\"'\"&$C173&\"'\"&\"!$Q$10:$Q$10000\"),#REF!,INDIRECT(\"'\"&$C173&\"'\"&\"!$M$10:$M$10000\")))))","v":""},null,"",""]
[null,null,null,"","","","","",{"$f":"IF($C174=\"\",\"\",IF($F174=\"LUMP\",IF(ISERROR(MATCH(#REF!,INDIRECT(\"'\"&$C174&\"'\"&\"!$Q$5:$V$5\"),0)),\"\",\"LUMP\"),IF(SUMIF(INDIRECT(\"'\"&$C174&\"'\"&\"!$Q$10:$Q$10000\"),#REF!,INDIRECT(\"'\"&$C174&\"'\"&\"!$M$10:$M$10000\"))=0,\"\",SUMIF(INDIRECT(\"'\"&$C174&\"'\"&\"!$Q$10:$Q$10000\"),#REF!,INDIRECT(\"'\"&$C174&\"'\"&\"!$M$10:$M$10000\")))))","v":""},null,"",""]
[null,null,null,"","","","","",{"$f":"IF($C175=\"\",\"\",IF($F175=\"LUMP\",IF(ISERROR(MATCH(#REF!,INDIRECT(\"'\"&$C175&\"'\"&\"!$Q$5:$V$5\"),0)),\"\",\"LUMP\"),IF(SUMIF(INDIRECT(\"'\"&$C175&\"'\"&\"!$Q$10:$Q$10000\"),#REF!,INDIRECT(\"'\"&$C175&\"'\"&\"!$M$10:$M$10000\"))=0,\"\",SUMIF(INDIRECT(\"'\"&$C175&\"'\"&\"!$Q$10:$Q$10000\"),#REF!,INDIRECT(\"'\"&$C175&\"'\"&\"!$M$10:$M$10000\")))))","v":""},null,"",""]
[null,null,null,"","","","","",{"$f":"IF($C176=\"\",\"\",IF($F176=\"LUMP\",IF(ISERROR(MATCH(#REF!,INDIRECT(\"'\"&$C176&\"'\"&\"!$Q$5:$V$5\"),0)),\"\",\"LUMP\"),IF(SUMIF(INDIRECT(\"'\"&$C176&\"'\"&\"!$Q$10:$Q$10000\"),#REF!,INDIRECT(\"'\"&$C176&\"'\"&\"!$M$10:$M$10000\"))=0,\"\",SUMIF(INDIRECT(\"'\"&$C176&\"'\"&\"!$Q$10:$Q$10000\"),#REF!,INDIRECT(\"'\"&$C176&\"'\"&\"!$M$10:$M$10000\")))))","v":""},null,"",""]
[null,null,null,"","","","","",{"$f":"IF($C177=\"\",\"\",IF($F177=\"LUMP\",IF(ISERROR(MATCH(#REF!,INDIRECT(\"'\"&$C177&\"'\"&\"!$Q$5:$V$5\"),0)),\"\",\"LUMP\"),IF(SUMIF(INDIRECT(\"'\"&$C177&\"'\"&\"!$Q$10:$Q$10000\"),#REF!,INDIRECT(\"'\"&$C177&\"'\"&\"!$M$10:$M$10000\"))=0,\"\",SUMIF(INDIRECT(\"'\"&$C177&\"'\"&\"!$Q$10:$Q$10000\"),#REF!,INDIRECT(\"'\"&$C177&\"'\"&\"!$M$10:$M$10000\")))))","v":""},null,"",""]
[null,null,null,"","","","","",{"$f":"IF($C178=\"\",\"\",IF($F178=\"LUMP\",IF(ISERROR(MATCH(#REF!,INDIRECT(\"'\"&$C178&\"'\"&\"!$Q$5:$V$5\"),0)),\"\",\"LUMP\"),IF(SUMIF(INDIRECT(\"'\"&$C178&\"'\"&\"!$Q$10:$Q$10000\"),#REF!,INDIRECT(\"'\"&$C178&\"'\"&\"!$M$10:$M$10000\"))=0,\"\",SUMIF(INDIRECT(\"'\"&$C178&\"'\"&\"!$Q$10:$Q$10000\"),#REF!,INDIRECT(\"'\"&$C178&\"'\"&\"!$M$10:$M$10000\")))))","v":""},null,"",""]
[null,null,null,"","","","","",{"$f":"IF($C179=\"\",\"\",IF($F179=\"LUMP\",IF(ISERROR(MATCH(#REF!,INDIRECT(\"'\"&$C179&\"'\"&\"!$Q$5:$V$5\"),0)),\"\",\"LUMP\"),IF(SUMIF(INDIRECT(\"'\"&$C179&\"'\"&\"!$Q$10:$Q$10000\"),#REF!,INDIRECT(\"'\"&$C179&\"'\"&\"!$M$10:$M$10000\"))=0,\"\",SUMIF(INDIRECT(\"'\"&$C179&\"'\"&\"!$Q$10:$Q$10000\"),#REF!,INDIRECT(\"'\"&$C179&\"'\"&\"!$M$10:$M$10000\")))))","v":""},null,"",""]
[null,null,null,"","","","","",{"$f":"IF($C180=\"\",\"\",IF($F180=\"LUMP\",IF(ISERROR(MATCH(#REF!,INDIRECT(\"'\"&$C180&\"'\"&\"!$Q$5:$V$5\"),0)),\"\",\"LUMP\"),IF(SUMIF(INDIRECT(\"'\"&$C180&\"'\"&\"!$Q$10:$Q$10000\"),#REF!,INDIRECT(\"'\"&$C180&\"'\"&\"!$M$10:$M$10000\"))=0,\"\",SUMIF(INDIRECT(\"'\"&$C180&\"'\"&\"!$Q$10:$Q$10000\"),#REF!,INDIRECT(\"'\"&$C180&\"'\"&\"!$M$10:$M$10000\")))))","v":""},null,"",""]
[null,null,null,"","","","","",{"$f":"IF($C181=\"\",\"\",IF($F181=\"LUMP\",IF(ISERROR(MATCH(#REF!,INDIRECT(\"'\"&$C181&\"'\"&\"!$Q$5:$V$5\"),0)),\"\",\"LUMP\"),IF(SUMIF(INDIRECT(\"'\"&$C181&\"'\"&\"!$Q$10:$Q$10000\"),#REF!,INDIRECT(\"'\"&$C181&\"'\"&\"!$M$10:$M$10000\"))=0,\"\",SUMIF(INDIRECT(\"'\"&$C181&\"'\"&\"!$Q$10:$Q$10000\"),#REF!,INDIRECT(\"'\"&$C181&\"'\"&\"!$M$10:$M$10000\")))))","v":""},null,"",""]
[null,null,null,"","","","","",{"$f":"IF($C182=\"\",\"\",IF($F182=\"LUMP\",IF(ISERROR(MATCH(#REF!,INDIRECT(\"'\"&$C182&\"'\"&\"!$Q$5:$V$5\"),0)),\"\",\"LUMP\"),IF(SUMIF(INDIRECT(\"'\"&$C182&\"'\"&\"!$Q$10:$Q$10000\"),#REF!,INDIRECT(\"'\"&$C182&\"'\"&\"!$M$10:$M$10000\"))=0,\"\",SUMIF(INDIRECT(\"'\"&$C182&\"'\"&\"!$Q$10:$Q$10000\"),#REF!,INDIRECT(\"'\"&$C182&\"'\"&\"!$M$10:$M$10000\")))))","v":""},null,"",""]
[null,null,null,"","","","","",{"$f":"IF($C183=\"\",\"\",IF($F183=\"LUMP\",IF(ISERROR(MATCH(#REF!,INDIRECT(\"'\"&$C183&\"'\"&\"!$Q$5:$V$5\"),0)),\"\",\"LUMP\"),IF(SUMIF(INDIRECT(\"'\"&$C183&\"'\"&\"!$Q$10:$Q$10000\"),#REF!,INDIRECT(\"'\"&$C183&\"'\"&\"!$M$10:$M$10000\"))=0,\"\",SUMIF(INDIRECT(\"'\"&$C183&\"'\"&\"!$Q$10:$Q$10000\"),#REF!,INDIRECT(\"'\"&$C183&\"'\"&\"!$M$10:$M$10000\")))))","v":""},null,"",""]
[null,null,null,null,null,"","",""]
[null,null,null,null,null,"","",""]
[null,null,null,null,null,"","",""]
[null,null,null,null,null,"","",""]
[null,null,null,null,null,"","",""]
[null,null,null,null,null,"","",""]
[null,null,null,null,null,"","",""]
[null,null,null,null,null,"","",""]
[null,null,null,null,null,"","",""]
[null,null,null,null,null,"","",""]
[null,null,null,null,null,"","",""]
[null,null,null,null,null,"","",""]
[null,null,null,null,null,"","",""]
[null,null,null,null,null,"","",""]
[null,null,null,null,null,"","",""]
[null,null,null,null,null,"","",""]
[null,null,null,null,null,"","",""]
[null,null,null,null,null,"","",""]
[null,null,null,null,null,"","",""]
[null,null,null,null,null,"","",""]
[null,null,null,null,null,"","",""]
[null,null,null,null,null,"","",""]
[null,null,null,null,null,"","",""]
[null,null,null,null,null,"","",""]
[null,null,null,null,null,"","",""]
[null,null,null,null,null,"","",""]
[null,null,null,null,null,"","",""]
[null,null,null,null,null,"","",""]
[null,null,null,null,null,"","",""]
[null,null,null,null,null,"","",""]
[null,null,null,null,null,"","",""]
[null,null,null,null,null,"","",""]
[null,null,null,null,null,"","",""]
[null,null,null,null,null,"","",""]
[null,null,null,null,null,"","",""]
[null,null,null,null,null,"","",""]
[null,null,null,null,null,"","",""]
[null,null,null,null,null,"","",""]
[null,null,null,null,null,"","",""]
[null,null,null,null,null,"","",""]
[null,null,null,null,null,{"$f":"IF($C224=\"\",\"\",IF(INDIRECT(\"'\"&$C224&\"'\"&\"!K5\")=\"LS\",\"LUMP\",MAX(INDIRECT(\"'\"&$C224&\"'\"&\"!N10:N1000\"))))","v":""},{"$f":"IF($C224=\"\",\"\",IF(INDIRECT(\"'\"&$C224&\"'\"&\"!K5\")=\"LS\",\"\",INDIRECT(\"'\"&$C224&\"'\"&\"!K5\")))","v":""},{"$f":"IF($C224=\"\",\"\",IF(INDIRECT(\"'\"&$C224&\"'\"&\"!E8\")=\"\",INDIRECT(\"'\"&$C224&\"'\"&\"!E7\"),CONCATENATE(INDIRECT(\"'\"&$C224&\"'\"&\"!E7\"),\" (\",INDIRECT(\"'\"&$C224&\"'\"&\"!E8\"),\")\")))","v":""}]
[null,null,null,null,null,"","",""]
[null,null,null,null,null,"","",""]
[null,null,null,null,null,"","",""]
[null,null,null,null,null,"","",""]
[null,null,null,null,null,"","",""]
[null,null,null,null,null,"","",""]
[null,null,null,null,null,"","",""]
[null,null,null,null,null,"","",""]
[null,null,null,null,null,"","",""]
[null,null,null,null,null,"","",""]
[null,null,null,null,null,"","",""]
[null,null,null,null,null,"","",""]
[null,null,null,null,null,"","",""]
[null,null,null,null,null,"","",""]
[null,null,null,null,null,"","",""]
[null,null,null,null,null,"","",""]
[null,null,null,null,null,"","",""]
[null,null,null,null,null,"","",""]
[null,null,null,null,null,"","",""]
[null,null,null,null,null,"","",""]
[null,null,null,null,null,"","",""]
[null,null,null,null,null,"","",""]
[null,null,null,null,null,"","",""]
[null,null,null,null,null,"","",""]
[null,null,null,null,null,"","",""]
[null,null,null,null,null,"","",""]
[null,null,null,null,null,"","",""]
[null,null,null,null,null,"","",""]
[null,null,null,null,null,"","",""]
[null,null,null,null,null,"","",""]
[null,null,null,null,null,"","",""]
[null,null,null,null,null,"","",""]
[null,null,null,null,null,"","",""]
[null,null,null,null,null,"","",""]
[null,null,null,null,null,"","",""]
[null,null,null,null,null,"","",""]
[null,null,null,null,null,"",null,""]
[null,null,null,null,null,"",null,""]
[null,null,null,null,null,"",null,""]
[null,null,null,null,null,"",null,""]
[null,null,null,null,null,"",null,""]
[null,null,null,null,null,"",null,""]
[null,null,null,null,null,"",null,""]
[null,null,null,null,null,null,null,""]
[null,null,null,null,null,null,null,""]
[null,null,null,null,null,null,null,""]
[null,null,null,null,null,null,null,""]
[null,null,null,null,null,null,null,""]
[null,null,null,null,null,null,null,""]

{"sheet":"For Sheets","index":58,"n_rows":74,"n_cols":13,"rows_kept":74,"cut":false,"hidden":false,"merged":[[1,8,1,12],[2,3,2,4],[2,7,3,7],[3,3,3,4],[4,3,5,3],[4,4,5,4],[4,9,5,9],[4,12,5,12],[4,5,5,5],[4,6,5,6],[4,7,5,7],[4,8,5,8],[4,10,5,10],[4,11,5,11]]}
[]
[null,null,null,null,null,null,null,null,"Quantity Categories"]
[null,null,null,{"$f":"CONCATENATE(\"MADE BY:  \",'Calc Cover Sheet'!B11)","v":"MADE BY:  BMV"},null,"DATE:  ",{"$f":"'Calc Cover Sheet'!D11","v":"2024-04-19"},"ESTIMATED QUANTITIES"]
[null,null,null,{"$f":"CONCATENATE(\"CHECKED BY:  \",'Calc Cover Sheet'!B12)","v":"CHECKED BY:  TLC"},null,"DATE:  ",{"$f":"'Calc Cover Sheet'!D12","v":"2024-04-25"}]
[null,null,null,"ITEM","EXTENSION","01/IMS/10","UNIT","DESCRIPTION","ABUT.","PIER","SUPER.","GEN.","REFERENCE SHEET NO."]
[]
[]
[null,null,null,{"$f":"IF('Estimated Quantities'!D31=\"\",\"\",'Estimated Quantities'!D31)","v":"202"},{"$f":"IF('Estimated Quantities'!E31=\"\",\"\",'Estimated Quantities'!E31)","v":"11003"},{"$f":"IF('Estimated Quantities'!F31=\"\",\"\",'Estimated Quantities'!F31)","v":"LUMP"},{"$f":"IF('Estimated Quantities'!G31=\"\",\"\",'Estimated Quantities'!G31)","v":""},{"$f":"IF('Estimated Quantities'!H31=\"\",\"\",'Estimated Quantities'!H31)","v":"STRUCTURE REMOVED, OVER 20 FOOT SPAN, AS PER PLAN"},{"$f":"IF('Estimated Quantities'!I31=\"\",\"\",'Estimated Quantities'!I31)","v":""},{"$f":"IF('Estimated Quantities'!J31=\"\",\"\",'Estimated Quantities'!J31)","v":""},{"$f":"IF('Estimated Quantities'!K31=\"\",\"\",'Estimated Quantities'!K31)","v":""},{"$f":"IF('Estimated Quantities'!L31=\"\",\"\",'Estimated Quantities'!L31)","v":""},{"$f":"IF('Estimated Quantities'!M31=\"\",\"\",'Estimated Quantities'!M31)","v":"S.02/45"}]
[null,null,null,{"$f":"IF('Estimated Quantities'!D32=\"\",\"\",'Estimated Quantities'!D32)","v":"202"},{"$f":"IF('Estimated Quantities'!E32=\"\",\"\",'Estimated Quantities'!E32)","v":"22900"},{"$f":"IF('Estimated Quantities'!F32=\"\",\"\",'Estimated Quantities'!F32)","v":167},{"$f":"IF('Estimated Quantities'!G32=\"\",\"\",'Estimated Quantities'!G32)","v":"SY"},{"$f":"IF('Estimated Quantities'!H32=\"\",\"\",'Estimated Quantities'!H32)","v":"APPROACH SLAB REMOVED"},{"$f":"IF('Estimated Quantities'!I32=\"\",\"\",'Estimated Quantities'!I32)","v":""},{"$f":"IF('Estimated Quantities'!J32=\"\",\"\",'Estimated Quantities'!J32)","v":""},{"$f":"IF('Estimated Quantities'!K32=\"\",\"\",'Estimated Quantities'!K32)","v":""},{"$f":"IF('Estimated Quantities'!L32=\"\",\"\",'Estimated Quantities'!L32)","v":167},{"$f":"IF('Estimated Quantities'!M32=\"\",\"\",'Estimated Quantities'!M32)","v":""}]
[null,null,null,{"$f":"IF('Estimated Quantities'!D33=\"\",\"\",'Estimated Quantities'!D33)","v":"202"},{"$f":"IF('Estimated Quantities'!E33=\"\",\"\",'Estimated Quantities'!E33)","v":"23500"},{"$f":"IF('Estimated Quantities'!F33=\"\",\"\",'Estimated Quantities'!F33)","v":167},{"$f":"IF('Estimated Quantities'!G33=\"\",\"\",'Estimated Quantities'!G33)","v":"SY"},{"$f":"IF('Estimated Quantities'!H33=\"\",\"\",'Estimated Quantities'!H33)","v":"WEARING COURSE REMOVED"},{"$f":"IF('Estimated Quantities'!I33=\"\",\"\",'Estimated Quantities'!I33)","v":""},{"$f":"IF('Estimated Quantities'!J33=\"\",\"\",'Estimated Quantities'!J33)","v":""},{"$f":"IF('Estimated Quantities'!K33=\"\",\"\",'Estimated Quantities'!K33)","v":""},{"$f":"IF('Estimated Quantities'!L33=\"\",\"\",'Estimated Quantities'!L33)","v":167},{"$f":"IF('Estimated Quantities'!M33=\"\",\"\",'Estimated Quantities'!M33)","v":""}]
[null,null,null,{"$f":"IF('Estimated Quantities'!D34=\"\",\"\",'Estimated Quantities'!D34)","v":""},{"$f":"IF('Estimated Quantities'!E34=\"\",\"\",'Estimated Quantities'!E34)","v":""},{"$f":"IF('Estimated Quantities'!F34=\"\",\"\",'Estimated Quantities'!F34)","v":""},{"$f":"IF('Estimated Quantities'!G34=\"\",\"\",'Estimated Quantities'!G34)","v":""},{"$f":"IF('Estimated Quantities'!H34=\"\",\"\",'Estimated Quantities'!H34)","v":""},{"$f":"IF('Estimated Quantities'!I34=\"\",\"\",'Estimated Quantities'!I34)","v":""},{"$f":"IF('Estimated Quantities'!J34=\"\",\"\",'Estimated Quantities'!J34)","v":""},{"$f":"IF('Estimated Quantities'!K34=\"\",\"\",'Estimated Quantities'!K34)","v":""},{"$f":"IF('Estimated Quantities'!L34=\"\",\"\",'Estimated Quantities'!L34)","v":""},{"$f":"IF('Estimated Quantities'!M34=\"\",\"\",'Estimated Quantities'!M34)","v":""}]
[null,null,null,{"$f":"IF('Estimated Quantities'!D35=\"\",\"\",'Estimated Quantities'!D35)","v":"203"},{"$f":"IF('Estimated Quantities'!E35=\"\",\"\",'Estimated Quantities'!E35)","v":"35111"},{"$f":"IF('Estimated Quantities'!F35=\"\",\"\",'Estimated Quantities'!F35)","v":479},{"$f":"IF('Estimated Quantities'!G35=\"\",\"\",'Estimated Quantities'!G35)","v":"CY"},{"$f":"IF('Estimated Quantities'!H35=\"\",\"\",'Estimated Quantities'!H35)","v":"GRANULAR MATERIAL, TYPE B, AS PER PLAN"},{"$f":"IF('Estimated Quantities'!I35=\"\",\"\",'Estimated Quantities'!I35)","v":479},{"$f":"IF('Estimated Quantities'!J35=\"\",\"\",'Estimated Quantities'!J35)","v":""},{"$f":"IF('Estimated Quantities'!K35=\"\",\"\",'Estimated Quantities'!K35)","v":""},{"$f":"IF('Estimated Quantities'!L35=\"\",\"\",'Estimated Quantities'!L35)","v":""},{"$f":"IF('Estimated Quantities'!M35=\"\",\"\",'Estimated Quantities'!M35)","v":"S.02/45"}]
[null,null,null,{"$f":"IF('Estimated Quantities'!D36=\"\",\"\",'Estimated Quantities'!D36)","v":"203"},{"$f":"IF('Estimated Quantities'!E36=\"\",\"\",'Estimated Quantities'!E36)","v":"35120"},{"$f":"IF('Estimated Quantities'!F36=\"\",\"\",'Estimated Quantities'!F36)","v":189},{"$f":"IF('Estimated Quantities'!G36=\"\",\"\",'Estimated Quantities'!G36)","v":"CY"},{"$f":"IF('Estimated Quantities'!H36=\"\",\"\",'Estimated Quantities'!H36)","v":"GRANULAR MATERIAL, TYPE C"},{"$f":"IF('Estimated Quantities'!I36=\"\",\"\",'Estimated Quantities'!I36)","v":189},{"$f":"IF('Estimated Quantities'!J36=\"\",\"\",'Estimated Quantities'!J36)","v":""},{"$f":"IF('Estimated Quantities'!K36=\"\",\"\",'Estimated Quantities'!K36)","v":""},{"$f":"IF('Estimated Quantities'!L36=\"\",\"\",'Estimated Quantities'!L36)","v":""},{"$f":"IF('Estimated Quantities'!M36=\"\",\"\",'Estimated Quantities'!M36)","v":""}]
[null,null,null,{"$f":"IF('Estimated Quantities'!D37=\"\",\"\",'Estimated Quantities'!D37)","v":""},{"$f":"IF('Estimated Quantities'!E37=\"\",\"\",'Estimated Quantities'!E37)","v":""},{"$f":"IF('Estimated Quantities'!F37=\"\",\"\",'Estimated Quantities'!F37)","v":""},{"$f":"IF('Estimated Quantities'!G37=\"\",\"\",'Estimated Quantities'!G37)","v":""},{"$f":"IF('Estimated Quantities'!H37=\"\",\"\",'Estimated Quantities'!H37)","v":""},{"$f":"IF('Estimated Quantities'!I37=\"\",\"\",'Estimated Quantities'!I37)","v":""},{"$f":"IF('Estimated Quantities'!J37=\"\",\"\",'Estimated Quantities'!J37)","v":""},{"$f":"IF('Estimated Quantities'!K37=\"\",\"\",'Estimated Quantities'!K37)","v":""},{"$f":"IF('Estimated Quantities'!L37=\"\",\"\",'Estimated Quantities'!L37)","v":""},{"$f":"IF('Estimated Quantities'!M37=\"\",\"\",'Estimated Quantities'!M37)","v":""}]
[null,null,null,{"$f":"IF('Estimated Quantities'!D38=\"\",\"\",'Estimated Quantities'!D38)","v":"503"},{"$f":"IF('Estimated Quantities'!E38=\"\",\"\",'Estimated Quantities'!E38)","v":"11101"},{"$f":"IF('Estimated Quantities'!F38=\"\",\"\",'Estimated Quantities'!F38)","v":"LUMP"},{"$f":"IF('Estimated Quantities'!G38=\"\",\"\",'Estimated Quantities'!G38)","v":""},{"$f":"IF('Estimated Quantities'!H38=\"\",\"\",'Estimated Quantities'!H38)","v":"COFFERDAMS AND EXCAVATION BRACING, AS PER PLAN"},{"$f":"IF('Estimated Quantities'!I38=\"\",\"\",'Estimated Quantities'!I38)","v":""},{"$f":"IF('Estimated Quantities'!J38=\"\",\"\",'Estimated Quantities'!J38)","v":""},{"$f":"IF('Estimated Quantities'!K38=\"\",\"\",'Estimated Quantities'!K38)","v":""},{"$f":"IF('Estimated Quantities'!L38=\"\",\"\",'Estimated Quantities'!L38)","v":""},{"$f":"IF('Estimated Quantities'!M38=\"\",\"\",'Estimated Quantities'!M38)","v":"S.04/45"}]
[null,null,null,{"$f":"IF('Estimated Quantities'!D39=\"\",\"\",'Estimated Quantities'!D39)","v":"503"},{"$f":"IF('Estimated Quantities'!E39=\"\",\"\",'Estimated Quantities'!E39)","v":"21300"},{"$f":"IF('Estimated Quantities'!F39=\"\",\"\",'Estimated Quantities'!F39)","v":"LUMP"},{"$f":"IF('Estimated Quantities'!G39=\"\",\"\",'Estimated Quantities'!G39)","v":""},{"$f":"IF('Estimated Quantities'!H39=\"\",\"\",'Estimated Quantities'!H39)","v":"UNCLASSIFIED EXCAVATION"},{"$f":"IF('Estimated Quantities'!I39=\"\",\"\",'Estimated Quantities'!I39)","v":""},{"$f":"IF('Estimated Quantities'!J39=\"\",\"\",'Estimated Quantities'!J39)","v":""},{"$f":"IF('Estimated Quantities'!K39=\"\",\"\",'Estimated Quantities'!K39)","v":""},{"$f":"IF('Estimated Quantities'!L39=\"\",\"\",'Estimated Quantities'!L39)","v":""},{"$f":"IF('Estimated Quantities'!M39=\"\",\"\",'Estimated Quantities'!M39)","v":""}]
[null,null,null,{"$f":"IF('Estimated Quantities'!D40=\"\",\"\",'Estimated Quantities'!D40)","v":""},{"$f":"IF('Estimated Quantities'!E40=\"\",\"\",'Estimated Quantities'!E40)","v":""},{"$f":"IF('Estimated Quantities'!F40=\"\",\"\",'Estimated Quantities'!F40)","v":""},{"$f":"IF('Estimated Quantities'!G40=\"\",\"\",'Estimated Quantities'!G40)","v":""},{"$f":"IF('Estimated Quantities'!H40=\"\",\"\",'Estimated Quantities'!H40)","v":""},{"$f":"IF('Estimated Quantities'!I40=\"\",\"\",'Estimated Quantities'!I40)","v":""},{"$f":"IF('Estimated Quantities'!J40=\"\",\"\",'Estimated Quantities'!J40)","v":""},{"$f":"IF('Estimated Quantities'!K40=\"\",\"\",'Estimated Quantities'!K40)","v":""},{"$f":"IF('Estimated Quantities'!L40=\"\",\"\",'Estimated Quantities'!L40)","v":""},{"$f":"IF('Estimated Quantities'!M40=\"\",\"\",'Estimated Quantities'!M40)","v":""}]
[null,null,null,{"$f":"IF('Estimated Quantities'!D41=\"\",\"\",'Estimated Quantities'!D41)","v":"507"},{"$f":"IF('Estimated Quantities'!E41=\"\",\"\",'Estimated Quantities'!E41)","v":"00101"},{"$f":"IF('Estimated Quantities'!F41=\"\",\"\",'Estimated Quantities'!F41)","v":900},{"$f":"IF('Estimated Quantities'!G41=\"\",\"\",'Estimated Quantities'!G41)","v":"FT"},{"$f":"IF('Estimated Quantities'!H41=\"\",\"\",'Estimated Quantities'!H41)","v":"STEEL PILES HP10X42, FURNISHED, AS PER PLAN"},{"$f":"IF('Estimated Quantities'!I41=\"\",\"\",'Estimated Quantities'!I41)","v":900},{"$f":"IF('Estimated Quantities'!J41=\"\",\"\",'Estimated Quantities'!J41)","v":""},{"$f":"IF('Estimated Quantities'!K41=\"\",\"\",'Estimated Quantities'!K41)","v":""},{"$f":"IF('Estimated Quantities'!L41=\"\",\"\",'Estimated Quantities'!L41)","v":""},{"$f":"IF('Estimated Quantities'!M41=\"\",\"\",'Estimated Quantities'!M41)","v":"S.02/45"}]
[null,null,null,{"$f":"IF('Estimated Quantities'!D42=\"\",\"\",'Estimated Quantities'!D42)","v":"507"},{"$f":"IF('Estimated Quantities'!E42=\"\",\"\",'Estimated Quantities'!E42)","v":"92201"},{"$f":"IF('Estimated Quantities'!F42=\"\",\"\",'Estimated Quantities'!F42)","v":262},{"$f":"IF('Estimated Quantities'!G42=\"\",\"\",'Estimated Quantities'!G42)","v":"FT"},{"$f":"IF('Estimated Quantities'!H42=\"\",\"\",'Estimated Quantities'!H42)","v":"PREBORED HOLES, AS PER PLAN"},{"$f":"IF('Estimated Quantities'!I42=\"\",\"\",'Estimated Quantities'!I42)","v":262},{"$f":"IF('Estimated Quantities'!J42=\"\",\"\",'Estimated Quantities'!J42)","v":""},{"$f":"IF('Estimated Quantities'!K42=\"\",\"\",'Estimated Quantities'!K42)","v":""},{"$f":"IF('Estimated Quantities'!L42=\"\",\"\",'Estimated Quantities'!L42)","v":""},{"$f":"IF('Estimated Quantities'!M42=\"\",\"\",'Estimated Quantities'!M42)","v":"S.02/45"}]
[null,null,null,{"$f":"IF('Estimated Quantities'!D43=\"\",\"\",'Estimated Quantities'!D43)","v":""},{"$f":"IF('Estimated Quantities'!E43=\"\",\"\",'Estimated Quantities'!E43)","v":""},{"$f":"IF('Estimated Quantities'!F43=\"\",\"\",'Estimated Quantities'!F43)","v":""},{"$f":"IF('Estimated Quantities'!G43=\"\",\"\",'Estimated Quantities'!G43)","v":""},{"$f":"IF('Estimated Quantities'!H43=\"\",\"\",'Estimated Quantities'!H43)","v":""},{"$f":"IF('Estimated Quantities'!I43=\"\",\"\",'Estimated Quantities'!I43)","v":""},{"$f":"IF('Estimated Quantities'!J43=\"\",\"\",'Estimated Quantities'!J43)","v":""},{"$f":"IF('Estimated Quantities'!K43=\"\",\"\",'Estimated Quantities'!K43)","v":""},{"$f":"IF('Estimated Quantities'!L43=\"\",\"\",'Estimated Quantities'!L43)","v":""},{"$f":"IF('Estimated Quantities'!M43=\"\",\"\",'Estimated Quantities'!M43)","v":""}]
[null,null,null,{"$f":"IF('Estimated Quantities'!D44=\"\",\"\",'Estimated Quantities'!D44)","v":"509"},{"$f":"IF('Estimated Quantities'!E44=\"\",\"\",'Estimated Quantities'!E44)","v":"26000"},{"$f":"IF('Estimated Quantities'!F44=\"\",\"\",'Estimated Quantities'!F44)","v":114538},{"$f":"IF('Estimated Quantities'!G44=\"\",\"\",'Estimated Quantities'!G44)","v":"LB"},{"$f":"IF('Estimated Quantities'!H44=\"\",\"\",'Estimated Quantities'!H44)","v":"GALVANIZED STEEL REINFORCEMENT"},{"$f":"IF('Estimated Quantities'!I44=\"\",\"\",'Estimated Quantities'!I44)","v":9680},{"$f":"IF('Estimated Quantities'!J44=\"\",\"\",'Estimated Quantities'!J44)","v":15063},{"$f":"IF('Estimated Quantities'!K44=\"\",\"\",'Estimated Quantities'!K44)","v":80947},{"$f":"IF('Estimated Quantities'!L44=\"\",\"\",'Estimated Quantities'!L44)","v":8848},{"$f":"IF('Estimated Quantities'!M44=\"\",\"\",'Estimated Quantities'!M44)","v":""}]
[null,null,null,{"$f":"IF('Estimated Quantities'!D45=\"\",\"\",'Estimated Quantities'!D45)","v":"509"},{"$f":"IF('Estimated Quantities'!E45=\"\",\"\",'Estimated Quantities'!E45)","v":"30020"},{"$f":"IF('Estimated Quantities'!F45=\"\",\"\",'Estimated Quantities'!F45)","v":4603},{"$f":"IF('Estimated Quantities'!G45=\"\",\"\",'Estimated Quantities'!G45)","v":"FT"},{"$f":"IF('Estimated Quantities'!H45=\"\",\"\",'Estimated Quantities'!H45)","v":"NO. 4 DEFORMED GFRP REINFORCEMENT"},{"$f":"IF('Estimated Quantities'!I45=\"\",\"\",'Estimated Quantities'!I45)","v":""},{"$f":"IF('Estimated Quantities'!J45=\"\",\"\",'Estimated Quantities'!J45)","v":""},{"$f":"IF('Estimated Quantities'!K45=\"\",\"\",'Estimated Quantities'!K45)","v":4603},{"$f":"IF('Estimated Quantities'!L45=\"\",\"\",'Estimated Quantities'!L45)","v":""},{"$f":"IF('Estimated Quantities'!M45=\"\",\"\",'Estimated Quantities'!M45)","v":""}]
[null,null,null,{"$f":"IF('Estimated Quantities'!D46=\"\",\"\",'Estimated Quantities'!D46)","v":""},{"$f":"IF('Estimated Quantities'!E46=\"\",\"\",'Estimated Quantities'!E46)","v":""},{"$f":"IF('Estimated Quantities'!F46=\"\",\"\",'Estimated Quantities'!F46)","v":""},{"$f":"IF('Estimated Quantities'!G46=\"\",\"\",'Estimated Quantities'!G46)","v":""},{"$f":"IF('Estimated Quantities'!H46=\"\",\"\",'Estimated Quantities'!H46)","v":""},{"$f":"IF('Estimated Quantities'!I46=\"\",\"\",'Estimated Quantities'!I46)","v":""},{"$f":"IF('Estimated Quantities'!J46=\"\",\"\",'Estimated Quantities'!J46)","v":""},{"$f":"IF('Estimated Quantities'!K46=\"\",\"\",'Estimated Quantities'!K46)","v":""},{"$f":"IF('Estimated Quantities'!L46=\"\",\"\",'Estimated Quantities'!L46)","v":""},{"$f":"IF('Estimated Quantities'!M46=\"\",\"\",'Estimated Quantities'!M46)","v":""}]
[null,null,null,{"$f":"IF('Estimated Quantities'!D47=\"\",\"\",'Estimated Quantities'!D47)","v":"511"},{"$f":"IF('Estimated Quantities'!E47=\"\",\"\",'Estimated Quantities'!E47)","v":"33500"},{"$f":"IF('Estimated Quantities'!F47=\"\",\"\",'Estimated Quantities'!F47)","v":2},{"$f":"IF('Estimated Quantities'!G47=\"\",\"\",'Estimated Quantities'!G47)","v":"EACH"},{"$f":"IF('Estimated Quantities'!H47=\"\",\"\",'Estimated Quantities'!H47)","v":"SEMI-INTEGRAL DIAPHRAGM GUIDE"},{"$f":"IF('Estimated Quantities'!I47=\"\",\"\",'Estimated Quantities'!I47)","v":2},{"$f":"IF('Estimated Quantities'!J47=\"\",\"\",'Estimated Quantities'!J47)","v":""},{"$f":"IF('Estimated Quantities'!K47=\"\",\"\",'Estimated Quantities'!K47)","v":""},{"$f":"IF('Estimated Quantities'!L47=\"\",\"\",'Estimated Quantities'!L47)","v":""},{"$f":"IF('Estimated Quantities'!M47=\"\",\"\",'Estimated Quantities'!M47)","v":""}]
[null,null,null,{"$f":"IF('Estimated Quantities'!D48=\"\",\"\",'Estimated Quantities'!D48)","v":"511"},{"$f":"IF('Estimated Quantities'!E48=\"\",\"\",'Estimated Quantities'!E48)","v":"34460"},{"$f":"IF('Estimated Quantities'!F48=\"\",\"\",'Estimated Quantities'!F48)","v":71},{"$f":"IF('Estimated Quantities'!G48=\"\",\"\",'Estimated Quantities'!G48)","v":"CY"},{"$f":"IF('Estimated Quantities'!H48=\"\",\"\",'Estimated Quantities'!H48)","v":"CLASS QC SCC CONCRETE, BRIDGE DECK (PARAPET)"},{"$f":"IF('Estimated Quantities'!I48=\"\",\"\",'Estimated Quantities'!I48)","v":""},{"$f":"IF('Estimated Quantities'!J48=\"\",\"\",'Estimated Quantities'!J48)","v":""},{"$f":"IF('Estimated Quantities'!K48=\"\",\"\",'Estimated Quantities'!K48)","v":71},{"$f":"IF('Estimated Quantities'!L48=\"\",\"\",'Estimated Quantities'!L48)","v":""},{"$f":"IF('Estimated Quantities'!M48=\"\",\"\",'Estimated Quantities'!M48)","v":""}]
[null,null,null,{"$f":"IF('Estimated Quantities'!D49=\"\",\"\",'Estimated Quantities'!D49)","v":"511"},{"$f":"IF('Estimated Quantities'!E49=\"\",\"\",'Estimated Quantities'!E49)","v":"43510"},{"$f":"IF('Estimated Quantities'!F49=\"\",\"\",'Estimated Quantities'!F49)","v":78},{"$f":"IF('Estimated Quantities'!G49=\"\",\"\",'Estimated Quantities'!G49)","v":"CY"},{"$f":"IF('Estimated Quantities'!H49=\"\",\"\",'Estimated Quantities'!H49)","v":"CLASS QC1 CONCRETE, ABUTMENT INCLUDING FOOTING"},{"$f":"IF('Estimated Quantities'!I49=\"\",\"\",'Estimated Quantities'!I49)","v":78},{"$f":"IF('Estimated Quantities'!J49=\"\",\"\",'Estimated Quantities'!J49)","v":""},{"$f":"IF('Estimated Quantities'!K49=\"\",\"\",'Estimated Quantities'!K49)","v":""},{"$f":"IF('Estimated Quantities'!L49=\"\",\"\",'Estimated Quantities'!L49)","v":""},{"$f":"IF('Estimated Quantities'!M49=\"\",\"\",'Estimated Quantities'!M49)","v":""}]
[null,null,null,{"$f":"IF('Estimated Quantities'!D50=\"\",\"\",'Estimated Quantities'!D50)","v":"511"},{"$f":"IF('Estimated Quantities'!E50=\"\",\"\",'Estimated Quantities'!E50)","v":"46510"},{"$f":"IF('Estimated Quantities'!F50=\"\",\"\",'Estimated Quantities'!F50)","v":27},{"$f":"IF('Estimated Quantities'!G50=\"\",\"\",'Estimated Quantities'!G50)","v":"CY"},{"$f":"IF('Estimated Quantities'!H50=\"\",\"\",'Estimated Quantities'!H50)","v":"CLASS QC1 CONCRETE, FOOTING"},{"$f":"IF('Estimated Quantities'!I50=\"\",\"\",'Estimated Quantities'!I50)","v":""},{"$f":"IF('Estimated Quantities'!J50=\"\",\"\",'Estimated Quantities'!J50)","v":27},{"$f":"IF('Estimated Quantities'!K50=\"\",\"\",'Estimated Quantities'!K50)","v":""},{"$f":"IF('Estimated Quantities'!L50=\"\",\"\",'Estimated Quantities'!L50)","v":""},{"$f":"IF('Estimated Quantities'!M50=\"\",\"\",'Estimated Quantities'!M50)","v":""}]
[null,null,null,{"$f":"IF('Estimated Quantities'!D51=\"\",\"\",'Estimated Quantities'!D51)","v":"511"},{"$f":"IF('Estimated Quantities'!E51=\"\",\"\",'Estimated Quantities'!E51)","v":"53012"},{"$f":"IF('Estimated Quantities'!F51=\"\",\"\",'Estimated Quantities'!F51)","v":81},{"$f":"IF('Estimated Quantities'!G51=\"\",\"\",'Estimated Quantities'!G51)","v":"CY"},{"$f":"IF('Estimated Quantities'!H51=\"\",\"\",'Estimated Quantities'!H51)","v":"CLASS QC2 CONCRETE, MISC.: MOMENT SLAB"},{"$f":"IF('Estimated Quantities'!I51=\"\",\"\",'Estimated Quantities'!I51)","v":""},{"$f":"IF('Estimated Quantities'!J51=\"\",\"\",'Estimated Quantities'!J51)","v":""},{"$f":"IF('Estimated Quantities'!K51=\"\",\"\",'Estimated Quantities'!K51)","v":""},{"$f":"IF('Estimated Quantities'!L51=\"\",\"\",'Estimated Quantities'!L51)","v":81},{"$f":"IF('Estimated Quantities'!M51=\"\",\"\",'Estimated Quantities'!M51)","v":"S.02/45"}]
[null,null,null,{"$f":"IF('Estimated Quantities'!D52=\"\",\"\",'Estimated Quantities'!D52)","v":"511"},{"$f":"IF('Estimated Quantities'!E52=\"\",\"\",'Estimated Quantities'!E52)","v":"53014"},{"$f":"IF('Estimated Quantities'!F52=\"\",\"\",'Estimated Quantities'!F52)","v":48},{"$f":"IF('Estimated Quantities'!G52=\"\",\"\",'Estimated Quantities'!G52)","v":"CY"},{"$f":"IF('Estimated Quantities'!H52=\"\",\"\",'Estimated Quantities'!H52)","v":"CLASS QC3 CONCRETE, MISC.: WITH QC/QA, SUPERSTRUCTURE"},{"$f":"IF('Estimated Quantities'!I52=\"\",\"\",'Estimated Quantities'!I52)","v":41},{"$f":"IF('Estimated Quantities'!J52=\"\",\"\",'Estimated Quantities'!J52)","v":7},{"$f":"IF('Estimated Quantities'!K52=\"\",\"\",'Estimated Quantities'!K52)","v":""},{"$f":"IF('Estimated Quantities'!L52=\"\",\"\",'Estimated Quantities'!L52)","v":""},{"$f":"IF('Estimated Quantities'!M52=\"\",\"\",'Estimated Quantities'!M52)","v":"S.05/45"}]
[null,null,null,{"$f":"IF('Estimated Quantities'!D53=\"\",\"\",'Estimated Quantities'!D53)","v":"511"},{"$f":"IF('Estimated Quantities'!E53=\"\",\"\",'Estimated Quantities'!E53)","v":"53014"},{"$f":"IF('Estimated Quantities'!F53=\"\",\"\",'Estimated Quantities'!F53)","v":241.19908891435185},{"$f":"IF('Estimated Quantities'!G53=\"\",\"\",'Estimated Quantities'!G53)","v":"CY"},{"$f":"IF('Estimated Quantities'!H53=\"\",\"\",'Estimated Quantities'!H53)","v":"CLASS QC3 CONCRETE, MISC.: WITH QC/QA, BRIDGE DECK"},{"$f":"IF('Estimated Quantities'!I53=\"\",\"\",'Estimated Quantities'!I53)","v":""},{"$f":"IF('Estimated Quantities'!J53=\"\",\"\",'Estimated Quantities'!J53)","v":""},{"$f":"IF('Estimated Quantities'!K53=\"\",\"\",'Estimated Quantities'!K53)","v":241.19908891435185},{"$f":"IF('Estimated Quantities'!L53=\"\",\"\",'Estimated Quantities'!L53)","v":""},{"$f":"IF('Estimated Quantities'!M53=\"\",\"\",'Estimated Quantities'!M53)","v":"S.05/45"}]
[null,null,null,{"$f":"IF('Estimated Quantities'!D54=\"\",\"\",'Estimated Quantities'!D54)","v":"511"},{"$f":"IF('Estimated Quantities'!E54=\"\",\"\",'Estimated Quantities'!E54)","v":"53014"},{"$f":"IF('Estimated Quantities'!F54=\"\",\"\",'Estimated Quantities'!F54)","v":45},{"$f":"IF('Estimated Quantities'!G54=\"\",\"\",'Estimated Quantities'!G54)","v":"CY"},{"$f":"IF('Estimated Quantities'!H54=\"\",\"\",'Estimated Quantities'!H54)","v":"CLASS QC3 CONCRETE, MISC.: WITH QC/QA, PIER ABOVE FOOTINGS"},{"$f":"IF('Estimated Quantities'!I54=\"\",\"\",'Estimated Quantities'!I54)","v":""},{"$f":"IF('Estimated Quantities'!J54=\"\",\"\",'Estimated Quantities'!J54)","v":45},{"$f":"IF('Estimated Quantities'!K54=\"\",\"\",'Estimated Quantities'!K54)","v":""},{"$f":"IF('Estimated Quantities'!L54=\"\",\"\",'Estimated Quantities'!L54)","v":""},{"$f":"IF('Estimated Quantities'!M54=\"\",\"\",'Estimated Quantities'!M54)","v":"S.04/45"}]
[null,null,null,{"$f":"IF('Estimated Quantities'!D55=\"\",\"\",'Estimated Quantities'!D55)","v":"511"},{"$f":"IF('Estimated Quantities'!E55=\"\",\"\",'Estimated Quantities'!E55)","v":"53014"},{"$f":"IF('Estimated Quantities'!F55=\"\",\"\",'Estimated Quantities'!F55)","v":36},{"$f":"IF('Estimated Quantities'!G55=\"\",\"\",'Estimated Quantities'!G55)","v":"CY"},{"$f":"IF('Estimated Quantities'!H55=\"\",\"\",'Estimated Quantities'!H55)","v":"CLASS QC3 CONCRETE, MISC.:WITH QC/QA, SIDEWALK"},{"$f":"IF('Estimated Quantities'!I55=\"\",\"\",'Estimated Quantities'!I55)","v":""},{"$f":"IF('Estimated Quantities'!J55=\"\",\"\",'Estimated Quantities'!J55)","v":""},{"$f":"IF('Estimated Quantities'!K55=\"\",\"\",'Estimated Quantities'!K55)","v":36},{"$f":"IF('Estimated Quantities'!L55=\"\",\"\",'Estimated Quantities'!L55)","v":""},{"$f":"IF('Estimated Quantities'!M55=\"\",\"\",'Estimated Quantities'!M55)","v":"S.05/45"}]
[null,null,null,{"$f":"IF('Estimated Quantities'!D56=\"\",\"\",'Estimated Quantities'!D56)","v":""},{"$f":"IF('Estimated Quantities'!E56=\"\",\"\",'Estimated Quantities'!E56)","v":""},{"$f":"IF('Estimated Quantities'!F56=\"\",\"\",'Estimated Quantities'!F56)","v":""},{"$f":"IF('Estimated Quantities'!G56=\"\",\"\",'Estimated Quantities'!G56)","v":""},{"$f":"IF('Estimated Quantities'!H56=\"\",\"\",'Estimated Quantities'!H56)","v":""},{"$f":"IF('Estimated Quantities'!I56=\"\",\"\",'Estimated Quantities'!I56)","v":""},{"$f":"IF('Estimated Quantities'!J56=\"\",\"\",'Estimated Quantities'!J56)","v":""},{"$f":"IF('Estimated Quantities'!K56=\"\",\"\",'Estimated Quantities'!K56)","v":""},{"$f":"IF('Estimated Quantities'!L56=\"\",\"\",'Estimated Quantities'!L56)","v":""},{"$f":"IF('Estimated Quantities'!M56=\"\",\"\",'Estimated Quantities'!M56)","v":""}]
[null,null,null,{"$f":"IF('Estimated Quantities'!D57=\"\",\"\",'Estimated Quantities'!D57)","v":"512"},{"$f":"IF('Estimated Quantities'!E57=\"\",\"\",'Estimated Quantities'!E57)","v":"10050"},{"$f":"IF('Estimated Quantities'!F57=\"\",\"\",'Estimated Quantities'!F57)","v":231},{"$f":"IF('Estimated Quantities'!G57=\"\",\"\",'Estimated Quantities'!G57)","v":"SY"},{"$f":"IF('Estimated Quantities'!H57=\"\",\"\",'Estimated Quantities'!H57)","v":"SEALING OF CONCRETE SURFACES (NON-EPOXY)"},{"$f":"IF('Estimated Quantities'!I57=\"\",\"\",'Estimated Quantities'!I57)","v":""},{"$f":"IF('Estimated Quantities'!J57=\"\",\"\",'Estimated Quantities'!J57)","v":""},{"$f":"IF('Estimated Quantities'!K57=\"\",\"\",'Estimated Quantities'!K57)","v":""},{"$f":"IF('Estimated Quantities'!L57=\"\",\"\",'Estimated Quantities'!L57)","v":231},{"$f":"IF('Estimated Quantities'!M57=\"\",\"\",'Estimated Quantities'!M57)","v":""}]
[null,null,null,{"$f":"IF('Estimated Quantities'!D58=\"\",\"\",'Estimated Quantities'!D58)","v":"512"},{"$f":"IF('Estimated Quantities'!E58=\"\",\"\",'Estimated Quantities'!E58)","v":"10100"},{"$f":"IF('Estimated Quantities'!F58=\"\",\"\",'Estimated Quantities'!F58)","v":524},{"$f":"IF('Estimated Quantities'!G58=\"\",\"\",'Estimated Quantities'!G58)","v":"SY"},{"$f":"IF('Estimated Quantities'!H58=\"\",\"\",'Estimated Quantities'!H58)","v":"SEALING OF CONCRETE SURFACES (EPOXY-URETHANE) (LIGHT NEUTRAL) (MSE WALLS)"},{"$f":"IF('Estimated Quantities'!I58=\"\",\"\",'Estimated Quantities'!I58)","v":""},{"$f":"IF('Estimated Quantities'!J58=\"\",\"\",'Estimated Quantities'!J58)","v":""},{"$f":"IF('Estimated Quantities'!K58=\"\",\"\",'Estimated Quantities'!K58)","v":""},{"$f":"IF('Estimated Quantities'!L58=\"\",\"\",'Estimated Quantities'!L58)","v":524},{"$f":"IF('Estimated Quantities'!M58=\"\",\"\",'Estimated Quantities'!M58)","v":"S.02/45"}]
[null,null,null,{"$f":"IF('Estimated Quantities'!D59=\"\",\"\",'Estimated Quantities'!D59)","v":"512"},{"$f":"IF('Estimated Quantities'!E59=\"\",\"\",'Estimated Quantities'!E59)","v":"10100"},{"$f":"IF('Estimated Quantities'!F59=\"\",\"\",'Estimated Quantities'!F59)","v":770.81182324175018},{"$f":"IF('Estimated Quantities'!G59=\"\",\"\",'Estimated Quantities'!G59)","v":"SY"},{"$f":"IF('Estimated Quantities'!H59=\"\",\"\",'Estimated Quantities'!H59)","v":"SEALING OF CONCRETE SURFACES (EPOXY-URETHANE) (GRAY)"},{"$f":"IF('Estimated Quantities'!I59=\"\",\"\",'Estimated Quantities'!I59)","v":67.059614907185178},{"$f":"IF('Estimated Quantities'!J59=\"\",\"\",'Estimated Quantities'!J59)","v":47.752208334564997},{"$f":"IF('Estimated Quantities'!K59=\"\",\"\",'Estimated Quantities'!K59)","v":431},{"$f":"IF('Estimated Quantities'!L59=\"\",\"\",'Estimated Quantities'!L59)","v":225},{"$f":"IF('Estimated Quantities'!M59=\"\",\"\",'Estimated Quantities'!M59)","v":"S.02/45"}]
[null,null,null,{"$f":"IF('Estimated Quantities'!D62=\"\",\"\",'Estimated Quantities'!D62)","v":""},{"$f":"IF('Estimated Quantities'!E62=\"\",\"\",'Estimated Quantities'!E62)","v":""},{"$f":"IF('Estimated Quantities'!F62=\"\",\"\",'Estimated Quantities'!F62)","v":""},{"$f":"IF('Estimated Quantities'!G62=\"\",\"\",'Estimated Quantities'!G62)","v":""},{"$f":"IF('Estimated Quantities'!H62=\"\",\"\",'Estimated Quantities'!H62)","v":""},{"$f":"IF('Estimated Quantities'!I62=\"\",\"\",'Estimated Quantities'!I62)","v":""},{"$f":"IF('Estimated Quantities'!J62=\"\",\"\",'Estimated Quantities'!J62)","v":""},{"$f":"IF('Estimated Quantities'!K62=\"\",\"\",'Estimated Quantities'!K62)","v":""},{"$f":"IF('Estimated Quantities'!L62=\"\",\"\",'Estimated Quantities'!L62)","v":""},{"$f":"IF('Estimated Quantities'!M64=\"\",\"\",'Estimated Quantities'!M64)","v":""}]
[null,null,null,{"$f":"IF('Estimated Quantities'!D63=\"\",\"\",'Estimated Quantities'!D63)","v":"515"},{"$f":"IF('Estimated Quantities'!E63=\"\",\"\",'Estimated Quantities'!E63)","v":"15080"},{"$f":"IF('Estimated Quantities'!F63=\"\",\"\",'Estimated Quantities'!F63)","v":10},{"$f":"IF('Estimated Quantities'!G63=\"\",\"\",'Estimated Quantities'!G63)","v":"EACH"},{"$f":"IF('Estimated Quantities'!H63=\"\",\"\",'Estimated Quantities'!H63)","v":"DRAPED STRAND PRESTRESSED CONCRETE BRIDGE I-BEAM MEMBERS, LEVEL 3, TYPE WF42-49 (90'-7\" LENGTH)"},{"$f":"IF('Estimated Quantities'!I63=\"\",\"\",'Estimated Quantities'!I63)","v":""},{"$f":"IF('Estimated Quantities'!J63=\"\",\"\",'Estimated Quantities'!J63)","v":""},{"$f":"IF('Estimated Quantities'!K63=\"\",\"\",'Estimated Quantities'!K63)","v":10},{"$f":"IF('Estimated Quantities'!L63=\"\",\"\",'Estimated Quantities'!L63)","v":""},{"$f":"IF('Estimated Quantities'!M63=\"\",\"\",'Estimated Quantities'!M63)","v":""}]
[null,null,null,{"$f":"IF('Estimated Quantities'!D64=\"\",\"\",'Estimated Quantities'!D64)","v":"515"},{"$f":"IF('Estimated Quantities'!E64=\"\",\"\",'Estimated Quantities'!E64)","v":"20000"},{"$f":"IF('Estimated Quantities'!F64=\"\",\"\",'Estimated Quantities'!F64)","v":24},{"$f":"IF('Estimated Quantities'!G64=\"\",\"\",'Estimated Quantities'!G64)","v":"EACH"},{"$f":"IF('Estimated Quantities'!H64=\"\",\"\",'Estimated Quantities'!H64)","v":"INTERMEDIATE DIAPHRAGMS"},{"$f":"IF('Estimated Quantities'!I64=\"\",\"\",'Estimated Quantities'!I64)","v":""},{"$f":"IF('Estimated Quantities'!J64=\"\",\"\",'Estimated Quantities'!J64)","v":""},{"$f":"IF('Estimated Quantities'!K64=\"\",\"\",'Estimated Quantities'!K64)","v":24},{"$f":"IF('Estimated Quantities'!L64=\"\",\"\",'Estimated Quantities'!L64)","v":""},{"$f":"IF('Estimated Quantities'!M64=\"\",\"\",'Estimated Quantities'!M64)","v":""}]
[null,null,null,{"$f":"IF('Estimated Quantities'!D65=\"\",\"\",'Estimated Quantities'!D65)","v":""},{"$f":"IF('Estimated Quantities'!E65=\"\",\"\",'Estimated Quantities'!E65)","v":""},{"$f":"IF('Estimated Quantities'!F65=\"\",\"\",'Estimated Quantities'!F65)","v":""},{"$f":"IF('Estimated Quantities'!G65=\"\",\"\",'Estimated Quantities'!G65)","v":""},{"$f":"IF('Estimated Quantities'!H65=\"\",\"\",'Estimated Quantities'!H65)","v":""},{"$f":"IF('Estimated Quantities'!I65=\"\",\"\",'Estimated Quantities'!I65)","v":""},{"$f":"IF('Estimated Quantities'!J65=\"\",\"\",'Estimated Quantities'!J65)","v":""},{"$f":"IF('Estimated Quantities'!K65=\"\",\"\",'Estimated Quantities'!K65)","v":""},{"$f":"IF('Estimated Quantities'!L65=\"\",\"\",'Estimated Quantities'!L65)","v":""},{"$f":"IF('Estimated Quantities'!M65=\"\",\"\",'Estimated Quantities'!M65)","v":""}]
[null,null,null,{"$f":"IF('Estimated Quantities'!D66=\"\",\"\",'Estimated Quantities'!D66)","v":"516"},{"$f":"IF('Estimated Quantities'!E66=\"\",\"\",'Estimated Quantities'!E66)","v":"10010"},{"$f":"IF('Estimated Quantities'!F66=\"\",\"\",'Estimated Quantities'!F66)","v":78},{"$f":"IF('Estimated Quantities'!G66=\"\",\"\",'Estimated Quantities'!G66)","v":"FT"},{"$f":"IF('Estimated Quantities'!H66=\"\",\"\",'Estimated Quantities'!H66)","v":"ARMORLESS PREFORMED JOINT SEAL"},{"$f":"IF('Estimated Quantities'!I66=\"\",\"\",'Estimated Quantities'!I66)","v":""},{"$f":"IF('Estimated Quantities'!J66=\"\",\"\",'Estimated Quantities'!J66)","v":""},{"$f":"IF('Estimated Quantities'!K66=\"\",\"\",'Estimated Quantities'!K66)","v":""},{"$f":"IF('Estimated Quantities'!L66=\"\",\"\",'Estimated Quantities'!L66)","v":78},{"$f":"IF('Estimated Quantities'!M66=\"\",\"\",'Estimated Quantities'!M66)","v":""}]
[null,null,null,{"$f":"IF('Estimated Quantities'!D67=\"\",\"\",'Estimated Quantities'!D67)","v":"516"},{"$f":"IF('Estimated Quantities'!E67=\"\",\"\",'Estimated Quantities'!E67)","v":"13200"},{"$f":"IF('Estimated Quantities'!F67=\"\",\"\",'Estimated Quantities'!F67)","v":78},{"$f":"IF('Estimated Quantities'!G67=\"\",\"\",'Estimated Quantities'!G67)","v":"SF"},{"$f":"IF('Estimated Quantities'!H67=\"\",\"\",'Estimated Quantities'!H67)","v":"1/2\" PREFORMED EXPANSION JOINT FILLER"},{"$f":"IF('Estimated Quantities'!I67=\"\",\"\",'Estimated Quantities'!I67)","v":""},{"$f":"IF('Estimated Quantities'!J67=\"\",\"\",'Estimated Quantities'!J67)","v":""},{"$f":"IF('Estimated Quantities'!K67=\"\",\"\",'Estimated Quantities'!K67)","v":""},{"$f":"IF('Estimated Quantities'!L67=\"\",\"\",'Estimated Quantities'!L67)","v":78},{"$f":"IF('Estimated Quantities'!M67=\"\",\"\",'Estimated Quantities'!M67)","v":""}]
[null,null,null,{"$f":"IF('Estimated Quantities'!D68=\"\",\"\",'Estimated Quantities'!D68)","v":"516"},{"$f":"IF('Estimated Quantities'!E68=\"\",\"\",'Estimated Quantities'!E68)","v":"13600"},{"$f":"IF('Estimated Quantities'!F68=\"\",\"\",'Estimated Quantities'!F68)","v":15.666666666666666},{"$f":"IF('Estimated Quantities'!G68=\"\",\"\",'Estimated Quantities'!G68)","v":"SF"},{"$f":"IF('Estimated Quantities'!H68=\"\",\"\",'Estimated Quantities'!H68)","v":"1\" PREFORMED EXPANSION JOINT FILLER"},{"$f":"IF('Estimated Quantities'!I68=\"\",\"\",'Estimated Quantities'!I68)","v":""},{"$f":"IF('Estimated Quantities'!J68=\"\",\"\",'Estimated Quantities'!J68)","v":""},{"$f":"IF('Estimated Quantities'!K68=\"\",\"\",'Estimated Quantities'!K68)","v":""},{"$f":"IF('Estimated Quantities'!L68=\"\",\"\",'Estimated Quantities'!L68)","v":15.666666666666666},{"$f":"IF('Estimated Quantities'!M68=\"\",\"\",'Estimated Quantities'!M68)","v":""}]
[null,null,null,{"$f":"IF('Estimated Quantities'!D69=\"\",\"\",'Estimated Quantities'!D69)","v":"516"},{"$f":"IF('Estimated Quantities'!E69=\"\",\"\",'Estimated Quantities'!E69)","v":"13900"},{"$f":"IF('Estimated Quantities'!F69=\"\",\"\",'Estimated Quantities'!F69)","v":614},{"$f":"IF('Estimated Quantities'!G69=\"\",\"\",'Estimated Quantities'!G69)","v":"SF"},{"$f":"IF('Estimated Quantities'!H69=\"\",\"\",'Estimated Quantities'!H69)","v":"2\" PREFORMED EXPANSION JOINT FILLER"},{"$f":"IF('Estimated Quantities'!I69=\"\",\"\",'Estimated Quantities'!I69)","v":""},{"$f":"IF('Estimated Quantities'!J69=\"\",\"\",'Estimated Quantities'!J69)","v":""},{"$f":"IF('Estimated Quantities'!K69=\"\",\"\",'Estimated Quantities'!K69)","v":""},{"$f":"IF('Estimated Quantities'!L69=\"\",\"\",'Estimated Quantities'!L69)","v":614},{"$f":"IF('Estimated Quantities'!M69=\"\",\"\",'Estimated Quantities'!M69)","v":""}]
[null,null,null,{"$f":"IF('Estimated Quantities'!D70=\"\",\"\",'Estimated Quantities'!D70)","v":"516"},{"$f":"IF('Estimated Quantities'!E70=\"\",\"\",'Estimated Quantities'!E70)","v":"14020"},{"$f":"IF('Estimated Quantities'!F70=\"\",\"\",'Estimated Quantities'!F70)","v":77.666600000000003},{"$f":"IF('Estimated Quantities'!G70=\"\",\"\",'Estimated Quantities'!G70)","v":"FT"},{"$f":"IF('Estimated Quantities'!H70=\"\",\"\",'Estimated Quantities'!H70)","v":"SEMI-INTEGRAL ABUTMENT EXPANSION JOINT SEAL"},{"$f":"IF('Estimated Quantities'!I70=\"\",\"\",'Estimated Quantities'!I70)","v":77.666600000000003},{"$f":"IF('Estimated Quantities'!J70=\"\",\"\",'Estimated Quantities'!J70)","v":""},{"$f":"IF('Estimated Quantities'!K70=\"\",\"\",'Estimated Quantities'!K70)","v":""},{"$f":"IF('Estimated Quantities'!L70=\"\",\"\",'Estimated Quantities'!L70)","v":""},{"$f":"IF('Estimated Quantities'!M70=\"\",\"\",'Estimated Quantities'!M70)","v":""}]
[null,null,null,{"$f":"IF('Estimated Quantities'!D71=\"\",\"\",'Estimated Quantities'!D71)","v":"516"},{"$f":"IF('Estimated Quantities'!E71=\"\",\"\",'Estimated Quantities'!E71)","v":"44101"},{"$f":"IF('Estimated Quantities'!F71=\"\",\"\",'Estimated Quantities'!F71)","v":10},{"$f":"IF('Estimated Quantities'!G71=\"\",\"\",'Estimated Quantities'!G71)","v":"EACH"},{"$f":"IF('Estimated Quantities'!H71=\"\",\"\",'Estimated Quantities'!H71)","v":"ELASTOMERIC BEARING WITH INTERNAL LAMINATES AND LOAD PLATE (NEOPRENE), AS PER PLAN (2 9/16\" x 2'-4\" x 10\" WITH W-SECTION)"},{"$f":"IF('Estimated Quantities'!I71=\"\",\"\",'Estimated Quantities'!I71)","v":10},{"$f":"IF('Estimated Quantities'!J71=\"\",\"\",'Estimated Quantities'!J71)","v":""},{"$f":"IF('Estimated Quantities'!K71=\"\",\"\",'Estimated Quantities'!K71)","v":""},{"$f":"IF('Estimated Quantities'!L71=\"\",\"\",'Estimated Quantities'!L71)","v":""},{"$f":"IF('Estimated Quantities'!M71=\"\",\"\",'Estimated Quantities'!M71)","v":"S.21/45"}]
[null,null,null,{"$f":"IF('Estimated Quantities'!D72=\"\",\"\",'Estimated Quantities'!D72)","v":"516"},{"$f":"IF('Estimated Quantities'!E72=\"\",\"\",'Estimated Quantities'!E72)","v":"44101"},{"$f":"IF('Estimated Quantities'!F72=\"\",\"\",'Estimated Quantities'!F72)","v":10},{"$f":"IF('Estimated Quantities'!G72=\"\",\"\",'Estimated Quantities'!G72)","v":"EACH"},{"$f":"IF('Estimated Quantities'!H72=\"\",\"\",'Estimated Quantities'!H72)","v":"ELASTOMERIC BEARING WITH INTERNAL LAMINATES AND LOAD PLATE (NEOPRENE), AS PER PLAN (2 9/16\" x 2'-4\" x 10\")"},{"$f":"IF('Estimated Quantities'!I72=\"\",\"\",'Estimated Quantities'!I72)","v":""},{"$f":"IF('Estimated Quantities'!J72=\"\",\"\",'Estimated Quantities'!J72)","v":10},{"$f":"IF('Estimated Quantities'!K72=\"\",\"\",'Estimated Quantities'!K72)","v":""},{"$f":"IF('Estimated Quantities'!L72=\"\",\"\",'Estimated Quantities'!L72)","v":""},{"$f":"IF('Estimated Quantities'!M72=\"\",\"\",'Estimated Quantities'!M72)","v":"S.21/45"}]
[null,null,null,{"$f":"IF('Estimated Quantities'!D73=\"\",\"\",'Estimated Quantities'!D73)","v":""},{"$f":"IF('Estimated Quantities'!E73=\"\",\"\",'Estimated Quantities'!E73)","v":""},{"$f":"IF('Estimated Quantities'!F73=\"\",\"\",'Estimated Quantities'!F73)","v":""},{"$f":"IF('Estimated Quantities'!G73=\"\",\"\",'Estimated Quantities'!G73)","v":""},{"$f":"IF('Estimated Quantities'!H73=\"\",\"\",'Estimated Quantities'!H73)","v":""},{"$f":"IF('Estimated Quantities'!I73=\"\",\"\",'Estimated Quantities'!I73)","v":""},{"$f":"IF('Estimated Quantities'!J73=\"\",\"\",'Estimated Quantities'!J73)","v":""},{"$f":"IF('Estimated Quantities'!K73=\"\",\"\",'Estimated Quantities'!K73)","v":""},{"$f":"IF('Estimated Quantities'!L73=\"\",\"\",'Estimated Quantities'!L73)","v":""},{"$f":"IF('Estimated Quantities'!M73=\"\",\"\",'Estimated Quantities'!M73)","v":""}]
[null,null,null,{"$f":"IF('Estimated Quantities'!D74=\"\",\"\",'Estimated Quantities'!D74)","v":"526"},{"$f":"IF('Estimated Quantities'!E74=\"\",\"\",'Estimated Quantities'!E74)","v":"30011"},{"$f":"IF('Estimated Quantities'!F74=\"\",\"\",'Estimated Quantities'!F74)","v":258.88866666666667},{"$f":"IF('Estimated Quantities'!G74=\"\",\"\",'Estimated Quantities'!G74)","v":"SY"},{"$f":"IF('Estimated Quantities'!H74=\"\",\"\",'Estimated Quantities'!H74)","v":"REINFORCED CONCRETE APPROACH SLABS WITH QC/QA (T=17\"), AS PER PLAN"},{"$f":"IF('Estimated Quantities'!I74=\"\",\"\",'Estimated Quantities'!I74)","v":""},{"$f":"IF('Estimated Quantities'!J74=\"\",\"\",'Estimated Quantities'!J74)","v":""},{"$f":"IF('Estimated Quantities'!K74=\"\",\"\",'Estimated Quantities'!K74)","v":""},{"$f":"IF('Estimated Quantities'!L74=\"\",\"\",'Estimated Quantities'!L74)","v":258.88866666666667},{"$f":"IF('Estimated Quantities'!M74=\"\",\"\",'Estimated Quantities'!M74)","v":"S.03/45"}]
[null,null,null,{"$f":"IF('Estimated Quantities'!D75=\"\",\"\",'Estimated Quantities'!D75)","v":"526"},{"$f":"IF('Estimated Quantities'!E75=\"\",\"\",'Estimated Quantities'!E75)","v":"90031"},{"$f":"IF('Estimated Quantities'!F75=\"\",\"\",'Estimated Quantities'!F75)","v":77.666600000000003},{"$f":"IF('Estimated Quantities'!G75=\"\",\"\",'Estimated Quantities'!G75)","v":"FT"},{"$f":"IF('Estimated Quantities'!H75=\"\",\"\",'Estimated Quantities'!H75)","v":"TYPE C INSTALLATION, AS PER PLAN"},{"$f":"IF('Estimated Quantities'!I75=\"\",\"\",'Estimated Quantities'!I75)","v":""},{"$f":"IF('Estimated Quantities'!J75=\"\",\"\",'Estimated Quantities'!J75)","v":""},{"$f":"IF('Estimated Quantities'!K75=\"\",\"\",'Estimated Quantities'!K75)","v":""},{"$f":"IF('Estimated Quantities'!L75=\"\",\"\",'Estimated Quantities'!L75)","v":77.666600000000003},{"$f":"IF('Estimated Quantities'!M75=\"\",\"\",'Estimated Quantities'!M75)","v":"S.03/45"}]
[null,null,null,{"$f":"IF('Estimated Quantities'!D76=\"\",\"\",'Estimated Quantities'!D76)","v":""},{"$f":"IF('Estimated Quantities'!E76=\"\",\"\",'Estimated Quantities'!E76)","v":""},{"$f":"IF('Estimated Quantities'!F76=\"\",\"\",'Estimated Quantities'!F76)","v":""},{"$f":"IF('Estimated Quantities'!G76=\"\",\"\",'Estimated Quantities'!G76)","v":""},{"$f":"IF('Estimated Quantities'!H76=\"\",\"\",'Estimated Quantities'!H76)","v":""},{"$f":"IF('Estimated Quantities'!I76=\"\",\"\",'Estimated Quantities'!I76)","v":""},{"$f":"IF('Estimated Quantities'!J76=\"\",\"\",'Estimated Quantities'!J76)","v":""},{"$f":"IF('Estimated Quantities'!K76=\"\",\"\",'Estimated Quantities'!K76)","v":""},{"$f":"IF('Estimated Quantities'!L76=\"\",\"\",'Estimated Quantities'!L76)","v":""},{"$f":"IF('Estimated Quantities'!M76=\"\",\"\",'Estimated Quantities'!M76)","v":""}]
[null,null,null,"SPECIAL",53013000,{"$f":"IF('Estimated Quantities'!F77=\"\",\"\",'Estimated Quantities'!F77)","v":2147.5025000000001},{"$f":"IF('Estimated Quantities'!G77=\"\",\"\",'Estimated Quantities'!G77)","v":"SF"},"FORM LINER",{"$f":"IF('Estimated Quantities'!I77=\"\",\"\",'Estimated Quantities'!I77)","v":""},{"$f":"IF('Estimated Quantities'!J77=\"\",\"\",'Estimated Quantities'!J77)","v":""},{"$f":"IF('Estimated Quantities'!K77=\"\",\"\",'Estimated Quantities'!K77)","v":""},{"$f":"IF('Estimated Quantities'!L77=\"\",\"\",'Estimated Quantities'!L77)","v":2147.5025000000001},{"$f":"IF('Estimated Quantities'!M77=\"\",\"\",'Estimated Quantities'!M77)","v":"S.31/45"}]
[null,null,null,{"$f":"IF('Estimated Quantities'!D78=\"\",\"\",'Estimated Quantities'!D78)","v":""},{"$f":"IF('Estimated Quantities'!E78=\"\",\"\",'Estimated Quantities'!E78)","v":""},{"$f":"IF('Estimated Quantities'!F78=\"\",\"\",'Estimated Quantities'!F78)","v":""},{"$f":"IF('Estimated Quantities'!G78=\"\",\"\",'Estimated Quantities'!G78)","v":""},{"$f":"IF('Estimated Quantities'!H78=\"\",\"\",'Estimated Quantities'!H78)","v":""},{"$f":"IF('Estimated Quantities'!I78=\"\",\"\",'Estimated Quantities'!I78)","v":""},{"$f":"IF('Estimated Quantities'!J78=\"\",\"\",'Estimated Quantities'!J78)","v":""},{"$f":"IF('Estimated Quantities'!K78=\"\",\"\",'Estimated Quantities'!K78)","v":""},{"$f":"IF('Estimated Quantities'!L78=\"\",\"\",'Estimated Quantities'!L78)","v":""},{"$f":"IF('Estimated Quantities'!M78=\"\",\"\",'Estimated Quantities'!M78)","v":""}]
[null,null,null,{"$f":"IF('Estimated Quantities'!D79=\"\",\"\",'Estimated Quantities'!D79)","v":"601"},{"$f":"IF('Estimated Quantities'!E79=\"\",\"\",'Estimated Quantities'!E79)","v":"21000"},{"$f":"IF('Estimated Quantities'!F79=\"\",\"\",'Estimated Quantities'!F79)","v":17},{"$f":"IF('Estimated Quantities'!G79=\"\",\"\",'Estimated Quantities'!G79)","v":"SY"},{"$f":"IF('Estimated Quantities'!H79=\"\",\"\",'Estimated Quantities'!H79)","v":"CONCRETE SLOPE PROTECTION"},{"$f":"IF('Estimated Quantities'!I79=\"\",\"\",'Estimated Quantities'!I79)","v":17},{"$f":"IF('Estimated Quantities'!J79=\"\",\"\",'Estimated Quantities'!J79)","v":""},{"$f":"IF('Estimated Quantities'!K79=\"\",\"\",'Estimated Quantities'!K79)","v":""},{"$f":"IF('Estimated Quantities'!L79=\"\",\"\",'Estimated Quantities'!L79)","v":""},{"$f":"IF('Estimated Quantities'!M79=\"\",\"\",'Estimated Quantities'!M79)","v":""}]
[null,null,null,{"$f":"IF('Estimated Quantities'!D80=\"\",\"\",'Estimated Quantities'!D80)","v":""},{"$f":"IF('Estimated Quantities'!E80=\"\",\"\",'Estimated Quantities'!E80)","v":""},{"$f":"IF('Estimated Quantities'!F80=\"\",\"\",'Estimated Quantities'!F80)","v":""},{"$f":"IF('Estimated Quantities'!G80=\"\",\"\",'Estimated Quantities'!G80)","v":""},{"$f":"IF('Estimated Quantities'!H80=\"\",\"\",'Estimated Quantities'!H80)","v":""},{"$f":"IF('Estimated Quantities'!I80=\"\",\"\",'Estimated Quantities'!I80)","v":""},{"$f":"IF('Estimated Quantities'!J80=\"\",\"\",'Estimated Quantities'!J80)","v":""},{"$f":"IF('Estimated Quantities'!K80=\"\",\"\",'Estimated Quantities'!K80)","v":""},{"$f":"IF('Estimated Quantities'!L80=\"\",\"\",'Estimated Quantities'!L80)","v":""},{"$f":"IF('Estimated Quantities'!M80=\"\",\"\",'Estimated Quantities'!M80)","v":""}]
[null,null,null,{"$f":"IF('Estimated Quantities'!D86=\"\",\"\",'Estimated Quantities'!D86)","v":"622"},{"$f":"IF('Estimated Quantities'!E86=\"\",\"\",'Estimated Quantities'!E86)","v":"25000"},{"$f":"IF('Estimated Quantities'!F86=\"\",\"\",'Estimated Quantities'!F86)","v":1},{"$f":"IF('Estimated Quantities'!G86=\"\",\"\",'Estimated Quantities'!G86)","v":"EACH"},{"$f":"IF('Estimated Quantities'!H86=\"\",\"\",'Estimated Quantities'!H86)","v":"CONCRETE BARRIER END SECTION, TYPE D"},{"$f":"IF('Estimated Quantities'!I86=\"\",\"\",'Estimated Quantities'!I86)","v":""},{"$f":"IF('Estimated Quantities'!J86=\"\",\"\",'Estimated Quantities'!J86)","v":""},{"$f":"IF('Estimated Quantities'!K86=\"\",\"\",'Estimated Quantities'!K86)","v":""},{"$f":"IF('Estimated Quantities'!L86=\"\",\"\",'Estimated Quantities'!L86)","v":1},{"$f":"IF('Estimated Quantities'!M86=\"\",\"\",'Estimated Quantities'!M86)","v":""}]
[null,null,null,{"$f":"IF('Estimated Quantities'!D87=\"\",\"\",'Estimated Quantities'!D87)","v":""},{"$f":"IF('Estimated Quantities'!E87=\"\",\"\",'Estimated Quantities'!E87)","v":""},{"$f":"IF('Estimated Quantities'!F87=\"\",\"\",'Estimated Quantities'!F87)","v":""},{"$f":"IF('Estimated Quantities'!G87=\"\",\"\",'Estimated Quantities'!G87)","v":""},{"$f":"IF('Estimated Quantities'!H87=\"\",\"\",'Estimated Quantities'!H87)","v":""},{"$f":"IF('Estimated Quantities'!I87=\"\",\"\",'Estimated Quantities'!I87)","v":""},{"$f":"IF('Estimated Quantities'!J87=\"\",\"\",'Estimated Quantities'!J87)","v":""},{"$f":"IF('Estimated Quantities'!K87=\"\",\"\",'Estimated Quantities'!K87)","v":""},{"$f":"IF('Estimated Quantities'!L87=\"\",\"\",'Estimated Quantities'!L87)","v":""},{"$f":"IF('Estimated Quantities'!M87=\"\",\"\",'Estimated Quantities'!M87)","v":""}]
[null,null,null,{"$f":"IF('Estimated Quantities'!D88=\"\",\"\",'Estimated Quantities'!D88)","v":"625"},{"$f":"IF('Estimated Quantities'!E88=\"\",\"\",'Estimated Quantities'!E88)","v":"25502"},{"$f":"IF('Estimated Quantities'!F88=\"\",\"\",'Estimated Quantities'!F88)","v":660},{"$f":"IF('Estimated Quantities'!G88=\"\",\"\",'Estimated Quantities'!G88)","v":"FT"},{"$f":"IF('Estimated Quantities'!H88=\"\",\"\",'Estimated Quantities'!H88)","v":"CONDUIT, 3\", 725.05"},{"$f":"IF('Estimated Quantities'!I88=\"\",\"\",'Estimated Quantities'!I88)","v":""},{"$f":"IF('Estimated Quantities'!J88=\"\",\"\",'Estimated Quantities'!J88)","v":""},{"$f":"IF('Estimated Quantities'!K88=\"\",\"\",'Estimated Quantities'!K88)","v":""},{"$f":"IF('Estimated Quantities'!L88=\"\",\"\",'Estimated Quantities'!L88)","v":660},{"$f":"IF('Estimated Quantities'!M88=\"\",\"\",'Estimated Quantities'!M88)","v":""}]
[null,null,null,{"$f":"IF('Estimated Quantities'!D89=\"\",\"\",'Estimated Quantities'!D89)","v":"625"},{"$f":"IF('Estimated Quantities'!E89=\"\",\"\",'Estimated Quantities'!E89)","v":"29920"},{"$f":"IF('Estimated Quantities'!F89=\"\",\"\",'Estimated Quantities'!F89)","v":2},{"$f":"IF('Estimated Quantities'!G89=\"\",\"\",'Estimated Quantities'!G89)","v":"EACH"},{"$f":"IF('Estimated Quantities'!H89=\"\",\"\",'Estimated Quantities'!H89)","v":"STRUCTURE JUNCTION BOX"},{"$f":"IF('Estimated Quantities'!I89=\"\",\"\",'Estimated Quantities'!I89)","v":""},{"$f":"IF('Estimated Quantities'!J89=\"\",\"\",'Estimated Quantities'!J89)","v":""},{"$f":"IF('Estimated Quantities'!K89=\"\",\"\",'Estimated Quantities'!K89)","v":""},{"$f":"IF('Estimated Quantities'!L89=\"\",\"\",'Estimated Quantities'!L89)","v":2},{"$f":"IF('Estimated Quantities'!M89=\"\",\"\",'Estimated Quantities'!M89)","v":""}]
[null,null,null,{"$f":"IF('Estimated Quantities'!D90=\"\",\"\",'Estimated Quantities'!D90)","v":"625"},{"$f":"IF('Estimated Quantities'!E90=\"\",\"\",'Estimated Quantities'!E90)","v":"30520"},{"$f":"IF('Estimated Quantities'!F90=\"\",\"\",'Estimated Quantities'!F90)","v":4},{"$f":"IF('Estimated Quantities'!G90=\"\",\"\",'Estimated Quantities'!G90)","v":"EACH"},{"$f":"IF('Estimated Quantities'!H90=\"\",\"\",'Estimated Quantities'!H90)","v":"PULL BOX, 725.06, SIZE 7"},{"$f":"IF('Estimated Quantities'!I90=\"\",\"\",'Estimated Quantities'!I90)","v":""},{"$f":"IF('Estimated Quantities'!J90=\"\",\"\",'Estimated Quantities'!J90)","v":""},{"$f":"IF('Estimated Quantities'!K90=\"\",\"\",'Estimated Quantities'!K90)","v":""},{"$f":"IF('Estimated Quantities'!L90=\"\",\"\",'Estimated Quantities'!L90)","v":4},{"$f":"IF('Estimated Quantities'!M90=\"\",\"\",'Estimated Quantities'!M90)","v":""}]
[null,null,null,{"$f":"IF('Estimated Quantities'!D91=\"\",\"\",'Estimated Quantities'!D91)","v":"625"},{"$f":"IF('Estimated Quantities'!E91=\"\",\"\",'Estimated Quantities'!E91)","v":"33000"},{"$f":"IF('Estimated Quantities'!F91=\"\",\"\",'Estimated Quantities'!F91)","v":1},{"$f":"IF('Estimated Quantities'!G91=\"\",\"\",'Estimated Quantities'!G91)","v":"EACH"},{"$f":"IF('Estimated Quantities'!H91=\"\",\"\",'Estimated Quantities'!H91)","v":"STRUCTURE GROUNDING SYSTEM"},{"$f":"IF('Estimated Quantities'!I91=\"\",\"\",'Estimated Quantities'!I91)","v":""},{"$f":"IF('Estimated Quantities'!J91=\"\",\"\",'Estimated Quantities'!J91)","v":""},{"$f":"IF('Estimated Quantities'!K91=\"\",\"\",'Estimated Quantities'!K91)","v":""},{"$f":"IF('Estimated Quantities'!L91=\"\",\"\",'Estimated Quantities'!L91)","v":1},{"$f":"IF('Estimated Quantities'!M91=\"\",\"\",'Estimated Quantities'!M91)","v":""}]
[null,null,null,{"$f":"IF('Estimated Quantities'!D92=\"\",\"\",'Estimated Quantities'!D92)","v":""},{"$f":"IF('Estimated Quantities'!E92=\"\",\"\",'Estimated Quantities'!E92)","v":""},{"$f":"IF('Estimated Quantities'!F92=\"\",\"\",'Estimated Quantities'!F92)","v":""},{"$f":"IF('Estimated Quantities'!G92=\"\",\"\",'Estimated Quantities'!G92)","v":""},{"$f":"IF('Estimated Quantities'!H92=\"\",\"\",'Estimated Quantities'!H92)","v":""},{"$f":"IF('Estimated Quantities'!I92=\"\",\"\",'Estimated Quantities'!I92)","v":""},{"$f":"IF('Estimated Quantities'!J92=\"\",\"\",'Estimated Quantities'!J92)","v":""},{"$f":"IF('Estimated Quantities'!K92=\"\",\"\",'Estimated Quantities'!K92)","v":""},{"$f":"IF('Estimated Quantities'!L92=\"\",\"\",'Estimated Quantities'!L92)","v":""},{"$f":"IF('Estimated Quantities'!M92=\"\",\"\",'Estimated Quantities'!M92)","v":""}]
[null,null,null,{"$f":"IF('Estimated Quantities'!D93=\"\",\"\",'Estimated Quantities'!D93)","v":"840"},{"$f":"IF('Estimated Quantities'!E93=\"\",\"\",'Estimated Quantities'!E93)","v":"20000"},{"$f":"IF('Estimated Quantities'!F93=\"\",\"\",'Estimated Quantities'!F93)","v":6246},{"$f":"IF('Estimated Quantities'!G93=\"\",\"\",'Estimated Quantities'!G93)","v":"SF"},{"$f":"IF('Estimated Quantities'!H93=\"\",\"\",'Estimated Quantities'!H93)","v":"MECHANICALLY STABILIZED EARTH WALL"},{"$f":"IF('Estimated Quantities'!I93=\"\",\"\",'Estimated Quantities'!I93)","v":""},{"$f":"IF('Estimated Quantities'!J93=\"\",\"\",'Estimated Quantities'!J93)","v":""},{"$f":"IF('Estimated Quantities'!K93=\"\",\"\",'Estimated Quantities'!K93)","v":""},{"$f":"IF('Estimated Quantities'!L93=\"\",\"\",'Estimated Quantities'!L93)","v":6246},{"$f":"IF('Estimated Quantities'!M93=\"\",\"\",'Estimated Quantities'!M93)","v":""}]
[null,null,null,{"$f":"IF('Estimated Quantities'!D94=\"\",\"\",'Estimated Quantities'!D94)","v":"840"},{"$f":"IF('Estimated Quantities'!E94=\"\",\"\",'Estimated Quantities'!E94)","v":"21000"},{"$f":"IF('Estimated Quantities'!F94=\"\",\"\",'Estimated Quantities'!F94)","v":1588},{"$f":"IF('Estimated Quantities'!G94=\"\",\"\",'Estimated Quantities'!G94)","v":"CY"},{"$f":"IF('Estimated Quantities'!H94=\"\",\"\",'Estimated Quantities'!H94)","v":"WALL EXCAVATION"},{"$f":"IF('Estimated Quantities'!I94=\"\",\"\",'Estimated Quantities'!I94)","v":""},{"$f":"IF('Estimated Quantities'!J94=\"\",\"\",'Estimated Quantities'!J94)","v":""},{"$f":"IF('Estimated Quantities'!K94=\"\",\"\",'Estimated Quantities'!K94)","v":""},{"$f":"IF('Estimated Quantities'!L94=\"\",\"\",'Estimated Quantities'!L94)","v":1588},{"$f":"IF('Estimated Quantities'!M94=\"\",\"\",'Estimated Quantities'!M94)","v":""}]
[null,null,null,{"$f":"IF('Estimated Quantities'!D95=\"\",\"\",'Estimated Quantities'!D95)","v":"840"},{"$f":"IF('Estimated Quantities'!E95=\"\",\"\",'Estimated Quantities'!E95)","v":"22000"},{"$f":"IF('Estimated Quantities'!F95=\"\",\"\",'Estimated Quantities'!F95)","v":566},{"$f":"IF('Estimated Quantities'!G95=\"\",\"\",'Estimated Quantities'!G95)","v":"SY"},{"$f":"IF('Estimated Quantities'!H95=\"\",\"\",'Estimated Quantities'!H95)","v":"FOUNDATION PREPARATION"},{"$f":"IF('Estimated Quantities'!I95=\"\",\"\",'Estimated Quantities'!I95)","v":""},{"$f":"IF('Estimated Quantities'!J95=\"\",\"\",'Estimated Quantities'!J95)","v":""},{"$f":"IF('Estimated Quantities'!K95=\"\",\"\",'Estimated Quantities'!K95)","v":""},{"$f":"IF('Estimated Quantities'!L95=\"\",\"\",'Estimated Quantities'!L95)","v":566},{"$f":"IF('Estimated Quantities'!M95=\"\",\"\",'Estimated Quantities'!M95)","v":""}]
[null,null,null,{"$f":"IF('Estimated Quantities'!D96=\"\",\"\",'Estimated Quantities'!D96)","v":"840"},{"$f":"IF('Estimated Quantities'!E96=\"\",\"\",'Estimated Quantities'!E96)","v":"23000"},{"$f":"IF('Estimated Quantities'!F96=\"\",\"\",'Estimated Quantities'!F96)","v":2817},{"$f":"IF('Estimated Quantities'!G96=\"\",\"\",'Estimated Quantities'!G96)","v":"CY"},{"$f":"IF('Estimated Quantities'!H96=\"\",\"\",'Estimated Quantities'!H96)","v":"SELECT GRANULAR BACKFILL"},{"$f":"IF('Estimated Quantities'!I96=\"\",\"\",'Estimated Quantities'!I96)","v":""},{"$f":"IF('Estimated Quantities'!J96=\"\",\"\",'Estimated Quantities'!J96)","v":""},{"$f":"IF('Estimated Quantities'!K96=\"\",\"\",'Estimated Quantities'!K96)","v":""},{"$f":"IF('Estimated Quantities'!L96=\"\",\"\",'Estimated Quantities'!L96)","v":2817},{"$f":"IF('Estimated Quantities'!M96=\"\",\"\",'Estimated Quantities'!M96)","v":""}]
[null,null,null,{"$f":"IF('Estimated Quantities'!D97=\"\",\"\",'Estimated Quantities'!D97)","v":"840"},{"$f":"IF('Estimated Quantities'!E97=\"\",\"\",'Estimated Quantities'!E97)","v":"25010"},{"$f":"IF('Estimated Quantities'!F97=\"\",\"\",'Estimated Quantities'!F97)","v":306},{"$f":"IF('Estimated Quantities'!G97=\"\",\"\",'Estimated Quantities'!G97)","v":"FT"},{"$f":"IF('Estimated Quantities'!H97=\"\",\"\",'Estimated Quantities'!H97)","v":"6\" DRAINAGE PIPE, PERFORATED"},{"$f":"IF('Estimated Quantities'!I97=\"\",\"\",'Estimated Quantities'!I97)","v":""},{"$f":"IF('Estimated Quantities'!J97=\"\",\"\",'Estimated Quantities'!J97)","v":""},{"$f":"IF('Estimated Quantities'!K97=\"\",\"\",'Estimated Quantities'!K97)","v":""},{"$f":"IF('Estimated Quantities'!L97=\"\",\"\",'Estimated Quantities'!L97)","v":306},{"$f":"IF('Estimated Quantities'!M97=\"\",\"\",'Estimated Quantities'!M97)","v":""}]
[null,null,null,{"$f":"IF('Estimated Quantities'!D98=\"\",\"\",'Estimated Quantities'!D98)","v":"840"},{"$f":"IF('Estimated Quantities'!E98=\"\",\"\",'Estimated Quantities'!E98)","v":"25020"},{"$f":"IF('Estimated Quantities'!F98=\"\",\"\",'Estimated Quantities'!F98)","v":10},{"$f":"IF('Estimated Quantities'!G98=\"\",\"\",'Estimated Quantities'!G98)","v":"FT"},{"$f":"IF('Estimated Quantities'!H98=\"\",\"\",'Estimated Quantities'!H98)","v":"6\" DRAINAGE PIPE, NON-PERFORATED"},{"$f":"IF('Estimated Quantities'!I98=\"\",\"\",'Estimated Quantities'!I98)","v":""},{"$f":"IF('Estimated Quantities'!J98=\"\",\"\",'Estimated Quantities'!J98)","v":""},{"$f":"IF('Estimated Quantities'!K98=\"\",\"\",'Estimated Quantities'!K98)","v":""},{"$f":"IF('Estimated Quantities'!L98=\"\",\"\",'Estimated Quantities'!L98)","v":10},{"$f":"IF('Estimated Quantities'!M98=\"\",\"\",'Estimated Quantities'!M98)","v":""}]
[null,null,null,{"$f":"IF('Estimated Quantities'!D99=\"\",\"\",'Estimated Quantities'!D99)","v":"840"},{"$f":"IF('Estimated Quantities'!E99=\"\",\"\",'Estimated Quantities'!E99)","v":"26000"},{"$f":"IF('Estimated Quantities'!F99=\"\",\"\",'Estimated Quantities'!F99)","v":337},{"$f":"IF('Estimated Quantities'!G99=\"\",\"\",'Estimated Quantities'!G99)","v":"FT"},{"$f":"IF('Estimated Quantities'!H99=\"\",\"\",'Estimated Quantities'!H99)","v":"CONCRETE COPING"},{"$f":"IF('Estimated Quantities'!I99=\"\",\"\",'Estimated Quantities'!I99)","v":""},{"$f":"IF('Estimated Quantities'!J99=\"\",\"\",'Estimated Quantities'!J99)","v":""},{"$f":"IF('Estimated Quantities'!K99=\"\",\"\",'Estimated Quantities'!K99)","v":""},{"$f":"IF('Estimated Quantities'!L99=\"\",\"\",'Estimated Quantities'!L99)","v":337},{"$f":"IF('Estimated Quantities'!M99=\"\",\"\",'Estimated Quantities'!M99)","v":""}]
[null,null,null,{"$f":"IF('Estimated Quantities'!D100=\"\",\"\",'Estimated Quantities'!D100)","v":"840"},{"$f":"IF('Estimated Quantities'!E100=\"\",\"\",'Estimated Quantities'!E100)","v":"27000"},{"$f":"IF('Estimated Quantities'!F100=\"\",\"\",'Estimated Quantities'!F100)","v":5},{"$f":"IF('Estimated Quantities'!G100=\"\",\"\",'Estimated Quantities'!G100)","v":"DAY"},{"$f":"IF('Estimated Quantities'!H100=\"\",\"\",'Estimated Quantities'!H100)","v":"ON-SITE ASSISTANCE"},{"$f":"IF('Estimated Quantities'!I100=\"\",\"\",'Estimated Quantities'!I100)","v":""},{"$f":"IF('Estimated Quantities'!J100=\"\",\"\",'Estimated Quantities'!J100)","v":""},{"$f":"IF('Estimated Quantities'!K100=\"\",\"\",'Estimated Quantities'!K100)","v":""},{"$f":"IF('Estimated Quantities'!L100=\"\",\"\",'Estimated Quantities'!L100)","v":5},{"$f":"IF('Estimated Quantities'!M100=\"\",\"\",'Estimated Quantities'!M100)","v":""}]
[null,null,null,{"$f":"IF('Estimated Quantities'!D101=\"\",\"\",'Estimated Quantities'!D101)","v":""},{"$f":"IF('Estimated Quantities'!E101=\"\",\"\",'Estimated Quantities'!E101)","v":""},{"$f":"IF('Estimated Quantities'!F101=\"\",\"\",'Estimated Quantities'!F101)","v":""},{"$f":"IF('Estimated Quantities'!G101=\"\",\"\",'Estimated Quantities'!G101)","v":""},{"$f":"IF('Estimated Quantities'!H101=\"\",\"\",'Estimated Quantities'!H101)","v":""},{"$f":"IF('Estimated Quantities'!I101=\"\",\"\",'Estimated Quantities'!I101)","v":""},{"$f":"IF('Estimated Quantities'!J101=\"\",\"\",'Estimated Quantities'!J101)","v":""},{"$f":"IF('Estimated Quantities'!K101=\"\",\"\",'Estimated Quantities'!K101)","v":""},{"$f":"IF('Estimated Quantities'!L101=\"\",\"\",'Estimated Quantities'!L101)","v":""},{"$f":"IF('Estimated Quantities'!M101=\"\",\"\",'Estimated Quantities'!M101)","v":""}]
[null,null,null,{"$f":"IF('Estimated Quantities'!D102=\"\",\"\",'Estimated Quantities'!D102)","v":"878"},{"$f":"IF('Estimated Quantities'!E102=\"\",\"\",'Estimated Quantities'!E102)","v":"25000"},{"$f":"IF('Estimated Quantities'!F102=\"\",\"\",'Estimated Quantities'!F102)","v":"LUMP"},{"$f":"IF('Estimated Quantities'!G102=\"\",\"\",'Estimated Quantities'!G102)","v":""},{"$f":"IF('Estimated Quantities'!H102=\"\",\"\",'Estimated Quantities'!H102)","v":"INSPECTION AND COMPACTION TESTING OF UNBOUND MATERIALS"},{"$f":"IF('Estimated Quantities'!I102=\"\",\"\",'Estimated Quantities'!I102)","v":""},{"$f":"IF('Estimated Quantities'!J102=\"\",\"\",'Estimated Quantities'!J102)","v":""},{"$f":"IF('Estimated Quantities'!K102=\"\",\"\",'Estimated Quantities'!K102)","v":""},{"$f":"IF('Estimated Quantities'!L102=\"\",\"\",'Estimated Quantities'!L102)","v":""},{"$f":"IF('Estimated Quantities'!M102=\"\",\"\",'Estimated Quantities'!M102)","v":""}]
[null,null,null,{"$f":"IF('Estimated Quantities'!D103=\"\",\"\",'Estimated Quantities'!D103)","v":""},{"$f":"IF('Estimated Quantities'!E103=\"\",\"\",'Estimated Quantities'!E103)","v":""},{"$f":"IF('Estimated Quantities'!F103=\"\",\"\",'Estimated Quantities'!F103)","v":""},{"$f":"IF('Estimated Quantities'!G103=\"\",\"\",'Estimated Quantities'!G103)","v":""},{"$f":"IF('Estimated Quantities'!H103=\"\",\"\",'Estimated Quantities'!H103)","v":""},{"$f":"IF('Estimated Quantities'!I103=\"\",\"\",'Estimated Quantities'!I103)","v":""},{"$f":"IF('Estimated Quantities'!J103=\"\",\"\",'Estimated Quantities'!J103)","v":""},{"$f":"IF('Estimated Quantities'!K103=\"\",\"\",'Estimated Quantities'!K103)","v":""},{"$f":"IF('Estimated Quantities'!L103=\"\",\"\",'Estimated Quantities'!L103)","v":""},{"$f":"IF('Estimated Quantities'!M103=\"\",\"\",'Estimated Quantities'!M103)","v":""}]
[null,null,null,{"$f":"IF('Estimated Quantities'!D104=\"\",\"\",'Estimated Quantities'!D104)","v":""},{"$f":"IF('Estimated Quantities'!E104=\"\",\"\",'Estimated Quantities'!E104)","v":""},{"$f":"IF('Estimated Quantities'!F104=\"\",\"\",'Estimated Quantities'!F104)","v":""},{"$f":"IF('Estimated Quantities'!G104=\"\",\"\",'Estimated Quantities'!G104)","v":""},{"$f":"IF('Estimated Quantities'!H104=\"\",\"\",'Estimated Quantities'!H104)","v":""},{"$f":"IF('Estimated Quantities'!I104=\"\",\"\",'Estimated Quantities'!I104)","v":""},{"$f":"IF('Estimated Quantities'!J104=\"\",\"\",'Estimated Quantities'!J104)","v":""},{"$f":"IF('Estimated Quantities'!K104=\"\",\"\",'Estimated Quantities'!K104)","v":""},{"$f":"IF('Estimated Quantities'!L104=\"\",\"\",'Estimated Quantities'!L104)","v":""},{"$f":"IF('Estimated Quantities'!M104=\"\",\"\",'Estimated Quantities'!M104)","v":""}]

{"sheet":"For Sheets - Alts","index":59,"n_rows":20,"n_cols":13,"rows_kept":20,"cut":false,"hidden":false,"merged":[[14,3,14,12],[1,8,1,12],[2,3,2,4],[2,7,3,7],[3,3,3,4],[4,3,5,3],[4,4,5,4],[4,5,5,5],[4,6,5,6],[4,7,5,7],[4,8,5,8],[4,9,5,9],[4,10,5,10],[4,11,5,11],[4,12,5,12],[7,3,7,12]]}
[]
[null,null,null,null,null,null,null,null,"Quantity Categories"]
[null,null,null,{"$f":"CONCATENATE(\"MADE BY:  \",'Calc Cover Sheet'!B11)","v":"MADE BY:  BMV"},null,"DATE:  ",{"$f":"'Calc Cover Sheet'!D11","v":"2024-04-19"},"ESTIMATED QUANTITIES"]
[null,null,null,{"$f":"CONCATENATE(\"CHECKED BY:  \",'Calc Cover Sheet'!B12)","v":"CHECKED BY:  TLC"},null,"DATE:  ",{"$f":"'Calc Cover Sheet'!D12","v":"2024-04-25"}]
[null,null,null,"ITEM","EXTENSION","01/IMS/10","UNIT","DESCRIPTION","ABUT.","PIER","SUPER.","GEN.","REFERENCE SHEET NO."]
[]
[]
[null,null,null,"ALTERNATIVE 1"]
[]
[null,null,null,{"$f":"IF('Estimated Quantities'!D60=\"\",\"\",'Estimated Quantities'!D60)","v":"512"},{"$f":"IF('Estimated Quantities'!E60=\"\",\"\",'Estimated Quantities'!E60)","v":"10100"},{"$f":"IF('Estimated Quantities'!F60=\"\",\"\",'Estimated Quantities'!F60)","v":366},{"$f":"IF('Estimated Quantities'!G60=\"\",\"\",'Estimated Quantities'!G60)","v":"SY"},{"$f":"IF('Estimated Quantities'!H60=\"\",\"\",'Estimated Quantities'!H60)","v":"SEALING OF CONCRETE SURFACES (EPOXY-URETHANE) (GRAY) (FASCIA BEAMS) (ALTERNATIVE 1)"},{"$f":"IF('Estimated Quantities'!I60=\"\",\"\",'Estimated Quantities'!I60)","v":""},{"$f":"IF('Estimated Quantities'!J60=\"\",\"\",'Estimated Quantities'!J60)","v":""},{"$f":"IF('Estimated Quantities'!K60=\"\",\"\",'Estimated Quantities'!K60)","v":366},{"$f":"IF('Estimated Quantities'!L60=\"\",\"\",'Estimated Quantities'!L60)","v":""},{"$f":"IF('Estimated Quantities'!M60=\"\",\"\",'Estimated Quantities'!M60)","v":""}]
[null,null,null,null,null,null,null,null,null,{"$f":"IF('Estimated Quantities'!J99=\"\",\"\",'Estimated Quantities'!J99)","v":""}]
[null,null,null,{"$f":"IF('Estimated Quantities'!D81=\"\",\"\",'Estimated Quantities'!D81)","v":"607"},{"$f":"IF('Estimated Quantities'!E81=\"\",\"\",'Estimated Quantities'!E81)","v":"39900"},{"$f":"IF('Estimated Quantities'!F81=\"\",\"\",'Estimated Quantities'!F81)","v":178},{"$f":"IF('Estimated Quantities'!G81=\"\",\"\",'Estimated Quantities'!G81)","v":"FT"},{"$f":"IF('Estimated Quantities'!H81=\"\",\"\",'Estimated Quantities'!H81)","v":"VANDAL PROTECTION FENCE, 6' STRAIGHT, COATED FABRIC (ALTERNATIVE 1)"},{"$f":"IF('Estimated Quantities'!I81=\"\",\"\",'Estimated Quantities'!I81)","v":""},{"$f":"IF('Estimated Quantities'!J81=\"\",\"\",'Estimated Quantities'!J81)","v":""},{"$f":"IF('Estimated Quantities'!K81=\"\",\"\",'Estimated Quantities'!K81)","v":""},{"$f":"IF('Estimated Quantities'!L81=\"\",\"\",'Estimated Quantities'!L81)","v":178},{"$f":"IF('Estimated Quantities'!M81=\"\",\"\",'Estimated Quantities'!M81)","v":""}]
[null,null,null,{"$f":"IF('Estimated Quantities'!D82=\"\",\"\",'Estimated Quantities'!D82)","v":"607"},{"$f":"IF('Estimated Quantities'!E82=\"\",\"\",'Estimated Quantities'!E82)","v":"39930"},{"$f":"IF('Estimated Quantities'!F82=\"\",\"\",'Estimated Quantities'!F82)","v":178},{"$f":"IF('Estimated Quantities'!G82=\"\",\"\",'Estimated Quantities'!G82)","v":"FT"},{"$f":"IF('Estimated Quantities'!H82=\"\",\"\",'Estimated Quantities'!H82)","v":"VANDAL PROTECTION FENCE, 12' CURVED, COATED FABRIC (ALTERNATIVE 1)"},{"$f":"IF('Estimated Quantities'!I82=\"\",\"\",'Estimated Quantities'!I82)","v":""},{"$f":"IF('Estimated Quantities'!J82=\"\",\"\",'Estimated Quantities'!J82)","v":""},{"$f":"IF('Estimated Quantities'!K82=\"\",\"\",'Estimated Quantities'!K82)","v":""},{"$f":"IF('Estimated Quantities'!L82=\"\",\"\",'Estimated Quantities'!L82)","v":178},{"$f":"IF('Estimated Quantities'!M82=\"\",\"\",'Estimated Quantities'!M82)","v":""}]
[null,null,null,null,null,null,null,null,null,{"$f":"IF('Estimated Quantities'!J102=\"\",\"\",'Estimated Quantities'!J102)","v":""}]
[null,null,null,"ALTERNATIVE 2"]
[]
[null,null,null,{"$f":"IF('Estimated Quantities'!D61=\"\",\"\",'Estimated Quantities'!D61)","v":"512"},{"$f":"IF('Estimated Quantities'!E61=\"\",\"\",'Estimated Quantities'!E61)","v":"10100"},{"$f":"IF('Estimated Quantities'!F61=\"\",\"\",'Estimated Quantities'!F61)","v":366},{"$f":"IF('Estimated Quantities'!G61=\"\",\"\",'Estimated Quantities'!G61)","v":"SY"},{"$f":"IF('Estimated Quantities'!H61=\"\",\"\",'Estimated Quantities'!H61)","v":"SEALING OF CONCRETE SURFACES (EPOXY-URETHANE) (DARK GREEN) (FASCIA BEAMS) (ALTERNATIVE 2)"},{"$f":"IF('Estimated Quantities'!I61=\"\",\"\",'Estimated Quantities'!I61)","v":""},{"$f":"IF('Estimated Quantities'!J61=\"\",\"\",'Estimated Quantities'!J61)","v":""},{"$f":"IF('Estimated Quantities'!K61=\"\",\"\",'Estimated Quantities'!K61)","v":366},{"$f":"IF('Estimated Quantities'!L61=\"\",\"\",'Estimated Quantities'!L61)","v":""},{"$f":"IF('Estimated Quantities'!M61=\"\",\"\",'Estimated Quantities'!M61)","v":""}]
[null,null,null,null,null,null,null,null,null,{"$f":"IF('Estimated Quantities'!J105=\"\",\"\",'Estimated Quantities'!J105)","v":""}]
[null,null,null,"SPECIAL",60740000,{"$f":"IF('Estimated Quantities'!F83=\"\",\"\",'Estimated Quantities'!F83)","v":178},{"$f":"IF('Estimated Quantities'!G83=\"\",\"\",'Estimated Quantities'!G83)","v":"FT"},"VANDAL PROTECTION FENCE (11'-10\" TALL AESTHETIC FENCE) (ALTERNATIVE 2)",{"$f":"IF('Estimated Quantities'!I83=\"\",\"\",'Estimated Quantities'!I83)","v":""},{"$f":"IF('Estimated Quantities'!J83=\"\",\"\",'Estimated Quantities'!J83)","v":""},{"$f":"IF('Estimated Quantities'!K83=\"\",\"\",'Estimated Quantities'!K83)","v":""},{"$f":"IF('Estimated Quantities'!L83=\"\",\"\",'Estimated Quantities'!L83)","v":178},{"$f":"IF('Estimated Quantities'!M83=\"\",\"\",'Estimated Quantities'!M83)","v":"S.03/45"}]
[null,null,null,"SPECIAL",60740000,{"$f":"IF('Estimated Quantities'!F84=\"\",\"\",'Estimated Quantities'!F84)","v":178},{"$f":"IF('Estimated Quantities'!G84=\"\",\"\",'Estimated Quantities'!G84)","v":"FT"},"VANDAL PROTECTION FENCE (6'-7\" TALL AESTHETIC FENCE) (ALTERNATIVE 2)",{"$f":"IF('Estimated Quantities'!I84=\"\",\"\",'Estimated Quantities'!I84)","v":""},{"$f":"IF('Estimated Quantities'!J84=\"\",\"\",'Estimated Quantities'!J84)","v":""},{"$f":"IF('Estimated Quantities'!K84=\"\",\"\",'Estimated Quantities'!K84)","v":""},{"$f":"IF('Estimated Quantities'!L84=\"\",\"\",'Estimated Quantities'!L84)","v":178},{"$f":"IF('Estimated Quantities'!M84=\"\",\"\",'Estimated Quantities'!M84)","v":"S.03/45"}]

{"sheet":"QryItemE2019","index":60,"n_rows":7869,"n_cols":7,"rows_kept":7869,"cut":false,"hidden":false,"merged":[]}
["ITEM","CODEDESC","IDESCRL","ILFLG1","IDESCL2","ILSST1","SUPPDESCRREQUIRED"]
["100E00300","LS","PREMIUM ON RAILROADS' PROTECTIVE PUBLIC LIABILITY AND PROPERTY DAMAGE LIABILITY INSURANCE","","","ODOT INTERNAL USE ONLY",0]
["100E10000","LS","PROFESSIONAL LIABILITY INSURANCE","","","",0]
["100E44000","LS","PREMIUM FOR SPECIAL HAZARD INSURANCE","","","",0]
["100E50000","LS","DISPUTE REVIEW BOARD","","","",0]
["100E50100","LS","DEPARTMENT'S SHARE OF THE DISPUTE RESOLUTION BOARD","","","",0]
["100E50200","LS","DEPARTMENT'S SHARE OF THE DISPUTE RESOLUTION ADVISOR","","","",0]
["100E99000","LS","SPECIAL - PREMIUM ON RAILROAD'S PROTECTIVE PUBLIC LIABILITY AND PROPERTY DAMAGE LIABILITY INSURANCE","","","DESIGN BUILD PROJECTS ONLY",0]
["100E99010","LS","SPECIAL - PROFESSIONAL LIABILITY INSURANCE","","","DESIGN BUILD PROJECTS ONLY",0]
["103E05000","LS","PREMIUM FOR CONTRACT PERFORMANCE BOND AND FOR PAYMENT BOND","","","ODOT INTERNAL USE ONLY",0]
["103E06000","LS","PREMIUM FOR CONTRACT PERFORMANCE BOND, PAYMENT BOND AND MAINTENANCE BOND","","","ODOT INTERNAL USE ONLY",0]
["103E99000","LS","SPECIAL - PREMIUM FOR CONTRACT PERFORMANCE BOND, PAYMENT BOND AND MAINTENANCE BOND","","","DESIGN BUILD PROJECTS ONLY",0]
["103E99010","LS","SPECIAL - PREMIUM FOR CONTRACT PERFORMANCE BOND AND FOR PAYMENT BOND","","","DESIGN BUILD PROJECTS ONLY",0]
["107E99000","LS","SPECIAL - UTILITY COORDINATION","","","DESIGN BUILD PROJECTS ONLY",0]
["108E10000","LS","CPM PROGRESS SCHEDULE","","","",0]
["108E30000","LS","CPM PROGRESS SCHEDULE SHORT DURATION PROJECTS","","","",0]
["108E99000","LS","SPECIAL - CPM PROGRESS SCHEDULE","","","DESIGN BUILD PROJECTS ONLY",0]
["108E99100","LS","SPECIAL - CPM PROGRESS SCHEDULE FOR SHORT DURATION PROJECTS","","","DESIGN BUILD PROJECTS ONLY",0]
["111E10000","LS","SPECIAL - DEPARTMENTS SHARE FACILITATED PARTNERING COSTS","","","",0]
["201E11000","LS","CLEARING AND GRUBBING","","","",0]
["201E11001","LS","CLEARING AND GRUBBING, AS PER PLAN","","","",0]
["201E20010","EACH","SPECIAL - TREE REMOVED, 4\"-12\"","","","WORK ORDER/SPECIFIED LOCATION",0]
["201E21800","EACH","TREE REMOVED, 18\"","","","WORK ORDER/SPECIFIED LOCATION",0]
["201E21801","EACH","TREE REMOVED, 18\", AS PER PLAN","","","WORK ORDER/SPECIFIED LOCATION",0]
["201E23000","EACH","TREE REMOVED, 30\"","","","WORK ORDER/SPECIFIED LOCATION",0]
["201E23001","EACH","TREE REMOVED, 30\", AS PER PLAN","","","WORK ORDER/SPECIFIED LOCATION",0]
["201E24800","EACH","TREE REMOVED, 48\"","","","WORK ORDER/SPECIFIED LOCATION",0]
["201E24801","EACH","TREE REMOVED, 48\", AS PER PLAN","","","WORK ORDER/SPECIFIED LOCATION",0]
["201E26000","EACH","TREE REMOVED, 60\"","","","WORK ORDER/SPECIFIED LOCATION",0]
["201E26001","EACH","TREE REMOVED, 60\", AS PER PLAN","","","WORK ORDER/SPECIFIED LOCATION",0]
["201E26450","EACH","SPECIAL - STUMP REMOVED, 4\"-12\"","","","WORK ORDER/SPECIFIED LOCATION",0]
["201E26500","EACH","STUMP REMOVED, 18\"","","","",0]
["201E26501","EACH","STUMP REMOVED, 18\", AS PER PLAN","","","",0]
["201E26510","EACH","STUMP REMOVED, 30\"","","","",0]
["201E26511","EACH","STUMP REMOVED, 30\", AS PER PLAN","","","",0]
["201E26520","EACH","STUMP REMOVED, 48\"","","","",0]
["201E26521","EACH","STUMP REMOVED, 48\", AS PER PLAN","","","",0]
["201E26530","EACH","STUMP REMOVED, 60\"","","","",0]
["201E26531","EACH","STUMP REMOVED, 60\", AS PER PLAN","","","",0]
["201E99000","LS","SPECIAL - CLEARING AND GRUBBING","","","DESIGN BUILD PROJECTS ONLY",0]
["202E00200","LS","RAILROAD CROSSING REMOVED","","","",0]
["202E00201","LS","RAILROAD CROSSING REMOVED, AS PER PLAN","","","",0]
["202E11000","LS","STRUCTURE REMOVED","","","",0]
["202E11001","LS","STRUCTURE REMOVED, AS PER PLAN","","","",0]
["202E11002","LS","STRUCTURE REMOVED, OVER 20 FOOT SPAN","","","",0]
["202E11003","LS","STRUCTURE REMOVED, OVER 20 FOOT SPAN, AS PER PLAN","","","",0]
["202E11004","EACH","STRUCTURE REMOVED","","","",0]
["202E11005","EACH","STRUCTURE REMOVED, AS PER PLAN","","","",0]
["202E11100","CY","STRUCTURE REMOVED","","","",0]
["202E11150","SY","STRUCTURE REMOVED","","","",0]
["202E11200","LS","PORTIONS OF STRUCTURE REMOVED","","","",0]
["202E11201","LS","PORTIONS OF STRUCTURE REMOVED, AS PER PLAN","","","",0]
["202E11202","LS","PORTIONS OF STRUCTURE REMOVED, OVER 20 FOOT SPAN","","","",0]
["202E11203","LS","PORTIONS OF STRUCTURE REMOVED, OVER 20 FOOT SPAN, AS PER PLAN","","","",0]
["202E11300","CY","PORTIONS OF STRUCTURE REMOVED","","","",0]
["202E11301","CY","PORTIONS OF STRUCTURE REMOVED, AS PER PLAN","","","",0]
["202E11304","SY","PORTIONS OF STRUCTURE REMOVED","","","",0]
["202E11305","SY","PORTIONS OF STRUCTURE REMOVED, AS PER PLAN","","","",0]
["202E11400","LB","PORTIONS OF STRUCTURE REMOVED","","","",0]
["202E11401","LB","PORTIONS OF STRUCTURE REMOVED, AS PER PLAN","","","",0]
["202E11500","EACH","PORTIONS OF STRUCTURE REMOVED","","","",0]
["202E11501","EACH","PORTIONS OF STRUCTURE REMOVED, AS PER PLAN","","","",0]
["202E20010","EACH","HEADWALL REMOVED","","","",0]
["202E20011","EACH","HEADWALL REMOVED, AS PER PLAN","","","",0]
["202E22900","SY","APPROACH SLAB REMOVED","","","",0]
["202E22901","SY","APPROACH SLAB REMOVED, AS PER PLAN","","","",0]
["202E23000","SY","PAVEMENT REMOVED","","","",0]
["202E23001","SY","PAVEMENT REMOVED, AS PER PLAN","","","",0]
["202E23500","SY","WEARING COURSE REMOVED","","","",0]
["202E23501","SY","WEARING COURSE REMOVED, AS PER PLAN","","","",0]
["202E30000","SF","WALK REMOVED","","","",0]
["202E30001","SF","WALK REMOVED, AS PER PLAN","","","",0]
["202E30200","FT","STEPS REMOVED","","","",0]
["202E30204","LS","STEPS REMOVED","","","",0]
["202E30600","SY","CONCRETE MEDIAN REMOVED","","","",0]
["202E30601","SY","CONCRETE MEDIAN REMOVED, AS PER PLAN","","","",0]
["202E30700","FT","CONCRETE BARRIER REMOVED","","","",0]
["202E30701","FT","CONCRETE BARRIER REMOVED, AS PER PLAN","","","",0]
["202E30800","SY","TRAFFIC ISLAND REMOVED","","","",0]
["202E30801","SY","TRAFFIC ISLAND REMOVED, AS PER PLAN","","","",0]
["202E32000","FT","CURB REMOVED","","","",0]
["202E32001","FT","CURB REMOVED, AS PER PLAN","","","",0]
["202E32300","FT","STONE CURB REMOVED FOR REUSE","","","",0]
["202E32500","FT","CURB AND GUTTER REMOVED","","","",0]
["202E32501","FT","CURB AND GUTTER REMOVED, AS PER PLAN","","","",0]
["202E32600","FT","GUTTER REMOVED","","","",0]
["202E32601","FT","GUTTER REMOVED, AS PER PLAN","","","",0]
["202E32700","SY","GUTTER REMOVED","","","",0]
["202E32800","SY","CONCRETE SLOPE PROTECTION REMOVED","","","",0]
["202E32801","SY","CONCRETE SLOPE PROTECTION REMOVED, AS PER PLAN","","","",0]
["202E34900","FT","PIPE REMOVED","","","",0]
["202E35100","FT","PIPE REMOVED, 24\" AND UNDER","","","",0]
["202E35101","FT","PIPE REMOVED, 24\" AND UNDER, AS PER PLAN","","","",0]
["202E35200","FT","PIPE REMOVED, OVER 24\"","","","",0]
["202E35201","FT","PIPE REMOVED, OVER 24\", AS PER PLAN","","","",0]
["202E35300","FT","PIPE REMOVED FOR STORAGE, 24\" AND UNDER","","","",0]
["202E35400","FT","PIPE REMOVED FOR STORAGE, OVER 24\"","","","",0]
["202E35401","FT","PIPE REMOVED FOR STORAGE, OVER 24\", AS PER PLAN","","","",0]
["202E35500","FT","PIPE REMOVED FOR REUSE, 24\" AND UNDER","","","",0]
["202E35501","FT","PIPE REMOVED FOR REUSE, 24\" AND UNDER, AS PER PLAN","","","",0]
["202E35600","FT","PIPE REMOVED FOR REUSE, OVER 24\"","","","",0]
["202E35601","FT","PIPE REMOVED FOR REUSE, OVER 24\", AS PER PLAN","","","",0]
["202E35700","FT","ASBESTOS PIPE REMOVED","","","",0]
["202E35701","FT","ASBESTOS PIPE REMOVED, AS PER PLAN","","","",0]
["202E38000","FT","GUARDRAIL REMOVED","","","",0]
["202E38001","FT","GUARDRAIL REMOVED, AS PER PLAN","","","",0]
["202E38100","FT","GUARDRAIL REMOVED FOR STORAGE","","","",0]
["202E38101","FT","GUARDRAIL REMOVED FOR STORAGE, AS PER PLAN","","","",0]
["202E38200","FT","GUARDRAIL REMOVED FOR REUSE","","","",0]
["202E38201","FT","GUARDRAIL REMOVED FOR REUSE, AS PER PLAN","","","",0]
["202E38300","FT","GUARDRAIL REMOVED, BARRIER DESIGN","","","",0]
["202E38301","FT","GUARDRAIL REMOVED, BARRIER DESIGN, AS PER PLAN","","","",0]
["202E38400","FT","GUARDRAIL REMOVED FOR STORAGE, BARRIER DESIGN","","","",0]
["202E38401","FT","GUARDRAIL REMOVED FOR STORAGE, BARRIER DESIGN, AS PER PLAN","","","",0]
["202E38410","FT","GUARDRAIL REMOVED FOR REUSE, BARRIER DESIGN","","","",0]
["202E38500","FT","BRIDGE RAILING REMOVED","","","",0]
["202E38501","FT","BRIDGE RAILING REMOVED, AS PER PLAN","","","",0]
["202E38600","FT","BRIDGE RAILING REMOVED FOR STORAGE","","","",0]
["202E38601","FT","BRIDGE RAILING REMOVED FOR STORAGE, AS PER PLAN","","","",0]
["202E38602","FT","BRIDGE RAILING REMOVED FOR REUSE","","","",0]
["202E38603","FT","BRIDGE RAILING REMOVED FOR REUSE, AS PER PLAN","","","",0]
["202E38700","EACH","GUARDRAIL POST REMOVED","","","",0]
["202E38701","EACH","GUARDRAIL POST REMOVED, AS PER PLAN","","","",0]
["202E38800","EACH","GUARD POST REMOVED","","","",0]
["202E42000","EACH","ANCHOR ASSEMBLY REMOVED, TYPE A","","","",0]
["202E42001","EACH","ANCHOR ASSEMBLY REMOVED, TYPE A, AS PER PLAN","","","",0]
["202E42010","EACH","ANCHOR ASSEMBLY REMOVED, TYPE E","","","",0]
["202E42011","EACH","ANCHOR ASSEMBLY REMOVED, TYPE E, AS PER PLAN","","","",0]
["202E42040","EACH","ANCHOR ASSEMBLY REMOVED, TYPE T","","","",0]
["202E42041","EACH","ANCHOR ASSEMBLY REMOVED, TYPE T, AS PER PLAN","","","",0]
["202E42050","EACH","ANCHOR ASSEMBLY REMOVED, TYPE B","","","",0]
["202E42051","EACH","ANCHOR ASSEMBLY REMOVED, TYPE B, AS PER PLAN","","","",0]
["202E42206","EACH","ANCHOR ASSEMBLY REMOVED","","","",0]
["202E42207","EACH","ANCHOR ASSEMBLY REMOVED, AS PER PLAN","","","",0]
["202E42210","EACH","ANCHOR ASSEMBLY REMOVED, BARRIER DESIGN","","","",0]
["202E42300","EACH","ANCHOR ASSEMBLY REMOVED FOR STORAGE, TYPE A","","","",0]
["202E42301","EACH","ANCHOR ASSEMBLY REMOVED FOR STORAGE, TYPE A, AS PER PLAN","","","",0]
["202E42310","EACH","ANCHOR ASSEMBLY REMOVED FOR STORAGE, BARRIER DESIGN, TYPE A","","","",0]
["202E42508","EACH","ANCHOR ASSEMBLY REMOVED FOR STORAGE","","","",0]
["202E42509","EACH","ANCHOR ASSEMBLY REMOVED FOR STORAGE, AS PER PLAN","","","",0]
["202E42600","EACH","ANCHOR ASSEMBLY REMOVED FOR REUSE, TYPE A","","","",0]
["202E42601","EACH","ANCHOR ASSEMBLY REMOVED FOR REUSE, TYPE A, AS PER PLAN","","","",0]
["202E42610","EACH","ANCHOR ASSEMBLY REMOVED FOR REUSE, TYPE B-98","","","",0]
["202E42620","EACH","ANCHOR ASSEMBLY REMOVED FOR REUSE, TYPE E-98","","","",0]
["202E42621","EACH","ANCHOR ASSEMBLY REMOVED FOR REUSE, TYPE E-98, AS PER PLAN","","","",0]
["202E42806","EACH","ANCHOR ASSEMBLY REMOVED FOR REUSE","","","",0]
["202E42807","EACH","ANCHOR ASSEMBLY REMOVED FOR REUSE, AS PER PLAN","","","",0]
["202E42810","EACH","ANCHOR ASSEMBLY REMOVED FOR REUSE, TYPE E","","","",0]
["202E42812","EACH","ANCHOR ASSEMBLY REMOVED FOR STORAGE, TYPE E","","","",0]
["202E42813","EACH","ANCHOR ASSEMBLY REMOVED FOR STORAGE, TYPE E, AS PER PLAN","","","",0]
["202E43000","EACH","ANCHOR ASSEMBLY POST REMOVED","","","",0]
["202E43001","EACH","ANCHOR ASSEMBLY POST REMOVED, AS PER PLAN","","","",0]
["202E47000","EACH","BRIDGE TERMINAL ASSEMBLY REMOVED","","","",0]
["202E47001","EACH","BRIDGE TERMINAL ASSEMBLY REMOVED, AS PER PLAN","","","",0]
["202E47100","EACH","BRIDGE TERMINAL ASSEMBLY REMOVED FOR STORAGE","","","",0]
["202E47200","EACH","BRIDGE TERMINAL ASSEMBLY REMOVED FOR REUSE","","","",0]
["202E47201","EACH","BRIDGE TERMINAL ASSEMBLY REMOVED FOR REUSE, AS PER PLAN","","","",0]
["202E47800","EACH","IMPACT ATTENUATOR REMOVED","","","",0]
["202E47801","EACH","IMPACT ATTENUATOR REMOVED, AS PER PLAN","","","",0]
["202E48000","FT","CABLE BARRIER REMOVED","","","",0]
["202E48001","FT","CABLE BARRIER REMOVED, AS PER PLAN","","","",0]
["202E48100","FT","CABLE BARRIER REMOVED FOR STORAGE","","","",0]
["202E52000","EACH","PRECAST TRAFFIC DIVIDER REMOVED","","","",0]
["202E52001","EACH","PRECAST TRAFFIC DIVIDER REMOVED, AS PER PLAN","","","",0]
["202E52990","EACH","SPECIAL - PARKING BLOCK REMOVED","","","",0]
["202E53000","EACH","SPECIAL - PARKING BLOCK REMOVED AND REPLACED","","","",0]
["202E53010","EACH","SPECIAL - PARKING BLOCK REMOVED AND RESET","","","",0]
["202E53020","EACH","SPECIAL - PARKING BLOCK REMOVED FOR STORAGE","","","",0]
["202E53100","EACH","MAILBOX REMOVED","","","",0]
["202E53101","EACH","MAILBOX REMOVED, AS PER PLAN","","","",0]
["202E56000","LS","BUILDING DEMOLISHED","","","ADD SUPPLEMENTAL OR PARCEL NO.",1]
["202E56001","LS","BUILDING DEMOLISHED, AS PER PLAN","","","ADD SUPPLEMENTAL OR PARCEL NO.",1]
["202E56100","EACH","BUILDING DEMOLISHED","","","ADD SUPPLEMENTAL OR PARCEL NO.",1]
["202E56101","EACH","BUILDING DEMOLISHED, AS PER PLAN","","","ADD SUPPLEMENTAL OR PARCEL NO.",1]
["202E58000","EACH","MANHOLE REMOVED","","","",0]
["202E58001","EACH","MANHOLE REMOVED, AS PER PLAN","","","",0]
["202E58100","EACH","CATCH BASIN REMOVED","","","",0]
["202E58101","EACH","CATCH BASIN REMOVED, AS PER PLAN","","","",0]
["202E58200","EACH","INLET REMOVED","","","",0]
["202E58201","EACH","INLET REMOVED, AS PER PLAN","","","",0]
["202E58300","EACH","CATCH BASIN OR INLET REMOVED","","","",0]
["202E58400","EACH","INLET ABANDONED","","","",0]
["202E58401","EACH","INLET ABANDONED, AS PER PLAN","","","",0]
["202E58500","EACH","CATCH BASIN ABANDONED","","","",0]
["202E58501","EACH","CATCH BASIN ABANDONED, AS PER PLAN","","","",0]
["202E58600","EACH","CATCH BASIN OR INLET ABANDONED","","","",0]
["202E58601","EACH","CATCH BASIN OR INLET ABANDONED, AS PER PLAN","","","",0]
["202E58700","EACH","MANHOLE ABANDONED","","","",0]
["202E58701","EACH","MANHOLE ABANDONED, AS PER PLAN","","","",0]
["202E60000","EACH","MONUMENT ASSEMBLY ABANDONED","","","",0]
["202E60010","EACH","MONUMENT ASSEMBLY REMOVED","","","",0]
["202E62000","EACH","JUNCTION BOX REMOVED","","","",0]
["202E62001","EACH","JUNCTION BOX REMOVED, AS PER PLAN","","","",0]
["202E62600","EACH","PRIVY VAULT REMOVED","","","",0]
["202E62601","EACH","PRIVY VAULT REMOVED, AS PER PLAN","","","",0]
["202E62700","EACH","SEPTIC TANK REMOVED","","","",0]
["202E64000","EACH","SPECIAL - PLUGGING AND VENTING GAS AND/OR OIL WELL","","","",0]
["202E66000","EACH","SPECIAL - DRILLED WATER WELL ABANDONED","","","",0]
["202E66500","EACH","UNDERGROUND STORAGE TANK REMOVED","","","",0]
["202E66501","EACH","UNDERGROUND STORAGE TANK REMOVED, AS PER PLAN","","","",0]
["202E67000","EACH","REGULATED UNDERGROUND STORAGE TANK REMOVED","","","",0]
["202E67001","EACH","REGULATED UNDERGROUND STORAGE TANK REMOVED, AS PER PLAN","","","",0]
["202E70000","FT","SPECIAL - FILL AND PLUG EXISTING CONDUIT","","","SPECIFY DIAMETER",0]
["202E70110","FT","SPECIAL - PIPE CLEANOUT, 24\" AND UNDER","","","",0]
["202E70120","FT","SPECIAL - PIPE CLEANOUT, 27\" TO 48\"","","","",0]
["202E70130","FT","SPECIAL - PIPE CLEANOUT OVER 48\"","","","",0]
["202E75000","FT","FENCE REMOVED","","","",0]
["202E75001","FT","FENCE REMOVED, AS PER PLAN","","","",0]
["202E75100","FT","FENCE REMOVED FOR STORAGE","","","",0]
["202E75101","FT","FENCE REMOVED FOR STORAGE, AS PER PLAN","","","",0]
["202E75200","FT","FENCE REMOVED FOR REUSE","","","",0]
["202E75201","FT","FENCE REMOVED FOR REUSE, AS PER PLAN","","","",0]
["202E75250","EACH","GATE REMOVED","","","",0]
["202E75251","EACH","GATE REMOVED, AS PER PLAN","","","",0]
["202E75254","EACH","GATE REMOVED FOR REUSE","","","",0]
["202E75255","EACH","GATE REMOVED FOR REUSE, AS PER PLAN","","","",0]
["202E75260","FT","VANDAL PROTECTION FENCE REMOVED","","","",0]
["202E75261","FT","VANDAL PROTECTION FENCE REMOVED, AS PER PLAN","","","",0]
["202E75264","FT","VANDAL PROTECTION FENCE REMOVED FOR STORAGE","","","",0]
["202E75265","FT","VANDAL PROTECTION FENCE REMOVED FOR STORAGE, AS PER PLAN","","","",0]
["202E75266","FT","VANDAL PROTECTION FENCE REMOVED AND RESET","","","",0]
["202E75267","FT","VANDAL PROTECTION FENCE REMOVED AND RESET, AS PER PLAN","","","",0]
["202E75600","EACH","METER VAULT REMOVED","","","",0]
["202E75601","EACH","METER VAULT REMOVED, AS PER PLAN","","","",0]
["202E75610","EACH","VALVE BOX REMOVED","","","",0]
["202E75611","EACH","VALVE BOX REMOVED, AS PER PLAN","","","",0]
["202E75700","LS","CONTROL CENTER REMOVED","","","",0]
["202E75701","LS","CONTROL CENTER REMOVED, AS PER PLAN","","","",0]
["202E75704","EACH","REMOVAL OF EXISTING CONTROL CENTER AND FOUNDATION","","","",0]
["202E75711","FT","SPECIAL - EXISTING CONDUIT CLEANED","","","",0]
["202E75800","EACH","DISCONNECT EXISTING CIRCUIT","","","",0]
["202E75801","EACH","DISCONNECT EXISTING CIRCUIT, AS PER PLAN","","","",0]
["202E98000","LS","REMOVAL MISC.:","","","ADD SUPPLEMENTAL DESCRIPTION",1]
["202E98100","EACH","REMOVAL MISC.:","","","ADD SUPPLEMENTAL DESCRIPTION",1]
["202E98200","FT","REMOVAL MISC.:","","","ADD SUPPLEMENTAL DESCRIPTION",1]
["202E98300","SY","REMOVAL MISC.:","","","ADD SUPPLEMENTAL DESCRIPTION",1]
["202E98400","SF","REMOVAL MISC.:","","","ADD SUPPLEMENTAL DESCRIPTION",1]
["202E98500","CY","REMOVAL MISC.:","","","ADD SUPPLEMENTAL DESCRIPTION",1]
["202E98510","MNHR","REMOVAL MISC.:","","","ADD SUPPLEMENTAL DESCRIPTION",1]
["202E98600","EACH","ABANDON MISC.:","","","ADD SUPPLEMENTAL DESCRIPTION",1]
["202E98700","FT","ABANDON MISC.:","","","ADD SUPPLEMENTAL DESCRIPTION",1]
["202E99000","LS","SPECIAL - STRUCTURE REMOVED","","","DESIGN BUILD PROJECTS ONLY",0]
["202E99020","LS","SPECIAL - PAVEMENT REMOVED","","","DESIGN BUILD PROJECTS ONLY",0]
["202E99100","LS","SPECIAL - REMOVAL","","","DESIGN BUILD PROJECTS ONLY",0]
["202E99200","LS","SPECIAL - BUILDING DEMOLISHED","","","DESIGN BUILD PROJECTS ONLY",0]
["203E01890","SY","SPECIAL - SOIL STERILANT","","","",0]
["203E02000","CY","SPECIAL - ENGINEERED FILL","","","",0]
["203E07500","EACH","SPECIAL - PNEUMATIC PIEZOMETER","","","",0]
["203E07502","EACH","SPECIAL - INCLINOMETER","","","",0]
["203E07504","FT","SPECIAL - WICK DRAIN","","","",0]
["203E07510","EACH","SPECIAL - PIEZOMETER","","","",0]
["203E07520","EACH","SPECIAL - SETTLEMENT CELLS","","","",0]
["203E08000","LS","SPECIAL - INCLINOMETER","","","",0]
["203E10000","CY","EXCAVATION","","","",0]
["203E10001","CY","EXCAVATION, AS PER PLAN","","","",0]
["203E20000","CY","EMBANKMENT","","","",0]
["203E20001","CY","EMBANKMENT, AS PER PLAN","","","",0]
["203E22000","CY","EMBANKMENT, USING NATURAL SOILS, 703.16.A","","","",0]
["203E35000","CY","GRANULAR EMBANKMENT","","","",0]
["203E35001","CY","GRANULAR EMBANKMENT, AS PER PLAN","","","",0]
["203E35100","CY","GRANULAR MATERIAL, TYPE A","","","",0]
["203E35110","CY","GRANULAR MATERIAL, TYPE B","","","",0]
["203E35111","CY","GRANULAR MATERIAL, TYPE B, AS PER PLAN","","","",0]
["203E35120","CY","GRANULAR MATERIAL, TYPE C","","","",0]
["203E35121","CY","GRANULAR MATERIAL, TYPE C, AS PER PLAN","","","",0]
["203E35130","CY","GRANULAR MATERIAL, TYPE D","","","",0]
["203E35131","CY","GRANULAR MATERIAL, TYPE D, AS PER PLAN","","","",0]
["203E35140","CY","GRANULAR MATERIAL, TYPE E","","","",0]
["203E35141","CY","GRANULAR MATERIAL, TYPE E, AS PER PLAN","","","",0]
["203E35150","CY","GRANULAR MATERIAL, TYPE F","","","",0]
["203E35151","CY","GRANULAR MATERIAL, TYPE F, AS PER PLAN","","","",0]
["203E40000","CY","BORROW","","","",0]
["203E40001","CY","BORROW, AS PER PLAN","","","",0]
["203E40110","TON","BORROW","","","",0]
["203E45100","TON","GRANULAR MATERIAL, TYPE A","","","",0]
["203E45110","TON","GRANULAR MATERIAL, TYPE B","","","",0]
["203E45111","TON","GRANULAR MATERIAL, TYPE B, AS PER PLAN","","","",0]
["203E45120","TON","GRANULAR MATERIAL, TYPE C","","","",0]
["203E45130","TON","GRANULAR MATERIAL, TYPE D","","","",0]
["203E45131","TON","GRANULAR MATERIAL, TYPE D, AS PER PLAN","","","",0]
["203E45140","TON","GRANULAR MATERIAL, TYPE E","","","",0]
["203E45150","TON","GRANULAR MATERIAL, TYPE F","","","",0]
["203E48000","CY","ROCK","","","",0]
["203E48020","TON","ROCK","","","",0]
["203E57110","HOUR","SPECIAL - FOUNDATION TEST PIT","","","",0]
["203E62000","SY","SPECIAL - SCARIFICATION","","","",0]
["203E63000","HOUR","SPECIAL - GRADER RENTAL","","","",0]
["203E63500","HOUR","SPECIAL - LOADER RENTAL","","","",0]
["203E63600","HOUR","SPECIAL - ROLLER RENTAL","","","",0]
["203E65000","EACH","SPECIAL - SETTLEMENT PLATFORM","","","",0]
["203E65500","EACH","SPECIAL - SLOPE INDICATOR","","","",0]
["203E98000","CY","ROADWAY, MISC.:","","","ADD SUPPLEMENTAL DESCRIPTION",1]
["203E98100","SY","ROADWAY, MISC.:","","","ADD SUPPLEMENTAL DESCRIPTION",1]
["203E98200","TON","ROADWAY, MISC.:","","","ADD SUPPLEMENTAL DESCRIPTION",1]
["203E98300","FT","ROADWAY, MISC.:","","","ADD SUPPLEMENTAL DESCRIPTION",1]
["203E98400","STA","ROADWAY, MISC.:","","","ADD SUPPLEMENTAL DESCRIPTION",1]
["203E98500","LS","ROADWAY, MISC.:","","","ADD SUPPLEMENTAL DESCRIPTION",1]
["203E98600","EACH","ROADWAY, MISC.:","","","ADD SUPPLEMENTAL DESCRIPTION",1]
["203E99000","LS","SPECIAL - EARTHWORK","","","DESIGN BUILD PROJECTS ONLY",0]
["204E10000","SY","SUBGRADE COMPACTION","","","",0]
["204E10001","SY","SUBGRADE COMPACTION, AS PER PLAN","","","",0]
["204E13000","CY","EXCAVATION OF SUBGRADE","","","",0]
["204E13001","CY","EXCAVATION OF SUBGRADE, AS PER PLAN","","","",0]
["204E20000","CY","EMBANKMENT","","","",0]
["204E20001","CY","EMBANKMENT, AS PER PLAN","","","",0]
["204E21000","CY","GRANULAR EMBANKMENT","","","",0]
["204E21001","CY","GRANULAR EMBANKMENT, AS PER PLAN","","","",0]
["204E30000","CY","GRANULAR MATERIAL, TYPE A","","","",0]
["204E30010","CY","GRANULAR MATERIAL, TYPE B","","","",0]
["204E30011","CY","GRANULAR MATERIAL, TYPE B, AS PER PLAN","","","",0]
["204E30020","CY","GRANULAR MATERIAL, TYPE C","","","",0]
["204E30021","CY","GRANULAR MATERIAL, TYPE C, AS PER PLAN","","","",0]
["204E30030","CY","GRANULAR MATERIAL, TYPE D","","","",0]
["204E30031","CY","GRANULAR MATERIAL, TYPE D, AS PER PLAN","","","",0]
["204E30040","CY","GRANULAR MATERIAL, TYPE E","","","",0]
["204E30041","CY","GRANULAR MATERIAL, TYPE E, AS PER PLAN","","","",0]
["204E30050","CY","GRANULAR MATERIAL, TYPE F","","","",0]
["204E30051","CY","GRANULAR MATERIAL, TYPE F, AS PER PLAN","","","",0]
["204E45000","HOUR","PROOF ROLLING","","","",0]
["204E45001","HOUR","PROOF ROLLING, AS PER PLAN","","","",0]
["204E50000","SY","GEOTEXTILE FABRIC","","","",0]
["204E50001","SY","GEOTEXTILE FABRIC, AS PER PLAN","","","",0]
["204E51000","SY","GEOGRID","","","",0]
["204E51001","SY","GEOGRID, AS PER PLAN","","","",0]
["204E60000","SY","SPECIAL - GEOCELL, SUBGRADE","","","SPECIFY THICKNESS",1]
["205E10050","CY","LIME STABILIZED EMBANKMENT","","","",0]
["205E10300","TON","LIME","","","",0]
["205E10500","CY","CEMENT STABILIZED EMBANKMENT","","","",0]
["205E10550","TON","CEMENT","","","",0]
["205E20000","LS","MIXTURE DESIGN FOR CHEMICALLY STABILIZED SOILS","","","",0]
["206E10010","SY","LIME STABILIZED SUBGRADE, 12 INCHES DEEP","","","",0]
["206E10020","SY","LIME STABILIZED SUBGRADE, 14 INCHES DEEP","","","",0]
["206E10030","SY","LIME STABILIZED SUBGRADE, 16 INCHES DEEP","","","",0]
["206E10300","TON","LIME","","","",0]
["206E10500","TON","CEMENT","","","",0]
["206E11000","SY","CURING COAT","","","",0]
["206E11001","SY","CURING COAT, AS PER PLAN","","","",0]
["206E15010","SY","CEMENT STABILIZED SUBGRADE, 12 INCHES DEEP","","","",0]
["206E15020","SY","CEMENT STABILIZED SUBGRADE, 14 INCHES DEEP","","","",0]
["206E15030","SY","CEMENT STABILIZED SUBGRADE, 16 INCHES DEEP","","","",0]
["206E20000","HOUR","TEST ROLLING","","","",0]
["206E30000","LS","MIXTURE DESIGN FOR CHEMICALLY STABILIZED SOILS","","","",0]
["206E30001","LS","MIXTURE DESIGN FOR CHEMICALLY STABILIZED SOILS, AS PER PLAN","","","",0]
["206E98400","LS","SPECIAL - CHEMICALLY STABILIZED SUBGRADE","","","ADD SUPPLEMENTAL DESCRIPTION",1]
["206E98800","TON","SPECIAL - CHEMICALLY STABILIZED SUBGRADE","","","ADD SUPPLEMENTAL DESCRIPTION",1]
["208E10000","LS","PRE-BLAST CONDITION SURVEY","","","",0]
["208E10001","LS","PRE-BLAST CONDITION SURVEY, AS PER PLAN","","","",0]
["208E12000","LS","BLASTING CONSULTANT","","","",0]
["208E13000","LS","AIR BLAST AND NOISE CONTROL","","","",0]
["208E14000","LS","VIBRATION CONTROL AND MONITORING","","","",0]
["208E14001","LS","VIBRATION CONTROL AND MONITORING, AS PER PLAN","","","",0]
["208E15000","SY","PRESPLITTING","","","",0]
["208E15001","SY","PRESPLITTING, AS PER PLAN","","","",0]
["208E16000","LS","HYDROLOGIST","","","",0]
["209E10000","FT","DITCH CLEANOUT","","","",0]
["209E10001","FT","DITCH CLEANOUT, AS PER PLAN","","","",0]
["209E15000","STA","RESHAPING UNDER GUARDRAIL","","","CHECK UNIT OF MEASURE",0]
["209E15001","STA","RESHAPING UNDER GUARDRAIL, AS PER PLAN","","","CHECK UNIT OF MEASURE",0]
["209E15050","MILE","RESHAPING UNDER GUARDRAIL","","","CHECK UNIT OF MEASURE",0]
["209E15051","MILE","RESHAPING UNDER GUARDRAIL, AS PER PLAN","","","CHECK UNIT OF MEASURE",0]
["209E60200","STA","LINEAR GRADING","","","CHECK UNIT OF MEASURE",0]
["209E60201","STA","LINEAR GRADING, AS PER PLAN","","","CHECK UNIT OF MEASURE",0]
["209E60500","MILE","LINEAR GRADING","","","CHECK UNIT OF MEASURE",0]
["209E60501","MILE","LINEAR GRADING, AS PER PLAN","","","CHECK UNIT OF MEASURE",0]
["209E61000","SY","SPECIAL - SHAPING","","","",0]
["209E70000","CY","BORROW","","","CHECK UNIT OF MEASURE",0]
["209E70050","TON","BORROW","","","CHECK UNIT OF MEASURE",0]
["209E72000","STA","PREPARING SUBGRADE FOR SHOULDER PAVING","","","CHECK UNIT OF MEASURE",0]
["209E72001","STA","PREPARING SUBGRADE FOR SHOULDER PAVING, AS PER PLAN","","","CHECK UNIT OF MEASURE",0]
["209E72050","MILE","PREPARING SUBGRADE FOR SHOULDER PAVING","","","CHECK UNIT OF MEASURE",0]
["209E72051","MILE","PREPARING SUBGRADE FOR SHOULDER PAVING, AS PER PLAN","","","CHECK UNIT OF MEASURE",0]
["209E80000","EACH","GRADING MAILBOX APPROACHES","","","",0]
["209E80050","EACH","GRADING DRIVE APPROACHES","","","",0]
["209E98300","SY","LINEAR GRADING, MISC.:","","","ADD SUPPLEMENTAL DESCRIPTION",1]
["251E01000","SY","PARTIAL DEPTH PAVEMENT REPAIR (441)","","","CHECK UNIT OF MEASURE",0]
["251E01001","SY","PARTIAL DEPTH PAVEMENT REPAIR (441), AS PER PLAN","","","CHECK UNIT OF MEASURE",0]
["251E01010","CY","PARTIAL DEPTH PAVEMENT REPAIR (441)","","","CHECK UNIT OF MEASURE",0]
["251E01011","CY","PARTIAL DEPTH PAVEMENT REPAIR (441), AS PER PLAN","","","CHECK UNIT OF MEASURE",0]
["251E01020","SY","PARTIAL DEPTH PAVEMENT REPAIR (442)","","","CHECK UNIT OF MEASURE",0]
["251E01021","SY","PARTIAL DEPTH PAVEMENT REPAIR (442), AS PER PLAN","","","CHECK UNIT OF MEASURE",0]
["251E01030","CY","PARTIAL DEPTH PAVEMENT REPAIR (442)","","","CHECK UNIT OF MEASURE",0]
["251E01031","CY","PARTIAL DEPTH PAVEMENT REPAIR (442), AS PER PLAN","","","CHECK UNIT OF MEASURE",0]
["251E01040","SY","PARTIAL DEPTH PAVEMENT REPAIR (ASPHALT CONCRETE BASE)","","","",0]
["251E01041","SY","PARTIAL DEPTH PAVEMENT REPAIR (ASPHALT CONCRETE BASE), AS PER PLAN","","","",0]
["251E01042","CY","PARTIAL DEPTH PAVEMENT REPAIR (ASPHALT CONCRETE BASE)","","","",0]
["251E01043","CY","PARTIAL DEPTH PAVEMENT REPAIR (ASPHALT CONCRETE BASE), AS PER PLAN","","","",0]
["251E98000","CY","PARTIAL DEPTH REPAIR, MISC.:","","","ADD SUPPLEMENTAL DESCRIPTION",1]
["252E01000","SY","FULL DEPTH RIGID PAVEMENT REMOVAL AND FLEXIBLE REPLACEMENT","","","",0]
["252E01001","SY","FULL DEPTH RIGID PAVEMENT REMOVAL AND FLEXIBLE REPLACEMENT, AS PER PLAN","","","",0]
["252E01500","FT","FULL DEPTH PAVEMENT SAWING","","","",0]
["253E01000","SY","PAVEMENT REPAIR","","","CHECK UNIT OF MEASURE",0]
["253E01001","SY","PAVEMENT REPAIR, AS PER PLAN","","","CHECK UNIT OF MEASURE",0]
["253E02000","CY","PAVEMENT REPAIR","","","CHECK UNIT OF MEASURE",0]
["253E02001","CY","PAVEMENT REPAIR, AS PER PLAN","","","CHECK UNIT OF MEASURE",0]
["253E90000","CY","PAVEMENT REPAIR, MISC.:","","","ADD SUPPLEMENTAL DESCRIPTION",1]
["253E90100","SY","PAVEMENT REPAIR, MISC.:","","","ADD SUPPLEMENTAL DESCRIPTION",1]
["254E01000","SY","PAVEMENT PLANING, ASPHALT CONCRETE","","","SPECIFY DEPTH",1]
["254E01001","SY","PAVEMENT PLANING, ASPHALT CONCRETE, AS PER PLAN","","","SPECIFY DEPTH",1]
["254E01010","SY","PAVEMENT PLANING, PORTLAND CEMENT CONCRETE","","","SPECIFY DEPTH",1]
["254E01011","SY","PAVEMENT PLANING, PORTLAND CEMENT CONCRETE, AS PER PLAN","","","SPECIFY DEPTH",1]
["254E01600","SY","PATCHING PLANED SURFACE","","","",0]
["254E01601","SY","PATCHING PLANED SURFACE, AS PER PLAN","","","",0]
["255E10010","SY","FULL DEPTH PAVEMENT REMOVAL AND RIGID REPLACEMENT, CLASS QC1","","","",0]
["255E10011","SY","FULL DEPTH PAVEMENT REMOVAL AND RIGID REPLACEMENT, CLASS QC1, AS PER PLAN","","","",0]
["255E10110","SY","FULL DEPTH PAVEMENT REMOVAL AND RIGID REPLACEMENT, CLASS QC FS","","","",0]
["255E10111","SY","FULL DEPTH PAVEMENT REMOVAL AND RIGID REPLACEMENT, CLASS QC FS, AS PER PLAN","","","",0]
["255E10160","SY","FULL DEPTH PAVEMENT REMOVAL AND RIGID REPLACEMENT, CLASS QC MS","","","",0]
["255E10161","SY","FULL DEPTH PAVEMENT REMOVAL AND RIGID REPLACEMENT, CLASS QC MS, AS PER PLAN","","","",0]
["255E10200","SY","FULL DEPTH PAVEMENT REMOVAL AND RIGID REPLACEMENT, MISC.:","","","ADD SUPPLEMENTAL DESCRIPTION",1]
["255E10500","SY","FULL DEPTH PAVEMENT REMOVAL AND RIGID REPLACEMENT, CLASS RRCM","","","",0]
["255E10501","SY","FULL DEPTH PAVEMENT REMOVAL AND RIGID REPLACEMENT, CLASS RRCM, AS PER PLAN","","","",0]
["255E20000","FT","FULL DEPTH PAVEMENT SAWING","","","",0]
["255E20001","FT","FULL DEPTH PAVEMENT SAWING, AS PER PLAN","","","",0]
["255E98000","CY","FULL DEPTH REPAIR, MISC.:","","","ADD SUPPLEMENTAL DESCRIPTION",1]
["256E10000","SF","BONDED PATCHING OF PORTLAND CEMENT CONCRETE PAVEMENT, TYPE A","","","",0]
["256E10001","SF","BONDED PATCHING OF PORTLAND CEMENT CONCRETE PAVEMENT, TYPE A, AS PER PLAN","","","",0]
["256E10100","SF","BONDED PATCHING OF PORTLAND CEMENT CONCRETE PAVEMENT, TYPE B","","","",0]
["256E10200","SF","BONDED PATCHING OF PORTLAND CEMENT CONCRETE PAVEMENT, TYPE C","","","",0]
["257E10000","SY","DIAMOND GRINDING PORTLAND CEMENT CONCRETE PAVEMENT","","","",0]
["257E10001","SY","DIAMOND GRINDING PORTLAND CEMENT CONCRETE PAVEMENT, AS PER PLAN","","","",0]
["258E10000","EACH","RETROFIT DOWEL BAR","","","",0]
["258E10001","EACH","RETROFIT DOWEL BAR, AS PER PLAN","","","",0]
["258E10010","EACH","RETROFIT DEFORMED BARS","","","",0]
["300E99000","LS","SPECIAL - BASES","","","DESIGN BUILD PROJECTS ONLY",0]
["301E56000","CY","ASPHALT CONCRETE BASE, PG64-22, (449)","","","",0]
["301E56001","CY","ASPHALT CONCRETE BASE, (449), AS PER PLAN","","","SPECIFY BINDER TYPE",1]
["301E56010","CY","ASPHALT CONCRETE BASE, PG64-28, (449)","","","",0]
["301E56100","CY","ASPHALT CONCRETE BASE, PG64-22, (449), (DRIVEWAYS)","","","",0]
["302E56000","CY","ASPHALT CONCRETE BASE, PG64-22, (449)","","","",0]
["302E56001","CY","ASPHALT CONCRETE BASE, (449), AS PER PLAN","","","SPECIFY BINDER TYPE",1]
["302E66001","CY","ASPHALT CONCRETE BASE, AS PER PLAN","","","",0]
["304E20000","CY","AGGREGATE BASE","","","",0]
["304E20001","CY","AGGREGATE BASE, AS PER PLAN","","","",0]
["305E10010","SY","6\" CONCRETE BASE, CLASS QC 1P","","","",0]
["305E10011","SY","6\" CONCRETE BASE, CLASS QC 1P, AS PER PLAN","","","",0]
["305E10020","SY","6\" CONCRETE BASE, CLASS QC 1P WITH QC/QA","","","",0]
["305E10021","SY","6\" CONCRETE BASE, CLASS QC 1P WITH QC/QA, AS PER PLAN","","","",0]
["305E11010","SY","7\" CONCRETE BASE, CLASS QC 1P","","","",0]
["305E11011","SY","7\" CONCRETE BASE, CLASS QC 1P, AS PER PLAN","","","",0]
["305E11020","SY","7\" CONCRETE BASE, CLASS QC 1P WITH QC/QA","","","",0]
["305E11021","SY","7\" CONCRETE BASE, CLASS QC 1P WITH QC/QA, AS PER PLAN","","","",0]
["305E12010","SY","8\" CONCRETE BASE, CLASS QC 1P","","","",0]
["305E12011","SY","8\" CONCRETE BASE, CLASS QC 1P, AS PER PLAN","","","",0]
["305E12020","SY","8\" CONCRETE BASE, CLASS QC 1P WITH QC/QA","","","",0]
["305E12021","SY","8\" CONCRETE BASE, CLASS QC 1P WITH QC/QA, AS PER PLAN","","","",0]
["305E13010","SY","9\" CONCRETE BASE, CLASS QC 1P","","","",0]
["305E13011","SY","9\" CONCRETE BASE, CLASS QC 1P, AS PER PLAN","","","",0]
["305E13020","SY","9\" CONCRETE BASE, CLASS QC 1P WITH QC/QA","","","",0]
["305E13021","SY","9\" CONCRETE BASE, CLASS QC 1P WITH QC/QA, AS PER PLAN","","","",0]
["305E14010","SY","10\" CONCRETE BASE, CLASS QC 1P","","","",0]
["305E14011","SY","10\" CONCRETE BASE, CLASS QC 1P, AS PER PLAN","","","",0]
["305E14020","SY","10\" CONCRETE BASE, CLASS QC 1P WITH QC/QA","","","",0]
["305E14021","SY","10\" CONCRETE BASE, CLASS QC 1P WITH QC/QA, AS PER PLAN","","","",0]
["305E15010","SY","11\" CONCRETE BASE, CLASS QC 1P","","","",0]
["305E15011","SY","11\" CONCRETE BASE, CLASS QC 1P, AS PER PLAN","","","",0]
["305E15020","SY","11\" CONCRETE BASE, CLASS QC 1P WITH QC/QA","","","",0]
["305E15021","SY","11\" CONCRETE BASE, CLASS QC 1P WITH QC/QA, AS PER PLAN","","","",0]
["305E16010","SY","12\" CONCRETE BASE, CLASS QC 1P","","","",0]
["305E16011","SY","12\" CONCRETE BASE, CLASS QC 1P, AS PER PLAN","","","",0]
["305E16020","SY","12\" CONCRETE BASE, CLASS QC 1P WITH QC/QA","","","",0]
["305E16021","SY","12\" CONCRETE BASE, CLASS QC 1P WITH QC/QA, AS PER PLAN","","","",0]
["305E17010","SY","13\" CONCRETE BASE, CLASS QC 1P","","","",0]
["305E17011","SY","13\" CONCRETE BASE, CLASS QC 1P, AS PER PLAN","","","",0]
["305E17020","SY","13\" CONCRETE BASE, CLASS QC 1P WITH QC/QA","","","",0]
["305E17021","SY","13\" CONCRETE BASE, CLASS QC 1P WITH QC/QA, AS PER PLAN","","","",0]
["305E17500","SY","CONCRETE BASE, MISC.:","","","ADD SUPPLEMENTAL DESCRIPTION",1]
["320E70000","SY","RUBBLIZE AND ROLL","","","",0]
["320E80000","CY","FILLER AGGREGATE","","","",0]
["321E17500","SY","CRACKING AND SEATING NON-REINFORCED CONCRETE PAVEMENT","","","",0]
["400E10000","LS","SPECIAL – PAVER MOUNTED THERMAL PROFILING","","","",0]
["400E99000","LS","SPECIAL - FLEXIBLE PAVEMENT","","","DESIGN BUILD PROJECTS ONLY",0]
["407E10000","GAL","TACK COAT","","","",0]
["407E10001","GAL","TACK COAT, AS PER PLAN","","","",0]
["407E13900","GAL","TACK COAT, 702.13","","","",0]
["407E13901","GAL","TACK COAT, 702.13, AS PER PLAN","","","",0]
["407E20000","GAL","NON-TRACKING TACK COAT","","","",0]
["407E20001","GAL","NON-TRACKING TACK COAT, AS PER PLAN","","","",0]
["407E98010","GAL","TACK COAT, MISC.:","","","ADD SUPPLEMENTAL DESCRIPTION",1]
["408E10000","GAL","PRIME COAT","","","",0]
["408E10001","GAL","PRIME COAT, AS PER PLAN","","","",0]
["409E30000","FT","SAWING AND SEALING ASPHALT CONCRETE PAVEMENT JOINTS","","","",0]
["409E30001","FT","SAWING AND SEALING ASPHALT CONCRETE PAVEMENT JOINTS, AS PER PLAN","","","",0]
["409E98000","SY","SEALING, MISC:","","","ADD SUPPLEMENTAL DESCRIPTION",1]
["409E98010","LB","SEALING, MISC.:","","","ADD SUPPLEMENTAL DESCRIPTION",1]
["409E98020","GAL","SEALING, MISC:","","","ADD SUPPLEMENTAL DESCRIPTION",1]
["410E10000","CY","TRAFFIC COMPACTED SURFACE, TYPE A","","","CHECK UNIT OF MEASURE",0]
["410E10001","CY","TRAFFIC COMPACTED SURFACE, TYPE A, AS PER PLAN","","","CHECK UNIT OF MEASURE",0]
["410E11000","CY","TRAFFIC COMPACTED SURFACE, TYPE B","","","CHECK UNIT OF MEASURE",0]
["410E11001","CY","TRAFFIC COMPACTED SURFACE, TYPE B, AS PER PLAN","","","CHECK UNIT OF MEASURE",0]
["410E12000","CY","TRAFFIC COMPACTED SURFACE, TYPE A OR B","","","CHECK UNIT OF MEASURE",0]
["410E12001","CY","TRAFFIC COMPACTED SURFACE, TYPE A OR B, AS PER PLAN","","","CHECK UNIT OF MEASURE",0]
["410E13000","CY","TRAFFIC COMPACTED SURFACE, TYPE C","","","CHECK UNIT OF MEASURE",0]
["410E13001","CY","TRAFFIC COMPACTED SURFACE, TYPE C, AS PER PLAN","","","CHECK UNIT OF MEASURE",0]
["410E14001","CY","TRAFFIC COMPACTED SURFACE, AS PER PLAN","","","CHECK UNIT OF MEASURE",0]
["410E20000","TON","TRAFFIC COMPACTED SURFACE, TYPE A","","","CHECK UNIT OF MEASURE",0]
["410E21000","TON","TRAFFIC COMPACTED SURFACE, TYPE B","","","CHECK UNIT OF MEASURE",0]
["410E22000","TON","TRAFFIC COMPACTED SURFACE, TYPE A OR B","","","CHECK UNIT OF MEASURE",0]
["410E23000","TON","TRAFFIC COMPACTED SURFACE, TYPE C","","","CHECK UNIT OF MEASURE",0]
["410E24001","TON","TRAFFIC COMPACTED SURFACE, AS PER PLAN","","","CHECK UNIT OF MEASURE",0]
["411E10000","CY","STABILIZED CRUSHED AGGREGATE","","","",0]
["411E10001","CY","STABILIZED CRUSHED AGGREGATE, AS PER PLAN","","","",0]
["421E10000","SY","MICROSURFACING, SURFACE COURSE (FR)","","","",0]
["421E10001","SY","MICROSURFACING, SURFACE COURSE (FR), AS PER PLAN","","","",0]
["421E10010","SY","MICROSURFACING, SURFACE COURSE","","","",0]
["421E10011","SY","MICROSURFACING, SURFACE COURSE, AS PER PLAN","","","",0]
["421E10020","SY","MICROSURFACING, LEVELING COURSE","","","",0]
["421E10021","SY","MICROSURFACING, LEVELING COURSE, AS PER PLAN","","","",0]
["421E10030","TON","MICROSURFACING, RUT FILL COURSE","","","",0]
["422E11000","SY","AGGREGATE, SINGLE CHIP SEAL, TYPE A","","","",0]
["422E11001","SY","AGGREGATE, SINGLE CHIP SEAL, TYPE A, AS PER PLAN","","","",0]
["422E11100","SY","AGGREGATE, SINGLE CHIP SEAL, TYPE B","","","",0]
["422E11101","SY","AGGREGATE, SINGLE CHIP SEAL, TYPE B, AS PER PLAN","","","",0]
["422E21000","SY","AGGREGATE, DOUBLE CHIP SEAL","","","",0]
["422E21001","SY","AGGREGATE, DOUBLE CHIP SEAL, AS PER PLAN","","","",0]
["422E25000","GAL","EMULSION, CHIP SEAL","","","",0]
["422E25001","GAL","EMULSION, CHIP SEAL, AS PER PLAN","","","",0]
["423E00100","LB","CRACK SEALING, TYPE I","","","",0]
["423E00102","LB","CRACK SEALING WITH ROUTING, TYPE I","","","",0]
["423E00104","LB","CRACK SEALING, TYPE II","","","",0]
["423E00105","LB","CRACK SEALING, TYPE II, AS PER PLAN","","","",0]
["423E00150","LB","CRACK SEALING, TYPE IV","","","",0]
["423E00160","LB","CRACK SEALING WITH SAWING, TYPE I","","","",0]
["423E00200","SY","CRACK SEALING, TYPE I","","","",0]
["423E00202","SY","CRACK SEALING WITH ROUTING, TYPE I","","","",0]
["423E00204","SY","CRACK SEALING, TYPE II","","","",0]
["423E00205","SY","CRACK SEALING, TYPE II, AS PER PLAN","","","",0]
["423E00250","SY","CRACK SEALING, TYPE IV","","","",0]
["423E00251","SY","CRACK SEALING, TYPE IV, AS PER PLAN","","","",0]
["423E00260","SY","CRACK SEALING WITH SAWING, TYPE I","","","",0]
["423E98000","LB","CRACK SEALING, MISC.:","","","ADD SUPPLEMENTAL DESCRIPTION",1]
["423E98100","SY","CRACK SEALING, MISC.:","","","ADD SUPPLEMENTAL DESCRIPTION",1]
["423E98200","FT","CRACK SEALING, MISC.:","","","ADD SUPPLEMENTAL DESCRIPTION",1]
["424E13100","CY","FINE GRADED POLYMER ASPHALT CONCRETE, TYPE A, (449)","","","",0]
["424E13101","CY","FINE GRADED POLYMER ASPHALT CONCRETE, TYPE A, (449), AS PER PLAN","","","",0]
["424E14000","CY","FINE GRADED POLYMER ASPHALT CONCRETE, TYPE B, (448)","","","",0]
["424E14001","CY","FINE GRADED POLYMER ASPHALT CONCRETE, TYPE B, (448), AS PER PLAN","","","",0]
["424E14011","CY","FINE GRADED POLYMER ASPHALT CONCRETE, TYPE B, (448), WITH SUPPLEMENT 1059 WARRANTY, AS PER PLAN","","","",0]
["424E14100","CY","FINE GRADED POLYMER ASPHALT CONCRETE, TYPE B, (449)","","","",0]
["424E14101","CY","FINE GRADED POLYMER ASPHALT CONCRETE, TYPE B, (449), AS PER PLAN","","","",0]
["424E14111","CY","FINE GRADED POLYMER ASPHALT CONCRETE, TYPE B, (449), WITH SUPPLEMENT 1059 WARRANTY, AS PER PLAN","","","",0]
["441E00100","CY","ANTI-SEGREGATION EQUIPMENT","","","",0]
["441E10000","CY","ASPHALT CONCRETE SURFACE COURSE, TYPE 1, (446), PG64-22","","","",0]
["441E10100","CY","ASPHALT CONCRETE SURFACE COURSE, TYPE 1, (446), PG70-22M","","","",0]
["441E10101","CY","ASPHALT CONCRETE SURFACE COURSE, TYPE 1, (446), AS PER PLAN","","","SPECIFY BINDER TYPE",1]
["441E10200","CY","ASPHALT CONCRETE INTERMEDIATE COURSE, TYPE 2, (446)","","","",0]
["441E10201","CY","ASPHALT CONCRETE INTERMEDIATE COURSE, TYPE 2, (446), AS PER PLAN","","","SPECIFY BINDER TYPE",1]
["441E20000","CY","ASPHALT CONCRETE SURFACE COURSE, TYPE 1, (446), PG64-22 WITH SUPPLEMENT 1059 WARRANTY","","","",0]
["441E50000","CY","ASPHALT CONCRETE SURFACE COURSE, TYPE 1, (448), PG64-22","","","",0]
["441E50100","CY","ASPHALT CONCRETE SURFACE COURSE, TYPE 1, (448), PG70-22M","","","",0]
["441E50101","CY","ASPHALT CONCRETE SURFACE COURSE, TYPE 1, (448), AS PER PLAN","","","SPECIFY BINDER TYPE",1]
["441E50200","CY","ASPHALT CONCRETE INTERMEDIATE COURSE, TYPE 1, (448)","","","",0]
["441E50201","CY","ASPHALT CONCRETE INTERMEDIATE COURSE, TYPE 1, (448), AS PER PLAN","","","SPECIFY BINDER TYPE",1]
["441E50300","CY","ASPHALT CONCRETE INTERMEDIATE COURSE, TYPE 2, (448)","","","",0]
["441E50301","CY","ASPHALT CONCRETE INTERMEDIATE COURSE, TYPE 2, (448), AS PER PLAN","","","SPECIFY BINDER TYPE",1]
["441E60000","CY","ASPHALT CONCRETE SURFACE COURSE, TYPE 1, (448), PG64-22 WITH SUPPLEMENT 1059 WARRANTY","","","",0]
["441E70000","CY","ASPHALT CONCRETE SURFACE COURSE, TYPE 1, (449), PG64-22","","","",0]
["441E70100","CY","ASPHALT CONCRETE SURFACE COURSE, TYPE 1, (449), PG70-22M","","","",0]
["441E70101","CY","ASPHALT CONCRETE SURFACE COURSE, TYPE 1, (449), AS PER PLAN","","","SPECIFY BINDER TYPE",1]
["441E70200","CY","ASPHALT CONCRETE INTERMEDIATE COURSE, TYPE 1, (449)","","","",0]
["441E70201","CY","ASPHALT CONCRETE INTERMEDIATE COURSE, TYPE 1, (449), AS PER PLAN","","","SPECIFY BINDER TYPE",1]
["441E70300","CY","ASPHALT CONCRETE INTERMEDIATE COURSE, TYPE 2, (449)","","","",0]
["441E70301","CY","ASPHALT CONCRETE INTERMEDIATE COURSE, TYPE 2, (449), AS PER PLAN","","","SPECIFY BINDER TYPE",1]
["441E70500","CY","ASPHALT CONCRETE SURFACE COURSE, TYPE 1, (449), (DRIVEWAYS)","","","",0]
["441E70501","CY","ASPHALT CONCRETE SURFACE COURSE, TYPE 1, (449), (DRIVEWAYS), AS PER PLAN","","","",0]
["441E70600","CY","ASPHALT CONCRETE INTERMEDIATE COURSE, TYPE 1, (449), (DRIVEWAYS)","","","",0]
["441E70700","CY","ASPHALT CONCRETE INTERMEDIATE COURSE, TYPE 2, (449), (DRIVEWAYS)","","","",0]
["441E70800","CY","ASPHALT CONCRETE INTERMEDIATE COURSE, TYPE 1, (449), (UNDER GUARDRAIL)","","","",0]
["441E70801","CY","ASPHALT CONCRETE INTERMEDIATE COURSE, TYPE 1, (449), (UNDER GUARDRAIL), AS PER PLAN","","","",0]
["441E90000","CY","ASPHALT CONCRETE, MISC.:","","","ADD SUPPLEMENTAL DESCRIPTION",1]
["441E91000","SY","ASPHALT CONCRETE, MISC.:","","","ADD SUPPLEMENTAL DESCRIPTION",1]
["441E92000","LS","ASPHALT CONCRETE, MISC.:","","","ADD SUPPLEMENTAL DESCRIPTION",1]
["442E00100","CY","ANTI-SEGREGATION EQUIPMENT","","","",0]
["442E00101","CY","ANTI-SEGREGATION EQUIPMENT, AS PER PLAN","","","",0]
["442E00200","CY","ASPHALT CONCRETE SURFACE COURSE, 9.5 MM, TYPE A (446)","","","",0]
["442E00201","CY","ASPHALT CONCRETE SURFACE COURSE, 9.5 MM, TYPE A (446), AS PER PLAN","","","SPECIFY BINDER TYPE",1]
["442E00300","CY","ASPHALT CONCRETE SURFACE COURSE, 9.5 MM, TYPE B (446)","","","",0]
["442E00301","CY","ASPHALT CONCRETE SURFACE COURSE, 9.5 MM, TYPE B (446), AS PER PLAN","","","SPECIFY BINDER TYPE",1]
["442E10000","CY","ASPHALT CONCRETE SURFACE COURSE, 12.5 MM, TYPE A (446)","","","",0]
["442E10001","CY","ASPHALT CONCRETE SURFACE COURSE, 12.5 MM, TYPE A (446), AS PER PLAN","","","SPECIFY BINDER TYPE",1]
["442E10002","CY","ASPHALT CONCRETE SURFACE COURSE, 12.5 MM, TYPE A (446) WITH SUPPLEMENT 1059 WARRANTY","","","",0]
["442E10003","CY","ASPHALT CONCRETE SURFACE COURSE, 12.5 MM, TYPE A (446) WITH SUPPLEMENT 1059 WARRANTY, AS PER PLAN","","","SPECIFY BINDER TYPE",1]
["442E10050","CY","ASPHALT CONCRETE SURFACE COURSE, 12.5 MM, TYPE B (446)","","","",0]
["442E10051","CY","ASPHALT CONCRETE SURFACE COURSE, 12.5 MM, TYPE B (446), AS PER PLAN","","","SPECIFY BINDER TYPE",1]
["442E10060","CY","ASPHALT CONCRETE SURFACE COURSE, 12.5 MM, TYPE B (446) WITH SUPPLEMENT 1059 WARRANTY","","","",0]
["442E10061","CY","ASPHALT CONCRETE SURFACE COURSE, 12.5 MM, TYPE B (446) WITH SUPPLEMENT 1059 WARRANTY, AS PER PLAN","","","SPECIFY BINDER TYPE",1]
["442E10080","CY","ASPHALT CONCRETE INTERMEDIATE COURSE, 12.5 MM, TYPE A (446)","","","",0]
["442E10081","CY","ASPHALT CONCRETE INTERMEDIATE COURSE, 12.5 MM, TYPE A (446), AS PER PLAN","","","",0]
["442E10090","CY","ASPHALT CONCRETE INTERMEDIATE COURSE, 12.5 MM, TYPE B (446)","","","",0]
["442E10091","CY","ASPHALT CONCRETE INTERMEDIATE COURSE, 12.5 MM, TYPE B (446), AS PER PLAN","","","",0]
["442E10100","CY","ASPHALT CONCRETE INTERMEDIATE COURSE, 19 MM, TYPE A (446)","","","",0]
["442E10101","CY","ASPHALT CONCRETE INTERMEDIATE COURSE, 19 MM, TYPE A (446), AS PER PLAN","","","SPECIFY BINDER TYPE",1]
["442E10150","CY","ASPHALT CONCRETE INTERMEDIATE COURSE, 19 MM, TYPE B (446)","","","",0]
["442E10151","CY","ASPHALT CONCRETE INTERMEDIATE COURSE, 19 MM, TYPE B (446), AS PER PLAN","","","SPECIFY BINDER TYPE",1]
["442E10200","CY","ASPHALT CONCRETE SURFACE COURSE, 9.5 MM, TYPE A (447)","","","",0]
["442E10201","CY","ASPHALT CONCRETE SURFACE COURSE, 9.5 MM, TYPE A (447), AS PER PLAN","","","",0]
["442E10250","CY","ASPHALT CONCRETE SURFACE COURSE, 9.5 MM, TYPE B (447)","","","",0]
["442E10251","CY","ASPHALT CONCRETE SURFACE COURSE, 9.5 MM, TYPE B (447), AS PER PLAN","","","",0]
["442E10300","CY","ASPHALT CONCRETE SURFACE COURSE, 12.5 MM, TYPE A (447)","","","",0]
["442E10301","CY","ASPHALT CONCRETE SURFACE COURSE, 12.5 MM, TYPE A (447), AS PER PLAN","","","",0]
["442E10350","CY","ASPHALT CONCRETE SURFACE COURSE, 12.5 MM, TYPE B (447)","","","",0]
["442E10351","CY","ASPHALT CONCRETE SURFACE COURSE, 12.5 MM, TYPE B (447), AS PER PLAN","","","",0]
["442E10500","CY","ASPHALT CONCRETE SURFACE COURSE, 9.5 MM, TYPE A (448)","","","",0]
["442E10501","CY","ASPHALT CONCRETE SURFACE COURSE, 9.5 MM, TYPE A (448), AS PER PLAN","","","SPECIFY BINDER TYPE",1]
["442E10600","CY","ASPHALT CONCRETE SURFACE COURSE, 9.5 MM, TYPE B (448)","","","",0]
["442E10601","CY","ASPHALT CONCRETE SURFACE COURSE, 9.5 MM, TYPE B (448), AS PER PLAN","","","SPECIFY BINDER TYPE",1]
["442E20000","CY","ASPHALT CONCRETE SURFACE COURSE, 12.5 MM, TYPE A (448)","","","",0]
["442E20001","CY","ASPHALT CONCRETE SURFACE COURSE, 12.5 MM, TYPE A (448), AS PER PLAN","","","SPECIFY BINDER TYPE",1]
["442E20050","CY","ASPHALT CONCRETE SURFACE COURSE, 12.5 MM, TYPE B (448)","","","",0]
["442E20051","CY","ASPHALT CONCRETE SURFACE COURSE, 12.5 MM, TYPE B (448), AS PER PLAN","","","SPECIFY BINDER TYPE",1]
["442E20100","CY","ASPHALT CONCRETE INTERMEDIATE COURSE, 9.5 MM, TYPE A (448)","","","",0]
["442E20101","CY","ASPHALT CONCRETE INTERMEDIATE COURSE, 9.5 MM, TYPE A (448), AS PER PLAN","","","SPECIFY BINDER TYPE",1]
["442E20150","CY","ASPHALT CONCRETE INTERMEDIATE COURSE, 9.5 MM, TYPE B (448)","","","",0]
["442E20151","CY","ASPHALT CONCRETE INTERMEDIATE COURSE, 9.5 MM, TYPE B (448), AS PER PLAN","","","SPECIFY BINDER TYPE",1]
["442E20170","CY","ASPHALT CONCRETE INTERMEDIATE COURSE, 12.5 MM, TYPE A (448)","","","",0]
["442E20171","CY","ASPHALT CONCRETE INTERMEDIATE COURSE, 12.5 MM, TYPE A (448), AS PER PLAN","","","",0]
["442E20180","CY","ASPHALT CONCRETE INTERMEDIATE COURSE, 12.5 MM, TYPE B (448)","","","",0]
["442E20181","CY","ASPHALT CONCRETE INTERMEDIATE COURSE, 12.5 MM, TYPE B (448), AS PER PLAN","","","",0]
["442E20200","CY","ASPHALT CONCRETE INTERMEDIATE COURSE, 19 MM, TYPE A (448)","","","",0]
["442E20201","CY","ASPHALT CONCRETE INTERMEDIATE COURSE, 19 MM, TYPE A (448), AS PER PLAN","","","SPECIFY BINDER TYPE",1]
["442E20250","CY","ASPHALT CONCRETE INTERMEDIATE COURSE, 19 MM, TYPE B (448)","","","",0]
["442E20251","CY","ASPHALT CONCRETE INTERMEDIATE COURSE, 19 MM, TYPE B (448), AS PER PLAN","","","SPECIFY BINDER TYPE",1]
["442E22000","CY","ASPHALT CONCRETE SURFACE COURSE, 9.5 MM, TYPE A (449)","","","",0]
["442E22001","CY","ASPHALT CONCRETE SURFACE COURSE, 9.5 MM, TYPE A (449), AS PER PLAN","","","",0]
["442E22020","CY","ASPHALT CONCRETE SURFACE COURSE, 9.5 MM, TYPE A (449) (DRIVEWAYS)","","","",0]
["442E22050","CY","ASPHALT CONCRETE SURFACE COURSE, 9.5 MM, TYPE B (449)","","","",0]
["442E22051","CY","ASPHALT CONCRETE SURFACE COURSE, 9.5 MM, TYPE B (449), AS PER PLAN","","","",0]
["442E22100","CY","ASPHALT CONCRETE SURFACE COURSE, 12.5 MM, TYPE A (449)","","","",0]
["442E22101","CY","ASPHALT CONCRETE SURFACE COURSE, 12.5 MM, TYPE A (449), AS PER PLAN","","","",0]
["442E22120","CY","ASPHALT CONCRETE SURFACE COURSE, 12.5 MM, TYPE A (449) (DRIVEWAYS)","","","",0]
["442E22150","CY","ASPHALT CONCRETE SURFACE COURSE, 12.5 MM, TYPE B (449)","","","",0]
["442E22151","CY","ASPHALT CONCRETE SURFACE COURSE, 12.5 MM, TYPE B (449), AS PER PLAN","","","",0]
["442E22200","CY","ASPHALT CONCRETE INTERMEDIATE COURSE, 9.5 MM, TYPE A (449)","","","",0]
["442E22201","CY","ASPHALT CONCRETE INTERMEDIATE COURSE, 9.5 MM, TYPE A (449), AS PER PLAN","","","",0]
["442E22220","CY","ASPHALT CONCRETE INTERMEDIATE COURSE, 9.5 MM, TYPE A (449) (DRIVEWAYS)","","","",0]
["442E22250","CY","ASPHALT CONCRETE INTERMEDIATE COURSE, 9.5 MM, TYPE B (449)","","","",0]
["442E22251","CY","ASPHALT CONCRETE INTERMEDIATE COURSE, 9.5 MM, TYPE B (449), AS PER PLAN","","","",0]
["442E22300","CY","ASPHALT CONCRETE INTERMEDIATE COURSE, 12.5 MM, TYPE A (449)","","","",0]
["442E22301","CY","ASPHALT CONCRETE INTERMEDIATE COURSE, 12.5 MM, TYPE A (449), AS PER PLAN","","","",0]
["442E22320","CY","ASPHALT CONCRETE INTERMEDIATE COURSE, 12.5 MM, TYPE A (449) (DRIVEWAYS)","","","",0]
["442E22350","CY","ASPHALT CONCRETE INTERMEDIATE COURSE, 12.5 MM, TYPE B (449)","","","",0]
["442E22351","CY","ASPHALT CONCRETE INTERMEDIATE COURSE, 12.5 MM, TYPE B (449), AS PER PLAN","","","",0]
["442E22370","CY","ASPHALT CONCRETE INTERMEDIATE COURSE, 12.5 MM, TYPE B (449) (DRIVEWAYS)","","","",0]
["442E22400","CY","ASPHALT CONCRETE INTERMEDIATE COURSE, 19 MM, TYPE A (449)","","","",0]
["442E22401","CY","ASPHALT CONCRETE INTERMEDIATE COURSE, 19 MM, TYPE A (449), AS PER PLAN","","","",0]
["442E22420","CY","ASPHALT CONCRETE INTERMEDIATE COURSE, 19 MM, TYPE A (449) (DRIVEWAYS)","","","",0]
["442E22450","CY","ASPHALT CONCRETE INTERMEDIATE COURSE, 19 MM, TYPE B (449)","","","",0]
["442E22451","CY","ASPHALT CONCRETE INTERMEDIATE COURSE, 19 MM, TYPE B (449), AS PER PLAN","","","",0]
["442E90000","CY","ASPHALT CONCRETE, MISC.:","","","ADD SUPPLEMENTAL DESCRIPTION",1]
["443E10000","CY","STONE MATRIX ASPHALT CONCRETE, 12.5 MM, PG70-22M, (446)","","","",0]
["443E10001","CY","STONE MATRIX ASPHALT CONCRETE, 12.5 MM, PG70-22M, (446), AS PER PLAN","","","",0]
["443E12000","CY","STONE MATRIX ASPHALT CONCRETE, 12.5 MM, PG76-22M, (446)","","","",0]
["443E12001","CY","STONE MATRIX ASPHALT CONCRETE, 12.5 MM, PG76-22M, (446), AS PER PLAN","","","",0]
["443E98000","CY","STONE MATRIX ASPHALT CONCRETE, MISC.:","","","ADD SUPPLEMENTAL DESCRIPTION",1]
["450E99000","LS","SPECIAL - RIGID PAVEMENT","","","DESIGN BUILD PROJECTS ONLY",0]
["451E10010","SY","6\" REINFORCED CONCRETE PAVEMENT, CLASS QC 1P","","","",0]
["451E10011","SY","6\" REINFORCED CONCRETE PAVEMENT, CLASS QC 1P, AS PER PLAN","","","",0]
["451E10020","SY","6\" REINFORCED CONCRETE PAVEMENT, CLASS QC 1P WITH QC/QA","","","",0]
["451E10021","SY","6\" REINFORCED CONCRETE PAVEMENT, CLASS QC 1P WITH QC/QA, AS PER PLAN","","","",0]
["451E11010","SY","7\" REINFORCED CONCRETE PAVEMENT, CLASS QC 1P","","","",0]
["451E11011","SY","7\" REINFORCED CONCRETE PAVEMENT, CLASS QC 1P, AS PER PLAN","","","",0]
["451E11020","SY","7\" REINFORCED CONCRETE PAVEMENT, CLASS QC 1P WITH QC/QA","","","",0]
["451E11021","SY","7\" REINFORCED CONCRETE PAVEMENT, CLASS QC 1P WITH QC/QA, AS PER PLAN","","","",0]
["451E13010","SY","8\" REINFORCED CONCRETE PAVEMENT, CLASS QC 1P","","","",0]
["451E13011","SY","8\" REINFORCED CONCRETE PAVEMENT, CLASS QC 1P, AS PER PLAN","","","",0]
["451E13020","SY","8\" REINFORCED CONCRETE PAVEMENT, CLASS QC 1P WITH QC/QA","","","",0]
["451E13021","SY","8\" REINFORCED CONCRETE PAVEMENT, CLASS QC 1P WITH QC/QA, AS PER PLAN","","","",0]
["451E14010","SY","9\" REINFORCED CONCRETE PAVEMENT, CLASS QC 1P","","","",0]
["451E14011","SY","9\" REINFORCED CONCRETE PAVEMENT, CLASS QC 1P, AS PER PLAN","","","",0]
["451E14020","SY","9\" REINFORCED CONCRETE PAVEMENT, CLASS QC 1P WITH QC/QA","","","",0]
["451E14021","SY","9\" REINFORCED CONCRETE PAVEMENT, CLASS QC 1P WITH QC/QA, AS PER PLAN","","","",0]
["451E15010","SY","10\" REINFORCED CONCRETE PAVEMENT, CLASS QC 1P","","","",0]
["451E15011","SY","10\" REINFORCED CONCRETE PAVEMENT, CLASS QC 1P, AS PER PLAN","","","",0]
["451E15020","SY","10\" REINFORCED CONCRETE PAVEMENT, CLASS QC 1P WITH QC/QA","","","",0]
["451E15021","SY","10\" REINFORCED CONCRETE PAVEMENT, CLASS QC 1P WITH QC/QA, AS PER PLAN","","","",0]
["451E15060","SY","11\" REINFORCED CONCRETE PAVEMENT, CLASS QC 1P","","","",0]
["451E15061","SY","11\" REINFORCED CONCRETE PAVEMENT, CLASS QC 1P, AS PER PLAN","","","",0]
["451E15070","SY","11\" REINFORCED CONCRETE PAVEMENT, CLASS QC 1P WITH QC/QA","","","",0]
["451E15071","SY","11\" REINFORCED CONCRETE PAVEMENT, CLASS QC 1P WITH QC/QA, AS PER PLAN","","","",0]
["451E16010","SY","12\" REINFORCED CONCRETE PAVEMENT, CLASS QC 1P","","","",0]
["451E16011","SY","12\" REINFORCED CONCRETE PAVEMENT, CLASS QC 1P, AS PER PLAN","","","",0]
["451E16020","SY","12\" REINFORCED CONCRETE PAVEMENT, CLASS QC 1P WITH QC/QA","","","",0]
["451E16021","SY","12\" REINFORCED CONCRETE PAVEMENT, CLASS QC 1P WITH QC/QA, AS PER PLAN","","","",0]
["451E16110","SY","13\" REINFORCED CONCRETE PAVEMENT, CLASS QC 1P","","","",0]
["451E16111","SY","13\" REINFORCED CONCRETE PAVEMENT, CLASS QC 1P, AS PER PLAN","","","",0]
["451E16120","SY","13\" REINFORCED CONCRETE PAVEMENT, CLASS QC 1P WITH QC/QA","","","",0]
["451E16121","SY","13\" REINFORCED CONCRETE PAVEMENT, CLASS QC 1P WITH QC/QA, AS PER PLAN","","","",0]
["451E16210","SY","14\" REINFORCED CONCRETE PAVEMENT, CLASS QC 1P","","","",0]
["451E16211","SY","14\" REINFORCED CONCRETE PAVEMENT, CLASS QC 1P, AS PER PLAN","","","",0]
["451E16220","SY","14\" REINFORCED CONCRETE PAVEMENT, CLASS QC 1P WITH QC/QA","","","",0]
["451E16221","SY","14\" REINFORCED CONCRETE PAVEMENT, CLASS QC 1P WITH QC/QA, AS PER PLAN","","","",0]
["451E17010","SY","15\" REINFORCED CONCRETE PAVEMENT, CLASS QC 1P","","","",0]
["451E17011","SY","15\" REINFORCED CONCRETE PAVEMENT, CLASS QC 1P, AS PER PLAN","","","",0]
["451E17020","SY","15\" REINFORCED CONCRETE PAVEMENT, CLASS QC 1P WITH QC/QA","","","",0]
["451E17021","SY","15\" REINFORCED CONCRETE PAVEMENT, CLASS QC 1P WITH QC/QA, AS PER PLAN","","","",0]
["451E17510","SY","24\" REINFORCED CONCRETE PAVEMENT, CLASS QC 1P","","","",0]
["451E17511","SY","24\" REINFORCED CONCRETE PAVEMENT, CLASS QC 1P, AS PER PLAN","","","",0]
["451E17520","SY","24\" REINFORCED CONCRETE PAVEMENT, CLASS QC 1P WITH QC/QA","","","",0]
["451E17521","SY","24\" REINFORCED CONCRETE PAVEMENT, CLASS QC 1P WITH QC/QA, AS PER PLAN","","","",0]
["451E20000","SY","REINFORCED CONCRETE PAVEMENT, MISC.:","","","ADD SUPPLEMENTAL DESCRIPTION",1]
["451E30000","FT","SPECIAL - PRESSURE RELIEF JOINT, TYPE A","","","",0]
["451E31000","FT","SPECIAL - PRESSURE RELIEF JOINT, TYPE B","","","",0]
["451E32000","FT","SPECIAL - PRESSURE RELIEF JOINT, TYPE C","","","",0]
["451E33000","FT","SPECIAL - PRESSURE RELIEF JOINT, TYPE D","","","",0]
["451E34000","FT","SPECIAL - PRESSURE RELIEF JOINT","","","",0]
["451E35000","FT","SPECIAL - APPROACH SLAB PRESSURE RELIEF JOINT","","","",0]
["451E42000","FT","SPECIAL - PARTIAL DEPTH PRESSURE RELIEF JOINT, TYPE C","","","",0]
["452E09010","SY","4\" NON-REINFORCED CONCRETE PAVEMENT, CLASS QC 1P","","","",0]
["452E09011","SY","4\" NON-REINFORCED CONCRETE PAVEMENT, CLASS QC 1P, AS PER PLAN","","","",0]
["452E09020","SY","4\" NON-REINFORCED CONCRETE PAVEMENT, CLASS QC 1P WITH QC/QA","","","",0]
["452E09021","SY","4\" NON-REINFORCED CONCRETE PAVEMENT, CLASS QC 1P WITH QC/QA, AS PER PLAN","","","",0]
["452E10010","SY","6\" NON-REINFORCED CONCRETE PAVEMENT, CLASS QC 1P","","","",0]
["452E10011","SY","6\" NON-REINFORCED CONCRETE PAVEMENT, CLASS QC 1P, AS PER PLAN","","","",0]
["452E10020","SY","6\" NON-REINFORCED CONCRETE PAVEMENT, CLASS QC 1P WITH QC/QA","","","",0]
["452E10021","SY","6\" NON-REINFORCED CONCRETE PAVEMENT, CLASS QC 1P WITH QC/QA, AS PER PLAN","","","",0]
["452E10050","SY","6\" NON-REINFORCED CONCRETE PAVEMENT, CLASS QC MS","","","",0]
["452E10051","SY","6\" NON-REINFORCED CONCRETE PAVEMENT, CLASS QC MS, AS PER PLAN","","","",0]
["452E10060","SY","6\" NON-REINFORCED CONCRETE PAVEMENT, CLASS QC MS WITH QC/QA","","","",0]
["452E10061","SY","6\" NON-REINFORCED CONCRETE PAVEMENT, CLASS QC MS WITH QC/QA, AS PER PLAN","","","",0]
["452E11010","SY","7\" NON-REINFORCED CONCRETE PAVEMENT, CLASS QC 1P","","","",0]
["452E11011","SY","7\" NON-REINFORCED CONCRETE PAVEMENT, CLASS QC 1P, AS PER PLAN","","","",0]
["452E11020","SY","7\" NON-REINFORCED CONCRETE PAVEMENT, CLASS QC 1P WITH QC/QA","","","",0]
["452E11021","SY","7\" NON-REINFORCED CONCRETE PAVEMENT, CLASS QC 1P WITH QC/QA, AS PER PLAN","","","",0]
["452E11050","SY","7\" NON-REINFORCED CONCRETE PAVEMENT, CLASS QC MS","","","",0]
["452E12010","SY","8\" NON-REINFORCED CONCRETE PAVEMENT, CLASS QC 1P","","","",0]
["452E12011","SY","8\" NON-REINFORCED CONCRETE PAVEMENT, CLASS QC 1P, AS PER PLAN","","","",0]
["452E12020","SY","8\" NON-REINFORCED CONCRETE PAVEMENT, CLASS QC 1P WITH QC/QA","","","",0]
["452E12021","SY","8\" NON-REINFORCED CONCRETE PAVEMENT, CLASS QC 1P WITH QC/QA, AS PER PLAN","","","",0]
["452E12050","SY","8\" NON-REINFORCED CONCRETE PAVEMENT, CLASS QC MS","","","",0]
["452E12051","SY","8\" NON-REINFORCED CONCRETE PAVEMENT, CLASS QC MS, AS PER PLAN","","","",0]
["452E12060","SY","8\" NON-REINFORCED CONCRETE PAVEMENT, CLASS QC MS WITH QC/QA","","","",0]
["452E12061","SY","8\" NON-REINFORCED CONCRETE PAVEMENT, CLASS QC MS WITH QC/QA, AS PER PLAN","","","",0]
["452E13010","SY","9\" NON-REINFORCED CONCRETE PAVEMENT, CLASS QC 1P","","","",0]
["452E13011","SY","9\" NON-REINFORCED CONCRETE PAVEMENT, CLASS QC 1P, AS PER PLAN","","","",0]
["452E13020","SY","9\" NON-REINFORCED CONCRETE PAVEMENT, CLASS QC 1P WITH QC/QA","","","",0]
["452E13021","SY","9\" NON-REINFORCED CONCRETE PAVEMENT, CLASS QC 1P WITH QC/QA, AS PER PLAN","","","",0]
["452E13040","SY","9\" NON-REINFORCED CONCRETE PAVEMENT, CLASS QC MS","","","",0]
["452E13060","SY","9.5\" NON-REINFORCED CONCRETE PAVEMENT, CLASS QC 1P","","","",0]
["452E13061","SY","9.5\" NON-REINFORCED CONCRETE PAVEMENT, CLASS QC 1P, AS PER PLAN","","","",0]
["452E13070","SY","9.5\" NON-REINFORCED CONCRETE PAVEMENT, CLASS QC 1P WITH QC/QA","","","",0]
["452E13071","SY","9.5\" NON-REINFORCED CONCRETE PAVEMENT, CLASS QC 1P WITH QC/QA, AS PER PLAN","","","",0]
["452E14010","SY","10\" NON-REINFORCED CONCRETE PAVEMENT, CLASS QC 1P","","","",0]
["452E14011","SY","10\" NON-REINFORCED CONCRETE PAVEMENT, CLASS QC 1P, AS PER PLAN","","","",0]
["452E14020","SY","10\" NON-REINFORCED CONCRETE PAVEMENT, CLASS QC 1P WITH QC/QA","","","",0]
["452E14021","SY","10\" NON-REINFORCED CONCRETE PAVEMENT, CLASS QC 1P WITH QC/QA, AS PER PLAN","","","",0]
["452E14022","SY","10.5\" NON-REINFORCED CONCRETE PAVEMENT, CLASS QC 1P WITH QC/QA","","","",0]
["452E14050","SY","10\" NON-REINFORCED CONCRETE PAVEMENT, CLASS QC MS","","","",0]
["452E14110","SY","11\" NON-REINFORCED CONCRETE PAVEMENT, CLASS QC 1P","","","",0]
["452E14111","SY","11\" NON-REINFORCED CONCRETE PAVEMENT, CLASS QC 1P, AS PER PLAN","","","",0]
["452E14120","SY","11\" NON-REINFORCED CONCRETE PAVEMENT, CLASS QC 1P WITH QC/QA","","","",0]
["452E14121","SY","11\" NON-REINFORCED CONCRETE PAVEMENT, CLASS QC 1P WITH QC/QA, AS PER PLAN","","","",0]
["452E14122","SY","11.5\" NON-REINFORCED CONCRETE PAVEMENT, CLASS QC 1P WITH QC/QA","","","",0]
["452E15010","SY","12\" NON-REINFORCED CONCRETE PAVEMENT, CLASS QC 1P","","","",0]
["452E15011","SY","12\" NON-REINFORCED CONCRETE PAVEMENT, CLASS QC 1P, AS PER PLAN","","","",0]
["452E15020","SY","12\" NON-REINFORCED CONCRETE PAVEMENT, CLASS QC 1P WITH QC/QA","","","",0]
["452E15021","SY","12\" NON-REINFORCED CONCRETE PAVEMENT, CLASS QC 1P WITH QC/QA, AS PER PLAN","","","",0]
["452E15030","SY","12\" NON-REINFORCED CONCRETE PAVEMENT, CLASS QC MS","","","",0]
["452E15031","SY","12\" NON-REINFORCED CONCRETE PAVEMENT, CLASS QC MS, AS PER PLAN","","","",0]
["452E15050","SY","12.5\" NON-REINFORCED CONCRETE PAVEMENT, CLASS QC 1P","","","",0]
["452E15051","SY","12.5\" NON-REINFORCED CONCRETE PAVEMENT, CLASS QC 1P, AS PER PLAN","","","",0]
["452E15060","SY","12.5\" NON-REINFORCED CONCRETE PAVEMENT, CLASS QC 1P WITH QC/QA","","","",0]
["452E15061","SY","12.5\" NON-REINFORCED CONCRETE PAVEMENT, CLASS QC 1P WITH QC/QA, AS PER PLAN","","","",0]
["452E16010","SY","13\" NON-REINFORCED CONCRETE PAVEMENT, CLASS QC 1P","","","",0]
["452E16011","SY","13\" NON-REINFORCED CONCRETE PAVEMENT, CLASS QC 1P, AS PER PLAN","","","",0]
["452E16020","SY","13\" NON-REINFORCED CONCRETE PAVEMENT, CLASS QC 1P WITH QC/QA","","","",0]
["452E16021","SY","13\" NON-REINFORCED CONCRETE PAVEMENT, CLASS QC 1P WITH QC/QA, AS PER PLAN","","","",0]
["452E16050","SY","13.5\" NON-REINFORCED CONCRETE PAVEMENT, CLASS QC 1P","","","",0]
["452E16051","SY","13.5\" NON-REINFORCED CONCRETE PAVEMENT, CLASS QC 1P, AS PER PLAN","","","",0]
["452E16060","SY","13.5\" NON-REINFORCED CONCRETE PAVEMENT, CLASS QC 1P WITH QC/QA","","","",0]
["452E16061","SY","13.5\" NON-REINFORCED CONCRETE PAVEMENT, CLASS QC 1P WITH QC/QA, AS PER PLAN","","","",0]
["452E17010","SY","14\" NON-REINFORCED CONCRETE PAVEMENT, CLASS QC 1P","","","",0]
["452E17011","SY","14\" NON-REINFORCED CONCRETE PAVEMENT, CLASS QC 1P, AS PER PLAN","","","",0]
["452E17020","SY","14\" NON-REINFORCED CONCRETE PAVEMENT, CLASS QC 1P WITH QC/QA","","","",0]
["452E17021","SY","14\" NON-REINFORCED CONCRETE PAVEMENT, CLASS QC 1P WITH QC/QA, AS PER PLAN","","","",0]
["452E17050","SY","14.5\" NON-REINFORCED CONCRETE PAVEMENT, CLASS QC 1P","","","",0]
["452E17051","SY","14.5\" NON-REINFORCED CONCRETE PAVEMENT, CLASS QC 1P, AS PER PLAN","","","",0]
["452E17060","SY","14.5\" NON-REINFORCED CONCRETE PAVEMENT, CLASS QC 1P WITH QC/QA","","","",0]
["452E17061","SY","14.5\" NON-REINFORCED CONCRETE PAVEMENT, CLASS QC 1P WITH QC/QA, AS PER PLAN","","","",0]
["452E18010","SY","15\" NON-REINFORCED CONCRETE PAVEMENT, CLASS QC 1P","","","",0]
["452E18011","SY","15\" NON-REINFORCED CONCRETE PAVEMENT, CLASS QC 1P, AS PER PLAN","","","",0]
["452E18020","SY","15\" NON-REINFORCED CONCRETE PAVEMENT, CLASS QC 1P WITH QC/QA","","","",0]
["452E18021","SY","15\" NON-REINFORCED CONCRETE PAVEMENT, CLASS QC 1P WITH QC/QA, AS PER PLAN","","","",0]
["452E19001","SY","VARIABLE THICKNESS NON-REINFORCED CONCRETE PAVEMENT, AS PER PLAN","","","",0]
["452E19200","SY","NON-REINFORCED CONCRETE PAVEMENT, MISC.:","","","ADD SUPPLEMENTAL DESCRIPTION",1]
["452E19250","SF","NON-REINFORCED CONCRETE PAVEMENT, MISC.:","","","ADD SUPPLEMENTAL DESCRIPTION",1]
["502E11100","LS","STRUCTURE FOR MAINTAINING TRAFFIC","","","",0]
["502E11101","LS","STRUCTURE FOR MAINTAINING TRAFFIC, AS PER PLAN","","","",0]
["502E12200","LS","STRUCTURE FOR MAINTAINING TRAFFIC (PEDESTRIAN)","","","",0]
["502E12201","LS","STRUCTURE FOR MAINTAINING TRAFFIC (PEDESTRIAN), AS PER PLAN","","","",0]
["502E12300","LS","STRUCTURE FOR MAINTAINING TRAFFIC (RAILROAD)","","","",0]
["502E12301","LS","STRUCTURE FOR MAINTAINING TRAFFIC (RAILROAD), AS PER PLAN","","","",0]
["503E11100","LS","COFFERDAMS AND EXCAVATION BRACING","","","",0]
["503E11101","LS","COFFERDAMS AND EXCAVATION BRACING, AS PER PLAN","","","",0]
["503E21100","CY","UNCLASSIFIED EXCAVATION","","","CHECK UNIT OF MEASURE",0]
["503E21101","CY","UNCLASSIFIED EXCAVATION, AS PER PLAN","","","CHECK UNIT OF MEASURE",0]
["503E21102","CY","UNCLASSIFIED EXCAVATION, INCLUDING SHALE","","","CHECK UNIT OF MEASURE",0]
["503E21103","CY","UNCLASSIFIED EXCAVATION, INCLUDING SHALE, AS PER PLAN","","","CHECK UNIT OF MEASURE",0]
["503E21104","CY","UNCLASSIFIED EXCAVATION, INCLUDING ROCK","","","CHECK UNIT OF MEASURE",0]
["503E21105","CY","UNCLASSIFIED EXCAVATION, INCLUDING ROCK, AS PER PLAN","","","CHECK UNIT OF MEASURE",0]
["503E21300","LS","UNCLASSIFIED EXCAVATION","","","CHECK UNIT OF MEASURE",0]
["503E21301","LS","UNCLASSIFIED EXCAVATION, AS PER PLAN","","","CHECK UNIT OF MEASURE",0]
["503E21302","LS","UNCLASSIFIED EXCAVATION, INCLUDING SHALE","","","CHECK UNIT OF MEASURE",0]
["503E21303","LS","UNCLASSIFIED EXCAVATION, INCLUDING SHALE, AS PER PLAN","","","CHECK UNIT OF MEASURE",0]
["503E21320","LS","UNCLASSIFIED EXCAVATION, INCLUDING ROCK","","","CHECK UNIT OF MEASURE",0]
["503E21321","LS","UNCLASSIFIED EXCAVATION, INCLUDING ROCK, AS PER PLAN","","","CHECK UNIT OF MEASURE",0]
["503E21330","LS","UNCLASSIFIED EXCAVATION, INCLUDING ROCK AND/OR SHALE","","","CHECK UNIT OF MEASURE",0]
["503E21331","LS","UNCLASSIFIED EXCAVATION, INCLUDING ROCK AND/OR SHALE, AS PER PLAN","","","CHECK UNIT OF MEASURE",0]
["503E22200","CY","UNCLASSIFIED EXCAVATION, INCLUDING ROCK AND/OR SHALE","","","CHECK UNIT OF MEASURE",0]
["503E22201","CY","UNCLASSIFIED EXCAVATION, INCLUDING ROCK AND/OR SHALE, AS PER PLAN","","","",0]
["503E31100","CY","ROCK EXCAVATION","","","",0]
["503E31101","CY","ROCK EXCAVATION, AS PER PLAN","","","",0]
["503E31120","CY","SHALE EXCAVATION","","","",0]
["503E31121","CY","SHALE EXCAVATION, AS PER PLAN","","","",0]
["503E31500","LS","STRUCTURAL EXCAVATION, MISC.:","","","ADD SUPPLEMENTAL DESCRIPTION",1]
["504E11100","SF","STEEL SHEET PILING LEFT IN PLACE","","","SPECIFY MIN. SECTION MODULUS",1]
["504E11101","SF","STEEL SHEET PILING LEFT IN PLACE, AS PER PLAN","","","",0]
["505E11100","LS","PILE DRIVING EQUIPMENT MOBILIZATION","","","",0]
["505E11101","LS","PILE DRIVING EQUIPMENT MOBILIZATION, AS PER PLAN","","","",0]
["506E11100","LS","STATIC LOAD TEST","","","",0]
["506E11101","LS","STATIC LOAD TEST, AS PER PLAN","","","",0]
["506E12200","EACH","SUBSEQUENT STATIC LOAD TEST","","","",0]
["507E00100","FT","STEEL PILES HP10X42, FURNISHED","","","",0]
["507E00101","FT","STEEL PILES HP10X42, FURNISHED, AS PER PLAN","","","",0]
["507E00150","FT","STEEL PILES HP10X42, DRIVEN","","","",0]
["507E00151","FT","STEEL PILES HP10X42, DRIVEN, AS PER PLAN","","","",0]
["507E00200","FT","STEEL PILES HP12X53, FURNISHED","","","",0]
["507E00201","FT","STEEL PILES HP12X53, FURNISHED, AS PER PLAN","","","",0]
["507E00250","FT","STEEL PILES HP12X53, DRIVEN","","","",0]
["507E00251","FT","STEEL PILES HP12X53, DRIVEN, AS PER PLAN","","","",0]
["507E00300","FT","STEEL PILES HP14X73, FURNISHED","","","",0]
["507E00301","FT","STEEL PILES HP14X73, FURNISHED, AS PER PLAN","","","",0]
["507E00350","FT","STEEL PILES HP14X73, DRIVEN","","","",0]
["507E00351","FT","STEEL PILES HP14X73, DRIVEN, AS PER PLAN","","","",0]
["507E00360","FT","STEEL PILES HP14X89, FURNISHED","","","",0]
["507E00364","FT","STEEL PILES HP14X89, DRIVEN","","","",0]
["507E00370","FT","STEEL PILES, HP14X117, FURNISHED","","","",0]
["507E00371","FT","STEEL PILES, HP14X117, FURNISHED, AS PER PLAN","","","",0]
["507E00380","FT","STEEL PILES, HP14X117, DRIVEN","","","",0]
["507E00400","FT","STEEL PILES, MISC.:","","","ADD SUPPLEMENTAL DESCRIPTION",1]
["507E00410","EACH","STEEL PILES, MISC.:","","","ADD SUPPLEMENTAL DESCRIPTION",1]
["507E00500","FT","12\" CAST-IN-PLACE REINFORCED CONCRETE PILES, DRIVEN","","","",0]
["507E00501","FT","12\" CAST-IN-PLACE REINFORCED CONCRETE PILES, DRIVEN, AS PER PLAN","","","",0]
["507E00502","FT","12\" CAST-IN-PLACE REINFORCED CONCRETE PILES, DRIVEN WITH QC/QA","","","",0]
["507E00550","FT","12\" CAST-IN-PLACE REINFORCED CONCRETE PILES, FURNISHED","","","",0]
["507E00551","FT","12\" CAST-IN-PLACE REINFORCED CONCRETE PILES, FURNISHED, AS PER PLAN","","","",0]
["507E00600","FT","14\" CAST-IN-PLACE REINFORCED CONCRETE PILES, DRIVEN","","","",0]
["507E00601","FT","14\" CAST-IN-PLACE REINFORCED CONCRETE PILES, DRIVEN, AS PER PLAN","","","",0]
["507E00602","FT","14\" CAST-IN-PLACE REINFORCED CONCRETE PILES, DRIVEN WITH QC/QA","","","",0]
["507E00650","FT","14\" CAST-IN-PLACE REINFORCED CONCRETE PILES, FURNISHED","","","",0]
["507E00651","FT","14\" CAST-IN-PLACE REINFORCED CONCRETE PILES, FURNISHED, AS PER PLAN","","","",0]
["507E00700","FT","16\" CAST-IN-PLACE REINFORCED CONCRETE PILES, DRIVEN","","","",0]
["507E00701","FT","16\" CAST-IN-PLACE REINFORCED CONCRETE PILES, DRIVEN, AS PER PLAN","","","",0]
["507E00702","FT","16\" CAST-IN-PLACE REINFORCED CONCRETE PILES, DRIVEN WITH QC/QA","","","",0]
["507E00750","FT","16\" CAST-IN-PLACE REINFORCED CONCRETE PILES, FURNISHED","","","",0]
["507E00751","FT","16\" CAST-IN-PLACE REINFORCED CONCRETE PILES, FURNISHED, AS PER PLAN","","","",0]
["507E00800","FT","18\" CAST-IN-PLACE REINFORCED CONCRETE PILES, DRIVEN","","","",0]
["507E00801","FT","18\" CAST-IN-PLACE REINFORCED CONCRETE PILES, DRIVEN, AS PER PLAN","","","",0]
["507E00802","FT","18\" CAST-IN-PLACE REINFORCED CONCRETE PILES, DRIVEN WITH QC/QA","","","",0]
["507E00850","FT","18\" CAST-IN-PLACE REINFORCED CONCRETE PILES, FURNISHED","","","",0]
["507E00851","FT","18\" CAST-IN-PLACE REINFORCED CONCRETE PILES, FURNISHED, AS PER PLAN","","","",0]
["507E00860","FT","24\" CAST-IN-PLACE REINFORCED CONCRETE PILES, DRIVEN","","","",0]
["507E00861","FT","24\" CAST-IN-PLACE REINFORCED CONCRETE PILES, DRIVEN, AS PER PLAN","","","",0]
["507E00862","FT","24\" CAST-IN-PLACE REINFORCED CONCRETE PILES, DRIVEN WITH QC/QA","","","",0]
["507E00870","FT","24\" CAST-IN-PLACE REINFORCED CONCRETE PILES, FURNISHED","","","",0]
["507E00871","FT","24\" CAST-IN-PLACE REINFORCED CONCRETE PILES, FURNISHED, AS PER PLAN","","","",0]
["507E00880","FT","20\" CAST-IN-PLACE REINFORCED CONCRETE PILES, DRIVEN","","","",0]
["507E00890","FT","20\" CAST-IN-PLACE REINFORCED CONCRETE PILES, FURNISHED","","","",0]
["507E50000","FT","TIMBER PILES, CREOSOTED","","","",0]
["507E50100","FT","TIMBER PILES, UNTREATED","","","",0]
["507E71100","LS","SPECIAL - PILE TEST PROGRAM","","","",0]
["507E71200","FT","SPECIAL - PILE ENCASEMENT","","","",0]
["507E71500","FT","SPECIAL - PILE COATING","","","",0]
["507E92200","FT","PREBORED HOLES","","","",0]
["507E92201","FT","PREBORED HOLES, AS PER PLAN","","","",0]
["507E93300","EACH","STEEL POINTS OR SHOES","","","",0]
["507E93301","EACH","STEEL POINTS OR SHOES, AS PER PLAN","","","",0]
["507E98000","FT","PILING, MISC.:","","","ADD SUPPLEMENTAL DESCRIPTION",1]
["507E98010","EACH","PILING, MISC.:","","","ADD SUPPLEMENTAL DESCRIPTION",1]
["507E98020","LS","PILING, MISC.:","","","ADD SUPPLEMENTAL DESCRIPTION",1]
["509E10000","LB","EPOXY COATED STEEL REINFORCEMENT","","","",0]
["509E10001","LB","EPOXY COATED STEEL REINFORCEMENT, AS PER PLAN","","","",0]
["509E20000","LB","CONCRETE REINFORCEMENT, REPLACEMENT OF EXISTING CONCRETE REINFORCEMENT","","","",0]
["509E20001","LB","CONCRETE REINFORCEMENT, REPLACEMENT OF EXISTING CONCRETE REINFORCEMENT, AS PER PLAN","","","",0]
["509E25000","LB","UNCOATED STEEL REINFORCEMENT","","","",0]
["509E25001","LB","UNCOATED STEEL REINFORCEMENT, AS PER PLAN","","","",0]
["509E26000","LB","GALVANIZED STEEL REINFORCEMENT","","","",0]
["509E26001","LB","GALVANIZED STEEL REINFORCEMENT, AS PER PLAN","","","",0]
["509E27000","LB","CHROMIUM STEEL REINFORCEMENT","","","",0]
["509E27001","LB","CHROMIUM STEEL REINFORCEMENT, AS PER PLAN","","","",0]
["509E28000","LB","STAINLESS STEEL REINFORCEMENT","","","",0]
["509E28001","LB","STAINLESS STEEL REINFORCEMENT, AS PER PLAN","","","",0]
["509E30000","FT","NO. 2 DEFORMED GFRP REINFORCEMENT","","","",0]
["509E30001","FT","NO. 2 DEFORMED GFRP REINFORCEMENT, AS PER PLAN","","","",0]
["509E30010","FT","NO. 3 DEFORMED GFRP REINFORCEMENT","","","",0]
["509E30011","FT","NO. 3 DEFORMED GFRP REINFORCEMENT, AS PER PLAN","","","",0]
["509E30020","FT","NO. 4 DEFORMED GFRP REINFORCEMENT","","","",0]
["509E30021","FT","NO. 4 DEFORMED GFRP REINFORCEMENT, AS PER PLAN","","","",0]
["509E30030","FT","NO. 5 DEFORMED GFRP REINFORCEMENT","","","",0]
["509E30031","FT","NO. 5 DEFORMED GFRP REINFORCEMENT, AS PER PLAN","","","",0]
["509E30040","FT","NO. 6 DEFORMED GFRP REINFORCEMENT","","","",0]
["509E30041","FT","NO. 6 DEFORMED REINFORCEMENT, AS PER PLAN","","","",0]
["509E30050","FT","NO. 7 DEFORMED GFRP REINFORCEMENT","","","",0]
["509E30051","FT","NO. 7 DEFORMED GFRP REINFORCEMENT, AS PER PLAN","","","",0]
["509E30060","FT","NO. 8 DEFORMED GFRP REINFORCEMENT","","","",0]
["509E30061","FT","NO. 8 DEFORMED GFRP REINFORCEMENT, AS PER PLAN","","","",0]
["509E30070","FT","NO. 9 DEFORMED GFRP REINFORCEMENT","","","",0]
["509E30071","FT","NO. 9 DEFORMED GFRP REINFORCEMENT, AS PER PLAN","","","",0]
["509E30080","FT","NO. 10 DEFORMED GFRP REINFORCEMENT","","","",0]
["509E30081","FT","NO. 10 DEFORMED GFRP REINFORCEMENT, AS PER PLAN","","","",0]
["509E40000","LB","CONCRETE REINFORCEMENT, MISC.:","","","ADD SUPPLEMENTAL DESCRIPTION",1]
["510E09950","EACH","DOWEL HOLES WITH CEMENT GROUT","","","",0]
["510E09951","EACH","DOWEL HOLES WITH CEMENT GROUT, AS PER PLAN","","","",0]
["510E10000","EACH","DOWEL HOLES WITH NONSHRINK, NONMETALLIC GROUT","","","",0]
["510E10001","EACH","DOWEL HOLES WITH NONSHRINK, NONMETALLIC GROUT, AS PER PLAN","","","",0]
["511E31610","CY","CLASS QC2 CONCRETE, SUPERSTRUCTURE","","","COMP SLAB ON PRECAST BOX BEAM",0]
["511E31611","CY","CLASS QC2 CONCRETE, SUPERSTRUCTURE, AS PER PLAN","","","COMP SLAB ON PRECAST BOX BEAM",0]
["511E31612","CY","CLASS QC2 CONCRETE WITH QC/QA, SUPERSTRUCTURE","","","COMP SLAB ON PRECAST BOX BEAM",0]
["511E31613","CY","CLASS QC2 CONCRETE WITH QC/QA, SUPERSTRUCTURE, AS PER PLAN","","","COMP SLAB ON PRECAST BOX BEAM",0]
["511E32210","CY","CLASS QC2 CONCRETE, SUPERSTRUCTURE","","","CONTINUOUS CONCRETE SLAB",0]
["511E32211","CY","CLASS QC2 CONCRETE, SUPERSTRUCTURE, AS PER PLAN","","","CONTINUOUS CONCRETE SLAB",0]
["511E32212","CY","CLASS QC2 CONCRETE WITH QC/QA, SUPERSTRUCTURE","","","CONTINUOUS CONCRETE SLAB",0]
["511E32213","CY","CLASS QC2 CONCRETE WITH QC/QA, SUPERSTRUCTURE, AS PER PLAN","","","CONTINUOUS CONCRETE SLAB",0]
["511E33310","CY","CLASS QC2 CONCRETE, SUPERSTRUCTURE","","","CONT. CONC SLAB INCL PIER CAPS",0]
["511E33311","CY","CLASS QC2 CONCRETE, SUPERSTRUCTURE, AS PER PLAN","","","CONT. CONC SLAB INCL PIER CAPS",0]
["511E33312","CY","CLASS QC2 CONCRETE WITH QC/QA, SUPERSTRUCTURE","","","CONT. CONC SLAB INCL PIER CAPS",0]
["511E33313","CY","CLASS QC2 CONCRETE WITH QC/QA, SUPERSTRUCTURE, AS PER PLAN","","","CONT. CONC SLAB INCL PIER CAPS",0]
["511E33412","CY","CLASS QC2 CONCRETE, SUPERSTRUCTURE","","","SINGLE SPAN CONCRETE SLAB",0]
["511E33413","CY","CLASS QC2 CONCRETE, SUPERSTRUCTURE, AS PER PLAN","","","SINGLE SPAN CONCRETE SLAB",0]
["511E33414","CY","CLASS QC2 CONCRETE WITH QC/QA, SUPERSTRUCTURE","","","SINGLE SPAN CONCRETE SLAB",0]
["511E33415","CY","CLASS QC2 CONCRETE WITH QC/QA, SUPERSTRUCTURE, AS PER PLAN","","","SINGLE SPAN CONCRETE SLAB",0]
["511E33416","CY","CLASS QC2 CONCRETE, SUPERSTRUCTURE","","","DIAPHRAGMS FOR CONC I-BEAMS",0]
["511E33417","CY","CLASS QC2 CONCRETE, SUPERSTRUCTURE, AS PER PLAN","","","DIAPHRAGMS FOR CONC I-BEAMS",0]
["511E33418","CY","CLASS QC2 CONCRETE WITH QC/QA, SUPERSTRUCTURE","","","DIAPHRAGMS FOR CONC I-BEAMS",0]
["511E33419","CY","CLASS QC2 CONCRETE WITH QC/QA, SUPERSTRUCTURE, AS PER PLAN","","","DIAPHRAGMS FOR CONC I-BEAMS",0]
["511E33500","EACH","SEMI-INTEGRAL DIAPHRAGM GUIDE","","","",0]
["511E33501","EACH","SEMI-INTEGRAL DIAPHRAGM GUIDE, AS PER PLAN","","","",0]
["511E34410","CY","CLASS QC2 CONCRETE, SUPERSTRUCTURE","","","REPAIR OR RECONSTRUCTION",0]
["511E34411","CY","CLASS QC2 CONCRETE, SUPERSTRUCTURE, AS PER PLAN","","","REPAIR OR RECONSTRUCTION",0]
["511E34412","CY","CLASS QC2 CONCRETE WITH QC/QA, SUPERSTRUCTURE","","","REPAIR OR RECONSTRUCTION",0]
["511E34413","CY","CLASS QC2 CONCRETE WITH QC/QA, SUPERSTRUCTURE, AS PER PLAN","","","REPAIR OR RECONSTRUCTION",0]
["511E34416","CY","CLASS QC SCC CONCRETE, SUPERSTRUCTURE","","","",0]
["511E34417","CY","CLASS QC SCC CONCRETE, SUPERSTRUCTURE, AS PER PLAN","","","",0]
["511E34418","CY","CLASS QC SCC CONCRETE WITH QC/QA, SUPERSTRUCTURE","","","",0]
["511E34419","CY","CLASS QC SCC CONCRETE WITH QC/QA, SUPERSTRUCTURE, AS PER PLAN","","","",0]
["511E34422","SF","CLASS QC2 CONCRETE, SIDEWALK WEARING SURFACE","","","",0]
["511E34423","SF","CLASS QC2 CONCRETE, SIDEWALK WEARING SURFACE, AS PER PLAN","","","",0]
["511E34424","SF","CLASS QC2 CONCRETE WITH QC/QA, SIDEWALK WEARING SURFACE","","","",0]
["511E34425","SF","CLASS QC2 CONCRETE WITH QC/QA, SIDEWALK WEARING SURFACE, AS PER PLAN","","","",0]
["511E34440","SY","CLASS QC2 CONCRETE, BRIDGE DECK","","","CHECK UNIT OF MEASURE",0]
["511E34441","SY","CLASS QC2 CONCRETE, BRIDGE DECK, AS PER PLAN","","","CHECK UNIT OF MEASURE",0]
["511E34442","SY","CLASS QC2 CONCRETE WITH QC/QA, BRIDGE DECK","","","CHECK UNIT OF MEASURE",0]
["511E34443","SY","CLASS QC2 CONCRETE WITH QC/QA, BRIDGE DECK, AS PER PLAN","","","CHECK UNIT OF MEASURE",0]
["511E34444","CY","CLASS QC2 CONCRETE, BRIDGE DECK","","","CHECK UNIT OF MEASURE",0]
["511E34445","CY","CLASS QC2 CONCRETE, BRIDGE DECK, AS PER PLAN","","","CHECK UNIT OF MEASURE",0]
["511E34446","CY","CLASS QC2 CONCRETE WITH QC/QA, BRIDGE DECK","","","CHECK UNIT OF MEASURE",0]
["511E34447","CY","CLASS QC2 CONCRETE WITH QC/QA, BRIDGE DECK, AS PER PLAN","","","CHECK UNIT OF MEASURE",0]
["511E34448","CY","CLASS QC2 CONCRETE, BRIDGE DECK (PARAPET)","","","CHECK UNIT OF MEASURE",0]
["511E34449","CY","CLASS QC2 CONCRETE, BRIDGE DECK (PARAPET), AS PER PLAN","","","CHECK UNIT OF MEASURE",0]
["511E34450","CY","CLASS QC2 CONCRETE WITH QC/QA, BRIDGE DECK (PARAPET)","","","CHECK UNIT OF MEASURE",0]
["511E34451","CY","CLASS QC2 CONCRETE WITH QC/QA, BRIDGE DECK (PARAPET), AS PER PLAN","","","CHECK UNIT OF MEASURE",0]
["511E34460","CY","CLASS QC SCC CONCRETE, BRIDGE DECK (PARAPET)","","","",0]
["511E34461","CY","CLASS QC SCC CONCRETE, BRIDGE DECK (PARAPET), AS PER PLAN","","","",0]
["511E34462","CY","CLASS QC SCC CONCRETE WITH QC/QA, BRIDGE DECK (PARAPET)","","","",0]
["511E34463","CY","CLASS QC SCC CONCRETE WITH QC/QA, BRIDGE DECK (PARAPET), AS PER PLAN","","","",0]
["511E40510","CY","CLASS QC1 CONCRETE, PIER ABOVE FOOTINGS","","","WALLS",0]
["511E40511","CY","CLASS QC1 CONCRETE, PIER ABOVE FOOTINGS, AS PER PLAN","","","WALLS",0]
["511E40512","CY","CLASS QC1 CONCRETE WITH QC/QA, PIER ABOVE FOOTINGS","","","WALLS",0]
["511E40513","CY","CLASS QC1 CONCRETE WITH QC/QA, PIER ABOVE FOOTINGS, AS PER PLAN","","","WALLS",0]
["511E41010","CY","CLASS QC1 CONCRETE, PIER ABOVE FOOTINGS","","","CAP AND COLUMN",0]
["511E41011","CY","CLASS QC1 CONCRETE, PIER ABOVE FOOTINGS, AS PER PLAN","","","CAP AND COLUMN",0]
["511E41012","CY","CLASS QC1 CONCRETE WITH QC/QA, PIER ABOVE FOOTINGS","","","CAP AND COLUMN",0]
["511E41013","CY","CLASS QC1 CONCRETE WITH QC/QA, PIER ABOVE FOOTINGS, AS PER PLAN","","","CAP AND COLUMN",0]
["511E41510","CY","CLASS QC1 CONCRETE, PIER ABOVE FOOTINGS","","","COLUMNS",0]
["511E41512","CY","CLASS QC1 CONCRETE WITH QC/QA, PIER ABOVE FOOTINGS","","","COLUMNS",0]
["511E42010","CY","CLASS QC1 CONCRETE, PIER ABOVE FOOTINGS","","","T TYPE",0]
["511E42011","CY","CLASS QC1 CONCRETE, PIER ABOVE FOOTINGS, AS PER PLAN","","","T TYPE",0]
["511E42012","CY","CLASS QC1 CONCRETE WITH QC/QA, PIER ABOVE FOOTINGS","","","T TYPE",0]
["511E42013","CY","CLASS QC1 CONCRETE WITH QC/QA, PIER ABOVE FOOTINGS, AS PER PLAN","","","T TYPE",0]
["511E42510","CY","CLASS QC1 CONCRETE, PIER CAP","","","",0]
["511E42511","CY","CLASS QC1 CONCRETE, PIER CAP, AS PER PLAN","","","",0]
["511E42512","CY","CLASS QC1 CONCRETE WITH QC/QA, PIER CAP","","","",0]
["511E42513","CY","CLASS QC1 CONCRETE WITH QC/QA, PIER CAP, AS PER PLAN","","","",0]
["511E43210","CY","CLASS QC1 CONCRETE, PIER","","","REPAIR OR RECONSTRUCTION",0]
["511E43211","CY","CLASS QC1 CONCRETE, PIER, AS PER PLAN","","","REPAIR OR RECONSTRUCTION",0]
["511E43212","CY","CLASS QC1 CONCRETE WITH QC/QA, PIER","","","REPAIR OR RECONSTRUCTION",0]
["511E43213","CY","CLASS QC1 CONCRETE WITH QC/QA, PIER, AS PER PLAN","","","REPAIR OR RECONSTRUCTION",0]
["511E43220","CY","CLASS QC SCC CONCRETE, PIER","","","",0]
["511E43221","CY","CLASS QC SCC CONCRETE, PIER, AS PER PLAN","","","",0]
["511E43222","CY","CLASS QC SCC CONCRETE WITH QC/QA, PIER","","","",0]
["511E43223","CY","CLASS QC SCC CONCRETE WITH QC/QA, PIER, AS PER PLAN","","","",0]
["511E43260","CY","CLASS QC2 CONCRETE, PIER CAP","","","",0]
["511E43262","CY","CLASS QC2 CONCRETE WITH QC/QA, PIER CAP","","","",0]
["511E43510","CY","CLASS QC1 CONCRETE, ABUTMENT INCLUDING FOOTING","","","",0]
["511E43511","CY","CLASS QC1 CONCRETE, ABUTMENT INCLUDING FOOTING, AS PER PLAN","","","",0]
["511E43512","CY","CLASS QC1 CONCRETE WITH QC/QA, ABUTMENT INCLUDING FOOTING","","","",0]
["511E43513","CY","CLASS QC1 CONCRETE WITH QC/QA, ABUTMENT INCLUDING FOOTING, AS PER PLAN","","","",0]
["511E44110","CY","CLASS QC1 CONCRETE, ABUTMENT NOT INCLUDING FOOTING","","","",0]
["511E44111","CY","CLASS QC1 CONCRETE, ABUTMENT NOT INCLUDING FOOTING, AS PER PLAN","","","",0]
["511E44112","CY","CLASS QC1 CONCRETE WITH QC/QA, ABUTMENT NOT INCLUDING FOOTING","","","",0]
["511E44113","CY","CLASS QC1 CONCRETE WITH QC/QA, ABUTMENT NOT INCLUDING FOOTING, AS PER PLAN","","","",0]
["511E45600","CY","CLASS QC4 MASS CONCRETE, SUBSTRUCTURE","","","",0]
["511E45601","CY","CLASS QC4 MASS CONCRETE, SUBSTRUCTURE, AS PER PLAN","","","",0]
["511E45602","CY","CLASS QC4 MASS CONCRETE, SUBSTRUCTURE WITH QC/QA","","","",0]
["511E45603","CY","CLASS QC4 MASS CONCRETE, SUBSTRUCTURE WITH QC/QA, AS PER PLAN","","","",0]
["511E45650","CY","CLASS QC4 MASS CONCRETE, SUPERSTRUCTURE","","","",0]
["511E45651","CY","CLASS QC4 MASS CONCRETE, SUPERSTRUCTURE, AS PER PLAN","","","",0]
["511E45652","CY","CLASS QC4 MASS CONCRETE, SUPERSTRUCTURE WITH QC/QA","","","",0]
["511E45653","CY","CLASS QC4 MASS CONCRETE, SUPERSTRUCTURE WITH QC/QA, AS PER PLAN","","","",0]
["511E45710","CY","CLASS QC1 CONCRETE, ABUTMENT","","","REPAIR OR RECONSTRUCTION",0]
["511E45711","CY","CLASS QC1 CONCRETE, ABUTMENT, AS PER PLAN","","","REPAIR OR RECONSTRUCTION",0]
["511E45712","CY","CLASS QC1 CONCRETE WITH QC/QA, ABUTMENT","","","REPAIR OR RECONSTRUCTION",0]
["511E45713","CY","CLASS QC1 CONCRETE WITH QC/QA, ABUTMENT, AS PER PLAN","","","REPAIR OR RECONSTRUCTION",0]
["511E45720","CY","CLASS QC SCC CONCRETE, ABUTMENT","","","",0]
["511E45721","CY","CLASS QC SCC CONCRETE, ABUTMENT, AS PER PLAN","","","",0]
["511E45722","CY","CLASS QC SCC CONCRETE WITH QC/QA, ABUTMENT","","","",0]
["511E45723","CY","CLASS QC SCC CONCRETE WITH QC/QA, ABUTMENT, AS PER PLAN","","","",0]
["511E46000","SY","CLASS QC1 CONCRETE, RETAINING/WINGWALL NOT INCLUDING FOOTING","","","CHECK UNIT OF MEASURE",0]
["511E46001","SY","CLASS QC1 CONCRETE, RETAINING/WINGWALL NOT INCLUDING FOOTING, AS PER PLAN","","","CHECK UNIT OF MEASURE",0]
["511E46010","CY","CLASS QC1 CONCRETE, RETAINING/WINGWALL NOT INCLUDING FOOTING","","","CHECK UNIT OF MEASURE",0]
["511E46011","CY","CLASS QC1 CONCRETE, RETAINING/WINGWALL NOT INCLUDING FOOTING, AS PER PLAN","","","CHECK UNIT OF MEASURE",0]
["511E46012","CY","CLASS QC1 CONCRETE WITH QC/QA, RETAINING/WINGWALL NOT INCLUDING FOOTING","","","",0]
["511E46013","CY","CLASS QC1 CONCRETE WITH QC/QA, RETAINING/WINGWALL NOT INCLUDING FOOTING, AS PER PLAN","","","",0]
["511E46210","CY","CLASS QC1 CONCRETE, RETAINING/WINGWALL INCLUDING FOOTING","","","",0]
["511E46211","CY","CLASS QC1 CONCRETE, RETAINING/WINGWALL INCLUDING FOOTING, AS PER PLAN","","","",0]
["511E46212","CY","CLASS QC1 CONCRETE WITH QC/QA, RETAINING/WINGWALL INCLUDING FOOTING","","","",0]
["511E46213","CY","CLASS QC1 CONCRETE WITH QC/QA, RETAINING/WINGWALL INCLUDING FOOTING, AS PER PLAN","","","",0]
["511E46510","CY","CLASS QC1 CONCRETE, FOOTING","","","",0]
["511E46511","CY","CLASS QC1 CONCRETE, FOOTING, AS PER PLAN","","","",0]
["511E46512","CY","CLASS QC1 CONCRETE WITH QC/QA, FOOTING","","","",0]
["511E46513","CY","CLASS QC1 CONCRETE WITH QC/QA, FOOTING, AS PER PLAN","","","",0]
["511E46610","CY","CLASS QC1 CONCRETE, HEADWALL","","","",0]
["511E46611","CY","CLASS QC1 CONCRETE, HEADWALL, AS PER PLAN","","","",0]
["511E46612","CY","CLASS QC1 CONCRETE WITH QC/QA, HEADWALL","","","",0]
["511E46613","CY","CLASS QC1 CONCRETE WITH QC/QA, HEADWALL, AS PER PLAN","","","",0]
["511E47010","CY","CLASS QC1 CONCRETE, CULVERT","","","",0]
["511E47011","CY","CLASS QC1 CONCRETE, CULVERT, AS PER PLAN","","","",0]
["511E47012","CY","CLASS QC1 CONCRETE WITH QC/QA, CULVERT","","","",0]
["511E47013","CY","CLASS QC1 CONCRETE WITH QC/QA, CULVERT, AS PER PLAN","","","",0]
["511E50210","CY","CLASS QC1 CONCRETE, SUBSTRUCTURE","","","",0]
["511E50211","CY","CLASS QC1 CONCRETE, SUBSTRUCTURE, AS PER PLAN","","","",0]
["511E50212","CY","CLASS QC1 CONCRETE WITH QC/QA, SUBSTRUCTURE","","","",0]
["511E50213","CY","CLASS QC1 CONCRETE WITH QC/QA, SUBSTRUCTURE, AS PER PLAN","","","",0]
["511E51510","CY","CLASS QC2 CONCRETE, SIDEWALK","","","",0]
["511E51511","CY","CLASS QC2 CONCRETE, SIDEWALK, AS PER PLAN","","","",0]
["511E51512","CY","CLASS QC2 CONCRETE WITH QC/QA, SIDEWALK","","","",0]
["511E51513","CY","CLASS QC2 CONCRETE WITH QC/QA, SIDEWALK, AS PER PLAN","","","",0]
["511E52100","CY","CLASS QC FS CONCRETE","","","",0]
["511E52110","CY","CLASS QC MS CONCRETE","","","",0]
["511E52120","CY","CLASS QC MISC. CONCRETE","","","",0]
["511E53010","CY","CLASS QC1 CONCRETE, MISC.:","","","ADD SUPPLEMENTAL DESCRIPTION",1]
["511E53012","CY","CLASS QC2 CONCRETE, MISC.:","","","ADD SUPPLEMENTAL DESCRIPTION",1]
["511E53014","CY","CLASS QC3 CONCRETE, MISC.:","","","ADD SUPPLEMENTAL DESCRIPTION",1]
["511E53016","CY","CLASS QC4 CONCRETE, MISC.:","","","ADD SUPPLEMENTAL DESCRIPTION",1]
["511E53100","SY","CLASS QC2 CONCRETE, MISC.:","","","ADD SUPPLEMENTAL DESCRIPTION",1]
["511E60000","SY","SPECIAL - BRIDGE DECK GROOVING","","","",0]
["511E71100","CY","CONCRETE, MISC.:","","","ADD SUPPLEMENTAL DESCRIPTION",1]
["511E71200","SF","CONCRETE, MISC.:","","","ADD SUPPLEMENTAL DESCRIPTION",1]
["511E71300","SY","CONCRETE, MISC.:","","","ADD SUPPLEMENTAL DESCRIPTION",1]
["511E81100","FT","CONCRETE, MISC.:","","","ADD SUPPLEMENTAL DESCRIPTION",1]
["511E81200","LS","CONCRETE, MISC.:","","","ADD SUPPLEMENTAL DESCRIPTION",1]
["511E81300","EACH","CONCRETE, MISC.:","","","ADD SUPPLEMENTAL DESCRIPTION",1]
["511E81400","LB","CONCRETE, MISC.:","","","ADD SUPPLEMENTAL DESCRIPTION",1]
["511E81500","CF","CONCRETE, MISC.:","","","ADD SUPPLEMENTAL DESCRIPTION",1]
["512E10000","SY","SEALING OF CONCRETE SURFACES","","","",0]
["512E10001","SY","SEALING OF CONCRETE SURFACES, AS PER PLAN","","","PERMANENT GRAFFITI PROTECTION",0]
["512E10050","SY","SEALING OF CONCRETE SURFACES (NON-EPOXY)","","","",0]
["512E10051","SY","SEALING OF CONCRETE SURFACES (NON-EPOXY), AS PER PLAN","","","",0]
["512E10100","SY","SEALING OF CONCRETE SURFACES (EPOXY-URETHANE)","","","",0]
["512E10101","SY","SEALING OF CONCRETE SURFACES (EPOXY-URETHANE), AS PER PLAN","","","",0]
["512E10300","SY","SEALING CONCRETE BRIDGE DECKS WITH HMWM RESIN","","","",0]
["512E10301","SY","SEALING CONCRETE BRIDGE DECKS WITH HMWM RESIN, AS PER PLAN","","","",0]
["512E10400","SY","TREATING OF CONCRETE BRIDGE DECK WITH SRS","","","",0]
["512E10401","SY","TREATING OF CONCRETE BRIDGE DECK WITH SRS, AS PER PLAN","","","",0]
["512E10600","FT","CONCRETE REPAIR BY EPOXY INJECTION","","","",0]
["512E10601","FT","CONCRETE REPAIR BY EPOXY INJECTION, AS PER PLAN","","","",0]
["512E21300","SF","SPECIAL - PROTECTION OF CONCRETE SURFACE","","","",0]
["512E33000","SY","TYPE 2 WATERPROOFING","","","CHECK UNIT OF MEASURE",0]
["512E33001","SY","TYPE 2 WATERPROOFING, AS PER PLAN","","","CHECK UNIT OF MEASURE",0]
["512E33010","SY","TYPE 3 WATERPROOFING","","","CHECK UNIT OF MEASURE",0]
["512E33011","SY","TYPE 3 WATERPROOFING, AS PER PLAN","","","CHECK UNIT OF MEASURE",0]
["512E33300","SY","TYPE A WATERPROOFING","","","CHECK UNIT OF MEASURE",0]
["512E33301","SY","TYPE A WATERPROOFING, AS PER PLAN","","","CHECK UNIT OF MEASURE",0]
["512E44400","SY","TYPE B WATERPROOFING","","","CHECK UNIT OF MEASURE",0]
["512E44401","SY","TYPE B WATERPROOFING, AS PER PLAN","","","CHECK UNIT OF MEASURE",0]
["512E44450","SY","TYPE E WATERPROOFING","","","CHECK UNIT OF MEASURE",0]
["512E44451","SY","TYPE E WATERPROOFING, AS PER PLAN","","","CHECK UNIT OF MEASURE",0]
["512E55900","LS","TYPE 2 WATERPROOFING","","","CHECK UNIT OF MEASURE",0]
["512E55901","LS","TYPE 2 WATERPROOFING, AS PER PLAN","","","CHECK UNIT OF MEASURE",0]
["512E55910","LS","TYPE 3 WATERPROOFING","","","CHECK UNIT OF MEASURE",0]
["512E55911","LS","TYPE 3 WATERPROOFING, AS PER PLAN","","","CHECK UNIT OF MEASURE",0]
["512E55920","LS","TYPE A WATERPROOFING","","","CHECK UNIT OF MEASURE",0]
["512E55930","LS","TYPE B WATERPROOFING","","","CHECK UNIT OF MEASURE",0]
["512E55950","LS","TYPE E WATERPROOFING","","","CHECK UNIT OF MEASURE",0]
["512E56100","SY","SPECIAL - BUTYL RUBBER MEMBRANE WATERPROOFING","","","",0]
["512E56202","SY","SPECIAL - ASPHALTIC PANEL","","","",0]
["512E67200","SY","SPECIAL - WATERPROOFING","","","ADD SUPPLEMENTAL DESCRIPTION",1]
["512E67300","FT","SPECIAL - WATERPROOFING","","","ADD SUPPLEMENTAL DESCRIPTION",1]
["512E67400","SF","SPECIAL - WATERPROOFING","","","ADD SUPPLEMENTAL DESCRIPTION",1]
["512E67450","LS","SPECIAL - WATERPROOFING","","","ADD SUPPLEMENTAL DESCRIPTION",1]
["512E71500","SY","SPECIAL - URETHANE TOP COAT SEALER","","","",0]
["512E72000","SY","SPECIAL - EPOXY WATERPROOFING OVERLAY (1/4\" THICK)","","","",0]
["512E72500","LS","SPECIAL - TEST PATCH","","","",0]
["512E72510","EACH","SPECIAL - TEST PATCH","","","",0]
["512E73500","SY","TREATING CONCRETE BRIDGE DECKS WITH GRAVITY FED RESIN","","","",0]
["512E73501","SY","TREATING CONCRETE BRIDGE DECKS WITH GRAVITY FED RESIN, AS PER PLAN","","","",0]
["512E74000","SY","REMOVAL OF EXISTING COATINGS FROM CONCRETE SURFACES","","","",0]
["512E74001","SY","REMOVAL OF EXISTING COATINGS FROM CONCRETE SURFACES, AS PER PLAN","","","",0]
["512E74500","FT","REMOVAL OF EXISTING PAVEMENT MARKING","","","",0]
["512E74510","SF","REMOVAL OF EXISTING PAVEMENT MARKING","","","",0]
["512E74520","EACH","REMOVAL OF EXISTING PAVEMENT MARKING","","","",0]
["512E75000","FT","SPECIAL - SEALING","","","ADD SUPPLEMENTAL DESCRIPTION",1]
["512E75010","SF","SPECIAL - SEALING","","","ADD SUPPLEMENTAL DESCRIPTION",1]
["512E75500","SY","SPECIAL - SEALING","","","ADD SUPPLEMENTAL DESCRIPTION",1]
["512E99000","LS","SPECIAL - SEALING OF CONCRETE","","","DESIGN BUILD PROJECTS ONLY",0]
["513E10000","LS","STRUCTURAL STEEL MEMBERS, LEVEL UF","","","CHECK UNIT OF MEASURE",0]
["513E10001","LS","STRUCTURAL STEEL MEMBERS, LEVEL UF, AS PER PLAN","","","CHECK UNIT OF MEASURE",0]
["513E10020","LS","STRUCTURAL STEEL MEMBERS, LEVEL 1","","","CHECK UNIT OF MEASURE",0]
["513E10021","LS","STRUCTURAL STEEL MEMBERS, LEVEL 1, AS PER PLAN","","","CHECK UNIT OF MEASURE",0]
["513E10040","LS","STRUCTURAL STEEL MEMBERS, LEVEL 2","","","CHECK UNIT OF MEASURE",0]
["513E10041","LS","STRUCTURAL STEEL MEMBERS, LEVEL 2, AS PER PLAN","","","CHECK UNIT OF MEASURE",0]
["513E10060","LS","STRUCTURAL STEEL MEMBERS, LEVEL 3","","","CHECK UNIT OF MEASURE",0]
["513E10061","LS","STRUCTURAL STEEL MEMBERS, LEVEL 3, AS PER PLAN","","","CHECK UNIT OF MEASURE",0]
["513E10080","LS","STRUCTURAL STEEL MEMBERS, LEVEL 4","","","CHECK UNIT OF MEASURE",0]
["513E10081","LS","STRUCTURAL STEEL MEMBERS, LEVEL 4, AS PER PLAN","","","CHECK UNIT OF MEASURE",0]
["513E10100","LS","STRUCTURAL STEEL MEMBERS, LEVEL 5","","","CHECK UNIT OF MEASURE",0]
["513E10101","LS","STRUCTURAL STEEL MEMBERS, LEVEL 5, AS PER PLAN","","","CHECK UNIT OF MEASURE",0]
["513E10120","LS","STRUCTURAL STEEL MEMBERS, LEVEL 6","","","CHECK UNIT OF MEASURE",0]
["513E10121","LS","STRUCTURAL STEEL MEMBERS, LEVEL 6, AS PER PLAN","","","CHECK UNIT OF MEASURE",0]
["513E10200","LB","STRUCTURAL STEEL MEMBERS, LEVEL UF","","","CHECK UNIT OF MEASURE",0]
["513E10201","LB","STRUCTURAL STEEL MEMBERS, LEVEL UF, AS PER PLAN","","","CHECK UNIT OF MEASURE",0]
["513E10220","LB","STRUCTURAL STEEL MEMBERS, LEVEL 1","","","CHECK UNIT OF MEASURE",0]
["513E10221","LB","STRUCTURAL STEEL MEMBERS, LEVEL 1, AS PER PLAN","","","CHECK UNIT OF MEASURE",0]
["513E10240","LB","STRUCTURAL STEEL MEMBERS, LEVEL 2","","","CHECK UNIT OF MEASURE",0]
["513E10241","LB","STRUCTURAL STEEL MEMBERS, LEVEL 2, AS PER PLAN","","","CHECK UNIT OF MEASURE",0]
["513E10260","LB","STRUCTURAL STEEL MEMBERS, LEVEL 3","","","CHECK UNIT OF MEASURE",0]
["513E10261","LB","STRUCTURAL STEEL MEMBERS, LEVEL 3, AS PER PLAN","","","CHECK UNIT OF MEASURE",0]
["513E10280","LB","STRUCTURAL STEEL MEMBERS, LEVEL 4","","","CHECK UNIT OF MEASURE",0]
["513E10281","LB","STRUCTURAL STEEL MEMBERS, LEVEL 4, AS PER PLAN","","","CHECK UNIT OF MEASURE",0]
["513E10300","LB","STRUCTURAL STEEL MEMBERS, LEVEL 5","","","CHECK UNIT OF MEASURE",0]
["513E10301","LB","STRUCTURAL STEEL MEMBERS, LEVEL 5, AS PER PLAN","","","CHECK UNIT OF MEASURE",0]
["513E10320","LB","STRUCTURAL STEEL MEMBERS, LEVEL 6","","","CHECK UNIT OF MEASURE",0]
["513E10321","LB","STRUCTURAL STEEL MEMBERS, LEVEL 6, AS PER PLAN","","","CHECK UNIT OF MEASURE",0]
["513E10400","LB","STRUCTURAL STEEL MEMBERS, HYBRID GIRDER, LEVEL SIX (6) FABRICATION","","","",0]
["513E10401","LB","STRUCTURAL STEEL MEMBERS, HYBRID GIRDER, LEVEL SIX (6) FABRICATION, AS PER PLAN","","","",0]
["513E20000","EACH","WELDED STUD SHEAR CONNECTORS","","","",0]
["513E20001","EACH","WELDED STUD SHEAR CONNECTORS, AS PER PLAN","","","",0]
["513E21000","EACH","TRIMMING OF BEAM END","","","",0]
["513E21001","EACH","TRIMMING OF BEAM END, AS PER PLAN","","","",0]
["513E21500","LB","REPLACEMENT OF DETERIORATED END CROSSFRAMES","","","",0]
["513E21501","LB","REPLACEMENT OF DETERIORATED END CROSSFRAMES, AS PER PLAN","","","",0]
["513E21599","LB","STRUCTURAL STEEL FOR REHABILITATION","","","",0]
["513E21600","LB","STRUCTURAL STEEL FOR REHABILITATION, AS PER PLAN","","","",0]
["513E90000","LB","STRUCTURAL STEEL, MISC.:","","","ADD SUPPLEMENTAL DESCRIPTION",1]
["513E95000","FT","STRUCTURAL STEEL, MISC.:","","","ADD SUPPLEMENTAL DESCRIPTION",1]
["513E95020","LS","STRUCTURAL STEEL, MISC.:","","","ADD SUPPLEMENTAL DESCRIPTION",1]
["513E95030","EACH","STRUCTURAL STEEL, MISC.:","","","ADD SUPPLEMENTAL DESCRIPTION",1]
["513E95050","SF","STRUCTURAL STEEL, MISC.:","","","ADD SUPPLEMENTAL DESCRIPTION",1]
["514E00050","SF","SURFACE PREPARATION OF EXISTING STRUCTURAL STEEL","","","",0]
["514E00051","SF","SURFACE PREPARATION OF EXISTING STRUCTURAL STEEL, AS PER PLAN","","","",0]
["514E00056","SF","FIELD PAINTING OF EXISTING STRUCTURAL STEEL, PRIME COAT","","","",0]
["514E00057","SF","FIELD PAINTING OF EXISTING STRUCTURAL STEEL, PRIME COAT, AS PER PLAN","","","",0]
["514E00060","SF","FIELD PAINTING STRUCTURAL STEEL, INTERMEDIATE COAT","","","",0]
["514E00061","SF","FIELD PAINTING STRUCTURAL STEEL, INTERMEDIATE COAT, AS PER PLAN","","","",0]
["514E00066","SF","FIELD PAINTING STRUCTURAL STEEL, FINISH COAT","","","",0]
["514E00067","SF","FIELD PAINTING STRUCTURAL STEEL, FINISH COAT, AS PER PLAN","","","",0]
["514E00100","LS","SURFACE PREPARATION OF EXISTING STRUCTURAL STEEL","","","",0]
["514E00101","LS","SURFACE PREPARATION OF EXISTING STRUCTURAL STEEL, AS PER PLAN","","","",0]
["514E00200","LS","FIELD PAINTING OF EXISTING STRUCTURAL STEEL, PRIME COAT","","","",0]
["514E00201","LS","FIELD PAINTING OF EXISTING STRUCTURAL STEEL, PRIME COAT, AS PER PLAN","","","",0]
["514E00300","LS","FIELD PAINTING STRUCTURAL STEEL, INTERMEDIATE COAT","","","",0]
["514E00301","LS","FIELD PAINTING STRUCTURAL STEEL, INTERMEDIATE COAT, AS PER PLAN","","","",0]
["514E00400","LS","FIELD PAINTING STRUCTURAL STEEL, FINISH COAT","","","",0]
["514E00401","LS","FIELD PAINTING STRUCTURAL STEEL, FINISH COAT, AS PER PLAN","","","",0]
["514E00504","MNHR","GRINDING FINS, TEARS, SLIVERS ON EXISTING STRUCTURAL STEEL","","","",0]
["514E00505","MNHR","GRINDING FINS, TEARS, SLIVERS ON EXISTING STRUCTURAL STEEL, AS PER PLAN","","","",0]
["514E00800","LB","FIELD PAINTING STRUCTURAL STEEL, INTERMEDIATE COAT","","","",0]
["514E00850","LB","FIELD PAINTING STRUCTURAL STEEL, FINISH COAT","","","",0]
["514E00851","LB","FIELD PAINTING STRUCTURAL STEEL, FINISH COAT, AS PER PLAN","","","",0]
["514E10000","EACH","FINAL INSPECTION REPAIR","","","",0]
["514E10001","EACH","FINAL INSPECTION REPAIR, AS PER PLAN","","","",0]
["514E20000","SF","FIELD PAINTING OF DAMAGED STRUCTURAL STEEL","","","",0]
["514E20001","SF","FIELD PAINTING OF DAMAGED STRUCTURAL STEEL, AS PER PLAN","","","",0]
["514E21000","LS","FIELD PAINTING OF DAMAGED STRUCTURAL STEEL","","","",0]
["514E21001","LS","FIELD PAINTING OF DAMAGED STRUCTURAL STEEL, AS PER PLAN","","","",0]
["514E27700","SF","FIELD PAINTING, MISC.:","","","ADD SUPPLEMENTAL DESCRIPTION",1]
["514E27702","EACH","FIELD PAINTING, MISC.:","","","ADD SUPPLEMENTAL DESCRIPTION",1]
["514E27710","FT","FIELD PAINTING, MISC.:","","","ADD SUPPLEMENTAL DESCRIPTION",1]
["514E27800","LS","FIELD PAINTING, MISC.:","","","ADD SUPPLEMENTAL DESCRIPTION",1]
["514E80010","LB","SHOP PAINTING AND FIELD TOUCH-UP OF STRUCTURAL STEEL","","","",0]
["514E80011","LB","SHOP PAINTING AND FIELD TOUCH-UP OF STRUCTURAL STEEL, AS PER PLAN","","","",0]
["514E80020","SF","SHOP PAINTING AND FIELD TOUCH-UP OF STRUCTURAL STEEL","","","",0]
["514E80030","LS","SHOP PAINTING AND FIELD TOUCH-UP OF STRUCTURAL STEEL","","","",0]
["514E80100","SF","SPECIAL - SHOP PAINTING OF STRUCTURAL STEEL","","","",0]
["514E80110","LS","SPECIAL - FIELD PAINTING OF STRUCTURAL STEEL CROSSFRAMES","","","",0]
["514E99000","LS","SPECIAL - BRIDGE PAINTING","","","DESIGN BUILD PROJECTS ONLY",0]
["515E10000","EACH","PRESTRESSED CONCRETE NON-COMPOSITE BOX BEAM BRIDGE MEMBERS, LEVEL 1, B12-36","","","SPECIFY BEAM LENGTH",1]
["515E10010","EACH","PRESTRESSED CONCRETE NON-COMPOSITE BOX BEAM BRIDGE MEMBERS, LEVEL 1, B12-48","","","SPECIFY BEAM LENGTH",1]
["515E10011","EACH","PRESTRESSED CONCRETE NON-COMPOSITE BOX BEAM BRIDGE MEMBERS, LEVEL 1, B12-48, AS PER PLAN","","","SPECIFY BEAM LENGTH",1]
["515E10020","EACH","PRESTRESSED CONCRETE NON-COMPOSITE BOX BEAM BRIDGE MEMBERS, LEVEL 1, B17-36","","","SPECIFY BEAM LENGTH",1]
["515E10021","EACH","PRESTRESSED CONCRETE NON-COMPOSITE BOX BEAM BRIDGE MEMBERS, LEVEL 1, B17-36, AS PER PLAN","","","SPECIFY BEAM LENGTH",1]
["515E10030","EACH","PRESTRESSED CONCRETE NON-COMPOSITE BOX BEAM BRIDGE MEMBERS, LEVEL 1, B17-48","","","SPECIFY BEAM LENGTH",1]
["515E10031","EACH","PRESTRESSED CONCRETE NON-COMPOSITE BOX BEAM BRIDGE MEMBERS, LEVEL 1, B17-48, AS PER PLAN","","","SPECIFY BEAM LENGTH",1]
["515E10040","EACH","PRESTRESSED CONCRETE NON-COMPOSITE BOX BEAM BRIDGE MEMBERS, LEVEL 1, B21-36","","","SPECIFY BEAM LENGTH",1]
["515E10050","EACH","PRESTRESSED CONCRETE NON-COMPOSITE BOX BEAM BRIDGE MEMBERS, LEVEL 1, B21-48","","","SPECIFY BEAM LENGTH",1]
["515E10051","EACH","PRESTRESSED CONCRETE NON-COMPOSITE BOX BEAM BRIDGE MEMBERS, LEVEL 1, B21-48, AS PER PLAN","","","SPECIFY BEAM LENGTH",1]
["515E10060","EACH","PRESTRESSED CONCRETE NON-COMPOSITE BOX BEAM BRIDGE MEMBERS, LEVEL 1, B27-36","","","SPECIFY BEAM LENGTH",1]
["515E10061","EACH","PRESTRESSED CONCRETE NON-COMPOSITE BOX BEAM BRIDGE MEMBERS, LEVEL 1, B27-36, AS PER PLAN","","","SPECIFY BEAM LENGTH",1]
["515E10070","EACH","PRESTRESSED CONCRETE NON-COMPOSITE BOX BEAM BRIDGE MEMBERS, LEVEL 1, B27-48","","","SPECIFY BEAM LENGTH",1]
["515E10071","EACH","PRESTRESSED CONCRETE NON-COMPOSITE BOX BEAM BRIDGE MEMBERS, LEVEL 1, B27-48, AS PER PLAN","","","SPECIFY BEAM LENGTH",1]
["515E10080","EACH","PRESTRESSED CONCRETE NON-COMPOSITE BOX BEAM BRIDGE MEMBERS, LEVEL 1, B33-36","","","SPECIFY BEAM LENGTH",1]
["515E10081","EACH","PRESTRESSED CONCRETE NON-COMPOSITE BOX BEAM BRIDGE MEMBERS, LEVEL 1, B33-36, AS PER PLAN","","","SPECIFY BEAM LENGTH",1]
["515E10090","EACH","PRESTRESSED CONCRETE NON-COMPOSITE BOX BEAM BRIDGE MEMBERS, LEVEL 1, B33-48","","","SPECIFY BEAM LENGTH",1]
["515E10091","EACH","PRESTRESSED CONCRETE NON-COMPOSITE BOX BEAM BRIDGE MEMBERS, LEVEL 1, B33-48, AS PER PLAN","","","SPECIFY BEAM LENGTH",1]
["515E10100","EACH","PRESTRESSED CONCRETE NON-COMPOSITE BOX BEAM BRIDGE MEMBERS, LEVEL 1, B42-36","","","SPECIFY BEAM LENGTH",1]
["515E10110","EACH","PRESTRESSED CONCRETE NON-COMPOSITE BOX BEAM BRIDGE MEMBERS, LEVEL 1, B42-48","","","SPECIFY BEAM LENGTH",1]
["515E10111","EACH","PRESTRESSED CONCRETE NON-COMPOSITE BOX BEAM BRIDGE MEMBERS, LEVEL 1, B42-48, AS PER PLAN","","","SPECIFY BEAM LENGTH",1]
["515E10300","EACH","DRAPED STRAND PRESTRESSED CONCRETE BRIDGE I-BEAM MEMBERS, LEVEL 3","","","SPECIFY BEAM LENGTH",1]
["515E11000","EACH","PRESTRESSED CONCRETE NON-COMPOSITE BOX BEAM BRIDGE MEMBERS, LEVEL 1, MISC.:","","","ADD SUPPLEMENTAL DESCRIPTION",1]
["515E12000","EACH","PRESTRESSED CONCRETE COMPOSITE BOX BEAM BRIDGE MEMBERS, LEVEL 1, CB12-36","","","SPECIFY BEAM LENGTH",1]
["515E12010","EACH","PRESTRESSED CONCRETE COMPOSITE BOX BEAM BRIDGE MEMBERS, LEVEL 1, CB12-48","","","SPECIFY BEAM LENGTH",1]
["515E12020","EACH","PRESTRESSED CONCRETE COMPOSITE BOX BEAM BRIDGE MEMBERS, LEVEL 1, CB17-36","","","SPECIFY BEAM LENGTH",1]
["515E12021","EACH","PRESTRESSED CONCRETE COMPOSITE BOX BEAM BRIDGE MEMBERS, LEVEL 1, CB17-36, AS PER PLAN","","","SPECIFY BEAM LENGTH",1]
["515E12030","EACH","PRESTRESSED CONCRETE COMPOSITE BOX BEAM BRIDGE MEMBERS, LEVEL 1, CB17-48","","","SPECIFY BEAM LENGTH",1]
["515E12031","EACH","PRESTRESSED CONCRETE COMPOSITE BOX BEAM BRIDGE MEMBERS, LEVEL 1, CB17-48, AS PER PLAN","","","SPECIFY BEAM LENGTH",1]
["515E12040","EACH","PRESTRESSED CONCRETE COMPOSITE BOX BEAM BRIDGE MEMBERS, LEVEL 1, CB21-36","","","SPECIFY BEAM LENGTH",1]
["515E12041","EACH","PRESTRESSED CONCRETE COMPOSITE BOX BEAM BRIDGE MEMBERS, LEVEL 1, CB21-36, AS PER PLAN","","","SPECIFY BEAM LENGTH",1]
["515E12050","EACH","PRESTRESSED CONCRETE COMPOSITE BOX BEAM BRIDGE MEMBERS, LEVEL 1, CB21-48","","","SPECIFY BEAM LENGTH",1]
["515E12051","EACH","PRESTRESSED CONCRETE COMPOSITE BOX BEAM BRIDGE MEMBERS, LEVEL 1, CB21-48, AS PER PLAN","","","SPECIFY BEAM LENGTH",1]
["515E12060","EACH","PRESTRESSED CONCRETE COMPOSITE BOX BEAM BRIDGE MEMBERS, LEVEL 1, CB27-36","","","SPECIFY BEAM LENGTH",1]
["515E12061","EACH","PRESTRESSED CONCRETE COMPOSITE BOX BEAM BRIDGE MEMBERS, LEVEL 1, CB27-36, AS PER PLAN","","","SPECIFY BEAM LENGTH",1]
["515E12070","EACH","PRESTRESSED CONCRETE COMPOSITE BOX BEAM BRIDGE MEMBERS, LEVEL 1, CB27-48","","","SPECIFY BEAM LENGTH",1]
["515E12071","EACH","PRESTRESSED CONCRETE COMPOSITE BOX BEAM BRIDGE MEMBERS, LEVEL 1, CB27-48, AS PER PLAN","","","SPECIFY BEAM LENGTH",1]
["515E12080","EACH","PRESTRESSED CONCRETE COMPOSITE BOX BEAM BRIDGE MEMBERS, LEVEL 1, CB33-36","","","SPECIFY BEAM LENGTH",1]
["515E12081","EACH","PRESTRESSED CONCRETE COMPOSITE BOX BEAM BRIDGE MEMBERS, LEVEL 1, CB33-36, AS PER PLAN","","","SPECIFY BEAM LENGTH",1]
["515E12090","EACH","PRESTRESSED CONCRETE COMPOSITE BOX BEAM BRIDGE MEMBERS, LEVEL 1, CB33-48","","","SPECIFY BEAM LENGTH",1]
["515E12091","EACH","PRESTRESSED CONCRETE COMPOSITE BOX BEAM BRIDGE MEMBERS, LEVEL 1, CB33-48, AS PER PLAN","","","SPECIFY BEAM LENGTH",1]
["515E12100","EACH","PRESTRESSED CONCRETE COMPOSITE BOX BEAM BRIDGE MEMBERS, LEVEL 1, CB42-36","","","SPECIFY BEAM LENGTH",1]
["515E12101","EACH","PRESTRESSED CONCRETE COMPOSITE BOX BEAM BRIDGE MEMBERS, LEVEL 1, CB42-36, AS PER PLAN","","","SPECIFY BEAM LENGTH",1]
["515E12110","EACH","PRESTRESSED CONCRETE COMPOSITE BOX BEAM BRIDGE MEMBERS, LEVEL 1, CB42-48","","","SPECIFY BEAM LENGTH",1]
["515E12111","EACH","PRESTRESSED CONCRETE COMPOSITE BOX BEAM BRIDGE MEMBERS, LEVEL 1, CB42-48, AS PER PLAN","","","SPECIFY BEAM LENGTH",1]
["515E13000","EACH","PRESTRESSED CONCRETE COMPOSITE BOX BEAM BRIDGE MEMBERS, LEVEL 1, MISC.:","","","ADD SUPPLEMENTAL DESCRIPTION",1]
["515E14000","EACH","STRAIGHT STRAND PRESTRESSED CONCRETE BRIDGE I-BEAM MEMBERS, LEVEL 2, TYPE 2","","","SPECIFY BEAM LENGTH",1]
["515E14010","EACH","STRAIGHT STRAND PRESTRESSED CONCRETE BRIDGE I-BEAM MEMBERS, LEVEL 2, TYPE 3","","","SPECIFY BEAM LENGTH",1]
["515E14011","EACH","STRAIGHT STRAND PRESTRESSED CONCRETE BRIDGE I-BEAM MEMBERS, LEVEL 2, TYPE 3, AS PER PLAN","","","SPECIFY BEAM LENGTH",1]
["515E14020","EACH","STRAIGHT STRAND PRESTRESSED CONCRETE BRIDGE I-BEAM MEMBERS, LEVEL 2, TYPE 4","","","SPECIFY BEAM LENGTH",1]
["515E14021","EACH","STRAIGHT STRAND PRESTRESSED CONCRETE BRIDGE I-BEAM MEMBERS, LEVEL 2, TYPE 4, AS PER PLAN","","","SPECIFY BEAM LENGTH",1]
["515E14030","EACH","STRAIGHT STRAND PRESTRESSED CONCRETE BRIDGE I-BEAM MEMBERS, LEVEL 2, TYPE 4 MOD. (60\")","","","SPECIFY BEAM LENGTH",1]
["515E14040","EACH","STRAIGHT STRAND PRESTRESSED CONCRETE BRIDGE I-BEAM MEMBERS, LEVEL 2, TYPE 4 MOD. (66\")","","","SPECIFY BEAM LENGTH",1]
["515E14050","EACH","STRAIGHT STRAND PRESTRESSED CONCRETE BRIDGE I-BEAM MEMBERS, LEVEL 2, TYPE 4 MOD. (72\")","","","SPECIFY BEAM LENGTH",1]
["515E14051","EACH","STRAIGHT STRAND PRESTRESSED CONCRETE BRIDGE I-BEAM MEMBERS, LEVEL 2, TYPE 4 MOD. (72\"), AS PER PLAN","","","SPECIFY BEAM LENGTH",1]
["515E14060","EACH","STRAIGHT STRAND PRESTRESSED CONCRETE BRIDGE I-BEAM MEMBERS, LEVEL 2, TYPE 4 MOD. (78\")","","","SPECIFY BEAM LENGTH",1]
["515E14070","EACH","STRAIGHT STRAND PRESTRESSED CONCRETE BRIDGE I-BEAM MEMBERS, LEVEL 2, TYPE WF36-49","","","SPECIFY BEAM LENGTH",1]
["515E14080","EACH","STRAIGHT STRAND PRESTRESSED CONCRETE BRIDGE I-BEAM MEMBERS, LEVEL 2, TYPE WF42-49","","","SPECIFY BEAM LENGTH",1]
["515E14090","EACH","STRAIGHT STRAND PRESTRESSED CONCRETE BRIDGE I-BEAM MEMBERS, LEVEL 2, TYPE WF48-49","","","SPECIFY BEAM LENGTH",1]
["515E14100","EACH","STRAIGHT STRAND PRESTRESSED CONCRETE BRIDGE I-BEAM MEMBERS, LEVEL 2, TYPE WF54-49","","","SPECIFY BEAM LENGTH",1]
["515E14110","EACH","STRAIGHT STRAND PRESTRESSED CONCRETE BRIDGE I-BEAM MEMBERS, LEVEL 2, TYPE WF60-49","","","SPECIFY BEAM LENGTH",1]
["515E14120","EACH","STRAIGHT STRAND PRESTRESSED CONCRETE BRIDGE I-BEAM MEMBERS, LEVEL 2, TYPE WF66-49","","","SPECIFY BEAM LENGTH",1]
["515E14130","EACH","STRAIGHT STRAND PRESTRESSED CONCRETE BRIDGE I-BEAM MEMBERS, LEVEL 2, TYPE WF72-49","","","SPECIFY BEAM LENGTH",1]
["515E15000","EACH","DRAPED STRAND PRESTRESSED CONCRETE BRIDGE I-BEAM MEMBERS, LEVEL 3, TYPE 2","","","SPECIFY BEAM LENGTH",1]
["515E15010","EACH","DRAPED STRAND PRESTRESSED CONCRETE BRIDGE I-BEAM MEMBERS, LEVEL 3, TYPE 3","","","SPECIFY BEAM LENGTH",1]
["515E15011","EACH","DRAPED STRAND PRESTRESSED CONCRETE BRIDGE I-BEAM MEMBERS, LEVEL 3, TYPE 3, AS PER PLAN","","","SPECIFY BEAM LENGTH",1]
["515E15020","EACH","DRAPED STRAND PRESTRESSED CONCRETE BRIDGE I-BEAM MEMBERS, LEVEL 3, TYPE 4","","","SPECIFY BEAM LENGTH",1]
["515E15021","EACH","DRAPED STRAND PRESTRESSED CONCRETE BRIDGE I-BEAM MEMBERS, LEVEL 3, TYPE 4, AS PER PLAN","","","SPECIFY BEAM LENGTH",1]
["515E15030","EACH","DRAPED STRAND PRESTRESSED CONCRETE BRIDGE I-BEAM MEMBERS, LEVEL 3, TYPE 4 MOD. (60 IN.)","","","SPECIFY BEAM LENGTH",1]
["515E15031","EACH","DRAPED STRAND PRESTRESSED CONCRETE BRIDGE I-BEAM MEMBERS, LEVEL 3, TYPE 4 MOD. (60\"), AS PER PLAN","","","SPECIFY BEAM LENGTH",1]
["515E15040","EACH","DRAPED STRAND PRESTRESSED CONCRETE BRIDGE I-BEAM MEMBERS, LEVEL 3, TYPE 4 MOD. (66\")","","","SPECIFY BEAM LENGTH",1]
["515E15041","EACH","DRAPED STRAND PRESTRESSED CONCRETE BRIDGE I-BEAM MEMBERS, LEVEL 3, TYPE 4 MOD. (66\"), AS PER PLAN","","","SPECIFY BEAM LENGTH",1]
["515E15050","EACH","DRAPED STRAND PRESTRESSED CONCRETE BRIDGE I-BEAM MEMBERS, LEVEL 3, TYPE 4 MOD. (72\")","","","SPECIFY BEAM LENGTH",1]
["515E15051","EACH","DRAPED STRAND PRESTRESSED CONCRETE BRIDGE I-BEAM MEMBERS, LEVEL 3, TYPE 4 MOD. (72\"), AS PER PLAN","","","SPECIFY BEAM LENGTH",1]
["515E15054","EACH","DRAPED STRAND PRESTRESSED CONCRETE BRIDGE I-BEAM MEMBERS, LEVEL 3, TYPE 4 MOD. (78\")","","","SPECIFY BEAM LENGTH",1]
["515E15055","EACH","DRAPED STRAND PRESTRESSED CONCRETE BRIDGE I-BEAM MEMBERS, LEVEL 3, TYPE 4 MOD. (78\"), AS PER PLAN","","","SPECIFY BEAM LENGTH",1]
["515E15060","EACH","DRAPED STRAND PRESTRESSED CONCRETE BRIDGE I-BEAM MEMBERS, LEVEL 3, TYPE 4 MOD. (84\")","","","SPECIFY BEAM LENGTH",1]
["515E15061","EACH","DRAPED STRAND PRESTRESSED CONCRETE BRIDGE I-BEAM MEMBERS, LEVEL 3, TYPE 4 MOD. (84\"), AS PER PLAN","","","SPECIFY BEAM LENGTH",1]
["515E15070","EACH","DRAPED STRAND PRESTRESSED CONCRETE BRIDGE I-BEAM MEMBERS, LEVEL 3, TYPE WF36-49","","","SPECIFY BEAM LENGTH",1]
["515E15071","EACH","DRAPED STRAND PRESTRESSED CONCRETE BRIDGE I-BEAM MEMBERS, LEVEL 3, TYPE WF36-49, AS PER PLAN","","","SPECIFY BEAM LENGTH",1]
["515E15080","EACH","DRAPED STRAND PRESTRESSED CONCRETE BRIDGE I-BEAM MEMBERS, LEVEL 3, TYPE WF42-49","","","SPECIFY BEAM LENGTH",1]
["515E15090","EACH","DRAPED STRAND PRESTRESSED CONCRETE BRIDGE I-BEAM MEMBERS, LEVEL 3, TYPE WF48-49","","","SPECIFY BEAM LENGTH",1]
["515E15100","EACH","DRAPED STRAND PRESTRESSED CONCRETE BRIDGE I-BEAM MEMBERS, LEVEL 3, TYPE WF54-49","","","SPECIFY BEAM LENGTH",1]
["515E15110","EACH","DRAPED STRAND PRESTRESSED CONCRETE BRIDGE I-BEAM MEMBERS, LEVEL 3, TYPE WF60-49","","","SPECIFY BEAM LENGTH",1]
["515E15120","EACH","DRAPED STRAND PRESTRESSED CONCRETE BRIDGE I-BEAM MEMBERS, LEVEL 3, TYPE WF66-49","","","SPECIFY BEAM LENGTH",1]
["515E15130","EACH","DRAPED STRAND PRESTRESSED CONCRETE BRIDGE I-BEAM MEMBERS, LEVEL 3, TYPE WF72-49","","","SPECIFY BEAM LENGTH",1]
["515E15140","EACH","DRAPED STRAND PRESTRESSED CONCRETE BRIDGE I-BEAM MEMBERS, LEVEL 3, TYPE WF84-49","","","SPECIFY BEAM LENGTH",1]
["515E16000","EACH","PRESTRESSED CONCRETE BRIDGE I-BEAM MEMBERS, MISC.:","","","ADD SUPPLEMENTAL DESCRIPTION",1]
["515E17000","EACH","PRESTRESSED CONCRETE, MISC.:","","","ADD SUPPLEMENTAL DESCRIPTION",1]
["515E20000","EACH","INTERMEDIATE DIAPHRAGMS","","","",0]
["515E20001","EACH","INTERMEDIATE DIAPHRAGMS, AS PER PLAN","","","",0]
["515E30000","FT","HIGH EARLY STRENGTH KEYWAY GROUT","","","",0]
["516E01300","FT","ELASTOMERIC STRIP SEAL WITHOUT STEEL EXTRUSIONS","","","",0]
["516E01301","FT","ELASTOMERIC STRIP SEAL WITHOUT STEEL EXTRUSIONS, AS PER PLAN","","","",0]
["516E10000","FT","PREFORMED ELASTOMERIC COMPRESSION JOINT SEAL","","","",0]
["516E10001","FT","PREFORMED ELASTOMERIC COMPRESSION JOINT SEAL, AS PER PLAN","","","",0]
["516E10010","FT","ARMORLESS PREFORMED JOINT SEAL","","","",0]
["516E10011","FT","ARMORLESS PREFORMED JOINT SEAL, AS PER PLAN","","","",0]
["516E10500","FT","STRUCTURAL EXPANSION JOINT INCLUDING ELASTOMERIC COMPRESSION SEAL","","","",0]
["516E10501","FT","STRUCTURAL EXPANSION JOINT INCLUDING ELASTOMERIC COMPRESSION SEAL, AS PER PLAN","","","",0]
["516E10900","FT","ELASTOMERIC COMPRESSION SEAL","","","",0]
["516E10901","FT","ELASTOMERIC COMPRESSION SEAL, AS PER PLAN","","","",0]
["516E11210","FT","STRUCTURAL EXPANSION JOINT INCLUDING ELASTOMERIC STRIP SEAL","","","",0]
["516E11211","FT","STRUCTURAL EXPANSION JOINT INCLUDING ELASTOMERIC STRIP SEAL, AS PER PLAN","","","",0]
["516E11800","FT","VERTICAL EXTENSION OF STRUCTURAL EXPANSION JOINT","","","",0]
["516E11801","FT","VERTICAL EXTENSION OF STRUCTURAL EXPANSION JOINT, AS PER PLAN","","","",0]
["516E11900","FT","HORIZONTAL EXTENSION OF STRUCTURAL EXPANSION JOINT","","","",0]
["516E11901","FT","HORIZONTAL EXTENSION OF STRUCTURAL EXPANSION JOINT, AS PER PLAN","","","",0]
["516E12200","FT","STRUCTURAL STEEL EXPANSION JOINT","","","",0]
["516E12201","FT","STRUCTURAL STEEL EXPANSION JOINT, AS PER PLAN","","","",0]
["516E12300","FT","STRIP SEAL EXPANSION JOINT ANCHORED WITH ELASTOMERIC CONCRETE","","","WITHOUT SIDEWALK",0]
["516E12301","FT","STRIP SEAL EXPANSION JOINT ANCHORED WITH ELASTOMERIC CONCRETE, AS PER PLAN","","","WITHOUT SIDEWALK",0]
["516E12302","FT","STRIP SEAL EXPANSION JOINT ANCHORED WITH ELASTOMERIC CONCRETE","","","WITH SIDEWALK",0]
["516E12310","LB","SIDEWALK COVER PLATE","","","",0]
["516E12400","FT","SPECIAL - MODULAR EXPANSION JOINT","","","",0]
["516E13000","SF","1/4\" PREFORMED EXPANSION JOINT FILLER","","","",0]
["516E13001","SF","1/4\" PREFORMED EXPANSION JOINT FILLER, AS PER PLAN","","","",0]
["516E13200","SF","1/2\" PREFORMED EXPANSION JOINT FILLER","","","",0]
["516E13201","SF","1/2\" PREFORMED EXPANSION JOINT FILLER, AS PER PLAN","","","",0]
["516E13400","SF","3/4\" PREFORMED EXPANSION JOINT FILLER","","","",0]
["516E13600","SF","1\" PREFORMED EXPANSION JOINT FILLER","","","",0]
["516E13601","SF","1\" PREFORMED EXPANSION JOINT FILLER, AS PER PLAN","","","",0]
["516E13800","SF","1-1/2\" PREFORMED EXPANSION JOINT FILLER","","","",0]
["516E13900","SF","2\" PREFORMED EXPANSION JOINT FILLER","","","",0]
["516E13901","SF","2\" PREFORMED EXPANSION JOINT FILLER, AS PER PLAN","","","",0]
["516E14000","SF","PREFORMED EXPANSION JOINT FILLER, MISC.:","","","SPECIFY THICKNESS",1]
["516E14010","FT","SPECIAL - POURED POLYURETHANE JOINT SEAL","","","",0]
["516E14014","FT","INTEGRAL ABUTMENT EXPANSION JOINT SEAL","","","",0]
["516E14015","FT","INTEGRAL ABUTMENT EXPANSION JOINT SEAL, AS PER PLAN","","","",0]
["516E14020","FT","SEMI-INTEGRAL ABUTMENT EXPANSION JOINT SEAL","","","",0]
["516E14021","FT","SEMI-INTEGRAL ABUTMENT EXPANSION JOINT SEAL, AS PER PLAN","","","",0]
["516E14100","FT","SPECIAL - CONTINUOUS SEAL IN POLYMER CONCRETE JOINT","","","SPECIFY WIDTH",1]
["516E14110","FT","SPECIAL - CONTINUOUS SEAL IN STRUCTURAL STEEL JOINT","","","SPECIFY WIDTH",1]
["516E14500","SF","STRUCTURAL JOINT OR JOINT SEALER, MISC.:","","","ADD SUPPLEMENTAL DESCRIPTION",1]
["516E14600","FT","STRUCTURAL JOINT OR JOINT SEALER, MISC.:","","","ADD SUPPLEMENTAL DESCRIPTION",1]
["516E14800","LS","STRUCTURAL JOINT OR JOINT SEALER, MISC.:","","","ADD SUPPLEMENTAL DESCRIPTION",1]
["516E15000","EACH","STRUCTURAL JOINT OR JOINT SEALER, MISC.:","","","ADD SUPPLEMENTAL DESCRIPTION",1]
["516E20000","SF","3/4\" ELASTOMERIC ERECTION STRIP","","","",0]
["516E20010","SF","1\" ELASTOMERIC ERECTION STRIP","","","",0]
["516E25000","SF","NYLON REINFORCED NEOPRENE SHEETING","","","",0]
["516E25001","SF","NYLON REINFORCED NEOPRENE SHEETING, AS PER PLAN","","","",0]
["516E31000","FT","JOINT SEALER","","","",0]
["516E31001","FT","JOINT SEALER, AS PER PLAN","","","",0]
["516E31010","FT","2\" DEEP JOINT SEALER","","","",0]
["516E31011","FT","2\" DEEP JOINT SEALER, AS PER PLAN","","","",0]
["516E31200","FT","SPECIAL - SAWING AND SEALING BITUMINOUS CONCRETE JOINTS","","","STRUCTURE ITEM ONLY",0]
["516E31250","FT","SPECIAL - SAWING AND SEALING CONCRETE JOINTS","","","",0]
["516E41100","EACH","1/8\" PREFORMED BEARING PAD","","","CHECK UNIT OF MEASURE",0]
["516E41200","SF","1/8\" PREFORMED BEARING PAD","","","CHECK UNIT OF MEASURE",0]
["516E41300","EACH","1/2\" ELASTOMERIC BEARING PAD","","","CHECK UNIT OF MEASURE",0]
["516E41400","SF","1/2\" ELASTOMERIC BEARING PAD","","","CHECK UNIT OF MEASURE",0]
["516E41500","EACH","1\" ELASTOMERIC BEARING PAD","","","CHECK UNIT OF MEASURE",0]
["516E41600","SF","1\" ELASTOMERIC BEARING PAD","","","CHECK UNIT OF MEASURE",0]
["516E41601","SF","1\" ELASTOMERIC BEARING PAD, AS PER PLAN","","","CHECK UNIT OF MEASURE",0]
["516E42000","EACH","ELASTOMERIC BEARING PAD, MISC.:","","","ADD SUPPLEMENTAL DESCRIPTION",1]
["516E42600","FT","ELASTOMERIC BEARING PAD, MISC.:","","","ADD SUPPLEMENTAL DESCRIPTION",1]
["516E43100","EACH","ELASTOMERIC BEARING WITH INTERNAL LAMINATES ONLY (NEOPRENE)","","","<2\" THICK, SPECIFY DIMENSIONS",1]
["516E43101","EACH","ELASTOMERIC BEARING WITH INTERNAL LAMINATES ONLY (NEOPRENE), AS PER PLAN","","","<2\" THICK, SPECIFY DIMENSIONS",1]
["516E43200","EACH","ELASTOMERIC BEARING WITH INTERNAL LAMINATES ONLY (NEOPRENE)","","","2\"-3\" TK, SPECIFY DIMENSIONS",1]
["516E43201","EACH","ELASTOMERIC BEARING WITH INTERNAL LAMINATES ONLY (NEOPRENE), AS PER PLAN","","","2\"-3\" TK, SPECIFY DIMENSIONS",1]
["516E43300","EACH","ELASTOMERIC BEARING WITH INTERNAL LAMINATES ONLY (NEOPRENE)","","","3\"-4\" TK, SPECIFY DIMENSIONS",1]
["516E43301","EACH","ELASTOMERIC BEARING WITH INTERNAL LAMINATES ONLY (NEOPRENE), AS PER PLAN","","","3\"-4\" TK, SPECIFY DIMENSIONS",1]
["516E43400","EACH","ELASTOMERIC BEARING WITH INTERNAL LAMINATES ONLY (NEOPRENE)","","","4\"-5\" TK, SPECIFY DIMENSIONS",1]
["516E43401","EACH","ELASTOMERIC BEARING WITH INTERNAL LAMINATES ONLY (NEOPRENE), AS PER PLAN","","","4\"-5\" TK, SPECIFY DIMENSIONS",1]
["516E43500","EACH","ELASTOMERIC BEARING WITH INTERNAL LAMINATES ONLY (NEOPRENE)","","","5\" & OVER, SPECIFY DIMENSIONS",1]
["516E43501","EACH","ELASTOMERIC BEARING WITH INTERNAL LAMINATES ONLY (NEOPRENE), AS PER PLAN","","","5\" & OVER, SPECIFY DIMENSIONS",1]
["516E44000","EACH","ELASTOMERIC BEARING WITH INTERNAL LAMINATES AND LOAD PLATE (NEOPRENE)","","","<2\" THICK, SPECIFY DIMENSIONS",1]
["516E44001","EACH","ELASTOMERIC BEARING WITH INTERNAL LAMINATES AND LOAD PLATE (NEOPRENE), AS PER PLAN","","","<2\" THICK, SPECIFY DIMENSIONS",1]
["516E44100","EACH","ELASTOMERIC BEARING WITH INTERNAL LAMINATES AND LOAD PLATE (NEOPRENE)","","","2\"-3\" TK, SPECIFY DIMENSIONS",1]
["516E44101","EACH","ELASTOMERIC BEARING WITH INTERNAL LAMINATES AND LOAD PLATE (NEOPRENE), AS PER PLAN","","","2\"-3\" TK, SPECIFY DIMENSIONS",1]
["516E44200","EACH","ELASTOMERIC BEARING WITH INTERNAL LAMINATES AND LOAD PLATE (NEOPRENE)","","","3\"-4\" TK, SPECIFY DIMENSIONS",1]
["516E44201","EACH","ELASTOMERIC BEARING WITH INTERNAL LAMINATES AND LOAD PLATE (NEOPRENE), AS PER PLAN","","","3\"-4\" TK, SPECIFY DIMENSIONS",1]
["516E44300","EACH","ELASTOMERIC BEARING WITH INTERNAL LAMINATES AND LOAD PLATE (NEOPRENE)","","","4\"-5\" TK, SPECIFY DIMENSIONS",1]
["516E44301","EACH","ELASTOMERIC BEARING WITH INTERNAL LAMINATES AND LOAD PLATE (NEOPRENE), AS PER PLAN","","","4\"-5\" TK, SPECIFY DIMENSIONS",1]
["516E44400","EACH","ELASTOMERIC BEARING WITH INTERNAL LAMINATES AND LOAD PLATE (NEOPRENE)","","","5\" & OVER, SPECIFY DIMENSIONS",1]
["516E44401","EACH","ELASTOMERIC BEARING WITH INTERNAL LAMINATES AND LOAD PLATE (NEOPRENE), AS PER PLAN","","","5\" & OVER, SPECIFY DIMENSIONS",1]
["516E45000","EACH","STEEL POT BEARING","","","",0]
["516E45001","EACH","STEEL POT BEARING, AS PER PLAN","","","",0]
["516E45100","EACH","SPECIAL - BEARING TEST, STEEL POT BEARING","","","",0]
["516E45300","EACH","SPECIAL - ADDITIONAL BEARING TEST, STEEL POT BEARING","","","",0]
["516E45304","EACH","REFURBISH BEARING DEVICE","","","CHECK UNIT OF MEASURE",0]
["516E45305","EACH","REFURBISH BEARING DEVICE, AS PER PLAN","","","CHECK UNIT OF MEASURE",0]
["516E45306","LS","REFURBISH BEARING DEVICE","","","CHECK UNIT OF MEASURE",0]
["516E45307","LS","REFURBISH BEARING DEVICE, AS PER PLAN","","","CHECK UNIT OF MEASURE",0]
["516E46000","EACH","BEARING DEVICE, BOLSTER","","","",0]
["516E46001","EACH","BEARING DEVICE, BOLSTER, AS PER PLAN","","","",0]
["516E46200","EACH","BEARING DEVICE, ROCKER","","","",0]
["516E46201","EACH","BEARING DEVICE, ROCKER, AS PER PLAN","","","",0]
["516E46500","EACH","BEARING, PTFE (TEFLON)","","","",0]
["516E46501","EACH","BEARING, PTFE (TEFLON), AS PER PLAN","","","",0]
["516E46700","EACH","RESET BEARING","","","",0]
["516E46701","EACH","RESET BEARING, AS PER PLAN","","","",0]
["516E46800","EACH","SPECIAL - REFURBISH AND RESET BEARING","","","",0]
["516E46900","EACH","BEARING DEVICE, MISC.:","","","ADD SUPPLEMENTAL DESCRIPTION",1]
["516E46910","LB","BEARING DEVICE, MISC.:","","","ADD SUPPLEMENTAL DESCRIPTION",1]
["516E46920","SF","BEARING DEVICE, MISC.:","","","ADD SUPPLEMENTAL DESCRIPTION",1]
["516E46930","LS","BEARING DEVICE, MISC.:","","","ADD SUPPLEMENTAL DESCRIPTION",1]
["516E47000","LS","JACKING AND TEMPORARY SUPPORT OF SUPERSTRUCTURE","","","",0]
["516E47001","LS","JACKING AND TEMPORARY SUPPORT OF SUPERSTRUCTURE, AS PER PLAN","","","",0]
["517E70000","FT","RAILING (TWIN STEEL TUBE)","","","SEE BDM 310.11, STR GROUNDING",0]
["517E70001","FT","RAILING (TWIN STEEL TUBE), AS PER PLAN","","","SEE BDM 310.11, STR GROUNDING",0]
["517E70100","FT","RAILING (THREE STEEL TUBE BRIDGE RAILING)","","","SEE BDM 310.11, STR GROUNDING",0]
["517E70101","FT","RAILING (THREE STEEL TUBE BRIDGE RAILING), AS PER PLAN","","","SEE BDM 310.11, STR GROUNDING",0]
["517E71500","FT","RAILING (CONCRETE PARAPET WITH DOUBLE PIPE RAIL)","","","SEE BDM 310.11, STR GROUNDING",0]
["517E71501","FT","RAILING (CONCRETE PARAPET WITH DOUBLE PIPE RAIL), AS PER PLAN","","","SEE BDM 310.11, STR GROUNDING",0]
["517E71502","FT","RAILING (CONCRETE PARAPET WITH DOUBLE PIPE RAIL) WITH QC/QA","","","SEE BDM 310.11, STR GROUNDING",0]
["517E71503","FT","RAILING (CONCRETE PARAPET WITH DOUBLE PIPE RAIL) WITH QC/QA, AS PER PLAN","","","SEE BDM 310.11, STR GROUNDING",0]
["517E72200","FT","RAILING (DEEP BEAM RAIL WITH STEEL TUBULAR BACKUP AND TYPE 1 STEEL POSTS AND ANCHOR BOLTS)","","","SEE BDM 310.11, STR GROUNDING",0]
["517E72201","FT","RAILING (DEEP BEAM RAIL WITH STEEL TUBULAR BACKUP AND TYPE 1 STEEL POSTS AND ANCHOR BOLTS), AS PER PLAN","","","SEE BDM 310.11, STR GROUNDING",0]
["517E72204","FT","RAILING (DEEP BEAM RAIL WITH STEEL TUBULAR BACKUP AND TYPE 1 STEEL POSTS)","","","SEE BDM 310.11, STR GROUNDING",0]
["517E72205","FT","RAILING (DEEP BEAM RAIL WITH STEEL TUBULAR BACKUP AND TYPE 1 STEEL POSTS), AS PER PLAN","","","SEE BDM 310.11, STR GROUNDING",0]
["517E72300","FT","RAILING (DEEP BEAM RAIL WITH STEEL TUBULAR BACKUP AND TYPE 2 STEEL POSTS AND ANCHOR BOLTS)","","","SEE BDM 310.11, STR GROUNDING",0]
["517E72301","FT","RAILING (DEEP BEAM RAIL WITH STEEL TUBULAR BACKUP AND TYPE 2 STEEL POSTS AND ANCHOR BOLTS), AS PER PLAN","","","SEE BDM 310.11, STR GROUNDING",0]
["517E72306","FT","RAILING (DEEP BEAM RAIL WITH STEEL TUBULAR BACKUP AND TYPE 2 STEEL POSTS)","","","SEE BDM 310.11, STR GROUNDING",0]
["517E72307","FT","RAILING (DEEP BEAM RAIL WITH STEEL TUBULAR BACKUP AND TYPE 2 STEEL POSTS), AS PER PLAN","","","SEE BDM 310.11, STR GROUNDING",0]
["517E72500","FT","RAILING (DEEP BEAM RAIL WITH 2 STEEL TUBULAR BACKUPS AND STEEL POSTS)","","","SEE BDM 310.11, STR GROUNDING",0]
["517E72501","FT","RAILING (DEEP BEAM RAIL WITH 2 STEEL TUBULAR BACKUPS AND STEEL POSTS), AS PER PLAN","","","SEE BDM 310.11, STR GROUNDING",0]
["517E72510","FT","RAILING (DEEP BEAM RAIL WITH 3 STEEL TUBULAR BACKUPS AND STEEL POSTS)","","","SEE BDM 310.11, STR GROUNDING",0]
["517E72511","FT","RAILING (DEEP BEAM RAIL WITH 3 STEEL TUBULAR BACKUPS AND STEEL POSTS), AS PER PLAN","","","SEE BDM 310.11, STR GROUNDING",0]
["517E72520","FT","RAILING (DEEP BEAM RAIL WITH 1 STEEL TUBULAR BACKUP AND STEEL POST)","","","SEE BDM 310.11, STR GROUNDING",0]
["517E72521","FT","RAILING (DEEP BEAM RAIL WITH 1 STEEL TUBULAR BACKUP AND STEEL POST), AS PER PLAN","","","SEE BDM 310.11, STR GROUNDING",0]
["517E72600","FT","RAILING (DEEP BEAM RAIL WITH STEEL TUBULAR BACKUP, HANDRAIL, 2 STEEL POSTS AND ANCHOR BOLTS)","","","SEE BDM 310.11, STR GROUNDING",0]
["517E72700","FT","RAILING (DEEP BEAM RAIL WITH STEEL TUBULAR BACKUP AND INLET MOUNTED STEEL POSTS AND ANCHOR BOLTS)","","","SEE BDM 310.11, STR GROUNDING",0]
["517E72701","FT","RAILING (DEEP BEAM RAIL WITH STEEL TUBULAR BACKUP AND INLET MOUNTED STEEL POSTS AND ANCHOR BOLTS), AS PER PLAN","","","SEE BDM 310.11, STR GROUNDING",0]
["517E72750","FT","RAILING (THRIE BEAM RETROFIT)","","","SEE BDM 310.11, STR GROUNDING",0]
["517E72751","FT","RAILING (THRIE BEAM RETROFIT), AS PER PLAN","","","SEE BDM 310.11, STR GROUNDING",0]
["517E73004","FT","RAILING (THRIE BEAM RAIL AND TRANSITION SECTION)","","","SEE BDM 310.11, STR GROUNDING",0]
["517E73008","FT","RAILING (THRIE BEAM RAIL), MISC.:","","","SEE BDM 310.11, STR GROUNDING",1]
["517E73100","FT","TEMPORARY BRIDGE RAILING","","","SEE BDM 310.11, STR GROUNDING",0]
["517E73101","FT","TEMPORARY BRIDGE RAILING, AS PER PLAN","","","SEE BDM 310.11, STR GROUNDING",0]
["517E73500","FT","RAILING, PIPE","","","SEE BDM 310.11, STR GROUNDING",0]
["517E73501","FT","RAILING, PIPE, AS PER PLAN","","","SEE BDM 310.11, STR GROUNDING",0]
["517E74000","FT","RAILING, TIMBER","","","",0]
["517E74001","FT","RAILING, TIMBER, AS PER PLAN","","","",0]
["517E74500","FT","RAILING, CONCRETE","","","",0]
["517E74501","FT","RAILING, CONCRETE, AS PER PLAN","","","",0]
["517E75000","FT","RAILING, ALUMINUM","","","SEE BDM 310.11, STR GROUNDING",0]
["517E75001","FT","RAILING, ALUMINUM, AS PER PLAN","","","SEE BDM 310.11, STR GROUNDING",0]
["517E75120","FT","RAILING (CONCRETE PARAPET WITH TWIN STEEL TUBE RAILING)","","","SEE BDM 310.11, STR GROUNDING",0]
["517E75121","FT","RAILING (CONCRETE PARAPET WITH TWIN STEEL TUBE RAILING), AS PER PLAN","","","SEE BDM 310.11, STR GROUNDING",0]
["517E75122","FT","RAILING (CONCRETE PARAPET WITH TWIN STEEL TUBE RAILING AND VANDAL PROTECTION FENCE)","","","SEE BDM 310.11, STR GROUNDING",0]
["517E75123","FT","RAILING (CONCRETE PARAPET WITH TWIN STEEL TUBE RAILING AND VANDAL PROTECTION FENCE), AS PER PLAN","","","SEE BDM 310.11, STR GROUNDING",0]
["517E75124","FT","RAILING (CONCRETE PARAPET WITH TWIN STEEL TUBE RAILING), USING HIGH PERFORMANCE CONCRETE","","","SEE BDM 310.11, STR GROUNDING",0]
["517E75125","FT","RAILING (CONCRETE PARAPET WITH TWIN STEEL TUBE RAILING) USING HIGH PERFORMANCE CONCRETE, AS PER PLAN","","","SEE BDM 310.11, STR GROUNDING",0]
["517E75300","FT","RAILING, CONCRETE PARAPET WITH CHAIN LINK FENCE","","","SEE BDM 310.11, STR GROUNDING",0]
["517E75301","FT","RAILING, CONCRETE PARAPET WITH CHAIN LINK FENCE, AS PER PLAN","","","SEE BDM 310.11, STR GROUNDING",0]
["517E75400","FT","RAILING (UPGRADING EXISTING)","","","SEE BDM 310.11, STR GROUNDING",0]
["517E75401","FT","RAILING (UPGRADING EXISTING), AS PER PLAN","","","SEE BDM 310.11, STR GROUNDING",0]
["517E75500","FT","BRIDGE RAILING REBUILT","","","SEE BDM 310.11, STR GROUNDING",0]
["517E75501","FT","BRIDGE RAILING REBUILT, AS PER PLAN","","","SEE BDM 310.11, STR GROUNDING",0]
["517E75600","FT","DEEP BEAM BRIDGE RETROFIT RAILING","","","SEE BDM 310.11, STR GROUNDING",0]
["517E75601","FT","DEEP BEAM BRIDGE RETROFIT RAILING, AS PER PLAN","","","SEE BDM 310.11, STR GROUNDING",0]
["517E76200","FT","RAILING FACED","","","",0]
["517E76201","FT","RAILING FACED, AS PER PLAN","","","",0]
["517E76300","FT","RAILING, MISC.:","","","SEE BDM 310.11, STR GROUNDING",1]
["517E76302","EACH","RAILING, MISC.:","","","ADD SUPPLEMENTAL DESCRIPTION",1]
["517E76400","EACH","RAILING POST","","","",0]
["517E80000","FT","RAILING (COMBINATION NOISE AND TRAFFIC BARRIER ON INDEPENDENT FOOTING)","","","",0]
["517E80010","FT","RAILING (COMBINATION NOISE AND TRAFFIC BARRIER ON MSE WALL WITH FLEXIBLE PAVEMENT)","","","",0]
["517E80020","FT","RAILING (COMBINATION NOISE AND TRAFFIC BARRIER ON MSE WALL WITH RIGID PAVEMENT)","","","",0]
["518E12000","EACH","SCUPPERS, INCLUDING SUPPORTS","","","CONCRETE BOX BEAM BRIDGES",0]
["518E12001","EACH","SCUPPERS, INCLUDING SUPPORTS, AS PER PLAN","","","CONCRETE BOX BEAM BRIDGES",0]
["518E12200","EACH","SCUPPERS, INCLUDING SUPPORTS","","","STEEL BEAM BRIDGES",0]
["518E12201","EACH","SCUPPERS, INCLUDING SUPPORTS, AS PER PLAN","","","STEEL BEAM BRIDGES",0]
["518E12300","EACH","SCUPPERS, INCLUDING SUPPORTS","","","GIRDER BRIDGES",0]
["518E12301","EACH","SCUPPERS, INCLUDING SUPPORTS, AS PER PLAN","","","GIRDER BRIDGES",0]
["518E12500","EACH","SCUPPER, MISC.:","","","ADD SUPPLEMENTAL DESCRIPTION",1]
["518E12700","EACH","SCUPPER, VERTICAL EXTENSION","","","",0]
["518E12701","EACH","SCUPPER, VERTICAL EXTENSION, AS PER PLAN","","","",0]
["518E12800","EACH","SCUPPER, MODIFICATION","","","",0]
["518E12801","EACH","SCUPPER, MODIFICATION, AS PER PLAN","","","",0]
["518E12900","EACH","SCUPPER, LENGTHENING","","","",0]
["518E12901","EACH","SCUPPER, LENGTHENING, AS PER PLAN","","","",0]
["518E20000","SY","PREFABRICATED GEOCOMPOSITE DRAIN","","","CHECK UNIT OF MEASURE",0]
["518E20050","LS","PREFABRICATED GEOCOMPOSITE DRAIN","","","CHECK UNIT OF MEASURE",0]
["518E21000","SY","POROUS BACKFILL","","","CHECK UNIT OF MEASURE",0]
["518E21001","SY","POROUS BACKFILL, AS PER PLAN","","","CHECK UNIT OF MEASURE",0]
["518E21050","SY","POROUS BACKFILL WITH GEOTEXTILE FABRIC","","","CHECK UNIT OF MEASURE",0]
["518E21051","SY","POROUS BACKFILL WITH GEOTEXTILE FABRIC, AS PER PLAN","","","CHECK UNIT OF MEASURE",0]
["518E21100","CY","POROUS BACKFILL","","","CHECK UNIT OF MEASURE",0]
["518E21101","CY","POROUS BACKFILL, AS PER PLAN","","","CHECK UNIT OF MEASURE",0]
["518E21200","CY","POROUS BACKFILL WITH GEOTEXTILE FABRIC","","","CHECK UNIT OF MEASURE",0]
["518E21201","CY","POROUS BACKFILL WITH GEOTEXTILE FABRIC, AS PER PLAN","","","CHECK UNIT OF MEASURE",0]
["518E21220","LS","POROUS BACKFILL","","","CHECK UNIT OF MEASURE",0]
["518E21221","LS","POROUS BACKFILL, AS PER PLAN","","","CHECK UNIT OF MEASURE",0]
["518E21230","LS","POROUS BACKFILL WITH GEOTEXTILE FABRIC","","","CHECK UNIT OF MEASURE",0]
["518E21231","LS","POROUS BACKFILL WITH GEOTEXTILE FABRIC, AS PER PLAN","","","CHECK UNIT OF MEASURE",0]
["518E22300","FT","SPECIAL - STEEL DRIP STRIP","","","CHECK UNIT OF MEASURE",0]
["518E39800","FT","4\" PERFORATED CORRUGATED PLASTIC PIPE","","","",0]
["518E39801","FT","4\" PERFORATED CORRUGATED PLASTIC PIPE, AS PER PLAN","","","",0]
["518E39900","FT","4\" NON-PERFORATED CORRUGATED PLASTIC PIPE, INCLUDING SPECIALS","","","",0]
["518E40000","FT","6\" PERFORATED CORRUGATED PLASTIC PIPE","","","",0]
["518E40001","FT","6\" PERFORATED CORRUGATED PLASTIC PIPE, AS PER PLAN","","","",0]
["518E40010","FT","6\" NON-PERFORATED CORRUGATED PLASTIC PIPE, INCLUDING SPECIALS","","","",0]
["518E40011","FT","6\" NON-PERFORATED CORRUGATED PLASTIC PIPE, INCLUDING SPECIALS, AS PER PLAN","","","",0]
["518E40012","FT","6\" NON-PERFORATED CORRUGATED PLASTIC PIPE","","","",0]
["518E41100","FT","6\" PERFORATED HELICAL CORRUGATED STEEL PIPE, 707.01","","","",0]
["518E41101","FT","6\" PERFORATED HELICAL CORRUGATED STEEL PIPE, 707.01, AS PER PLAN","","","",0]
["518E41200","FT","6\" NON-PERFORATED HELICAL CORRUGATED STEEL PIPE, INCLUDING SPECIALS, 707.01","","","",0]
["518E41201","FT","6\" NON-PERFORATED HELICAL CORRUGATED STEEL PIPE, INCLUDING SPECIALS, 707.01, AS PER PLAN","","","",0]
["518E42000","FT","8\" PERFORATED CORRUGATED PLASTIC PIPE","","","",0]
["518E42010","FT","8\" NON-PERFORATED CORRUGATED PLASTIC PIPE, INCLUDING SPECIALS","","","",0]
["518E42200","FT","8\" PERFORATED CORRUGATED STEEL PIPE, 707.01","","","",0]
["518E42201","FT","8\" PERFORATED CORRUGATED STEEL PIPE, 707.01, AS PER PLAN","","","",0]
["518E42300","FT","8\" NON-PERFORATED CORRUGATED STEEL PIPE, INCLUDING SPECIALS, 707.01","","","",0]
["518E42301","FT","8\" NON-PERFORATED CORRUGATED STEEL PIPE, INCLUDING SPECIALS, 707.01, AS PER PLAN","","","",0]
["518E42400","FT","6\" PERFORATED PIPE, INCLUDING SPECIALS","","","",0]
["518E42450","FT","6\" NON-PERFORATED PIPE, INCLUDING SPECIALS","","","",0]
["518E42451","FT","6\" NON-PERFORATED PIPE, INCLUDING SPECIALS, AS PER PLAN","","","",0]
["518E43300","FT","6\" PIPE DOWNSPOUT, INCLUDING SPECIALS","","","",0]
["518E43301","FT","6\" PIPE DOWNSPOUT, INCLUDING SPECIALS, AS PER PLAN","","","",0]
["518E51100","FT","8\" PIPE DOWNSPOUT, INCLUDING SPECIALS","","","",0]
["518E51101","FT","8\" PIPE DOWNSPOUT, INCLUDING SPECIALS, AS PER PLAN","","","",0]
["518E51200","FT","PIPE DOWNSPOUT, INCLUDING SPECIALS","","","OTHER THAN 6\"&8\", SPECIFY SIZE",1]
["518E51201","FT","PIPE DOWNSPOUT, INCLUDING SPECIALS, AS PER PLAN","","","OTHER THAN 6\"&8\", SPECIFY SIZE",1]
["518E51300","EACH","DOWNSPOUT MODIFICATION","","","SPECIFY SIZE",1]
["518E60000","LB","TROUGH HORIZONTAL CONDUCTOR","","","CHECK UNIT OF MEASURE",0]
["518E60010","FT","TROUGH HORIZONTAL CONDUCTOR","","","CHECK UNIT OF MEASURE",0]
["518E60011","FT","TROUGH HORIZONTAL CONDUCTOR, AS PER PLAN","","","CHECK UNIT OF MEASURE",0]
["518E60020","LB","PIPE HORIZONTAL CONDUCTOR","","","CHECK UNIT OF MEASURE",0]
["518E60030","FT","PIPE HORIZONTAL CONDUCTOR","","","CHECK UNIT OF MEASURE",0]
["518E60031","FT","PIPE HORIZONTAL CONDUCTOR, AS PER PLAN","","","CHECK UNIT OF MEASURE",0]
["518E61400","EACH","SPECIAL - KEYWAY DRAIN","","","",0]
["518E62100","FT","STRUCTURE DRAINAGE, MISC.:","","","ADD SUPPLEMENTAL DESCRIPTION",1]
["518E62200","EACH","STRUCTURE DRAINAGE, MISC.:","","","ADD SUPPLEMENTAL DESCRIPTION",1]
["518E62400","SY","STRUCTURE DRAINAGE, MISC.:","","","ADD SUPPLEMENTAL DESCRIPTION",1]
["518E62600","SF","STRUCTURE DRAINAGE, MISC.:","","","ADD SUPPLEMENTAL DESCRIPTION",1]
["518E63300","LS","STRUCTURE DRAINAGE, MISC.:","","","ADD SUPPLEMENTAL DESCRIPTION",1]
["519E00100","SF","SPECIAL - COMPOSITE FIBER WRAP SYSTEM","","","",0]
["519E10000","SY","PATCHING CONCRETE BRIDGE DECK OVERLAY WITH MICRO-SILICA MODIFIED CONCRETE","","","",0]
["519E11100","SF","PATCHING CONCRETE STRUCTURE","","","",0]
["519E11101","SF","PATCHING CONCRETE STRUCTURE, AS PER PLAN","","","",0]
["519E11600","SF","SPECIAL - PATCHING CONCRETE STRUCTURE","","","ADD SUPPLEMENTAL DESCRIPTION",1]
["519E11710","SY","SPECIAL - PATCHING CONCRETE STRUCTURE","","","ADD SUPPLEMENTAL DESCRIPTION",1]
["519E11720","FT","SPECIAL - PATCHING CONCRETE STRUCTURE","","","ADD SUPPLEMENTAL DESCRIPTION",1]
["519E11900","CY","SPECIAL - PATCHING CONCRETE STRUCTURE","","","ADD SUPPLEMENTAL DESCRIPTION",1]
["519E12200","SY","PATCHING CONCRETE BRIDGE DECK - TYPE A","","","",0]
["519E12300","SY","PATCHING CONCRETE BRIDGE DECK - TYPE B","","","",0]
["519E12304","SY","PATCHING CONCRETE BRIDGE DECK - TYPE C","","","",0]
["519E12510","SY","SPECIAL - PATCHING CONCRETE BRIDGE DECK","","","",0]
["519E12602","SF","SPECIAL - LOW PRESSURE EPOXY INJECTING OF DELAMINATED CONCRETE","","","",0]
["519E12610","FT","SPECIAL - CONCRETE REPAIR BY EPOXY INJECTION INCLUDING SURFACE PREPARATION","","","",0]
["519E12700","FT","SPECIAL - SURFACE PREPARATION FOR EPOXY INJECTION AND FINISHING","","","",0]
["519E12800","SY","SPECIAL - BRIDGE DECK SURFACE PREPARATION","","","ADD SUPPLEMENTAL DESCRIPTION",1]
["519E13000","CY","SPECIAL - BRIDGE DECK SURFACE REPAIR","","","ADD SUPPLEMENTAL DESCRIPTION",1]
["519E60000","LS","SPECIAL - PATCHING CONCRETE STRUCTURE","","","ADD SUPPLEMENTAL DESCRIPTION",1]
["520E10000","SF","PNEUMATICALLY PLACED CONCRETE SHOTCRETE","","","",0]
["520E10001","SF","PNEUMATICALLY PLACED CONCRETE SHOTCRETE, AS PER PLAN","","","",0]
["522E12200","FT","STRUCTURAL PLATE CORRUGATED METAL STRUCTURE","","","SPECIFY DIMENSIONS",1]
["522E12201","FT","STRUCTURAL PLATE CORRUGATED METAL STRUCTURE, AS PER PLAN","","","",0]
["523E20000","EACH","DYNAMIC LOAD TESTING","","","",0]
["523E20001","EACH","DYNAMIC LOAD TESTING, AS PER PLAN","","","",0]
["523E20500","EACH","RESTRIKE","","","",0]
["523E20501","EACH","RESTRIKE, AS PER PLAN","","","",0]
["524E94400","FT","DRILLED SHAFTS, 18\" DIAMETER","","","",0]
["524E94401","FT","DRILLED SHAFTS, 18\" DIAMETER, AS PER PLAN","","","",0]
["524E94402","FT","DRILLED SHAFTS, 18\" DIAMETER, ABOVE BEDROCK","","","",0]
["524E94403","FT","DRILLED SHAFTS, 18\" DIAMETER, ABOVE BEDROCK, AS PER PLAN","","","",0]
["524E94404","FT","DRILLED SHAFTS, 18\" DIAMETER, INTO BEDROCK","","","",0]
["524E94405","FT","DRILLED SHAFTS, 18\" DIAMETER, INTO BEDROCK, AS PER PLAN","","","",0]
["524E94500","FT","DRILLED SHAFTS, 24\" DIAMETER","","","",0]
["524E94501","FT","DRILLED SHAFTS, 24\" DIAMETER, AS PER PLAN","","","",0]
["524E94502","FT","DRILLED SHAFTS, 24\" DIAMETER, ABOVE BEDROCK","","","",0]
["524E94503","FT","DRILLED SHAFTS, 24\" DIAMETER, ABOVE BEDROCK, AS PER PLAN","","","",0]
["524E94504","FT","DRILLED SHAFTS, 24\" DIAMETER, INTO BEDROCK","","","",0]
["524E94505","FT","DRILLED SHAFTS, 24\" DIAMETER, INTO BEDROCK, AS PER PLAN","","","",0]
["524E94600","FT","DRILLED SHAFTS, 30\" DIAMETER","","","",0]
["524E94601","FT","DRILLED SHAFTS, 30\" DIAMETER, AS PER PLAN","","","",0]
["524E94602","FT","DRILLED SHAFTS, 30\" DIAMETER, ABOVE BEDROCK","","","",0]
["524E94603","FT","DRILLED SHAFTS, 30\" DIAMETER, ABOVE BEDROCK, AS PER PLAN","","","",0]
["524E94604","FT","DRILLED SHAFTS, 30\" DIAMETER, INTO BEDROCK","","","",0]
["524E94605","FT","DRILLED SHAFTS, 30\" DIAMETER INTO BEDROCK, AS PER PLAN","","","",0]
["524E94700","FT","DRILLED SHAFTS, 36\" DIAMETER","","","",0]
["524E94701","FT","DRILLED SHAFTS, 36\" DIAMETER, AS PER PLAN","","","",0]
["524E94702","FT","DRILLED SHAFTS, 36\" DIAMETER, ABOVE BEDROCK","","","",0]
["524E94703","FT","DRILLED SHAFTS, 36\" DIAMETER, ABOVE BEDROCK, AS PER PLAN","","","",0]
["524E94704","FT","DRILLED SHAFTS, 36\" DIAMETER, INTO BEDROCK","","","",0]
["524E94705","FT","DRILLED SHAFTS, 36\" DIAMETER, INTO BEDROCK, AS PER PLAN","","","",0]
["524E94800","FT","DRILLED SHAFTS, 42\" DIAMETER","","","",0]
["524E94801","FT","DRILLED SHAFTS, 42\" DIAMETER, AS PER LAN","","","",0]
["524E94802","FT","DRILLED SHAFTS, 42\" DIAMETER, ABOVE BEDROCK","","","",0]
["524E94803","FT","DRILLED SHAFTS, 42\" DIAMETER, ABOVE BEDROCK, AS PER PLAN","","","",0]
["524E94804","FT","DRILLED SHAFTS, 42\" DIAMETER, INTO BEDROCK","","","",0]
["524E94805","FT","DRILLED SHAFTS, 42\" DIAMETER, INTO BEDROCK, AS PER PLAN","","","",0]
["524E94900","FT","DRILLED SHAFTS, 48\" DIAMETER","","","",0]
["524E94901","FT","DRILLED SHAFTS, 48\" DIAMETER, AS PER PLAN","","","",0]
["524E94902","FT","DRILLED SHAFTS, 48\" DIAMETER, ABOVE BEDROCK","","","",0]
["524E94903","FT","DRILLED SHAFTS, 48\" DIAMETER ABOVE BEDROCK, AS PER PLAN","","","",0]
["524E94904","FT","DRILLED SHAFTS, 48\" DIAMETER, INTO BEDROCK","","","",0]
["524E94905","FT","DRILLED SHAFTS, 48\" DIAMETER, INTO BEDROCK, AS PER PLAN","","","",0]
["524E94906","FT","DRILLED SHAFTS, 54\" DIAMETER, ABOVE BEDROCK","","","",0]
["524E94907","FT","DRILLED SHAFTS, 54\" DIAMETER, ABOVE BEDROCK, AS PER PLAN","","","",0]
["524E94908","FT","DRILLED SHAFTS, 54\" DIAMETER, INTO BEDROCK","","","",0]
["524E94909","FT","DRILLED SHAFTS, 54\" DIAMETER, INTO BEDROCK, AS PER PLAN","","","",0]
["524E94912","FT","DRILLED SHAFTS, 60\" DIAMETER","","","",0]
["524E94914","FT","DRILLED SHAFTS, 60\" DIAMETER, ABOVE BEDROCK","","","",0]
["524E94915","FT","DRILLED SHAFTS, 60\" DIAMETER, ABOVE BEDROCK, AS PER PLAN","","","",0]
["524E94918","FT","DRILLED SHAFTS, 60\" DIAMETER, INTO BEDROCK","","","",0]
["524E94919","FT","DRILLED SHAFTS, 60\" DIAMETER, INTO BEDROCK, AS PER PLAN","","","",0]
["524E94920","FT","DRILLED SHAFTS, 66\" DIAMETER","","","",0]
["524E94930","FT","DRILLED SHAFTS, 66\" DIAMETER, ABOVE BEDROCK","","","",0]
["524E94931","FT","DRILLED SHAFTS, 66\" DIAMETER, ABOVE BEDROCK, AS PER PLAN","","","",0]
["524E94934","FT","DRILLED SHAFTS, 66\" DIAMETER, INTO BEDROCK","","","",0]
["524E94935","FT","DRILLED SHAFTS, 66\" DIAMETER, INTO BEDROCK, AS PER PLAN","","","",0]
["524E94946","FT","DRILLED SHAFTS, 72\" DIAMETER, ABOVE BEDROCK","","","",0]
["524E94947","FT","DRILLED SHAFTS, 72\" DIAMETER, ABOVE BEDROCK, AS PER PLAN","","","",0]
["524E94950","FT","DRILLED SHAFTS, 72\" DIAMETER, INTO BEDROCK","","","",0]
["524E94951","FT","DRILLED SHAFTS, 72\" DIAMETER, INTO BEDROCK, AS PER PLAN","","","",0]
["524E94970","FT","DRILLED SHAFTS, 78\" DIAMETER ABOVE BEDROCK","","","",0]
["524E94971","FT","DRILLED SHAFTS, 78\" DIAMETER ABOVE BEDROCK, AS PER PLAN","","","",0]
["524E94980","FT","DRILLED SHAFTS, 78\" DIAMETER, INTO BEDROCK","","","",0]
["524E94988","FT","DRILLED SHAFTS, 90\" DIAMETER, ABOVE BEDROCK","","","",0]
["524E94990","FT","DRILLED SHAFTS, 84\" DIAMETER, ABOVE BEDROCK","","","",0]
["524E94991","FT","DRILLED SHAFTS, 84\" DIAMETER, ABOVE BEDROCK, AS PER PLAN","","","",0]
["524E94992","FT","DRILLED SHAFTS, 84\" DIAMETER, INTO BEDROCK","","","",0]
["524E94993","FT","DRILLED SHAFTS, 84\" DIAMETER, INTO BEDROCK, AS PER PLAN","","","",0]
["524E94994","FT","DRILLED SHAFTS, 90\" DIAMETER, INTO BEDROCK","","","",0]
["524E94995","FT","DRILLED SHAFTS, 90\" DIAMETER, INTO BEDROCK, AS PER PLAN","","","",0]
["524E94996","FT","DRILLED SHAFTS, 96\" DIAMETER, ABOVE BEDROCK","","","",0]
["524E94997","FT","DRILLED SHAFTS, 96\" DIAMETER, ABOVE BEDROCK, AS PER PLAN","","","",0]
["524E94998","FT","DRILLED SHAFTS, 96\" DIAMETER, INTO BEDROCK","","","",0]
["524E94999","FT","DRILLED SHAFTS, 96\" DIAMETER, INTO BEDROCK, AS PER PLAN","","","",0]
["524E95000","FT","DRILLED SHAFTS, MISC.:","","","ADD SUPPLEMENTAL DESCRIPTION",1]
["524E95100","EACH","DRILLED SHAFTS, MISC.:","","","ADD SUPPLEMENTAL DESCRIPTION",1]
["524E95200","LS","DRILLED SHAFTS, MISC.","","","ADD SUPPLEMENTAL DESCRIPTION",1]
["524E95300","LB","DRILLED SHAFTS, MISC.","","","ADD SUPPLEMENTAL DESCRIPTION",1]
["524E95400","FT","DRILLED SHAFTS, 18\" DIAMETER WITH QC/QA","","","",0]
["524E95402","FT","DRILLED SHAFTS, 18\" DIAMETER, ABOVE BEDROCK WITH QC/QA","","","",0]
["524E95404","FT","DRILLED SHAFTS, 18\" DIAMETER, INTO BEDROCK WITH QC/QA","","","",0]
["524E95410","FT","DRILLED SHAFTS, 24\" DIAMETER WITH QC/QA","","","",0]
["524E95412","FT","DRILLED SHAFTS, 24\" DIAMETER, ABOVE BEDROCK WITH QC/QA","","","",0]
["524E95414","FT","DRILLED SHAFTS, 24\" DIAMETER, INTO BEDROCK WITH QC/QA","","","",0]
["524E95420","FT","DRILLED SHAFTS, 30\" DIAMETER WITH QC/QA","","","",0]
["524E95422","FT","DRILLED SHAFTS, 30\" DIAMETER, ABOVE BEDROCK WITH QC/QA","","","",0]
["524E95424","FT","DRILLED SHAFTS, 30\" DIAMETER, INTO BEDROCK WITH QC/QA","","","",0]
["524E95430","FT","DRILLED SHAFTS, 36\" DIAMETER WITH QC/QA","","","",0]
["524E95432","FT","DRILLED SHAFTS, 36\" DIAMETER, ABOVE BEDROCK WITH QC/QA","","","",0]
["524E95434","FT","DRILLED SHAFTS, 36\" DIAMETER, INTO BEDROCK WITH QC/QA","","","",0]
["524E95435","FT","DRILLED SHAFTS, 36\" DIAMETER, INTO BEDROCK WITH QC/QA, AS PER PLAN","","","",0]
["524E95440","FT","DRILLED SHAFTS, 42\" DIAMETER WITH QC/QA","","","",0]
["524E95442","FT","DRILLED SHAFTS, 42\" DIAMETER, ABOVE BEDROCK WITH QC/QA","","","",0]
["524E95443","FT","DRILLED SHAFTS, 42\" DIAMETER, ABOVE BEDROCK WITH QC/QA, AS PER PLAN","","","",0]
["524E95444","FT","DRILLED SHAFTS, 42\" DIAMETER, INTO BEDROCK WITH QC/QA","","","",0]
["524E95445","FT","DRILLED SHAFTS, 42\" DIAMETER, INTO BEDROCK WITH QC/QA, AS PER PLAN","","","",0]
["524E95450","FT","DRILLED SHAFTS, 48\" DIAMETER WITH QC/QA","","","",0]
["524E95452","FT","DRILLED SHAFTS, 48\" DIAMETER, ABOVE BEDROCK WITH QC/QA","","","",0]
["524E95453","FT","DRILLED SHAFTS, 48\" DIAMETER, ABOVE BEDROCK WITH QC/QA, AS PER PLAN","","","",0]
["524E95454","FT","DRILLED SHAFTS, 48\" DIAMETER, INTO BEDROCK WITH QC/QA","","","",0]
["524E95455","FT","DRILLED SHAFTS, 48\" DIAMETER, INTO BEDROCK WITH QC/QA, AS PER PLAN","","","",0]
["524E95460","FT","DRILLED SHAFTS, 54\" DIAMETER WITH QC/QA","","","",0]
["524E95462","FT","DRILLED SHAFTS, 54\" DIAMETER, ABOVE BEDROCK WITH QC/QA","","","",0]
["524E95463","FT","DRILLED SHAFTS, 54\" DIAMETER, ABOVE BEDROCK WITH QC/QA, AS PER PLAN","","","",0]
["524E95464","FT","DRILLED SHAFTS, 54\" DIAMETER, INTO BEDROCK WITH QC/QA","","","",0]
["524E95470","FT","DRILLED SHAFTS, 60\" DIAMETER WITH QC/QA","","","",0]
["524E95472","FT","DRILLED SHAFTS, 60\" DIAMETER, ABOVE BEDROCK WITH QC/QA","","","",0]
["524E95474","FT","DRILLED SHAFTS, 60\" DIAMETER, INTO BEDROCK WITH QC/QA","","","",0]
["524E95475","FT","DRILLED SHAFTS, 60\" DIAMETER, INTO BEDROCK WITH QC/QA, AS PER PLAN","","","",0]
["524E95480","FT","DRILLED SHAFTS, 66\" DIAMETER WITH QC/QA","","","",0]
["524E95482","FT","DRILLED SHAFTS, 66\" DIAMETER, ABOVE BEDROCK WITH QC/QA","","","",0]
["524E95483","FT","DRILLED SHAFTS, 66\" DIAMETER, ABOVE BEDROCK WITH QC/QA, AS PER PLAN","","","",0]
["524E95484","FT","DRILLED SHAFTS, 66\" DIAMETER, INTO BEDROCK WITH QC/QA","","","",0]
["524E95490","FT","DRILLED SHAFTS, 72\" DIAMETER WITH QC/QA","","","",0]
["524E95492","FT","DRILLED SHAFTS, 72\" DIAMETER, ABOVE BEDROCK WITH QC/QA","","","",0]
["524E95494","FT","DRILLED SHAFTS, 72\" DIAMETER, INTO BEDROCK WITH QC/QA","","","",0]
["524E95495","FT","DRILLED SHAFTS, 72\" DIAMETER, INTO BEDROCK WITH QC/QA, AS PER PLAN","","","",0]
["524E95500","FT","DRILLED SHAFTS, 78\" DIAMETER WITH QC/QA","","","",0]
["524E95502","FT","DRILLED SHAFTS, 78\" DIAMETER, ABOVE BEDROCK WITH QC/QA","","","",0]
["524E95503","FT","DRILLED SHAFTS, 78\" DIAMETER, ABOVE BEDROCK WITH QC/QA, AS PER PLAN","","","",0]
["524E95504","FT","DRILLED SHAFTS, 78\" DIAMETER, INTO BEDROCK WITH QC/QA","","","",0]
["524E95510","FT","DRILLED SHAFTS, 84\" DIAMETER WITH QC/QA","","","",0]
["524E95512","FT","DRILLED SHAFTS, 84\" DIAMETER, ABOVE BEDROCK WITH QC/QA","","","",0]
["524E95514","FT","DRILLED SHAFTS, 84\" DIAMETER, INTO BEDROCK WITH QC/QA","","","",0]
["524E95520","FT","DRILLED SHAFTS, 90\" DIAMETER WITH QC/QA","","","",0]
["524E95522","FT","DRILLED SHAFTS, 90\" DIAMETER, ABOVE BEDROCK WITH QC/QA","","","",0]
["524E95524","FT","DRILLED SHAFTS, 90\" DIAMETER, INTO BEDROCK WITH QC/QA","","","",0]
["524E95525","FT","DRILLED SHAFTS, 90\" DIAMETER, INTO BEDROCK WITH QC/QA, AS PER PLAN","","","",0]
["524E95530","FT","DRILLED SHAFTS, 96\" DIAMETER WITH QC/QA","","","",0]
["524E95532","FT","DRILLED SHAFTS, 96\" DIAMETER, ABOVE BEDROCK WITH QC/QA","","","",0]
["524E95533","FT","DRILLED SHAFTS, 96\" DIAMETER, ABOVE BEDROCK WITH QC/QA, AS PER PLAN","","","",0]
["524E95534","FT","DRILLED SHAFTS, 96\" DIAMETER, INTO BEDROCK WITH QC/QA","","","",0]
["524E95535","FT","DRILLED SHAFTS, 96\" DIAMETER, INTO BEDROCK WITH QC/QA, AS PER PLAN","","","",0]
["524E95542","FT","DRILLED SHAFTS, 102\" DIAMETER, ABOVE BEDROCK WITH QC/QA","","","",0]
["524E95543","FT","DRILLED SHAFTS, 102\" DIAMETER, ABOVE BEDROCK WITH QC/QA, AS PER PLAN","","","",0]
["526E10000","SY","REINFORCED CONCRETE APPROACH SLABS (T=12\")","","","",0]
["526E10001","SY","REINFORCED CONCRETE APPROACH SLABS (T=12\"), AS PER PLAN","","","",0]
["526E10010","SY","REINFORCED CONCRETE APPROACH SLABS WITH QC/QA (T=12\")","","","",0]
["526E10011","SY","REINFORCED CONCRETE APPROACH SLABS WITH QC/QA (T=12\"), AS PER PLAN","","","",0]
["526E15000","SY","REINFORCED CONCRETE APPROACH SLABS (T=13\")","","","",0]
["526E15001","SY","REINFORCED CONCRETE APPROACH SLABS (T=13\"), AS PER PLAN","","","",0]
["526E15010","SY","REINFORCED CONCRETE APPROACH SLABS WITH QC/QA (T=13\")","","","",0]
["526E15011","SY","REINFORCED CONCRETE APPROACH SLABS WITH QC/QA (T=13\"), AS PER PLAN","","","",0]
["526E25000","SY","REINFORCED CONCRETE APPROACH SLABS (T=15\")","","","",0]
["526E25001","SY","REINFORCED CONCRETE APPROACH SLABS (T=15\"), AS PER PLAN","","","",0]
["526E25010","SY","REINFORCED CONCRETE APPROACH SLABS WITH QC/QA (T=15\")","","","",0]
["526E25011","SY","REINFORCED CONCRETE APPROACH SLABS WITH QC/QA (T=15\"), AS PER PLAN","","","",0]
["526E30000","SY","REINFORCED CONCRETE APPROACH SLABS (T=17\")","","","",0]
["526E30001","SY","REINFORCED CONCRETE APPROACH SLABS (T=17\"), AS PER PLAN","","","",0]
["526E30010","SY","REINFORCED CONCRETE APPROACH SLABS WITH QC/QA (T=17\")","","","",0]
["526E30011","SY","REINFORCED CONCRETE APPROACH SLABS WITH QC/QA (T=17\"), AS PER PLAN","","","",0]
["526E35000","SY","REINFORCED CONCRETE APPROACH SLABS (VARIABLE THICKNESS)","","","",0]
["526E35001","SY","REINFORCED CONCRETE APPROACH SLABS (VARIABLE THICKNESS), AS PER PLAN","","","",0]
["526E35010","SY","REINFORCED CONCRETE APPROACH SLABS WITH QC/QA (VARIABLE THICKNESS)","","","",0]
["526E90010","FT","TYPE A INSTALLATION","","","",0]
["526E90011","FT","TYPE A INSTALLATION, AS PER PLAN","","","",0]
["526E90020","SY","TYPE B INSTALLATION","","","",0]
["526E90021","SY","TYPE B INSTALLATION, AS PER PLAN","","","",0]
["526E90030","FT","TYPE C INSTALLATION","","","",0]
["526E90031","FT","TYPE C INSTALLATION, AS PER PLAN","","","",0]
["526E98100","SY","APPROACH SLABS, MISC.:","","","ADD SUPPLEMENTAL DESCRIPTION",1]
["526E98200","FT","APPROACH SLABS, MISC.:","","","ADD SUPPLEMENTAL DESCRIPTION",1]
["530E00200","LS","SPECIAL - STRUCTURES","","","ADD SUPPLEMENTAL DESCRIPTION",1]
["530E00300","LB","SPECIAL - STRUCTURES","","","ADD SUPPLEMENTAL DESCRIPTION",1]
["530E00400","EACH","SPECIAL - STRUCTURES","","","ADD SUPPLEMENTAL DESCRIPTION",1]
["530E00500","HOUR","SPECIAL - STRUCTURES","","","ADD SUPPLEMENTAL DESCRIPTION",1]
["530E00510","MNHR","SPECIAL - STRUCTURES","","","ADD SUPPLEMENTAL DESCRIPTION",1]
["530E00520","DAY","SPECIAL - STRUCTURES","","","ADD SUPPLEMENTAL DESCRIPTION",1]
["530E00600","SF","SPECIAL - STRUCTURES","","","ADD SUPPLEMENTAL DESCRIPTION",1]
["530E00800","SY","SPECIAL - STRUCTURES","","","ADD SUPPLEMENTAL DESCRIPTION",1]
["530E00900","TON","SPECIAL - STRUCTURES","","","ADD SUPPLEMENTAL DESCRIPTION",1]
["530E01100","CY","SPECIAL - STRUCTURES","","","ADD SUPPLEMENTAL DESCRIPTION",1]
["530E01200","CF","SPECIAL - STRUCTURES","","","ADD SUPPLEMENTAL DESCRIPTION",1]
["530E01300","FT","SPECIAL - STRUCTURES","","","ADD SUPPLEMENTAL DESCRIPTION",1]
["530E01400","GAL","SPECIAL - STRUCTURES","","","ADD SUPPLEMENTAL DESCRIPTION",1]
["530E10500","PHS","SPECIAL - STRUCTURES","","","ADD SUPPLEMENTAL DESCRIPTION",1]
["530E10600","SET","SPECIAL - STRUCTURES","","","ADD SUPPLEMENTAL DESCRIPTION",1]
["530E10700","MFBM","SPECIAL - STRUCTURES","","","ADD SUPPLEMENTAL DESCRIPTION",1]
["530E11000","UNIT","SPECIAL - LIGHTING FOR NIGHT PLACEMENT OF DECK OVERLAY","","","",0]
["530E13000","SF","SPECIAL - FORM LINER","","","",0]
["530E14000","LS","SPECIAL - STRUCTURAL SURVEY AND MONITORING OF VIBRATION","","","",0]
["530E14010","EACH","SPECIAL - STRUCTURAL SURVEY AND MONITORING OF VIBRATION","","","",0]
["530E50000","EACH","SPECIAL - RETAINING WALL","","","ADD SUPPLEMENTAL DESCRIPTION",1]
["530E50010","SF","SPECIAL - RETAINING WALL","","","ADD SUPPLEMENTAL DESCRIPTION",1]
["530E50020","FT","SPECIAL - RETAINING WALL","","","ADD SUPPLEMENTAL DESCRIPTION",1]
["530E50030","LS","SPECIAL - RETAINING WALL","","","ADD SUPPLEMENTAL DESCRIPTION",1]
["530E51000","SF","SPECIAL - RETAINING WALL, PRECAST WALL FACADE PANEL","","","",0]
["530E51010","SF","SPECIAL - RETAINING WALL, PRECAST CONCRETE LAGGING","","","",0]
["530E51020","SF","SPECIAL - RETAINING WALL, TIMBER LAGGING","","","",0]
["530E51100","EACH","SPECIAL - RETAINING WALL, SOIL NAIL","","","",0]
["530E51110","EACH","SPECIAL - RETAINING WALL, SOIL NAIL VERIFICATION TEST","","","",0]
["530E51120","EACH","SPECIAL - RETAINING WALL, SOIL NAIL PROOF TEST","","","",0]
["530E99010","LS","SPECIAL - SUBSTRUCTURE","","","DESIGN BUILD PROJECTS ONLY",0]
["530E99020","LS","SPECIAL - SUPERSTRUCTURE","","","DESIGN BUILD PROJECTS ONLY",0]
["530E99040","LS","SPECIAL - STRUCTURES","","","DESIGN BUILD PROJECTS ONLY",0]
["530E99050","LS","SPECIAL - RETAINING WALL","","","DESIGN BUILD PROJECTS ONLY",0]
["530E99100","LS","SPECIAL - MISCELLANEOUS STRUCTURE FOR DESIGN BUILD","","","DESIGN BUILD PROJECTS ONLY",0]
["601E10000","SY","RIPRAP","","","",0]
["601E10001","SY","RIPRAP, AS PER PLAN","","","",0]
["601E10970","SY","RIPRAP, TYPE A","","","",0]
["601E10971","SY","RIPRAP, TYPE A, AS PER PLAN","","","",0]
["601E10980","SY","RIPRAP, TYPE B","","","",0]
["601E10981","SY","RIPRAP, TYPE B, AS PER PLAN","","","",0]
["601E10990","SY","RIPRAP, TYPE C","","","",0]
["601E10991","SY","RIPRAP, TYPE C, AS PER PLAN","","","",0]
["601E11000","SY","RIPRAP, TYPE D","","","",0]
["601E11001","SY","RIPRAP, TYPE D, AS PER PLAN","","","",0]
["601E12000","SY","RIPRAP, WITH GROUT","","","",0]
["601E12001","SY","RIPRAP, WITH GROUT, AS PER PLAN","","","",0]
["601E20000","SY","CRUSHED AGGREGATE SLOPE PROTECTION","","","",0]
["601E20001","SY","CRUSHED AGGREGATE SLOPE PROTECTION, AS PER PLAN","","","",0]
["601E20010","CY","CRUSHED AGGREGATE SLOPE PROTECTION","","","",0]
["601E20011","CY","CRUSHED AGGREGATE SLOPE PROTECTION, AS PER PLAN","","","",0]
["601E21000","SY","CONCRETE SLOPE PROTECTION","","","",0]
["601E21001","SY","CONCRETE SLOPE PROTECTION, AS PER PLAN","","","",0]
["601E21050","SY","TIED CONCRETE BLOCK MAT WITH TYPE 1 UNDERLAYMENT","","","",0]
["601E21051","SY","TIED CONCRETE BLOCK MAT WITH TYPE 1 UNDERLAYMENT, AS PER PLAN","","","",0]
["601E21060","SY","TIED CONCRETE BLOCK MAT WITH TYPE 2 UNDERLAYMENT","","","",0]
["601E21061","SY","TIED CONCRETE BLOCK MAT WITH TYPE 2 UNDERLAYMENT, AS PER PLAN","","","",0]
["601E21100","SY","SLOPE PROTECTION, MISC.:","","","ADD SUPPLEMENTAL DESCRIPTION",1]
["601E21150","CY","SLOPE PROTECTION, MISC.","","","ADD SUPPLEMENTAL DESCRIPTION",1]
["601E21200","LS","SLOPE PROTECTION, MISC.","","","ADD SUPPLEMENTAL DESCRIPTION",1]
["601E21900","SY","SPECIAL - GEOCELL, SLOPE PROTECTION","","","SPECIFY THICKNESS",1]
["601E23000","SY","ARTICULATING CONCRETE BLOCK REVETMENT SYSTEM, TYPE 1","","","",0]
["601E23001","SY","ARTICULATING CONCRETE BLOCK REVETMENT SYSTEM, TYPE 1, AS PER PLAN","","","",0]
["601E23010","SY","ARTICULATING CONCRETE BLOCK REVETMENT SYSTEM, TYPE 2","","","",0]
["601E23011","SY","ARTICULATING CONCRETE BLOCK REVETMENT SYSTEM, TYPE 2, AS PER PLAN","","","",0]
["601E23020","SY","ARTICULATING CONCRETE BLOCK REVETMENT SYSTEM, TYPE 3","","","",0]
["601E23021","SY","ARTICULATING CONCRETE BLOCK REVETMENT SYSTEM, TYPE 3, AS PER PLAN","","","",0]
["601E25000","CY","DUMPED ROCK FILL, TYPE A","","","",0]
["601E25001","CY","DUMPED ROCK FILL, TYPE A, AS PER PLAN","","","",0]
["601E26000","CY","DUMPED ROCK FILL, TYPE B","","","",0]
["601E26001","CY","DUMPED ROCK FILL, TYPE B, AS PER PLAN","","","",0]
["601E27000","CY","DUMPED ROCK FILL, TYPE C","","","",0]
["601E27001","CY","DUMPED ROCK FILL, TYPE C, AS PER PLAN","","","",0]
["601E28000","CY","DUMPED ROCK FILL, TYPE D","","","",0]
["601E28001","CY","DUMPED ROCK FILL, TYPE D, AS PER PLAN","","","",0]
["601E28100","CY","DUMPED ROCK FILL","","","",0]
["601E28101","CY","DUMPED ROCK FILL, AS PER PLAN","","","",0]
["601E30000","TON","DUMPED ROCK FILL, MISC.:","","","ADD SUPPLEMENTAL DESCRIPTION",1]
["601E32000","CY","ROCK CHANNEL PROTECTION, TYPE A WITH FILTER","","","",0]
["601E32001","CY","ROCK CHANNEL PROTECTION, TYPE A WITH FILTER, AS PER PLAN","","","",0]
["601E32004","CY","ROCK CHANNEL PROTECTION, TYPE A WITH GEOTEXTILE FABRIC","","","",0]
["601E32005","CY","ROCK CHANNEL PROTECTION, TYPE A WITH GEOTEXTILE FABRIC, AS PER PLAN","","","",0]
["601E32010","CY","ROCK CHANNEL PROTECTION, TYPE A WITH AGGREGATE FILTER","","","",0]
["601E32011","CY","ROCK CHANNEL PROTECTION, TYPE A WITH AGGREGATE FILTER, AS PER PLAN","","","",0]
["601E32100","CY","ROCK CHANNEL PROTECTION, TYPE B WITH FILTER","","","",0]
["601E32101","CY","ROCK CHANNEL PROTECTION, TYPE B WITH FILTER, AS PER PLAN","","","",0]
["601E32104","CY","ROCK CHANNEL PROTECTION, TYPE B WITH GEOTEXTILE FABRIC","","","",0]
["601E32105","CY","ROCK CHANNEL PROTECTION, TYPE B WITH GEOTEXTILE FABRIC, AS PER PLAN","","","",0]
["601E32110","CY","ROCK CHANNEL PROTECTION, TYPE B WITH AGGREGATE FILTER","","","",0]
["601E32111","CY","ROCK CHANNEL PROTECTION, TYPE B WITH AGGREGATE FILTER, AS PER PLAN","","","",0]
["601E32200","CY","ROCK CHANNEL PROTECTION, TYPE C WITH FILTER","","","",0]
["601E32201","CY","ROCK CHANNEL PROTECTION, TYPE C WITH FILTER, AS PER PLAN","","","",0]
["601E32204","CY","ROCK CHANNEL PROTECTION, TYPE C WITH GEOTEXTILE FABRIC","","","",0]
["601E32205","CY","ROCK CHANNEL PROTECTION, TYPE C WITH GEOTEXTILE FABRIC, AS PER PLAN","","","",0]
["601E32210","CY","ROCK CHANNEL PROTECTION, TYPE C WITH AGGREGATE FILTER","","","",0]
["601E32211","CY","ROCK CHANNEL PROTECTION, TYPE C WITH AGGREGATE FILTER, AS PER PLAN","","","",0]
["601E32300","CY","ROCK CHANNEL PROTECTION, TYPE D WITH FILTER","","","",0]
["601E32301","CY","ROCK CHANNEL PROTECTION, TYPE D WITH FILTER, AS PER PLAN","","","",0]
["601E32304","CY","ROCK CHANNEL PROTECTION, TYPE D WITH GEOTEXTILE FABRIC","","","",0]
["601E32305","CY","ROCK CHANNEL PROTECTION, TYPE D WITH GEOTEXTILE FABRIC, AS PER PLAN","","","",0]
["601E32310","CY","ROCK CHANNEL PROTECTION, TYPE D WITH AGGREGATE FILTER","","","",0]
["601E32311","CY","ROCK CHANNEL PROTECTION, TYPE D WITH AGGREGATE FILTER, AS PER PLAN","","","",0]
["601E34000","CY","ROCK CHANNEL PROTECTION, TYPE A WITHOUT FILTER","","","",0]
["601E34001","CY","ROCK CHANNEL PROTECTION, TYPE A WITHOUT FILTER, AS PER PLAN","","","",0]
["601E34100","CY","ROCK CHANNEL PROTECTION, TYPE B WITHOUT FILTER","","","",0]
["601E34101","CY","ROCK CHANNEL PROTECTION, TYPE B WITHOUT FILTER, AS PER PLAN","","","",0]
["601E34200","CY","ROCK CHANNEL PROTECTION, TYPE C WITHOUT FILTER","","","",0]
["601E34201","CY","ROCK CHANNEL PROTECTION, TYPE C WITHOUT FILTER, AS PER PLAN","","","",0]
["601E34300","CY","ROCK CHANNEL PROTECTION, TYPE D WITHOUT FILTER","","","",0]
["601E34301","CY","ROCK CHANNEL PROTECTION, TYPE D WITHOUT FILTER, AS PER PLAN","","","",0]
["601E34400","CY","ROCK CHANNEL PROTECTION, WITH GROUT","","","SPECIFY TYPE",1]
["601E34401","CY","ROCK CHANNEL PROTECTION, WITH GROUT, AS PER PLAN","","","",0]
["601E34500","CY","SPECIAL - STREAM CHANNEL ROCK STOCKED PILED AND PLACED","","","",0]
["601E35000","CY","ROCK CHANNEL PROTECTION, MISC.:","","","ADD SUPPLEMENTAL DESCRIPTION",1]
["601E35100","LS","ROCK CHANNEL PROTECTION, MISC.:","","","ADD SUPPLEMENTAL DESCRIPTION",1]
["601E37500","FT","PAVED GUTTER, TYPE 1-2","","","",0]
["601E37501","FT","PAVED GUTTER, TYPE 1-2, AS PER PLAN","","","",0]
["601E38000","FT","PAVED GUTTER, TYPE 1-4","","","",0]
["601E38001","FT","PAVED GUTTER, TYPE 1-4, AS PER PLAN","","","",0]
["601E38100","FT","PAVED GUTTER, TYPE 1-6","","","",0]
["601E38101","FT","PAVED GUTTER, TYPE 1-6, AS PER PLAN","","","",0]
["601E38110","FT","PAVED GUTTER, TYPE 1-8","","","",0]
["601E38400","FT","PAVED GUTTER, TYPE 2","","","",0]
["601E38401","FT","PAVED GUTTER, TYPE 2, AS PER PLAN","","","",0]
["601E38500","FT","PAVED GUTTER, TYPE 3","","","",0]
["601E38501","FT","PAVED GUTTER, TYPE 3, AS PER PLAN","","","",0]
["601E39000","FT","PAVED GUTTER, TYPE 4","","","",0]
["601E39001","FT","PAVED GUTTER, TYPE 4, AS PER PLAN","","","",0]
["601E39500","FT","PAVED GUTTER, TYPE 5","","","",0]
["601E39501","FT","PAVED GUTTER, TYPE 5, AS PER PLAN","","","",0]
["601E40000","FT","PAVED GUTTER, MISC.:","","","ADD SUPPLEMENTAL DESCRIPTION",1]
["601E45020","SY","INFILTRATION BASIN FILTER","","","",0]
["601E45030","SY","DETENTION BASIN FILTER","","","",0]
["601E45040","CY","INFILTRATION TRENCH FILTER","","","",0]
["601E45050","CY","BIORETENTION CELL","","","",0]
["601E51000","CY","CHANNEL PROTECTION, MISC.:","","","ADD SUPPLEMENTAL DESCRIPTION",1]
["601E52000","SY","CHANNEL PROTECTION, MISC.:","","","ADD SUPPLEMENTAL DESCRIPTION",1]
["601E54000","LS","CHANNEL PROTECTION, MISC.:","","","ADD SUPPLEMENTAL DESCRIPTION",1]
["601E55000","EACH","CHANNEL PROTECTION, MISC.:","","","ADD SUPPLEMENTAL DESCRIPTION",1]
["602E10000","CY","BRICK MASONRY","","","",0]
["602E10001","CY","BRICK MASONRY, AS PER PLAN","","","",0]
["602E15000","CY","BLOCK MASONRY","","","",0]
["602E15001","CY","BLOCK MASONRY, AS PER PLAN","","","",0]
["602E20000","CY","CONCRETE MASONRY","","","",0]
["602E20001","CY","CONCRETE MASONRY, AS PER PLAN","","","",0]
["602E97000","SF","MASONRY, MISC.:","","","ADD SUPPLEMENTAL DESCRIPTION",1]
["602E98000","LS","MASONRY, MISC.:","","","ADD SUPPLEMENTAL DESCRIPTION",1]
["602E98100","FT","MASONRY, MISC.:","","","ADD SUPPLEMENTAL DESCRIPTION",1]
["602E98200","CY","MASONRY, MISC.:","","","ADD SUPPLEMENTAL DESCRIPTION",1]
["602E98300","EACH","MASONRY, MISC.:","","","ADD SUPPLEMENTAL DESCRIPTION",1]
["605E05100","FT","4\" SHALLOW PIPE UNDERDRAINS","","","",0]
["605E05101","FT","4\" SHALLOW PIPE UNDERDRAINS, AS PER PLAN","","","",0]
["605E05110","FT","4\" SHALLOW PIPE UNDERDRAINS WITH GEOTEXTILE FABRIC","","","",0]
["605E05111","FT","4\" SHALLOW PIPE UNDERDRAINS WITH GEOTEXTILE FABRIC, AS PER PLAN","","","",0]
["605E05150","FT","4\" DEEP PIPE UNDERDRAINS","","","",0]
["605E05151","FT","4\" DEEP PIPE UNDERDRAINS, AS PER PLAN","","","",0]
["605E05200","FT","4\" UNCLASSIFIED PIPE UNDERDRAINS","","","",0]
["605E05201","FT","4\" UNCLASSIFIED PIPE UNDERDRAINS, AS PER PLAN","","","",0]
["605E05210","FT","4\" UNCLASSIFIED PIPE UNDERDRAINS WITH GEOTEXTILE FABRIC","","","",0]
["605E05211","FT","4\" UNCLASSIFIED PIPE UNDERDRAINS WITH GEOTEXTILE FABRIC, AS PER PLAN","","","",0]
["605E05220","FT","4\" ROCK CUT UNDERDRAINS","","","",0]
["605E05221","FT","4\" ROCK CUT UNDERDRAINS, AS PER PLAN","","","",0]
["605E05230","FT","4\" ROCK CUT UNDERDRAINS WITH GEOTEXTILE FABRIC","","","",0]
["605E05231","FT","4\" ROCK CUT UNDERDRAINS WITH GEOTEXTILE FABRIC, AS PER PLAN","","","",0]
["605E06000","FT","4\" BASE PIPE UNDERDRAINS","","","",0]
["605E06001","FT","4\" BASE PIPE UNDERDRAINS, AS PER PLAN","","","",0]
["605E06020","FT","4\" BASE PIPE UNDERDRAINS WITH GEOTEXTILE FABRIC","","","",0]
["605E06021","FT","4\" BASE PIPE UNDERDRAINS WITH GEOTEXTILE FABRIC, AS PER PLAN","","","",0]
["605E11000","FT","6\" CONSTRUCTION UNDERDRAINS","","","",0]
["605E11001","FT","6\" CONSTRUCTION UNDERDRAINS, AS PER PLAN","","","",0]
["605E11100","FT","6\" SHALLOW PIPE UNDERDRAINS","","","",0]
["605E11101","FT","6\" SHALLOW PIPE UNDERDRAINS, AS PER PLAN","","","",0]
["605E11110","FT","6\" SHALLOW PIPE UNDERDRAINS WITH GEOTEXTILE FABRIC","","","",0]
["605E11111","FT","6\" SHALLOW PIPE UNDERDRAINS WITH GEOTEXTILE FABRIC, AS PER PLAN","","","",0]
["605E12200","FT","6\" DEEP PIPE UNDERDRAINS","","","",0]
["605E12201","FT","6\" DEEP PIPE UNDERDRAINS, AS PER PLAN","","","",0]
["605E12210","FT","6\" DEEP PIPE UNDERDRAINS WITH GEOTEXTILE FABRIC","","","",0]
["605E12211","FT","6\" DEEP PIPE UNDERDRAINS WITH GEOTEXTILE FABRIC, AS PER PLAN","","","",0]
["605E13300","FT","6\" UNCLASSIFIED PIPE UNDERDRAINS","","","",0]
["605E13301","FT","6\" UNCLASSIFIED PIPE UNDERDRAINS, AS PER PLAN","","","",0]
["605E13402","FT","6\" UNCLASSIFIED PIPE UNDERDRAINS FOR SPRINGS","","","",0]
["605E13403","FT","6\" UNCLASSIFIED PIPE UNDERDRAINS FOR SPRINGS, AS PER PLAN","","","",0]
["605E13410","FT","6\" UNCLASSIFIED PIPE UNDERDRAINS WITH GEOTEXTILE FABRIC","","","",0]
["605E13411","FT","6\" UNCLASSIFIED PIPE UNDERDRAINS WITH GEOTEXTILE FABRIC, AS PER PLAN","","","",0]
["605E13500","FT","6\" ROCK CUT UNDERDRAINS","","","",0]
["605E13501","FT","6\" ROCK CUT UNDERDRAINS, AS PER PLAN","","","",0]
["605E13510","FT","6\" ROCK CUT UNDERDRAINS WITH GEOTEXTILE FABRIC","","","",0]
["605E14000","FT","6\" BASE PIPE UNDERDRAINS","","","",0]
["605E14001","FT","6\" BASE PIPE UNDERDRAINS, AS PER PLAN","","","",0]
["605E14020","FT","6\" BASE PIPE UNDERDRAINS WITH GEOTEXTILE FABRIC","","","",0]
["605E14021","FT","6\" BASE PIPE UNDERDRAINS WITH GEOTEXTILE FABRIC, AS PER PLAN","","","",0]
["605E31050","FT","18\" PREFABRICATED EDGE UNDERDRAINS","","","",0]
["605E31051","FT","18\" PREFABRICATED EDGE UNDERDRAINS, AS PER PLAN","","","",0]
["605E31100","FT","AGGREGATE DRAINS","","","",0]
["605E31101","FT","AGGREGATE DRAINS, AS PER PLAN","","","",0]
["605E32200","FT","AGGREGATE DRAINS FOR SPRINGS","","","",0]
["605E32201","LF","AGGREGATE DRAIN FOR SPRINGS, AS PER PLAN","","","",0]
["605E98000","FT","UNDERDRAINS, MISC.:","","","ADD SUPPLEMENTAL DESCRIPTION",1]
["605E98300","EACH","UNDERDRAINS, MISC.:","","","ADD SUPPLEMENTAL DESCRIPTION",1]
["606E10210","SF","SPECIAL - NOISE BARRIER (REFLECTIVE)","","","",0]
["606E10310","SF","SPECIAL - NOISE BARRIER (ABSORPTIVE)","","","",0]
["606E10600","SY","SPECIAL - NOISE BARRIER COATING","","","",0]
["606E10710","EACH","SPECIAL - NOISE BARRIER PANEL REMOVAL AND REPLACEMENT","","","",0]
["606E10720","EACH","SPECIAL - NOISE BARRIER PANEL REMOVAL AND REUSE","","","",0]
["606E10810","EACH","SPECIAL - NOISE BARRIER","","","ADD SUPPLEMENTAL DESCRIPTION",1]
["606E10900","LS","SPECIAL - NOISE BARRIER","","","ADD SUPPLEMENTAL DESCRIPTION",1]
["606E10920","SF","SPECIAL - NOISE BARRIER","","","ADD SUPPLEMENTAL DESCRIPTION",1]
["606E10930","FT","SPECIAL - NOISE BARRIER","","","ADD SUPPLEMENTAL DESCRIPTION",1]
["606E10940","SY","SPECIAL - NOISE BARRIER","","","ADD SUPPLEMENTAL DESCRIPTION",1]
["606E11000","FT","GUARDRAIL, THRIE BEAM RAIL AND TRANSITION SECTION","","","",0]
["606E11001","FT","GUARDRAIL, THRIE BEAM RAIL AND TRANSITION SECTION, AS PER PLAN","","","",0]
["606E12000","FT","GUARDRAIL, TYPE 5MR","","","REQUIRES PLAN INSERT SHEET",0]
["606E12500","FT","GUARDRAIL, TYPE 4","","","REQUIRES PLAN INSERT SHEET",0]
["606E12501","FT","GUARDRAIL, TYPE 4, AS PER PLAN","","","REQUIRES PLAN INSERT SHEET",0]
["606E13000","FT","GUARDRAIL, TYPE 5","","","REQUIRES PLAN INSERT SHEET",0]
["606E13001","FT","GUARDRAIL, TYPE 5, AS PER PLAN","","","REQUIRES PLAN INSERT SHEET",0]
["606E13010","FT","GUARDRAIL, TYPE 5 WITH TUBULAR BACKUP","","","REQUIRES PLAN INSERT SHEET",0]
["606E13011","FT","GUARDRAIL, TYPE 5 WITH TUBULAR BACKUP, AS PER PLAN","","","REQUIRES PLAN INSERT SHEET",0]
["606E13020","FT","GUARDRAIL, TYPE 5 WITH DOUBLE RAILS","","","REQUIRES PLAN INSERT SHEET",0]
["606E13021","FT","GUARDRAIL, TYPE 5 WITH DOUBLE RAILS, AS PER PLAN","","","REQUIRES PLAN INSERT SHEET",0]
["606E13024","FT","GUARDRAIL, TYPE 5 WITH DOUBLE RAILS AND DOUBLE POSTS","","","REQUIRES PLAN INSERT SHEET",0]
["606E13030","FT","GUARDRAIL, TYPE 5, USING 9 FOOT POSTS","","","REQUIRES PLAN INSERT SHEET",0]
["606E13031","FT","GUARDRAIL, TYPE 5, USING 9 FOOT POSTS, AS PER PLAN","","","REQUIRES PLAN INSERT SHEET",0]
["606E13040","FT","GUARDRAIL, NESTED TYPE 5 WITH TUBULAR BACKUP","","","REQUIRES PLAN INSERT SHEET",0]
["606E13041","FT","GUARDRAIL, NESTED TYPE 5 WITH TUBULAR BACKUP, AS PER PLAN","","","REQUIRES PLAN INSERT SHEET",0]
["606E13050","FT","GUARDRAIL, TYPE 5A","","","REQUIRES PLAN INSERT SHEET",0]
["606E13051","FT","GUARDRAIL, TYPE 5A, AS PER PLAN","","","REQUIRES PLAN INSERT SHEET",0]
["606E13070","FT","GUARDRAIL, TYPE 5A, USING 9 FOOT POSTS","","","REQUIRES PLAN INSERT SHEET",0]
["606E14000","FT","GUARDRAIL, TYPE 8","","","REQUIRES PLAN INSERT SHEET",0]
["606E15050","FT","GUARDRAIL, TYPE MGS","","","",0]
["606E15051","FT","GUARDRAIL, TYPE MGS, AS PER PLAN","","","",0]
["606E15100","FT","GUARDRAIL, TYPE MGS WITH LONG POSTS","","","",0]
["606E15101","FT","GUARDRAIL, TYPE MGS WITH LONG POSTS, AS PER PLAN","","","",0]
["606E15150","FT","GUARDRAIL, TYPE MGS HALF POST SPACING","","","",0]
["606E15151","FT","GUARDRAIL, TYPE MGS HALF POST SPACING, AS PER PLAN","","","",0]
["606E15200","FT","GUARDRAIL, TYPE MGS HALF POST SPACING WITH LONG POSTS","","","",0]
["606E15201","FT","GUARDRAIL, TYPE MGS HALF POST SPACING WITH LONG POSTS, AS PER PLAN","","","",0]
["606E15250","FT","GUARDRAIL, TYPE MGS QUARTER POST SPACING","","","",0]
["606E15251","FT","GUARDRAIL, TYPE MGS QUARTER POST SPACING, AS PER PLAN","","","",0]
["606E15300","FT","GUARDRAIL, TYPE MGS QUARTER POST SPACING WITH LONG POSTS","","","",0]
["606E15301","FT","GUARDRAIL, TYPE MGS QUARTER POST SPACING WITH LONG POSTS, AS PER PLAN","","","",0]
["606E15350","FT","GUARDRAIL, TYPE MGS WITH SOCKETED POSTS","","","",0]
["606E15400","FT","MGS GUARDRAIL, TYPE 8","","","",0]
["606E15500","FT","GUARDRAIL, BARRIER DESIGN, TYPE 5","","","REQUIRES PLAN INSERT SHEET",0]
["606E15501","FT","GUARDRAIL, BARRIER DESIGN, TYPE 5, AS PER PLAN","","","REQUIRES PLAN INSERT SHEET",0]
["606E15550","FT","GUARDRAIL, BARRIER DESIGN, TYPE MGS","","","",0]
["606E15551","FT","GUARDRAIL, BARRIER DESIGN, TYPE MGS, AS PER PLAN","","","",0]
["606E16000","FT","GUARDRAIL REBUILT","","","",0]
["606E16001","FT","GUARDRAIL REBUILT, AS PER PLAN","","","",0]
["606E16050","FT","GUARDRAIL REBUILT, TYPE MGS","","","",0]
["606E16051","FT","GUARDRAIL REBUILT, TYPE MGS, AS PER PLAN","","","",0]
["606E16300","FT","GUARDRAIL REBUILT, TYPE 5MR","","","REQUIRES PLAN INSERT SHEET",0]
["606E16301","FT","GUARDRAIL REBUILT, TYPE 5MR, AS PER PLAN","","","REQUIRES PLAN INSERT SHEET",0]
["606E16400","FT","GUARDRAIL REBUILT, TYPE 4","","","REQUIRES PLAN INSERT SHEET",0]
["606E16500","FT","GUARDRAIL REBUILT, TYPE 5","","","REQUIRES PLAN INSERT SHEET",0]
["606E16501","FT","GUARDRAIL REBUILT, TYPE 5, AS PER PLAN","","","REQUIRES PLAN INSERT SHEET",0]
["606E16550","FT","GUARDRAIL REBUILT, TYPE 5, USING 9 FOOT POSTS","","","REQUIRES PLAN INSERT SHEET",0]
["606E16551","FT","GUARDRAIL REBUILT, TYPE 5, USING 9 FOOT POSTS, AS PER PLAN","","","REQUIRES PLAN INSERT SHEET",0]
["606E16560","FT","GUARDRAIL REBUILT, TYPE MGS WITH LONG POSTS","","","",0]
["606E16561","FT","GUARDRAIL REBUILT, TYPE MGS WITH LONG POSTS, AS PER PLAN","","","",0]
["606E16600","FT","GUARDRAIL REBUILT, BARRIER DESIGN, TYPE 5","","","REQUIRES PLAN INSERT SHEET",0]
["606E16601","FT","GUARDRAIL REBUILT, BARRIER DESIGN, TYPE 5, AS PER PLAN","","","REQUIRES PLAN INSERT SHEET",0]
["606E16660","FT","GUARDRAIL REBUILT, BARRIER DESIGN, TYPE MGS","","","",0]
["606E16661","FT","GUARDRAIL REBUILT, BARRIER DESIGN, TYPE MGS, AS PER PLAN","","","",0]
["606E16700","FT","GUARDRAIL REBUILT, TYPE 5A","","","REQUIRES PLAN INSERT SHEET",0]
["606E16701","FT","GUARDRAIL REBUILT, TYPE 5A, AS PER PLAN","","","REQUIRES PLAN INSERT SHEET",0]
["606E16750","FT","GUARDRAIL REBUILT, TYPE MGS HALF POST SPACING","","","",0]
["606E16751","FT","GUARDRAIL REBUILT, TYPE MGS HALF POST SPACING, AS PER PLAN","","","",0]
["606E16800","FT","GUARDRAIL REBUILT, TYPE MGS HALF POST SPACING WITH LONG POSTS","","","",0]
["606E16801","FT","GUARDRAIL REBUILT, TYPE MGS HALF POST SPACING WITH LONG POSTS, AS PER PLAN","","","",0]
["606E16850","FT","GUARDRAIL REBUILT, TYPE MGS QUARTER POST SPACING","","","",0]
["606E16851","FT","GUARDRAIL REBUILT, TYPE MGS QUARTER POST SPACING, AS PER PLAN","","","",0]
["606E16900","FT","GUARDRAIL REBUILT, TYPE MGS QUARTER POST SPACING WITH LONG POSTS","","","",0]
["606E16901","FT","GUARDRAIL REBUILT, TYPE MGS QUARTER POST SPACING WITH LONG POSTS, AS PER PLAN","","","",0]
["606E17000","FT","RAISING TYPE 5 GUARDRAIL","","","REQUIRES PLAN INSERT SHEET",0]
["606E17001","FT","RAISING TYPE 5 GUARDRAIL, AS PER PLAN","","","REQUIRES PLAN INSERT SHEET",0]
["606E17004","FT","RAISING TYPE 5A GUARDRAIL","","","REQUIRES PLAN INSERT SHEET",0]
["606E17010","FT","RAISING EXISTING GUARDRAIL","","","OTHER THAN TYPE 5 GUARDRAIL",0]
["606E17050","FT","RAISING TYPE MGS GUARDRAIL","","","",0]
["606E17051","FT","RAISING TYPE MGS GUARDRAIL, AS PER PLAN","","","",0]
["606E17290","FT","GUARDRAIL, TYPE 5, LONG-SPAN","","","REQUIRES PLAN INSERT SHEET",0]
["606E17291","FT","GUARDRAIL, TYPE 5, LONG-SPAN, AS PER PLAN","","","REQUIRES PLAN INSERT SHEET",0]
["606E17300","FT","GUARDRAIL, TYPE 5, 25' LONG-SPAN","","","REQUIRES PLAN INSERT SHEET",0]
["606E17301","FT","GUARDRAIL, TYPE 5, 25' LONG-SPAN, AS PER PLAN","","","REQUIRES PLAN INSERT SHEET",0]
["606E17350","FT","GUARDRAIL, TYPE MGS, 25' LONG-SPAN","","","",0]
["606E17351","FT","GUARDRAIL, TYPE MGS, 25' LONG-SPAN, AS PER PLAN","","","",0]
["606E17360","FT","GUARDRAIL, TYPE MGS, LONG-SPAN","","","",0]
["606E17500","EACH","POST END ANCHOR (OR CONCRETE BLOCK END ANCHOR)","","","",0]
["606E17700","EACH","REPLACE EXISTING GUARDRAIL BLOCKOUT","","","REQUIRES PLAN INSERT SHEET",0]
["606E17701","EACH","REPLACE EXISTING GUARDRAIL BLOCKOUT, AS PER PLAN","","","REQUIRES PLAN INSERT SHEET",0]
["606E17750","EACH","REPLACE EXISTING GUARDRAIL BLOCKOUT, TYPE MGS","","","",0]
["606E17751","EACH","REPLACE EXISTING GUARDRAIL BLOCKOUT, TYPE MGS, AS PER PLAN","","","",0]
["606E17900","EACH","GUARDRAIL POST","","","",0]
["606E17901","EACH","GUARDRAIL POST, AS PER PLAN","","","",0]
["606E18000","EACH","GUARDRAIL POST, 8 FEET","","","",0]
["606E18001","EACH","GUARDRAIL POST, 8 FEET, AS PER PLAN","","","",0]
["606E18500","EACH","GUARDRAIL POST, 9 FEET","","","",0]
["606E18501","EACH","GUARDRAIL POST, 9 FEET, AS PER PLAN","","","",0]
["606E19001","EACH","GUARDRAIL POST, STEEL, AS PER PLAN","","","",0]
["606E19100","EACH","GUARDRAIL POST, MGS LONG POST","","","",0]
["606E19101","EACH","GUARDRAIL POST, MGS LONG POST, AS PER PLAN","","","",0]
["606E20000","EACH","FLARED END SECTION","","","",0]
["606E20050","EACH","ROUNDED END SECTION","","","",0]
["606E25000","EACH","ANCHOR ASSEMBLY, TYPE A","","","REQUIRES PLAN INSERT SHEET",0]
["606E25001","EACH","ANCHOR ASSEMBLY, TYPE A, AS PER PLAN","","","REQUIRES PLAN INSERT SHEET",0]
["606E25500","EACH","ANCHOR ASSEMBLY, BARRIER DESIGN, TYPE A","","","REQUIRES PLAN INSERT SHEET",0]
["606E25501","EACH","ANCHOR ASSEMBLY, BARRIER DESIGN, TYPE A, AS PER PLAN","","","REQUIRES PLAN INSERT SHEET",0]
["606E25550","EACH","ANCHOR ASSEMBLY, MGS TYPE A","","","",0]
["606E25600","EACH","ANCHOR ASSEMBLY, BARRIER DESIGN, MGS TYPE A","","","",0]
["606E25601","EACH","ANCHOR ASSEMBLY, BARRIER DESIGN, MGS TYPE A, AS PER PLAN","","","",0]
["606E26000","EACH","ANCHOR ASSEMBLY, TYPE B","","","REQUIRES PLAN INSERT SHEET",0]
["606E26050","EACH","ANCHOR ASSEMBLY, MGS TYPE B","","","",0]
["606E26100","EACH","ANCHOR ASSEMBLY, TYPE E","","","REQUIRES PLAN INSERT SHEET",0]
["606E26101","EACH","ANCHOR ASSEMBLY, TYPE E, AS PER PLAN","","","REQUIRES PLAN INSERT SHEET",0]
["606E26150","EACH","ANCHOR ASSEMBLY, MGS TYPE E","","","SPECIFY NCHRP 350/MASH 2016",1]
["606E26151","EACH","ANCHOR ASSEMBLY, MGS TYPE E, AS PER PLAN","","","SPECIFY NCHRP 350/MASH 2016",1]
["606E26500","EACH","ANCHOR ASSEMBLY, TYPE T","","","REQUIRES PLAN INSERT SHEET",0]
["606E26501","EACH","ANCHOR ASSEMBLY, TYPE T, AS PER PLAN","","","REQUIRES PLAN INSERT SHEET",0]
["606E26550","EACH","ANCHOR ASSEMBLY, MGS TYPE T","","","",0]
["606E26551","EACH","ANCHOR ASSEMBLY, MGS TYPE T, AS PER PLAN","","","",0]
["606E27500","EACH","ANCHOR ASSEMBLY REBUILT","","","",0]
["606E27501","EACH","ANCHOR ASSEMBLY REBUILT, AS PER PLAN","","","",0]
["606E27800","EACH","ANCHOR ASSEMBLY REBUILT, TYPE A","","","REQUIRES PLAN INSERT SHEET",0]
["606E27801","EACH","ANCHOR ASSEMBLY REBUILT, TYPE A, AS PER PLAN","","","REQUIRES PLAN INSERT SHEET",0]
["606E27810","EACH","ANCHOR ASSEMBLY REBUILT, MGS TYPE A","","","",0]
["606E27811","EACH","ANCHOR ASSEMBLY REBUILT, MGS TYPE A, AS PER PLAN","","","",0]
["606E27840","EACH","ANCHOR ASSEMBLY REBUILT, TYPE B","","","REQUIRES PLAN INSERT SHEET",0]
["606E27841","EACH","ANCHOR ASSEMBLY REBUILT, TYPE B, AS PER PLAN","","","REQUIRES PLAN INSERT SHEET",0]
["606E27846","EACH","ANCHOR ASSEMBLY REBUILT, MGS TYPE B","","","",0]
["606E27847","EACH","ANCHOR ASSEMBLY REBUILT, MGS TYPE B, AS PER PLAN","","","",0]
["606E27850","EACH","ANCHOR ASSEMBLY REBUILT, TYPE E","","","REQUIRES PLAN INSERT SHEET",0]
["606E27851","EACH","ANCHOR ASSEMBLY REBUILT, TYPE E, AS PER PLAN","","","REQUIRES PLAN INSERT SHEET",0]
["606E27860","EACH","ANCHOR ASSEMBLY REBUILT, MGS TYPE E","","","",0]
["606E27861","EACH","ANCHOR ASSEMBLY REBUILT, MGS TYPE E, AS PER PLAN","","","",0]
["606E27900","EACH","ANCHOR ASSEMBLY REBUILT, TYPE T","","","REQUIRES PLAN INSERT SHEET",0]
["606E27901","EACH","ANCHOR ASSEMBLY REBUILT, TYPE T, AS PER PLAN","","","REQUIRES PLAN INSERT SHEET",0]
["606E27910","EACH","ANCHOR ASSEMBLY REBUILT, MGS TYPE T","","","",0]
["606E27911","EACH","ANCHOR ASSEMBLY REBUILT, MGS TYPE T, AS PER PLAN","","","",0]
["606E28000","EACH","ANCHOR ASSEMBLY REBUILT, TYPE B-98","","","REQUIRES PLAN INSERT SHEET",0]
["606E28001","EACH","ANCHOR ASSEMBLY REBUILT, TYPE B-98, AS PER PLAN","","","REQUIRES PLAN INSERT SHEET",0]
["606E28050","EACH","ANCHOR ASSEMBLY REBUILT, TYPE E-98","","","REQUIRES PLAN INSERT SHEET",0]
["606E28051","EACH","ANCHOR ASSEMBLY REBUILT, TYPE E-98, AS PER PLAN","","","REQUIRES PLAN INSERT SHEET",0]
["606E31000","EACH","BRIDGE TERMINAL ASSEMBLY, TYPE C","","","REQUIRES PLAN INSERT SHEET",0]
["606E31001","EACH","BRIDGE TERMINAL ASSEMBLY, TYPE C, AS PER PLAN","","","REQUIRES PLAN INSERT SHEET",0]
["606E31100","EACH","BRIDGE TERMINAL ASSEMBLY REBUILT, TYPE C","","","REQUIRES PLAN INSERT SHEET",0]
["606E31101","EACH","BRIDGE TERMINAL ASSEMBLY REBUILT, TYPE C, AS PER PLAN","","","REQUIRES PLAN INSERT SHEET",0]
["606E31500","EACH","BRIDGE TERMINAL ASSEMBLY, TYPE D","","","REQUIRES PLAN INSERT SHEET",0]
["606E31501","EACH","BRIDGE TERMINAL ASSEMBLY, TYPE D, AS PER PLAN","","","REQUIRES PLAN INSERT SHEET",0]
["606E31600","EACH","BRIDGE TERMINAL ASSEMBLY REBUILT, TYPE D","","","REQUIRES PLAN INSERT SHEET",0]
["606E31601","EACH","BRIDGE TERMINAL ASSEMBLY REBUILT, TYPE D, AS PER PLAN","","","REQUIRES PLAN INSERT SHEET",0]
["606E32000","EACH","BRIDGE TERMINAL ASSEMBLY, TYPE E","","","REQUIRES PLAN INSERT SHEET",0]
["606E32001","EACH","BRIDGE TERMINAL ASSEMBLY, TYPE E, AS PER PLAN","","","REQUIRES PLAN INSERT SHEET",0]
["606E32100","EACH","BRIDGE TERMINAL ASSEMBLY REBUILT, TYPE E","","","REQUIRES PLAN INSERT SHEET",0]
["606E32101","EACH","BRIDGE TERMINAL ASSEMBLY REBUILT, TYPE E, AS PER PLAN","","","REQUIRES PLAN INSERT SHEET",0]
["606E32160","EACH","BRIDGE TERMINAL ASSEMBLY, TYPE TST","","","REQUIRES PLAN INSERT SHEET",0]
["606E32161","EACH","BRIDGE TERMINAL ASSEMBLY, TYPE TST, AS PER PLAN","","","REQUIRES PLAN INSERT SHEET",0]
["606E32170","EACH","BRIDGE TERMINAL ASSEMBLY REBUILT, TYPE TST","","","REQUIRES PLAN INSERT SHEET",0]
["606E32171","EACH","BRIDGE TERMINAL ASSEMBLY REBUILT, TYPE TST, AS PER PLAN","","","REQUIRES PLAN INSERT SHEET",0]
["606E32500","EACH","BRIDGE TERMINAL ASSEMBLY, TYPE F","","","REQUIRES PLAN INSERT SHEET",0]
["606E32501","EACH","BRIDGE TERMINAL ASSEMBLY, TYPE F, AS PER PLAN","","","REQUIRES PLAN INSERT SHEET",0]
["606E32600","EACH","BRIDGE TERMINAL ASSEMBLY REBUILT, TYPE F","","","REQUIRES PLAN INSERT SHEET",0]
["606E32601","EACH","BRIDGE TERMINAL ASSEMBLY REBUILT, TYPE F, AS PER PLAN","","","REQUIRES PLAN INSERT SHEET",0]
["606E33000","EACH","BRIDGE TERMINAL ASSEMBLY, TYPE G","","","REQUIRES PLAN INSERT SHEET",0]
["606E33050","EACH","BRIDGE TERMINAL ASSEMBLY REBUILT, TYPE G","","","REQUIRES PLAN INSERT SHEET",0]
["606E33051","EACH","BRIDGE TERMINAL ASSEMBLY REBUILT, TYPE G, AS PER PLAN","","","REQUIRES PLAN INSERT SHEET",0]
["606E33500","EACH","BRIDGE TERMINAL ASSEMBLY, TYPE H","","","REQUIRES PLAN INSERT SHEET",0]
["606E33600","EACH","BRIDGE TERMINAL ASSEMBLY REBUILT, TYPE H","","","REQUIRES PLAN INSERT SHEET",0]
["606E33601","EACH","BRIDGE TERMINAL ASSEMBLY REBUILT, TYPE H, AS PER PLAN","","","REQUIRES PLAN INSERT SHEET",0]
["606E34000","EACH","BRIDGE TERMINAL ASSEMBLY, TYPE J","","","REQUIRES PLAN INSERT SHEET",0]
["606E34001","EACH","BRIDGE TERMINAL ASSEMBLY, TYPE J, AS PER PLAN","","","REQUIRES PLAN INSERT SHEET",0]
["606E34100","EACH","BRIDGE TERMINAL ASSEMBLY REBUILT, TYPE J","","","REQUIRES PLAN INSERT SHEET",0]
["606E34101","EACH","BRIDGE TERMINAL ASSEMBLY REBUILT, TYPE J, AS PER PLAN","","","REQUIRES PLAN INSERT SHEET",0]
["606E34600","EACH","MGS BRIDGE TERMINAL ASSEMBLY, TYPE TST-2","","","",0]
["606E34601","EACH","MGS BRIDGE TERMINAL ASSEMBLY, TYPE TST-2, AS PER PLAN","","","",0]
["606E35000","EACH","BRIDGE TERMINAL ASSEMBLY, TYPE 1","","","REQUIRES PLAN INSERT SHEET",0]
["606E35001","EACH","BRIDGE TERMINAL ASSEMBLY, TYPE 1, AS PER PLAN","","","REQUIRES PLAN INSERT SHEET",0]
["606E35002","EACH","MGS BRIDGE TERMINAL ASSEMBLY, TYPE 1","","","",0]
["606E35003","EACH","MGS BRIDGE TERMINAL ASSEMBLY, TYPE 1, AS PER PLAN","","","",0]
["606E35004","EACH","BRIDGE TERMINAL ASSEMBLY, TYPE 1, BARRIER DESIGN","","","REQUIRES PLAN INSERT SHEET",0]
["606E35005","EACH","BRIDGE TERMINAL ASSEMBLY, TYPE 1, BARRIER DESIGN, AS PER PLAN","","","REQUIRES PLAN INSERT SHEET",0]
["606E35006","EACH","MGS BRIDGE TERMINAL ASSEMBLY, TYPE 1, BARRIER DESIGN","","","",0]
["606E35007","EACH","MGS BRIDGE TERMINAL ASSEMBLY, TYPE 1, BARRIER DESIGN, AS PER PLAN","","","",0]
["606E35008","EACH","MGS BRIDGE TERMINAL ASSEMBLY REBUILT, TYPE 1, BARRIER DESIGN","","","",0]
["606E35009","EACH","MGS BRIDGE TERMINAL ASSEMBLY REBUILT, TYPE 1, BARRIER DESIGN, AS PER PLAN","","","",0]
["606E35010","EACH","BRIDGE TERMINAL ASSEMBLY REBUILT, TYPE 1","","","REQUIRES PLAN INSERT SHEET",0]
["606E35011","EACH","BRIDGE TERMINAL ASSEMBLY REBUILT, TYPE 1, AS PER PLAN","","","REQUIRES PLAN INSERT SHEET",0]
["606E35012","EACH","MGS BRIDGE TERMINAL ASSEMBLY REBUILT, TYPE 1","","","",0]
["606E35013","EACH","MGS BRIDGE TERMINAL ASSEMBLY REBUILT, TYPE 1, AS PER PLAN","","","",0]
["606E35020","EACH","BRIDGE TERMINAL ASSEMBLY, TYPE 1, STEEL CURB RETROFIT","","","REQUIRES PLAN INSERT SHEET",0]
["606E35100","EACH","BRIDGE TERMINAL ASSEMBLY, TYPE 2","","","REQUIRES PLAN INSERT SHEET",0]
["606E35101","EACH","BRIDGE TERMINAL ASSEMBLY, TYPE 2, AS PER PLAN","","","REQUIRES PLAN INSERT SHEET",0]
["606E35102","EACH","MGS BRIDGE TERMINAL ASSEMBLY, TYPE 2","","","",0]
["606E35103","EACH","MGS BRIDGE TERMINAL ASSEMBLY, TYPE 2, AS PER PLAN","","","",0]
["606E35110","EACH","BRIDGE TERMINAL ASSEMBLY REBUILT, TYPE 2","","","REQUIRES PLAN INSERT SHEET",0]
["606E35111","EACH","BRIDGE TERMINAL ASSEMBLY REBUILT, TYPE 2, AS PER PLAN","","","REQUIRES PLAN INSERT SHEET",0]
["606E35112","EACH","MGS BRIDGE TERMINAL ASSEMBLY REBUILT, TYPE 2","","","",0]
["606E35113","EACH","MGS BRIDGE TERMINAL ASSEMBLY REBUILT, TYPE 2, AS PER PLAN","","","",0]
["606E35120","EACH","BRIDGE TERMINAL ASSEMBLY, TYPE 3","","","REQUIRES PLAN INSERT SHEET",0]
["606E35121","EACH","BRIDGE TERMINAL ASSEMBLY, TYPE 3, AS PER PLAN","","","REQUIRES PLAN INSERT SHEET",0]
["606E35130","EACH","BRIDGE TERMINAL ASSEMBLY REBUILT, TYPE 3","","","REQUIRES PLAN INSERT SHEET",0]
["606E35131","EACH","BRIDGE TERMINAL ASSEMBLY REBUILT, TYPE 3, AS PER PLAN","","","REQUIRES PLAN INSERT SHEET",0]
["606E35140","EACH","BRIDGE TERMINAL ASSEMBLY, TYPE 4","","","REQUIRES PLAN INSERT SHEET",0]
["606E35141","EACH","BRIDGE TERMINAL ASSEMBLY, TYPE 4, AS PER PLAN","","","REQUIRES PLAN INSERT SHEET",0]
["606E35150","EACH","BRIDGE TERMINAL ASSEMBLY REBUILT, TYPE 4","","","REQUIRES PLAN INSERT SHEET",0]
["606E35151","EACH","BRIDGE TERMINAL ASSEMBLY REBUILT, TYPE 4, AS PER PLAN","","","REQUIRES PLAN INSERT SHEET",0]
["606E35170","EACH","BRIDGE TERMINAL ASSEMBLY, TYPE BR-1","","","REQUIRES PLAN INSERT SHEET",0]
["606E35171","EACH","BRIDGE TERMINAL ASSEMBLY, TYPE BR-1, AS PER PLAN","","","REQUIRES PLAN INSERT SHEET",0]
["606E35180","EACH","BRIDGE TERMINAL ASSEMBLY REBUILT, TYPE BR-1","","","REQUIRES PLAN INSERT SHEET",0]
["606E35181","EACH","BRIDGE TERMINAL ASSEMBLY REBUILT, TYPE BR-1, AS PER PLAN","","","REQUIRES PLAN INSERT SHEET",0]
["606E39000","EACH","36\" CONCRETE ANCHOR REMOVED AND REPLACED","","","",0]
["606E39001","EACH","36\" CONCRETE ANCHOR REMOVED AND REPLACED, AS PER PLAN","","","",0]
["606E40000","EACH","SPECIAL - 36\" CONCRETE ANCHOR","","","",0]
["606E50000","FT","SPECIAL - RESHAPING BERM","","","",0]
["606E54950","EACH","SPECIAL - CABLE BARRIER","","","ADD SUPPLEMENTAL DESCRIPTION",1]
["606E55000","FT","SPECIAL - CABLE BARRIER","","","ADD SUPPLEMENTAL DESCRIPTION",1]
["606E55010","FT","SPECIAL - CABLE BARRIER WITH CONCRETE LINE POST FOUNDATION","","","",0]
["606E55020","FT","SPECIAL - CABLE BARRIER, REPLACEMENT CABLE","","","",0]
["606E55100","EACH","SPECIAL - CABLE BARRIER, CONCRETE LINE POST FOUNDATION","","","",0]
["606E55110","EACH","SPECIAL - CABLE BARRIER, CONCRETE ANCHOR FOUNDATION WITH SLEEVE","","","",0]
["606E55120","EACH","SPECIAL - CABLE BARRIER, CONCRETE SOCKETED FOUNDATION","","","",0]
["606E55130","EACH","SPECIAL - CABLE BARRIER, TERMINAL POST, CAST IN PLACE","","","",0]
["606E55140","EACH","SPECIAL - CABLE BARRIER, ANCHOR POST","","","",0]
["606E55150","EACH","SPECIAL - CABLE BARRIER, ANCHOR ASSEMBLY","","","",0]
["606E55160","EACH","SPECIAL - CABLE BARRIER, TERMINAL STRUT","","","",0]
["606E55170","EACH","SPECIAL - CABLE BARRIER, TURNBUCKLE","","","",0]
["606E55180","EACH","SPECIAL - CABLE BARRIER, SPLICE","","","",0]
["606E55190","EACH","SPECIAL - CABLE BARRIER, POST REFLECTOR","","","",0]
["606E55200","EACH","SPECIAL - CABLE BARRIER, TENSIONING","","","",0]
["606E55210","EACH","SPECIAL - CABLE BARRIER, ANCHOR RECONSTRUCTED","","","",0]
["606E55220","EACH","SPECIAL - CABLE BARRIER, ANCHOR POST RESET","","","",0]
["606E60002","EACH","IMPACT ATTENUATOR, TYPE 1 (UNIDIRECTIONAL)","","","",0]
["606E60012","EACH","IMPACT ATTENUATOR, TYPE 1 (BIDIRECTIONAL)","","","",0]
["606E60013","EACH","IMPACT ATTENUATOR, TYPE 1 (BIDIRECTIONAL), AS PER PLAN","","","",0]
["606E60022","EACH","IMPACT ATTENUATOR, TYPE 2 (UNIDIRECTIONAL)","","","SPECIFY DESIGN MPH/INCH WIDTH",1]
["606E60023","EACH","IMPACT ATTENUATOR, TYPE 2 (UNIDIRECTIONAL), AS PER PLAN","","","SPECIFY DESIGN MPH/INCH WIDTH",1]
["606E60028","EACH","IMPACT ATTENUATOR, TYPE 2 (BIDIRECTIONAL)","","","SPECIFY DESIGN MPH/INCH WIDTH",1]
["606E60029","EACH","IMPACT ATTENUATOR, TYPE 2 (BIDIRECTIONAL), AS PER PLAN","","","SPECIFY DESIGN MPH/INCH WIDTH",1]
["606E60040","EACH","IMPACT ATTENUATOR, TYPE 3 UNIDIRECTIONAL","","","SPECIFY DESIGN MPH/INCH WIDTH",0]
["606E60041","EACH","IMPACT ATTENUATOR, TYPE 3 UNIDIRECTIONAL, AS PER PLAN","","","SPECIFY DESIGN MPH/INCH WIDTH",1]
["606E60050","EACH","IMPACT ATTENUATOR, TYPE 3 (BIDIRECTIONAL)","","","SPECIFY DESIGN MPH/INCH WIDTH",1]
["606E60051","EACH","IMPACT ATTENUATOR, TYPE 3 (BIDIRECTIONAL), AS PER PLAN","","","SPECIFY DESIGN MPH/INCH WIDTH",1]
["606E60060","EACH","IMPACT ATTENUATOR REBUILT, TYPE 1 (UNIDIRECTIONAL), AS PER PLAN","","","",0]
["606E60070","EACH","IMPACT ATTENUATOR REBUILT, TYPE 1 (BIDIRECTIONAL), AS PER PLAN","","","",0]
["606E60600","EACH","QUADGARD WHEEL DEFLECTOR ASSEMBLY","","","",0]
["606E61000","EACH","IMPACT ATTENUATOR, MISC.:","","","ADD SUPPLEMENTAL DESCRIPTION",1]
["606E66010","LS","IMPACT ATTENUATOR, MISC.:","","","ADD SUPPLEMENTAL DESCRIPTION",1]
["606E70000","EACH","THRIE BEAM BULLNOSE","","","",0]
["606E70050","EACH","GUARDRAIL REBUILT, THRIE BEAM BULLNOSE","","","",0]
["606E71000","FT","THRIE BEAM GUARDRAIL","","","",0]
["606E71050","FT","GUARDRAIL REBUILT, THRIE BEAM GUARDRAIL","","","",0]
["606E98000","FT","GUARDRAIL, MISC.:","","","ADD SUPPLEMENTAL DESCRIPTION",1]
["606E98100","EACH","GUARDRAIL, MISC.:","","","ADD SUPPLEMENTAL DESCRIPTION",1]
["606E98200","LS","GUARDRAIL, MISC.:","","","ADD SUPPLEMENTAL DESCRIPTION",1]
["606E99000","LS","SPECIAL - GUARDRAIL","","","DESIGN BUILD PROJECTS ONLY",0]
["606E99200","EACH","ANCHOR ASSEMBLY, MISC.:","","","ADD SUPPLEMENTAL DESCRIPTION",1]
["606E99300","LS","SPECIAL - NOISE BARRIERS","","","DESIGN BUILD PROJECTS ONLY",0]
["607E15000","FT","FENCE, TYPE 47","","","",0]
["607E15001","FT","FENCE, TYPE 47, AS PER PLAN","","","",0]
["607E15100","FT","FENCE, TYPE 47RA","","","",0]
["607E15101","FT","FENCE, TYPE 47RA, AS PER PLAN","","","",0]
["607E16000","FT","FENCE REBUILT, TYPE 47","","","",0]
["607E16001","FT","FENCE REBUILT, TYPE 47, AS PER PLAN","","","",0]
["607E23000","FT","FENCE, TYPE CLT","","","",0]
["607E23001","FT","FENCE, TYPE CLT, AS PER PLAN","","","",0]
["607E23004","FT","FENCE REBUILT, TYPE CLT","","","",0]
["607E23005","FT","FENCE REBUILT, TYPE CLT, AS PER PLAN","","","",0]
["607E23100","FT","FENCE REBUILT","","","",0]
["607E23101","FT","FENCE REBUILT, AS PER PLAN","","","",0]
["607E30000","FT","FENCE, SNOW","","","",0]
["607E30001","FT","FENCE, SNOW, AS PER PLAN","","","",0]
["607E35000","FT","FENCE REMOVED AND REBUILT","","","",0]
["607E35001","FT","FENCE REMOVED AND REBUILT, AS PER PLAN","","","",0]
["607E39900","FT","VANDAL PROTECTION FENCE, 6' STRAIGHT, COATED FABRIC","","","SEE BDM 310.11, STR GROUNDING",0]
["607E39901","FT","VANDAL PROTECTION FENCE, 6' STRAIGHT, COATED FABRIC, AS PER PLAN","","","SEE BDM 310.11, STR GROUNDING",0]
["607E39910","FT","VANDAL PROTECTION FENCE, 8' STRAIGHT, COATED FABRIC","","","SEE BDM 310.11, STR GROUNDING",0]
["607E39911","FT","VANDAL PROTECTION FENCE, 8' STRAIGHT, COATED FABRIC, AS PER PLAN","","","SEE BDM 310.11, STR GROUNDING",0]
["607E39920","FT","VANDAL PROTECTION FENCE, 10' CURVED, COATED FABRIC","","","SEE BDM 310.11, STR GROUNDING",0]
["607E39921","FT","VANDAL PROTECTION FENCE, 10' CURVED, COATED FABRIC, AS PER PLAN","","","SEE BDM 310.11, STR GROUNDING",0]
["607E39930","FT","VANDAL PROTECTION FENCE, 12' CURVED, COATED FABRIC","","","SEE BDM 310.11, STR GROUNDING",0]
["607E39931","FT","VANDAL PROTECTION FENCE, 12' CURVED, COATED FABRIC, AS PER PLAN","","","SEE BDM 310.11, STR GROUNDING",0]
["607E39992","FT","TEMPORARY VANDAL FENCE, TYPE A","","","SEE BDM 310.11, STR GROUNDING",0]
["607E39994","FT","TEMPORARY VANDAL FENCE, TYPE B","","","SEE BDM 310.11, STR GROUNDING",0]
["607E39996","FT","TEMPORARY VANDAL FENCE, TYPE C","","","SEE BDM 310.11, STR GROUNDING",0]
["607E40000","FT","SPECIAL - VANDAL PROTECTION FENCE","","","SEE BDM 310.11, STR GROUNDING",0]
["607E40300","FT","SPECIAL - VANDAL PROTECTION FENCE REMOVED AND REBUILT","","","SEE BDM 310.11, STR GROUNDING",0]
["607E40500","EACH","GATE, TYPE 47","","","",0]
["607E40501","EACH","GATE, TYPE 47, AS PER PLAN","","","",0]
["607E61111","EACH","GATE REBUILT, AS PER PLAN","","","",0]
["607E61200","EACH","GATE, TYPE CLT","","","",0]
["607E61201","EACH","GATE, TYPE CLT, AS PER PLAN","","","",0]
["607E70000","FT","FENCELINE SEEDING AND MULCHING","","","",0]
["607E98000","FT","FENCE, MISC.:","","","ADD SUPPLEMENTAL DESCRIPTION",1]
["607E98100","EACH","FENCE, MISC.:","","","ADD SUPPLEMENTAL DESCRIPTION",1]
["607E98200","LS","FENCE, MISC.:","","","ADD SUPPLEMENTAL DESCRIPTION",1]
["607E98300","SF","FENCE, MISC.:","","","ADD SUPPLEMENTAL DESCRIPTION",1]
["608E10000","SF","4\" CONCRETE WALK","","","",0]
["608E10001","SF","4\" CONCRETE WALK, AS PER PLAN","","","",0]
["608E11000","SF","4-1/2\" CONCRETE WALK","","","",0]
["608E11001","SF","4-1/2\" CONCRETE WALK, AS PER PLAN","","","",0]
["608E12000","SF","5\" CONCRETE WALK","","","",0]
["608E12001","SF","5\" CONCRETE WALK, AS PER PLAN","","","",0]
["608E13000","SF","6\" CONCRETE WALK","","","",0]
["608E13001","SF","6\" CONCRETE WALK, AS PER PLAN","","","",0]
["608E13020","SF","7\" CONCRETE WALK","","","",0]
["608E13021","SF","7\" CONCRETE WALK, AS PER PLAN","","","",0]
["608E15000","SF","8\" CONCRETE WALK","","","",0]
["608E15001","SF","8\" CONCRETE WALK, AS PER PLAN","","","",0]
["608E20000","SF","2\" ASPHALT CONCRETE WALK","","","",0]
["608E20001","SF","2\" ASPHALT CONCRETE WALK, AS PER PLAN","","","",0]
["608E20010","SF","3\" ASPHALT CONCRETE WALK","","","",0]
["608E20011","SF","3\" ASPHALT CONCRETE WALK, AS PER PLAN","","","",0]
["608E21000","SF","4\" ASPHALT CONCRETE WALK","","","",0]
["608E21001","SF","4\" ASPHALT CONCRETE WALK, AS PER PLAN","","","",0]
["608E21200","SF","TEMPORARY ASPHALT CONCRETE WALK","","","",0]
["608E21201","SF","TEMPORARY ASPHALT CONCRETE WALK, AS PER PLAN","","","",0]
["608E30000","SF","AGGREGATE WALK","","","",0]
["608E40000","FT","CONCRETE STEPS, TYPE A","","","",0]
["608E40001","FT","CONCRETE STEPS, TYPE A, AS PER PLAN","","","",0]
["608E41000","FT","CONCRETE STEPS, TYPE B","","","",0]
["608E41001","FT","CONCRETE STEPS, TYPE B, AS PER PLAN","","","",0]
["608E52000","SF","CURB RAMP","","","",0]
["608E52001","SF","CURB RAMP, AS PER PLAN","","","",0]
["608E53020","SF","DETECTABLE WARNING","","","",0]
["608E53021","SF","DETECTABLE WARNING, AS PER PLAN","","","",0]
["608E98000","SF","WALKWAY, MISC.:","","","ADD SUPPLEMENTAL DESCRIPTION",1]
["608E98100","FT","WALKWAY, MISC.:","","","ADD SUPPLEMENTAL DESCRIPTION",1]
["608E98200","EACH","WALKWAY, MISC.:","","","ADD SUPPLEMENTAL DESCRIPTION",1]
["609E00500","FT","SANDSTONE CURB","","","",0]
["609E00501","FT","SANDSTONE CURB, AS PER PLAN","","","",0]
["609E10000","FT","ASPHALT CONCRETE CURB, TYPE 1","","","",0]
["609E10001","FT","ASPHALT CONCRETE CURB, TYPE 1, AS PER PLAN","","","",0]
["609E12000","FT","COMBINATION CURB AND GUTTER, TYPE 2","","","",0]
["609E12001","FT","COMBINATION CURB AND GUTTER, TYPE 2, AS PER PLAN","","","",0]
["609E14000","FT","CURB, TYPE 2-A","","","",0]
["609E14001","FT","CURB, TYPE 2-A, AS PER PLAN","","","",0]
["609E16000","FT","CURB, TYPE 2-B","","","",0]
["609E16001","FT","CURB, TYPE 2-B, AS PER PLAN","","","",0]
["609E18000","FT","COMBINATION CURB AND GUTTER, TYPE 3","","","",0]
["609E18001","FT","COMBINATION CURB AND GUTTER, TYPE 3, AS PER PLAN","","","",0]
["609E20000","FT","CURB, TYPE 3-A","","","",0]
["609E20001","FT","CURB, TYPE 3-A, AS PER PLAN","","","",0]
["609E22000","FT","CURB, TYPE 3-B","","","",0]
["609E22001","FT","CURB, TYPE 3-B, AS PER PLAN","","","",0]
["609E23000","FT","COMBINATION CURB AND GUTTER, TYPE 4","","","",0]
["609E23001","FT","COMBINATION CURB AND GUTTER, TYPE 4, AS PER PLAN","","","",0]
["609E24000","FT","CURB, TYPE 4-A","","","",0]
["609E24001","FT","CURB, TYPE 4-A, AS PER PLAN","","","",0]
["609E24500","FT","CURB, TYPE 4-B","","","",0]
["609E24501","FT","CURB, TYPE 4-B, AS PER PLAN","","","",0]
["609E24510","FT","CURB, TYPE 4-C","","","",0]
["609E24511","FT","CURB, TYPE 4-C, AS PER PLAN","","","",0]
["609E26000","FT","CURB, TYPE 6","","","",0]
["609E26001","FT","CURB, TYPE 6, AS PER PLAN","","","",0]
["609E28000","FT","CURB, TYPE 7","","","",0]
["609E28001","FT","CURB, TYPE 7, AS PER PLAN","","","",0]
["609E30000","FT","CURB, TYPE 8","","","",0]
["609E30001","FT","CURB, TYPE 8, AS PER PLAN","","","",0]
["609E31000","FT","COMBINATION CURB AND GUTTER, TYPE 9","","","",0]
["609E31001","FT","COMBINATION CURB AND GUTTER, TYPE 9, AS PER PLAN","","","",0]
["609E33000","FT","CURB, TYPE 10","","","",0]
["609E33001","FT","CURB, TYPE 10, AS PER PLAN","","","",0]
["609E33100","FT","CURB, TYPE 10-A","","","",0]
["609E33101","FT","CURB, TYPE 10-A, AS PER PLAN","","","",0]
["609E33200","FT","CURB, TYPE 10-B","","","",0]
["609E33201","FT","CURB, TYPE 10-B, AS PER PLAN","","","",0]
["609E50000","SY","4\" CONCRETE TRAFFIC ISLAND","","","CHECK UNIT OF MEASURE",0]
["609E50001","SY","4\" CONCRETE TRAFFIC ISLAND, AS PER PLAN","","","CHECK UNIT OF MEASURE",0]
["609E52000","CY","4\" CONCRETE TRAFFIC ISLAND","","","CHECK UNIT OF MEASURE",0]
["609E54000","SY","6\" CONCRETE TRAFFIC ISLAND","","","CHECK UNIT OF MEASURE",0]
["609E54001","SY","6\" CONCRETE TRAFFIC ISLAND, AS PER PLAN","","","CHECK UNIT OF MEASURE",0]
["609E56000","CY","6\" CONCRETE TRAFFIC ISLAND","","","CHECK UNIT OF MEASURE",0]
["609E57000","SY","8\" CONCRETE TRAFFIC ISLAND","","","CHECK UNIT OF MEASURE",0]
["609E57001","SY","8\" CONCRETE TRAFFIC ISLAND, AS PER PLAN","","","CHECK UNIT OF MEASURE",0]
["609E57500","CY","8\" CONCRETE TRAFFIC ISLAND","","","CHECK UNIT OF MEASURE",0]
["609E57501","CY","8\" CONCRETE TRAFFIC ISLAND, AS PER PLAN","","","CHECK UNIT OF MEASURE",0]
["609E58000","SY","9\" CONCRETE TRAFFIC ISLAND","","","CHECK UNIT OF MEASURE",0]
["609E58001","SY","9\" CONCRETE TRAFFIC ISLAND, AS PER PLAN","","","CHECK UNIT OF MEASURE",0]
["609E60000","CY","9\" CONCRETE TRAFFIC ISLAND","","","CHECK UNIT OF MEASURE",0]
["609E60001","CY","9\" CONCRETE TRAFFIC ISLAND, AS PER PLAN","","","CHECK UNIT OF MEASURE",0]
["609E70000","SY","4\" CONCRETE MEDIAN","","","",0]
["609E70001","SY","4\" CONCRETE MEDIAN, AS PER PLAN","","","",0]
["609E71000","SF","CONCRETE MEDIAN","","","",0]
["609E71001","SF","CONCRETE MEDIAN, AS PER PLAN","","","",0]
["609E72000","SY","CONCRETE MEDIAN","","","",0]
["609E72001","SY","CONCRETE MEDIAN, AS PER PLAN","","","",0]
["609E72100","CY","CONCRETE MEDIAN","","","",0]
["609E72101","CY","CONCRETE MEDIAN, AS PER PLAN","","","",0]
["609E96000","SY","MEDIAN, MISC.:","","","ADD SUPPLEMENTAL DESCRIPTION",1]
["609E96100","CY","MEDIAN, MISC.:","","","ADD SUPPLEMENTAL DESCRIPTION",1]
["609E96200","SF","MEDIAN, MISC.:","","","ADD SUPPLEMENTAL DESCRIPTION",1]
["609E98000","FT","CURB, MISC.:","","","ADD SUPPLEMENTAL DESCRIPTION",1]
["609E98100","EACH","CURB, MISC.:","","","ADD SUPPLEMENTAL DESCRIPTION",1]
["611E00100","FT","4\" CONDUIT, TYPE B","","","SPECIFY MATL WHEN WARRANTED",0]
["611E00101","FT","4\" CONDUIT, TYPE B, AS PER PLAN","","","SPECIFY MATL WHEN WARRANTED",0]
["611E00200","FT","4\" CONDUIT, TYPE C","","","SPECIFY MATL WHEN WARRANTED",0]
["611E00201","FT","4\" CONDUIT, TYPE C, AS PER PLAN","","","SPECIFY MATL WHEN WARRANTED",0]
["611E00300","FT","4\" CONDUIT, TYPE D","","","SPECIFY MATL WHEN WARRANTED",0]
["611E00301","FT","4\" CONDUIT, TYPE D, AS PER PLAN","","","SPECIFY MATL WHEN WARRANTED",0]
["611E00400","FT","4\" CONDUIT, TYPE E","","","SPECIFY MATL WHEN WARRANTED",0]
["611E00401","FT","4\" CONDUIT, TYPE E, AS PER PLAN","","","SPECIFY MATL WHEN WARRANTED",0]
["611E00406","FT","4\" CONDUIT, TYPE F","","","SPECIFY MATL WHEN WARRANTED",0]
["611E00407","FT","4\" CONDUIT, TYPE F, AS PER PLAN","","","SPECIFY MATL WHEN WARRANTED",0]
["611E00410","FT","4\" CONDUIT, TYPE F FOR UNDERDRAIN OUTLET","","","",0]
["611E00411","FT","4\" CONDUIT, TYPE F FOR UNDERDRAIN OUTLET, AS PER PLAN","","","",0]
["611E00510","FT","6\" CONDUIT, TYPE F FOR UNDERDRAIN OUTLETS","","","",0]
["611E00511","FT","6\" CONDUIT, TYPE F FOR UNDERDRAIN OUTLETS, AS PER PLAN","","","",0]
["611E00900","FT","6\" CONDUIT, TYPE B","","","SPECIFY MATL WHEN WARRANTED",0]
["611E00901","FT","6\" CONDUIT, TYPE B, AS PER PLAN","","","SPECIFY MATL WHEN WARRANTED",0]
["611E01100","FT","6\" CONDUIT, TYPE C","","","SPECIFY MATL WHEN WARRANTED",0]
["611E01101","FT","6\" CONDUIT, TYPE C, AS PER PLAN","","","SPECIFY MATL WHEN WARRANTED",0]
["611E01200","FT","6\" CONDUIT, TYPE D","","","SPECIFY MATL WHEN WARRANTED",0]
["611E01400","FT","6\" CONDUIT, TYPE E","","","SPECIFY MATL WHEN WARRANTED",0]
["611E01401","FT","6\" CONDUIT, TYPE E, AS PER PLAN","","","SPECIFY MATL WHEN WARRANTED",0]
["611E01500","FT","6\" CONDUIT, TYPE F","","","SPECIFY MATL WHEN WARRANTED",0]
["611E01501","FT","6\" CONDUIT, TYPE F, AS PER PLAN","","","SPECIFY MATL WHEN WARRANTED",0]
["611E01800","FT","8\" CONDUIT, TYPE B","","","SPECIFY MATL WHEN WARRANTED",0]
["611E01801","FT","8\" CONDUIT, TYPE B, AS PER PLAN","","","SPECIFY MATL WHEN WARRANTED",0]
["611E02000","FT","8\" CONDUIT, TYPE C","","","SPECIFY MATL WHEN WARRANTED",0]
["611E02001","FT","8\" CONDUIT, TYPE C, AS PER PLAN","","","SPECIFY MATL WHEN WARRANTED",0]
["611E02400","FT","8\" CONDUIT, TYPE D","","","SPECIFY MATL WHEN WARRANTED",0]
["611E02401","FT","8\" CONDUIT, TYPE D, AS PER PLAN","","","SPECIFY MATL WHEN WARRANTED",0]
["611E02500","FT","8\" CONDUIT, TYPE E","","","SPECIFY MATL WHEN WARRANTED",0]
["611E02501","FT","8\" CONDUIT, TYPE E, AS PER PLAN","","","SPECIFY MATL WHEN WARRANTED",0]
["611E02600","FT","8\" CONDUIT, TYPE F","","","SPECIFY MATL WHEN WARRANTED",0]
["611E02601","FT","8\" CONDUIT, TYPE F, AS PER PLAN","","","SPECIFY MATL WHEN WARRANTED",0]
["611E03100","FT","10\" CONDUIT, TYPE B","","","SPECIFY MATL WHEN WARRANTED",0]
["611E03101","FT","10\" CONDUIT, TYPE B, AS PER PLAN","","","SPECIFY MATL WHEN WARRANTED",0]
["611E03300","FT","10\" CONDUIT, TYPE C","","","SPECIFY MATL WHEN WARRANTED",0]
["611E03301","FT","10\" CONDUIT, TYPE C, AS PER PLAN","","","SPECIFY MATL WHEN WARRANTED",0]
["611E03400","FT","10\" CONDUIT, TYPE D","","","SPECIFY MATL WHEN WARRANTED",0]
["611E03401","FT","10\" CONDUIT, TYPE D, AS PER PLAN","","","SPECIFY MATL WHEN WARRANTED",0]
["611E03600","FT","10\" CONDUIT, TYPE E","","","SPECIFY MATL WHEN WARRANTED",0]
["611E03601","FT","10\" CONDUIT, TYPE E, AS PER PLAN","","","SPECIFY MATL WHEN WARRANTED",0]
["611E03700","FT","10\" CONDUIT, TYPE F","","","SPECIFY MATL WHEN WARRANTED",0]
["611E03701","FT","10\" CONDUIT, TYPE F, AS PER PLAN","","","SPECIFY MATL WHEN WARRANTED",0]
["611E04200","FT","12\" CONDUIT, TYPE A","","","SPECIFY MATL WHEN WARRANTED",0]
["611E04201","FT","12\" CONDUIT, TYPE A, AS PER PLAN","","","SPECIFY MATL WHEN WARRANTED",0]
["611E04400","FT","12\" CONDUIT, TYPE B","","","SPECIFY MATL WHEN WARRANTED",0]
["611E04401","FT","12\" CONDUIT, TYPE B, AS PER PLAN","","","SPECIFY MATL WHEN WARRANTED",0]
["611E04600","FT","12\" CONDUIT, TYPE C","","","SPECIFY MATL WHEN WARRANTED",0]
["611E04601","FT","12\" CONDUIT, TYPE C, AS PER PLAN","","","SPECIFY MATL WHEN WARRANTED",0]
["611E04900","FT","12\" CONDUIT, TYPE D","","","SPECIFY MATL WHEN WARRANTED",0]
["611E04901","FT","12\" CONDUIT, TYPE D, AS PER PLAN","","","SPECIFY MATL WHEN WARRANTED",0]
["611E05100","FT","12\" CONDUIT, TYPE E","","","SPECIFY MATL WHEN WARRANTED",0]
["611E05101","FT","12\" CONDUIT, TYPE E, AS PER PLAN","","","SPECIFY MATL WHEN WARRANTED",0]
["611E05200","FT","12\" CONDUIT, TYPE F","","","SPECIFY MATL WHEN WARRANTED",0]
["611E05201","FT","12\" CONDUIT, TYPE F, AS PER PLAN","","","SPECIFY MATL WHEN WARRANTED",0]
["611E05700","FT","15\" CONDUIT, TYPE A","","","SPECIFY MATL WHEN WARRANTED",0]
["611E05701","FT","15\" CONDUIT, TYPE A, AS PER PLAN","","","SPECIFY MATL WHEN WARRANTED",0]
["611E05900","FT","15\" CONDUIT, TYPE B","","","SPECIFY MATL WHEN WARRANTED",0]
["611E05901","FT","15\" CONDUIT, TYPE B, AS PER PLAN","","","SPECIFY MATL WHEN WARRANTED",0]
["611E06100","FT","15\" CONDUIT, TYPE C","","","SPECIFY MATL WHEN WARRANTED",0]
["611E06101","FT","15\" CONDUIT, TYPE C, AS PER PLAN","","","SPECIFY MATL WHEN WARRANTED",0]
["611E06400","FT","15\" CONDUIT, TYPE D","","","SPECIFY MATL WHEN WARRANTED",0]
["611E06401","FT","15\" CONDUIT, TYPE D, AS PER PLAN","","","SPECIFY MATL WHEN WARRANTED",0]
["611E06600","FT","15\" CONDUIT, TYPE E","","","SPECIFY MATL WHEN WARRANTED",0]
["611E06601","FT","15\" CONDUIT, TYPE E, AS PER PLAN","","","SPECIFY MATL WHEN WARRANTED",0]
["611E06700","FT","15\" CONDUIT, TYPE F","","","SPECIFY MATL WHEN WARRANTED",0]
["611E06701","FT","15\" CONDUIT, TYPE F, AS PER PLAN","","","SPECIFY MATL WHEN WARRANTED",0]
["611E07200","FT","18\" CONDUIT, TYPE A","","","SPECIFY MATL WHEN WARRANTED",0]
["611E07201","FT","18\" CONDUIT, TYPE A, AS PER PLAN","","","SPECIFY MATL WHEN WARRANTED",0]
["611E07400","FT","18\" CONDUIT, TYPE B","","","SPECIFY MATL WHEN WARRANTED",0]
["611E07401","FT","18\" CONDUIT, TYPE B, AS PER PLAN","","","SPECIFY MATL WHEN WARRANTED",0]
["611E07600","FT","18\" CONDUIT, TYPE C","","","SPECIFY MATL WHEN WARRANTED",0]
["611E07601","FT","18\" CONDUIT, TYPE C, AS PER PLAN","","","SPECIFY MATL WHEN WARRANTED",0]
["611E07900","FT","18\" CONDUIT, TYPE D","","","SPECIFY MATL WHEN WARRANTED",0]
["611E07901","FT","18\" CONDUIT, TYPE D, AS PER PLAN","","","SPECIFY MATL WHEN WARRANTED",0]
["611E08100","FT","18\" CONDUIT, TYPE E","","","SPECIFY MATL WHEN WARRANTED",0]
["611E08200","FT","18\" CONDUIT, TYPE F","","","SPECIFY MATL WHEN WARRANTED",0]
["611E08201","FT","18\" CONDUIT, TYPE F, AS PER PLAN","","","SPECIFY MATL WHEN WARRANTED",0]
["611E08700","FT","21\" CONDUIT, TYPE A","","","SPECIFY MATL WHEN WARRANTED",0]
["611E08701","FT","21\" CONDUIT, TYPE A, AS PER PLAN","","","SPECIFY MATL WHEN WARRANTED",0]
["611E08900","FT","21\" CONDUIT, TYPE B","","","SPECIFY MATL WHEN WARRANTED",0]
["611E08901","FT","21\" CONDUIT, TYPE B, AS PER PLAN","","","SPECIFY MATL WHEN WARRANTED",0]
["611E09100","FT","21\" CONDUIT, TYPE C","","","SPECIFY MATL WHEN WARRANTED",0]
["611E09101","FT","21\" CONDUIT, TYPE C, AS PER PLAN","","","SPECIFY MATL WHEN WARRANTED",0]
["611E09400","FT","21\" CONDUIT, TYPE D","","","SPECIFY MATL WHEN WARRANTED",0]
["611E09401","FT","21\" CONDUIT, TYPE D, AS PER PLAN","","","SPECIFY MATL WHEN WARRANTED",0]
["611E09600","FT","21\" CONDUIT, TYPE E","","","SPECIFY MATL WHEN WARRANTED",0]
["611E09601","FT","21\" CONDUIT, TYPE E, AS PER PLAN","","","SPECIFY MATL WHEN WARRANTED",0]
["611E09700","FT","21\" CONDUIT, TYPE F","","","SPECIFY MATL WHEN WARRANTED",0]
["611E10200","FT","24\" CONDUIT, TYPE A","","","SPECIFY MATL WHEN WARRANTED",0]
["611E10201","FT","24\" CONDUIT, TYPE A, AS PER PLAN","","","SPECIFY MATL WHEN WARRANTED",0]
["611E10400","FT","24\" CONDUIT, TYPE B","","","SPECIFY MATL WHEN WARRANTED",0]
["611E10401","FT","24\" CONDUIT, TYPE B, AS PER PLAN","","","SPECIFY MATL WHEN WARRANTED",0]
["611E10600","FT","24\" CONDUIT, TYPE C","","","SPECIFY MATL WHEN WARRANTED",0]
["611E10601","FT","24\" CONDUIT, TYPE C, AS PER PLAN","","","SPECIFY MATL WHEN WARRANTED",0]
["611E10900","FT","24\" CONDUIT, TYPE D","","","SPECIFY MATL WHEN WARRANTED",0]
["611E10901","FT","24\" CONDUIT, TYPE D, AS PER PLAN","","","SPECIFY MATL WHEN WARRANTED",0]
["611E11100","FT","24\" CONDUIT, TYPE E","","","SPECIFY MATL WHEN WARRANTED",0]
["611E11101","FT","24\" CONDUIT, TYPE E, AS PER PLAN","","","SPECIFY MATL WHEN WARRANTED",0]
["611E11200","FT","24\" CONDUIT, TYPE F","","","SPECIFY MATL WHEN WARRANTED",0]
["611E11201","FT","24\" CONDUIT, TYPE F, AS PER PLAN","","","SPECIFY MATL WHEN WARRANTED",0]
["611E11700","FT","27\" CONDUIT, TYPE A","","","SPECIFY MATL WHEN WARRANTED",0]
["611E11701","FT","27\" CONDUIT, TYPE A, AS PER PLAN","","","SPECIFY MATL WHEN WARRANTED",0]
["611E11900","FT","27\" CONDUIT, TYPE B","","","SPECIFY MATL WHEN WARRANTED",0]
["611E11901","FT","27\" CONDUIT, TYPE B, AS PER PLAN","","","SPECIFY MATL WHEN WARRANTED",0]
["611E12100","FT","27\" CONDUIT, TYPE C","","","SPECIFY MATL WHEN WARRANTED",0]
["611E12101","FT","27\" CONDUIT, TYPE C, AS PER PLAN","","","SPECIFY MATL WHEN WARRANTED",0]
["611E12400","FT","27\" CONDUIT, TYPE D","","","SPECIFY MATL WHEN WARRANTED",0]
["611E12600","FT","27\" CONDUIT, TYPE E","","","SPECIFY MATL WHEN WARRANTED",0]
["611E12700","FT","27\" CONDUIT, TYPE F","","","SPECIFY MATL WHEN WARRANTED",0]
["611E12701","FT","27\" CONDUIT, TYPE F, AS PER PLAN","","","SPECIFY MATL WHEN WARRANTED",0]
["611E13200","FT","30\" CONDUIT, TYPE A","","","SPECIFY MATL WHEN WARRANTED",0]
["611E13201","FT","30\" CONDUIT, TYPE A, AS PER PLAN","","","SPECIFY MATL WHEN WARRANTED",0]
["611E13400","FT","30\" CONDUIT, TYPE B","","","SPECIFY MATL WHEN WARRANTED",0]
["611E13401","FT","30\" CONDUIT, TYPE B, AS PER PLAN","","","SPECIFY MATL WHEN WARRANTED",0]
["611E13600","FT","30\" CONDUIT, TYPE C","","","SPECIFY MATL WHEN WARRANTED",0]
["611E13601","FT","30\" CONDUIT, TYPE C, AS PER PLAN","","","SPECIFY MATL WHEN WARRANTED",0]
["611E13900","FT","30\" CONDUIT, TYPE D","","","SPECIFY MATL WHEN WARRANTED",0]
["611E13901","FT","30\" CONDUIT, TYPE D, AS PER PLAN","","","SPECIFY MATL WHEN WARRANTED",0]
["611E14100","FT","30\" CONDUIT, TYPE E","","","SPECIFY MATL WHEN WARRANTED",0]
["611E14200","FT","30\" CONDUIT, TYPE F","","","SPECIFY MATL WHEN WARRANTED",0]
["611E16200","FT","36\" CONDUIT, TYPE A","","","SPECIFY MATL WHEN WARRANTED",0]
["611E16201","FT","36\" CONDUIT, TYPE A, AS PER PLAN","","","SPECIFY MATL WHEN WARRANTED",0]
["611E16400","FT","36\" CONDUIT, TYPE B","","","SPECIFY MATL WHEN WARRANTED",0]
["611E16401","FT","36\" CONDUIT, TYPE B, AS PER PLAN","","","SPECIFY MATL WHEN WARRANTED",0]
["611E16600","FT","36\" CONDUIT, TYPE C","","","SPECIFY MATL WHEN WARRANTED",0]
["611E16601","FT","36\" CONDUIT, TYPE C, AS PER PLAN","","","SPECIFY MATL WHEN WARRANTED",0]
["611E16900","FT","36\" CONDUIT, TYPE D","","","SPECIFY MATL WHEN WARRANTED",0]
["611E16901","FT","36\" CONDUIT, TYPE D, AS PER PLAN","","","SPECIFY MATL WHEN WARRANTED",0]
["611E17100","FT","36\" CONDUIT, TYPE E","","","SPECIFY MATL WHEN WARRANTED",0]
["611E17200","FT","36\" CONDUIT, TYPE F","","","SPECIFY MATL WHEN WARRANTED",0]
["611E19200","FT","42\" CONDUIT, TYPE A","","","SPECIFY MATL WHEN WARRANTED",0]
["611E19201","FT","42\" CONDUIT, TYPE A, AS PER PLAN","","","SPECIFY MATL WHEN WARRANTED",0]
["611E19400","FT","42\" CONDUIT, TYPE B","","","SPECIFY MATL WHEN WARRANTED",0]
["611E19401","FT","42\" CONDUIT, TYPE B, AS PER PLAN","","","SPECIFY MATL WHEN WARRANTED",0]
["611E19600","FT","42\" CONDUIT, TYPE C","","","SPECIFY MATL WHEN WARRANTED",0]
["611E19601","FT","42\" CONDUIT, TYPE C, AS PER PLAN","","","SPECIFY MATL WHEN WARRANTED",0]
["611E19900","FT","42\" CONDUIT, TYPE D","","","SPECIFY MATL WHEN WARRANTED",0]
["611E19904","FT","42\" CONDUIT, TYPE F","","","SPECIFY MATL WHEN WARRANTED",0]
["611E19905","FT","42\" CONDUIT, TYPE F, AS PER PLAN","","","SPECIFY MATL WHEN WARRANTED",0]
["611E20700","FT","48\" CONDUIT, TYPE A","","","SPECIFY MATL WHEN WARRANTED",0]
["611E20701","FT","48\" CONDUIT, TYPE A, AS PER PLAN","","","SPECIFY MATL WHEN WARRANTED",0]
["611E20900","FT","48\" CONDUIT, TYPE B","","","SPECIFY MATL WHEN WARRANTED",0]
["611E20901","FT","48\" CONDUIT, TYPE B, AS PER PLAN","","","SPECIFY MATL WHEN WARRANTED",0]
["611E21100","FT","48\" CONDUIT, TYPE C","","","SPECIFY MATL WHEN WARRANTED",0]
["611E21101","FT","48\" CONDUIT, TYPE C, AS PER PLAN","","","SPECIFY MATL WHEN WARRANTED",0]
["611E21400","FT","48\" CONDUIT, TYPE D","","","SPECIFY MATL WHEN WARRANTED",0]
["611E21500","FT","48\" CONDUIT, TYPE F","","","SPECIFY MATL WHEN WARRANTED",0]
["611E21501","FT","48\" CONDUIT, TYPE F, AS PER PLAN","","","SPECIFY MATL WHEN WARRANTED",0]
["611E22200","FT","54\" CONDUIT, TYPE A","","","SPECIFY MATL WHEN WARRANTED",0]
["611E22201","FT","54\" CONDUIT, TYPE A, AS PER PLAN","","","SPECIFY MATL WHEN WARRANTED",0]
["611E22400","FT","54\" CONDUIT, TYPE B","","","SPECIFY MATL WHEN WARRANTED",0]
["611E22401","FT","54\" CONDUIT, TYPE B, AS PER PLAN","","","SPECIFY MATL WHEN WARRANTED",0]
["611E22600","FT","54\" CONDUIT, TYPE C","","","SPECIFY MATL WHEN WARRANTED",0]
["611E22601","FT","54\" CONDUIT, TYPE C, AS PER PLAN","","","SPECIFY MATL WHEN WARRANTED",0]
["611E22900","FT","54\" CONDUIT, TYPE D","","","SPECIFY MATL WHEN WARRANTED",0]
["611E22901","FT","54\" CONDUIT, TYPE D, AS PER PLAN","","","SPECIFY MATL WHEN WARRANTED",0]
["611E23600","FT","60\" CONDUIT, TYPE A","","","SPECIFY MATL WHEN WARRANTED",0]
["611E23601","FT","60\" CONDUIT, TYPE A, AS PER PLAN","","","SPECIFY MATL WHEN WARRANTED",0]
["611E23800","FT","60\" CONDUIT, TYPE B","","","SPECIFY MATL WHEN WARRANTED",0]
["611E23801","FT","60\" CONDUIT, TYPE B, AS PER PLAN","","","SPECIFY MATL WHEN WARRANTED",0]
["611E24000","FT","60\" CONDUIT, TYPE C","","","SPECIFY MATL WHEN WARRANTED",0]
["611E24300","FT","60\" CONDUIT, TYPE D","","","SPECIFY MATL WHEN WARRANTED",0]
["611E25000","FT","66\" CONDUIT, TYPE A","","","SPECIFY MATL WHEN WARRANTED",0]
["611E25001","FT","66\" CONDUIT, TYPE A, AS PER PLAN","","","SPECIFY MATL WHEN WARRANTED",0]
["611E25200","FT","66\" CONDUIT, TYPE B","","","SPECIFY MATL WHEN WARRANTED",0]
["611E25201","FT","66\" CONDUIT, TYPE B, AS PER PLAN","","","SPECIFY MATL WHEN WARRANTED",0]
["611E25400","FT","66\" CONDUIT, TYPE C","","","SPECIFY MATL WHEN WARRANTED",0]
["611E25401","LF","66\" CONDUIT, TYPE C, AS PER PLAN","","","SPECIFY MATL WHEN WARRANTED",0]
["611E25404","FT","66\" CONDUIT, TYPE D","","","SPECIFY MATL WHEN WARRANTED",0]
["611E26000","FT","72\" CONDUIT, TYPE A","","","SPECIFY MATL WHEN WARRANTED",0]
["611E26001","FT","72\" CONDUIT, TYPE A, AS PER PLAN","","","SPECIFY MATL WHEN WARRANTED",0]
["611E26200","FT","72\" CONDUIT, TYPE B","","","SPECIFY MATL WHEN WARRANTED",0]
["611E26201","FT","72\" CONDUIT, TYPE B, AS PER PLAN","","","SPECIFY MATL WHEN WARRANTED",0]
["611E26400","FT","72\" CONDUIT, TYPE C","","","SPECIFY MATL WHEN WARRANTED",0]
["611E26401","FT","72\" CONDUIT, TYPE C, AS PER PLAN","","","SPECIFY MATL WHEN WARRANTED",0]
["611E26404","FT","72\" CONDUIT, TYPE D","","","SPECIFY MATL WHEN WARRANTED",0]
["611E27000","FT","78\" CONDUIT, TYPE A","","","SPECIFY MATL WHEN WARRANTED",0]
["611E27001","FT","78\" CONDUIT, TYPE A, AS PER PLAN","","","SPECIFY MATL WHEN WARRANTED",0]
["611E27200","FT","78\" CONDUIT, TYPE B","","","SPECIFY MATL WHEN WARRANTED",0]
["611E27201","FT","78\" CONDUIT, TYPE B, AS PER PLAN","","","SPECIFY MATL WHEN WARRANTED",0]
["611E27400","FT","78\" CONDUIT, TYPE C","","","SPECIFY MATL WHEN WARRANTED",0]
["611E27600","FT","78\" CONDUIT, TYPE D","","","SPECIFY MATL WHEN WARRANTED",0]
["611E28000","FT","84\" CONDUIT, TYPE A","","","SPECIFY MATL WHEN WARRANTED",0]
["611E28001","FT","84\" CONDUIT, TYPE A, AS PER PLAN","","","SPECIFY MATL WHEN WARRANTED",0]
["611E28200","FT","84\" CONDUIT, TYPE B","","","SPECIFY MATL WHEN WARRANTED",0]
["611E28400","FT","84\" CONDUIT, TYPE C","","","SPECIFY MATL WHEN WARRANTED",0]
["611E28401","FT","84\" CONDUIT, TYPE C, AS PER PLAN","","","SPECIFY MATL WHEN WARRANTED",0]
["611E28404","FT","84\" CONDUIT, TYPE D","","","SPECIFY MATL WHEN WARRANTED",0]
["611E29000","FT","90\" CONDUIT, TYPE A","","","SPECIFY MATL WHEN WARRANTED",0]
["611E29001","FT","90\" CONDUIT, TYPE A, AS PER PLAN","","","SPECIFY MATL WHEN WARRANTED",0]
["611E29200","FT","90\" CONDUIT, TYPE B","","","SPECIFY MATL WHEN WARRANTED",0]
["611E29400","FT","90\" CONDUIT, TYPE C","","","SPECIFY MATL WHEN WARRANTED",0]
["611E29404","FT","90\" CONDUIT, TYPE D","","","SPECIFY MATL WHEN WARRANTED",0]
["611E30000","FT","96\" CONDUIT, TYPE A","","","SPECIFY MATL WHEN WARRANTED",0]
["611E30001","FT","96\" CONDUIT, TYPE A, AS PER PLAN","","","SPECIFY MATL WHEN WARRANTED",0]
["611E30200","FT","96\" CONDUIT, TYPE B","","","SPECIFY MATL WHEN WARRANTED",0]
["611E30201","FT","96\" CONDUIT, TYPE B, AS PER PLAN","","","SPECIFY MATL WHEN WARRANTED",0]
["611E30400","FT","96\" CONDUIT, TYPE C","","","SPECIFY MATL WHEN WARRANTED",0]
["611E31000","FT","102\" CONDUIT, TYPE A","","","SPECIFY MATL WHEN WARRANTED",0]
["611E31001","FT","102\" CONDUIT, TYPE A, AS PER PLAN","","","SPECIFY MATL WHEN WARRANTED",0]
["611E31200","FT","102\" CONDUIT, TYPE B","","","SPECIFY MATL WHEN WARRANTED",0]
["611E31400","FT","102\" CONDUIT, TYPE C","","","SPECIFY MATL WHEN WARRANTED",0]
["611E32000","FT","108\" CONDUIT, TYPE A","","","SPECIFY MATL WHEN WARRANTED",0]
["611E32001","FT","108\" CONDUIT, TYPE A, AS PER PLAN","","","SPECIFY MATL WHEN WARRANTED",0]
["611E32200","FT","108\" CONDUIT, TYPE B","","","SPECIFY MATL WHEN WARRANTED",0]
["611E32400","FT","108\" CONDUIT, TYPE C","","","SPECIFY MATL WHEN WARRANTED",0]
["611E33000","FT","114\" CONDUIT, TYPE A","","","SPECIFY MATL WHEN WARRANTED",0]
["611E33200","FT","114\" CONDUIT, TYPE B","","","SPECIFY MATL WHEN WARRANTED",0]
["611E33400","FT","114\" CONDUIT, TYPE C","","","SPECIFY MATL WHEN WARRANTED",0]
["611E34000","FT","120\" CONDUIT, TYPE A","","","SPECIFY MATL WHEN WARRANTED",0]
["611E34001","FT","120\" CONDUIT, TYPE A, AS PER PLAN","","","SPECIFY MATL WHEN WARRANTED",0]
["611E34200","FT","120\" CONDUIT, TYPE B","","","SPECIFY MATL WHEN WARRANTED",0]
["611E34400","FT","120\" CONDUIT, TYPE C","","","SPECIFY MATL WHEN WARRANTED",0]
["611E35000","FT","126\" CONDUIT, TYPE A","","","SPECIFY MATL WHEN WARRANTED",0]
["611E35001","FT","126\" CONDUIT, TYPE A, AS PER PLAN","","","SPECIFY MATL WHEN WARRANTED",0]
["611E35200","FT","126\" CONDUIT, TYPE B","","","SPECIFY MATL WHEN WARRANTED",0]
["611E35400","FT","126\" CONDUIT, TYPE C","","","SPECIFY MATL WHEN WARRANTED",0]
["611E36000","FT","132\" CONDUIT, TYPE A","","","SPECIFY MATL WHEN WARRANTED",0]
["611E36001","FT","132\" CONDUIT, TYPE A, AS PER PLAN","","","SPECIFY MATL WHEN WARRANTED",0]
["611E36200","FT","132\" CONDUIT, TYPE B","","","SPECIFY MATL WHEN WARRANTED",0]
["611E36400","FT","132\" CONDUIT, TYPE C","","","SPECIFY MATL WHEN WARRANTED",0]
["611E37000","FT","138\" CONDUIT, TYPE A","","","SPECIFY MATL WHEN WARRANTED",0]
["611E37001","FT","138\" CONDUIT, TYPE A, AS PER PLAN","","","SPECIFY MATL WHEN WARRANTED",0]
["611E37200","FT","138\" CONDUIT, TYPE B","","","SPECIFY MATL WHEN WARRANTED",0]
["611E37400","FT","138\" CONDUIT, TYPE C","","","SPECIFY MATL WHEN WARRANTED",0]
["611E38000","FT","144\" CONDUIT, TYPE A","","","SPECIFY MATL WHEN WARRANTED",0]
["611E38001","FT","144\" CONDUIT, TYPE A, AS PER PLAN","","","SPECIFY MATL WHEN WARRANTED",0]
["611E38200","FT","144\" CONDUIT, TYPE B","","","SPECIFY MATL WHEN WARRANTED",0]
["611E38400","FT","144\" CONDUIT, TYPE C","","","SPECIFY MATL WHEN WARRANTED",0]
["611E38500","FT","CONDUIT, TYPE A (LARGER THAN 144\")","","","SPECIFY MATL AND DIAMETER",1]
["611E52200","FT","14\" X 23\" CONDUIT, TYPE A, 706.04","","","",0]
["611E52202","FT","14\" X 23\" CONDUIT, TYPE B, 706.04","","","",0]
["611E52203","FT","14\" X 23\" CONDUIT, TYPE B, 706.04, AS PER PLAN","","","",0]
["611E52204","FT","14\" X 23\" CONDUIT, TYPE C, 706.04","","","",0]
["611E52206","FT","14\" X 23\" CONDUIT, TYPE D, 706.04","","","",0]
["611E52300","FT","19\" X 30\" CONDUIT, TYPE A, 706.04","","","",0]
["611E52302","FT","19\" X 30\" CONDUIT, TYPE B, 706.04","","","",0]
["611E52303","FT","19\" X 30\" CONDUIT, TYPE B, 706.04, AS PER PLAN","","","",0]
["611E52304","FT","19\" X 30\" CONDUIT, TYPE C, 706.04","","","",0]
["611E52305","FT","19\" X 30\" CONDUIT, TYPE C, 706.04, AS PER PLAN","","","",0]
["611E52306","FT","19\" X 30\" CONDUIT, TYPE D, 706.04","","","",0]
["611E52400","FT","22\" X 34\" CONDUIT, TYPE A, 706.04","","","",0]
["611E52402","FT","22\" X 34\" CONDUIT, TYPE B, 706.04","","","",0]
["611E52404","FT","22\" X 34\" CONDUIT, TYPE C, 706.04","","","",0]
["611E52406","FT","22\" X 34\" CONDUIT, TYPE D, 706.04","","","",0]
["611E52500","FT","24\" X 38\" CONDUIT, TYPE A, 706.04","","","",0]
["611E52501","FT","24\" X 38\" CONDUIT, TYPE A, 706.04, AS PER PLAN","","","",0]
["611E52502","FT","24\" X 38\" CONDUIT, TYPE B, 706.04","","","",0]
["611E52504","FT","24\" X 38\" CONDUIT, TYPE C, 706.04","","","",0]
["611E52506","FT","24\" X 38\" CONDUIT, TYPE D, 706.04","","","",0]
["611E52700","FT","29\" X 45\" CONDUIT, TYPE A, 706.04","","","",0]
["611E52702","FT","29\" X 45\" CONDUIT, TYPE B, 706.04","","","",0]
["611E52704","FT","29\" X 45\" CONDUIT, TYPE C, 706.04","","","",0]
["611E52705","FT","29\" X 45\" CONDUIT, TYPE C, 706.04, AS PER PLAN","","","",0]
["611E52706","FT","29\" X 45\" CONDUIT, TYPE D, 706.04","","","",0]
["611E52707","FT","29\" X 45\" CONDUIT, TYPE D, 706.04, AS PER PLAN","","","",0]
["611E52900","FT","34\" X 53\" CONDUIT, TYPE A, 706.04","","","",0]
["611E52901","FT","34\" X 53\" CONDUIT, TYPE A, 706.04, AS PER PLAN","","","",0]
["611E52902","FT","34\" X 53\" CONDUIT, TYPE B, 706.04","","","",0]
["611E52903","FT","34\" X 53\" CONDUIT, TYPE B, 706.04, AS PER PLAN","","","",0]
["611E52904","FT","34\" X 53\" CONDUIT, TYPE C, 706.04","","","",0]
["611E52906","FT","34\" X 53\" CONDUIT, TYPE D, 706.04","","","",0]
["611E53000","FT","38\" X 60\" CONDUIT, TYPE A, 706.04","","","",0]
["611E53001","FT","38\" X 60\" CONDUIT, TYPE A, 706.04, AS PER PLAN","","","",0]
["611E53002","FT","38\" X 60\" CONDUIT, TYPE B, 706.04","","","",0]
["611E53003","FT","38\" X 60\" CONDUIT, TYPE B, 706.04, AS PER PLAN","","","",0]
["611E53004","FT","38\" X 60\" CONDUIT, TYPE C, 706.04","","","",0]
["611E53006","FT","38\" X 60\" CONDUIT, TYPE D, 706.04","","","",0]
["611E53100","FT","43\" X 68\" CONDUIT, TYPE A, 706.04","","","",0]
["611E53101","FT","43\" X 68\" CONDUIT, TYPE A, 706.04, AS PER PLAN","","","",0]
["611E53102","FT","43\" X 68\" CONDUIT, TYPE B, 706.04","","","",0]
["611E53103","FT","43\" X 68\" CONDUIT, TYPE B, 706.04, AS PER PLAN","","","",0]
["611E53104","FT","43\" X 68\" CONDUIT, TYPE C, 706.04","","","",0]
["611E53106","FT","43\" X 68\" CONDUIT, TYPE D, 706.04","","","",0]
["611E53200","FT","48\" X 76\" CONDUIT, TYPE A, 706.04","","","",0]
["611E53201","FT","48\" X 76\" CONDUIT, TYPE A, 706.04, AS PER PLAN","","","",0]
["611E53210","FT","48\" X 76\" CONDUIT, TYPE B, 706.04","","","",0]
["611E53212","FT","48\" X 76\" CONDUIT, TYPE C, 706.04","","","",0]
["611E53214","FT","48\" X 76\" CONDUIT, TYPE D, 706.04","","","",0]
["611E53300","FT","53\" X 83\" CONDUIT, TYPE A, 706.04","","","",0]
["611E53301","FT","53\" X 83\" CONDUIT, TYPE A, 706.04, AS PER PLAN","","","",0]
["611E53306","FT","53\" X 83\" CONDUIT, TYPE B, 706.04","","","",0]
["611E53310","FT","53\" X 83\" CONDUIT, TYPE C, 706.04","","","",0]
["611E53311","FT","53\" X 83\" CONDUIT, TYPE C, 706.04, AS PER PLAN","","","",0]
["611E53400","FT","58\" X 91\" CONDUIT, TYPE A, 706.04","","","",0]
["611E53401","FT","58\" X 91\" CONDUIT, TYPE A, 706.04, AS PER PLAN","","","",0]
["611E53402","FT","58\" X 91\" CONDUIT, TYPE B, 706.04","","","",0]
["611E53404","FT","58\" X 91\" CONDUIT, TYPE C, 706.04","","","",0]
["611E53406","FT","58\" X 91\" CONDUIT, TYPE D, 706.04","","","",0]
["611E53500","FT","63\" X 98\" CONDUIT, TYPE A, 706.04","","","",0]
["611E53501","FT","63\" X 98\" CONDUIT, TYPE A, 706.04, AS PER PLAN","","","",0]
["611E53510","FT","63\" X 98\" CONDUIT, TYPE B, 706.04","","","",0]
["611E53511","FT","63\" X 98\" CONDUIT, TYPE B, 706.04, AS PER PLAN","","","",0]
["611E53514","FT","63\" X 98\" CONDUIT, TYPE C, 706.04","","","",0]
["611E53516","FT","63\" X 98\" CONDUIT, TYPE D, 706.04","","","",0]
["611E53600","FT","68\" X 106\" CONDUIT, TYPE A, 706.04","","","",0]
["611E53601","FT","68\" X 106\" CONDUIT, TYPE A, 706.04, AS PER PLAN","","","",0]
["611E53602","FT","68\" X 106\" CONDUIT, TYPE B, 706.04","","","",0]
["611E53604","FT","68\" X 106\" CONDUIT, TYPE C, 706.04","","","",0]
["611E53606","FT","68\" X 106\" CONDUIT, TYPE D, 706.04","","","",0]
["611E53700","FT","72\" X 113\" CONDUIT, TYPE A, 706.04","","","",0]
["611E53704","FT","72\" X 113\" CONDUIT, TYPE B, 706.04","","","",0]
["611E53706","FT","72\" X 113\" CONDUIT, TYPE C, 706.04","","","",0]
["611E53800","FT","77\" X 121\" CONDUIT, TYPE A, 706.04","","","",0]
["611E53802","FT","77\" X 121\" CONDUIT, TYPE B, 706.04","","","",0]
["611E53803","FT","77\" X 121\" CONDUIT, TYPE B, 706.04, AS PER PLAN","","","",0]
["611E53804","FT","77\" X 121\" CONDUIT, TYPE C, 706.04","","","",0]
["611E53900","FT","82\" X 128\" CONDUIT, TYPE A, 706.04","","","",0]
["611E53901","FT","82\" X 128\" CONDUIT, TYPE A, 706.04, AS PER PLAN","","","",0]
["611E54000","FT","87\" X 136\" CONDUIT, TYPE A, 706.04","","","",0]
["611E54100","FT","92\" X 143\" CONDUIT, TYPE A, 706.04","","","",0]
["611E54200","FT","97\" X 151\" CONDUIT, TYPE A, 706.04","","","",0]
["611E54300","FT","106\" X 166\" CONDUIT, TYPE A, 706.04","","","",0]
["611E54400","FT","116\" X 180\" CONDUIT, TYPE A, 706.04","","","",0]
["611E56900","FT","17\" X 13\" CONDUIT, TYPE A","","","",0]
["611E57000","FT","17\" X 13\" CONDUIT, TYPE D","","","",0]
["611E57001","FT","17\" X 13\" CONDUIT, TYPE D, AS PER PLAN","","","",0]
["611E57100","FT","21\" X 15\" CONDUIT, TYPE A","","","",0]
["611E57200","FT","24\" X 18\" CONDUIT, TYPE A","","","",0]
["611E57300","FT","28\" X 20\" CONDUIT, TYPE A","","","",0]
["611E57308","FT","28\" X 20\" CONDUIT, TYPE D","","","",0]
["611E57400","FT","35\" X 24\" CONDUIT, TYPE A","","","",0]
["611E57500","FT","42\" X 29\" CONDUIT, TYPE A","","","",0]
["611E57510","FT","42\" X 29\" CONDUIT, TYPE B","","","",0]
["611E57520","FT","42\" X 29\" CONDUIT, TYPE D","","","",0]
["611E57600","FT","49\" X 33\" CONDUIT, TYPE A","","","",0]
["611E57700","FT","57\" X 38\" CONDUIT, TYPE A","","","",0]
["611E57800","FT","64\" X 43\" CONDUIT, TYPE A","","","",0]
["611E57900","FT","71\" X 47\" CONDUIT, TYPE A","","","",0]
["611E58000","FT","77\" X 52\" CONDUIT, TYPE A","","","",0]
["611E58100","FT","83\" X 57\" CONDUIT, TYPE A","","","",0]
["611E58200","FT","40\" X 31\" CONDUIT, TYPE A","","","",0]
["611E58300","FT","46\" X 36\" CONDUIT, TYPE A","","","",0]
["611E58400","FT","53\" X 41\" CONDUIT, TYPE A","","","",0]
["611E58500","FT","60\" X 46\" CONDUIT, TYPE A","","","",0]
["611E58600","FT","66\" X 51\" CONDUIT, TYPE A","","","",0]
["611E58700","FT","73\" X 55\" CONDUIT, TYPE A","","","",0]
["611E58800","FT","81\" X 59\" CONDUIT, TYPE A","","","",0]
["611E58900","FT","87\" X 63\" CONDUIT, TYPE A","","","",0]
["611E58901","FT","87\" X 63\" CONDUIT, TYPE A, AS PER PLAN","","","",0]
["611E59000","FT","95\" X 67\" CONDUIT, TYPE A","","","",0]
["611E59010","FT","95\" X 67\" CONDUIT, TYPE B","","","",0]
["611E59100","FT","103\" X 71\" CONDUIT, TYPE A","","","",0]
["611E59101","FT","103\" X 71\" CONDUIT, TYPE A, AS PER PLAN","","","",0]
["611E59200","FT","112\" X 75\" CONDUIT, TYPE A","","","",0]
["611E59300","FT","117\" X 79\" CONDUIT, TYPE A","","","",0]
["611E59400","FT","128\" X 83\" CONDUIT, TYPE A","","","",0]
["611E59401","FT","128\" X 83\" CONDUIT, TYPE A, AS PER PLAN","","","",0]
["611E59500","FT","137\" X 87\" CONDUIT, TYPE A","","","",0]
["611E59501","FT","137\" X 87\" CONDUIT, TYPE A, AS PER PLAN","","","",0]
["611E59600","FT","142\" X 91\" CONDUIT, TYPE A","","","",0]
["611E60000","FT","CONDUIT, TYPE B FOR UNDERGROUND DETENTION","","","SPECIFY CONDUIT DIAMETER",1]
["611E60001","FT","CONDUIT, TYPE B FOR UNDERGROUND DETENTION, AS PER PLAN","","","SPECIFY CONDUIT DIAMETER",1]
["611E60100","FT","CONDUIT, TYPE C FOR UNDERGROUND DETENTION","","","SPECIFY CONDUIT DIAMETER",1]
["611E60101","FT","CONDUIT, TYPE C FOR UNDERGROUND DETENTION, AS PER PLAN","","","SPECIFY CONDUIT DIAMETER",1]
["611E70000","FT","CONDUIT, TYPE A, PRECAST REINFORCED CONCRETE THREE SIDED FLAT TOPPED CULVERT","","","SPECIFY SIZE (SPAN X RISE)",1]
["611E70001","FT","CONDUIT, TYPE A, PRECAST REINFORCED CONCRETE THREE SIDED FLAT TOPPED CULVERT, AS PER PLAN","","","SPECIFY SIZE (SPAN X RISE)",1]
["611E71000","FT","CONDUIT, TYPE A, PRECAST REINFORCED CONCRETE ARCH SECTIONS","","","SPECIFY SIZE (SPAN X RISE)",1]
["611E71001","FT","CONDUIT, TYPE A, PRECAST REINFORCED CONCRETE ARCH SECTIONS, AS PER PLAN","","","SPECIFY SIZE (SPAN X RISE)",1]
["611E72500","FT","TYPE A, PRECAST REINFORCED CONCRETE ROUND SECTIONS","","","SPECIFY SIZE (SPAN X RISE)",1]
["611E72501","FT","TYPE A, PRECAST REINFORCED CONCRETE ROUND SECTIONS, AS PER PLAN","","","SPECIFY SIZE (SPAN X RISE)",1]
["611E73000","FT","CONDUIT, TYPE A, CORRUGATED STEEL BOX CULVERT","","","SPECIFY MIN/MAX COV; SPANXRISE",1]
["611E73001","FT","CONDUIT, TYPE A, CORRUGATED STEEL BOX CULVERT, AS PER PLAN","","","SPECIFY MIN/MAX COV; SPANXRISE",1]
["611E73500","FT","CONDUIT, TYPE A, CORRUGATED ALUMINUM BOX CULVERT","","","SPECIFY MIN/MAX COV; SPANXRISE",1]
["611E73501","FT","CONDUIT, TYPE A, CORRUGATED ALUMINUM BOX CULVERT, AS PER PLAN","","","SPECIFY MIN/MAX COV; SPANXRISE",1]
["611E73600","FT","CONDUIT, TYPE A, STRUCTURAL PLATE CORRUGATED STEEL PIPE ARCH","","","",1]
["611E94700","FT","6' X 4' CONDUIT, TYPE A, 706.05","","","",0]
["611E94701","FT","6' X 4' CONDUIT, TYPE A, 706.05, AS PER PLAN","","","",0]
["611E94710","FT","6' X 5' CONDUIT, TYPE A, 706.05","","","",0]
["611E94711","FT","6' X 5' CONDUIT, TYPE A, 706.05, AS PER PLAN","","","",0]
["611E94720","FT","6' X 6' CONDUIT, TYPE A, 706.05","","","",0]
["611E94721","FT","6' X 6' CONDUIT, TYPE A, 706.05, AS PER PLAN","","","",0]
["611E94726","FT","7' X 4' CONDUIT, TYPE A, 706.05","","","",0]
["611E94727","FT","7' X 4' CONDUIT, TYPE A, 706.05, AS PER PLAN","","","",0]
["611E94728","FT","7' X 5' CONDUIT, TYPE A, 706.05","","","",0]
["611E94729","FT","7' X 5' CONDUIT, TYPE A, 706.05, AS PER PLAN","","","",0]
["611E94730","FT","7' X 6' CONDUIT, TYPE A, 706.05","","","",0]
["611E94731","FT","7' X 6' CONDUIT, TYPE A, 706.05, AS PER PLAN","","","",0]
["611E94732","FT","7' X 7' CONDUIT, TYPE A, 706.05","","","",0]
["611E94733","FT","7' X 7' CONDUIT, TYPE A, 706.05, AS PER PLAN","","","",0]
["611E94800","FT","8' X 4' CONDUIT, TYPE A, 706.05","","","",0]
["611E94801","FT","8' X 4' CONDUIT, TYPE A, 706.05, AS PER PLAN","","","",0]
["611E94810","FT","8' X 4' CONDUIT, TYPE B, 706.05","","","",0]
["611E94900","FT","8' X 5' CONDUIT, TYPE A, 706.05","","","",0]
["611E94901","FT","8' X 5' CONDUIT, TYPE A, 706.05, AS PER PLAN","","","",0]
["611E94910","FT","8' X 6' CONDUIT, TYPE A, 706.05","","","",0]
["611E94911","FT","8' X 6' CONDUIT, TYPE A, 706.05, AS PER PLAN","","","",0]
["611E94920","FT","8' X 7' CONDUIT, TYPE A, 706.05","","","",0]
["611E94921","FT","8' X 7' CONDUIT, TYPE A, 706.05, AS PER PLAN","","","",0]
["611E94930","FT","8' X 8' CONDUIT, TYPE A, 706.05","","","",0]
["611E94931","FT","8' X 8' CONDUIT, TYPE A, 706.05, AS PER PLAN","","","",0]
["611E94936","FT","9' X 4' CONDUIT, TYPE A, 706.05","","","",0]
["611E94937","FT","9' X 4' CONDUIT, TYPE A, 706.05, AS PER PLAN","","","",0]
["611E94938","FT","9' X 5' CONDUIT, TYPE A, 706.05","","","",0]
["611E94939","FT","9' X 5' CONDUIT, TYPE A, 706.05, AS PER PLAN","","","",0]
["611E94940","FT","9' X 6' CONDUIT, TYPE A, 706.05","","","",0]
["611E94941","FT","9' X 6' CONDUIT, TYPE A, 706.05, AS PER PLAN","","","",0]
["611E94942","FT","9' X 7' CONDUIT, TYPE A, 706.05","","","",0]
["611E94943","FT","9' X 7' CONDUIT, TYPE A, 706.05, AS PER PLAN","","","",0]
["611E94944","FT","9' X 8' CONDUIT, TYPE A, 706.05","","","",0]
["611E94945","FT","9' X 8' CONDUIT, TYPE A, 706.05, AS PER PLAN","","","",0]
["611E94946","FT","9' X 9' CONDUIT, TYPE A, 706.05","","","",0]
["611E94947","FT","9' X 9' CONDUIT, TYPE A, 706.05, AS PER PLAN","","","",0]
["611E94980","FT","10' X 4' CONDUIT, TYPE A, 706.05","","","",0]
["611E94981","FT","10' X 4' CONDUIT, TYPE A, 706.05, AS PER PLAN","","","",0]
["611E95000","FT","10' X 5' CONDUIT, TYPE A, 706.05","","","",0]
["611E95001","FT","10' X 5' CONDUIT, TYPE A, 706.05, AS PER PLAN","","","",0]
["611E95200","FT","10' X 6' CONDUIT, TYPE A, 706.05","","","",0]
["611E95201","FT","10' X 6' CONDUIT, TYPE A, 706.05, AS PER PLAN","","","",0]
["611E95400","FT","10' X 7' CONDUIT, TYPE A, 706.05","","","",0]
["611E95401","FT","10' X 7' CONDUIT, TYPE A, 706.05, AS PER PLAN","","","",0]
["611E95500","FT","10' X 8' CONDUIT, TYPE A, 706.05","","","",0]
["611E95501","FT","10' X 8' CONDUIT, TYPE A, 706.05, AS PER PLAN","","","",0]
["611E95520","FT","10' X 9' CONDUIT, TYPE A, 706.05","","","",0]
["611E95521","FT","10' X 9' CONDUIT, TYPE A, 706.05, AS PER PLAN","","","",0]
["611E95524","FT","10' X 10' CONDUIT, TYPE A, 706.05","","","",0]
["611E95525","FT","10' X 10' CONDUIT, TYPE A, 706.05, AS PER PLAN","","","",0]
["611E95540","FT","11' X 4' CONDUIT, TYPE A, 706.05","","","",0]
["611E95541","FT","11' X 4' CONDUIT, TYPE A, 706.05, AS PER PLAN","","","",0]
["611E95542","FT","11' X 5' CONDUIT, TYPE A, 706.05","","","",0]
["611E95543","FT","11' X 5' CONDUIT, TYPE A, 706.05, AS PER PLAN","","","",0]
["611E95544","FT","11' X 6' CONDUIT, TYPE A, 706.05","","","",0]
["611E95545","FT","11' X 6' CONDUIT, TYPE A, 706.05, AS PER PLAN","","","",0]
["611E95546","FT","11' X 7' CONDUIT, TYPE A, 706.05","","","",0]
["611E95547","FT","11' X 7' CONDUIT, TYPE A, 706.05, AS PER PLAN","","","",0]
["611E95548","FT","11' X 8' CONDUIT, TYPE A, 706.05","","","",0]
["611E95549","FT","11' X 8' CONDUIT, TYPE A, 706.05, AS PER PLAN","","","",0]
["611E95550","FT","11' X 9' CONDUIT, TYPE A, 706.05","","","",0]
["611E95551","FT","11' X 9' CONDUIT, TYPE A, 706.05, AS PER PLAN","","","",0]
["611E95552","FT","11' X 10' CONDUIT, TYPE A, 706.05","","","",0]
["611E95553","FT","11' X 10' CONDUIT, TYPE A, 706.05, AS PER PLAN","","","",0]
["611E95554","FT","11' X 11' CONDUIT, TYPE A, 706.05","","","",0]
["611E95555","FT","11' X 11' CONDUIT, TYPE A, 706.05, AS PER PLAN","","","",0]
["611E95600","FT","12' X 4' CONDUIT, TYPE A, 706.05","","","",0]
["611E95601","FT","12' X 4' CONDUIT, TYPE A, 706.05, AS PER PLAN","","","",0]
["611E95700","FT","12' X 5' CONDUIT, TYPE A, 706.05","","","",0]
["611E95701","FT","12' X 5' CONDUIT, TYPE A, 706.05, AS PER PLAN","","","",0]
["611E95800","FT","12' X 6' CONDUIT, TYPE A, 706.05","","","",0]
["611E95801","FT","12' X 6' CONDUIT, TYPE A, 706.05, AS PER PLAN","","","",0]
["611E95900","FT","12' X 7' CONDUIT, TYPE A, 706.05","","","",0]
["611E95901","FT","12' X 7' CONDUIT, TYPE A, 706.05, AS PER PLAN","","","",0]
["611E96000","FT","12' X 8' CONDUIT, TYPE A, 706.05","","","",0]
["611E96001","FT","12' X 8' CONDUIT, TYPE A, 706.05, AS PER PLAN","","","",0]
["611E96010","FT","12' X 9' CONDUIT, TYPE A, 706.05","","","",0]
["611E96011","FT","12' X 9' CONDUIT, TYPE A, 706.05, AS PER PLAN","","","",0]
["611E96200","FT","12' X 10' CONDUIT, TYPE A, 706.05","","","",0]
["611E96201","FT","12' X 10' CONDUIT, TYPE A, 706.05, AS PER PLAN","","","",0]
["611E96210","FT","12' X 11' CONDUIT, TYPE A, 706.05","","","",0]
["611E96211","FT","12' X 11' CONDUIT, TYPE A, 706.05, AS PER PLAN","","","",0]
["611E96220","FT","12' X 12' CONDUIT, TYPE A, 706.05","","","",0]
["611E96221","FT","12' X 12' CONDUIT, TYPE A, 706.05, AS PER PLAN","","","",0]
["611E96300","FT","14' X 4' CONDUIT, TYPE A, 706.05","","","",0]
["611E96301","FT","14' X 4' CONDUIT, TYPE A, 706.05, AS PER PLAN","","","",0]
["611E96310","FT","14' X 5' CONDUIT, TYPE A, 706.05","","","",0]
["611E96311","FT","14' X 5' CONDUIT, TYPE A, 706.05, AS PER PLAN","","","",0]
["611E96314","FT","14' X 6' CONDUIT, TYPE A, 706.05","","","",0]
["611E96315","FT","14' X 6' CONDUIT, TYPE A, 706.05, AS PER PLAN","","","",0]
["611E96320","FT","14' X 7' CONDUIT, TYPE A, 706.05","","","",0]
["611E96321","FT","14' X 7' CONDUIT, TYPE A, 706.05, AS PER PLAN","","","",0]
["611E96330","FT","14' X 8' CONDUIT, TYPE A, 706.05","","","",0]
["611E96331","FT","14' X 8' CONDUIT, TYPE A, 706.05, AS PER PLAN","","","",0]
["611E96334","FT","14' X 9' CONDUIT, TYPE A, 706.05","","","",0]
["611E96335","FT","14' X 9' CONDUIT, TYPE A, 706.05, AS PER PLAN","","","",0]
["611E96338","FT","14' X 10' CONDUIT, TYPE A, 706.05","","","",0]
["611E96339","FT","14' X 10' CONDUIT, TYPE A, 706.05, AS PER PLAN","","","",0]
["611E96390","FT","16' X 4' CONDUIT, TYPE A, 706.05","","","",0]
["611E96391","FT","16' X 4' CONDUIT, TYPE A, 706.05, AS PER PLAN","","","",0]
["611E96400","FT","16' X 5' CONDUIT, TYPE A, 706.05","","","",0]
["611E96401","FT","16' X 5' CONDUIT, TYPE A, 706.05, AS PER PLAN","","","",0]
["611E96440","FT","16' X 6' CONDUIT, TYPE A, 706.05","","","",0]
["611E96441","FT","16' X 6' CONDUIT, TYPE A, 706.05, AS PER PLAN","","","",0]
["611E96448","FT","16' X 7' CONDUIT, TYPE A, 706.05","","","",0]
["611E96449","FT","16' X 7' CONDUIT, TYPE A, 706.05, AS PER PLAN","","","",0]
["611E96450","FT","16' X 8' CONDUIT, TYPE A, 706.05","","","",0]
["611E96451","FT","16' X 8' CONDUIT, TYPE A, 706.05, AS PER PLAN","","","",0]
["611E96454","FT","16' X 9' CONDUIT, TYPE A, 706.05","","","",0]
["611E96455","FT","16' X 9' CONDUIT, TYPE A, 706.05, AS PER PLAN","","","",0]
["611E96456","FT","16' X 10' CONDUIT, TYPE A, 706.05","","","",0]
["611E96457","FT","16' X 10' CONDUIT, TYPE A, 706.05, AS PER PLAN","","","",0]
["611E96460","FT","20' X 10' CONDUIT, TYPE A, 706.05","","","",0]
["611E96461","FT","20' X 10' CONDUIT, TYPE A, 706.05, AS PER PLAN","","","",0]
["611E96470","FT","18' X 7' CONDUIT, TYPE A, 706.05","","","",0]
["611E96471","FT","18' X 7' CONDUIT, TYPE A, 706.05, AS PER PLAN","","","",0]
["611E96474","FT","18' X 4' CONDUIT, TYPE A, 706.05","","","",0]
["611E96475","FT","18' X 4' CONDUIT, TYPE A, 706.05, AS PER PLAN","","","",0]
["611E96476","FT","18' X 5' CONDUIT, TYPE A, 706.05","","","",0]
["611E96477","FT","18' X 5' CONDUIT, TYPE A, 706.05, AS PER PLAN","","","",0]
["611E96478","FT","18' X 6' CONDUIT, TYPE A, 706.05","","","",0]
["611E96479","FT","18' X 6' CONDUIT, TYPE A, 706.05, AS PER PLAN","","","",0]
["611E96480","FT","18' X 8' CONDUIT, TYPE A, 706.05","","","",0]
["611E96481","FT","18' X 8' CONDUIT, TYPE A, 706.05, AS PER PLAN","","","",0]
["611E96482","FT","18' X 9' CONDUIT, TYPE A, 706.05","","","",0]
["611E96483","FT","18' X 9' CONDUIT, TYPE A, 706.05, AS PER PLAN","","","",0]
["611E96484","FT","18' X 10' CONDUIT, TYPE A, 706.05","","","",0]
["611E96485","FT","18' X 10' CONDUIT, TYPE A, 706.05, AS PER PLAN","","","",0]
["611E96486","FT","20' X 7' CONDUIT, TYPE A, 706.05","","","",0]
["611E96487","FT","20' X 7' CONDUIT, TYPE A, 706.05, AS PER PLAN","","","",0]
["611E96488","FT","20' X 5' CONDUIT, TYPE A, 706.05","","","",0]
["611E96489","FT","20' X 5' CONDUIT, TYPE A, 706.05, AS PER PLAN","","","",0]
["611E96490","FT","20' X 9' CONDUIT, TYPE A, 706.05","","","",0]
["611E96491","FT","20' X 9' CONDUIT, TYPE A, 706.05, AS PER PLAN","","","",0]
["611E96492","FT","20' X 4' CONDUIT, TYPE A, 706.05","","","",0]
["611E96493","FT","20' X 4' CONDUIT, TYPE A, 706.05, AS PER PLAN","","","",0]
["611E96496","FT","20' X 6' CONDUIT, TYPE A, 706.05","","","",0]
["611E96497","FT","20' X 6' CONDUIT, TYPE A, 706.05, AS PER PLAN","","","",0]
["611E96498","FT","20' X 8' CONDUIT, TYPE A, 706.05","","","",0]
["611E96499","FT","20' X 8' CONDUIT, TYPE A, 706.05, AS PER PLAN","","","",0]
["611E96500","FT","CONDUIT RECONSTRUCTED","","","SPECIFY TYPE AND SIZE",1]
["611E96550","FT","FIELD PAVING OF EXISTING PIPE","","","SPECIFY TYPE AND SIZE",1]
["611E96551","FT","FIELD PAVING OF EXISTING PIPE, AS PER PLAN","","","SPECIFY TYPE AND SIZE",1]
["611E96560","FT","CONDUIT, FIELD PAVING OF PIPE","","","SPECIFY TYPE AND SIZE",1]
["611E96600","FT","CONDUIT, BORED OR JACKED","","","SPECIFY TYPE AND SIZE",1]
["611E96601","FT","CONDUIT, BORED OR JACKED, AS PER PLAN","","","SPECIFY TYPE AND SIZE",1]
["611E96650","CY","SPECIAL - GROUTING VOIDS AROUND CORRUGATED METAL PIPES","","","",0]
["611E97000","FT","SLOTTED DRAIN, TYPE 1","","","SPECIFY SIZE",1]
["611E97001","FT","SLOTTED DRAIN, TYPE 1, AS PER PLAN","","","SPECIFY SIZE",1]
["611E97010","FT","SLOTTED DRAIN, TYPE 2","","","SPECIFY SIZE",1]
["611E97011","FT","SLOTTED DRAIN, TYPE 2, AS PER PLAN","","","SPECIFY SIZE",1]
["611E97100","LS","SPECIAL - DEFELCTION TESTING","","","",0]
["611E97200","EACH","CONDUIT, MISC.:","","","ADD SUPPLEMENTAL DESCRIPTION",1]
["611E97300","LS","CONDUIT, MISC.:","","","ADD SUPPLEMENTAL DESCRIPTION",1]
["611E97400","FT","CONDUIT, MISC.:","","","ADD SUPPLEMENTAL DESCRIPTION",1]
["611E97500","SY","CONDUIT, MISC.:","","","ADD SUPPLEMENTAL DESCRIPTION",1]
["611E97600","CY","CONDUIT, MISC.:","","","ADD SUPPLEMENTAL DESCRIPTION",1]
["611E97700","SF","CONDUIT, MISC.:","","","ADD SUPPLEMENTAL DESCRIPTION",1]
["611E97800","LS","SPECIAL - DRAINAGE","","","DESIGN BUILD PROJECTS ONLY",0]
["611E97910","LS","SPECIAL - SANITARY SEWER","","","DESIGN BUILD PROJECTS ONLY",0]
["611E98010","EACH","CONCRETE BARRIER (TYPE D) INLET","","","",0]
["611E98011","EACH","CONCRETE BARRIER (TYPE D) INLET, AS PER PLAN","","","",0]
["611E98150","EACH","CATCH BASIN, NO. 3","","","",0]
["611E98151","EACH","CATCH BASIN, NO. 3, AS PER PLAN","","","",0]
["611E98160","EACH","CATCH BASIN, NO. 3 WITH DIAGONAL GRATE","","","",0]
["611E98161","EACH","CATCH BASIN, NO. 3 WITH DIAGONAL GRATE, AS PER PLAN","","","",0]
["611E98180","EACH","CATCH BASIN, NO. 3A","","","",0]
["611E98181","EACH","CATCH BASIN, NO. 3A, AS PER PLAN","","","",0]
["611E98190","EACH","CATCH BASIN, NO. 3A WITH DIAGONAL GRATE","","","",0]
["611E98191","EACH","CATCH BASIN, NO. 3A WITH DIAGONAL GRATE, AS PER PLAN","","","",0]
["611E98230","EACH","CATCH BASIN, NO. 4","","","",0]
["611E98231","EACH","CATCH BASIN, NO. 4, AS PER PLAN","","","",0]
["611E98240","EACH","CATCH BASIN, NO. 4 WITH E GRATE","","","",0]
["611E98241","EACH","CATCH BASIN, NO. 4 WITH E GRATE, AS PER PLAN","","","",0]
["611E98260","EACH","CATCH BASIN, NO. 4 WITHOUT APRON","","","",0]
["611E98261","EACH","CATCH BASIN, NO. 4 WITHOUT APRON, AS PER PLAN","","","",0]
["611E98270","EACH","CATCH BASIN, NO. 4A","","","",0]
["611E98271","EACH","CATCH BASIN, NO. 4A, AS PER PLAN","","","",0]
["611E98280","EACH","CATCH BASIN, NO. 4A WITH E GRATE","","","",0]
["611E98281","EACH","CATCH BASIN, NO. 4A WITH E GRATE, AS PER PLAN","","","",0]
["611E98300","EACH","CATCH BASIN, NO. 5","","","",0]
["611E98301","EACH","CATCH BASIN, NO. 5, AS PER PLAN","","","",0]
["611E98310","EACH","CATCH BASIN, NO. 5 WITH B GRATE","","","",0]
["611E98311","EACH","CATCH BASIN, NO. 5 WITH B GRATE, AS PER PLAN","","","",0]
["611E98330","EACH","CATCH BASIN, NO. 5 WITHOUT APRON","","","",0]
["611E98331","EACH","CATCH BASIN, NO. 5 WITHOUT APRON, AS PER PLAN","","","",0]
["611E98340","EACH","CATCH BASIN, NO. 5A WITHOUT APRON WITH B GRATE","","","",0]
["611E98341","EACH","CATCH BASIN, NO. 5A","","","",0]
["611E98350","EACH","CATCH BASIN, NO. 5A, AS PER PLAN","","","",0]
["611E98351","EACH","CATCH BASIN, NO. 5A WITH B GRATE","","","",0]
["611E98354","EACH","CATCH BASIN, NO. 5A WITH B GRATE, AS PER PLAN","","","",0]
["611E98364","EACH","CATCH BASIN, NO. 5A WITHOUT APRON","","","",0]
["611E98370","EACH","CATCH BASIN, NO. 6","","","",0]
["611E98371","EACH","CATCH BASIN, NO. 6, AS PER PLAN","","","",0]
["611E98390","EACH","CATCH BASIN, NO. 7","","","",0]
["611E98391","EACH","CATCH BASIN, NO. 7, AS PER PLAN","","","",0]
["611E98410","EACH","CATCH BASIN, NO. 8","","","",0]
["611E98411","EACH","CATCH BASIN, NO. 8, AS PER PLAN","","","",0]
["611E98430","EACH","CATCH BASIN, NO. 8 WITHOUT APRON","","","",0]
["611E98434","EACH","CATCH BASIN, NO. 8A","","","",0]
["611E98435","EACH","CATCH BASIN, NO. 8A, AS PER PLAN","","","",0]
["611E98444","EACH","CATCH BASIN, NO. 8A WITHOUT APRON","","","",0]
["611E98450","EACH","CATCH BASIN, NO. 2-2A","","","",0]
["611E98451","EACH","CATCH BASIN, NO. 2-2A, AS PER PLAN","","","",0]
["611E98470","EACH","CATCH BASIN, NO. 2-2B","","","",0]
["611E98471","EACH","CATCH BASIN, NO. 2-2B, AS PER PLAN","","","",0]
["611E98480","EACH","CATCH BASIN, NO. 2-2B WITH BICYCLE SAFE GRATE","","","",0]
["611E98500","EACH","CATCH BASIN, NO. 2-2B WITH APRON","","","",0]
["611E98504","EACH","CATCH BASIN, NO. 2-2C","","","",0]
["611E98505","EACH","CATCH BASIN, NO. 2-2C, AS PER PLAN","","","",0]
["611E98510","EACH","CATCH BASIN, NO. 2-3","","","",0]
["611E98511","EACH","CATCH BASIN, NO. 2-3, AS PER PLAN","","","",0]
["611E98520","EACH","CATCH BASIN, NO. 2-3 WITH BICYCLE SAFE GRATE","","","",0]
["611E98540","EACH","CATCH BASIN, NO. 2-4","","","",0]
["611E98541","EACH","CATCH BASIN, NO. 2-4, AS PER PLAN","","","",0]
["611E98550","EACH","CATCH BASIN, NO. 2-4 WITH BICYCLE SAFE GRATE","","","",0]
["611E98570","EACH","CATCH BASIN, NO. 2-5","","","",0]
["611E98571","EACH","CATCH BASIN, NO. 2-5, AS PER PLAN","","","",0]
["611E98580","EACH","CATCH BASIN, NO. 2-5 WITH BICYCLE SAFE GRATE","","","",0]
["611E98600","EACH","CATCH BASIN, NO. 2-6","","","",0]
["611E98601","EACH","CATCH BASIN, NO. 2-6, AS PER PLAN","","","",0]
["611E98610","EACH","CATCH BASIN, NO. 2-6 WITH BICYCLE SAFE GRATE","","","",0]
["611E98630","EACH","CATCH BASIN ADJUSTED TO GRADE","","","",0]
["611E98631","EACH","CATCH BASIN ADJUSTED TO GRADE, AS PER PLAN","","","",0]
["611E98634","EACH","CATCH BASIN RECONSTRUCTED TO GRADE","","","",0]
["611E98635","EACH","CATCH BASIN RECONSTRUCTED TO GRADE, AS PER PLAN","","","",0]
["611E98640","EACH","CATCH BASIN FRAME","","","",0]
["611E98644","EACH","CATCH BASIN GRATE","","","",0]
["611E98645","EACH","CATCH BASIN GRATE, AS PER PLAN","","","",0]
["611E98650","EACH","CATCH BASIN FRAME AND GRATE","","","",0]
["611E98651","EACH","CATCH BASIN FRAME AND GRATE, AS PER PLAN","","","",0]
["611E98690","EACH","CATCH BASIN, MISC.:","","","ADD SUPPLEMENTAL DESCRIPTION",1]
["611E98700","EACH","INLET, SIDE DITCH","","","",0]
["611E98701","EACH","INLET, SIDE DITCH, AS PER PLAN","","","",0]
["611E98710","EACH","INLET, NO. 2-6","","","",0]
["611E98711","EACH","INLET, NO. 2-6, AS PER PLAN","","","",0]
["611E98720","EACH","INLET, NO. 2-8","","","",0]
["611E98721","EACH","INLET, NO. 2-8, AS PER PLAN","","","",0]
["611E98730","EACH","INLET, NO. 2-10","","","",0]
["611E98731","EACH","INLET, NO. 2-10, AS PER PLAN","","","",0]
["611E98740","EACH","INLET, NO. 2-12","","","",0]
["611E98741","EACH","INLET, NO. 2-12, AS PER PLAN","","","",0]
["611E98750","EACH","INLET, NO. 2-14","","","",0]
["611E98751","EACH","INLET, NO. 2-14, AS PER PLAN","","","",0]
["611E98760","EACH","INLET, NO. 2-16","","","",0]
["611E98770","EACH","INLET, NO. 2-18","","","",0]
["611E98771","EACH","INLET, NO. 2-18, AS PER PLAN","","","",0]
["611E98780","EACH","INLET, NO. 2-20","","","",0]
["611E98781","EACH","INLET, NO. 2-20, AS PER PLAN","","","",0]
["611E98790","EACH","INLET, NO. 3A","","","",0]
["611E98791","EACH","INLET, NO. 3A, AS PER PLAN","","","",0]
["611E98794","EACH","INLET, NO. 3A50","","","",0]
["611E98795","EACH","INLET, NO. 3A50, AS PER PLAN","","","",0]
["611E98800","EACH","INLET, NO. 3B","","","",0]
["611E98801","EACH","INLET, NO. 3B, AS PER PLAN","","","",0]
["611E98804","EACH","INLET, NO. 3B50","","","",0]
["611E98805","EACH","INLET, NO. 3B50, AS PER PLAN","","","",0]
["611E98810","EACH","INLET, NO. 3C","","","",0]
["611E98811","EACH","INLET, NO. 3C, AS PER PLAN","","","",0]
["611E98814","EACH","INLET, NO. 3C50","","","",0]
["611E98815","EACH","INLET, NO. 3C50, AS PER PLAN","","","",0]
["611E98820","EACH","INLET, NO. 3D","","","",0]
["611E98821","EACH","INLET, NO. 3D, AS PER PLAN","","","",0]
["611E98824","EACH","INLET, NO. 3D50","","","",0]
["611E98825","EACH","INLET, NO. 3D50, AS PER PLAN","","","",0]
["611E98830","EACH","INLET, NO. 3E","","","",0]
["611E98840","EACH","INLET, NO. 2-A-6","","","",0]
["611E98841","EACH","INLET, NO. 2-A-6, AS PER PLAN","","","",0]
["611E98850","EACH","INLET, NO. 2-A-8","","","",0]
["611E98851","EACH","INLET, NO. 2-A-8, AS PER PLAN","","","",0]
["611E98860","EACH","INLET, NO. 2-A-10","","","",0]
["611E98861","EACH","INLET, NO. 2-A-10, AS PER PLAN","","","",0]
["611E98870","EACH","INLET, NO. 2-A-12","","","",0]
["611E98871","EACH","INLET, NO. 2-A-12, AS PER PLAN","","","",0]
["611E98880","EACH","INLET, NO. 2-A-14","","","",0]
["611E98881","EACH","INLET, NO. 2-A-14, AS PER PLAN","","","",0]
["611E98890","EACH","INLET, NO. 2-A-16","","","",0]
["611E98891","EACH","INLET, NO. 2-A-16, AS PER PLAN","","","",0]
["611E99000","EACH","INLET, NO. 2-A-18","","","",0]
["611E99001","EACH","INLET, NO. 2-A-18, AS PER PLAN","","","",0]
["611E99010","EACH","INLET, NO. 2-A-20","","","",0]
["611E99050","EACH","BARRIER MEDIAN INLET, SINGLE SLOPE, TYPE 915A","","","",0]
["611E99054","EACH","BARRIER MEDIAN INLET, SINGLE SLOPE, TYPE 915B","","","",0]
["611E99055","EACH","BARRIER MEDIAN INLET, SINGLE SLOPE, TYPE 915B, AS PER PLAN","","","",0]
["611E99060","EACH","BARRIER MEDIAN INLET, SINGLE SLOPE, TYPE 915B1","","","",0]
["611E99061","EACH","BARRIER MEDIAN INLET, SINGLE SLOPE, TYPE 915B1, AS PER PLAN","","","",0]
["611E99064","EACH","BARRIER MEDIAN INLET, SINGLE SLOPE, TYPE 915C","","","",0]
["611E99065","EACH","BARRIER MEDIAN INLET, SINGLE SLOPE, TYPE 915C, AS PER PLAN","","","",0]
["611E99070","EACH","BARRIER MEDIAN INLET, SINGLE SLOPE, TYPE 915C1","","","",0]
["611E99071","EACH","BARRIER MEDIAN INLET, SINGLE SLOPE, TYPE 915C1, AS PER PLAN","","","",0]
["611E99074","EACH","BARRIER INLET, SINGLE SLOPE, TYPE D","","","",0]
["611E99075","EACH","BARRIER INLET, SINGLE SLOPE, TYPE D, AS PER PLAN","","","",0]
["611E99084","EACH","INLET, NO. 3 FOR SINGLE SLOPE BARRIER, TYPE A","","","",0]
["611E99090","EACH","INLET, NO. 3 FOR SINGLE SLOPE BARRIER, TYPE A1","","","",0]
["611E99094","EACH","INLET, NO. 3 FOR SINGLE SLOPE BARRIER, TYPE B","","","",0]
["611E99095","EACH","INLET, NO. 3 FOR SINGLE SLOPE BARRIER, TYPE B, AS PER PLAN","","","",0]
["611E99100","EACH","INLET, NO. 3 FOR SINGLE SLOPE BARRIER, TYPE B1","","","",0]
["611E99101","EACH","INLET, NO. 3 FOR SINGLE SLOPE BARRIER, TYPE B1, AS PER PLAN","","","",0]
["611E99104","EACH","INLET, NO. 3 FOR SINGLE SLOPE BARRIER, TYPE C","","","",0]
["611E99105","EACH","INLET, NO. 3 FOR SINGLE SLOPE BARRIER, TYPE C, AS PER PLAN","","","",0]
["611E99110","EACH","INLET, NO. 3 FOR SINGLE SLOPE BARRIER, TYPE C1","","","",0]
["611E99111","EACH","INLET, NO. 3 FOR SINGLE SLOPE BARRIER, TYPE C1, AS PER PLAN","","","",0]
["611E99114","EACH","INLET, NO. 3 FOR SINGLE SLOPE BARRIER, TYPE D","","","",0]
["611E99115","EACH","INLET, NO. 3 FOR SINGLE SLOPE BARRIER, TYPE D, AS PER PLAN","","","",0]
["611E99120","EACH","INLET, NO. 4 FOR SINGLE SLOPE BARRIER, TYPE A","","","",0]
["611E99121","EACH","INLET, NO. 4 FOR SINGLE SLOPE BARRIER, TYPE A, AS PER PLAN","","","",0]
["611E99124","EACH","INLET, NO. 4 FOR SINGLE SLOPE BARRIER, TYPE A1","","","",0]
["611E99130","EACH","INLET, NO. 4 FOR SINGLE SLOPE BARRIER, TYPE B","","","",0]
["611E99131","EACH","INLET, NO. 4 FOR SINGLE SLOPE BARRIER, TYPE B, AS PER PLAN","","","",0]
["611E99140","EACH","INLET, NO. 4 FOR SINGLE SLOPE BARRIER, TYPE B1","","","",0]
["611E99150","EACH","INLET ADJUSTED TO GRADE","","","",0]
["611E99151","EACH","INLET ADJUSTED TO GRADE, AS PER PLAN","","","",0]
["611E99154","EACH","INLET RECONSTRUCTED TO GRADE","","","",0]
["611E99155","EACH","INLET RECONSTRUCTED TO GRADE, AS PER PLAN","","","",0]
["611E99160","EACH","INLET FRAME AND GRATE","","","",0]
["611E99161","EACH","INLET FRAME AND GRATE, AS PER PLAN","","","",0]
["611E99170","EACH","BARRIER MEDIAN INLET, SINGLE SLOPE, TYPE 915A-2","","","",0]
["611E99174","EACH","BARRIER MEDIAN INLET, SINGLE SLOPE, TYPE 915A1-2","","","",0]
["611E99180","EACH","BARRIER MEDIAN INLET, TYPE 915B","","","",0]
["611E99184","EACH","BARRIER MEDIAN INLET, SINGLE SLOPE, TYPE 915B-2","","","",0]
["611E99190","EACH","BARRIER MEDIAN INLET, SINGLE SLOPE, TYPE 915B1-2","","","",0]
["611E99194","EACH","BARRIER MEDIAN INLET, TYPE 915C","","","",0]
["611E99500","EACH","INLET, MISC.:","","","ADD SUPPLEMENTAL DESCRIPTION",1]
["611E99550","EACH","MANHOLE, NO. 1","","","",0]
["611E99551","EACH","MANHOLE, NO. 1, AS PER PLAN","","","",0]
["611E99570","EACH","MANHOLE, NO. 2","","","",0]
["611E99571","EACH","MANHOLE, NO. 2, AS PER PLAN","","","",0]
["611E99574","EACH","MANHOLE, NO. 3","","","",0]
["611E99575","EACH","MANHOLE, NO. 3, AS PER PLAN","","","",0]
["611E99580","EACH","MANHOLE, NO. 3 WITH 84\" BASE I.D. AND 6\" WEIR","","","",0]
["611E99581","EACH","MANHOLE, NO. 3 WITH 84\" BASE I.D. AND 6\" WEIR, AS PER PLAN","","","",0]
["611E99582","EACH","MANHOLE, NO. 3 WITH 90\" BASE I.D. AND 8\" WEIR","","","",0]
["611E99583","EACH","MANHOLE, NO. 3 WITH 90\" BASE I.D. AND 8\" WEIR, AS PER PLAN","","","",0]
["611E99584","EACH","MANHOLE, NO. 3 WITH 96\" BASE I.D. AND 9\" WEIR","","","",0]
["611E99586","EACH","MANHOLE, NO. 3 WITH 108\" BASE I.D. AND 12\" WEIR","","","",0]
["611E99600","EACH","MANHOLE, NO. 4","","","",0]
["611E99601","EACH","MANHOLE, NO. 4, AS PER PLAN","","","",0]
["611E99620","EACH","MANHOLE, NO. 5","","","",0]
["611E99621","EACH","MANHOLE, NO. 5, AS PER PLAN","","","",0]
["611E99640","EACH","MANHOLE FRAME","","","",0]
["611E99641","EACH","MANHOLE FRAME, AS PER PLAN","","","",0]
["611E99644","EACH","MANHOLE COVER","","","",0]
["611E99645","EACH","MANHOLE COVER, AS PER PLAN","","","",0]
["611E99650","EACH","MANHOLE FRAME AND COVER","","","",0]
["611E99651","EACH","MANHOLE FRAME AND COVER, AS PER PLAN","","","",0]
["611E99654","EACH","MANHOLE ADJUSTED TO GRADE","","","",0]
["611E99655","EACH","MANHOLE ADJUSTED TO GRADE, AS PER PLAN","","","",0]
["611E99660","EACH","MANHOLE RECONSTRUCTED TO GRADE","","","",0]
["611E99661","EACH","MANHOLE RECONSTRUCTED TO GRADE, AS PER PLAN","","","",0]
["611E99690","EACH","MANHOLE, MISC.:","","","ADD SUPPLEMENTAL DESCRIPTION",1]
["611E99700","EACH","SPECIAL - GAS VALVE BOX ADJUSTED TO GRADE","","","",0]
["611E99710","EACH","PRECAST REINFORCED CONCRETE OUTLET","","","",0]
["611E99711","EACH","PRECAST REINFORCED CONCRETE OUTLET, AS PER PLAN","","","",0]
["611E99720","EACH","INSPECTION WELL","","","",0]
["611E99721","EACH","INSPECTION WELL, AS PER PLAN","","","",0]
["611E99730","EACH","JUNCTION CHAMBER","","","",0]
["611E99731","EACH","JUNCTION CHAMBER, AS PER PLAN","","","",0]
["611E99734","EACH","JUNCTION CHAMBER RECONSTRUCTED TO GRADE","","","",0]
["611E99740","EACH","SIPHON CHAMBER","","","",0]
["611E99741","EACH","SIPHON CHAMBER, AS PER PLAN","","","",0]
["611E99820","LB","SPECIAL - MISCELLANEOUS METAL","","","",0]
["611E99830","FT","SPECIAL - TRENCH DRAIN","","","",0]
["611E99850","EACH","WATER QUALITY BASIN, RETENTION","","","",0]
["611E99851","EACH","WATER QUALITY BASIN, RETENTION, AS PER PLAN","","","",0]
["611E99854","EACH","WATER QUALITY BASIN, DETENTION","","","",0]
["611E99855","EACH","WATER QUALITY BASIN, DETENTION, AS PER PLAN","","","",0]
["611E99860","EACH","SPECIAL - OBSERVATION WELL","","","",0]
["611E99900","EACH","DRAINAGE STRUCTURE, MISC.:","","","ADD SUPPLEMENTAL DESCRIPTION",1]
["611E99910","FT","DRAINAGE STRUCTURE, MISC.:","","","ADD SUPPLEMENTAL DESCRIPTION",1]
["611E99920","LS","DRAINAGE STRUCTURE, MISC.:","","","ADD SUPPLEMENTAL DESCRIPTION",1]
["611E99930","EACH","SPECIAL - BACKFLOW PREVENTER","","","ADD SUPPLEMENTAL DESCRIPTION",1]
["613E41200","CY","LOW STRENGTH MORTAR BACKFILL","","","",0]
["613E41201","CY","LOW STRENGTH MORTAR BACKFILL, AS PER PLAN","","","",0]
["613E41250","CY","LOW STRENGTH MORTAR BACKFILL (TYPE 1)","","","",0]
["613E41251","CY","LOW STRENGTH MORTAR BACKFILL (TYPE 1), AS PER PLAN","","","",0]
["613E41300","CY","LOW STRENGTH MORTAR BACKFILL (TYPE 2)","","","",0]
["613E41301","CY","LOW STRENGTH MORTAR BACKFILL (TYPE 2), AS PER PLAN","","","",0]
["613E41350","CY","LOW STRENGTH MORTAR BACKFILL (TYPE 3)","","","",0]
["613E41351","CY","LOW STRENGTH MORTAR BACKFILL (TYPE 3), AS PER PLAN","","","",0]
["613E41360","LS","LOW STRENGTH MORTAR BACKFILL","","","",0]
["614E11000","LS","MAINTAINING TRAFFIC","","","",0]
["614E11001","LS","MAINTAINING TRAFFIC, AS PER PLAN","","","",0]
["614E11110","HOUR","LAW ENFORCEMENT OFFICER WITH PATROL CAR FOR ASSISTANCE","","","",0]
["614E11111","HOUR","LAW ENFORCEMENT OFFICER WITH PATROL CAR FOR ASSISTANCE, AS PER PLAN","","","",0]
["614E11130","HOUR","LAW ENFORCEMENT OFFICER FOR ASSISTANCE","","","",0]
["614E11300","EACH","SPECIAL - WORK ZONE TRAFFIC SIGNAL","","","",0]
["614E11630","FT","INCREASED BARRIER DELINEATION","","","",0]
["614E11631","FT","INCREASED BARRIER DELINEATION, AS PER PLAN","","","",0]
["614E12100","FT","SPECIAL - ASPHALT CURB DIVIDER WITH DELINEATION","","","",0]
["614E12200","FT","SPECIAL - WORK ZONE GUARDRAIL","","","",0]
["614E12300","FT","SPECIAL - WORK ZONE GUARDRAIL ON BRIDGE","","","",0]
["614E12360","EACH","WORK ZONE IMPACT ATTENUATOR (REPLACEMENT)","","","",0]
["614E12370","EACH","REMOVE AND REPLACE IMPACT ATTENUATOR","","","TEMPORARY ONLY",0]
["614E12380","EACH","WORK ZONE IMPACT ATTENUATOR, 24\" WIDE HAZARDS, (UNIDIRECTIONAL)","","","",0]
["614E12381","EACH","WORK ZONE IMPACT ATTENUATOR, 24\" WIDE HAZARDS, (UNIDIRECTIONAL), AS PER PLAN","","","",0]
["614E12384","EACH","WORK ZONE IMPACT ATTENUATOR, 24\" WIDE HAZARDS, (BIDIRECTIONAL)","","","",0]
["614E12385","EACH","WORK ZONE IMPACT ATTENUATOR, 24\" WIDE HAZARDS, (BIDIRECTIONAL), AS PER PLAN","","","",0]
["614E12390","EACH","WORK ZONE IMPACT ATTENUATOR, OVER 24” AND LESS THAN 36” WIDE HAZARDS, (UNIDIRECTIONAL)","","","",0]
["614E12391","EACH","WORK ZONE IMPACT ATTENUATOR, OVER 24” AND LESS THAN 36” WIDE HAZARDS, (UNIDIRECTIONAL), AS PER PLAN","","","",0]
["614E12394","EACH","WORK ZONE IMPACT ATTENUATOR, OVER 24” AND LESS THAN 36” WIDE HAZARDS, (BIDIRECTIONAL)","","","",0]
["614E12395","EACH","WORK ZONE IMPACT ATTENUATOR, OVER 24” AND LESS THAN 36” WIDE HAZARDS, (BIDIRECTIONAL), AS PER PLAN","","","",0]
["614E12400","EACH","WORK ZONE IMPACT ATTENUATOR, MISC.:","","","ADD SUPPLEMENTAL DESCRIPTION",1]
["614E12410","EACH","SPEED ZONE AHEAD SYMBOL SIGN","","","",0]
["614E12420","LS","DETOUR SIGNING","","","",0]
["614E12421","LS","DETOUR SIGNING, AS PER PLAN","","","",0]
["614E12424","FT","WATER-FILLED LONGITUDINAL BARRIER NCHRP 350 TL-2","","","",0]
["614E12425","FT","WATER-FILLED LONGITUDINAL BARRIER NCHRP 350 TL-2, AS PER PLAN","","","",0]
["614E12426","FT","WATER-FILLED LONGITUDINAL BARRIER NCHRP 350 TL-3","","","",0]
["614E12440","EACH","WORK ZONE SIGN SUPPORT","","","CHECK UNIT OF MEASURE",0]
["614E12444","FT","WORK ZONE SIGN SUPPORT","","","CHECK UNIT OF MEASURE",0]
["614E12460","EACH","WORK ZONE MARKING SIGN","","","",0]
["614E12461","EACH","WORK ZONE MARKING SIGN, AS PER PLAN","","","",0]
["614E12470","EACH","WORK ZONE SPEED LIMIT SIGN","","","",0]
["614E12471","EACH","WORK ZONE SPEED LIMIT SIGN, AS PER PLAN","","","",0]
["614E12484","EACH","WORK ZONE INCREASED PENALTIES SIGN","","","",0]
["614E12485","EACH","WORK ZONE INCREASED PENALTIES SIGN, AS PER PLAN","","","",0]
["614E12490","EACH","RESUME LEGAL SPEED SIGN","","","",0]
["614E12500","EACH","REPLACEMENT SIGN","","","",0]
["614E12600","EACH","REPLACEMENT DRUM","","","",0]
["614E12610","EACH","SPECIAL - TYPE B FLASHING WARNING LIGHT","","","",0]
["614E12730","EACH","SPECIAL - REBOUNDABLE TUBULAR PYLON","","","",0]
["614E12740","EACH","WORK ZONE LIGHTING SYSTEM","","","",0]
["614E12741","EACH","WORK ZONE LIGHTING SYSTEM, AS PER PLAN","","","",0]
["614E12756","EACH","WORK ZONE CROSSOVER LIGHTING SYSTEM","","","",0]
["614E12757","EACH","WORK ZONE CROSSOVER LIGHTING SYSTEM, AS PER PLAN","","","",0]
["614E12760","EACH","SPECIAL - FLASHING ARROW PANEL","","","",0]
["614E12800","EACH","WORK ZONE RAISED PAVEMENT MARKER","","","",0]
["614E12801","EACH","WORK ZONE RAISED PAVEMENT MARKER, AS PER PLAN","","","",0]
["614E13000","CY","ASPHALT CONCRETE FOR MAINTAINING TRAFFIC","","","",0]
["614E13001","CY","ASPHALT CONCRETE FOR MAINTAINING TRAFFIC, AS PER PLAN","","","",0]
["614E13310","EACH","BARRIER REFLECTOR, TYPE 1","","","SPECIFY 1WAY OR BIDIRECTIONAL",1]
["614E13312","EACH","BARRIER REFLECTOR, TYPE 2","","","SPECIFY 1WAY OR BIDIRECTIONAL",1]
["614E13314","EACH","BARRIER REFLECTOR, TYPE 3","","","SPECIFY 1WAY OR BIDIRECTIONAL",1]
["614E13316","EACH","BARRIER REFLECTOR, TYPE 4","","","SPECIFY 1WAY OR BIDIRECTIONAL",1]
["614E13318","EACH","BARRIER REFLECTOR, TYPE 5","","","SPECIFY 1WAY OR BIDIRECTIONAL",1]
["614E13350","EACH","OBJECT MARKER, ONE WAY","","","",0]
["614E13351","EACH","OBJECT MARKER, ONE WAY, AS PER PLAN","","","",0]
["614E13360","EACH","OBJECT MARKER, TWO WAY","","","",0]
["614E13361","EACH","OBJECT MARKER, TWO WAY, AS PER PLAN","","","",0]
["614E13400","EACH","CURB REFLECTOR","","","",0]
["614E13600","EACH","MAINTENANCE OF TRAFFIC, ONE LANE CLOSURE ON A TWO LANE HIGHWAY","","","",0]
["614E13700","EACH","MAINTENANCE OF TRAFFIC, ONE LANE CLOSURE ON A FOUR LANE UNDIVIDED HIGHWAY","","","",0]
["614E13800","EACH","MAINTENANCE OF TRAFFIC, ONE LANE CLOSURE ON A 4 LANE OR GREATER DIVIDED HIGHWAY","","","",0]
["614E13900","EACH","MAINTENANCE OF TRAFFIC FOR SHOULDER CLOSURE","","","",0]
["614E15000","DLR","SPECIAL - CALENDAR DAYS OF CONTRACT TIME FOR OPENING TO TRAFFIC (UNIT PRICE FIELD SHOULD REFLECT NUMBER OF DAYS BID)","","","ODOT INTERNAL USE ONLY",0]
["614E16000","EACH","SPECIAL - TRAFFIC SAFETY COORDINATOR","","","",0]
["614E18000","EACH","MAINTAINING TRAFFIC, MISC.:","","","ADD SUPPLEMENTAL DESCRIPTION",1]
["614E18002","LS","MAINTAINING TRAFFIC, MISC.:","","","ADD SUPPLEMENTAL DESCRIPTION",1]
["614E18010","SF","MAINTAINING TRAFFIC, MISC.:","","","ADD SUPPLEMENTAL DESCRIPTION",1]
["614E18020","HOUR","MAINTAINING TRAFFIC, MISC.:","","","ADD SUPPLEMENTAL DESCRIPTION",1]
["614E18030","FT","MAINTAINING TRAFFIC, MISC.:","","","ADD SUPPLEMENTAL DESCRIPTION",1]
["614E18040","DAY","MAINTAINING TRAFFIC, MISC.:","","","ADD SUPPLEMENTAL DESCRIPTION",1]
["614E18050","MNTH","MAINTAINING TRAFFIC, MISC.:","","","ADD SUPPLEMENTAL DESCRIPTION",1]
["614E18060","CY","MAINTAINING TRAFFIC, MISC.:","","","ADD SUPPLEMENTAL DESCRIPTION",1]
["614E18600","SNMT","PORTABLE CHANGEABLE MESSAGE SIGN","","","CHECK UNIT OF MEASURE",0]
["614E18601","SNMT","PORTABLE CHANGEABLE MESSAGE SIGN, AS PER PLAN","","","CHECK UNIT OF MEASURE",0]
["614E20000","MILE","WORK ZONE LANE LINE, CLASS I, 4\"","","","",0]
["614E20001","MILE","WORK ZONE LANE LINE, CLASS I, 4\", AS PER PLAN","","","",0]
["614E20010","MILE","WORK ZONE LANE LINE, CLASS I, 6\"","","","",0]
["614E20011","MILE","WORK ZONE LANE LINE, CLASS I, 6\", AS PER PLAN","","","",0]
["614E20056","MILE","WORK ZONE LANE LINE, CLASS I, 6\", 807 PAINT","","","",0]
["614E20057","MILE","WORK ZONE LANE LINE, CLASS I, 6\", 807 PAINT, AS PER PLAN","","","",0]
["614E20100","MILE","WORK ZONE LANE LINE, CLASS I, 4\", 642 PAINT","","","",0]
["614E20101","MILE","WORK ZONE LANE LINE, CLASS I, 4\", 642 PAINT, AS PER PLAN","","","",0]
["614E20110","MILE","WORK ZONE LANE LINE, CLASS I, 6\", 642 PAINT","","","",0]
["614E20111","MILE","WORK ZONE LANE LINE, CLASS I, 6\", 642 PAINT, AS PER PLAN","","","",0]
["614E20200","MILE","WORK ZONE LANE LINE, CLASS I, 4\", 740.06, TYPE I","","","",0]
["614E20201","MILE","WORK ZONE LANE LINE, CLASS I, 4\", 740.06, TYPE I, AS PER PLAN","","","",0]
["614E20210","MILE","WORK ZONE LANE LINE, CLASS I, 6\", 740.06, TYPE I","","","",0]
["614E20211","MILE","WORK ZONE LANE LINE, CLASS I, 6\", 740.06, TYPE I, AS PER PLAN","","","",0]
["614E20300","MILE","WORK ZONE LANE LINE, CLASS I, 4\", 740.06, TYPE II","","","",0]
["614E20310","MILE","WORK ZONE LANE LINE, CLASS I, 6\", 740.06, TYPE II","","","",0]
["614E20356","MILE","WORK ZONE LANE LINE, CLASS I, 6\", 873","","","",0]
["614E20357","MILE","WORK ZONE LANE LINE, CLASS I, 6\", 873, AS PER PLAN","","","",0]
["614E20360","MILE","WORK ZONE LANE LINE, CLASS I, 4\", 648","","","",0]
["614E20366","MILE","WORK ZONE LANE LINE, CLASS I, 6\", 648","","","",0]
["614E20367","MILE","WORK ZONE LANE LINE, CLASS I, 6\", 648, AS PER PLAN","","","",0]
["614E20400","MILE","WORK ZONE LANE LINE, CLASS II, 4\"","","","",0]
["614E20401","MILE","WORK ZONE LANE LINE, CLASS II, 4\", AS PER PLAN","","","",0]
["614E20410","MILE","WORK ZONE LANE LINE, CLASS II, 6\"","","","",0]
["614E20500","MILE","WORK ZONE LANE LINE, CLASS II, 4\", 642 PAINT","","","",0]
["614E20510","MILE","WORK ZONE LANE LINE, CLASS II, 6\", 642 PAINT","","","",0]
["614E20550","MILE","WORK ZONE LANE LINE, CLASS III, 4\", 642 PAINT","","","",0]
["614E20560","MILE","WORK ZONE LANE LINE, CLASS III, 6\", 642 PAINT","","","",0]
["614E20600","MILE","WORK ZONE LANE LINE, CLASS II, 4\", 740.06, TYPE I","","","",0]
["614E20610","MILE","WORK ZONE LANE LINE, CLASS II, 6\", 740.06, TYPE I","","","",0]
["614E20700","MILE","WORK ZONE LANE LINE, CLASS II, 4\", 740.06, TYPE II","","","",0]
["614E20710","MILE","WORK ZONE LANE LINE, CLASS II, 6\", 740.06, TYPE II","","","",0]
["614E21000","MILE","WORK ZONE CENTER LINE, CLASS I","","","",0]
["614E21001","MILE","WORK ZONE CENTER LINE, CLASS I, AS PER PLAN","","","",0]
["614E21050","MILE","WORK ZONE CENTER LINE, CLASS I, 807 PAINT","","","",0]
["614E21051","MILE","WORK ZONE CENTER LINE, CLASS I, 807 PAINT, AS PER PLAN","","","",0]
["614E21100","MILE","WORK ZONE CENTER LINE, CLASS I, 642 PAINT","","","",0]
["614E21101","MILE","WORK ZONE CENTER LINE, CLASS I, 642 PAINT, AS PER PLAN","","","",0]
["614E21200","MILE","WORK ZONE CENTER LINE, CLASS I, 740.06, TYPE I","","","",0]
["614E21201","MILE","WORK ZONE CENTER LINE, CLASS I, 740.06, TYPE I, AS PER PLAN","","","",0]
["614E21300","MILE","WORK ZONE CENTER LINE, CLASS I, 740.06, TYPE II","","","",0]
["614E21350","MILE","WORK ZONE CENTER LINE, CLASS I, 873","","","",0]
["614E21351","MILE","WORK ZONE CENTER LINE, CLASS I, 873, AS PER PLAN","","","",0]
["614E21360","MILE","WORK ZONE CENTER LINE, CLASS I, 648","","","",0]
["614E21361","MILE","WORK ZONE CENTER LINE, CLASS I, 648, AS PER PLAN","","","",0]
["614E21400","MILE","WORK ZONE CENTER LINE, CLASS II","","","",0]
["614E21401","MILE","WORK ZONE CENTER LINE, CLASS II, AS PER PLAN","","","",0]
["614E21500","MILE","WORK ZONE CENTER LINE, CLASS II, 642 PAINT","","","",0]
["614E21550","MILE","WORK ZONE CENTER LINE, CLASS III, 642 PAINT","","","",0]
["614E21600","MILE","WORK ZONE CENTER LINE, CLASS II, 740.06, TYPE I","","","",0]
["614E21700","MILE","WORK ZONE CENTER LINE, CLASS II, 740.06, TYPE II","","","",0]
["614E22000","MILE","WORK ZONE EDGE LINE, CLASS I, 4\"","","","",0]
["614E22001","MILE","WORK ZONE EDGE LINE, CLASS I, 4\", AS PER PLAN","","","",0]
["614E22010","MILE","WORK ZONE EDGE LINE, CLASS I, 6\"","","","",0]
["614E22011","MILE","WORK ZONE EDGE LINE, CLASS I, 6\", AS PER PLAN","","","",0]
["614E22056","MILE","WORK ZONE EDGE LINE, CLASS I, 6\", 807 PAINT","","","",0]
["614E22057","MILE","WORK ZONE EDGE LINE, CLASS I, 6\", 807 PAINT, AS PER PLAN","","","",0]
["614E22100","MILE","WORK ZONE EDGE LINE, CLASS I, 4\", 642 PAINT","","","",0]
["614E22101","MILE","WORK ZONE EDGE LINE, CLASS I, 4\", 642 PAINT, AS PER PLAN","","","",0]
["614E22110","MILE","WORK ZONE EDGE LINE, CLASS I, 6\", 642 PAINT","","","",0]
["614E22111","MILE","WORK ZONE EDGE LINE, CLASS I, 6\", 642 PAINT, AS PER PLAN","","","",0]
["614E22200","MILE","WORK ZONE EDGE LINE, CLASS I, 4\", 740.06, TYPE I","","","",0]
["614E22201","MILE","WORK ZONE EDGE LINE, CLASS I, 4\", 740.06, TYPE I, AS PER PLAN","","","",0]
["614E22210","MILE","WORK ZONE EDGE LINE, CLASS I, 6\", 740.06, TYPE I","","","",0]
["614E22300","MILE","WORK ZONE EDGE LINE, CLASS I, 4\", 740.06, TYPE II","","","",0]
["614E22308","MILE","WORK ZONE EDGE LINE, CLASS I, 6\", 740.06, TYPE II","","","",0]
["614E22326","MILE","WORK ZONE EDGE LINE, CLASS I, 6\", 873","","","",0]
["614E22327","MILE","WORK ZONE EDGE LINE, CLASS I, 6\", 873, AS PER PLAN","","","",0]
["614E22330","MILE","WORK ZONE EDGE LINE, CLASS I, 4\", 648","","","",0]
["614E22336","MILE","WORK ZONE EDGE LINE, CLASS I, 6\", 648","","","",0]
["614E22337","MILE","WORK ZONE EDGE LINE, CLASS I, 6\", 648, AS PER PLAN","","","",0]
["614E22350","MILE","WORK ZONE EDGE LINE, CLASS III, 4\", 642 PAINT","","","",0]
["614E22360","MILE","WORK ZONE EDGE LINE, CLASS III, 6\", 642 PAINT","","","",0]
["614E23000","FT","WORK ZONE CHANNELIZING LINE, CLASS I, 8\"","","","",0]
["614E23001","FT","WORK ZONE CHANNELIZING LINE, CLASS I, 8\", AS PER PLAN","","","",0]
["614E23010","FT","WORK ZONE CHANNELIZING LINE, CLASS I, 12\"","","","",0]
["614E23011","FT","WORK ZONE CHANNELIZING LINE, CLASS I, 12\", AS PER PLAN","","","",0]
["614E23100","FT","WORK ZONE CHANNELIZING LINE, CLASS I, 8\", 807 PAINT","","","",0]
["614E23110","FT","WORK ZONE CHANNELIZING LINE, CLASS I, 12\", 807 PAINT","","","",0]
["614E23111","FT","WORK ZONE CHANNELIZING LINE, CLASS I, 12\", 807 PAINT, AS PER PLAN","","","",0]
["614E23130","FT","WORK ZONE CHANNELIZING LINE, CLASS I, 12\", 873","","","",0]
["614E23140","FT","WORK ZONE CHANNELIZING LINE, CLASS I, 8\", 648","","","",0]
["614E23150","FT","WORK ZONE CHANNELIZING LINE, CLASS I, 12\", 648","","","",0]
["614E23151","FT","WORK ZONE CHANNELIZING LINE, CLASS I, 12\", 648, AS PER PLAN","","","",0]
["614E23200","FT","WORK ZONE CHANNELIZING LINE, CLASS I, 8\", 642 PAINT","","","",0]
["614E23201","FT","WORK ZONE CHANNELIZING LINE, CLASS I, 8\", 642 PAINT, AS PER PLAN","","","",0]
["614E23210","FT","WORK ZONE CHANNELIZING LINE, CLASS I, 12\", 642 PAINT","","","",0]
["614E23211","FT","WORK ZONE CHANNELIZING LINE, CLASS I, 12\", 642 PAINT, AS PER PLAN","","","",0]
["614E23400","FT","WORK ZONE CHANNELIZING LINE, CLASS I, 8\", 740.06, TYPE I","","","",0]
["614E23401","FT","WORK ZONE CHANNELIZING LINE, CLASS I, 8\", 740.06, TYPE I, AS PER PLAN","","","",0]
["614E23410","FT","WORK ZONE CHANNELIZING LINE, CLASS I, 12\", 740.06, TYPE I","","","",0]
["614E23600","FT","WORK ZONE CHANNELIZING LINE, CLASS I, 8\", 740.06, TYPE II","","","",0]
["614E23610","FT","WORK ZONE CHANNELIZING LINE, CLASS I, 12\", 740.06, TYPE II","","","",0]
["614E23650","FT","WORK ZONE CHANNELIZING LINE, CLASS II, 8\"","","","",0]
["614E23656","FT","WORK ZONE CHANNELIZING LINE, CLASS II, 12\"","","","",0]
["614E23660","FT","WORK ZONE CHANNELIZING LINE, CLASS II, 8\", 642 PAINT","","","",0]
["614E23670","FT","WORK ZONE CHANNELIZING LINE, CLASS II, 12\", 642 PAINT","","","",0]
["614E23680","FT","WORK ZONE CHANNELIZING LINE, CLASS III, 8\", 642 PAINT","","","",0]
["614E23690","FT","WORK ZONE CHANNELIZING LINE, CLASS III, 12\", 642 PAINT","","","",0]
["614E24000","FT","WORK ZONE DOTTED LINE, CLASS I","","","",0]
["614E24001","FT","WORK ZONE DOTTED LINE, CLASS I, AS PER PLAN","","","",0]
["614E24100","FT","WORK ZONE DOTTED LINE, CLASS I, 4\", 807 PAINT","","","",0]
["614E24102","FT","WORK ZONE DOTTED LINE, CLASS I, 6\", 807 PAINT","","","",0]
["614E24122","FT","WORK ZONE DOTTED LINE, CLASS I, 6\", 873","","","",0]
["614E24140","FT","WORK ZONE DOTTED LINE, CLASS I, 4\", 648","","","",0]
["614E24142","FT","WORK ZONE DOTTED LINE, CLASS I, 6\", 648","","","",0]
["614E24143","FT","WORK ZONE DOTTED LINE, CLASS I, 6\", 648, AS PER PLAN","","","",0]
["614E24200","FT","WORK ZONE DOTTED LINE, CLASS I, 4\", 642 PAINT","","","",0]
["614E24201","FT","WORK ZONE DOTTED LINE, CLASS I, 4\", 642 PAINT, AS PER PLAN","","","",0]
["614E24202","FT","WORK ZONE DOTTED LINE, CLASS I, 6\", 642 PAINT","","","",0]
["614E24204","FT","WORK ZONE DOTTED LINE, CLASS I, 8\", 642 PAINT","","","",0]
["614E24208","FT","WORK ZONE DOTTED LINE, CLASS I, 12\", 642 PAINT","","","",0]
["614E24400","FT","WORK ZONE DOTTED LINE, CLASS I, 4\", 740.06, TYPE I","","","",0]
["614E24401","FT","WORK ZONE DOTTED LINE, CLASS I, 4\", 740.06, TYPE I, AS PER PLAN","","","",0]
["614E24402","FT","WORK ZONE DOTTED LINE, CLASS I, 6\", 740.06, TYPE I","","","",0]
["614E24404","FT","WORK ZONE DOTTED LINE, CLASS I, 8\", 740.06, TYPE I","","","",0]
["614E24408","FT","WORK ZONE DOTTED LINE, CLASS I, 12\", 740.06, TYPE I","","","",0]
["614E24600","FT","WORK ZONE DOTTED LINE, CLASS I, 4\", 740.06, TYPE II","","","",0]
["614E24602","FT","WORK ZONE DOTTED LINE, CLASS I, 6\", 740.06, TYPE II","","","",0]
["614E24604","FT","WORK ZONE DOTTED LINE, CLASS I, 8\", 740.06, TYPE II","","","",0]
["614E24608","FT","WORK ZONE DOTTED LINE, CLASS I, 12\", 740.06, TYPE II","","","",0]
["614E24610","FT","WORK ZONE DOTTED LINE, CLASS III, 4\", 642 PAINT","","","",0]
["614E24612","FT","WORK ZONE DOTTED LINE, CLASS III, 6\", 642 PAINT","","","",0]
["614E24614","FT","WORK ZONE DOTTED LINE, CLASS III, 8\", 642 PAINT","","","",0]
["614E24618","FT","WORK ZONE DOTTED LINE, CLASS III, 12\", 642 PAINT","","","",0]
["614E25000","FT","WORK ZONE TRANSVERSE/DIAGONAL LINE, CLASS I","","","",0]
["614E25120","FT","WORK ZONE TRANSVERSE/DIAGONAL LINE, CLASS I, 648","","","",0]
["614E25121","FT","WORK ZONE TRANSVERSE/DIAGONAL LINE, CLASS I, 648, AS PER PLAN","","","",0]
["614E25200","FT","WORK ZONE TRANSVERSE/DIAGONAL LINE, CLASS I, 642 PAINT","","","",0]
["614E25201","FT","WORK ZONE TRANSVERSE/DIAGONAL LINE, CLASS I, 642 PAINT, AS PER PLAN","","","",0]
["614E25210","FT","WORK ZONE TRANSVERSE/DIAGONAL LINE, CLASS II, 642 PAINT","","","",0]
["614E25400","FT","WORK ZONE TRANSVERSE/DIAGONAL LINE, CLASS I, 740.06, TYPE I","","","",0]
["614E25600","FT","WORK ZONE TRANSVERSE/DIAGONAL LINE, CLASS I, 740.06, TYPE II","","","",0]
["614E25620","FT","WORK ZONE TRANSVERSE/DIAGONAL LINE, CLASS III, 642 PAINT","","","",0]
["614E26000","FT","WORK ZONE STOP LINE, CLASS I","","","",0]
["614E26001","FT","WORK ZONE STOP LINE, CLASS I, AS PER PLAN","","","",0]
["614E26120","FT","WORK ZONE STOP LINE, CLASS I, 648","","","",0]
["614E26200","FT","WORK ZONE STOP LINE, CLASS I, 642 PAINT","","","",0]
["614E26201","FT","WORK ZONE STOP LINE, CLASS I, 642 PAINT, AS PER PLAN","","","",0]
["614E26400","FT","WORK ZONE STOP LINE, CLASS I, 740.06, TYPE I","","","",0]
["614E26600","FT","WORK ZONE STOP LINE, CLASS I, 740.06, TYPE II","","","",0]
["614E26610","FT","WORK ZONE STOP LINE, CLASS III, 642 PAINT","","","",0]
["614E26611","FT","WORK ZONE STOP LINE, CLASS III, 642 PAINT, AS PER PLAN","","","",0]
["614E27010","FT","WORK ZONE CROSSWALK LINE, CLASS I, 12\"","","","",0]
["614E27011","FT","WORK ZONE CROSSWALK LINE, CLASS I, 12\", AS PER PLAN","","","",0]
["614E27020","FT","WORK ZONE CROSSWALK LINE, CLASS I, 24\"","","","",0]
["614E27021","FT","WORK ZONE CROSSWALK LINE, CLASS I, 24\", AS PER PLAN","","","",0]
["614E27050","FT","WORK ZONE CROSSWALK LINE, CLASS I, 12\", 642 PAINT","","","",0]
["614E27051","FT","WORK ZONE CROSSWALK LINE, CLASS I, 12\", 642 PAINT, AS PER PLAN","","","",0]
["614E27060","FT","WORK ZONE CROSSWALK LINE, CLASS I, 24\", 642 PAINT","","","",0]
["614E27061","FT","WORK ZONE CROSSWALK LINE, CLASS I, 24\", 642 PAINT, AS PER PLAN","","","",0]
["614E27070","FT","WORK ZONE CROSSWALK LINE, CLASS I, 12\", 740.06, TYPE I","","","",0]
["614E27080","FT","WORK ZONE CROSSWALK LINE, CLASS I, 24\", 740.06, TYPE I","","","",0]
["614E27090","FT","WORK ZONE CROSSWALK LINE, CLASS I, 12\", 740.06, TYPE II","","","",0]
["614E27100","FT","WORK ZONE CROSSWALK LINE, CLASS I, 24\", 740.06, TYPE II","","","",0]
["614E27250","FT","WORK ZONE CROSSWALK LINE, CLASS III, 12\", 642 PAINT","","","",0]
["614E27251","FT","WORK ZONE CROSSWALK LINE, CLASS III, 12\", 642 PAINT, AS PER PLAN","","","",0]
["614E27260","FT","WORK ZONE CROSSWALK LINE, CLASS III, 24\", 642 PAINT","","","",0]
["614E27261","FT","WORK ZONE CROSSWALK LINE, CLASS III, 24\", 642 PAINT, AS PER PLAN","","","",0]
["614E28000","FT","WORK ZONE GORE MARKING, CLASS II","","","",0]
["614E28001","FT","WORK ZONE GORE MARKING, CLASS II, AS PER PLAN","","","",0]
["614E28200","FT","WORK ZONE GORE MARKING, CLASS II, 642 PAINT","","","",0]
["614E28400","FT","WORK ZONE GORE MARKING, CLASS II, 740.06, TYPE I","","","",0]
["614E28600","FT","WORK ZONE GORE MARKING, CLASS II, 740.06, TYPE II","","","",0]
["614E30000","EACH","WORK ZONE ARROW, CLASS I","","","",0]
["614E30001","EACH","WORK ZONE ARROW, CLASS I, AS PER PLAN","","","",0]
["614E30120","EACH","WORK ZONE ARROW, CLASS I, 648","","","",0]
["614E30121","EACH","WORK ZONE ARROW, CLASS I, 648, AS PER PLAN","","","",0]
["614E30200","EACH","WORK ZONE ARROW, CLASS I, 642 PAINT","","","",0]
["614E30400","EACH","WORK ZONE ARROW, CLASS I, 740.06, TYPE I","","","",0]
["614E30650","EACH","WORK ZONE ARROW, CLASS III, 642 PAINT","","","",0]
["614E31000","EACH","WORK ZONE WORD ON PAVEMENT, 72\", CLASS I","","","",0]
["614E31200","EACH","WORK ZONE WORD ON PAVEMENT, 72\", CLASS I, 642 PAINT","","","",0]
["614E31400","EACH","WORK ZONE WORD ON PAVEMENT, 72\", CLASS I, 740.06, TYPE I","","","",0]
["614E31600","EACH","WORK ZONE WORD ON PAVEMENT, 72\", CLASS I, 740.06, TYPE II","","","",0]
["614E31620","EACH","WORK ZONE WORD ON PAVEMENT, 72\", CLASS III, 642 PAINT","","","",0]
["614E31640","EACH","WORK ZONE WORD ON PAVEMENT, 96\", CLASS I","","","",0]
["614E31641","EACH","WORK ZONE WORD ON PAVEMENT, 96\", CLASS I, AS PER PLAN","","","",0]
["614E31650","EACH","WORK ZONE WORD ON PAVEMENT, 96\", CLASS I, 642 PAINT","","","",0]
["614E31670","EACH","WORK ZONE WORD ON PAVEMENT, 96\", CLASS III, 642 PAINT","","","",0]
["614E31700","EACH","WORK ZONE SCHOOL SYMBOL MARKING, 72\", CLASS I","","","",0]
["614E31701","EACH","WORK ZONE SCHOOL SYMBOL MARKING, 72\", CLASS I, AS PER PLAN","","","",0]
["614E31720","EACH","WORK ZONE SCHOOL SYMBOL MARKING, 72\", CLASS I, 642 PAINT","","","",0]
["614E31740","EACH","WORK ZONE SCHOOL SYMBOL MARKING, 72\", CLASS III, 642 PAINT","","","",0]
["614E31742","EACH","WORK ZONE SCHOOL SYMBOL MARKING, 96\", CLASS I","","","",0]
["614E31744","EACH","WORK ZONE SCHOOL SYMBOL MARKING, 96\", CLASS I, 642 PAINT","","","",0]
["614E31750","EACH","WORK ZONE SCHOOL SYMBOL MARKING, 96\", CLASS III, 642 PAINT","","","",0]
["614E31760","EACH","WORK ZONE SCHOOL SYMBOL MARKING, 120\", CLASS I","","","",0]
["614E31770","EACH","WORK ZONE SCHOOL SYMBOL MARKING, 120\", CLASS III, 642 PAINT","","","",0]
["614E32000","EACH","WORK ZONE RAILROAD SYMBOL MARKING, CLASS I","","","",0]
["614E32200","EACH","WORK ZONE RAILROAD SYMBOL MARKING, CLASS I, 642 PAINT","","","",0]
["614E32210","EACH","WORK ZONE RAILROAD SYMBOL MARKING, CLASS III, 642 PAINT","","","",0]
["614E32400","EACH","WORK ZONE RAILROAD SYMBOL MARKING, CLASS I, 740.06, TYPE I","","","",0]
["614E32600","EACH","WORK ZONE RAILROAD SYMBOL MARKING, CLASS I, 740.06, TYPE II","","","",0]
["614E32658","EACH","WORK ZONE SPEED MEASUREMENT MARKING, CLASS I, 642 PAINT","","","",0]
["614E32700","SF","WORK ZONE ISLAND MARKING, CLASS I","","","",0]
["614E32730","SF","WORK ZONE ISLAND MARKING, CLASS I, 648","","","",0]
["614E32800","SF","WORK ZONE ISLAND MARKING, CLASS III, 642 PAINT","","","",0]
["614E40000","FT","LONGITUDINAL CHANNELIZER","","","",0]
["614E40050","EACH","BUSINESS ENTRANCE SIGN","","","",0]
["614E40051","EACH","BUSINESS ENTRANCE SIGN, AS PER PLAN","","","",0]
["614E98000","MILE","WORK ZONE PAVEMENT MARKING, MISC.:","","","ADD SUPPLEMENTAL DESCRIPTION",1]
["614E98100","FT","WORK ZONE PAVEMENT MARKING, MISC.:","","","ADD SUPPLEMENTAL DESCRIPTION",1]
["614E98200","EACH","WORK ZONE PAVEMENT MARKING, MISC.:","","","ADD SUPPLEMENTAL DESCRIPTION",1]
["614E98300","SF","WORK ZONE PAVEMENT MARKING, MISC.:","","","ADD SUPPLEMENTAL DESCRIPTION",1]
["614E99000","LS","SPECIAL - MAINTAINING TRAFFIC","","","DESIGN BUILD PROJECTS ONLY",0]
["615E10000","LS","ROADS FOR MAINTAINING TRAFFIC","","","",0]
["615E10001","LS","ROADS FOR MAINTAINING TRAFFIC, AS PER PLAN","","","",0]
["615E15000","LS","SPECIAL - TEMPORARY RAILROAD RUN-A-ROUND","","","",0]
["615E20000","SY","PAVEMENT FOR MAINTAINING TRAFFIC, CLASS A","","","",0]
["615E20001","SY","PAVEMENT FOR MAINTAINING TRAFFIC, CLASS A, AS PER PLAN","","","",0]
["615E25000","SY","PAVEMENT FOR MAINTAINING TRAFFIC, CLASS B","","","",0]
["615E25001","SY","PAVEMENT FOR MAINTAINING TRAFFIC, CLASS B, AS PER PLAN","","","",0]
["615E99000","LS","SPECIAL - TEMPORARY ROADS AND PAVEMENTS","","","DESIGN BUILD PROJECTS ONLY",0]
["616E10000","MGAL","WATER","","","",0]
["616E10001","MGAL","WATER, AS PER PLAN","","","",0]
["616E20000","TON","CALCIUM CHLORIDE","","","",0]
["617E10100","CY","COMPACTED AGGREGATE","","","",0]
["617E10101","CY","COMPACTED AGGREGATE, AS PER PLAN","","","",0]
["617E11100","TON","COMPACTED AGGREGATE","","","",0]
["617E11101","TON","COMPACTED AGGREGATE, AS PER PLAN","","","",0]
["617E20000","SY","SHOULDER PREPARATION","","","",0]
["617E20001","SY","SHOULDER PREPARATION, AS PER PLAN","","","",0]
["617E25000","MGAL","WATER","","","",0]
["617E98000","SY","SHOULDER RECONDITIONING, MISC.:","","","ADD SUPPLEMENTAL DESCRIPTION",1]
["617E98100","CY","SHOULDER RECONDITIONING, MISC.:","","","ADD SUPPLEMENTAL DESCRIPTION",1]
["617E98200","TON","SHOULDER RECONDITIONING, MISC.:","","","ADD SUPPLEMENTAL DESCRIPTION",1]
["618E39000","EACH","RUMBLE STRIPS, TRANSVERSE (ASPHALT CONCRETE)","","","",0]
["618E39001","EACH","RUMBLE STRIPS, TRANSVERSE (ASPHALT CONCRETE), AS PER PLAN","","","",0]
["618E39100","EACH","RUMBLE STRIPS, TRANSVERSE (CONCRETE)","","","",0]
["618E39101","EACH","RUMBLE STRIPS, TRANSVERSE (CONCRETE), AS PER PLAN","","","",0]
["618E40100","FT","RUMBLE STRIPS, SHOULDER (ASPHALT CONCRETE)","","","CHECK UNIT OF MEASURE",0]
["618E40101","FT","RUMBLE STRIPS, SHOULDER (ASPHALT CONCRETE), AS PER PLAN","","","CHECK UNIT OF MEASURE",0]
["618E40200","FT","RUMBLE STRIPS, SHOULDER (CONCRETE)","","","CHECK UNIT OF MEASURE",0]
["618E40201","FT","RUMBLE STRIPS, SHOULDER (CONCRETE), AS PER PLAN","","","CHECK UNIT OF MEASURE",0]
["618E40600","MILE","RUMBLE STRIPS, SHOULDER (ASPHALT CONCRETE)","","","CHECK UNIT OF MEASURE",0]
["618E40601","MILE","RUMBLE STRIPS, SHOULDER (ASPHALT CONCRETE), AS PER PLAN","","","CHECK UNIT OF MEASURE",0]
["618E40700","MILE","RUMBLE STRIPS, SHOULDER (CONCRETE)","","","CHECK UNIT OF MEASURE",0]
["618E40800","FT","RUMBLE STRIPES, EDGE LINE (ASPHALT CONCRETE)","","","CHECK UNIT OF MEASURE",0]
["618E40850","FT","RUMBLE STRIPES, EDGE LINE (CONCRETE)","","","CHECK UNIT OF MEASURE",0]
["618E40900","FT","RUMBLE STRIPES, CENTER LINE (ASPHALT CONCRETE)","","","CHECK UNIT OF MEASURE",0]
["618E40950","FT","RUMBLE STRIPES, CENTER LINE (CONCRETE)","","","CHECK UNIT OF MEASURE",0]
["618E41000","MILE","RUMBLE STRIPES, EDGE LINE (ASPHALT CONCRETE)","","","CHECK UNIT OF MEASURE",0]
["618E41001","MILE","RUMBLE STRIPES, EDGE LINE (ASPHALT CONCRETE), AS PER PLAN","","","CHECK UNIT OF MEASURE",0]
["618E42000","MILE","RUMBLE STRIPES, EDGE LINE (CONCRETE)","","","CHECK UNIT OF MEASURE",0]
["618E43000","MILE","RUMBLE STRIPES, CENTER LINE (ASPHALT CONCRETE)","","","CHECK UNIT OF MEASURE",0]
["618E44000","MILE","RUMBLE STRIPES, CENTER LINE (CONCRETE)","","","CHECK UNIT OF MEASURE",0]
["619E16000","MNTH","FIELD OFFICE, TYPE A","","","",0]
["619E16001","MNTH","FIELD OFFICE, TYPE A, AS PER PLAN","","","",0]
["619E16010","MNTH","FIELD OFFICE, TYPE B","","","",0]
["619E16011","MNTH","FIELD OFFICE, TYPE B, AS PER PLAN","","","",0]
["619E16020","MNTH","FIELD OFFICE, TYPE C","","","",0]
["619E16021","MNTH","FIELD OFFICE, TYPE C, AS PER PLAN","","","",0]
["620E00500","EACH","DELINEATOR, POST GROUND MOUNTED","","","",0]
["620E00501","EACH","DELINEATOR, POST GROUND MOUNTED, AS PER PLAN","","","",0]
["620E11000","EACH","DELINEATOR, BRACKET MOUNTED","","","",0]
["620E31200","EACH","REMOVAL OF DELINEATOR","","","",0]
["620E31210","EACH","DELINEATOR REMOVED AND REERECTED","","","",0]
["620E31211","EACH","DELINEATOR REMOVED AND REERECTED, AS PER PLAN","","","",0]
["620E40200","EACH","REFLECTOR","","","",0]
["620E55000","LS","DELINEATOR LAYOUT","","","",0]
["620E60000","EACH","DELINEATOR, POST SURFACE MOUNTED","","","",0]
["620E60001","EACH","DELINEATOR, POST SURFACE MOUNTED, AS PER PLAN","","","",0]
["620E60500","EACH","REMOVAL OF DELINEATOR, POST SURFACE MOUNTED","","","",0]
["620E70000","EACH","DELINEATOR, MISC.:","","","ADD SUPPLEMENTAL DESCRIPTION",1]
["620E70010","FT","DELINEATOR, MISC.:","","","ADD SUPPLEMENTAL DESCRIPTION",1]
["621E00100","EACH","RPM","","","",0]
["621E00101","EACH","RPM, AS PER PLAN","","","",0]
["621E00300","EACH","RPM REFLECTOR","","","",0]
["621E00301","EACH","RPM REFLECTOR, AS PER PLAN","","","",0]
["621E54000","EACH","RAISED PAVEMENT MARKER REMOVED","","","",0]
["621E54001","EACH","RAISED PAVEMENT MARKER REMOVED, AS PER PLAN","","","",0]
["621E90000","EACH","RPM, MISC.:","","","ADD SUPPLEMENTAL DESCRIPTION",1]
["621E91000","LS","RPM, MISC.:","","","ADD SUPPLEMENTAL DESCRIPTION",1]
["622E10060","FT","CONCRETE BARRIER, SINGLE SLOPE, TYPE B","","","",0]
["622E10061","FT","CONCRETE BARRIER, SINGLE SLOPE, TYPE B, AS PER PLAN","","","",0]
["622E10100","FT","CONCRETE BARRIER, SINGLE SLOPE, TYPE B1","","","",0]
["622E10101","FT","CONCRETE BARRIER, SINGLE SLOPE, TYPE B1, AS PER PLAN","","","",0]
["622E10120","FT","CONCRETE BARRIER, SINGLE SLOPE, TYPE C","","","",0]
["622E10121","FT","CONCRETE BARRIER, SINGLE SLOPE, TYPE C, AS PER PLAN","","","",0]
["622E10140","FT","CONCRETE BARRIER, SINGLE SLOPE, TYPE C1","","","",0]
["622E10141","FT","CONCRETE BARRIER, SINGLE SLOPE, TYPE C1, AS PER PLAN","","","",0]
["622E10160","FT","CONCRETE BARRIER, SINGLE SLOPE, TYPE D","","","",0]
["622E10161","FT","CONCRETE BARRIER, SINGLE SLOPE, TYPE D, AS PER PLAN","","","",0]
["622E10200","EACH","BARRIER TRANSITION","","","REQUIRES PLAN INSERT SHEET",0]
["622E10201","EACH","BARRIER TRANSITION, AS PER PLAN","","","REQUIRES PLAN INSERT SHEET",0]
["622E24000","FT","CONCRETE BARRIER, TYPE D","","","",0]
["622E24001","FT","CONCRETE BARRIER, TYPE D, AS PER PLAN","","","",0]
["622E24840","EACH","CONCRETE BARRIER END SECTION, TYPE B","","","",0]
["622E24841","EACH","CONCRETE BARRIER END SECTION, TYPE B, AS PER PLAN","","","",0]
["622E24850","EACH","CONCRETE BARRIER END SECTION, TYPE B1","","","",0]
["622E24851","EACH","CONCRETE BARRIER END SECTION, TYPE B1. AS PER PLAN","","","",0]
["622E24860","EACH","CONCRETE BARRIER END SECTION, TYPE C1","","","",0]
["622E24861","EACH","CONCRETE BARRIER END SECTION, TYPE C1, AS PER PLAN","","","",0]
["622E25000","EACH","CONCRETE BARRIER END SECTION, TYPE D","","","",0]
["622E25001","EACH","CONCRETE BARRIER END SECTION, TYPE D, AS PER PLAN","","","",0]
["622E25004","EACH","CONCRETE BARRIER, END ANCHORAGE, REINFORCED, TYPE B","","","",0]
["622E25005","EACH","CONCRETE BARRIER, END ANCHORAGE, REINFORCED, TYPE B, AS PER PLAN","","","",0]
["622E25006","EACH","CONCRETE BARRIER, END ANCHORAGE, REINFORCED, TYPE B1","","","",0]
["622E25007","EACH","CONCRETE BARRIER, END ANCHORAGE, REINFORCED, TYPE B1, AS PER PLAN","","","",0]
["622E25008","EACH","CONCRETE BARRIER, END ANCHORAGE, REINFORCED, TYPE C","","","",0]
["622E25009","EACH","CONCRETE BARRIER, END ANCHORAGE, REINFORCED, TYPE C, AS PER PLAN","","","",0]
["622E25014","EACH","CONCRETE BARRIER, END ANCHORAGE, REINFORCED, TYPE C1","","","",0]
["622E25015","EACH","CONCRETE BARRIER, END ANCHORAGE, REINFORCED, TYPE C1, AS PER PLAN","","","",0]
["622E25050","EACH","CONCRETE BARRIER, END ANCHORAGE, REINFORCED, TYPE D","","","",0]
["622E25051","EACH","CONCRETE BARRIER, END ANCHORAGE, REINFORCED, TYPE D, AS PER PLAN","","","",0]
["622E41011","FT","PORTABLE BARRIER, 50\", AS PER PLAN","","","",0]
["622E41031","FT","PORTABLE BARRIER, 50\", BRIDGE MOUNTED, AS PER PLAN","","","",0]
["622E41050","EACH","PORTABLE BARRIER, \"Y\" CONNECTOR","","","",0]
["622E41051","EACH","PORTABLE BARRIER, \"Y\" CONNECTOR, AS PER PLAN","","","",0]
["622E41100","FT","PORTABLE BARRIER, UNANCHORED","","","",0]
["622E41101","FT","PORTABLE BARRIER, UNANCHORED, AS PER PLAN","","","",0]
["622E41110","FT","PORTABLE BARRIER, ANCHORED","","","",0]
["622E41111","FT","PORTABLE BARRIER, ANCHORED, AS PER PLAN","","","",0]
["622E80000","FT","GLARE SCREEN","","","",0]
["622E80001","FT","GLARE SCREEN, AS PER PLAN","","","",0]
["622E90000","FT","BARRIER, MISC.:","","","ADD SUPPLEMENTAL DESCRIPTION",1]
["622E90100","LS","BARRIER, MISC.:","","","ADD SUPPLEMENTAL DESCRIPTION",1]
["622E90200","EACH","BARRIER, MISC.:","","","ADD SUPPLEMENTAL DESCRIPTION",1]
["622E90300","CY","BARRIER, MISC.:","","","ADD SUPPLEMENTAL DESCRIPTION",1]
["622E90400","SF","BARRIER, MISC.:","","","ADD SUPPLEMENTAL DESCRIPTION",1]
["622E99000","LS","SPECIAL - CONCRETE BARRIER","","","DESIGN BUILD PROJECTS ONLY",0]
["623E10000","LS","CONSTRUCTION LAYOUT STAKES AND SURVEYING","","","",0]
["623E10001","LS","CONSTRUCTION LAYOUT STAKES AND SURVEYING, AS PER PLAN","","","",0]
["623E11000","LS","PROVIDING ELECTRONIC INSTRUMENTATION","","","",0]
["623E11100","HOUR","TECHNICAL ASSISTANCE","","","",0]
["623E12000","EACH","PRIMARY PROJECT CONTROL MONUMENT, TYPE A","","","",0]
["623E12010","EACH","PRIMARY PROJECT CONTROL MONUMENT, TYPE B","","","",0]
["623E38500","EACH","MONUMENT ASSEMBLY, TYPE C","","","",0]
["623E38501","EACH","MONUMENT ASSEMBLY, TYPE C, AS PER PLAN","","","",0]
["623E38550","EACH","MONUMENT ASSEMBLY, TYPE D","","","",0]
["623E38551","EACH","MONUMENT ASSEMBLY, TYPE D, AS PER PLAN","","","",0]
["623E39500","EACH","MONUMENT ASSEMBLY ADJUSTED TO GRADE","","","",0]
["623E39501","EACH","MONUMENT ASSEMBLY ADJUSTED TO GRADE, AS PER PLAN","","","",0]
["623E39600","EACH","MONUMENT ASSEMBLY RECONSTRUCTED TO GRADE","","","",0]
["623E39601","EACH","MONUMENT ASSEMBLY RECONSTRUCTED TO GRADE, AS PER PLAN","","","",0]
["623E40000","EACH","MONUMENT ASSEMBLY REMOVED AND RESET","","","",0]
["623E40001","EACH","MONUMENT ASSEMBLY REMOVED AND RESET, AS PER PLAN","","","",0]
["623E40500","EACH","REFERENCE MONUMENT, TYPE A","","","",0]
["623E40501","EACH","REFERENCE MONUMENT, TYPE A, AS PER PLAN","","","",0]
["623E40520","EACH","RIGHT-OF-WAY MONUMENT, TYPE B","","","",0]
["623E40521","EACH","RIGHT-OF-WAY MONUMENT, TYPE B, AS PER PLAN","","","",0]
["623E40550","EACH","PROJECT CONTROL REFERENCE MONUMENT","","","",0]
["623E40900","EACH","MONUMENT, MISC.:","","","ADD SUPPLEMENTAL DESCRIPTION",1]
["623E50000","LS","PRECONSTRUCTION SURVEY MONUMENT VERIFICATION AND REPORT","","","",0]
["623E51000","LS","POST CONSTRUCTION SURVEY MONUMENT VERIFICATION AND REPORT","","","",0]
["623E99000","LS","SPECIAL - CONSTRUCTION LAYOUT STAKES AND SURVEYING","","","DESIGN BUILD PROJECTS ONLY",0]
["623E99100","LS","SPECIAL - CENTERLINE REFERENCE MONUMENTS","","","",0]
["624E10000","LS","MOBILIZATION","","","",0]
["624E10001","LS","MOBILIZATION, AS PER PLAN","","","",0]
["624E15000","EACH","MOBILIZATION","","","",0]
["624E15001","EACH","MOBILIZATION, AS PER PLAN","","","",0]
["624E99000","LS","SPECIAL - MOBILIZATION","","","DESIGN BUILD PROJECTS ONLY",0]
["625E00450","EACH","CONNECTION, FUSED PULL APART","","","",0]
["625E00451","EACH","CONNECTION, FUSED PULL APART, AS PER PLAN","","","",0]
["625E00460","EACH","CONNECTION, UNFUSED PULL APART","","","",0]
["625E00461","EACH","CONNECTION, UNFUSED PULL APART, AS PER PLAN","","","",0]
["625E00470","EACH","CONNECTION, UNFUSED BOLTED","","","",0]
["625E00480","EACH","CONNECTION, UNFUSED PERMANENT","","","",0]
["625E00481","EACH","CONNECTION, UNFUSED PERMANENT, AS PER PLAN","","","",0]
["625E02500","EACH","TRANSFORMER BASE, TYPE AT-A","","","",0]
["625E02501","EACH","TRANSFORMER BASE, TYPE AT-A, AS PER PLAN","","","",0]
["625E02600","EACH","TRANSFORMER BASE, TYPE AT-C","","","",0]
["625E02601","EACH","TRANSFORMER BASE, TYPE AT-C, AS PER PLAN","","","",0]
["625E02800","EACH","TRANSFORMER BASE, STEEL","","","",0]
["625E02801","EACH","TRANSFORMER BASE, STEEL, AS PER PLAN","","","",0]
["625E02803","EACH","TRANSFORMER BASE, MISC.:","","","ADD SUPPLEMENTAL DESCRIPTION",1]
["625E10480","EACH","LIGHT POLE, DECORATIVE","","","",0]
["625E10481","EACH","LIGHT POLE, DECORATIVE, AS PER PLAN","","","",0]
["625E10490","EACH","LIGHT POLE, CONVENTIONAL","","","ADD SUPPLEMENTAL DESCRIPTION",1]
["625E10491","EACH","LIGHT POLE, CONVENTIONAL, AS PER PLAN","","","ADD SUPPLEMENTAL DESCRIPTION",1]
["625E10494","EACH","LIGHT POLE, LOW MAST","","","ADD SUPPLEMENTAL DESCRIPTION",1]
["625E10495","EACH","LIGHT POLE, LOW MAST, AS PER PLAN","","","ADD SUPPLEMENTAL DESCRIPTION",1]
["625E10500","EACH","LIGHT POLE, MISC.:","","","ADD SUPPLEMENTAL DESCRIPTION",1]
["625E10502","EACH","LIGHT POLE (INSTALLATION ONLY)","","","",0]
["625E10503","EACH","LIGHT POLE (INSTALLATION ONLY), AS PER PLAN","","","",0]
["625E10504","EACH","ERECTING REUSABLE DOWNED LIGHT POLE","","","",0]
["625E10505","EACH","ERECTING REUSABLE DOWNED LIGHT POLE, AS PER PLAN","","","",0]
["625E10600","EACH","LIGHT POLE ANCHOR L-BOLTS","","","",0]
["625E10601","EACH","LIGHT POLE ANCHOR L-BOLTS, AS PER PLAN","","","",0]
["625E10604","EACH","LIGHT POLE ANCHOR BOLTS, HEADED","","","",0]
["625E10605","EACH","LIGHT POLE ANCHOR BOLTS, HEADED, AS PER PLAN","","","",0]
["625E10614","EACH","LIGHT POLE ANCHOR BOLTS ON STRUCTURE","","","",0]
["625E10615","EACH","LIGHT POLE ANCHOR BOLTS ON STRUCTURE, AS PER PLAN","","","",0]
["625E10620","EACH","LIGHT POLE ANCHOR BOLTS, MISC.:","","","ADD SUPPLEMENTAL DESCRIPTION",1]
["625E10980","EACH","LIGHT TOWER, BB60","","","",0]
["625E10981","EACH","LIGHT TOWER, BB60, AS PER PLAN","","","",0]
["625E10990","EACH","LIGHT TOWER, BB70","","","",0]
["625E10991","EACH","LIGHT TOWER, BB70, AS PER PLAN","","","",0]
["625E11000","EACH","LIGHT TOWER, BB80","","","",0]
["625E11001","EACH","LIGHT TOWER, BB80, AS PER PLAN","","","",0]
["625E11100","EACH","LIGHT TOWER, BB90","","","",0]
["625E11101","EACH","LIGHT TOWER, BB90, AS PER PLAN","","","",0]
["625E11200","EACH","LIGHT TOWER, BB100","","","",0]
["625E11300","EACH","LIGHT TOWER, BB110","","","",0]
["625E11400","EACH","LIGHT TOWER, BB120","","","",0]
["625E11500","EACH","LIGHT TOWER, BB130","","","",0]
["625E12000","EACH","LIGHT TOWER, BBB80","","","",0]
["625E12010","EACH","LIGHT TOWER, BBB90","","","",0]
["625E12011","EACH","LIGHT TOWER, BBB90, AS PER PLAN","","","",0]
["625E12200","EACH","LIGHT TOWER, BBB100","","","",0]
["625E12201","EACH","LIGHT TOWER, BBB100, AS PER PLAN","","","",0]
["625E12300","EACH","LIGHT TOWER, BBB110","","","",0]
["625E12301","EACH","LIGHT TOWER, BBB110, AS PER PLAN","","","",0]
["625E12400","EACH","LIGHT TOWER, BBB120","","","",0]
["625E12401","EACH","LIGHT TOWER, BBB120, AS PER PLAN","","","",0]
["625E12410","EACH","LIGHT TOWER, BBB130","","","",0]
["625E12411","EACH","LIGHT TOWER, BBB130, AS PER PLAN","","","",0]
["625E12430","EACH","LIGHT TOWER, BBB150","","","",0]
["625E12900","EACH","LIGHT TOWER, BBBB60","","","",0]
["625E12901","EACH","LIGHT TOWER, BBBB60, AS PER PLAN","","","",0]
["625E12950","EACH","LIGHT TOWER, BBBB70","","","",0]
["625E12951","EACH","LIGHT TOWER, BBBB70, AS PER PLAN","","","",0]
["625E13000","EACH","LIGHT TOWER, BBBB80","","","",0]
["625E13001","EACH","LIGHT TOWER, BBBB80, AS PER PLAN","","","",0]
["625E13100","EACH","LIGHT TOWER, BBBB90","","","",0]
["625E13101","EACH","LIGHT TOWER, BBBB90, AS PER PLAN","","","",0]
["625E13200","EACH","LIGHT TOWER, BBBB100","","","",0]
["625E13201","EACH","LIGHT TOWER, BBBB100, AS PER PLAN","","","",0]
["625E13204","EACH","LIGHT TOWER, BBBB110","","","",0]
["625E13205","EACH","LIGHT TOWER, BBBB110, AS PER PLAN","","","",0]
["625E13208","EACH","LIGHT TOWER, BBBB120","","","",0]
["625E13209","EACH","LIGHT TOWER, BBBB120, AS PER PLAN","","","",0]
["625E13210","EACH","LIGHT TOWER, BBBB130","","","",0]
["625E13211","EACH","LIGHT TOWER, BBBB130, AS PER PLAN","","","",0]
["625E13220","EACH","LIGHT TOWER, BBBB140","","","",0]
["625E13230","EACH","LIGHT TOWER, BBBB150","","","",0]
["625E13240","EACH","LIGHT TOWER, BBBBB100","","","",0]
["625E13280","EACH","LIGHT TOWER, BBBBBB70","","","",0]
["625E13281","EACH","LIGHT TOWER, BBBBBB70, AS PER PLAN","","","",0]
["625E13300","EACH","LIGHT TOWER, BBBBBB80","","","",0]
["625E13301","EACH","LIGHT TOWER, BBBBBB80, AS PER PLAN","","","",0]
["625E13304","EACH","LIGHT TOWER, BBBBBB90","","","",0]
["625E13305","EACH","LIGHT TOWER, BBBBBB90, AS PER PLAN","","","",0]
["625E13400","EACH","LIGHT TOWER, BBBBBB100","","","",0]
["625E13401","EACH","LIGHT TOWER, BBBBBB100, AS PER PLAN","","","",0]
["625E13404","EACH","LIGHT TOWER, BBBBBB110","","","",0]
["625E13405","EACH","LIGHT TOWER, BBBBBB110, AS PER PLAN","","","",0]
["625E13406","EACH","LIGHT TOWER, BBBBBB120","","","",0]
["625E13407","EACH","LIGHT TOWER, BBBBBB120, AS PER PLAN","","","",0]
["625E13410","EACH","LIGHT TOWER, BBBBBB130","","","",0]
["625E13411","EACH","LIGHT TOWER, BBBBBB130, AS PER PLAN","","","",0]
["625E13420","EACH","LIGHT TOWER, BBBBBB140","","","",0]
["625E13421","EACH","LIGHT TOWER, BBBBBB140, AS PER PLAN","","","",0]
["625E13440","EACH","LIGHT TOWER, BBBBBBBB100","","","",0]
["625E13450","EACH","LIGHT TOWER, BBBBBBBB110","","","",0]
["625E13460","EACH","LIGHT TOWER, BBBBBBBB120","","","",0]
["625E13470","EACH","LIGHT TOWER, BBBBBBBB130","","","",0]
["625E13480","EACH","LIGHT TOWER, BBBBBBBB140","","","",0]
["625E13490","EACH","LIGHT TOWER, BBBBBBBBBB110","","","",0]
["625E13500","EACH","LIGHT TOWER, MISC.:","","","ADD SUPPLEMENTAL DESCRIPTION",1]
["625E14000","EACH","LIGHT POLE FOUNDATION, 24\" X 6' DEEP","","","",0]
["625E14001","EACH","LIGHT POLE FOUNDATION, 24\" X 6' DEEP, AS PER PLAN","","","",0]
["625E14100","EACH","LIGHT POLE FOUNDATION, 24\" X 8' DEEP","","","",0]
["625E14101","EACH","LIGHT POLE FOUNDATION, 24\" X 8' DEEP, AS PER PLAN","","","",0]
["625E14150","EACH","LIGHT POLE FOUNDATION, 24\" X 9' DEEP","","","",0]
["625E14151","EACH","LIGHT POLE FOUNDATION, 24\" X 9' DEEP, AS PER PLAN","","","",0]
["625E14200","EACH","LIGHT POLE FOUNDATION, 24\" X 10' DEEP","","","",0]
["625E14201","EACH","LIGHT POLE FOUNDATION, 24\" X 10' DEEP, AS PER PLAN","","","",0]
["625E14300","EACH","MEDIAN LIGHT POLE FOUNDATION, 8' DEEP","","","",0]
["625E14301","EACH","MEDIAN LIGHT POLE FOUNDATION, 8' DEEP, AS PER PLAN","","","",0]
["625E14306","EACH","MEDIAN LIGHT POLE FOUNDATION, 10' DEEP","","","",0]
["625E14307","EACH","MEDIAN LIGHT POLE FOUNDATION, 10' DEEP, AS PER PLAN","","","",0]
["625E14320","EACH","LIGHT TOWER, BBBBBB140","","","",0]
["625E14321","EACH","LIGHT TOWER, BBBBBB140, AS PER PLAN","","","",0]
["625E14400","EACH","LIGHT POLE FOUNDATION REPAIR","","","",0]
["625E14401","EACH","LIGHT POLE FOUNDATION REPAIR, AS PER PLAN","","","",0]
["625E14500","EACH","LIGHT POLE FOUNDATION","","","",0]
["625E14501","EACH","LIGHT POLE FOUNDATION, AS PER PLAN","","","",0]
["625E14600","EACH","LIGHT POLE FOUNDATION, MISC.:","","","ADD SUPPLEMENTAL DESCRIPTION",1]
["625E15000","EACH","LIGHT TOWER FOUNDATION, 36\" X 15' DEEP","","","",0]
["625E15001","EACH","LIGHT TOWER FOUNDATION, 36\" X 15' DEEP, AS PER PLAN","","","",0]
["625E15100","EACH","LIGHT TOWER FOUNDATION, 36\" X 20' DEEP","","","",0]
["625E15101","EACH","LIGHT TOWER FOUNDATION, 36\" X 20' DEEP, AS PER PLAN","","","",0]
["625E15200","EACH","LIGHT TOWER FOUNDATION, 36\" X 25' DEEP","","","",0]
["625E15201","EACH","LIGHT TOWER FOUNDATION, 36\" X 25' DEEP, AS PER PLAN","","","",0]
["625E15300","EACH","LIGHT TOWER FOUNDATION, 36\" X 30' DEEP","","","",0]
["625E15301","EACH","LIGHT TOWER FOUNDATION, 36\" X 30' DEEP, AS PER PLAN","","","",0]
["625E15400","EACH","LIGHT TOWER FOUNDATION, 42\" X 25' DEEP","","","",0]
["625E15500","EACH","LIGHT TOWER FOUNDATION, 42\" X 30' DEEP","","","",0]
["625E15700","EACH","LIGHT TOWER FOUNDATION, MISC.:","","","ADD SUPPLEMENTAL DESCRIPTION",1]
["625E17900","EACH","BRACKET ARM","","","",0]
["625E17901","EACH","BRACKET ARM, AS PER PLAN","","","",0]
["625E17950","EACH","BRACKET ARM, 6'","","","",0]
["625E17951","EACH","BRACKET ARM, 6', AS PER PLAN","","","",0]
["625E17960","EACH","BRACKET ARM, 8'","","","",0]
["625E17961","EACH","BRACKET ARM, 8', AS PER PLAN","","","",0]
["625E18000","EACH","BRACKET ARM, 10'","","","",0]
["625E18001","EACH","BRACKET ARM, 10', AS PER PLAN","","","",0]
["625E18100","EACH","BRACKET ARM, 12'","","","",0]
["625E18101","EACH","BRACKET ARM, 12', AS PER PLAN","","","",0]
["625E18110","EACH","BRACKET ARM, 14'","","","",0]
["625E18200","EACH","BRACKET ARM, 15'","","","",0]
["625E18201","EACH","BRACKET ARM, 15', AS PER PLAN","","","",0]
["625E18210","EACH","BRACKET ARM, 16'","","","",0]
["625E18300","EACH","BRACKET ARM, 18'","","","",0]
["625E18301","EACH","BRACKET ARM, 18', AS PER PLAN","","","",0]
["625E18400","EACH","BRACKET ARM, 20'","","","",0]
["625E18401","EACH","BRACKET ARM, 20', AS PER PLAN","","","",0]
["625E18500","EACH","BRACKET ARM, 25'","","","",0]
["625E18501","EACH","BRACKET ARM, 25', AS PER PLAN","","","",0]
["625E18510","EACH","BRACKET ARM, 30'","","","",0]
["625E18511","EACH","BRACKET ARM, 30', AS PER PLAN","","","",0]
["625E18600","EACH","BRACKET ARM, MISC.:","","","ADD SUPPLEMENTAL DESCRIPTION",1]
["625E19100","EACH","BALLAST FOR TOWER LIGHT FIXTURE","","","",0]
["625E19101","EACH","BALLAST FOR TOWER LIGHT FIXTURE, AS PER PLAN","","","",0]
["625E20000","EACH","PORTABLE WINCH DRIVE POWER UNIT","","","",0]
["625E21000","EACH","LIGHT TOWER MAINTENANCE PLATFORM, TYPE A","","","",0]
["625E21001","EACH","LIGHT TOWER MAINTENANCE PLATFORM, TYPE A, AS PER PLAN","","","",0]
["625E21100","EACH","LIGHT TOWER MAINTENANCE PLATFORM, TYPE B","","","",0]
["625E21101","EACH","LIGHT TOWER MAINTENANCE PLATFORM, TYPE B, AS PER PLAN","","","",0]
["625E21200","EACH","LIGHT TOWER MAINTENANCE PLATFORM, TYPE C","","","",0]
["625E21201","EACH","LIGHT TOWER MAINTENANCE PLATFORM, TYPE C, AS PER PLAN","","","",0]
["625E21300","EACH","LIGHT TOWER MAINTENANCE PLATFORM, TYPE D","","","",0]
["625E21301","EACH","LIGHT TOWER MAINTENANCE PLATFORM, TYPE D, AS PER PLAN","","","",0]
["625E21400","EACH","LIGHT TOWER MAINTENANCE PLATFORM, MISC.","","","ADD SUPPLEMENTAL DESCRIPTION",1]
["625E22900","FT","NO. 1/0 AWG 2400 VOLT DISTRIBUTION CABLE","","","",0]
["625E22901","FT","NO. 1/0 AWG 2400 VOLT DISTRIBUTION CABLE, AS PER PLAN","","","",0]
["625E22910","FT","NO. 2/0 AWG 2400 VOLT DISTRIBUTION CABLE","","","",0]
["625E22990","FT","NO. 6 AWG 600 VOLT DISTRIBUTION CABLE","","","",0]
["625E23000","FT","NO. 4 AWG 600 VOLT DISTRIBUTION CABLE","","","",0]
["625E23001","FT","NO. 4 AWG 600 VOLT DISTRIBUTION CABLE, AS PER PLAN","","","",0]
["625E23100","FT","NO. 2 AWG 600 VOLT DISTRIBUTION CABLE","","","",0]
["625E23200","FT","NO. 4 AWG 2400 VOLT DISTRIBUTION CABLE","","","",0]
["625E23201","FT","NO. 4 AWG 2400 VOLT DISTRIBUTION CABLE, AS PER PLAN","","","",0]
["625E23300","FT","NO. 2 AWG 2400 VOLT DISTRIBUTION CABLE","","","",0]
["625E23301","FT","NO. 2 AWG 2400 VOLT DISTRIBUTION CABLE, AS PER PLAN","","","",0]
["625E23302","FT","NO. 6 AWG 2400 VOLT DISTRIBUTION CABLE","","","",0]
["625E23304","FT","NO. 8 AWG 600 VOLT DISTRIBUTION CABLE","","","",0]
["625E23305","FT","NO. 8 AWG 600 VOLT DISTRIBUTION CABLE, AS PER PLAN","","","",0]
["625E23306","FT","NO. 10 AWG 600 VOLT DISTRIBUTION CABLE","","","",0]
["625E23307","FT","NO. 10 AWG 600 VOLT DISTRIBUTION CABLE, AS PER PLAN","","","",0]
["625E23308","FT","DISTRIBUTION CABLE, MISC.:","","","ADD SUPPLEMENTAL DESCRIPTION",1]
["625E23310","FT","NO. 14 AWG 600 VOLT DISTRIBUTION CABLE","","","",0]
["625E23400","FT","NO. 10 AWG POLE AND BRACKET CABLE","","","",0]
["625E23401","FT","NO. 10 AWG POLE AND BRACKET CABLE, AS PER PLAN","","","",0]
["625E23410","FT","NO. 12 AWG POLE AND BRACKET CABLE","","","",0]
["625E23900","FT","1-1/2\" DUCT CABLE WITH TWO NO. 6 AWG 2400 VOLT CABLES","","","ONLY FOR EXISTING 2C CIRCUITS",0]
["625E24000","FT","1-1/2\" DUCT CABLE WITH TWO NO. 4 AWG 600 VOLT CABLES","","","ONLY FOR EXISTING 2C CIRCUITS",0]
["625E24100","FT","1-1/2\" DUCT CABLE WITH TWO NO. 4 AWG 2400 VOLT CABLES","","","ONLY FOR EXISTING 2C CIRCUITS",0]
["625E24101","FT","1-1/2\" DUCT CABLE WITH TWO NO. 4 AWG 2400 VOLT CABLES, AS PER PLAN","","","ONLY FOR EXISTING 2C CIRCUITS",0]
["625E24200","FT","1-1/2\" DUCT CABLE WITH TWO NO. 2 AWG 600 VOLT CABLES","","","ONLY FOR EXISTING 2C CIRCUITS",0]
["625E24201","FT","1-1/2\" DUCT CABLE WITH TWO NO. 2 AWG 600 VOLT CABLES, AS PER PLAN","","","ONLY FOR EXISTING 2C CIRCUITS",0]
["625E24300","FT","1-1/2\" DUCT CABLE WITH TWO NO. 2 AWG 2400 VOLT CABLES","","","ONLY FOR EXISTING 2C CIRCUITS",0]
["625E24301","FT","1-1/2\" DUCT CABLE WITH TWO NO. 2 AWG 2400 VOLT CABLES, AS PER PLAN","","","ONLY FOR EXISTING 2C CIRCUITS",0]
["625E24310","FT","1-1/2\" DUCT CABLE WITH TWO NO. 1/0 AWG 2400 VOLT CABLES","","","ONLY FOR EXISTING 2C CIRCUITS",0]
["625E24311","FT","1-1/2\" DUCT CABLE WITH TWO NO. 1/0 AWG 2400 VOLT CABLES, AS PER PLAN","","","ONLY FOR EXISTING 2C CIRCUITS",0]
["625E24314","FT","1-1/2\" DUCT CABLE WITH THREE NO. 1/0 AWG 2400 VOLT CABLES","","","",0]
["625E24315","FT","1-1/2\" DUCT CABLE WITH THREE NO. 1/0 AWG 2400 VOLT CABLES, AS PER PLAN","","","",0]
["625E24320","FT","1-1/2\" DUCT CABLE WITH THREE NO. 4 AWG 2400 VOLT CABLES","","","",0]
["625E24321","FT","1-1/2\" DUCT CABLE WITH THREE NO. 4 AWG 2400 VOLT CABLES, AS PER PLAN","","","",0]
["625E24324","FT","1-1/2\" DUCT CABLE WITH THREE NO. 6 AWG 2400 VOLT CABLES","","","",0]
["625E24330","FT","1-1/2\" DUCT CABLE WITH THREE NO. 2 AWG 2400 VOLT CABLES","","","",0]
["625E24331","FT","1-1/2\" DUCT CABLE WITH THREE NO. 2 AWG 2400 VOLT CABLES, AS PER PLAN","","","",0]
["625E24350","FT","1-1/2\" DUCT CABLE WITH FOUR NO. 4 AWG 2400 VOLT CABLES","","","",0]
["625E24351","FT","1-1/2\" DUCT CABLE WITH FOUR NO. 4 AWG 2400 VOLT CABLES, AS PER PLAN","","","",0]
["625E24400","FT","DUCT CABLE, MISC.:","","","ADD SUPPLEMENTAL DESCRIPTION",1]
["625E25000","FT","CONDUIT, 3/4\", 725.04","","","",0]
["625E25001","FT","CONDUIT, 3/4\", 725.04, AS PER PLAN","","","",0]
["625E25010","FT","CONDUIT, 3/4\", 725.05","","","",0]
["625E25011","FT","CONDUIT, 3/4\", 725.05, AS PER PLAN","","","",0]
["625E25012","FT","CONDUIT, 3/4\", 725.051","","","",0]
["625E25013","FT","CONDUIT, 3/4\", 725.051, AS PER PLAN","","","",0]
["625E25014","FT","CONDUIT, 3/4\", 725.052","","","",0]
["625E25015","FT","CONDUIT, 3/4\", 725.052, AS PER PLAN","","","",0]
["625E25100","FT","CONDUIT, 1\", 725.04","","","",0]
["625E25101","FT","CONDUIT, 1\", 725.04, AS PER PLAN","","","",0]
["625E25102","FT","CONDUIT, 1\", 725.05","","","",0]
["625E25103","FT","CONDUIT, 1\", 725.05, AS PER PLAN","","","",0]
["625E25104","FT","CONDUIT, 1\", 725.051","","","",0]
["625E25105","FT","CONDUIT, 1\", 725.051, AS PER PLAN","","","",0]
["625E25106","FT","CONDUIT, 1\", 725.052","","","",0]
["625E25107","FT","CONDUIT, 1\", 725.052, AS PER PLAN","","","",0]
["625E25200","FT","CONDUIT, 1-1/4\", 725.04","","","",0]
["625E25201","FT","CONDUIT, 1-1/4\", 725.04, AS PER PLAN","","","",0]
["625E25202","FT","CONDUIT, 1-1/4\", 725.05","","","",0]
["625E25203","FT","CONDUIT, 1-1/4\", 725.05, AS PER PLAN","","","",0]
["625E25204","FT","CONDUIT, 1-1/4\", 725.051","","","",0]
["625E25205","FT","CONDUIT, 1-1/4\", 725.051, AS PER PLAN","","","",0]
["625E25206","FT","CONDUIT, 1-1/4\", 725.052","","","",0]
["625E25207","FT","CONDUIT, 1-1/4\", 725.052, AS PER PLAN","","","",0]
["625E25300","FT","CONDUIT, 1-1/2\", 725.04","","","",0]
["625E25301","FT","CONDUIT, 1-1/2\", 725.04, AS PER PLAN","","","",0]
["625E25302","FT","CONDUIT, 1-1/2\", 725.05","","","",0]
["625E25303","FT","CONDUIT, 1-1/2\", 725.05, AS PER PLAN","","","",0]
["625E25304","FT","CONDUIT, 1-1/2\", 725.051","","","",0]
["625E25305","FT","CONDUIT, 1-1/2\", 725.051, AS PER PLAN","","","",0]
["625E25306","FT","CONDUIT, 1-1/2\", 725.052","","","",0]
["625E25307","FT","CONDUIT, 1-1/2\", 725.052, AS PER PLAN","","","",0]
["625E25400","FT","CONDUIT, 2\", 725.04","","","",0]
["625E25401","FT","CONDUIT, 2\", 725.04, AS PER PLAN","","","",0]
["625E25402","FT","CONDUIT, 2\", 725.05","","","",0]
["625E25403","FT","CONDUIT, 2\", 725.05, AS PER PLAN","","","",0]
["625E25404","FT","CONDUIT, 2-1/2\", 725.04","","","",0]
["625E25405","FT","CONDUIT, 2-1/2\", 725.04, AS PER PLAN","","","",0]
["625E25406","FT","CONDUIT, 2-1/2\", 725.05","","","",0]
["625E25407","FT","CONDUIT, 2-1/2\", 725.05, AS PER PLAN","","","",0]
["625E25408","FT","CONDUIT, 2\", 725.051","","","",0]
["625E25409","FT","CONDUIT, 2\", 725.051, AS PER PLAN","","","",0]
["625E25410","FT","CONDUIT, 2\", 725.052","","","",0]
["625E25411","FT","CONDUIT, 2\", 725.052, AS PER PLAN","","","",0]
["625E25412","FT","CONDUIT, 2-1/2\", 725.051","","","",0]
["625E25413","FT","CONDUIT, 2-1/2\", 725.051, AS PER PLAN","","","",0]
["625E25414","FT","CONDUIT, 2-1/2\", 725.052","","","",0]
["625E25415","FT","CONDUIT, 2-1/2\", 725.052, AS PER PLAN","","","",0]
["625E25500","FT","CONDUIT, 3\", 725.04","","","",0]
["625E25501","FT","CONDUIT, 3\", 725.04, AS PER PLAN","","","",0]
["625E25502","FT","CONDUIT, 3\", 725.05","","","",0]
["625E25503","FT","CONDUIT, 3\", 725.05, AS PER PLAN","","","",0]
["625E25504","FT","CONDUIT, 3\", 725.051","","","",0]
["625E25505","FT","CONDUIT, 3\", 725.051, AS PER PLAN","","","",0]
["625E25506","FT","CONDUIT, 3\", 725.052","","","",0]
["625E25507","FT","CONDUIT, 3\", 725.052, AS PER PLAN","","","",0]
["625E25550","FT","CONDUIT, 3-1/2\", 725.04","","","",0]
["625E25600","FT","CONDUIT, 4\", 725.04","","","",0]
["625E25601","FT","CONDUIT, 4\", 725.04, AS PER PLAN","","","",0]
["625E25602","FT","CONDUIT, 4\", 725.05","","","",0]
["625E25603","FT","CONDUIT, 4\", 725.05, AS PER PLAN","","","",0]
["625E25604","FT","CONDUIT, 4\", 725.051","","","",0]
["625E25605","FT","CONDUIT, 4\", 725.051, AS PER PLAN","","","",0]
["625E25606","FT","CONDUIT, 4\", 725.052","","","",0]
["625E25607","FT","CONDUIT, 4\", 725.052, AS PER PLAN","","","",0]
["625E25700","FT","CONDUIT, 6\", 725.04","","","",0]
["625E25710","FT","CONDUIT, 6\", 725.05","","","",0]
["625E25711","FT","CONDUIT, 6\", 725.05, AS PER PLAN","","","",0]
["625E25712","FT","CONDUIT, 6\", 725.051","","","",0]
["625E25713","FT","CONDUIT, 6\", 725.051, AS PER PLAN","","","",0]
["625E25714","FT","CONDUIT, 6\", 725.052","","","",0]
["625E25715","FT","CONDUIT, 6\", 725.052, AS PER PLAN","","","",0]
["625E25721","FT","CONDUIT, AS PER PLAN","","","",0]
["625E25802","FT","CONDUIT, CONCRETE ENCASED","","","SPECIFY SIZE",1]
["625E25803","FT","CONDUIT, CONCRETE ENCASED, AS PER PLAN","","","SPECIFY SIZE",1]
["625E25900","FT","CONDUIT, JACKED OR DRILLED","","","SPECIFY SIZE",1]
["625E25901","FT","CONDUIT, JACKED OR DRILLED, AS PER PLAN","","","SPECIFY SIZE",1]
["625E25902","FT","CONDUIT, JACKED OR DRILLED, 725.04","","","SPECIFY SIZE",1]
["625E25903","FT","CONDUIT, JACKED OR DRILLED, 725.04, AS PER PLAN","","","SPECIFY SIZE",1]
["625E25904","FT","CONDUIT, JACKED OR DRILLED, 725.05","","","SPECIFY SIZE",1]
["625E25906","FT","CONDUIT, JACKED OR DRILLED, 725.051","","","SPECIFY SIZE",1]
["625E25907","FT","CONDUIT, JACKED OR DRILLED, 725.051, AS PER PLAN","","","SPECIFY SIZE",1]
["625E25908","FT","CONDUIT, JACKED OR DRILLED, 725.052","","","SPECIFY SIZE",1]
["625E25909","FT","CONDUIT, JACKED OR DRILLED, 725.052, AS PER PLAN","","","SPECIFY SIZE",1]
["625E25910","FT","CONDUIT CLEANED AND CABLES REMOVED","","","",0]
["625E25911","FT","CONDUIT CLEANED AND CABLES REMOVED, AS PER PLAN","","","",0]
["625E25920","FT","CONDUIT, MISC.:","","","ADD SUPPLEMENTAL DESCRIPTION",1]
["625E25930","EACH","CONDUIT, MISC.:","","","ADD SUPPLEMENTAL DESCRIPTION",1]
["625E26250","EACH","LUMINAIRE, CONVENTIONAL","","","ADD SUPPLEMENTAL DESCRIPTION",1]
["625E26251","EACH","LUMINAIRE, CONVENTIONAL, AS PER PLAN","","","ADD SUPPLEMENTAL DESCRIPTION",1]
["625E26252","EACH","LUMINAIRE, CONVENTIONAL, SOLID STATE (LED)","","","ADD SUPPLEMENTAL DESCRIPTION",1]
["625E26253","EACH","LUMINAIRE, CONVENTIONAL, SOLID STATE (LED), AS PER PLAN","","","ADD SUPPLEMENTAL DESCRIPTION",1]
["625E26260","EACH","LUMINAIRE, HIGH MAST","","","ADD SUPPLEMENTAL DESCRIPTION",1]
["625E26261","EACH","LUMINAIRE, HIGH MAST, AS PER PLAN","","","ADD SUPPLEMENTAL DESCRIPTION",1]
["625E26262","EACH","LUMINAIRE, HIGH MAST, SOLID STATE (LED)","","","ADD SUPPLEMENTAL DESCRIPTION",1]
["625E26263","EACH","LUMINAIRE, HIGH MAST, SOLID STATE (LED), AS PER PLAN","","","ADD SUPPLEMENTAL DESCRIPTION",1]
["625E26270","EACH","LUMINAIRE, LOW MAST","","","ADD SUPPLEMENTAL DESCRIPTION",1]
["625E26271","EACH","LUMINAIRE, LOW MAST, AS PER PLAN","","","ADD SUPPLEMENTAL DESCRIPTION",1]
["625E26272","EACH","LUMINAIRE, LOW MAST, SOLID STATE (LED)","","","ADD SUPPLEMENTAL DESCRIPTION",1]
["625E26273","EACH","LUMINAIRE, LOW MAST, SOLID STATE (LED), AS PER PLAN","","","ADD SUPPLEMENTAL DESCRIPTION",1]
["625E27400","EACH","LUMINAIRE, POST TOP","","","ADD SUPPLEMENTAL DESCRIPTION",1]
["625E27401","EACH","LUMINAIRE, POST TOP, AS PER PLAN","","","ADD SUPPLEMENTAL DESCRIPTION",1]
["625E27402","EACH","LUMINAIRE, POST TOP, SOLID STATE (LED)","","","ADD SUPPLEMENTAL DESCRIPTION",1]
["625E27403","EACH","LUMINAIRE, POST TOP, SOLID STATE (LED), AS PER PLAN","","","ADD SUPPLEMENTAL DESCRIPTION",1]
["625E27500","EACH","LUMINAIRE, UNDERPASS","","","ADD SUPPLEMENTAL DESCRIPTION",1]
["625E27501","EACH","LUMINAIRE, UNDERPASS, AS PER PLAN","","","ADD SUPPLEMENTAL DESCRIPTION",1]
["625E27502","EACH","LUMINAIRE, UNDERPASS, SOLID STATE (LED)","","","ADD SUPPLEMENTAL DESCRIPTION",1]
["625E27503","EACH","LUMINAIRE, UNDERPASS, SOLID STATE (LED), AS PER PLAN","","","ADD SUPPLEMENTAL DESCRIPTION",1]
["625E27504","EACH","LUMINAIRE, TUNNEL, SOLID STATE (LED)","","","ADD SUPPLEMENTAL DESCRIPTION",1]
["625E27505","EACH","LUMINAIRE, TUNNEL, SOLID STATE (LED), AS PER PLAN","","","ADD SUPPLEMENTAL DESCRIPTION",1]
["625E27520","EACH","REMOVAL OF LUMINAIRE AND REERECTION","","","",0]
["625E27521","EACH","REMOVAL OF LUMINAIRE AND REERECTION, AS PER PLAN","","","",0]
["625E27550","EACH","LUMINAIRE, DECORATIVE","","","ADD SUPPLEMENTAL DESCRIPTION",1]
["625E27551","EACH","LUMINAIRE, DECORATIVE, AS PER PLAN","","","ADD SUPPLEMENTAL DESCRIPTION",1]
["625E27560","EACH","LUMINAIRE, INSTALLATION ONLY","","","",0]
["625E27561","EACH","LUMINAIRE, INSTALLATION ONLY, AS PER PLAN","","","",0]
["625E27600","EACH","LUMINAIRE, MISC.:","","","ADD SUPPLEMENTAL DESCRIPTION",1]
["625E27700","FXMT","LUMINAIRE, MISC.:","","","ADD SUPPLEMENTAL DESCRIPTION",1]
["625E27800","EACH","BALLAST, MISC.:","","","ADD SUPPLEMENTAL DESCRIPTION",1]
["625E28000","EACH","GLARE SHIELD","","","",0]
["625E28001","EACH","GLARE SHIELD, AS PER PLAN","","","",0]
["625E29000","FT","TRENCH","","","",0]
["625E29001","FT","TRENCH, AS PER PLAN","","","",0]
["625E29002","FT","TRENCH, 24\" DEEP","","","",0]
["625E29003","FT","TRENCH, 24\" DEEP, AS PER PLAN","","","",0]
["625E29010","FT","TRENCH, 30\" DEEP","","","",0]
["625E29011","FT","TRENCH, 30\" DEEP, AS PER PLAN","","","",0]
["625E29100","FT","TRENCH, 36\" DEEP","","","",0]
["625E29101","FT","TRENCH, 36\" DEEP, AS PER PLAN","","","",0]
["625E29200","FT","TRENCH, 48\" DEEP","","","",0]
["625E29201","FT","TRENCH, 48\" DEEP, AS PER PLAN","","","",0]
["625E29400","FT","TRENCH IN PAVED AREA","","","",0]
["625E29401","FT","TRENCH IN PAVED AREAS, AS PER PLAN","","","",0]
["625E29700","FT","TRENCH, MISC.:","","","ADD SUPPLEMENTAL DESCRIPTION",1]
["625E29900","EACH","JUNCTION BOX","","","",0]
["625E29901","EACH","JUNCTION BOX, AS PER PLAN","","","",0]
["625E29910","EACH","TRANSITION JUNCTION BOX","","","",0]
["625E29911","EACH","TRANSITION JUNCTION BOX, AS PER PLAN","","","",0]
["625E29920","EACH","STRUCTURE JUNCTION BOX","","","",0]
["625E29921","EACH","STRUCTURE JUNCTION BOX, AS PER PLAN","","","",0]
["625E29930","EACH","MEDIAN JUNCTION BOX","","","",0]
["625E29931","EACH","MEDIAN JUNCTION BOX, AS PER PLAN","","","",0]
["625E29940","EACH","BARRIER JUNCTION BOX","","","",0]
["625E29941","EACH","BARRIER JUNCTION BOX, AS PER PLAN","","","",0]
["625E30500","EACH","PULL BOX, 725.06, SIZE 1.5","","","",0]
["625E30510","EACH","PULL BOX, 725.06, SIZE 4","","","",0]
["625E30520","EACH","PULL BOX, 725.06, SIZE 7","","","",0]
["625E30530","EACH","PULL BOX, 725.06, SIZE 18","","","",0]
["625E30540","EACH","PULL BOX, 725.06, SIZE 30","","","",0]
["625E30600","EACH","PULL BOX, 725.07, SIZE 1.5","","","",0]
["625E30610","EACH","PULL BOX, 725.07, SIZE 4","","","",0]
["625E30620","EACH","PULL BOX, 725.07, SIZE 7","","","",0]
["625E30630","EACH","PULL BOX, 725.07, SIZE 18","","","",0]
["625E30640","EACH","PULL BOX, 725.07, SIZE 30","","","",0]
["625E30700","EACH","PULL BOX, 725.08, 18\"","","","",0]
["625E30701","EACH","PULL BOX, 725.08, 18\", AS PER PLAN","","","",0]
["625E30706","EACH","PULL BOX, 725.08, 24\"","","","",0]
["625E30707","EACH","PULL BOX, 725.08, 24\", AS PER PLAN","","","",0]
["625E30710","EACH","PULL BOX, 725.08, 32\"","","","",0]
["625E30711","EACH","PULL BOX, 725.08, 32\", AS PER PLAN","","","",0]
["625E30720","EACH","PULL BOX, 725.08, 36\"","","","",0]
["625E30721","EACH","PULL BOX, 725.08, 36\", AS PER PLAN","","","",0]
["625E30730","EACH","PULL BOX, 725.08, 48\", TYPE 1","","","",0]
["625E30731","EACH","PULL BOX, 725.08, 48\", TYPE 1, AS PER PLAN","","","",0]
["625E30732","EACH","PULL BOX, 725.08, 48\", TYPE 2","","","",0]
["625E30733","EACH","PULL BOX, 725.08, 48\", TYPE 2, AS PER PLAN","","","",0]
["625E30800","EACH","PULL BOX, 725.12, SIZE 1.5","","","",0]
["625E30810","EACH","PULL BOX, 725.12, SIZE 4","","","",0]
["625E30820","EACH","PULL BOX, 725.12, SIZE 7","","","",0]
["625E30830","EACH","PULL BOX, 725.12, SIZE 18","","","",0]
["625E30840","EACH","PULL BOX, 725.12, SIZE 30","","","",0]
["625E31500","EACH","MEDIAN PULL BOX","","","",0]
["625E31501","EACH","MEDIAN PULL BOX, AS PER PLAN","","","",0]
["625E31506","EACH","PULL BOX REMOVED AND REPLACED","","","",0]
["625E31507","EACH","PULL BOX REMOVED AND REPLACED, AS PER PLAN","","","",0]
["625E31510","EACH","PULL BOX REMOVED","","","",0]
["625E31511","EACH","PULL BOX REMOVED, AS PER PLAN","","","",0]
["625E31600","EACH","PULL BOX, MISC.:","","","ADD SUPPLEMENTAL DESCRIPTION",1]
["625E32000","EACH","GROUND ROD","","","",0]
["625E32001","EACH","GROUND ROD, AS PER PLAN","","","",0]
["625E33000","EACH","STRUCTURE GROUNDING SYSTEM","","","",0]
["625E33001","EACH","STRUCTURE GROUNDING SYSTEM, AS PER PLAN","","","",0]
["625E33100","EACH","CIRCUIT BREAKER, TOWER LIGHTING","","","",0]
["625E33101","EACH","CIRCUIT BREAKER, TOWER LIGHTING, AS PER PLAN","","","",0]
["625E34000","EACH","POWER SERVICE","","","",0]
["625E34001","EACH","POWER SERVICE, AS PER PLAN","","","",0]
["625E34010","EACH","POWER SERVICE REFURBISHED","","","",0]
["625E34011","EACH","POWER SERVICE REFURBISHED, AS PER PLAN","","","",0]
["625E34100","EACH","SPECIAL - POWER SERVICE FENCE","","","",0]
["625E34300","EACH","TRANSFORMER PAD, CONCRETE","","","",0]
["625E34301","EACH","TRANSFORMER PAD, CONCRETE, AS PER PLAN","","","",0]
["625E34450","EACH","CONTROL CENTER CABINET, COMPLETE","","","",0]
["625E34451","EACH","CONTROL CENTER CABINET, COMPLETE, AS PER PLAN","","","",0]
["625E34507","EACH","CONTROL CENTER MAINTENANCE ITEM, AS PER PLAN","","","",0]
["625E34600","EACH","PROGRAMMABLE LOGIC CONTROLLER (PLC), BASIC","","","",0]
["625E34602","EACH","PROGRAMMABLE LOGIC CONTROLLER (PLC), ADVANCED","","","",0]
["625E35000","EACH","REERECT EXISTING LIGHT POLE","","","",0]
["625E35001","EACH","REERECT EXISTING LIGHT POLE, AS PER PLAN","","","",0]
["625E35010","EACH","REMOVE AND REERECT EXISTING LIGHT POLE","","","",0]
["625E35011","EACH","REMOVE AND REERECT EXISTING LIGHT POLE, AS PER PLAN","","","",0]
["625E35020","EACH","RE-ERECT EXISTING LIGHT TOWER","","","",0]
["625E35021","EACH","RE-ERECT EXISTING LIGHT TOWER, AS PER PLAN","","","",0]
["625E35100","EACH","REERECT EXISTING LUMINAIRE","","","",0]
["625E35101","EACH","REERECT EXISTING LUMINAIRE, AS PER PLAN","","","",0]
["625E35520","EACH","REMOVE AND REERECT BRACKET ARM","","","",0]
["625E35521","EACH","REMOVE AND REERECT BRACKET ARM, AS PER PLAN","","","",0]
["625E36010","FT","UNDERGROUND WARNING/MARKING TAPE","","","",0]
["625E36011","FT","UNDERGROUND WARNING/MARKING TAPE, AS PER PLAN","","","",0]
["625E36200","FT","POWER CABLE FOR LIGHT TOWER","","","",0]
["625E36201","FT","POWER CABLE FOR LIGHT TOWER, AS PER PLAN","","","",0]
["625E37000","LS","SERVICE TO UNDERPASS LIGHTING","","","CHECK UNIT OF MEASURE",0]
["625E37001","LS","SERVICE TO UNDERPASS LIGHTING, AS PER PLAN","","","CHECK UNIT OF MEASURE",0]
["625E37100","EACH","SERVICE TO UNDERPASS LIGHTING","","","CHECK UNIT OF MEASURE",0]
["625E37101","EACH","SERVICE TO UNDERPASS LIGHTING, AS PER PLAN","","","CHECK UNIT OF MEASURE",0]
["625E37200","FXMT","LIGHTING, MINIMAL MAINTENANCE","","","",0]
["625E37201","FXMT","LIGHTING, MINIMAL MAINTENANCE, AS PER PLAN","","","",0]
["625E37211","EACH","LIGHTING, MINIMAL MAINTENANCE, AS PER PLAN","","","",0]
["625E38000","LS","HIGH VOLTAGE TEST","","","",0]
["625E39000","LS","TEMPORARY LIGHTING","","","",0]
["625E39520","EACH","PULL BOX CLEANED","","","",0]
["625E40000","LS","SPECIAL - MAINTAIN EXISTING LIGHTING","","","",0]
["625E40004","EACH","SPECIAL - MAINTAIN EXISTING LIGHTING","","","",0]
["625E40010","EACH","SPECIAL - REPLACEMENT OF EXISTING LIGHTING UNIT","","","",0]
["625E50000","EACH","REPAIRING UNDERGROUND BREAK OF CABLE IN DUCT OR CONDUIT","","","",0]
["625E50001","EACH","REPAIRING UNDERGROUND BREAK OF CABLE IN DUCT OR CONDUIT, AS PER PLAN","","","",0]
["625E50100","EACH","TROUBLESHOOTING UNDERGROUND AND ABOVE GROUND CIRCUITRY PROBLEM","","","",0]
["625E50300","EACH","FRANGIBLE BASE","","","",0]
["625E50301","EACH","FRANGIBLE BASE, AS PER PLAN","","","",0]
["625E50400","EACH","REPAIR INTEGRAL LUMINAIRE LOWERING MECHANISM OF TOWER LIGHTING FIXTURE","","","",0]
["625E50401","EACH","REPAIR INTEGRAL LUMINAIRE LOWERING MECHANISM OF TOWER LIGHTING FIXTURE, AS PER PLAN","","","",0]
["625E50450","EACH","SECONDARY SURGE PROTECTOR","","","",0]
["625E50451","EACH","SECONDARY SURGE PROTECTOR, AS PER PLAN","","","",0]
["625E50500","EACH","SPECIAL - EMERGENCY RESPONSE-KNOCKDOWN, ROADWAY HAZARD AND/OR LIVE EXPOSED WIRE","","","",0]
["625E50510","HOUR","SPECIAL - EMERGENCY RESPONSE-KNOCKDOWN, ROADWAY HAZARD AND/OR LIVE EXPOSED WIRE","","","",0]
["625E60010","EACH","LIGHT POLE REMOVED FOR REERECTION","","","",0]
["625E70000","EACH","LIGHTING CONTACTOR","","","",0]
["625E70001","EACH","LIGHTING CONTACTOR, AS PER PLAN","","","",0]
["625E75350","EACH","LIGHT TOWER REMOVED","","","",0]
["625E75351","EACH","LIGHT TOWER REMOVED, AS PER PLAN","","","",0]
["625E75360","EACH","LIGHT TOWER REMOVED FOR STORAGE","","","",0]
["625E75361","EACH","LIGHT TOWER REMOVED FOR STORAGE, AS PER PLAN","","","",0]
["625E75400","EACH","LIGHT POLE REMOVED","","","",0]
["625E75401","EACH","LIGHT POLE REMOVED, AS PER PLAN","","","",0]
["625E75402","EACH","LIGHT POLE REMOVED FOR STORAGE","","","",0]
["625E75403","EACH","LIGHT POLE REMOVED FOR STORAGE, AS PER PLAN","","","",0]
["625E75410","EACH","LIGHT POLE REMOVED FOR REUSE","","","",0]
["625E75411","EACH","LIGHT POLE REMOVED FOR REUSE, AS PER PLAN","","","",0]
["625E75500","EACH","LIGHT POLE FOUNDATION REMOVED","","","",0]
["625E75501","EACH","LIGHT POLE FOUNDATION REMOVED, AS PER PLAN","","","",0]
["625E75502","EACH","PORTION OF LIGHT POLE FOUNDATION REMOVED","","","",0]
["625E75503","EACH","PORTION OF LIGHT POLE FOUNDATION REMOVED, AS PER PLAN","","","",0]
["625E75504","EACH","LUMINAIRE REMOVED FOR STORAGE","","","",0]
["625E75505","EACH","LUMINAIRE REMOVED FOR STORAGE, AS PER PLAN","","","",0]
["625E75506","EACH","LUMINAIRE REMOVED","","","",0]
["625E75507","EACH","LUMINAIRE REMOVED, AS PER PLAN","","","",0]
["625E75508","EACH","LUMINAIRE REMOVED FOR REUSE","","","",0]
["625E75510","EACH","POWER SERVICE REMOVED","","","",0]
["625E75511","EACH","POWER SERVICE REMOVED, AS PER PLAN","","","",0]
["625E75520","EACH","LUMINAIRE SUPPORT REMOVED","","","",0]
["625E75521","EACH","LUMINAIRE SUPPORT REMOVED, AS PER PLAN","","","",0]
["625E75522","EACH","LUMINAIRE SUPPORT FOUNDATION REMOVED","","","",0]
["625E75540","EACH","LIGHT TOWER FOUNDATION REMOVED","","","",0]
["625E75541","EACH","LIGHT TOWER FOUNDATION REMOVED, AS PER PLAN","","","",0]
["625E75550","FT","DISTRIBUTION CABLE REMOVED","","","",0]
["625E75551","FT","DISTRIBUTION CABLE REMOVED, AS PER PLAN","","","",0]
["625E75800","EACH","DISCONNECT CIRCUIT","","","",0]
["625E75801","EACH","DISCONNECT CIRCUIT, AS PER PLAN","","","",0]
["625E76000","EACH","ARC FLASH CALCULATIONS AND LABEL","","","SPECIFY LOCATION",1]
["625E80000","EACH","SPECIAL - SURFACE PREPARATION","","","",0]
["625E98000","EACH","LIGHTING, MISC.:","","","ADD SUPPLEMENTAL DESCRIPTION",1]
["625E98100","FT","LIGHTING, MISC.:","","","ADD SUPPLEMENTAL DESCRIPTION",1]
["625E98200","LS","LIGHTING, MISC.:","","","ADD SUPPLEMENTAL DESCRIPTION",1]
["625E98300","CY","LIGHTING, MISC.:","","","ADD SUPPLEMENTAL DESCRIPTION",1]
["625E98400","SET","LIGHTING, MISC.:","","","ADD SUPPLEMENTAL DESCRIPTION",1]
["625E98500","FXMT","LIGHTING, MISC.:","","","ADD SUPPLEMENTAL DESCRIPTION",1]
["625E98600","SF","LIGHTING, MISC.:","","","ADD SUPPLEMENTAL DESCRIPTION",1]
["625E98700","HOUR","LIGHTING, MISC.:","","","ADD SUPPLEMENTAL DESCRIPTION",1]
["625E99000","LS","SPECIAL - LIGHTING","","","DESIGN BUILD PROJECTS ONLY",0]
["626E00102","EACH","BARRIER REFLECTOR, TYPE 1","","","SPECIFY 1WAY OR BIDIRECTIONAL",1]
["626E00110","EACH","BARRIER REFLECTOR, TYPE 2","","","SPECIFY 1WAY OR BIDIRECTIONAL",1]
["626E00112","EACH","BARRIER REFLECTOR, TYPE 3","","","SPECIFY 1WAY OR BIDIRECTIONAL",1]
["626E00114","EACH","BARRIER REFLECTOR, TYPE 4","","","SPECIFY 1WAY OR BIDIRECTIONAL",1]
["626E00116","EACH","BARRIER REFLECTOR, TYPE 5","","","SPECIFY 1WAY OR BIDIRECTIONAL",1]
["626E00118","EACH","BARRIER REFLECTOR, TYPE 6","","","",0]
["626E00200","FT","SPECIAL - INCREASED BARRIER DELINEATION","","","",0]
["630E01100","FT","GROUND MOUNTED SUPPORT, NO. 1 POST","","","",0]
["630E01101","FT","GROUND MOUNTED SUPPORT, NO. 1 POST, AS PER PLAN","","","",0]
["630E02100","FT","GROUND MOUNTED SUPPORT, NO. 2 POST","","","",0]
["630E02101","FT","GROUND MOUNTED SUPPORT, NO. 2 POST, AS PER PLAN","","","",0]
["630E03100","FT","GROUND MOUNTED SUPPORT, NO. 3 POST","","","",0]
["630E03101","FT","GROUND MOUNTED SUPPORT, NO. 3 POST, AS PER PLAN","","","",0]
["630E04100","FT","GROUND MOUNTED SUPPORT, NO. 4 POST","","","",0]
["630E04101","FT","GROUND MOUNTED SUPPORT, NO. 4 POST, AS PER PLAN","","","",0]
["630E06100","FT","GROUND MOUNTED SUPPORT, NO. 6 POST","","","",0]
["630E06101","FT","GROUND MOUNTED SUPPORT, NO. 6 POST, AS PER PLAN","","","",0]
["630E06400","FT","GROUND MOUNTED STRUCTURAL BEAM SUPPORT, S4X7.7","","","",0]
["630E06401","FT","GROUND MOUNTED STRUCTURAL BEAM SUPPORT, S4X7.7, AS PER PLAN","","","",0]
["630E06500","FT","GROUND MOUNTED STRUCTURAL BEAM SUPPORT, W6X9","","","",0]
["630E06501","FT","GROUND MOUNTED STRUCTURAL BEAM SUPPORT, W6X9, AS PER PLAN","","","",0]
["630E07000","FT","GROUND MOUNTED STRUCTURAL BEAM SUPPORT, W8X18","","","",0]
["630E07001","FT","GROUND MOUNTED STRUCTURAL BEAM SUPPORT, W8X18, AS PER PLAN","","","",0]
["630E07500","FT","GROUND MOUNTED STRUCTURAL BEAM SUPPORT, W10X22","","","",0]
["630E07501","FT","GROUND MOUNTED STRUCTURAL BEAM SUPPORT, W10X22, AS PER PLAN","","","",0]
["630E07600","FT","GROUND MOUNTED STRUCTURAL BEAM SUPPORT, W10X12","","","",0]
["630E07601","FT","GROUND MOUNTED STRUCTURAL BEAM SUPPORT, W10X12, AS PER PLAN","","","",0]
["630E08000","FT","GROUND MOUNTED STRUCTURAL BEAM SUPPORT, W12X30","","","",0]
["630E08001","FT","GROUND MOUNTED STRUCTURAL BEAM SUPPORT, W12X30, AS PER PLAN","","","",0]
["630E08002","FT","ONE WAY SUPPORT, NO. 2 POST","","","",0]
["630E08004","FT","ONE WAY SUPPORT, NO. 3 POST","","","",0]
["630E08005","FT","ONE WAY SUPPORT, NO. 3 POST, AS PER PLAN","","","",0]
["630E08100","FT","ONE WAY SUPPORT, NO. 4 POST","","","",0]
["630E08101","FT","ONE WAY SUPPORT, NO. 4 POST, AS PER PLAN","","","",0]
["630E08200","EACH","GROUND MOUNTED SUPPORT, PIPE","","","",0]
["630E08210","FT","GROUND MOUNTED SUPPORT, PIPE","","","",0]
["630E08300","FT","GROUND MOUNTED WOODEN BOX BEAM SUPPORT, TYPE L BEAM","","","",0]
["630E08302","FT","GROUND MOUNTED WOODEN BOX BEAM SUPPORT, TYPE M BEAM","","","",0]
["630E08460","EACH","TEMPORARY SIGN SUPPORT, NO. 3 POST","","","",0]
["630E08501","EACH","STREET NAME SIGN SUPPORT, AS PER PLAN","","","",0]
["630E08510","FT","STREET NAME SIGN SUPPORT, NO. 2 POST","","","",0]
["630E08511","FT","STREET NAME SIGN SUPPORT, NO. 2 POST, AS PER PLAN","","","",0]
["630E08520","FT","STREET NAME SIGN SUPPORT, NO. 3 POST","","","",0]
["630E08521","FT","STREET NAME SIGN SUPPORT, NO. 3 POST, AS PER PLAN","","","",0]
["630E08530","FT","STREET NAME SIGN SUPPORT, NO. 4 POST","","","",0]
["630E08531","FT","STREET NAME SIGN SUPPORT, NO. 4 POST, AS PER PLAN","","","",0]
["630E08600","EACH","SIGN POST REFLECTOR","","","",0]
["630E08601","EACH","SIGN POST REFLECTOR, AS PER PLAN","","","",0]
["630E09000","EACH","BREAKAWAY STRUCTURAL BEAM CONNECTION","","","",0]
["630E09001","EACH","BREAKAWAY STRUCTURAL BEAM CONNECTION, AS PER PLAN","","","",0]
["630E09050","EACH","TRIANGULAR SLIP BASE CONNECTION","","","",0]
["630E09051","EACH","TRIANGULAR SLIP BASE CONNECTION, AS PER PLAN","","","",0]
["630E09100","EACH","SURFACE PREPARATION, EXISTING SUPPORT SECTION","","","",0]
["630E09101","EACH","SURFACE PREPARATION, EXISTING SUPPORT SECTION, AS PER PLAN","","","",0]
["630E09102","EACH","SURFACE PREPARATION, NEW SUPPORT SECTION","","","",0]
["630E09103","EACH","SURFACE PREPARATION, NEW SUPPORT SECTION, AS PER PLAN","","","",0]
["630E09104","EACH","COATING, EPOXY PRIME COAT, SUPPORT SECTION","","","",0]
["630E09105","EACH","COATING, EPOXY PRIME COAT, SUPPORT SECTION, AS PER PLAN","","","",0]
["630E09106","EACH","COATING, EPOXY INTERMEDIATE COAT, SUPPORT SECTION","","","",0]
["630E09107","EACH","COATING, EPOXY INTERMEDIATE COAT, SUPPORT SECTION, AS PER PLAN","","","",0]
["630E09108","EACH","COATING, URETHANE TOP COAT, SUPPORT SECTION","","","",0]
["630E09109","EACH","COATING, URETHANE TOP COAT, SUPPORT SECTION, AS PER PLAN","","","",0]
["630E09120","EACH","COATING, ORGANIC ZINC PRIME COAT, SUPPORT SECTION","","","",0]
["630E09121","EACH","COATING, ORGANIC ZINC PRIME COAT, SUPPORT SECTION, AS PER PLAN","","","",0]
["630E10102","EACH","OVERHEAD SIGN SUPPORT, TYPE TC-16.21, DESIGN 1","","","",0]
["630E10103","EACH","OVERHEAD SIGN SUPPORT, TYPE TC-16.21, DESIGN 1, AS PER PLAN","","","",0]
["630E10202","EACH","OVERHEAD SIGN SUPPORT, TYPE TC-16.21, DESIGN 2","","","",0]
["630E10203","EACH","OVERHEAD SIGN SUPPORT, TYPE TC-16.21, DESIGN 2, AS PER PLAN","","","",0]
["630E10302","EACH","OVERHEAD SIGN SUPPORT, TYPE TC-16.21, DESIGN 3","","","",0]
["630E10303","EACH","OVERHEAD SIGN SUPPORT, TYPE TC-16.21, DESIGN 3, AS PER PLAN","","","",0]
["630E10402","EACH","OVERHEAD SIGN SUPPORT, TYPE TC-16.21, DESIGN 4","","","",0]
["630E10403","EACH","OVERHEAD SIGN SUPPORT, TYPE TC-16.21, DESIGN 4, AS PER PLAN","","","",0]
["630E10502","EACH","OVERHEAD SIGN SUPPORT, TYPE TC-16.21, DESIGN 5","","","",0]
["630E10503","EACH","OVERHEAD SIGN SUPPORT, TYPE TC-16.21, DESIGN 5, AS PER PLAN","","","",0]
["630E10602","EACH","OVERHEAD SIGN SUPPORT, TYPE TC-16.21, DESIGN 6","","","",0]
["630E10603","EACH","OVERHEAD SIGN SUPPORT, TYPE TC-16.21, DESIGN 6, AS PER PLAN","","","",0]
["630E10702","EACH","OVERHEAD SIGN SUPPORT, TYPE TC-16.21, DESIGN 7","","","",0]
["630E10703","EACH","OVERHEAD SIGN SUPPORT, TYPE TC-16.21, DESIGN 7, AS PER PLAN","","","",0]
["630E10802","EACH","OVERHEAD SIGN SUPPORT, TYPE TC-16.21, DESIGN 8","","","",0]
["630E10803","EACH","OVERHEAD SIGN SUPPORT, TYPE TC-16.21, DESIGN 8, AS PER PLAN","","","",0]
["630E10902","EACH","OVERHEAD SIGN SUPPORT, TYPE TC-16.21, DESIGN 9","","","",0]
["630E10903","EACH","OVERHEAD SIGN SUPPORT, TYPE TC-16.21, DESIGN 9, AS PER PLAN","","","",0]
["630E11002","EACH","OVERHEAD SIGN SUPPORT, TYPE TC-16.21, DESIGN 10","","","",0]
["630E11003","EACH","OVERHEAD SIGN SUPPORT, TYPE TC-16.21, DESIGN 10, AS PER PLAN","","","",0]
["630E11102","EACH","OVERHEAD SIGN SUPPORT, TYPE TC-16.21, DESIGN 11","","","",0]
["630E11103","EACH","OVERHEAD SIGN SUPPORT, TYPE TC-16.21, DESIGN 11, AS PER PLAN","","","",0]
["630E11202","EACH","OVERHEAD SIGN SUPPORT, TYPE TC-16.21, DESIGN 12","","","",0]
["630E11203","EACH","OVERHEAD SIGN SUPPORT, TYPE TC-16.21, DESIGN 12, AS PER PLAN","","","",0]
["630E11206","EACH","OVERHEAD SIGN SUPPORT, TYPE TC-16.21, DESIGN 13","","","",0]
["630E11207","EACH","OVERHEAD SIGN SUPPORT, TYPE TC-16.21, DESIGN 13, AS PER PLAN","","","",0]
["630E11210","EACH","OVERHEAD SIGN SUPPORT, TYPE TC-16.21, DESIGN 14","","","",0]
["630E11211","EACH","OVERHEAD SIGN SUPPORT, TYPE TC-16.21, DESIGN 14, AS PER PLAN","","","",0]
["630E15102","EACH","COMBINATION OVERHEAD SIGN SUPPORT, TYPE TC-16.21, DESIGN 1","","","",0]
["630E15103","EACH","COMBINATION OVERHEAD SIGN SUPPORT, TYPE TC-16.21, DESIGN 1, AS PER PLAN","","","",0]
["630E15202","EACH","COMBINATION OVERHEAD SIGN SUPPORT, TYPE TC-16.21, DESIGN 2","","","",0]
["630E15203","EACH","COMBINATION OVERHEAD SIGN SUPPORT, TYPE TC-16.21, DESIGN 2, AS PER PLAN","","","",0]
["630E15302","EACH","COMBINATION OVERHEAD SIGN SUPPORT, TYPE TC-16.21, DESIGN 3","","","",0]
["630E15303","EACH","COMBINATION OVERHEAD SIGN SUPPORT, TYPE TC-16.21, DESIGN 3, AS PER PLAN","","","",0]
["630E15402","EACH","COMBINATION OVERHEAD SIGN SUPPORT, TYPE TC-16.21, DESIGN 4","","","",0]
["630E15403","EACH","COMBINATION OVERHEAD SIGN SUPPORT, TYPE TC-16.21, DESIGN 4, AS PER PLAN","","","",0]
["630E15502","EACH","COMBINATION OVERHEAD SIGN SUPPORT, TYPE TC-16.21, DESIGN 5","","","",0]
["630E15503","EACH","COMBINATION OVERHEAD SIGN SUPPORT, TYPE TC-16.21, DESIGN 5, AS PER PLAN","","","",0]
["630E15602","EACH","COMBINATION OVERHEAD SIGN SUPPORT, TYPE TC-16.21, DESIGN 6","","","",0]
["630E15603","EACH","COMBINATION OVERHEAD SIGN SUPPORT, TYPE TC-16.21, DESIGN 6, AS PER PLAN","","","",0]
["630E15702","EACH","COMBINATION OVERHEAD SIGN SUPPORT, TYPE TC-16.21, DESIGN 7","","","",0]
["630E15703","EACH","COMBINATION OVERHEAD SIGN SUPPORT, TYPE TC-16.21, DESIGN 7, AS PER PLAN","","","",0]
["630E15802","EACH","COMBINATION OVERHEAD SIGN SUPPORT, TYPE TC-16.21, DESIGN 8","","","",0]
["630E15803","EACH","COMBINATION OVERHEAD SIGN SUPPORT, TYPE TC-16.21, DESIGN 8, AS PER PLAN","","","",0]
["630E15902","EACH","COMBINATION OVERHEAD SIGN SUPPORT, TYPE TC-16.21, DESIGN 9","","","",0]
["630E15903","EACH","COMBINATION OVERHEAD SIGN SUPPORT, TYPE TC-16.21, DESIGN 9, AS PER PLAN","","","",0]
["630E16002","EACH","COMBINATION OVERHEAD SIGN SUPPORT, TYPE TC-16.21, DESIGN 10","","","",0]
["630E16003","EACH","COMBINATION OVERHEAD SIGN SUPPORT, TYPE TC-16.21, DESIGN 10, AS PER PLAN","","","",0]
["630E16102","EACH","COMBINATION OVERHEAD SIGN SUPPORT, TYPE TC-16.21, DESIGN 11","","","",0]
["630E16103","EACH","COMBINATION OVERHEAD SIGN SUPPORT, TYPE TC-16.21, DESIGN 11, AS PER PLAN","","","",0]
["630E16202","EACH","COMBINATION OVERHEAD SIGN SUPPORT, TYPE TC-16.21, DESIGN 12","","","",0]
["630E16203","EACH","COMBINATION OVERHEAD SIGN SUPPORT, TYPE TC-16.21, DESIGN 12, AS PER PLAN","","","",0]
["630E16302","EACH","COMBINATION OVERHEAD SIGN SUPPORT, TYPE TC-16.21, DESIGN 13","","","",0]
["630E16303","EACH","COMBINATION OVERHEAD SIGN SUPPORT, TYPE TC-16.21, DESIGN 13, AS PER PLAN","","","",0]
["630E16402","EACH","COMBINATION OVERHEAD SIGN SUPPORT, TYPE TC-16.21, DESIGN 14","","","",0]
["630E16403","EACH","COMBINATION OVERHEAD SIGN SUPPORT, TYPE TC-16.21, DESIGN 14, AS PER PLAN","","","",0]
["630E20100","EACH","OVERHEAD SIGN SUPPORT, TYPE TC-12.30, DESIGN 1","","","",0]
["630E20101","EACH","OVERHEAD SIGN SUPPORT, TYPE TC-12.30, DESIGN 1, AS PER PLAN","","","",0]
["630E20200","EACH","OVERHEAD SIGN SUPPORT, TYPE TC-12.30, DESIGN 2","","","",0]
["630E20201","EACH","OVERHEAD SIGN SUPPORT, TYPE TC-12.30, DESIGN 2, AS PER PLAN","","","",0]
["630E20300","EACH","OVERHEAD SIGN SUPPORT, TYPE TC-12.30, DESIGN 3","","","",0]
["630E20301","EACH","OVERHEAD SIGN SUPPORT, TYPE TC-12.30, DESIGN 3, AS PER PLAN","","","",0]
["630E20400","EACH","OVERHEAD SIGN SUPPORT, TYPE TC-12.30, DESIGN 4","","","",0]
["630E20401","EACH","OVERHEAD SIGN SUPPORT, TYPE TC-12.30, DESIGN 4, AS PER PLAN","","","",0]
["630E20500","EACH","OVERHEAD SIGN SUPPORT, TYPE TC-12.30, DESIGN 5","","","",0]
["630E20501","EACH","OVERHEAD SIGN SUPPORT, TYPE TC-12.30, DESIGN 5, AS PER PLAN","","","",0]
["630E20600","EACH","OVERHEAD SIGN SUPPORT, TYPE TC-12.30, DESIGN 6","","","",0]
["630E20601","EACH","OVERHEAD SIGN SUPPORT, TYPE TC-12.30, DESIGN 6, AS PER PLAN","","","",0]
["630E20700","EACH","OVERHEAD SIGN SUPPORT, TYPE TC-12.30, DESIGN 7","","","",0]
["630E20701","EACH","OVERHEAD SIGN SUPPORT, TYPE TC-12.30, DESIGN 7, AS PER PLAN","","","",0]
["630E20800","EACH","OVERHEAD SIGN SUPPORT, TYPE TC-12.30, DESIGN 8","","","",0]
["630E20801","EACH","OVERHEAD SIGN SUPPORT, TYPE TC-12.30, DESIGN 8, AS PER PLAN","","","",0]
["630E20900","EACH","OVERHEAD SIGN SUPPORT, TYPE TC-12.30, DESIGN 9","","","",0]
["630E20901","EACH","OVERHEAD SIGN SUPPORT, TYPE TC-12.30, DESIGN 9, AS PER PLAN","","","",0]
["630E21000","EACH","OVERHEAD SIGN SUPPORT, TYPE TC-12.30, DESIGN 10","","","",0]
["630E21001","EACH","OVERHEAD SIGN SUPPORT, TYPE TC-12.30, DESIGN 10, AS PER PLAN","","","",0]
["630E21100","EACH","OVERHEAD SIGN SUPPORT, TYPE TC-12.30, DESIGN 11","","","",0]
["630E21101","EACH","OVERHEAD SIGN SUPPORT, TYPE TC-12.30, DESIGN 11, AS PER PLAN","","","",0]
["630E21200","EACH","OVERHEAD SIGN SUPPORT, TYPE TC-12.30, DESIGN 12","","","",0]
["630E21201","EACH","OVERHEAD SIGN SUPPORT, TYPE TC-12.30, DESIGN 12, AS PER PLAN","","","",0]
["630E25100","EACH","COMBINATION OVERHEAD SIGN SUPPORT, TYPE TC-12.30, DESIGN 1","","","",0]
["630E25101","EACH","COMBINATION OVERHEAD SIGN SUPPORT, TYPE TC-12.30, DESIGN 1, AS PER PLAN","","","",0]
["630E25200","EACH","COMBINATION OVERHEAD SIGN SUPPORT, TYPE TC-12.30, DESIGN 2","","","",0]
["630E25201","EACH","COMBINATION OVERHEAD SIGN SUPPORT, TYPE TC-12.30, DESIGN 2, AS PER PLAN","","","",0]
["630E25300","EACH","COMBINATION OVERHEAD SIGN SUPPORT, TYPE TC-12.30, DESIGN 3","","","",0]
["630E25301","EACH","COMBINATION OVERHEAD SIGN SUPPORT, TYPE TC-12.30, DESIGN 3, AS PER PLAN","","","",0]
["630E25400","EACH","COMBINATION OVERHEAD SIGN SUPPORT, TYPE TC-12.30, DESIGN 4","","","",0]
["630E25401","EACH","COMBINATION OVERHEAD SIGN SUPPORT, TYPE TC-12.30, DESIGN 4, AS PER PLAN","","","",0]
["630E25500","EACH","COMBINATION OVERHEAD SIGN SUPPORT, TYPE TC-12.30, DESIGN 5","","","",0]
["630E25501","EACH","COMBINATION OVERHEAD SIGN SUPPORT, TYPE TC-12.30, DESIGN 5, AS PER PLAN","","","",0]
["630E25600","EACH","COMBINATION OVERHEAD SIGN SUPPORT, TYPE TC-12.30, DESIGN 6","","","",0]
["630E25601","EACH","COMBINATION OVERHEAD SIGN SUPPORT, TYPE TC-12.30, DESIGN 6, AS PER PLAN","","","",0]
["630E25700","EACH","COMBINATION OVERHEAD SIGN SUPPORT, TYPE TC-12.30, DESIGN 7","","","",0]
["630E25701","EACH","COMBINATION OVERHEAD SIGN SUPPORT, TYPE TC-12.30, DESIGN 7, AS PER PLAN","","","",0]
["630E25800","EACH","COMBINATION OVERHEAD SIGN SUPPORT, TYPE TC-12.30, DESIGN 8","","","",0]
["630E25801","EACH","COMBINATION OVERHEAD SIGN SUPPORT, TYPE TC-12.30, DESIGN 8, AS PER PLAN","","","",0]
["630E25900","EACH","COMBINATION OVERHEAD SIGN SUPPORT, TYPE TC-12.30, DESIGN 9","","","",0]
["630E25901","EACH","COMBINATION OVERHEAD SIGN SUPPORT, TYPE TC-12.30, DESIGN 9, AS PER PLAN","","","",0]
["630E26000","EACH","COMBINATION OVERHEAD SIGN SUPPORT, TYPE TC-12.30, DESIGN 10","","","",0]
["630E26001","EACH","COMBINATION OVERHEAD SIGN SUPPORT, TYPE TC-12.30, DESIGN 10, AS PER PLAN","","","",0]
["630E26100","EACH","COMBINATION OVERHEAD SIGN SUPPORT, TYPE TC-12.30, DESIGN 11","","","",0]
["630E26101","EACH","COMBINATION OVERHEAD SIGN SUPPORT, TYPE TC-12.30, DESIGN 11, AS PER PLAN","","","",0]
["630E26200","EACH","COMBINATION OVERHEAD SIGN SUPPORT, TYPE TC-12.30, DESIGN 12","","","",0]
["630E26201","EACH","COMBINATION OVERHEAD SIGN SUPPORT, TYPE TC-12.30, DESIGN 12, AS PER PLAN","","","",0]
["630E30100","EACH","OVERHEAD SIGN SUPPORT, TYPE TC-9.30, DESIGN 1","","","",0]
["630E30101","EACH","OVERHEAD SIGN SUPPORT, TYPE TC-9.30, DESIGN 1, AS PER PLAN","","","",0]
["630E30200","EACH","OVERHEAD SIGN SUPPORT, TYPE TC-9.30, DESIGN 2","","","",0]
["630E30201","EACH","OVERHEAD SIGN SUPPORT, TYPE TC-9.30, DESIGN 2, AS PER PLAN","","","",0]
["630E30300","EACH","OVERHEAD SIGN SUPPORT, TYPE TC-9.30, DESIGN 3","","","",0]
["630E30301","EACH","OVERHEAD SIGN SUPPORT, TYPE TC-9.30, DESIGN 3, AS PER PLAN","","","",0]
["630E30400","EACH","OVERHEAD SIGN SUPPORT, TYPE TC-9.30, DESIGN 4","","","",0]
["630E30401","EACH","OVERHEAD SIGN SUPPORT, TYPE TC-9.30, DESIGN 4, AS PER PLAN","","","",0]
["630E30500","EACH","OVERHEAD SIGN SUPPORT, TYPE TC-9.30, DESIGN 5","","","",0]
["630E30501","EACH","OVERHEAD SIGN SUPPORT, TYPE TC-9.30, DESIGN 5, AS PER PLAN","","","",0]
["630E30600","EACH","COMBINATION OVERHEAD SIGN SUPPORT, TYPE TC-9.30, DESIGN 1","","","",0]
["630E30601","EACH","COMBINATION OVERHEAD SIGN SUPPORT, TYPE TC-9.30, DESIGN 1, AS PER PLAN","","","",0]
["630E30700","EACH","COMBINATION OVERHEAD SIGN SUPPORT, TYPE TC-9.30, DESIGN 2","","","",0]
["630E30701","EACH","COMBINATION OVERHEAD SIGN SUPPORT, TYPE TC-9.30, DESIGN 2, AS PER PLAN","","","",0]
["630E30800","EACH","COMBINATION OVERHEAD SIGN SUPPORT, TYPE TC-9.30, DESIGN 3","","","",0]
["630E30801","EACH","COMBINATION OVERHEAD SIGN SUPPORT, TYPE TC-9.30, DESIGN 3, AS PER PLAN","","","",0]
["630E30900","EACH","COMBINATION OVERHEAD SIGN SUPPORT, TYPE TC-9.30, DESIGN 4","","","",0]
["630E30901","EACH","COMBINATION OVERHEAD SIGN SUPPORT, TYPE TC-9.30, DESIGN 4, AS PER PLAN","","","",0]
["630E31000","EACH","COMBINATION OVERHEAD SIGN SUPPORT, TYPE TC-9.30, DESIGN 5","","","",0]
["630E31001","EACH","COMBINATION OVERHEAD SIGN SUPPORT, TYPE TC-9.30, DESIGN 5, AS PER PLAN","","","",0]
["630E31100","EACH","OVERHEAD SIGN SUPPORT, TYPE TC-9.10, DESIGN 1","","","",0]
["630E31101","EACH","OVERHEAD SIGN SUPPORT, TYPE TC-9.10, DESIGN 1, AS PER PLAN","","","",0]
["630E31200","EACH","OVERHEAD SIGN SUPPORT, TYPE TC-9.10, DESIGN 2","","","",0]
["630E31201","EACH","OVERHEAD SIGN SUPPORT, TYPE TC-9.10, DESIGN 2, AS PER PLAN","","","",0]
["630E31300","EACH","OVERHEAD SIGN SUPPORT, TYPE TC-9.10, DESIGN 3","","","",0]
["630E31301","EACH","OVERHEAD SIGN SUPPORT, TYPE TC-9.10, DESIGN 3, AS PER PLAN","","","",0]
["630E31400","EACH","COMBINATION OVERHEAD SIGN SUPPORT, TYPE TC-9.10, DESIGN 1","","","",0]
["630E31401","EACH","COMBINATION OVERHEAD SIGN SUPPORT, TYPE TC-9.10, DESIGN 1, AS PER PLAN","","","",0]
["630E31500","EACH","COMBINATION OVERHEAD SIGN SUPPORT, TYPE TC-9.10, DESIGN 2","","","",0]
["630E31501","EACH","COMBINATION OVERHEAD SIGN SUPPORT, TYPE TC-9.10, DESIGN 2, AS PER PLAN","","","",0]
["630E31600","EACH","COMBINATION OVERHEAD SIGN SUPPORT, TYPE TC-9.10, DESIGN 3","","","",0]
["630E31601","EACH","COMBINATION OVERHEAD SIGN SUPPORT, TYPE TC-9.10, DESIGN 3, AS PER PLAN","","","",0]
["630E35500","EACH","OVERHEAD SIGN SUPPORT, TYPE TC-7.65, DESIGN 6","","","",0]
["630E35501","EACH","OVERHEAD SIGN SUPPORT, TYPE TC-7.65, DESIGN 6, AS PER PLAN","","","",0]
["630E45500","EACH","OVERHEAD SIGN SUPPORT, TYPE TC-7.65, DESIGN 8","","","",0]
["630E45501","EACH","OVERHEAD SIGN SUPPORT, TYPE TC-7.65, DESIGN 8, AS PER PLAN","","","",0]
["630E55000","EACH","CONCRETE BARRIER MEDIAN OVERHEAD SIGN SUPPORT FOUNDATION, TC-7.65","","","",0]
["630E55001","EACH","CONCRETE BARRIER MEDIAN OVERHEAD SIGN SUPPORT FOUNDATION, TC-7.65, AS PER PLAN","","","",0]
["630E66500","EACH","OVERHEAD SIGN SUPPORT, TYPE TC-15.115","","","",0]
["630E66501","EACH","OVERHEAD SIGN SUPPORT, TYPE TC-15.115, AS PER PLAN","","","",0]
["630E70000","EACH","OVERHEAD SIGN SUPPORT, DMS TRUSS, 80'","","","",0]
["630E70001","EACH","OVERHEAD SIGN SUPPORT, DMS TRUSS, 80', AS PER PLAN","","","",0]
["630E70020","EACH","OVERHEAD SIGN SUPPORT, DMS TRUSS, 115'","","","",0]
["630E70021","EACH","OVERHEAD SIGN SUPPORT, DMS TRUSS, 115', AS PER PLAN","","","",0]
["630E70040","EACH","OVERHEAD SIGN SUPPORT, DMS TRUSS, 150'","","","",0]
["630E70041","EACH","OVERHEAD SIGN SUPPORT, DMS TRUSS, 150', AS PER PLAN","","","",0]
["630E70044","EACH","OVERHEAD SIGN SUPPORT, DMS PEDESTAL","","","",0]
["630E70045","EACH","OVERHEAD SIGN SUPPORT, DMS PEDESTAL, AS PER PLAN","","","",0]
["630E70050","EACH","CATWALK, DMS TRUSS","","","",0]
["630E70051","EACH","CATWALK, DMS TRUSS, AS PER PLAN","","","",0]
["630E70060","EACH","CATWALK, DMS PEDESTAL","","","",0]
["630E70061","EACH","CATWALK, DMS PEDESTAL, AS PER PLAN","","","",0]
["630E70070","EACH","CONCRETE BARRIER MEDIAN OVERHEAD SIGN SUPPORT FOUNDATION, DMS TRUSS","","","",0]
["630E70080","EACH","OVERHEAD SIGN SUPPORT FOUNDATION, DMS TRUSS","","","",0]
["630E70082","EACH","OVERHEAD SIGN SUPPORT FOUNDATION, DMS PEDESTAL","","","",0]
["630E72110","EACH","OVERHEAD SIGN SUPPORT, TYPE TC-9.11, DESIGN 2","","","",0]
["630E72111","EACH","OVERHEAD SIGN SUPPORT, TYPE TC-9.11, DESIGN 2, AS PER PLAN","","","",0]
["630E72120","EACH","OVERHEAD SIGN SUPPORT, TYPE TC-9.11, DESIGN 3","","","",0]
["630E72121","EACH","OVERHEAD SIGN SUPPORT, TYPE TC-9.11, DESIGN 3, AS PER PLAN","","","",0]
["630E72210","EACH","OVERHEAD SIGN SUPPORT, TYPE TC-9.31, DESIGN 2","","","",0]
["630E72211","EACH","OVERHEAD SIGN SUPPORT, TYPE TC-9.31, DESIGN 2, AS PER PLAN","","","",0]
["630E72220","EACH","OVERHEAD SIGN SUPPORT, TYPE TC-9.31, DESIGN 4","","","",0]
["630E72221","EACH","OVERHEAD SIGN SUPPORT, TYPE TC-9.31, DESIGN 4, AS PER PLAN","","","",0]
["630E72230","EACH","OVERHEAD SIGN SUPPORT, TYPE TC-9.31, DESIGN 5","","","",0]
["630E72231","EACH","OVERHEAD SIGN SUPPORT, TYPE TC-9.31, DESIGN 5, AS PER PLAN","","","",0]
["630E72320","EACH","OVERHEAD SIGN SUPPORT, TYPE TC-12.31, DESIGN 6","","","",0]
["630E72321","EACH","OVERHEAD SIGN SUPPORT, TYPE TC-12.31, DESIGN 6, AS PER PLAN","","","",0]
["630E72330","EACH","OVERHEAD SIGN SUPPORT, TYPE TC-12.31, DESIGN 10","","","",0]
["630E72331","EACH","OVERHEAD SIGN SUPPORT, TYPE TC-12.31, DESIGN 10, AS PER PLAN","","","",0]
["630E72340","EACH","OVERHEAD SIGN SUPPORT, TYPE TC-12.31, DESIGN 12","","","",0]
["630E72341","EACH","OVERHEAD SIGN SUPPORT, TYPE TC-12.31, DESIGN 12, AS PER PLAN","","","",0]
["630E72410","EACH","OVERHEAD SIGN SUPPORT, TYPE TC-15.116, DESIGN 1","","","",0]
["630E72411","EACH","OVERHEAD SIGN SUPPORT, TYPE TC-15.116, DESIGN 1, AS PER PLAN","","","",0]
["630E72420","EACH","OVERHEAD SIGN SUPPORT, TYPE TC-15.116, DESIGN 2","","","",0]
["630E72421","EACH","OVERHEAD SIGN SUPPORT, TYPE TC-15.116, DESIGN 2, AS PER PLAN","","","",0]
["630E72430","EACH","OVERHEAD SIGN SUPPORT, TYPE TC-15.116, DESIGN 3","","","",0]
["630E72431","EACH","OVERHEAD SIGN SUPPORT, TYPE TC-15.116, DESIGN 3, AS PER PLAN","","","",0]
["630E72520","EACH","OVERHEAD SIGN SUPPORT, TYPE TC-16.22, DESIGN 7","","","",0]
["630E72521","EACH","OVERHEAD SIGN SUPPORT, TYPE TC-16.22, DESIGN 7, AS PER PLAN","","","",0]
["630E72530","EACH","OVERHEAD SIGN SUPPORT, TYPE TC-16.22, DESIGN 9","","","",0]
["630E72531","EACH","OVERHEAD SIGN SUPPORT, TYPE TC-16.22, DESIGN 9, AS PER PLAN","","","",0]
["630E72540","EACH","OVERHEAD SIGN SUPPORT, TYPE TC-16.22, DESIGN 12","","","",0]
["630E72541","EACH","OVERHEAD SIGN SUPPORT, TYPE TC-16.22, DESIGN 12, AS PER PLAN","","","",0]
["630E72550","EACH","OVERHEAD SIGN SUPPORT, TYPE TC-16.22, DESIGN 13","","","",0]
["630E72551","EACH","OVERHEAD SIGN SUPPORT, TYPE TC-16.22, DESIGN 13, AS PER PLAN","","","",0]
["630E72560","EACH","OVERHEAD SIGN SUPPORT, TYPE TC-16.22, DESIGN 14","","","",0]
["630E72561","EACH","OVERHEAD SIGN SUPPORT, TYPE TC-16.22, DESIGN 14, AS PER PLAN","","","",0]
["630E73110","EACH","COMBINATION OVERHEAD SIGN SUPPORT, TYPE TC-9.11, DESIGN 2","","","",0]
["630E73111","EACH","COMBINATION OVERHEAD SIGN SUPPORT, TYPE TC-9.11, DESIGN 2, AS PER PLAN","","","",0]
["630E73120","EACH","COMBINATION OVERHEAD SIGN SUPPORT, TYPE TC-9.11, DESIGN 3","","","",0]
["630E73121","EACH","COMBINATION OVERHEAD SIGN SUPPORT, TYPE TC-9.11, DESIGN 3, AS PER PLAN","","","",0]
["630E73210","EACH","COMBINATION OVERHEAD SIGN SUPPORT, TYPE TC-9.31, DESIGN 2","","","",0]
["630E73211","EACH","COMBINATION OVERHEAD SIGN SUPPORT, TYPE TC-9.31, DESIGN 2, AS PER PLAN","","","",0]
["630E73220","EACH","COMBINATION OVERHEAD SIGN SUPPORT, TYPE TC-9.31, DESIGN 4","","","",0]
["630E73221","EACH","COMBINATION OVERHEAD SIGN SUPPORT, TYPE TC-9.31, DESIGN 4, AS PER PLAN","","","",0]
["630E73230","EACH","COMBINATION OVERHEAD SIGN SUPPORT, TYPE TC-9.31, DESIGN 5","","","",0]
["630E73231","EACH","COMBINATION OVERHEAD SIGN SUPPORT, TYPE TC-9.31, DESIGN 5, AS PER PLAN","","","",0]
["630E73320","EACH","COMBINATION OVERHEAD SIGN SUPPORT, TYPE TC-12.31, DESIGN 6","","","",0]
["630E73321","EACH","COMBINATION OVERHEAD SIGN SUPPORT, TYPE TC-12.31, DESIGN 6, AS PER PLAN","","","",0]
["630E73330","EACH","COMBINATION OVERHEAD SIGN SUPPORT, TYPE TC-12.31, DESIGN 10","","","",0]
["630E73331","EACH","COMBINATION OVERHEAD SIGN SUPPORT, TYPE TC-12.31, DESIGN 10, AS PER PLAN","","","",0]
["630E73340","EACH","COMBINATION OVERHEAD SIGN SUPPORT, TYPE TC-12.31, DESIGN 12","","","",0]
["630E73341","EACH","COMBINATION OVERHEAD SIGN SUPPORT, TYPE TC-12.31, DESIGN 12, AS PER PLAN","","","",0]
["630E73520","EACH","COMBINATION OVERHEAD SIGN SUPPORT, TYPE TC-16.22, DESIGN 7","","","",0]
["630E73521","EACH","COMBINATION OVERHEAD SIGN SUPPORT, TYPE TC-16.22, DESIGN 7, AS PER PLAN","","","",0]
["630E73530","EACH","COMBINATION OVERHEAD SIGN SUPPORT, TYPE TC-16.22, DESIGN 9","","","",0]
["630E73531","EACH","COMBINATION OVERHEAD SIGN SUPPORT, TYPE TC-16.22, DESIGN 9, AS PER PLAN","","","",0]
["630E73540","EACH","COMBINATION OVERHEAD SIGN SUPPORT, TYPE TC-16.22, DESIGN 12","","","",0]
["630E73541","EACH","COMBINATION OVERHEAD SIGN SUPPORT, TYPE TC-16.22, DESIGN 12, AS PER PLAN","","","",0]
["630E73550","EACH","COMBINATION OVERHEAD SIGN SUPPORT, TYPE TC-16.22, DESIGN 13","","","",0]
["630E73551","EACH","COMBINATION OVERHEAD SIGN SUPPORT, TYPE TC-16.22, DESIGN 13, AS PER PLAN","","","",0]
["630E73560","EACH","COMBINATION OVERHEAD SIGN SUPPORT, TYPE TC-16.22, DESIGN 14","","","",0]
["630E73561","EACH","COMBINATION OVERHEAD SIGN SUPPORT, TYPE TC-16.22, DESIGN 14, AS PER PLAN","","","",0]
["630E74500","EACH","OVERHEAD SIGN SUPPORT, MISC.:","","","ADD SUPPLEMENTAL DESCRIPTION",1]
["630E74600","EACH","OVERHEAD SIGN SUPPORT, INSTALLATION ONLY","","","",0]
["630E74601","EACH","OVERHEAD SIGN SUPPORT, INSTALLATION ONLY, AS PER PLAN","","","",0]
["630E74700","EACH","OVERHEAD SIGN SUPPORT MODIFICATION","","","",0]
["630E74701","EACH","OVERHEAD SIGN SUPPORT MODIFICATION, AS PER PLAN","","","",0]
["630E75000","EACH","SIGN ATTACHMENT ASSEMBLY","","","",0]
["630E75001","EACH","SIGN ATTACHMENT ASSEMBLY, AS PER PLAN","","","",0]
["630E75400","EACH","SPAN WIRE SIGN SUPPORT, TYPE TC-17.10, DESIGN 4","","","",0]
["630E75401","EACH","SPAN WIRE SIGN SUPPORT, TYPE TC-17.10, DESIGN 4, AS PER PLAN","","","",0]
["630E75500","EACH","SPAN WIRE SIGN SUPPORT, TYPE TC-17.10, DESIGN 5","","","",0]
["630E75501","EACH","SPAN WIRE SIGN SUPPORT, TYPE TC-17.10, DESIGN 5, AS PER PLAN","","","",0]
["630E75600","EACH","SPAN WIRE SIGN SUPPORT, TYPE TC-17.10, DESIGN 6","","","",0]
["630E75601","EACH","SPAN WIRE SIGN SUPPORT, TYPE TC-17.10, DESIGN 6, AS PER PLAN","","","",0]
["630E75700","EACH","SPAN WIRE SIGN SUPPORT, TYPE TC-17.10, DESIGN 7","","","",0]
["630E75701","EACH","SPAN WIRE SIGN SUPPORT, TYPE TC-17.10, DESIGN 7, AS PER PLAN","","","",0]
["630E75800","EACH","SPAN WIRE SIGN SUPPORT, TYPE TC-17.10, DESIGN 8","","","",0]
["630E75801","EACH","SPAN WIRE SIGN SUPPORT, TYPE TC-17.10, DESIGN 8, AS PER PLAN","","","",0]
["630E75900","EACH","SPAN WIRE SIGN SUPPORT, TYPE TC-17.10, DESIGN 9","","","",0]
["630E75901","EACH","SPAN WIRE SIGN SUPPORT, TYPE TC-17.10, DESIGN 9, AS PER PLAN","","","",0]
["630E76000","EACH","SPAN WIRE SIGN SUPPORT, TYPE TC-17.10, DESIGN 10","","","",0]
["630E76001","EACH","SPAN WIRE SIGN SUPPORT, TYPE TC-17.10, DESIGN 10, AS PER PLAN","","","",0]
["630E76100","EACH","SPAN WIRE SIGN SUPPORT, TYPE TC-17.10, DESIGN 11","","","",0]
["630E76101","EACH","SPAN WIRE SIGN SUPPORT, TYPE TC-17.10, DESIGN 11, AS PER PLAN","","","",0]
["630E76200","EACH","SPAN WIRE SIGN SUPPORT, TYPE TC-17.10, DESIGN 12","","","",0]
["630E76201","EACH","SPAN WIRE SIGN SUPPORT, TYPE TC-17.10, DESIGN 12, AS PER PLAN","","","",0]
["630E76520","EACH","SPAN WIRE SIGN SUPPORT, TYPE TC-17.11, DESIGN 8","","","",0]
["630E76521","EACH","SPAN WIRE SIGN SUPPORT, TYPE TC-17.11, DESIGN 8, AS PER PLAN","","","",0]
["630E76530","EACH","SPAN WIRE SIGN SUPPORT, TYPE TC-17.11, DESIGN 10","","","",0]
["630E76531","EACH","SPAN WIRE SIGN SUPPORT, TYPE TC-17.11, DESIGN 10, AS PER PLAN","","","",0]
["630E76540","EACH","SPAN WIRE SIGN SUPPORT, TYPE TC-17.11, DESIGN 12","","","",0]
["630E76541","EACH","SPAN WIRE SIGN SUPPORT, TYPE TC-17.11, DESIGN 12, AS PER PLAN","","","",0]
["630E76550","EACH","SPAN WIRE SIGN SUPPORT, TYPE TC-17.11, DESIGN 13","","","",0]
["630E76551","EACH","SPAN WIRE SIGN SUPPORT, TYPE TC-17.11, DESIGN 13, AS PER PLAN","","","",0]
["630E76560","EACH","SPAN WIRE SIGN SUPPORT, TYPE TC-17.11, DESIGN 14","","","",0]
["630E76561","EACH","SPAN WIRE SIGN SUPPORT, TYPE TC-17.11, DESIGN 14, AS PER PLAN","","","",0]
["630E77000","EACH","OVERPASS STRUCTURE MOUNTED SIGN SUPPORT, TYPE TC-18.24","","","",0]
["630E77001","EACH","OVERPASS STRUCTURE MOUNTED SIGN SUPPORT, TYPE TC-18.24, AS PER PLAN","","","",0]
["630E77100","EACH","OVERPASS STRUCTURE MOUNTED SIGN SUPPORT, TYPE TC-18.26, DESIGN 1","","","",0]
["630E77101","EACH","OVERPASS STRUCTURE MOUNTED SIGN SUPPORT, TYPE TC-18.26, DESIGN 1, AS PER PLAN","","","",0]
["630E77200","EACH","OVERPASS STRUCTURE MOUNTED SIGN SUPPORT, TYPE TC-18.26, DESIGN 2","","","",0]
["630E77201","EACH","OVERPASS STRUCTURE MOUNTED SIGN SUPPORT, TYPE TC-18.26, DESIGN 2, AS PER PLAN","","","",0]
["630E77300","EACH","OVERPASS STRUCTURE MOUNTED SIGN SUPPORT, TYPE TC-18.26, DESIGN 3","","","",0]
["630E77301","EACH","OVERPASS STRUCTURE MOUNTED SIGN SUPPORT, TYPE TC-18.26, DESIGN 3, AS PER PLAN","","","",0]
["630E77400","EACH","OVERPASS STRUCTURE MOUNTED SIGN SUPPORT, TYPE TC-18.26, DESIGN 4","","","",0]
["630E77401","EACH","OVERPASS STRUCTURE MOUNTED SIGN SUPPORT, TYPE TC-18.26, DESIGN 4, AS PER PLAN","","","",0]
["630E77500","EACH","OVERPASS STRUCTURE MOUNTED SIGN SUPPORT, TYPE TC-18.26, DESIGN 5","","","",0]
["630E77501","EACH","OVERPASS STRUCTURE MOUNTED SIGN SUPPORT, TYPE TC-18.26, DESIGN 5, AS PER PLAN","","","",0]
["630E77600","EACH","OVERPASS STRUCTURE MOUNTED SIGN SUPPORT, TYPE TC-18.26, DESIGN 6","","","",0]
["630E77601","EACH","OVERPASS STRUCTURE MOUNTED SIGN SUPPORT, TYPE TC-18.26, DESIGN 6, AS PER PLAN","","","",0]
["630E77700","EACH","OVERPASS STRUCTURE MOUNTED SIGN SUPPORT, TYPE TC-18.26, DESIGN 7","","","",0]
["630E77701","EACH","OVERPASS STRUCTURE MOUNTED SIGN SUPPORT, TYPE TC-18.26, DESIGN 7, AS PER PLAN","","","",0]
["630E77800","EACH","OVERPASS STRUCTURE MOUNTED SIGN SUPPORT, TYPE TC-18.26, DESIGN 8","","","",0]
["630E77801","EACH","OVERPASS STRUCTURE MOUNTED SIGN SUPPORT, TYPE TC-18.26, DESIGN 8, AS PER PLAN","","","",0]
["630E77900","EACH","OVERPASS STRUCTURE MOUNTED SIGN SUPPORT, TYPE TC-18.26, DESIGN 9","","","",0]
["630E77901","EACH","OVERPASS STRUCTURE MOUNTED SIGN SUPPORT, TYPE TC-18.26, DESIGN 9, AS PER PLAN","","","",0]
["630E78000","EACH","OVERPASS STRUCTURE MOUNTED SIGN SUPPORT, TYPE TC-18.26, DESIGN 10","","","",0]
["630E78001","EACH","OVERPASS STRUCTURE MOUNTED SIGN SUPPORT, TYPE TC-18.26, DESIGN 10, AS PER PLAN","","","",0]
["630E78500","EACH","SPECIAL - DYE PENETRANT TEST","","","CHECK UNIT OF MEASURE",0]
["630E78600","LS","SPECIAL - DYE PENETRANT TEST","","","CHECK UNIT OF MEASURE",0]
["630E79000","EACH","SIGN HANGER ASSEMBLY, SPAN WIRE","","","",0]
["630E79001","EACH","SIGN HANGER ASSEMBLY, SPAN WIRE, AS PER PLAN","","","",0]
["630E79100","EACH","SIGN HANGER ASSEMBLY, MAST ARM","","","",0]
["630E79101","EACH","SIGN HANGER ASSEMBLY, MAST ARM, AS PER PLAN","","","",0]
["630E79200","EACH","SIGN ATTACHMENT ASSEMBLY, MAST ARM","","","",0]
["630E79201","EACH","SIGN ATTACHMENT ASSEMBLY, MAST ARM, AS PER PLAN","","","",0]
["630E79500","EACH","SIGN SUPPORT ASSEMBLY, POLE MOUNTED","","","",0]
["630E79501","EACH","SIGN SUPPORT ASSEMBLY, POLE MOUNTED, AS PER PLAN","","","",0]
["630E79600","EACH","SIGN SUPPORT ASSEMBLY, BRIDGE MOUNTED, TYPE 1","","","",0]
["630E79601","EACH","SIGN SUPPORT ASSEMBLY, BRIDGE MOUNTED, TYPE 1, AS PER PLAN","","","",0]
["630E79604","EACH","SIGN SUPPORT ASSEMBLY, BRIDGE MOUNTED, TYPE 2","","","",0]
["630E79605","EACH","SIGN SUPPORT ASSEMBLY, BRIDGE MOUNTED, TYPE 2, AS PER PLAN","","","",0]
["630E79610","EACH","SIGN SUPPORT ASSEMBLY, BARRIER MOUNTED","","","",0]
["630E79611","EACH","SIGN SUPPORT ASSEMBLY, BARRIER MOUNTED, AS PER PLAN","","","",0]
["630E80100","SF","SIGN, FLAT SHEET","","","",0]
["630E80101","SF","SIGN, FLAT SHEET, AS PER PLAN","","","",0]
["630E80200","SF","SIGN, GROUND MOUNTED EXTRUSHEET","","","",0]
["630E80201","SF","SIGN, GROUND MOUNTED EXTRUSHEET, AS PER PLAN","","","",0]
["630E80224","SF","SIGN, OVERHEAD EXTRUSHEET","","","",0]
["630E80225","SF","SIGN, OVERHEAD EXTRUSHEET, AS PER PLAN","","","",0]
["630E80228","EACH","SIGN, OVERHEAD EXTRUSHEET","","","",0]
["630E80229","EACH","SIGN, OVERHEAD EXTRUSHEET, AS PER PLAN","","","",0]
["630E80300","SF","SIGN, TEMPORARY OVERLAY","","","",0]
["630E80301","SF","SIGN, TEMPORARY OVERLAY, AS PER PLAN","","","",0]
["630E80400","SF","SIGN, PERMANENT OVERLAY","","","",0]
["630E80401","SF","SIGN, PERMANENT OVERLAY, AS PER PLAN","","","",0]
["630E80406","SF","SPECIAL - SIGN REWORKED, PERMANENT OVERLAY","","","",0]
["630E80500","EACH","SIGN, DOUBLE FACED, STREET NAME","","","",0]
["630E80501","EACH","SIGN, DOUBLE FACED, STREET NAME, AS PER PLAN","","","",0]
["630E80510","EACH","SIGN, STREET NAME","","","",0]
["630E80511","EACH","SIGN, STREET NAME, AS PER PLAN","","","",0]
["630E80600","EACH","SIGN, DOUBLE FACED, MILE MARKER","","","",0]
["630E80601","EACH","SIGN, DOUBLE FACED, MILE MARKER, AS PER PLAN","","","",0]
["630E81000","EACH","MAINLINE REFERENCE MARKER","","","",0]
["630E81010","EACH","RAMP REFERENCE MARKER","","","",0]
["630E81011","EACH","RAMP REFERENCE MARKER, AS PER PLAN","","","",0]
["630E81020","EACH","CONCRETE MEDIAN BARRIER SIGN BRACKET","","","",0]
["630E81021","EACH","CONCRETE MEDIAN BARRIER SIGN BRACKET, AS PER PLAN","","","",0]
["630E81100","SF","SIGN ERECTED, FLAT SHEET","","","",0]
["630E81101","SF","SIGN ERECTED, FLAT SHEET, AS PER PLAN","","","",0]
["630E81200","SF","SIGN ERECTED, EXTRUSHEET","","","",0]
["630E81201","SF","SIGN ERECTED, EXTRUSHEET, AS PER PLAN","","","",0]
["630E81300","SF","SIGN ERECTED, PERMANENT OVERLAY","","","",0]
["630E81301","SF","SIGN ERECTED, PERMANENT OVERLAY, AS PER PLAN","","","",0]
["630E81304","SF","SIGN ERECTED, TEMPORARY OVERLAY","","","",0]
["630E81305","SF","SIGN ERECTED, TEMPORARY OVERLAY, AS PER PLAN","","","",0]
["630E82000","EACH","SIGN BACKING ASSEMBLY","","","",0]
["630E83000","SF","COVERING OF SIGN","","","",0]
["630E84000","EACH","CONCRETE BARRIER MEDIAN OVERHEAD SIGN SUPPORT FOUNDATION, TYPE TC-21.40","","","",0]
["630E84001","EACH","CONCRETE BARRIER MEDIAN OVERHEAD SIGN SUPPORT FOUNDATION, TYPE TC-21.40, AS PER PLAN","","","",0]
["630E84010","EACH","CONCRETE BARRIER MEDIAN OVERHEAD SIGN SUPPORT FOUNDATION, TYPE TC-21.50","","","",0]
["630E84011","EACH","CONCRETE BARRIER MEDIAN OVERHEAD SIGN SUPPORT FOUNDATION, TYPE TC-21.50, AS PER PLAN","","","",0]
["630E84500","EACH","GROUND MOUNTED STRUCTURAL BEAM SUPPORT FOUNDATION","","","",0]
["630E84501","EACH","GROUND MOUNTED STRUCTURAL BEAM SUPPORT FOUNDATION, AS PER PLAN","","","",0]
["630E84510","EACH","RIGID OVERHEAD SIGN SUPPORT FOUNDATION","","","",0]
["630E84511","EACH","RIGID OVERHEAD SIGN SUPPORT FOUNDATION, AS PER PLAN","","","",0]
["630E84520","EACH","SPAN WIRE SIGN SUPPORT FOUNDATION","","","",0]
["630E84521","EACH","SPAN WIRE SIGN SUPPORT FOUNDATION, AS PER PLAN","","","",0]
["630E84600","EACH","GROUND MOUNTED PIPE SUPPORT FOUNDATION","","","",0]
["630E84601","EACH","GROUND MOUNTED PIPE SUPPORT FOUNDATION, AS PER PLAN","","","",0]
["630E84900","EACH","REMOVAL OF GROUND MOUNTED SIGN AND DISPOSAL","","","",0]
["630E84901","EACH","REMOVAL OF GROUND MOUNTED SIGN AND DISPOSAL, AS PER PLAN","","","",0]
["630E85000","EACH","REMOVAL OF GROUND MOUNTED SIGN AND STORAGE","","","",0]
["630E85001","EACH","REMOVAL OF GROUND MOUNTED SIGN AND STORAGE, AS PER PLAN","","","",0]
["630E85100","EACH","REMOVAL OF GROUND MOUNTED SIGN AND REERECTION","","","",0]
["630E85101","EACH","REMOVAL OF GROUND MOUNTED SIGN AND REERECTION, AS PER PLAN","","","",0]
["630E85200","EACH","REMOVAL OF GROUND MOUNTED SIGN AND DELIVERY","","","",0]
["630E85201","EACH","REMOVAL OF GROUND MOUNTED SIGN AND DELIVERY, AS PER PLAN","","","",0]
["630E85400","EACH","REMOVAL OF GROUND MOUNTED MAJOR SIGN AND DISPOSAL","","","",0]
["630E85401","EACH","REMOVAL OF GROUND MOUNTED MAJOR SIGN AND DISPOSAL, AS PER PLAN","","","",0]
["630E85500","EACH","REMOVAL OF GROUND MOUNTED MAJOR SIGN AND STORAGE","","","",0]
["630E85501","EACH","REMOVAL OF GROUND MOUNTED MAJOR SIGN AND STORAGE, AS PER PLAN","","","",0]
["630E85600","EACH","REMOVAL OF GROUND MOUNTED MAJOR SIGN AND REERECTION","","","",0]
["630E85601","EACH","REMOVAL OF GROUND MOUNTED MAJOR SIGN AND REERECTION, AS PER PLAN","","","",0]
["630E85700","EACH","REMOVAL OF GROUND MOUNTED MAJOR SIGN AND DELIVERY","","","",0]
["630E85701","EACH","REMOVAL OF GROUND MOUNTED MAJOR SIGN AND DELIVERY, AS PER PLAN","","","",0]
["630E86002","EACH","REMOVAL OF GROUND MOUNTED POST SUPPORT AND DISPOSAL","","","",0]
["630E86003","EACH","REMOVAL OF GROUND MOUNTED POST SUPPORT AND DISPOSAL, AS PER PLAN","","","",0]
["630E86006","EACH","REMOVAL OF GROUND MOUNTED POST SUPPORT AND STORAGE","","","",0]
["630E86007","EACH","REMOVAL OF GROUND MOUNTED POST SUPPORT AND STORAGE, AS PER PLAN","","","",0]
["630E86010","EACH","REMOVAL OF GROUND MOUNTED POST SUPPORT AND REERECTION","","","",0]
["630E86011","EACH","REMOVAL OF GROUND MOUNTED POST SUPPORT AND REERECTION, AS PER PLAN","","","",0]
["630E86050","EACH","REMOVAL OF GROUND MOUNTED POST SUPPORT AND DELIVERY","","","",0]
["630E86102","EACH","REMOVAL OF GROUND MOUNTED STRUCTURAL BEAM SUPPORT AND DISPOSAL","","","",0]
["630E86103","EACH","REMOVAL OF GROUND MOUNTED STRUCTURAL BEAM SUPPORT AND DISPOSAL, AS PER PLAN","","","",0]
["630E86204","EACH","REMOVAL OF GROUND MOUNTED STRUCTURAL BEAM SUPPORT AND STORAGE","","","",0]
["630E86205","EACH","REMOVAL OF GROUND MOUNTED STRUCTURAL BEAM SUPPORT AND STORAGE, AS PER PLAN","","","",0]
["630E86250","EACH","REMOVAL OF GROUND MOUNTED STRUCTURAL BEAM SUPPORT AND REERECTION","","","",0]
["630E86251","EACH","REMOVAL OF GROUND MOUNTED STRUCTURAL BEAM SUPPORT AND REERECTION, AS PER PLAN","","","",0]
["630E86260","EACH","REMOVAL OF GROUND MOUNTED STRUCTURAL BEAM SUPPORT AND DELIVERY","","","",0]
["630E86261","EACH","REMOVAL OF GROUND MOUNTED STRUCTURAL BEAM SUPPORT AND DELIVERY, AS PER PLAN","","","",0]
["630E86270","EACH","REMOVAL OF GROUND MOUNTED PIPE SUPPORT AND STORAGE","","","",0]
["630E86271","EACH","REMOVAL OF GROUND MOUNTED PIPE SUPPORT AND STORAGE, AS PER PLAN","","","",0]
["630E86272","EACH","REMOVAL OF GROUND MOUNTED PIPE SUPPORT AND DISPOSAL","","","",0]
["630E86274","EACH","REMOVAL OF GROUND MOUNTED PIPE SUPPORT AND REERECTION","","","",0]
["630E86275","EACH","REMOVAL OF GROUND MOUNTED PIPE SUPPORT AND REERECTION, AS PER PLAN","","","",0]
["630E86276","EACH","REMOVAL OF GROUND MOUNTED PIPE SUPPORT AND DELIVERY","","","",0]
["630E86290","EACH","REMOVAL OF GROUND MOUNTED WOODEN BOX BEAM SUPPORT AND STORAGE","","","",0]
["630E86292","EACH","REMOVAL OF GROUND MOUNTED WOODEN BOX BEAM SUPPORT AND DISPOSAL","","","",0]
["630E86293","EACH","REMOVAL OF GROUND MOUNTED WOODEN BOX BEAM SUPPORT AND DISPOSAL, AS PER PLAN","","","",0]
["630E86294","EACH","REMOVAL OF GROUND MOUNTED WOODEN BOX BEAM SUPPORT AND REERECTION","","","",0]
["630E86296","EACH","REMOVAL OF GROUND MOUNTED WOODEN BOX BEAM SUPPORT AND DELIVER","","","",0]
["630E86310","EACH","REMOVAL OF STRUCTURE MOUNTED SIGN AND DISPOSAL","","","",0]
["630E86311","EACH","REMOVAL OF STRUCTURE MOUNTED SIGN AND DISPOSAL, AS PER PLAN","","","",0]
["630E86320","EACH","REMOVAL OF STRUCTURE MOUNTED SIGN AND REERECTION","","","",0]
["630E86321","EACH","REMOVAL OF STRUCTURE MOUNTED SIGN AND REERECTION, AS PER PLAN","","","",0]
["630E86330","EACH","REMOVAL OF STRUCTURE MOUNTED SIGN AND STORAGE","","","",0]
["630E86340","EACH","REMOVAL OF STRUCTURE MOUNTED SIGN AND DELIVERY","","","",0]
["630E86500","EACH","REMOVAL OF GROUND MOUNTED POST SUPPORT AND DELIVERY","","","",0]
["630E86501","EACH","REMOVAL OF GROUND MOUNTED POST SUPPORT AND DELIVERY, AS PER PLAN","","","",0]
["630E87000","EACH","REMOVAL OF OVERHEAD MOUNTED SIGN AND STORAGE","","","",0]
["630E87001","EACH","REMOVAL OF OVERHEAD MOUNTED SIGN AND STORAGE, AS PER PLAN","","","",0]
["630E87100","EACH","REMOVAL OF OVERHEAD MOUNTED SIGN AND REERECTION","","","",0]
["630E87101","EACH","REMOVAL OF OVERHEAD MOUNTED SIGN AND REERECTION, AS PER PLAN","","","",0]
["630E87400","EACH","REMOVAL OF OVERHEAD MOUNTED SIGN AND DISPOSAL","","","",0]
["630E87401","EACH","REMOVAL OF OVERHEAD MOUNTED SIGN AND DISPOSAL, AS PER PLAN","","","",0]
["630E87450","EACH","REMOVAL OF OVERHEAD MOUNTED SIGN AND DELIVERY","","","",0]
["630E87451","EACH","REMOVAL OF OVERHEAD MOUNTED SIGN AND DELIVERY, AS PER PLAN","","","",0]
["630E87500","EACH","REMOVAL OF POLE MOUNTED SIGN AND DISPOSAL","","","",0]
["630E87501","EACH","REMOVAL OF POLE MOUNTED SIGN AND DISPOSAL, AS PER PLAN","","","",0]
["630E87510","EACH","REMOVAL OF POLE MOUNTED SIGN AND STORAGE","","","",0]
["630E87511","EACH","REMOVAL OF POLE MOUNTED SIGN AND STORAGE, AS PER PLAN","","","",0]
["630E87520","EACH","REMOVAL OF POLE MOUNTED SIGN AND REERECTION","","","",0]
["630E87521","EACH","REMOVAL OF POLE MOUNTED SIGN AND REERECTION, AS PER PLAN","","","",0]
["630E87550","EACH","REMOVAL OF POLE MOUNTED SIGN AND DELIVERY","","","",0]
["630E87551","EACH","REMOVAL OF POLE MOUNTED SIGN AND DELIVERY, AS PER PLAN","","","",0]
["630E88002","EACH","REMOVAL OF OVERHEAD SIGN SUPPORT AND STORAGE, TYPE TC-16.21","","","",0]
["630E88100","EACH","REMOVAL OF OVERHEAD SIGN SUPPORT AND STORAGE, TYPE TC-12.30","","","",0]
["630E88101","EACH","REMOVAL OF OVERHEAD SIGN SUPPORT AND STORAGE, TYPE TC-12.30, AS PER PLAN","","","",0]
["630E88200","EACH","REMOVAL OF OVERHEAD SIGN SUPPORT AND STORAGE, TYPE TC-9.30","","","",0]
["630E88300","EACH","REMOVAL OF OVERHEAD SIGN SUPPORT AND STORAGE, TYPE TC-9.10","","","",0]
["630E88400","EACH","REMOVAL OF OVERHEAD SIGN SUPPORT AND STORAGE, TYPE TC-7.65","","","",0]
["630E88500","EACH","REMOVAL OF OVERHEAD SIGN SUPPORT AND STORAGE, TYPE TC-15.115","","","",0]
["630E88550","EACH","REMOVAL OF OVERHEAD SIGN SUPPORT AND STORAGE, TYPE TC-17.10","","","",0]
["630E88551","EACH","REMOVAL OF OVERHEAD SIGN SUPPORT AND STORAGE, TYPE TC-17.10, AS PER PLAN","","","",0]
["630E88600","EACH","REMOVAL OF OVERHEAD SIGN SUPPORT AND STORAGE, TYPE TC-18.24","","","",0]
["630E88700","EACH","REMOVAL OF OVERHEAD SIGN SUPPORT AND STORAGE, TYPE TC-18.26","","","",0]
["630E88800","EACH","REMOVAL OF OVERHEAD SIGN SUPPORT AND STORAGE","","","",0]
["630E88801","EACH","REMOVAL OF OVERHEAD SIGN SUPPORT AND STORAGE, AS PER PLAN","","","",0]
["630E88910","EACH","REMOVAL OF OVERHEAD SIGN SUPPORT AND REERECTION, TYPE TC-17.10","","","",0]
["630E89002","EACH","REMOVAL OF OVERHEAD SIGN SUPPORT AND REERECTION, TYPE TC-16.21","","","",0]
["630E89003","EACH","REMOVAL OF OVERHEAD SIGN SUPPORT AND REERECTION, TYPE TC-16.21, AS PER PLAN","","","",0]
["630E89100","EACH","REMOVAL OF OVERHEAD SIGN SUPPORT AND REERECTION, TYPE TC-12.30","","","",0]
["630E89101","EACH","REMOVAL OF OVERHEAD SIGN SUPPORT AND REERECTION, TYPE TC-12.30, AS PER PLAN","","","",0]
["630E89200","EACH","REMOVAL OF OVERHEAD SIGN SUPPORT AND REERECTION, TYPE TC-9.30","","","",0]
["630E89300","EACH","REMOVAL OF OVERHEAD SIGN SUPPORT AND REERECTION, TYPE TC-9.10","","","",0]
["630E89400","EACH","REMOVAL OF OVERHEAD SIGN SUPPORT AND REERECTION, TYPE TC-7.65","","","",0]
["630E89401","EACH","REMOVAL OF OVERHEAD SIGN SUPPORT AND REERECTION, TYPE TC-7.65, AS PER PLAN","","","",0]
["630E89500","EACH","REMOVAL OF OVERHEAD SIGN SUPPORT AND REERECTION, TYPE TC-15.115","","","",0]
["630E89501","EACH","REMOVAL OF OVERHEAD SIGN SUPPORT AND REERECTION, TYPE TC-15. 115, AS PER PLAN","","","",0]
["630E89600","EACH","REMOVAL OF OVERHEAD SIGN SUPPORT AND REERECTION, TYPE TC-18.24","","","",0]
["630E89601","EACH","REMOVAL OF OVERHEAD SIGN SUPPORT AND REERECTION, TYPE TC-18.24, AS PER PLAN","","","",0]
["630E89700","EACH","REMOVAL OF OVERHEAD SIGN SUPPORT AND REERECTION, TYPE TC-18.26","","","",0]
["630E89701","EACH","REMOVAL OF OVERHEAD SIGN SUPPORT AND REERECTION, TYPE TC-18.26, AS PER PLAN","","","",0]
["630E89702","EACH","REMOVAL OF OVERHEAD SIGN SUPPORT AND DISPOSAL","","","",0]
["630E89703","EACH","REMOVAL OF OVERHEAD SIGN SUPPORT AND DISPOSAL, AS PER PLAN","","","",0]
["630E89704","EACH","REMOVAL OF OVERHEAD SIGN SUPPORT AND DISPOSAL, TYPE TC-16.21","","","",0]
["630E89705","EACH","REMOVAL OF OVERHEAD SIGN SUPPORT AND DISPOSAL, TYPE TC-16.21, AS PER PLAN","","","",0]
["630E89706","EACH","REMOVAL OF OVERHEAD SIGN SUPPORT AND DISPOSAL, TYPE TC-12.30","","","",0]
["630E89707","EACH","REMOVAL OF OVERHEAD SIGN SUPPORT AND DISPOSAL, TYPE TC-12.30, AS PER PLAN","","","",0]
["630E89708","EACH","REMOVAL OF OVERHEAD SIGN SUPPORT AND DISPOSAL, TYPE TC-9.30","","","",0]
["630E89790","EACH","REMOVAL OF OVERHEAD SIGN SUPPORT AND DISPOSAL, TYPE TC-17.11","","","",0]
["630E89800","EACH","REMOVAL OF OVERHEAD SIGN SUPPORT AND DISPOSAL, TYPE TC-9.10","","","",0]
["630E89802","EACH","REMOVAL OF OVERHEAD SIGN SUPPORT AND DISPOSAL, TYPE TC-7.65","","","",0]
["630E89803","EACH","REMOVAL OF OVERHEAD SIGN SUPPORT AND DISPOSAL, TYPE TC-7.65, AS PER PLAN","","","",0]
["630E89804","EACH","REMOVAL OF OVERHEAD SIGN SUPPORT AND DISPOSAL, TYPE TC-15.115","","","",0]
["630E89805","EACH","REMOVAL OF OVERHEAD SIGN SUPPORT AND DISPOSAL, TYPE TC-15.115, AS PER PLAN","","","",0]
["630E89806","EACH","REMOVAL OF OVERHEAD SIGN SUPPORT AND DISPOSAL, TYPE TC-18.24","","","",0]
["630E89807","EACH","REMOVAL OF OVERHEAD SIGN SUPPORT AND DISPOSAL, TYPE TC-18.24, AS PER PLAN","","","",0]
["630E89808","EACH","REMOVAL OF OVERHEAD SIGN SUPPORT AND DISPOSAL, TYPE TC-18.26","","","",0]
["630E89809","EACH","REMOVAL OF OVERHEAD SIGN SUPPORT AND DISPOSAL, TYPE TC-18.26, AS PER PLAN","","","",0]
["630E89810","EACH","REMOVAL OF OVERHEAD SIGN SUPPORT AND DISPOSAL, TYPE TC-17.10","","","",0]
["630E89811","EACH","REMOVAL OF OVERHEAD SIGN SUPPORT AND DISPOSAL, TYPE TC-17.10, AS PER PLAN","","","",0]
["630E89812","EACH","REMOVAL OF WOOD POLE AND DISPOSAL","","","",0]
["630E89814","EACH","REMOVAL OF WOOD POLE AND STORAGE","","","",0]
["630E89816","EACH","REMOVAL OF WOOD POLE AND REERECTION","","","",0]
["630E89818","EACH","REMOVAL OF WOOD POLE AND DELIVERY","","","",0]
["630E89820","EACH","REMOVAL OF OVERHEAD SIGN SUPPORT AND DELIVERY","","","",0]
["630E89821","EACH","REMOVAL OF OVERHEAD SIGN SUPPORT AND DELIVERY, AS PER PLAN","","","",0]
["630E89822","EACH","REMOVAL OF OVERHEAD SIGN SUPPORT AND DELIVERY, TYPE TC-16.20","","","",0]
["630E89823","EACH","REMOVAL OF OVERHEAD SIGN SUPPORT AND DELIVERY, TYPE TC-16.20, AS PER PLAN","","","",0]
["630E89824","EACH","REMOVAL OF OVERHEAD SIGN SUPPORT AND DELIVERY, TYPE TC-12.30","","","",0]
["630E89825","EACH","REMOVAL OF OVERHEAD SIGN SUPPORT AND DELIVERY, TYPE TC-12.30, AS PER PLAN","","","",0]
["630E89830","EACH","REMOVAL OF OVERHEAD SIGN SUPPORT AND DELIVERY, TYPE TC-9.30","","","",0]
["630E89831","EACH","REMOVAL OF OVERHEAD SIGN SUPPORT AND DELIVERY, TYPE TC-9.30, AS PER PLAN","","","",0]
["630E89832","EACH","REMOVAL OF OVERHEAD SIGN SUPPORT AND DELIVERY, TYPE TC-9.10","","","",0]
["630E89833","EACH","REMOVAL OF OVERHEAD SIGN SUPPORT AND DELIVERY, TYPE TC-9.10, AS PER PLAN","","","",0]
["630E89834","EACH","REMOVAL OF OVERHEAD SIGN SUPPORT AND DELIVERY, TYPE TC-7.65","","","",0]
["630E89835","EACH","REMOVAL OF OVERHEAD SIGN SUPPORT AND DELIVERY, TYPE TC-7.65, AS PER PLAN","","","",0]
["630E89840","EACH","REMOVAL OF OVERHEAD SIGN SUPPORT AND DELIVERY, TYPE TC-15.115","","","",0]
["630E89841","EACH","REMOVAL OF OVERHEAD SIGN SUPPORT AND DELIVERY, TYPE TC-15.115, AS PER PLAN","","","",0]
["630E89842","EACH","REMOVAL OF OVERHEAD SIGN SUPPORT AND DELIVERY, TYPE TC-18.24","","","",0]
["630E89843","EACH","REMOVAL OF OVERHEAD SIGN SUPPORT AND DELIVERY, TYPE TC-18.24, AS PER PLAN","","","",0]
["630E89850","EACH","REMOVAL OF OVERHEAD SIGN SUPPORT AND DELIVERY, TYPE TC-18.26","","","",0]
["630E89851","EACH","REMOVAL OF OVERHEAD SIGN SUPPORT AND DELIVERY, TYPE TC-18.26, AS PER PLAN","","","",0]
["630E89852","EACH","REMOVAL OF OVERHEAD SIGN SUPPORT AND DELIVERY, TYPE TC-17.10","","","",0]
["630E89853","EACH","REMOVAL OF OVERHEAD SIGN SUPPORT AND DELIVERY, TYPE TC-17.10, AS PER PLAN","","","",0]
["630E89894","EACH","REMOVAL OF TEMPORARY OVERLAY SIGN AND DISPOSAL","","","",0]
["630E89896","EACH","REMOVAL OF TEMPORARY OVERLAY SIGN AND REERECTION","","","",0]
["630E89898","EACH","REMOVAL OF TEMPORARY OVERLAY SIGN AND STORAGE","","","",0]
["630E89900","EACH","REMOVAL OF OVERLAY SIGN","","","",0]
["630E89901","EACH","REMOVAL OF OVERLAY SIGN, AS PER PLAN","","","",0]
["630E89902","EACH","REMOVAL OF MISCELLANEOUS TRAFFIC CONTROL ITEM","","","ADD SUPPLEMENTAL DESCRIPTION",1]
["630E91000","EACH","TRANSPORTATION OF STORED SIGN, FLAT SHEET","","","",0]
["630E91010","EACH","TRANSPORTATION OF STORED SIGN, EXTRUSHEET","","","",0]
["630E95000","LS","SIGNING, MISC.:","","","ADD SUPPLEMENTAL DESCRIPTION",1]
["630E97700","EACH","SIGNING, MISC.:","","","ADD SUPPLEMENTAL DESCRIPTION",1]
["630E97800","SF","SIGNING, MISC.:","","","ADD SUPPLEMENTAL DESCRIPTION",1]
["630E97900","FT","SIGNING, MISC.:","","","ADD SUPPLEMENTAL DESCRIPTION",1]
["630E98000","CY","SIGNING, MISC.:","","","ADD SUPPLEMENTAL DESCRIPTION",1]
["630E98100","SY","SIGNING, MISC.:","","","ADD SUPPLEMENTAL DESCRIPTION",1]
["630E99000","LS","SPECIAL - SIGNS AND SUPPORTS","","","DESIGN BUILD PROJECTS ONLY",0]
["631E84000","EACH","SIGN SERVICE","","","",0]
["631E84001","EACH","SIGN SERVICE, AS PER PLAN","","","",0]
["631E84300","EACH","SIGN WIRED","","","",0]
["631E84301","EACH","SIGN WIRED, AS PER PLAN","","","",0]
["631E84400","EACH","SIGN WIRED, OVERPASS STRUCTURE","","","",0]
["631E84401","EACH","SIGN WIRED, OVERPASS STRUCTURE, AS PER PLAN","","","",0]
["631E85000","EACH","DISCONNECT SWITCH, 30 AMP","","","",0]
["631E85010","EACH","DISCONNECT SWITCH, 60 AMP","","","",0]
["631E85030","EACH","DISCONNECT SWITCH, 100 AMP","","","",0]
["631E85100","EACH","DISCONNECT SWITCH WITH ENCLOSURE, TYPE X","","","",0]
["631E85101","EACH","DISCONNECT SWITCH WITH ENCLOSURE, TYPE X, AS PER PLAN","","","",0]
["631E85200","EACH","DISCONNECT SWITCH WITH ENCLOSURE, TYPE Y","","","",0]
["631E85300","EACH","DISCONNECT SWITCH WITH ENCLOSURE, TYPE Z","","","",0]
["631E85302","EACH","DISCONNECT SWITCH WITH ENCLOSURE, 30 AMP","","","",0]
["631E85304","EACH","DISCONNECT SWITCH WITH ENCLOSURE, 15 AMP","","","",0]
["631E85500","EACH","SWITCH ENCLOSURE MOUNTING BRACKET ASSEMBLY","","","",0]
["631E85501","EACH","SWITCH ENCLOSURE MOUNTING BRACKET ASSEMBLY, AS PER PLAN","","","",0]
["631E86900","EACH","BALLAST, TYPE CMRI-100-120","","","",0]
["631E87010","EACH","BALLAST, TYPE CMRI-175-240","","","",0]
["631E87102","EACH","BALLAST, TYPE CMRI-100-480","","","",0]
["631E87150","EACH","BALLAST, TYPE CMRI-175-120","","","",0]
["631E87202","EACH","BALLAST, TYPE CMRI-175-480","","","",0]
["631E87250","EACH","BALLAST, TYPE CMRI 250-120","","","",0]
["631E87270","EACH","BALLAST, TYPE CMRI-250-240","","","",0]
["631E87302","EACH","BALLAST, TYPE CMRI-250-480","","","",0]
["631E87400","EACH","BALLAST, MISC.:","","","ADD SUPPLEMENTAL DESCRIPTION",1]
["631E88000","EACH","PHOTOELECTRIC CONTROL","","","",0]
["631E88001","EACH","PHOTOELECTRIC CONTROL, AS PER PLAN","","","",0]
["631E90100","EACH","CHANGEABLE MESSAGE SIGN, LIMITED MESSAGE","","","",0]
["631E90101","EACH","CHANGEABLE MESSAGE SIGN, LIMITED MESSAGE, AS PER PLAN","","","",0]
["631E90200","EACH","CHANGEABLE MESSAGE SIGN, UNLIMITED MESSAGE","","","",0]
["631E90201","EACH","CHANGEABLE MESSAGE SIGN, UNLIMITED MESSAGE, AS PER PLAN","","","",0]
["631E90500","EACH","INTERNALLY ILLUMINATED FIXED MESSAGE SIGN","","","SPECIFY TYPE",1]
["631E90501","EACH","INTERNALLY ILLUMINATED FIXED MESSAGE SIGN, AS PER PLAN","","","SPECIFY TYPE",1]
["631E92000","EACH","SIGN FLASHER ASSEMBLY","","","",0]
["631E92001","EACH","SIGN FLASHER ASSEMBLY, AS PER PLAN","","","",0]
["631E92990","EACH","SCHOOL SPEED LIMIT SIGN ASSEMBLY, 24\" X 36\"","","","",0]
["631E92991","EACH","SCHOOL SPEED LIMIT SIGN ASSEMBLY, 24\" X 36\", AS PER PLAN","","","",0]
["631E93000","EACH","SCHOOL SPEED LIMIT SIGN ASSEMBLY, 24\" X 48\"","","","",0]
["631E93001","EACH","SCHOOL SPEED LIMIT SIGN ASSEMBLY, 24\" X 48\", AS PER PLAN","","","",0]
["631E93010","EACH","SCHOOL SPEED LIMIT SIGN ASSEMBLY, 36\" X 48\"","","","",0]
["631E93100","EACH","SCHOOL SPEED LIMIT SIGN ASSEMBLY, 36\" X 75\"","","","",0]
["631E93110","EACH","SCHOOL SPEED LIMIT SIGN ASSEMBLY, 36\" X 72\"","","","",0]
["631E93111","EACH","SCHOOL SPEED LIMIT SIGN ASSEMBLY, 36\" X 72\", AS PER PLAN","","","",0]
["631E93200","EACH","SCHOOL SPEED LIMIT SIGN ASSEMBLY, 48\" X 96\"","","","",0]
["631E93210","EACH","SCHOOL SPEED LIMIT SIGN ASSEMBLY, 60\" X 72\"","","","",0]
["631E93240","EACH","SCHOOL SPEED LIMIT SIGN ASSEMBLY, SOLAR-POWERED","","","",0]
["631E93241","EACH","SCHOOL SPEED LIMIT SIGN ASSEMBLY, SOLAR-POWERED, AS PER PLAN","","","",0]
["631E93250","EACH","SCHOOL SPEED LIMIT SIGN ASSEMBLY, MISC.:","","","ADD SUPPLEMENTAL DESCRIPTION",1]
["631E93300","EACH","TIMER WITH ENCLOSURE","","","",0]
["631E93301","EACH","TIMER WITH ENCLOSURE, AS PER PLAN","","","",0]
["631E94250","EACH","REMOVAL OF LUMINAIRE","","","",0]
["631E94251","EACH","REMOVAL OF LUMINAIRE, AS PER PLAN","","","",0]
["631E94350","EACH","REMOVAL OF DISCONNECT SWITCH","","","",0]
["631E94406","EACH","REMOVAL OF SIGNS WIRED","","","",0]
["631E94450","EACH","REMOVAL OF BALLAST","","","",0]
["631E94470","EACH","REMOVAL OF SIGN SERVICE","","","",0]
["631E94480","EACH","REMOVAL OF PHOTOELECTRIC CONTROL","","","",0]
["631E94490","EACH","REMOVAL, MISC.:","","","ADD SUPPLEMENTAL DESCRIPTION",1]
["631E94500","EACH","PADLOCK","","","",0]
["631E95000","LS","SIGN LIGHTING MISC.:","","","ADD SUPPLEMENTAL DESCRIPTION",1]
["631E97700","EACH","SIGN LIGHTING MISC.:","","","ADD SUPPLEMENTAL DESCRIPTION",1]
["631E97800","FXMT","SIGN LIGHTING, MISC.:","","","ADD SUPPLEMENTAL DESCRIPTION",1]
["631E97900","FT","SIGN LIGHTING, MISC.:","","","ADD SUPPLEMENTAL DESCRIPTION",1]
["632E03200","EACH","VEHICULAR SIGNAL HEAD, OPTICALLY PROGRAMMED, 3 SECTION, 12\" LENS, 1-WAY","","","",0]
["632E03201","EACH","VEHICULAR SIGNAL HEAD, OPTICALLY PROGRAMMED, 3-SECTION, 12\" LENS, 1-WAY, AS PER PLAN","","","",0]
["632E03202","EACH","VEHICULAR SIGNAL HEAD, OPTICALLY PROGRAMMED, 4 SECTION, 12\" LENS, 1-WAY","","","",0]
["632E03203","EACH","VEHICULAR SIGNAL HEAD, OPTICALLY PROGRAMMED, 4 SECTION, 12\" LENS, 1-WAY, AS PER PLAN","","","",0]
["632E03204","EACH","VEHICULAR SIGNAL HEAD, OPTICALLY PROGRAMMED, 5 SECTION, 12\" LENS, 1-WAY","","","",0]
["632E03205","EACH","VEHICULAR SIGNAL HEAD, OPTICALLY PROGRAMMED, 5 SECTION, 12\" LENS, 1-WAY, AS PER PLAN","","","",0]
["632E03300","EACH","VEHICULAR SIGNAL HEAD, OPTICALLY PROGRAMMED, 3 SECTION, 12\" LENS, 2-WAY","","","",0]
["632E03301","EACH","VEHICULAR SIGNAL HEAD, OPTICALLY PROGRAMMED, 3 SECTION, 12\" LENS, 2-WAY, AS PER PLAN","","","",0]
["632E03900","EACH","VEHICULAR SIGNAL HEAD, INSTALLATION ONLY","","","",0]
["632E04000","EACH","VEHICULAR SIGNAL HEAD, MISC.:","","","ADD SUPPLEMENTAL DESCRIPTION",1]
["632E04800","EACH","VEHICULAR SIGNAL HEAD, (LED), 1-SECTION, 12\" LENS, 1-WAY, ALUMINUM","","","SPECIFY COLOR IF NECESSARY",0]
["632E04801","EACH","VEHICULAR SIGNAL HEAD, (LED), 1-SECTION, 12\" LENS, 1-WAY, ALUMINUM, AS PER PLAN","","","SPECIFY COLOR IF NECESSARY",0]
["632E04802","EACH","VEHICULAR SIGNAL HEAD, (LED), 1-SECTION, 12\" LENS, 1-WAY, POLYCARBONATE","","","SPECIFY COLOR IF NECESSARY",0]
["632E04803","EACH","VEHICULAR SIGNAL HEAD, (LED), 1-SECTION, 12\" LENS, 1-WAY, POLYCARBONATE, AS PER PLAN","","","SPECIFY COLOR IF NECESSARY",0]
["632E04804","EACH","VEHICULAR SIGNAL HEAD, (LED), 1-SECTION, 12\" LENS, 2-WAY, ALUMINUM","","","SPECIFY COLOR IF NECESSARY",0]
["632E04805","EACH","VEHICULAR SIGNAL HEAD, (LED), 1-SECTION, 12\" LENS, 2-WAY, ALUMINUM, AS PER PLAN","","","SPECIFY COLOR IF NECESSARY",0]
["632E04810","EACH","VEHICULAR SIGNAL HEAD, (LED), 1-SECTION, 12\" LENS, 3-WAY, ALUMINUM","","","SPECIFY COLOR IF NECESSARY",0]
["632E04811","EACH","VEHICULAR SIGNAL HEAD, (LED), 1-SECTION, 12\" LENS, 3-WAY, ALUMINUM, AS PER PLAN","","","SPECIFY COLOR IF NECESSARY",0]
["632E04816","EACH","VEHICULAR SIGNAL HEAD, (LED), 1-SECTION, 12\" LENS, 4-WAY, ALUMINUM","","","SPECIFY COLOR IF NECESSARY",0]
["632E04817","EACH","VEHICULAR SIGNAL HEAD, (LED), 1-SECTION, 12\" LENS, 4-WAY, ALUMINUM, AS PER PLAN","","","SPECIFY COLOR IF NECESSARY",0]
["632E04900","EACH","VEHICULAR SIGNAL HEAD, (LED), 1-SECTION, 12\" LENS, 4-WAY, ALUMINUM","","","SPECIFY COLOR IF NECESSARY",0]
["632E04901","EACH","VEHICULAR SIGNAL HEAD, (LED), 1-SECTION, 12\" LENS, 4-WAY, ALUMINUM, AS PER PLAN","","","SPECIFY COLOR IF NECESSARY",0]
["632E04904","EACH","VEHICULAR SIGNAL HEAD, (LED), 2-SECTION, 12\" LENS, 1-WAY, POLYCARBONATE","","","SPECIFY COLOR IF NECESSARY",0]
["632E04905","EACH","VEHICULAR SIGNAL HEAD, (LED), 2-SECTION, 12\" LENS, 1-WAY, POLYCARBONATE, AS PER PLAN","","","SPECIFY COLOR IF NECESSARY",0]
["632E04910","EACH","VEHICULAR SIGNAL HEAD, (LED), 3-SECTION, 12\" LENS, 1-WAY, ALUMINUM","","","SPECIFY COLOR IF NECESSARY",0]
["632E04911","EACH","VEHICULAR SIGNAL HEAD, (LED), 3-SECTION, 12\" LENS, 1-WAY, ALUMINUM, AS PER PLAN","","","SPECIFY COLOR IF NECESSARY",0]
["632E04916","EACH","VEHICULAR SIGNAL HEAD, (LED), 3-SECTION, 12\" LENS, 2-WAY, ALUMINUM","","","SPECIFY COLOR IF NECESSARY",0]
["632E04917","EACH","VEHICULAR SIGNAL HEAD, (LED), 3-SECTION, 12\" LENS, 2-WAY, ALUMINUM, AS PER PLAN","","","SPECIFY COLOR IF NECESSARY",0]
["632E04918","EACH","VEHICULAR SIGNAL HEAD, (LED), 3-SECTION, 12\" LENS, 3-WAY, ALUMINUM","","","SPECIFY COLOR IF NECESSARY",0]
["632E04919","EACH","VEHICULAR SIGNAL HEAD, (LED), 3-SECTION, 12\" LENS, 3-WAY, ALUMINUM, AS PER PLAN","","","SPECIFY COLOR IF NECESSARY",0]
["632E05006","EACH","VEHICULAR SIGNAL HEAD, (LED), 3-SECTION, 12\" LENS, 1-WAY, POLYCARBONATE","","","SPECIFY COLOR IF NECESSARY",0]
["632E05007","EACH","VEHICULAR SIGNAL HEAD, (LED), 3-SECTION, 12\" LENS, 1-WAY, POLYCARBONATE, AS PER PLAN","","","SPECIFY COLOR IF NECESSARY",0]
["632E05010","EACH","VEHICULAR SIGNAL HEAD, (LED), 3-SECTION, 12\" LENS, 2-WAY, POLYCARBONATE","","","SPECIFY COLOR IF NECESSARY",0]
["632E05011","EACH","VEHICULAR SIGNAL HEAD, (LED), 3-SECTION, 12\" LENS, 2-WAY, POLYCARBONATE, AS PER PLAN","","","SPECIFY COLOR IF NECESSARY",0]
["632E05022","EACH","VEHICULAR SIGNAL HEAD, (LED), 3-SECTION 12\"/5-SECTION 12\" LENS, 2-WAY, ALUMINUM","","","SPECIFY COLOR IF NECESSARY",0]
["632E05023","EACH","VEHICULAR SIGNAL HEAD, (LED), 3-SECTION 12\"/5-SECTION 12\" LENS, 2-WAY, ALUMINUM, AS PER PLAN","","","SPECIFY COLOR IF NECESSARY",0]
["632E05050","EACH","VEHICULAR SIGNAL HEAD, (LED), 3-SECTION, 12\" LENS, 4-WAY, ALUMINUM","","","SPECIFY COLOR IF NECESSARY",0]
["632E05051","EACH","VEHICULAR SIGNAL HEAD, (LED), 3-SECTION, 12\" LENS, 4-WAY, ALUMINUM, AS PER PLAN","","","SPECIFY COLOR IF NECESSARY",0]
["632E05052","EACH","VEHICULAR SIGNAL HEAD, (LED), 3-SECTION, 12\" LENS, 4-WAY, POLYCARBONATE","","","SPECIFY COLOR IF NECESSARY",0]
["632E05053","EACH","VEHICULAR SIGNAL HEAD, (LED), 3-SECTION, 12\" LENS, 4-WAY, POLYCARBONATE, AS PER PLAN","","","SPECIFY COLOR IF NECESSARY",0]
["632E05060","EACH","VEHICULAR SIGNAL HEAD, (LED), 4-SECTION, 12\" LENS, 1-WAY, ALUMINUM","","","SPECIFY COLOR IF NECESSARY",0]
["632E05061","EACH","VEHICULAR SIGNAL HEAD, (LED), 4-SECTION, 12\" LENS, 1-WAY, ALUMINUM, AS PER PLAN","","","SPECIFY COLOR IF NECESSARY",0]
["632E05064","EACH","VEHICULAR SIGNAL HEAD, (LED), 4-SECTION, 12\" LENS, 1-WAY, POLYCARBONATE","","","SPECIFY COLOR IF NECESSARY",0]
["632E05065","EACH","VEHICULAR SIGNAL HEAD, (LED), 4-SECTION, 12\" LENS, 1-WAY, POLYCARBONATE, AS PER PLAN","","","SPECIFY COLOR IF NECESSARY",0]
["632E05080","EACH","VEHICULAR SIGNAL HEAD, (LED), 5-SECTION, 12\" LENS, 1-WAY, ALUMINUM","","","SPECIFY COLOR IF NECESSARY",0]
["632E05081","EACH","VEHICULAR SIGNAL HEAD, (LED), 5-SECTION, 12\" LENS, 1-WAY, ALUMINUM, AS PER PLAN","","","SPECIFY COLOR IF NECESSARY",0]
["632E05086","EACH","VEHICULAR SIGNAL HEAD, (LED), 5-SECTION, 12\" LENS, 1-WAY, POLYCARBONATE","","","SPECIFY COLOR IF NECESSARY",0]
["632E05087","EACH","VEHICULAR SIGNAL HEAD, (LED), 5-SECTION, 12\" LENS, 1-WAY, POLYCARBONATE, AS PER PLAN","","","SPECIFY COLOR IF NECESSARY",0]
["632E05100","EACH","VEHICULAR SIGNAL HEAD, (LED), 5-SECTION, 12\" LENS, 2-WAY, ALUMINUM","","","SPECIFY COLOR IF NECESSARY",0]
["632E05101","EACH","VEHICULAR SIGNAL HEAD, (LED), 5-SECTION, 12\" LENS, 2-WAY, ALUMINUM, AS PER PLAN","","","SPECIFY COLOR IF NECESSARY",0]
["632E05110","EACH","VEHICULAR SIGNAL HEAD, (LED), 5-SECTION, 12\" LENS, 2-WAY, POLYCARBONATE","","","SPECIFY COLOR IF NECESSARY",0]
["632E05111","EACH","VEHICULAR SIGNAL HEAD, (LED), 5-SECTION, 12\" LENS, 2-WAY, POLYCARBONATE, AS PER PLAN","","","SPECIFY COLOR IF NECESSARY",0]
["632E05202","EACH","VEHICULAR SIGNAL HEAD, (LED), 3-SECTION 12\"/5-SECTION 12\" LENS, 2-WAY, POLYCARBONATE","","","SPECIFY COLOR IF NECESSARY",0]
["632E05203","EACH","VEHICULAR SIGNAL HEAD, (LED), 3-SECTION 12\"/5-SECTION 12\" LENS, 2-WAY, POLYCARBONATE, AS PER PLAN","","","SPECIFY COLOR IF NECESSARY",0]
["632E05304","EACH","VEHICULAR SIGNAL HEAD, (LED), 3-SECTION, 12\" LENS, 3-WAY, POLYCARBONATE","","","SPECIFY COLOR IF NECESSARY",0]
["632E05305","EACH","VEHICULAR SIGNAL HEAD, (LED), 3-SECTION, 12\" LENS, 3-WAY, POLYCARBONATE, AS PER PLAN","","","SPECIFY COLOR IF NECESSARY",0]
["632E06990","EACH","SPECIAL - REMOVAL AND REPLACEMENT OF SIGNAL LAMP","","","",0]
["632E07500","EACH","SPECIAL - OVERHEAD SIGNAL INSPECTION","","","",0]
["632E07550","EACH","SPECIAL - ELECTRICAL INSTALLATION INSPECTION/CONDITION REPORT","","","",0]
["632E07600","EACH","SPECIAL - REMOVAL AND REPLACEMENT OF SIGNAL HANGER ASSEMBLY AND WIRE ENTRANCE CAP","","","",0]
["632E10100","EACH","RELAMP EXISTING SIGNAL SECTION WITH LED LAMP UNIT","","","SPECIFY TYPE AND/OR COLOR",1]
["632E10101","EACH","RELAMP EXISTING SIGNAL SECTION WITH LED LAMP UNIT, AS PER PLAN","","","SPECIFY TYPE AND/OR COLOR",1]
["632E20720","EACH","PEDESTRIAN SIGNAL HEAD (LED), TYPE D2","","","",0]
["632E20721","EACH","PEDESTRIAN SIGNAL HEAD (LED), TYPE D2, AS PER PLAN","","","",0]
["632E20730","EACH","PEDESTRIAN SIGNAL HEAD (LED), TYPE D2, COUNTDOWN","","","",0]
["632E20731","EACH","PEDESTRIAN SIGNAL HEAD (LED), TYPE D2, COUNTDOWN, AS PER PLAN","","","",0]
["632E20740","EACH","PEDESTRIAN SIGNAL HEAD (LED), TYPE D2, COUNTDOWN, AUDIBLE","","","",0]
["632E20741","EACH","PEDESTRIAN SIGNAL HEAD (LED), TYPE D2, COUNTDOWN, AUDIBLE, AS PER PLAN","","","",0]
["632E20750","EACH","ACCESSIBLE PEDESTRIAN PUSHBUTTON","","","",0]
["632E20751","EACH","ACCESSIBLE PEDESTRIAN PUSHBUTTON, AS PER PLAN","","","",0]
["632E25000","EACH","COVERING OF VEHICULAR SIGNAL HEAD","","","",0]
["632E25001","EACH","COVERING OF VEHICULAR SIGNAL HEAD, AS PER PLAN","","","",0]
["632E25010","EACH","COVERING OF PEDESTRIAN SIGNAL HEAD","","","",0]
["632E25011","EACH","COVERING OF PEDESTRIAN SIGNAL HEAD, AS PER PLAN","","","",0]
["632E26000","EACH","PEDESTRIAN PUSHBUTTON","","","",0]
["632E26001","EACH","PEDESTRIAN PUSHBUTTON, AS PER PLAN","","","",0]
["632E26500","EACH","DETECTOR LOOP","","","",0]
["632E26501","EACH","DETECTOR LOOP, AS PER PLAN","","","",0]
["632E27004","EACH","LOOP DETECTOR UNIT","","","",0]
["632E27005","EACH","LOOP DETECTOR UNIT, AS PER PLAN","","","",0]
["632E27008","EACH","LOOP DETECTOR UNIT, DELAY AND EXTENSION TYPE","","","",0]
["632E27009","EACH","LOOP DETECTOR UNIT, DELAY AND EXTENSION TYPE, AS PER PLAN","","","",0]
["632E27010","EACH","LOOP DETECTOR UNIT, EXTEND CALL - DELAY CALL","","","",0]
["632E27011","EACH","LOOP DETECTOR UNIT, EXTEND CALL - DELAY CALL, AS PER PLAN","","","",0]
["632E27102","EACH","LOOP DETECTOR UNIT, 2 CHANNEL","","","",0]
["632E27103","EACH","LOOP DETECTOR UNIT, 2 CHANNEL, AS PER PLAN","","","",0]
["632E27104","EACH","LOOP DETECTOR UNIT, 2 CHANNEL, DELAY AND EXTENSION TYPE","","","",0]
["632E27105","EACH","LOOP DETECTOR UNIT, 2 CHANNEL, DELAY AND EXTENSION TYPE, AS PER PLAN","","","",0]
["632E27106","EACH","LOOP DETECTOR UNIT, 4 CHANNEL","","","",0]
["632E27107","EACH","LOOP DETECTOR UNIT, 4 CHANNEL, AS PER PLAN","","","",0]
["632E27108","EACH","LOOP DETECTOR UNIT, 4 CHANNEL, DELAY AND EXTENSION TYPE","","","",0]
["632E27109","EACH","LOOP DETECTOR UNIT, 4 CHANNEL, DELAY AND EXTENSION TYPE, AS PER PLAN","","","",0]
["632E27200","EACH","LOOP DETECTOR TIE IN","","","",0]
["632E27201","EACH","LOOP DETECTOR TIE IN, AS PER PLAN","","","",0]
["632E28200","EACH","DISCONNECT SWITCH WITH ENCLOSURE","","","",0]
["632E28201","EACH","DISCONNECT SWITCH WITH ENCLOSURE, AS PER PLAN","","","",0]
["632E29900","FT","MESSENGER WIRE, 7 STRAND, 1/4\" DIAMETER WITH ACCESSORIES","","","",0]
["632E29901","FT","MESSENGER WIRE, 7 STRAND, 1/4\" DIAMETER WITH ACCESSORIES, AS PER PLAN","","","",0]
["632E30000","FT","MESSENGER WIRE, 3 STRAND, 1/4\" DIAMETER WITH ACCESSORIES","","","",0]
["632E30001","FT","MESSENGER WIRE, 3 STRAND, 1/4\" DIAMETER WITH ACCESSORIES, AS PER PLAN","","","",0]
["632E30100","FT","MESSENGER WIRE, 7 STRAND, 5/16\" DIAMETER WITH ACCESSORIES","","","",0]
["632E30101","FT","MESSENGER WIRE, 7 STRAND, 5/16\" DIAMETER WITH ACCESSORIES, AS PER PLAN","","","",0]
["632E30200","FT","MESSENGER WIRE, 7 STRAND, 3/8\" DIAMETER WITH ACCESSORIES","","","",0]
["632E30201","FT","MESSENGER WIRE, 7 STRAND, 3/8\" DIAMETER WITH ACCESSORIES, AS PER PLAN","","","",0]
["632E30300","FT","MESSENGER WIRE, 7 STRAND, 7/16\" DIAMETER WITH ACCESSORIES","","","",0]
["632E30301","FT","MESSENGER WIRE, 7 STRAND, 7/16\" DIAMETER WITH ACCESSORIES, AS PER PLAN","","","",0]
["632E30400","FT","MESSENGER WIRE, 7 STRAND, 1/2\" DIAMETER WITH ACCESSORIES","","","",0]
["632E30401","FT","MESSENGER WIRE, 7 STRAND, 1/2\" DIAMETER WITH ACCESSORIES, AS PER PLAN","","","",0]
["632E30500","FT","MESSENGER WIRE, MISC.:","","","ADD SUPPLEMENTAL DESCRIPTION",1]
["632E30600","FT","TETHER WIRE, WITH ACCESSORIES","","","",0]
["632E30601","FT","TETHER WIRE, WITH ACCESSORIES, AS PER PLAN","","","",0]
["632E30980","FT","SIGNAL CABLE, 3 CONDUCTOR, NO. 10 AWG","","","",0]
["632E30990","FT","SIGNAL CABLE, 4 CONDUCTOR, NO. 10 AWG","","","",0]
["632E30992","FT","SIGNAL CABLE, 5 CONDUCTOR, NO. 10 AWG","","","",0]
["632E31000","FT","SIGNAL CABLE, 6 CONDUCTOR, NO. 10 AWG","","","",0]
["632E31001","FT","SIGNAL CABLE, 6 CONDUCTOR, NO. 10 AWG, AS PER PLAN","","","",0]
["632E40200","FT","SIGNAL CABLE, 2 CONDUCTOR, NO. 14 AWG","","","",0]
["632E40201","FT","SIGNAL CABLE, 2 CONDUCTOR, NO. 14 AWG, AS PER PLAN","","","",0]
["632E40300","FT","SIGNAL CABLE, 3 CONDUCTOR, NO. 14 AWG","","","",0]
["632E40301","FT","SIGNAL CABLE, 3 CONDUCTOR, NO. 14 AWG, AS PER PLAN","","","",0]
["632E40400","FT","SIGNAL CABLE, 4 CONDUCTOR, NO. 14 AWG","","","",0]
["632E40401","FT","SIGNAL CABLE, 4 CONDUCTOR, NO. 14 AWG, AS PER PLAN","","","",0]
["632E40500","FT","SIGNAL CABLE, 5 CONDUCTOR, NO. 14 AWG","","","",0]
["632E40501","FT","SIGNAL CABLE, 5 CONDUCTOR, NO. 14 AWG, AS PER PLAN","","","",0]
["632E40600","FT","SIGNAL CABLE, 6 CONDUCTOR, NO. 14 AWG","","","",0]
["632E40700","FT","SIGNAL CABLE, 7 CONDUCTOR, NO. 14 AWG","","","",0]
["632E40701","FT","SIGNAL CABLE, 7 CONDUCTOR, NO. 14 AWG, AS PER PLAN","","","",0]
["632E40800","FT","SIGNAL CABLE, 8 CONDUCTOR, NO. 14 AWG","","","",0]
["632E40801","FT","SIGNAL CABLE, 8 CONDUCTOR, NO. 14 AWG, AS PER PLAN","","","",0]
["632E40900","FT","SIGNAL CABLE, 9 CONDUCTOR, NO. 14 AWG","","","",0]
["632E40901","FT","SIGNAL CABLE, 9 CONDUCTOR, NO. 14 AWG, AS PER PLAN","","","",0]
["632E41000","FT","SIGNAL CABLE, 10 CONDUCTOR, NO. 14 AWG","","","",0]
["632E41001","FT","SIGNAL CABLE, 10 CONDUCTOR, NO. 14 AWG, AS PER PLAN","","","",0]
["632E41100","FT","SIGNAL CABLE, 11 CONDUCTOR, NO. 14 AWG","","","",0]
["632E41101","FT","SIGNAL CABLE, 11 CONDUCTOR, NO. 14 AWG, AS PER PLAN","","","",0]
["632E41200","FT","SIGNAL CABLE, 12 CONDUCTOR, NO. 14 AWG","","","",0]
["632E41300","FT","SIGNAL CABLE, 13 CONDUCTOR, NO. 14 AWG","","","",0]
["632E41400","FT","SIGNAL CABLE, 14 CONDUCTOR, NO. 14 AWG","","","",0]
["632E41401","FT","SIGNAL CABLE, 14 CONDUCTOR, NO. 14 AWG, AS PER PLAN","","","",0]
["632E41500","FT","SIGNAL CABLE, 15 CONDUCTOR, NO. 14 AWG","","","",0]
["632E41501","FT","SIGNAL CABLE, 15 CONDUCTOR, NO. 14 AWG, AS PER PLAN","","","",0]
["632E41600","FT","SIGNAL CABLE, 16 CONDUCTOR, NO. 14 AWG","","","",0]
["632E41601","FT","SIGNAL CABLE, 16 CONDUCTOR, NO. 14 AWG, AS PER PLAN","","","",0]
["632E42200","FT","SIGNAL CABLE, 2 CONDUCTOR, NO. 12 AWG","","","",0]
["632E42201","FT","SIGNAL CABLE, 2 CONDUCTOR, NO. 12 AWG, AS PER PLAN","","","",0]
["632E42300","FT","SIGNAL CABLE, 3 CONDUCTOR, NO. 12 AWG","","","",0]
["632E42301","FT","SIGNAL CABLE, 3 CONDUCTOR, NO. 12 AWG, AS PER PLAN","","","",0]
["632E42400","FT","SIGNAL CABLE, 4 CONDUCTOR, NO. 12 AWG","","","",0]
["632E42500","FT","SIGNAL CABLE, 5 CONDUCTOR, NO. 12 AWG","","","",0]
["632E42501","FT","SIGNAL CABLE, 5 CONDUCTOR, NO. 12 AWG, AS PER PLAN","","","",0]
["632E42600","FT","SIGNAL CABLE, 6 CONDUCTOR, NO. 12 AWG","","","",0]
["632E42700","FT","SIGNAL CABLE, 7 CONDUCTOR, NO. 12 AWG","","","",0]
["632E42701","FT","SIGNAL CABLE, 7 CONDUCTOR, NO. 12 AWG, AS PER PLAN","","","",0]
["632E42800","FT","SIGNAL CABLE, 8 CONDUCTOR, NO. 12 AWG","","","",0]
["632E42900","FT","SIGNAL CABLE, 9 CONDUCTOR, NO. 12 AWG","","","",0]
["632E42901","FT","SIGNAL CABLE, 9 CONDUCTOR, NO. 12 AWG, AS PER PLAN","","","",0]
["632E43000","FT","SIGNAL CABLE, 10 CONDUCTOR, NO. 12 AWG","","","",0]
["632E43100","FT","SIGNAL CABLE, 11 CONDUCTOR, NO. 12 AWG","","","",0]
["632E43200","FT","SIGNAL CABLE, 12 CONDUCTOR, NO. 12 AWG","","","",0]
["632E43201","FT","SIGNAL CABLE, 12 CONDUCTOR, NO. 12 AWG, AS PER PLAN","","","",0]
["632E43300","FT","SIGNAL CABLE, MISC.:","","","ADD SUPPLEMENTAL DESCRIPTION",1]
["632E43400","EACH","SIGNAL CABLE, MISC.:","","","ADD SUPPLEMENTAL DESCRIPTION",1]
["632E62810","FT","INTERCONNECT CABLE, MISC.:","","","ADD SUPPLEMENTAL DESCRIPTION",1]
["632E62820","EACH","INTERCONNECT, MISC.:","","","ADD SUPPLEMENTAL DESCRIPTION",1]
["632E62830","LS","INTERCONNECT, MISC.:","","","ADD SUPPLEMENTAL DESCRIPTION",1]
["632E63000","EACH","PHONE DROP","","","",0]
["632E63001","EACH","PHONE DROP, AS PER PLAN","","","",0]
["632E64000","EACH","STRAIN POLE FOUNDATION","","","",0]
["632E64001","EACH","STRAIN POLE FOUNDATION, AS PER PLAN","","","",0]
["632E64010","EACH","SIGNAL SUPPORT FOUNDATION","","","",0]
["632E64011","EACH","SIGNAL SUPPORT FOUNDATION, AS PER PLAN","","","",0]
["632E64020","EACH","PEDESTAL FOUNDATION","","","",0]
["632E64021","EACH","PEDESTAL FOUNDATION, AS PER PLAN","","","",0]
["632E64950","EACH","TEST HOLE PERFORMED","","","",0]
["632E65200","FT","LOOP DETECTOR LEAD-IN CABLE","","","",0]
["632E65201","FT","LOOP DETECTOR LEAD-IN CABLE, AS PER PLAN","","","",0]
["632E65202","FT","LOOP DETECTOR LEAD-IN CABLE, INTEGRAL MESSENGER WIRE TYPE, NO. 14 AWG","","","",0]
["632E65203","FT","LOOP DETECTOR LEAD-IN CABLE, INTEGRAL MESSENGER WIRE TYPE, NO. 14 AWG, AS PER PLAN","","","",0]
["632E65300","FT","LOOP DETECTOR LEAD-IN CABLE, 2 CONDUCTOR, NO. 14 AWG","","","",0]
["632E65301","FT","LOOP DETECTOR LEAD-IN CABLE, 2 CONDUCTOR, NO. 14 AWG, AS PER PLAN","","","",0]
["632E65400","FT","LOOP DETECTOR LEAD-IN CABLE, 2 CONDUCTOR, NO. 12 AWG","","","",0]
["632E65401","FT","LOOP DETECTOR LEAD-IN CABLE, 2 CONDUCTOR, NO. 12 AWG, AS PER PLAN","","","",0]
["632E65404","FT","LOOP DETECTOR LEAD-IN CABLE, DIRECT BURIAL","","","",0]
["632E65405","FT","LOOP DETECTOR LEAD-IN CABLE, DIRECT BURIAL, AS PER PLAN","","","",0]
["632E66000","FT","POWER CABLE, 3 CONDUCTOR, NO. 14 AWG","","","",0]
["632E66100","FT","POWER CABLE, 1 CONDUCTOR, NO. 10 AWG","","","",0]
["632E66101","FT","POWER CABLE, 1 CONDUCTOR, NO. 10 AWG, AS PER PLAN","","","",0]
["632E66102","FT","POWER CABLE, 2 CONDUCTOR, NO. 10 AWG","","","",0]
["632E66103","FT","POWER CABLE, 2 CONDUCTOR, NO. 10 AWG, AS PER PLAN","","","",0]
["632E66104","FT","POWER CABLE, 3 CONDUCTOR, NO. 10 AWG","","","",0]
["632E67190","FT","POWER CABLE, 1 CONDUCTOR, NO. 8 AWG","","","",0]
["632E67191","FT","POWER CABLE, 1 CONDUCTOR, NO. 8 AWG, AS PER PLAN","","","",0]
["632E67200","FT","POWER CABLE, 2 CONDUCTOR, NO. 8 AWG","","","",0]
["632E67201","FT","POWER CABLE, 2 CONDUCTOR, NO. 8 AWG, AS PER PLAN","","","",0]
["632E67300","FT","POWER CABLE, 3 CONDUCTOR, NO. 8 AWG","","","",0]
["632E67301","FT","POWER CABLE, 3 CONDUCTOR, NO. 8 AWG, AS PER PLAN","","","",0]
["632E67400","FT","POWER CABLE, 4 CONDUCTOR, NO. 8 AWG","","","",0]
["632E68100","FT","POWER CABLE, 1 CONDUCTOR, NO. 6 AWG","","","",0]
["632E68101","FT","POWER CABLE, 1 CONDUCTOR, NO. 6 AWG, AS PER PLAN","","","",0]
["632E68200","FT","POWER CABLE, 2 CONDUCTOR, NO. 6 AWG","","","",0]
["632E68201","FT","POWER CABLE, 2 CONDUCTOR, NO. 6 AWG, AS PER PLAN","","","",0]
["632E68300","FT","POWER CABLE, 3 CONDUCTOR, NO. 6 AWG","","","",0]
["632E68301","FT","POWER CABLE, 3 CONDUCTOR, NO. 6 AWG, AS PER PLAN","","","",0]
["632E68400","FT","POWER CABLE, 4 CONDUCTOR, NO. 6 AWG","","","",0]
["632E69100","FT","POWER CABLE, 1 CONDUCTOR, NO. 4 AWG","","","",0]
["632E69200","FT","POWER CABLE, 2 CONDUCTOR, NO. 4 AWG","","","",0]
["632E69201","FT","POWER CABLE, 2 CONDUCTOR, NO. 4 AWG, AS PER PLAN","","","",0]
["632E69300","FT","POWER CABLE, 3 CONDUCTOR, NO. 4 AWG","","","",0]
["632E69310","FT","POWER CABLE, 1 CONDUCTOR, NO. 2 AWG","","","",0]
["632E69311","FT","POWER CABLE, 1 CONDUCTOR, NO. 2 AWG, AS PER PLAN","","","",0]
["632E69320","FT","POWER CABLE, 3 CONDUCTOR, NO. 2 AWG","","","",0]
["632E69350","FT","POWER CABLE, MISC.:","","","ADD SUPPLEMENTAL DESCRIPTION",1]
["632E69400","FT","SERVICE CABLE, 2 CONDUCTOR, NO. 8 AWG","","","",0]
["632E69401","FT","SERVICE CABLE, 2 CONDUCTOR, NO. 8 AWG, AS PER PLAN","","","",0]
["632E69500","FT","SERVICE CABLE, 2 CONDUCTOR, NO. 6 AWG","","","",0]
["632E69501","FT","SERVICE CABLE, 2 CONDUCTOR, NO. 6 AWG, AS PER PLAN","","","",0]
["632E69600","FT","SERVICE CABLE, 2 CONDUCTOR, NO. 4 AWG","","","",0]
["632E69601","FT","SERVICE CABLE, 2 CONDUCTOR, NO. 4 AWG, AS PER PLAN","","","",0]
["632E69700","FT","SERVICE CABLE, 3 CONDUCTOR, NO. 8 AWG","","","",0]
["632E69800","FT","SERVICE CABLE, 3 CONDUCTOR, NO. 6 AWG","","","",0]
["632E69801","FT","SERVICE CABLE, 3 CONDUCTOR, NO. 6 AWG, AS PER PLAN","","","",0]
["632E69900","FT","SERVICE CABLE, 3 CONDUCTOR, NO. 4 AWG","","","",0]
["632E69910","FT","SERVICE CABLE, 3 CONDUCTOR, WITH GROUND, NO. 4 AWG","","","",0]
["632E69950","FT","SERVICE CABLE, MISC.:","","","ADD SUPPLEMENTAL DESCRIPTION",1]
["632E70000","EACH","POWER SERVICE","","","",0]
["632E70001","EACH","POWER SERVICE, AS PER PLAN","","","",0]
["632E70200","EACH","CONDUIT RISER, 1\" DIAMETER","","","",0]
["632E70201","EACH","CONDUIT RISER, 1\" DIAMETER, AS PER PLAN","","","",0]
["632E70204","EACH","CONDUIT RISER, 1-1/4\" DIAMETER","","","",0]
["632E70300","EACH","CONDUIT RISER, 1-1/2\" DIAMETER","","","",0]
["632E70301","EACH","CONDUIT RISER, 1-1/2\" DIAMETER, AS PER PLAN","","","",0]
["632E70400","EACH","CONDUIT RISER, 2\" DIAMETER","","","",0]
["632E70401","EACH","CONDUIT RISER, 2\" DIAMETER, AS PER PLAN","","","",0]
["632E70500","EACH","CONDUIT RISER, 2-1/2\" DIAMETER","","","",0]
["632E70600","EACH","CONDUIT RISER, 3\" DIAMETER","","","",0]
["632E70601","EACH","CONDUIT RISER, 3\" DIAMETER, AS PER PLAN","","","",0]
["632E71100","EACH","SIGNAL SUPPORT, TYPE TC-12.31, DESIGN 6","","","",0]
["632E71101","EACH","SIGNAL SUPPORT, TYPE TC-12.31, DESIGN 6, AS PER PLAN","","","",0]
["632E71110","EACH","SIGNAL SUPPORT, TYPE TC-12.31, DESIGN 10","","","",0]
["632E71111","EACH","SIGNAL SUPPORT, TYPE TC-12.31, DESIGN 10, AS PER PLAN","","","",0]
["632E71120","EACH","SIGNAL SUPPORT, TYPE TC-12.31, DESIGN 12","","","",0]
["632E71121","EACH","SIGNAL SUPPORT, TYPE TC-12.31, DESIGN 12, AS PER PLAN","","","",0]
["632E71224","EACH","SIGNAL SUPPORT, TYPE TC-12.31 DESIGN 6 POLE, WITH MAST ARMS TC-81.22 DESIGN 4 AND DESIGN 4","","","",0]
["632E71225","EACH","SIGNAL SUPPORT, TYPE TC-12.31 DESIGN 6 POLE, WITH MAST ARMS TC-81.22 DESIGN 4 AND DESIGN 4, AS PER PLAN","","","",0]
["632E71240","EACH","SIGNAL SUPPORT, TYPE TC-12.31 DESIGN 6 POLE, WITH MAST ARMS TC-81.22 DESIGN 12 AND DESIGN 2","","","",0]
["632E71241","EACH","SIGNAL SUPPORT, TYPE TC-12.31 DESIGN 6 POLE, WITH MAST ARMS TC-81.22 DESIGN 12 AND DESIGN 2, AS PER PLAN","","","",0]
["632E71244","EACH","SIGNAL SUPPORT, TYPE TC-12.31 DESIGN 6 POLE, WITH MAST ARMS TC-81.22 DESIGN 12 AND DESIGN 4","","","",0]
["632E71245","EACH","SIGNAL SUPPORT, TYPE TC-12.31 DESIGN 6 POLE, WITH MAST ARMS TC-81.22 DESIGN 12 AND DESIGN 4, AS PER PLAN","","","",0]
["632E71348","EACH","SIGNAL SUPPORT, TYPE TC-12.31 DESIGN 10 POLE, WITH MAST ARMS TC-81.22 DESIGN 12 AND DESIGN 12","","","",0]
["632E71349","EACH","SIGNAL SUPPORT, TYPE TC-12.31 DESIGN 10 POLE, WITH MAST ARMS TC-81.22 DESIGN 12 AND DESIGN 12, AS PER PLAN","","","",0]
["632E71360","EACH","SIGNAL SUPPORT, TYPE TC-12.31 DESIGN 10 POLE, WITH MAST ARMS TC-81.22 DESIGN 13 AND DESIGN 2","","","",0]
["632E71361","EACH","SIGNAL SUPPORT, TYPE TC-12.31 DESIGN 10 POLE, WITH MAST ARMS TC-81.22 DESIGN 13 AND DESIGN 2, AS PER PLAN","","","",0]
["632E71364","EACH","SIGNAL SUPPORT, TYPE TC-12.31 DESIGN 10 POLE, WITH MAST ARMS TC-81.22 DESIGN 13 AND DESIGN 4","","","",0]
["632E71365","EACH","SIGNAL SUPPORT, TYPE TC-12.31 DESIGN 10 POLE, WITH MAST ARMS TC-81.22 DESIGN 13 AND DESIGN 4, AS PER PLAN","","","",0]
["632E71368","EACH","SIGNAL SUPPORT, TYPE TC-12.31 DESIGN 10 POLE, WITH MAST ARMS TC-81.22 DESIGN 13 AND DESIGN 12","","","",0]
["632E71369","EACH","SIGNAL SUPPORT, TYPE TC-12.31 DESIGN 10 POLE, WITH MAST ARMS TC-81.22 DESIGN 13 AND DESIGN 12, AS PER PLAN","","","",0]
["632E71372","EACH","SIGNAL SUPPORT, TYPE TC-12.31 DESIGN 10 POLE, WITH MAST ARMS TC-81.22 DESIGN 13 AND DESIGN 13","","","",0]
["632E71373","EACH","SIGNAL SUPPORT, TYPE TC-12.31 DESIGN 10 POLE, WITH MAST ARMS TC-81.22 DESIGN 13 AND DESIGN 13, AS PER PLAN","","","",0]
["632E71380","EACH","SIGNAL SUPPORT, TYPE TC-12.31 DESIGN 10 POLE, WITH MAST ARMS TC-81.22 DESIGN 14 AND DESIGN 2","","","",0]
["632E71381","EACH","SIGNAL SUPPORT, TYPE TC-12.31 DESIGN 10 POLE, WITH MAST ARMS TC-81.22 DESIGN 14 AND DESIGN 2, AS PER PLAN","","","",0]
["632E71384","EACH","SIGNAL SUPPORT, TYPE TC-12.31 DESIGN 10 POLE, WITH MAST ARMS TC-81.22 DESIGN 14 AND DESIGN 4","","","",0]
["632E71385","EACH","SIGNAL SUPPORT, TYPE TC-12.31 DESIGN 10 POLE, WITH MAST ARMS TC-81.22 DESIGN 14 AND DESIGN 4, AS PER PLAN","","","",0]
["632E71388","EACH","SIGNAL SUPPORT, TYPE TC-12.31 DESIGN 10 POLE, WITH MAST ARMS TC-81.22 DESIGN 14 AND DESIGN 12","","","",0]
["632E71389","EACH","SIGNAL SUPPORT, TYPE TC-12.31 DESIGN 10 POLE, WITH MAST ARMS TC-81.22 DESIGN 14 AND DESIGN 12, AS PER PLAN","","","",0]
["632E71492","EACH","SIGNAL SUPPORT, TYPE TC-12.31 DESIGN 12 POLE, WITH MAST ARMS TC-81.22 DESIGN 14 AND DESIGN 13","","","",0]
["632E71493","EACH","SIGNAL SUPPORT, TYPE TC-12.31 DESIGN 12 POLE, WITH MAST ARMS TC-81.22 DESIGN 14 AND DESIGN 13, AS PER PLAN","","","",0]
["632E71496","EACH","SIGNAL SUPPORT, TYPE TC-12.31 DESIGN 12 POLE, WITH MAST ARMS TC-81.22 DESIGN 14 AND DESIGN 14","","","",0]
["632E71497","EACH","SIGNAL SUPPORT, TYPE TC-12.31 DESIGN 12 POLE, WITH MAST ARMS TC-81.22 DESIGN 14 AND DESIGN 14, AS PER PLAN","","","",0]
["632E72100","EACH","SIGNAL SUPPORT, TYPE TC-81.22, DESIGN 2","","","",0]
["632E72101","EACH","SIGNAL SUPPORT, TYPE TC-81.22, DESIGN 2, AS PER PLAN","","","",0]
["632E72110","EACH","SIGNAL SUPPORT, TYPE TC-81.22, DESIGN 4","","","",0]
["632E72111","EACH","SIGNAL SUPPORT, TYPE TC-81.22, DESIGN 4, AS PER PLAN","","","",0]
["632E72130","EACH","SIGNAL SUPPORT, TYPE TC-81.22, DESIGN 12","","","",0]
["632E72131","EACH","SIGNAL SUPPORT, TYPE TC-81.22, DESIGN 12, AS PER PLAN","","","",0]
["632E72140","EACH","SIGNAL SUPPORT, TYPE TC-81.22, DESIGN 13","","","",0]
["632E72141","EACH","SIGNAL SUPPORT, TYPE TC-81.22, DESIGN 13, AS PER PLAN","","","",0]
["632E72150","EACH","SIGNAL SUPPORT, TYPE TC-81.22, DESIGN 14","","","",0]
["632E72151","EACH","SIGNAL SUPPORT, TYPE TC-81.22, DESIGN 14, AS PER PLAN","","","",0]
["632E72300","EACH","SIGNAL SUPPORT, TYPE TC-81.22 DESIGN 4 POLE, WITH MAST ARMS TC-81.22 DESIGN 2 AND DESIGN 2","","","",0]
["632E72301","EACH","SIGNAL SUPPORT, TYPE TC-81.22 DESIGN 4 POLE, WITH MAST ARMS TC-81.22 DESIGN 2 AND DESIGN 2, AS PER PLAN","","","",0]
["632E72420","EACH","SIGNAL SUPPORT, TYPE TC-81.22 DESIGN 12 POLE, WITH MAST ARMS TC-81.22 DESIGN 4 AND DESIGN 2","","","",0]
["632E72421","EACH","SIGNAL SUPPORT, TYPE TC-81.22 DESIGN 12 POLE, WITH MAST ARMS TC-81.22 DESIGN 4 AND DESIGN 2, AS PER PLAN","","","",0]
["632E75002","EACH","SIGNAL SUPPORT, TYPE TC-81.21 DESIGN 3 POLE, WITH MAST ARMS TC-81.21 DESIGN 1 AND DESIGN 1","","","",0]
["632E75003","EACH","SIGNAL SUPPORT, TYPE TC-81.21 DESIGN 3 POLE, WITH MAST ARMS TC-81.21 DESIGN 1 AND DESIGN 1, AS PER PLAN","","","",0]
["632E75012","EACH","SIGNAL SUPPORT, TYPE TC-81.21 DESIGN 3 POLE, WITH MAST ARMS TC-81.21 DESIGN 2 AND DESIGN 1","","","",0]
["632E75013","EACH","SIGNAL SUPPORT, TYPE TC-81.21 DESIGN 3 POLE, WITH MAST ARMS TC-81.21 DESIGN 2 AND DESIGN 1, AS PER PLAN","","","",0]
["632E75022","EACH","SIGNAL SUPPORT, TYPE TC-81.21 DESIGN 4 POLE, WITH MAST ARMS TC-81.21 DESIGN 2 AND DESIGN 2","","","",0]
["632E75023","EACH","SIGNAL SUPPORT, TYPE TC-81.21 DESIGN 4 POLE, WITH MAST ARMS TC-81.21 DESIGN 2 AND DESIGN 2, AS PER PLAN","","","",0]
["632E75032","EACH","SIGNAL SUPPORT, TYPE TC-81.21 DESIGN 4 POLE, WITH MAST ARMS TC-81.21 DESIGN 3 AND DESIGN 1","","","",0]
["632E75033","EACH","SIGNAL SUPPORT, TYPE TC-81.21 DESIGN 4 POLE, WITH MAST ARMS TC-81.21 DESIGN 3 AND DESIGN 1, AS PER PLAN","","","",0]
["632E75042","EACH","SIGNAL SUPPORT, TYPE TC-81.21 DESIGN 4 POLE, WITH MAST ARMS TC-81.21 DESIGN 3 AND DESIGN 2","","","",0]
["632E75043","EACH","SIGNAL SUPPORT, TYPE TC-81.21 DESIGN 4 POLE, WITH MAST ARMS TC-81.21 DESIGN 3 AND DESIGN 2, AS PER PLAN","","","",0]
["632E75052","EACH","SIGNAL SUPPORT, TYPE TC-81.21 DESIGN 4 POLE, WITH MAST ARMS TC-81.21 DESIGN 3 AND DESIGN 3","","","",0]
["632E75053","EACH","SIGNAL SUPPORT, TYPE TC-81.21 DESIGN 4 POLE, WITH MAST ARMS TC-81.21 DESIGN 3 AND DESIGN 3, AS PER PLAN","","","",0]
["632E75062","EACH","SIGNAL SUPPORT, TYPE TC-81.21 DESIGN 11 POLE, WITH MAST ARMS TC-81.21 DESIGN 4 AND DESIGN 1","","","",0]
["632E75063","EACH","SIGNAL SUPPORT, TYPE TC-81.21 DESIGN 11 POLE, WITH MAST ARMS TC-81.21 DESIGN 4 AND DESIGN 1, AS PER PLAN","","","",0]
["632E75066","EACH","SIGNAL SUPPORT, TYPE TC-81.21 DESIGN 11 POLE, WITH MAST ARMS TC-81.21 DESIGN 3 AND DESIGN 2","","","",0]
["632E75067","EACH","SIGNAL SUPPORT, TYPE TC-81.21 DESIGN 11 POLE, WITH MAST ARMS TC-81.21 DESIGN 3 AND DESIGN 2, AS PER PLAN","","","",0]
["632E75072","EACH","SIGNAL SUPPORT, TYPE TC-81.21 DESIGN 11 POLE, WITH MAST ARMS TC-81.21 DESIGN 4 AND DESIGN 2","","","",0]
["632E75073","EACH","SIGNAL SUPPORT, TYPE TC-81.21 DESIGN 11 POLE, WITH MAST ARMS TC-81.21 DESIGN 4 AND DESIGN 2, AS PER PLAN","","","",0]
["632E75076","EACH","SIGNAL SUPPORT, TYPE TC-81.21 DESIGN 11 POLE, WITH MAST ARMS TC-81.21 DESIGN 11 AND DESIGN 2","","","",0]
["632E75077","EACH","SIGNAL SUPPORT, TYPE TC-81.21 DESIGN 11 POLE, WITH MAST ARMS TC-81.21 DESIGN 11 AND DESIGN 2, AS PER PLAN","","","",0]
["632E75080","EACH","SIGNAL SUPPORT, TYPE TC-81.21 DESIGN 12 POLE, WITH MAST ARMS TC-81.21 DESIGN 4 AND DESIGN 1","","","",0]
["632E75082","EACH","SIGNAL SUPPORT, TYPE TC-81.21 DESIGN 12 POLE, WITH MAST ARMS TC-81.21 DESIGN 4 AND DESIGN 3","","","",0]
["632E75083","EACH","SIGNAL SUPPORT, TYPE TC-81.21 DESIGN 12 POLE, WITH MAST ARMS TC-81.21 DESIGN 4 AND DESIGN 3, AS PER PLAN","","","",0]
["632E75092","EACH","SIGNAL SUPPORT, TYPE TC-81.21 DESIGN 12 POLE, WITH MAST ARMS TC-81.21 DESIGN 11 AND DESIGN 1","","","",0]
["632E75093","EACH","SIGNAL SUPPORT, TYPE TC-81.21 DESIGN 12 POLE, WITH MAST ARMS TC-81.21 DESIGN 11 AND DESIGN 1, AS PER PLAN","","","",0]
["632E75102","EACH","SIGNAL SUPPORT, TYPE TC-81.21 DESIGN 12 POLE, WITH MAST ARMS TC-81.21 DESIGN 11 AND DESIGN 2","","","",0]
["632E75103","EACH","SIGNAL SUPPORT, TYPE TC-81.21 DESIGN 12 POLE, WITH MAST ARMS TC-81.21 DESIGN 11 AND DESIGN 2, AS PER PLAN","","","",0]
["632E75112","EACH","SIGNAL SUPPORT, TYPE TC-81.21 DESIGN 12 POLE, WITH MAST ARMS TC-81.21 DESIGN 11 AND DESIGN 3","","","",0]
["632E75113","EACH","SIGNAL SUPPORT, TYPE TC-81.21 DESIGN 12 POLE, WITH MAST ARMS TC-81.21 DESIGN 11 AND DESIGN 3, AS PER PLAN","","","",0]
["632E75118","EACH","SIGNAL SUPPORT, TYPE TC-12.30 DESIGN 5 POLE, WITH MAST ARMS TC-81.21 DESIGN 3 AND DESIGN 3","","","",0]
["632E75122","EACH","SIGNAL SUPPORT, TYPE TC-12.30 DESIGN 5 POLE, WITH MAST ARMS TC-81.21 DESIGN 4 AND DESIGN 4","","","",0]
["632E75123","EACH","SIGNAL SUPPORT, TYPE TC-12.30 DESIGN 5 POLE, WITH MAST ARMS TC-81.21 DESIGN 4 AND DESIGN 4, AS PER PLAN","","","",0]
["632E75126","EACH","SIGNAL SUPPORT, TYPE TC-12.30 DESIGN 5 POLE, WITH MAST ARMS TC-81.21 DESIGN 1 AND DESIGN 11","","","",0]
["632E75128","EACH","SIGNAL SUPPORT, TYPE TC-12.30 DESIGN 5 POLE, WITH MAST ARMS TC-81.21 DESIGN 2 AND DESIGN 11","","","",0]
["632E75132","EACH","SIGNAL SUPPORT, TYPE TC-12.30 DESIGN 5 POLE, WITH MAST ARMS TC-81.21 DESIGN 11 AND DESIGN 4","","","",0]
["632E75133","EACH","SIGNAL SUPPORT, TYPE TC-12.30 DESIGN 5 POLE, WITH MAST ARMS TC-81.21 DESIGN 11 AND DESIGN 4, AS PER PLAN","","","",0]
["632E75142","EACH","SIGNAL SUPPORT, TYPE TC-12.30 DESIGN 5 POLE, WITH MAST ARMS TC-81.21 DESIGN 12 AND DESIGN 1","","","",0]
["632E75143","EACH","SIGNAL SUPPORT, TYPE TC-12.30 DESIGN 5 POLE, WITH MAST ARMS TC-81.21 DESIGN 12 AND DESIGN 1, AS PER PLAN","","","",0]
["632E75152","EACH","SIGNAL SUPPORT, TYPE TC-12.30 DESIGN 5 POLE, WITH MAST ARMS TC-81.21 DESIGN 12 AND DESIGN 2","","","",0]
["632E75153","EACH","SIGNAL SUPPORT, TYPE TC-12.30 DESIGN 5 POLE, WITH MAST ARMS TC-81.21 DESIGN 12 AND DESIGN 2, AS PER PLAN","","","",0]
["632E75162","EACH","SIGNAL SUPPORT, TYPE TC-12.30 DESIGN 5 POLE, WITH MAST ARMS TC-81.21 DESIGN 12 AND DESIGN 3","","","",0]
["632E75163","EACH","SIGNAL SUPPORT, TYPE TC-12.30 DESIGN 5 POLE, WITH MAST ARMS TC-81.21 DESIGN 12 AND DESIGN 3, AS PER PLAN","","","",0]
["632E75172","EACH","SIGNAL SUPPORT, TYPE TC-12.30 DESIGN 6 POLE, WITH MAST ARMS TC-81.21 DESIGN 11 AND DESIGN 11","","","",0]
["632E75173","EACH","SIGNAL SUPPORT, TYPE TC-12.30 DESIGN 6 POLE, WITH MAST ARMS TC-81.21 DESIGN 11 AND DESIGN 11, AS PER PLAN","","","",0]
["632E75182","EACH","SIGNAL SUPPORT, TYPE TC-12.30 DESIGN 6 POLE, WITH MAST ARMS TC-81.21 DESIGN 12 AND DESIGN 4","","","",0]
["632E75183","EACH","SIGNAL SUPPORT, TYPE TC-12.30 DESIGN 6 POLE, WITH MAST ARMS TC-81.21 DESIGN 12 AND DESIGN 4, AS PER PLAN","","","",0]
["632E75192","EACH","SIGNAL SUPPORT, TYPE TC-12.30 DESIGN 6 POLE, WITH MAST ARMS TC-81.21 DESIGN 12 AND DESIGN 11","","","",0]
["632E75193","EACH","SIGNAL SUPPORT, TYPE TC-12.30 DESIGN 6 POLE, WITH MAST ARMS TC-81.21 DESIGN 12 AND DESIGN 11, AS PER PLAN","","","",0]
["632E75202","EACH","SIGNAL SUPPORT, TYPE TC-12.30 DESIGN 7 POLE, WITH MAST ARMS TC-81.21 DESIGN 12 AND DESIGN 12","","","",0]
["632E75203","EACH","SIGNAL SUPPORT, TYPE TC-12.30 DESIGN 7 POLE, WITH MAST ARMS TC-81.21 DESIGN 12 AND DESIGN 12, AS PER PLAN","","","",0]
["632E75204","EACH","SIGNAL SUPPORT, TYPE TC-12.30 DESIGN 7 POLE, WITH MAST ARMS TC-81.21 DESIGN 13 AND DESIGN 1","","","",0]
["632E75206","EACH","SIGNAL SUPPORT, TYPE TC-12.30 DESIGN 7 POLE, WITH MAST ARMS TC-81.21 DESIGN 13 AND DESIGN 2","","","",0]
["632E75207","EACH","SIGNAL SUPPORT, TYPE TC-12.30 DESIGN 7 POLE, WITH MAST ARMS TC-81.21 DESIGN 13 AND DESIGN 2, AS PER PLAN","","","",0]
["632E75208","EACH","SIGNAL SUPPORT, TYPE TC-12.30 DESIGN 7 POLE, WITH MAST ARMS TC-81.21 DESIGN 13 AND DESIGN 3","","","",0]
["632E75209","EACH","SIGNAL SUPPORT, TYPE TC-12.30 DESIGN 7 POLE, WITH MAST ARMS TC-81.21 DESIGN 13 AND DESIGN 3, AS PER PLAN","","","",0]
["632E75400","EACH","SIGNAL SUPPORT, TYPE TC-12.30 DESIGN 8 POLE, WITH MAST ARMS TC-81.21 DESIGN 13 AND DESIGN 4","","","",0]
["632E75401","EACH","SIGNAL SUPPORT, TYPE TC-12.30 DESIGN 8 POLE, WITH MAST ARMS TC-81.21 DESIGN 13 AND DESIGN 4, AS PER PLAN","","","",0]
["632E75410","EACH","SIGNAL SUPPORT, TYPE TC-12.30 DESIGN 8 POLE, WITH MAST ARMS TC-81.21 DESIGN 13 AND DESIGN 11","","","",0]
["632E75411","EACH","SIGNAL SUPPORT, TYPE TC-12.30 DESIGN 8 POLE, WITH MAST ARMS TC-81.21 DESIGN 13 AND DESIGN 11, AS PER PLAN","","","",0]
["632E75450","EACH","SIGNAL SUPPORT, TYPE TC-12.30 DESIGN 9 POLE, WITH MAST ARMS TC-81.21 DESIGN 13 AND DESIGN 12","","","",0]
["632E75451","EACH","SIGNAL SUPPORT, TYPE TC-12.30 DESIGN 9 POLE, WITH MAST ARMS TC-81.21 DESIGN 13 AND DESIGN 12, AS PER PLAN","","","",0]
["632E75454","EACH","SIGNAL SUPPORT, TYPE TC-12.30 DESIGN 9 POLE, WITH MAST ARMS TC-81.21 DESIGN 13 AND DESIGN 13","","","",0]
["632E75455","EACH","SIGNAL SUPPORT, TYPE TC-12.30 DESIGN 9 POLE, WITH MAST ARMS TC-81.21 DESIGN 13 AND DESIGN 13, AS PER PLAN","","","",0]
["632E75458","EACH","SIGNAL SUPPORT, TYPE TC-12.30 DESIGN 9 POLE, WITH MAST ARMS TC-81.21 DESIGN 14 AND DESIGN 1","","","",0]
["632E75460","EACH","SIGNAL SUPPORT, TYPE TC-12.30 DESIGN 9 POLE, WITH MAST ARMS TC-81.21 DESIGN 14 AND DESIGN 2","","","",0]
["632E75461","EACH","SIGNAL SUPPORT, TYPE TC-12.30 DESIGN 9 POLE, WITH MAST ARMS TC-81.21 DESIGN 14 AND DESIGN 2, AS PER PLAN","","","",0]
["632E75464","EACH","SIGNAL SUPPORT, TYPE TC-12.30 DESIGN 9 POLE, WITH MAST ARMS TC-81.21 DESIGN 14 AND DESIGN 3","","","",0]
["632E75468","EACH","SIGNAL SUPPORT, TYPE TC-12.30 DESIGN 9 POLE, WITH MAST ARMS TC-81.21 DESIGN 14 AND DESIGN 4","","","",0]
["632E75469","EACH","SIGNAL SUPPORT, TYPE TC-12.30 DESIGN 9 POLE, WITH MAST ARMS TC-81.21 DESIGN 14 AND DESIGN 4, AS PER PLAN","","","",0]
["632E75480","EACH","SIGNAL SUPPORT, TYPE TC-12.30 DESIGN 10 POLE, WITH MAST ARMS TC-81.21 DESIGN 14 AND DESIGN 11","","","",0]
["632E75481","EACH","SIGNAL SUPPORT, TYPE TC-12.30 DESIGN 10 POLE, WITH MAST ARMS TC-81.21 DESIGN 14 AND DESIGN 11, AS PER PLAN","","","",0]
["632E75484","EACH","SIGNAL SUPPORT, TYPE TC-12.30 DESIGN 10 POLE, WITH MAST ARMS TC-81.21 DESIGN 14 AND DESIGN 12","","","",0]
["632E75485","EACH","SIGNAL SUPPORT, TYPE TC-12.30 DESIGN 10 POLE, WITH MAST ARMS TC-81.21 DESIGN 14 AND DESIGN 12, AS PER PLAN","","","",0]
["632E75490","EACH","SIGNAL SUPPORT, TYPE TC-12.30 DESIGN 10 POLE, WITH MAST ARMS TC-81.21 DESIGN 14 AND DESIGN 13","","","",0]
["632E75494","EACH","SIGNAL SUPPORT, TYPE TC-12.30 DESIGN 10 POLE, WITH MAST ARMS TC-81.21 DESIGN 14 AND DESIGN 14","","","",0]
["632E76066","EACH","COMBINATION SIGNAL SUPPORT, TYPE TC-81.21 DESIGN 11 POLE, WITH MAST ARMS TC-81.21 DESIGN 3 AND DESIGN 2","","","",0]
["632E76204","EACH","COMBINATION SIGNAL SUPPORT, TYPE TC-12.30 DESIGN 7 POLE, WITH MAST ARMS TC-81.21 DESIGN 13 AND DESIGN 1","","","",0]
["632E76206","EACH","COMBINATION SIGNAL SUPPORT, TYPE TC-12.30 DESIGN 7 POLE, WITH MAST ARMS TC-81.21 DESIGN 13 AND DESIGN 2","","","",0]
["632E76207","EACH","COMBINATION SIGNAL SUPPORT, TYPE TC-12.30 DESIGN 7 POLE, WITH MAST ARMS TC-81.21 DESIGN 13 AND DESIGN 2, AS PER PLAN","","","",0]
["632E76208","EACH","COMBINATION SIGNAL SUPPORT, TYPE TC-12.30 DESIGN 7 POLE, WITH MAST ARMS TC-81.21 DESIGN 13 AND DESIGN 3","","","",0]
["632E76209","EACH","COMBINATION SIGNAL SUPPORT, TYPE TC-12.30 DESIGN 7 POLE, WITH MAST ARMS TC-81.21 DESIGN 13 AND DESIGN 3, AS PER PLAN","","","",0]
["632E76400","EACH","COMBINATION SIGNAL SUPPORT, TYPE TC-12.30 DESIGN 8 POLE, WITH MAST ARMS TC-81.21 DESIGN 13 AND DESIGN 4","","","",0]
["632E76401","EACH","COMBINATION SIGNAL SUPPORT, TYPE TC-12.30 DESIGN 8 POLE, WITH MAST ARMS TC-81.21 DESIGN 13 AND DESIGN 4, AS PER PLAN","","","",0]
["632E76410","EACH","COMBINATION SIGNAL SUPPORT, TYPE TC-12.30 DESIGN 8 POLE, WITH MAST ARMS TC-81.21 DESIGN 13 AND DESIGN 11","","","",0]
["632E76411","EACH","COMBINATION SIGNAL SUPPORT, TYPE TC-12.30 DESIGN 8 POLE, WITH MAST ARMS TC-81.21 DESIGN 13 AND DESIGN 11, AS PER PLAN","","","",0]
["632E76450","EACH","COMBINATION SIGNAL SUPPORT, TYPE TC-12.30 DESIGN 9 POLE, WITH MAST ARMS TC-81.21 DESIGN 13 AND DESIGN 12","","","",0]
["632E76454","EACH","COMBINATION SIGNAL SUPPORT, TYPE TC-12.30 DESIGN 9 POLE, WITH MAST ARMS TC-81.21 DESIGN 13 AND DESIGN 13","","","",0]
["632E76455","EACH","COMBINATION SIGNAL SUPPORT, TYPE TC-12.30 DESIGN 9 POLE, WITH MAST ARMS TC-81.21 DESIGN 13 AND DESIGN 13, AS PER PLAN","","","",0]
["632E76458","EACH","COMBINATION SIGNAL SUPPORT, TYPE TC-12.30 DESIGN 9 POLE, WITH MAST ARMS TC-81.21 DESIGN 14 AND DESIGN 1","","","",0]
["632E76460","EACH","COMBINATION SIGNAL SUPPORT, TYPE TC-12.30 DESIGN 9 POLE, WITH MAST ARMS TC-81.21 DESIGN 14 AND DESIGN 2","","","",0]
["632E76461","EACH","COMBINATION SIGNAL SUPPORT, TYPE TC-12.30 DESIGN 9 POLE, WITH MAST ARMS TC-81.21 DESIGN 14 AND DESIGN 2, AS PER PLAN","","","",0]
["632E76464","EACH","COMBINATION SIGNAL SUPPORT, TYPE TC-12.30 DESIGN 9 POLE, WITH MAST ARMS TC-81.21 DESIGN 14 AND DESIGN 3","","","",0]
["632E76468","EACH","COMBINATION SIGNAL SUPPORT, TYPE TC-12.30 DESIGN 9 POLE, WITH MAST ARMS TC-81.21 DESIGN 14 AND DESIGN 4","","","",0]
["632E76469","EACH","COMBINATION SIGNAL SUPPORT, TYPE TC-12.30 DESIGN 9 POLE, WITH MAST ARMS TC-81.21 DESIGN 14 AND DESIGN 4, AS PER PLAN","","","",0]
["632E76480","EACH","COMBINATION SIGNAL SUPPORT, TYPE TC-12.30 DESIGN 10 POLE, WITH MAST ARMS TC-81.21 DESIGN 14 AND DESIGN 11","","","",0]
["632E76484","EACH","COMBINATION SIGNAL SUPPORT, TYPE TC-12.30 DESIGN 10 POLE, WITH MAST ARMS TC-81.21 DESIGN 14 AND DESIGN 12","","","",0]
["632E76490","EACH","COMBINATION SIGNAL SUPPORT, TYPE TC-12.30 DESIGN 10 POLE, WITH MAST ARMS TC-81.21 DESIGN 14 AND DESIGN 13","","","",0]
["632E76494","EACH","COMBINATION SIGNAL SUPPORT, TYPE TC-12.30 DESIGN 10 POLE, WITH MAST ARMS TC-81.21 DESIGN 14 AND DESIGN 14","","","",0]
["632E77002","EACH","COMBINATION SIGNAL SUPPORT, TYPE TC-81.21 DESIGN 3 POLE, WITH MAST ARMS TC-81.21 DESIGN 1 AND DESIGN 1","","","",0]
["632E77003","EACH","COMBINATION SIGNAL SUPPORT, TYPE TC-81.21 DESIGN 3 POLE, WITH MAST ARMS TC-81.21 DESIGN 1 AND DESIGN 1, AS PER PLAN","","","",0]
["632E77012","EACH","COMBINATION SIGNAL SUPPORT, TYPE TC-81.21 DESIGN 3 POLE, WITH MAST ARMS TC-81.21 DESIGN 2 AND DESIGN 1","","","",0]
["632E77013","EACH","COMBINATION SIGNAL SUPPORT, TYPE TC-81.21 DESIGN 3 POLE, WITH MAST ARMS TC-81.21 DESIGN 2 AND DESIGN 1, AS PER PLAN","","","",0]
["632E77022","EACH","COMBINATION SIGNAL SUPPORT, TYPE TC-81.21 DESIGN 4 POLE, WITH MAST ARMS TC-81.21 DESIGN 2 AND DESIGN 2","","","",0]
["632E77023","EACH","COMBINATION SIGNAL SUPPORT, TYPE TC-81.21 DESIGN 4 POLE, WITH MAST ARMS TC-81.21 DESIGN 2 AND DESIGN 2, AS PER PLAN","","","",0]
["632E77032","EACH","COMBINATION SIGNAL SUPPORT, TYPE TC-81.21 DESIGN 4 POLE, WITH MAST ARMS TC-81.21 DESIGN 3 AND DESIGN 1","","","",0]
["632E77033","EACH","COMBINATION SIGNAL SUPPORT, TYPE TC-81.21 DESIGN 4 POLE, WITH MAST ARMS TC-81.21 DESIGN 3 AND DESIGN 1, AS PER PLAN","","","",0]
["632E77042","EACH","COMBINATION SIGNAL SUPPORT, TYPE TC-81.21 DESIGN 4 POLE, WITH MAST ARMS TC-81.21 DESIGN 3 AND DESIGN 2","","","",0]
["632E77043","EACH","COMBINATION SIGNAL SUPPORT, TYPE TC-81.21 DESIGN 4 POLE, WITH MAST ARMS TC-81.21 DESIGN 3 AND DESIGN 2, AS PER PLAN","","","",0]
["632E77052","EACH","COMBINATION SIGNAL SUPPORT, TYPE TC-81.21 DESIGN 4 POLE, WITH MAST ARMS TC-81.21 DESIGN 3 AND DESIGN 3","","","",0]
["632E77053","EACH","COMBINATION SIGNAL SUPPORT, TYPE TC-81.21 DESIGN 4 POLE, WITH MAST ARMS TC-81.21 DESIGN 3 AND DESIGN 3, AS PER PLAN","","","",0]
["632E77062","EACH","COMBINATION SIGNAL SUPPORT, TYPE TC-81.21 DESIGN 11 POLE, WITH MAST ARMS TC-81.21 DESIGN 4 AND DESIGN 1","","","",0]
["632E77063","EACH","COMBINATION SIGNAL SUPPORT, TYPE TC-81.21 DESIGN 11 POLE, WITH MAST ARMS TC-81.21 DESIGN 4 AND DESIGN 1, AS PER PLAN","","","",0]
["632E77072","EACH","COMBINATION SIGNAL SUPPORT, TYPE TC-81.21 DESIGN 11 POLE, WITH MAST ARMS TC-81.21 DESIGN 4 AND DESIGN 2","","","",0]
["632E77073","EACH","COMBINATION SIGNAL SUPPORT, TYPE TC-81.21 DESIGN 11 POLE, WITH MAST ARMS TC-81.21 DESIGN 4 AND DESIGN 2, AS PER PLAN","","","",0]
["632E77082","EACH","COMBINATION SIGNAL SUPPORT, TYPE TC-81.21 DESIGN 12 POLE, WITH MAST ARMS TC-81.21 DESIGN 4 AND DESIGN 3","","","",0]
["632E77083","EACH","COMBINATION SIGNAL SUPPORT, TYPE TC-81.21 DESIGN 12 POLE, WITH MAST ARMS TC-81.21 DESIGN 4 AND DESIGN 3, AS PER PLAN","","","",0]
["632E77092","EACH","COMBINATION SIGNAL SUPPORT, TYPE TC-81.21 DESIGN 12 POLE, WITH MAST ARMS TC-81.21 DESIGN 11 AND DESIGN 1","","","",0]
["632E77093","EACH","COMBINATION SIGNAL SUPPORT, TYPE TC-81.21 DESIGN 12 POLE, WITH MAST ARMS TC-81.21 DESIGN 11 AND DESIGN 1, AS PER PLAN","","","",0]
["632E77102","EACH","COMBINATION SIGNAL SUPPORT, TYPE TC-81.21 DESIGN 12 POLE, WITH MAST ARMS TC-81.21 DESIGN 11 AND DESIGN 2","","","",0]
["632E77103","EACH","COMBINATION SIGNAL SUPPORT, TYPE TC-81.21 DESIGN 12 POLE, WITH MAST ARMS TC-81.21 DESIGN 11 AND DESIGN 2, AS PER PLAN","","","",0]
["632E77112","EACH","COMBINATION SIGNAL SUPPORT, TYPE TC-81.21 DESIGN 12 POLE, WITH MAST ARMS TC-81.21 DESIGN 11 AND DESIGN 3","","","",0]
["632E77113","EACH","COMBINATION SIGNAL SUPPORT, TYPE TC-81.21 DESIGN 12 POLE, WITH MAST ARMS TC-81.21 DESIGN 11 AND DESIGN 3, AS PER PLAN","","","",0]
["632E77118","EACH","COMBINATION SIGNAL SUPPORT, TYPE TC-12.30 DESIGN 5 POLE, WITH MAST ARMS TC-81.21 DESIGN 3 AND DESIGN 3","","","",0]
["632E77122","EACH","COMBINATION SIGNAL SUPPORT, TYPE TC-12.30 DESIGN 5 POLE, WITH MAST ARMS TC-81.21 DESIGN 4 AND DESIGN 4","","","",0]
["632E77123","EACH","COMBINATION SIGNAL SUPPORT, TYPE TC-12.30 DESIGN 5 POLE, WITH MAST ARMS TC-81.21 DESIGN 4 AND DESIGN 4, AS PER PLAN","","","",0]
["632E77126","EACH","COMBINATION SIGNAL SUPPORT, TYPE TC-12.30 DESIGN 5 POLE, WITH MAST ARMS TC-81.21 DESIGN 1 AND DESIGN 11","","","",0]
["632E77128","EACH","COMBINATION SIGNAL SUPPORT, TYPE TC-12.30 DESIGN 5 POLE, WITH MAST ARMS TC-81.21 DESIGN 2 AND DESIGN 11","","","",0]
["632E77132","EACH","COMBINATION SIGNAL SUPPORT, TYPE TC-12.30 DESIGN 5 POLE, WITH MAST ARMS TC-81.21 DESIGN 11 AND DESIGN 4","","","",0]
["632E77133","EACH","COMBINATION SIGNAL SUPPORT, TYPE TC-12.30 DESIGN 5 POLE, WITH MAST ARMS TC-81.21 DESIGN 11 AND DESIGN 4, AS PER PLAN","","","",0]
["632E77142","EACH","COMBINATION SIGNAL SUPPORT, TYPE TC-12.30 DESIGN 5 POLE, WITH MAST ARMS TC-81.21 DESIGN 12 AND DESIGN 1","","","",0]
["632E77152","EACH","COMBINATION SIGNAL SUPPORT, TYPE TC-12.30 DESIGN 5 POLE, WITH MAST ARMS TC-81.21 DESIGN 12 AND DESIGN 2","","","",0]
["632E77153","EACH","COMBINATION SIGNAL SUPPORT, TYPE TC-12.30 DESIGN 5 POLE, WITH MAST ARMS TC-81.21 DESIGN 12 AND DESIGN 2, AS PER PLAN","","","",0]
["632E77162","EACH","COMBINATION SIGNAL SUPPORT, TYPE TC-12.30 DESIGN 5 POLE, WITH MAST ARMS TC-81.21 DESIGN 12 AND DESIGN 3","","","",0]
["632E77163","EACH","COMBINATION SIGNAL SUPPORT, TYPE TC-12.30 DESIGN 5 POLE, WITH MAST ARMS TC-81.21 DESIGN 12 AND DESIGN 3, AS PER PLAN","","","",0]
["632E77172","EACH","COMBINATION SIGNAL SUPPORT, TYPE TC-12.30 DESIGN 6 POLE, WITH MAST ARMS TC-81.21 DESIGN 11 AND DESIGN 11","","","",0]
["632E77173","EACH","COMBINATION SIGNAL SUPPORT, TYPE TC-12.30 DESIGN 6 POLE, WITH MAST ARMS TC-81.21 DESIGN 11 AND DESIGN 11, AS PER PLAN","","","",0]
["632E77182","EACH","COMBINATION SIGNAL SUPPORT, TYPE TC-12.30 DESIGN 6 POLE, WITH MAST ARMS TC-81.21 DESIGN 12 AND DESIGN 4","","","",0]
["632E77192","EACH","COMBINATION SIGNAL SUPPORT, TYPE TC-12.30 DESIGN 6 POLE, WITH MAST ARMS TC-81.21 DESIGN 12 AND DESIGN 11","","","",0]
["632E77193","EACH","COMBINATION SIGNAL SUPPORT, TYPE TC-12.30 DESIGN 6 POLE, WITH MAST ARMS TC-81.21 DESIGN 12 AND DESIGN 11, AS PER PLAN","","","",0]
["632E77196","EACH","COMBINATION SIGNAL SUPPORT, TYPE TC-12.30 DESIGN 7 POLE, WITH MAST ARMS TC-81.21 DESIGN 11 AND DESIGN 12","","","",0]
["632E77202","EACH","COMBINATION SIGNAL SUPPORT, TYPE TC-12.30 DESIGN 7 POLE, WITH MAST ARMS TC-81.21 DESIGN 12 AND DESIGN 12","","","",0]
["632E77210","EACH","COMBINATION SIGNAL SUPPORT, TYPE TC-12.30 DESIGN 11 POLE, WITH MAST ARMS TC-81.21 DESIGN 14 AND DESIGN 13","","","",0]
["632E77220","EACH","COMBINATION SIGNAL SUPPORT, TYPE TC-12.30 DESIGN 12 POLE, WITH MAST ARMS TC-81.21 DESIGN 14 AND DESIGN 14","","","",0]
["632E77221","EACH","COMBINATION SIGNAL SUPPORT, TYPE TC-12.30 DESIGN 12 POLE, WITH MAST ARMS TC-81.21 DESIGN 14 AND DESIGN 14, AS PER PLAN","","","",0]
["632E77233","EACH","SIGNAL SUPPORT, MECHANICAL DAMPER FOR TC-81.21 MAST ARM (GREATER THAN 39' IN LENGTH), AS PER PLAN","","","",0]
["632E78100","EACH","COMBINATION SIGNAL SUPPORT, TYPE TC-12.31, DESIGN 6","","","",0]
["632E78101","EACH","COMBINATION SIGNAL SUPPORT, TYPE TC-12.31, DESIGN 6, AS PER PLAN","","","",0]
["632E78110","EACH","COMBINATION SIGNAL SUPPORT, TYPE TC-12.31, DESIGN 10","","","",0]
["632E78111","EACH","COMBINATION SIGNAL SUPPORT, TYPE TC-12.31, DESIGN 10, AS PER PLAN","","","",0]
["632E78120","EACH","COMBINATION SIGNAL SUPPORT, TYPE TC-12.31, DESIGN 12","","","",0]
["632E78121","EACH","COMBINATION SIGNAL SUPPORT, TYPE TC-12.31, DESIGN 12, AS PER PLAN","","","",0]
["632E78224","EACH","COMBINATION SIGNAL SUPPORT, TYPE TC-12.31 DESIGN 6 POLE, WITH MAST ARMS TC-81.22 DESIGN 4 AND DESIGN 4","","","",0]
["632E78225","EACH","COMBINATION SIGNAL SUPPORT, TYPE TC-12.31 DESIGN 6 POLE, WITH MAST ARMS TC-81.22 DESIGN 4 AND DESIGN 4, AS PER PLAN","","","",0]
["632E78240","EACH","COMBINATION SIGNAL SUPPORT, TYPE TC-12.31 DESIGN 6 POLE, WITH MAST ARMS TC-81.22 DESIGN 12 AND DESIGN 2","","","",0]
["632E78241","EACH","COMBINATION SIGNAL SUPPORT, TYPE TC-12.31 DESIGN 6 POLE, WITH MAST ARMS TC-81.22 DESIGN 12 AND DESIGN 2, AS PER PLAN","","","",0]
["632E78244","EACH","COMBINATION SIGNAL SUPPORT, TYPE TC-12.31 DESIGN 6 POLE, WITH MAST ARMS TC-81.22 DESIGN 12 AND DESIGN 4","","","",0]
["632E78245","EACH","COMBINATION SIGNAL SUPPORT, TYPE TC-12.31 DESIGN 6 POLE, WITH MAST ARMS TC-81.22 DESIGN 12 AND DESIGN 4, AS PER PLAN","","","",0]
["632E78348","EACH","COMBINATION SIGNAL SUPPORT, TYPE TC-12.31 DESIGN 10 POLE, WITH MAST ARMS TC-81.22 DESIGN 12 AND DESIGN 12","","","",0]
["632E78349","EACH","COMBINATION SIGNAL SUPPORT, TYPE TC-12.31 DESIGN 10 POLE, WITH MAST ARMS TC-81.22 DESIGN 12 AND DESIGN 12, AS PER PLAN","","","",0]
["632E78360","EACH","COMBINATION SIGNAL SUPPORT, TYPE TC-12.31 DESIGN 10 POLE, WITH MAST ARMS TC-81.22 DESIGN 13 AND DESIGN 2","","","",0]
["632E78361","EACH","COMBINATION SIGNAL SUPPORT, TYPE TC-12.31 DESIGN 10 POLE, WITH MAST ARMS TC-81.22 DESIGN 13 AND DESIGN 2, AS PER PLAN","","","",0]
["632E78364","EACH","COMBINATION SIGNAL SUPPORT, TYPE TC-12.31 DESIGN 10 POLE, WITH MAST ARMS TC-81.22 DESIGN 13 AND DESIGN 4","","","",0]
["632E78365","EACH","COMBINATION SIGNAL SUPPORT, TYPE TC-12.31 DESIGN 10 POLE, WITH MAST ARMS TC-81.22 DESIGN 13 AND DESIGN 4, AS PER PLAN","","","",0]
["632E78368","EACH","COMBINATION SIGNAL SUPPORT, TYPE TC-12.31 DESIGN 10 POLE, WITH MAST ARMS TC-81.22 DESIGN 13 AND DESIGN 12","","","",0]
["632E78369","EACH","COMBINATION SIGNAL SUPPORT, TYPE TC-12.31 DESIGN 10 POLE, WITH MAST ARMS TC-81.22 DESIGN 13 AND DESIGN 12, AS PER PLAN","","","",0]
["632E78372","EACH","COMBINATION SIGNAL SUPPORT, TYPE TC-12.31 DESIGN 10 POLE, WITH MAST ARMS TC-81.22 DESIGN 13 AND DESIGN 13","","","",0]
["632E78373","EACH","COMBINATION SIGNAL SUPPORT, TYPE TC-12.31 DESIGN 10 POLE, WITH MAST ARMS TC-81.22 DESIGN 13 AND DESIGN 13, AS PER PLAN","","","",0]
["632E78380","EACH","COMBINATION SIGNAL SUPPORT, TYPE TC-12.31 DESIGN 10 POLE, WITH MAST ARMS TC-81.22 DESIGN 14 AND DESIGN 2","","","",0]
["632E78381","EACH","COMBINATION SIGNAL SUPPORT, TYPE TC-12.31 DESIGN 10 POLE, WITH MAST ARMS TC-81.22 DESIGN 14 AND DESIGN 2, AS PER PLAN","","","",0]
["632E78384","EACH","COMBINATION SIGNAL SUPPORT, TYPE TC-12.31 DESIGN 10 POLE, WITH MAST ARMS TC-81.22 DESIGN 14 AND DESIGN 4","","","",0]
["632E78385","EACH","COMBINATION SIGNAL SUPPORT, TYPE TC-12.31 DESIGN 10 POLE, WITH MAST ARMS TC-81.22 DESIGN 14 AND DESIGN 4, AS PER PLAN","","","",0]
["632E78388","EACH","COMBINATION SIGNAL SUPPORT, TYPE TC-12.31 DESIGN 10 POLE, WITH MAST ARMS TC-81.22 DESIGN 14 AND DESIGN 12","","","",0]
["632E78389","EACH","COMBINATION SIGNAL SUPPORT, TYPE TC-12.31 DESIGN 10 POLE, WITH MAST ARMS TC-81.22 DESIGN 14 AND DESIGN 12, AS PER PLAN","","","",0]
["632E78472","EACH","COMBINATION SIGNAL SUPPORT, TYPE TC-12.31 DESIGN 12 POLE, WITH MAST ARMS TC-81.22 DESIGN 13 AND DESIGN 13","","","",0]
["632E78473","EACH","COMBINATION SIGNAL SUPPORT, TYPE TC-12.31 DESIGN 12 POLE, WITH MAST ARMS TC-81.22 DESIGN 13 AND DESIGN 13, AS PER PLAN","","","",0]
["632E78492","EACH","COMBINATION SIGNAL SUPPORT, TYPE TC-12.31 DESIGN 12 POLE, WITH MAST ARMS TC-81.22 DESIGN 14 AND DESIGN 13","","","",0]
["632E78493","EACH","COMBINATION SIGNAL SUPPORT, TYPE TC-12.31 DESIGN 12 POLE, WITH MAST ARMS TC-81.22 DESIGN 14 AND DESIGN 13, AS PER PLAN","","","",0]
["632E78496","EACH","COMBINATION SIGNAL SUPPORT, TYPE TC-12.31 DESIGN 12 POLE, WITH MAST ARMS TC-81.22 DESIGN 14 AND DESIGN 14","","","",0]
["632E78497","EACH","COMBINATION SIGNAL SUPPORT, TYPE TC-12.31 DESIGN 12 POLE, WITH MAST ARMS TC-81.22 DESIGN 14 AND DESIGN 14, AS PER PLAN","","","",0]
["632E79100","EACH","COMBINATION SIGNAL SUPPORT, TYPE TC-81.22, DESIGN 2","","","",0]
["632E79101","EACH","COMBINATION SIGNAL SUPPORT, TYPE TC-81.22, DESIGN 2, AS PER PLAN","","","",0]
["632E79110","EACH","COMBINATION SIGNAL SUPPORT, TYPE TC-81.22, DESIGN 4","","","",0]
["632E79111","EACH","COMBINATION SIGNAL SUPPORT, TYPE TC-81.22, DESIGN 4, AS PER PLAN","","","",0]
["632E79130","EACH","COMBINATION SIGNAL SUPPORT, TYPE TC-81.22, DESIGN 12","","","",0]
["632E79131","EACH","COMBINATION SIGNAL SUPPORT, TYPE TC-81.22, DESIGN 12, AS PER PLAN","","","",0]
["632E79140","EACH","COMBINATION SIGNAL SUPPORT, TYPE TC-81.22, DESIGN 13","","","",0]
["632E79141","EACH","COMBINATION SIGNAL SUPPORT, TYPE TC-81.22, DESIGN 13, AS PER PLAN","","","",0]
["632E79150","EACH","COMBINATION SIGNAL SUPPORT, TYPE TC-81.22, DESIGN 14","","","",0]
["632E79151","EACH","COMBINATION SIGNAL SUPPORT, TYPE TC-81.22, DESIGN 14, AS PER PLAN","","","",0]
["632E79300","EACH","COMBINATION SIGNAL SUPPORT, TYPE TC-81.22 DESIGN 4 POLE, WITH MAST ARMS TC-81.22 DESIGN 2 AND DESIGN 2","","","",0]
["632E79301","EACH","COMBINATION SIGNAL SUPPORT, TYPE TC-81.22 DESIGN 4 POLE, WITH MAST ARMS TC-81.22 DESIGN 2 AND DESIGN 2, AS PER PLAN","","","",0]
["632E79420","EACH","COMBINATION SIGNAL SUPPORT, TYPE TC-81.22 DESIGN 12 POLE, WITH MAST ARMS TC-81.22 DESIGN 4 AND DESIGN 2","","","",0]
["632E79421","EACH","COMBINATION SIGNAL SUPPORT, TYPE TC-81.22 DESIGN 12 POLE, WITH MAST ARMS TC-81.22 DESIGN 4 AND DESIGN 2, AS PER PLAN","","","",0]
["632E80102","EACH","SIGNAL SUPPORT, TYPE TC-81.21, DESIGN 1","","","",0]
["632E80103","EACH","SIGNAL SUPPORT, TYPE TC-81.21, DESIGN 1, AS PER PLAN","","","",0]
["632E80202","EACH","SIGNAL SUPPORT, TYPE TC-81.21, DESIGN 2","","","",0]
["632E80203","EACH","SIGNAL SUPPORT, TYPE TC-81.21, DESIGN 2, AS PER PLAN","","","",0]
["632E80302","EACH","SIGNAL SUPPORT, TYPE TC-81.21, DESIGN 3","","","",0]
["632E80303","EACH","SIGNAL SUPPORT, TYPE TC-81.21, DESIGN 3, AS PER PLAN","","","",0]
["632E80402","EACH","SIGNAL SUPPORT, TYPE TC-81.21, DESIGN 4","","","",0]
["632E80403","EACH","SIGNAL SUPPORT, TYPE TC-81.21, DESIGN 4, AS PER PLAN","","","",0]
["632E80502","EACH","SIGNAL SUPPORT, TYPE TC-81.21, DESIGN 11","","","",0]
["632E80503","EACH","SIGNAL SUPPORT, TYPE TC-81.21, DESIGN 11, AS PER PLAN","","","",0]
["632E80602","EACH","SIGNAL SUPPORT, TYPE TC-81.21, DESIGN 12","","","",0]
["632E80603","EACH","SIGNAL SUPPORT, TYPE TC-81.21, DESIGN 12, AS PER PLAN","","","",0]
["632E80620","EACH","SIGNAL SUPPORT, TYPE TC-81.21, DESIGN 13","","","",0]
["632E80621","EACH","SIGNAL SUPPORT, TYPE TC-81.21, DESIGN 13, AS PER PLAN","","","",0]
["632E80628","EACH","SIGNAL SUPPORT, TYPE TC-81.21, DESIGN 14","","","",0]
["632E80629","EACH","SIGNAL SUPPORT, TYPE TC-81.21, DESIGN 14, AS PER PLAN","","","",0]
["632E80700","EACH","SIGNAL SUPPORT, MISC.:","","","ADD SUPPLEMENTAL DESCRIPTION",1]
["632E80970","EACH","COMBINATION SIGNAL SUPPORT, TYPE TC-81.21, DESIGN 1","","","",0]
["632E80971","EACH","COMBINATION SIGNAL SUPPORT, TYPE TC-81.21, DESIGN 1, AS PER PLAN","","","",0]
["632E80980","EACH","COMBINATION SIGNAL SUPPORT, TYPE TC-81.21, DESIGN 2","","","",0]
["632E80981","EACH","COMBINATION SIGNAL SUPPORT, TYPE TC-81.21, DESIGN 2, AS PER PLAN","","","",0]
["632E80990","EACH","COMBINATION SIGNAL SUPPORT, TYPE TC-81.21, DESIGN 3","","","",0]
["632E80991","EACH","COMBINATION SIGNAL SUPPORT, TYPE TC-81.21, DESIGN 3, AS PER PLAN","","","",0]
["632E81000","EACH","COMBINATION SIGNAL SUPPORT, TYPE TC-81.21, DESIGN 4","","","",0]
["632E81001","EACH","COMBINATION SIGNAL SUPPORT, TYPE TC-81.21, DESIGN 4, AS PER PLAN","","","",0]
["632E81010","EACH","COMBINATION SIGNAL SUPPORT, TYPE TC-12.30, DESIGN 5","","","",0]
["632E81011","EACH","COMBINATION SIGNAL SUPPORT, TYPE TC-12.30, DESIGN 5, AS PER PLAN","","","",0]
["632E81020","EACH","COMBINATION SIGNAL SUPPORT, TYPE TC-12.30, DESIGN 6","","","",0]
["632E81021","EACH","COMBINATION SIGNAL SUPPORT, TYPE TC-12.30, DESIGN 6, AS PER PLAN","","","",0]
["632E81030","EACH","COMBINATION SIGNAL SUPPORT, TYPE TC-12.30, DESIGN 7","","","",0]
["632E81040","EACH","COMBINATION SIGNAL SUPPORT, TYPE TC-12.30, DESIGN 8","","","",0]
["632E81052","EACH","COMBINATION SIGNAL SUPPORT, TYPE TC-81.21, DESIGN 2","","","",0]
["632E81070","EACH","COMBINATION SIGNAL SUPPORT, TYPE TC-81.21, DESIGN 11","","","",0]
["632E81071","EACH","COMBINATION SIGNAL SUPPORT, TYPE TC-81.21, DESIGN 11, AS PER PLAN","","","",0]
["632E81080","EACH","COMBINATION SIGNAL SUPPORT, TYPE TC-81.21, DESIGN 12","","","",0]
["632E81081","EACH","COMBINATION SIGNAL SUPPORT, TYPE TC-81.21, DESIGN 12, AS PER PLAN","","","",0]
["632E81090","EACH","COMBINATION SIGNAL SUPPORT, TYPE TC-81.21, DESIGN 13","","","",0]
["632E81091","EACH","COMBINATION SIGNAL SUPPORT, TYPE TC-81.21, DESIGN 13, AS PER PLAN","","","",0]
["632E81094","EACH","COMBINATION SIGNAL SUPPORT, TYPE TC-81.21, DESIGN 14","","","",0]
["632E81095","EACH","COMBINATION SIGNAL SUPPORT, TYPE TC-81.21, DESIGN 14, AS PER PLAN","","","",0]
["632E81700","EACH","COMBINATION SIGNAL SUPPORT, MISC.:","","","ADD SUPPLEMENTAL DESCRIPTION",1]
["632E82100","EACH","STRAIN POLE, TYPE TC-81.10, DESIGN 1","","","",0]
["632E82101","EACH","STRAIN POLE, TYPE TC-81.10, DESIGN 1, AS PER PLAN","","","",0]
["632E82200","EACH","STRAIN POLE, TYPE TC-81.10, DESIGN 2","","","",0]
["632E82201","EACH","STRAIN POLE, TYPE TC-81.10, DESIGN 2, AS PER PLAN","","","",0]
["632E82300","EACH","STRAIN POLE, TYPE TC-81.10, DESIGN 3","","","",0]
["632E82301","EACH","STRAIN POLE, TYPE TC-81.10, DESIGN 3, AS PER PLAN","","","",0]
["632E82400","EACH","STRAIN POLE, TYPE TC-81.10, DESIGN 4","","","",0]
["632E82401","EACH","STRAIN POLE, TYPE TC-81.10, DESIGN 4, AS PER PLAN","","","",0]
["632E82500","EACH","STRAIN POLE, TYPE TC-81.10, DESIGN 5","","","",0]
["632E82501","EACH","STRAIN POLE, TYPE TC-81.10, DESIGN 5, AS PER PLAN","","","",0]
["632E82600","EACH","STRAIN POLE, TYPE TC-81.10, DESIGN 6","","","",0]
["632E82601","EACH","STRAIN POLE, TYPE TC-81.10, DESIGN 6, AS PER PLAN","","","",0]
["632E82700","EACH","STRAIN POLE, TYPE TC-81.10, DESIGN 7","","","",0]
["632E82701","EACH","STRAIN POLE, TYPE TC-81.10, DESIGN 7, AS PER PLAN","","","",0]
["632E82800","EACH","STRAIN POLE, TYPE TC-81.10, DESIGN 8","","","",0]
["632E82801","EACH","STRAIN POLE, TYPE TC-81.10, DESIGN 8, AS PER PLAN","","","",0]
["632E82900","EACH","STRAIN POLE, TYPE TC-81.10, DESIGN 9","","","",0]
["632E82901","EACH","STRAIN POLE, TYPE TC-81.10, DESIGN 9, AS PER PLAN","","","",0]
["632E83000","EACH","STRAIN POLE, TYPE TC-81.10, DESIGN 10","","","",0]
["632E83001","EACH","STRAIN POLE, TYPE TC-81.10, DESIGN 10, AS PER PLAN","","","",0]
["632E83100","EACH","STRAIN POLE, TYPE TC-81.10, DESIGN 11","","","",0]
["632E83101","EACH","STRAIN POLE, TYPE TC-81.10, DESIGN 11, AS PER PLAN","","","",0]
["632E83200","EACH","STRAIN POLE, TYPE TC-81.10, DESIGN 12","","","",0]
["632E83201","EACH","STRAIN POLE, TYPE TC-81.10, DESIGN 12, AS PER PLAN","","","",0]
["632E83300","EACH","STRAIN POLE, TYPE TC-81.10, DESIGN 13","","","",0]
["632E83301","EACH","STRAIN POLE, TYPE TC-81.10, DESIGN 13, AS PER PLAN","","","",0]
["632E83400","EACH","STRAIN POLE, TYPE TC-81.10, DESIGN 14","","","",0]
["632E83401","EACH","STRAIN POLE, TYPE TC-81.10, DESIGN 14, AS PER PLAN","","","",0]
["632E83500","EACH","STRAIN POLE, TYPE TC-81.10, DESIGN 5, INSTALLATION ONLY","","","",0]
["632E83501","EACH","STRAIN POLE, TYPE TC-81.10, DESIGN 5, INSTALLATION ONLY, AS PER PLAN","","","",0]
["632E83502","EACH","STRAIN POLE, TYPE TC-81.10, DESIGN 6, INSTALLATION ONLY","","","",0]
["632E83503","EACH","STRAIN POLE, TYPE TC-81.10, DESIGN 6, INSTALLATION ONLY, AS PER PLAN","","","",0]
["632E83504","EACH","STRAIN POLE, TYPE TC-81.10, DESIGN 7, INSTALLATION ONLY","","","",0]
["632E83505","EACH","STRAIN POLE, TYPE TC-81.10, DESIGN 7, INSTALLATION ONLY, AS PER PLAN","","","",0]
["632E83506","EACH","STRAIN POLE, TYPE TC-81.10, DESIGN 10, INSTALLATION ONLY","","","",0]
["632E83507","EACH","STRAIN POLE, TYPE TC-81.10, DESIGN 10, INSTALLATION ONLY, AS PER PLAN","","","",0]
["632E83508","EACH","STRAIN POLE, TYPE TC-81.10, DESIGN 8, INSTALLATION ONLY","","","",0]
["632E83509","EACH","STRAIN POLE, TYPE TC-81.10, DESIGN 8, INSTALLATION ONLY, AS PER PLAN","","","",0]
["632E83600","EACH","STRAIN POLE, MISC.:","","","ADD SUPPLEMENTAL DESCRIPTION",1]
["632E84100","EACH","COMBINATION STRAIN POLE, TYPE TC-81.10, DESIGN 1","","","",0]
["632E84101","EACH","COMBINATION STRAIN POLE, TYPE TC-81.10, DESIGN 1, AS PER PLAN","","","",0]
["632E84200","EACH","COMBINATION STRAIN POLE, TYPE TC-81.10, DESIGN 2","","","",0]
["632E84201","EACH","COMBINATION STRAIN POLE, TYPE TC-81.10, DESIGN 2, AS PER PLAN","","","",0]
["632E84300","EACH","COMBINATION STRAIN POLE, TYPE TC-81.10, DESIGN 3","","","",0]
["632E84301","EACH","COMBINATION STRAIN POLE, TYPE TC-81.10, DESIGN 3, AS PER PLAN","","","",0]
["632E84400","EACH","COMBINATION STRAIN POLE, TYPE TC-81.10, DESIGN 4","","","",0]
["632E84401","EACH","COMBINATION STRAIN POLE, TYPE TC-81.10, DESIGN 4, AS PER PLAN","","","",0]
["632E84500","EACH","COMBINATION STRAIN POLE, TYPE TC-81.10, DESIGN 5","","","",0]
["632E84501","EACH","COMBINATION STRAIN POLE, TYPE TC-81.10, DESIGN 5, AS PER PLAN","","","",0]
["632E84600","EACH","COMBINATION STRAIN POLE, TYPE TC-81.10, DESIGN 6","","","",0]
["632E84601","EACH","COMBINATION STRAIN POLE, TYPE TC-81.10, DESIGN 6, AS PER PLAN","","","",0]
["632E84700","EACH","COMBINATION STRAIN POLE, TYPE TC-81.10, DESIGN 7","","","",0]
["632E84701","EACH","COMBINATION STRAIN POLE, TYPE TC-81.10, DESIGN 7, AS PER PLAN","","","",0]
["632E84800","EACH","COMBINATION STRAIN POLE, TYPE TC-81.10, DESIGN 8","","","",0]
["632E84801","EACH","COMBINATION STRAIN POLE, TYPE TC-81.10, DESIGN 8, AS PER PLAN","","","",0]
["632E84900","EACH","COMBINATION STRAIN POLE, TYPE TC-81.10, DESIGN 9","","","",0]
["632E84901","EACH","COMBINATION STRAIN POLE, TYPE TC-81.10, DESIGN 9, AS PER PLAN","","","",0]
["632E85000","EACH","COMBINATION STRAIN POLE, TYPE TC-81.10, DESIGN 10","","","",0]
["632E85001","EACH","COMBINATION STRAIN POLE, TYPE TC-81.10, DESIGN 10, AS PER PLAN","","","",0]
["632E85100","EACH","COMBINATION STRAIN POLE, TYPE TC-81.10, DESIGN 11","","","",0]
["632E85101","EACH","COMBINATION STRAIN POLE, TYPE TC-81.10, DESIGN 11, AS PER PLAN","","","",0]
["632E85200","EACH","COMBINATION STRAIN POLE, TYPE TC-81.10, DESIGN 12","","","",0]
["632E85201","EACH","COMBINATION STRAIN POLE, TYPE TC-81.10, DESIGN 12, AS PER PLAN","","","",0]
["632E85300","EACH","COMBINATION STRAIN POLE, TYPE TC-81.10 AND SIGN SUPPORT, TYPE TC-9.10 (WITH LIGHT POLE EXTENSION)","","","",0]
["632E85302","EACH","COMBINATION SIGNAL SUPPORT, TYPE TC-81.21 AND SIGN SUPPORT, TYPE TC-12.30","","","",0]
["632E85303","EACH","COMBINATION SIGNAL SUPPORT, TYPE TC-81.21 AND SIGN SUPPORT, TYPE TC-12.30, AS PER PLAN","","","",0]
["632E85304","EACH","COMBINATION STRAIN POLE, TYPE TC-81.10 AND SIGN SUPPORT, TYPE TC-9.10","","","",0]
["632E85320","EACH","COMBINATION STRAIN POLE, TYPE TC-81.10, DESIGN 13","","","",0]
["632E85321","EACH","COMBINATION STRAIN POLE, TYPE TC-81.10, DESIGN 13, AS PER PLAN","","","",0]
["632E85400","EACH","COMBINATION STRAIN POLE, TYPE TC-81.10, DESIGN 14","","","",0]
["632E85401","EACH","COMBINATION STRAIN POLE, TYPE TC-81.10, DESIGN 14, AS PER PLAN","","","",0]
["632E86120","EACH","STRAIN POLE, TYPE TC-81.11, DESIGN 8","","","",0]
["632E86121","EACH","STRAIN POLE, TYPE TC-81.11, DESIGN 8, AS PER PLAN","","","",0]
["632E86130","EACH","STRAIN POLE, TYPE TC-81.11, DESIGN 10","","","",0]
["632E86131","EACH","STRAIN POLE, TYPE TC-81.11, DESIGN 10, AS PER PLAN","","","",0]
["632E86140","EACH","STRAIN POLE, TYPE TC-81.11, DESIGN 12","","","",0]
["632E86141","EACH","STRAIN POLE, TYPE TC-81.11, DESIGN 12, AS PER PLAN","","","",0]
["632E86150","EACH","STRAIN POLE, TYPE TC-81.11, DESIGN 13","","","",0]
["632E86151","EACH","STRAIN POLE, TYPE TC-81.11, DESIGN 13, AS PER PLAN","","","",0]
["632E86160","EACH","STRAIN POLE, TYPE TC-81.11, DESIGN 14","","","",0]
["632E86161","EACH","STRAIN POLE, TYPE TC-81.11, DESIGN 14, AS PER PLAN","","","",0]
["632E86500","EACH","STRAIN POLE, TYPE TC-81.11, INSTALLATION ONLY","","","SPECIFY TYPE",1]
["632E86501","EACH","STRAIN POLE, TYPE TC-81.11, INSTALLATION ONLY, AS PER PLAN","","","SPECIFY TYPE",1]
["632E87120","EACH","COMBINATION STRAIN POLE, TYPE TC-81.11, DESIGN 8","","","",0]
["632E87121","EACH","COMBINATION STRAIN POLE, TYPE TC-81.11, DESIGN 8, AS PER PLAN","","","",0]
["632E87130","EACH","COMBINATION STRAIN POLE, TYPE TC-81.11, DESIGN 10","","","",0]
["632E87131","EACH","COMBINATION STRAIN POLE, TYPE TC-81.11, DESIGN 10, AS PER PLAN","","","",0]
["632E87140","EACH","COMBINATION STRAIN POLE, TYPE TC-81.11, DESIGN 12","","","",0]
["632E87141","EACH","COMBINATION STRAIN POLE, TYPE TC-81.11, DESIGN 12, AS PER PLAN","","","",0]
["632E87150","EACH","COMBINATION STRAIN POLE, TYPE TC-81.11, DESIGN 13","","","",0]
["632E87151","EACH","COMBINATION STRAIN POLE, TYPE TC-81.11, DESIGN 13, AS PER PLAN","","","",0]
["632E87160","EACH","COMBINATION STRAIN POLE, TYPE TC-81.11, DESIGN 14","","","",0]
["632E87161","EACH","COMBINATION STRAIN POLE, TYPE TC-81.11, DESIGN 14, AS PER PLAN","","","",0]
["632E89250","EACH","POLE ENTRANCE FITTING","","","",0]
["632E89251","EACH","POLE ENTRANCE FITTING, AS PER PLAN","","","",0]
["632E89300","EACH","WOOD POLE","","","",0]
["632E89301","EACH","WOOD POLE, AS PER PLAN","","","",0]
["632E89400","EACH","DOWN GUY","","","",0]
["632E89401","EACH","DOWN GUY, AS PER PLAN","","","",0]
["632E89500","EACH","PEDESTAL, 3'","","","",0]
["632E89501","EACH","PEDESTAL, 3', AS PER PLAN","","","",0]
["632E89510","EACH","PEDESTAL, 5'","","","",0]
["632E89511","EACH","PEDESTAL, 5', AS PER PLAN","","","",0]
["632E89520","EACH","PEDESTAL, 6'","","","",0]
["632E89521","EACH","PEDESTAL, 6', AS PER PLAN","","","",0]
["632E89600","EACH","PEDESTAL, 8'","","","",0]
["632E89601","EACH","PEDESTAL, 8', AS PER PLAN","","","",0]
["632E89610","EACH","PEDESTAL, 9'","","","",0]
["632E89611","EACH","PEDESTAL, 9', AS PER PLAN","","","",0]
["632E89700","EACH","PEDESTAL, 11'","","","",0]
["632E89701","EACH","PEDESTAL, 11', AS PER PLAN","","","",0]
["632E89750","EACH","PEDESTAL, 15'","","","",0]
["632E89751","EACH","PEDESTAL, 15', AS PER PLAN","","","",0]
["632E89800","EACH","PEDESTAL, 3', TRANSFORMER BASE","","","",0]
["632E89801","EACH","PEDESTAL, 3', TRANSFORMER BASE, AS PER PLAN","","","",0]
["632E89802","EACH","PEDESTAL, 5', TRANSFORMER BASE","","","",0]
["632E89803","EACH","PEDESTAL, 5', TRANSFORMER BASE, AS PER PLAN","","","",0]
["632E89804","EACH","PEDESTAL, 7', TRANSFORMER BASE","","","",0]
["632E89805","EACH","PEDESTAL, 7', TRANSFORMER BASE, AS PER PLAN","","","",0]
["632E89806","EACH","PEDESTAL, 6', TRANSFORMER BASE","","","",0]
["632E89807","EACH","PEDESTAL, 6', TRANSFORMER BASE, AS PER PLAN","","","",0]
["632E89900","EACH","PEDESTAL, 8', TRANSFORMER BASE","","","",0]
["632E89901","EACH","PEDESTAL, 8', TRANSFORMER BASE, AS PER PLAN","","","",0]
["632E89904","EACH","PEDESTAL, 10', TRANSFORMER BASE","","","",0]
["632E89905","EACH","PEDESTAL, 10', TRANSFORMER BASE, AS PER PLAN","","","",0]
["632E90000","EACH","PEDESTAL, 11', TRANSFORMER BASE","","","",0]
["632E90001","EACH","PEDESTAL, 11', TRANSFORMER BASE, AS PER PLAN","","","",0]
["632E90008","EACH","PEDESTAL, 15', TRANSFORMER BASE","","","",0]
["632E90010","EACH","PEDESTAL, MISC.:","","","ADD SUPPLEMENTAL DESCRIPTION",1]
["632E90020","EACH","REMOVAL OF MISCELLANEOUS TRAFFIC SIGNAL ITEM","","","ADD SUPPLEMENTAL DESCRIPTION",1]
["632E90030","FT","REMOVAL OF MISCELLANEOUS TRAFFIC SIGNAL ITEM","","","ADD SUPPLEMENTAL DESCRIPTION",1]
["632E90100","EACH","REMOVAL OF TRAFFIC SIGNAL INSTALLATION","","","",0]
["632E90101","EACH","REMOVAL OF TRAFFIC SIGNAL INSTALLATION, AS PER PLAN","","","",0]
["632E90102","EACH","REMOVAL OF TRAFFIC SIGNAL INSTALLATION FOR STORAGE","","","",0]
["632E90103","EACH","REMOVAL OF TRAFFIC SIGNAL INSTALLATION FOR STORAGE, AS PER PLAN","","","",0]
["632E90104","EACH","REUSE OF TRAFFIC CONTROL ITEM","","","SPECIFY TYPE OF ITEM",1]
["632E90200","EACH","REUSE OF VEHICULAR SIGNAL HEAD","","","",0]
["632E90201","EACH","REUSE OF VEHICULAR SIGNAL HEAD, AS PER PLAN","","","",0]
["632E90202","EACH","REUSE OF PEDESTRIAN SIGNAL HEAD","","","",0]
["632E90203","EACH","REUSE OF PEDESTRIAN SIGNAL HEAD, AS PER PLAN","","","",0]
["632E90204","EACH","REUSE OF LOOP DETECTOR UNIT","","","",0]
["632E90206","EACH","REUSE OF SIGNAL SUPPORT","","","",0]
["632E90207","EACH","REUSE OF SIGNAL SUPPORT, AS PER PLAN","","","",0]
["632E90208","EACH","REUSE OF STRAIN POLE","","","",0]
["632E90209","EACH","REUSE OF STRAIN POLE, AS PER PLAN","","","",0]
["632E90210","EACH","REUSE OF PEDESTRIAN PUSHBUTTON","","","",0]
["632E90211","EACH","REUSE OF PEDESTRIAN PUSHBUTTON, AS PER PLAN","","","",0]
["632E90212","EACH","REUSE OF CONTROLLER","","","",0]
["632E90213","EACH","REUSE OF CONTROLLER, AS PER PLAN","","","",0]
["632E90300","LS","SIGNALIZATION, MISC.:","","","ADD SUPPLEMENTAL DESCRIPTION",1]
["632E90400","EACH","SIGNALIZATION, MISC.:","","","ADD SUPPLEMENTAL DESCRIPTION",1]
["632E90500","FT","SIGNALIZATION, MISC.:","","","ADD SUPPLEMENTAL DESCRIPTION",1]
["632E90600","CY","SIGNALIZATION, MISC.:","","","ADD SUPPLEMENTAL DESCRIPTION",1]
["632E90700","MNTH","SIGNALIZATION, MISC.:","","","ADD SUPPLEMENTAL DESCRIPTION",1]
["632E90800","HOUR","SIGNALIZATION, MISC.:","","","ADD SUPPLEMENTAL DESCRIPTION",1]
["632E90900","DAY","SIGNALIZATION, MISC.:","","","ADD SUPPLEMENTAL DESCRIPTION",1]
["632E99000","LS","SPECIAL - TRAFFIC SIGNALS","","","DESIGN BUILD PROJECTS ONLY",0]
["633E45000","EACH","GPS (GLOBAL POSITIONING SYSTEM) CLOCK ASSEMBLY","","","",0]
["633E45001","EACH","GPS (GLOBAL POSITIONING SYSTEM) CLOCK ASSEMBLY, AS PER PLAN","","","",0]
["633E65510","EACH","CABINET, TYPE TS-2","","","",0]
["633E65511","EACH","CABINET, TYPE TS-2, AS PER PLAN","","","",0]
["633E65520","EACH","CABINET, TYPE 332","","","",0]
["633E65521","EACH","CABINET, TYPE 332, AS PER PLAN","","","",0]
["633E65522","EACH","CABINET, TYPE 332L","","","",0]
["633E65523","EACH","CABINET, TYPE 332L, AS PER PLAN","","","",0]
["633E65530","EACH","CABINET, TYPE 336","","","",0]
["633E65531","EACH","CABINET, TYPE 336, AS PER PLAN","","","",0]
["633E65532","EACH","CABINET, TYPE 336L","","","",0]
["633E65533","EACH","CABINET, TYPE 336L, AS PER PLAN","","","",0]
["633E65560","EACH","CABINET, TYPE TS-2, FURNISH ONLY","","","",0]
["633E65570","EACH","CABINET, TYPE 332, FURNISH ONLY","","","",0]
["633E65572","EACH","CABINET, TYPE 332L, FURNISH ONLY","","","",0]
["633E65580","EACH","CABINET, TYPE 336, FURNISH ONLY","","","",0]
["633E65582","EACH","CABINET, TYPE 336L, FURNISH ONLY","","","",0]
["633E67100","EACH","CABINET FOUNDATION","","","",0]
["633E67101","EACH","CABINET FOUNDATION, AS PER PLAN","","","",0]
["633E67200","EACH","CONTROLLER WORK PAD","","","",0]
["633E67201","EACH","CONTROLLER WORK PAD, AS PER PLAN","","","",0]
["633E67500","EACH","UNINTERRUPTIBLE POWER SUPPLY (UPS), BATTERY REPLACEMENT","","","",0]
["633E67501","EACH","UNINTERRUPTIBLE POWER SUPPLY (UPS), BATTERY REPLACEMENT, AS PER PLAN","","","",0]
["633E68500","EACH","TELEPHONE SERVICE","","","",0]
["633E68501","EACH","TELEPHONE SERVICE, AS PER PLAN","","","",0]
["633E68510","EACH","COMMUNICATIONS","","","",0]
["633E68511","EACH","COMMUNICATIONS, AS PER PLAN","","","",0]
["633E71000","EACH","FLASHER CONTROLLER","","","",0]
["633E71001","EACH","FLASHER CONTROLLER, AS PER PLAN","","","",0]
["633E72000","LS","TRAINING","","","",0]
["633E72001","LS","TRAINING, AS PER PLAN","","","",0]
["633E74000","EACH","UNINTERRUPTIBLE POWER SUPPLY (UPS)","","","",0]
["633E74001","EACH","UNINTERRUPTIBLE POWER SUPPLY (UPS), AS PER PLAN","","","",0]
["633E75000","EACH","UNINTERRUPTIBLE POWER SUPPLY (UPS), 1000 WATT","","","",0]
["633E75001","EACH","UNINTERRUPTIBLE POWER SUPPLY (UPS), 1000 WATT, AS PER PLAN","","","",0]
["633E99000","EACH","CONTROLLER ITEM, MISC.:","","","ADD SUPPLEMENTAL DESCRIPTION",1]
["633E99300","LS","CONTROLLER ITEM, MISC.:","","","ADD SUPPLEMENTAL DESCRIPTION",1]
["633E99400","HOUR","CONTROLLER ITEM, MISC.:","","","ADD SUPPLEMENTAL DESCRIPTION",1]
["638E00090","FT","3\" WATER MAIN DUCTILE IRON PIPE ANSI CLASS 52, BOLTLESS-RESTRAINED JOINTS AND FITTINGS","","","",0]
["638E00091","FT","3\" WATER MAIN DUCTILE IRON PIPE ANSI CLASS 52, BOLTLESS-RESTRAINED JOINTS AND FITTINGS, AS PER PLAN","","","",0]
["638E00100","FT","4\" WATER MAIN DUCTILE IRON PIPE ANSI CLASS 52, PUSH-ON JOINTS AND FITTINGS","","","",0]
["638E00101","FT","4\" WATER MAIN DUCTILE IRON PIPE ANSI CLASS 52, PUSH-ON JOINTS AND FITTINGS, AS PER PLAN","","","",0]
["638E00104","FT","4\" WATER MAIN DUCTILE IRON PIPE ANSI CLASS 53, PUSH-ON JOINTS AND FITTINGS","","","",0]
["638E00105","FT","4\" WATER MAIN DUCTILE IRON PIPE ANSI CLASS 53, PUSH-ON JOINTS AND FITTINGS, AS PER PLAN","","","",0]
["638E00200","FT","4\" WATER MAIN DUCTILE IRON PIPE ANSI CLASS 52, MECHANICAL JOINTS AND FITTINGS","","","",0]
["638E00201","FT","4\" WATER MAIN DUCTILE IRON PIPE ANSI CLASS 52, MECHANICAL JOINTS AND FITTINGS, AS PER PLAN","","","",0]
["638E00204","FT","4\" WATER MAIN DUCTILE IRON PIPE ANSI CLASS 53, MECHANICAL JOINTS AND FITTINGS","","","",0]
["638E00205","FT","4\" WATER MAIN DUCTILE IRON PIPE ANSI CLASS 53, MECHANICAL JOINTS AND FITTINGS, AS PER PLAN","","","",0]
["638E00300","FT","4\" WATER MAIN DUCTILE IRON PIPE ANSI CLASS 52, BOLTLESS-RESTRAINED JOINTS AND FITTINGS","","","",0]
["638E00301","FT","4\" WATER MAIN DUCTILE IRON PIPE ANSI CLASS 52, BOLTLESS-RESTRAINED JOINTS AND FITTINGS, AS PER PLAN","","","",0]
["638E00304","FT","4\" WATER MAIN DUCTILE IRON PIPE ANSI CLASS 53, BOLTLESS-RESTRAINED JOINTS AND FITTINGS","","","",0]
["638E00305","FT","4\" WATER MAIN DUCTILE IRON PIPE ANSI CLASS 53, BOLTLESS-RESTRAINED JOINTS AND FITTINGS, AS PER PLAN","","","",0]
["638E00390","FT","4\" WATER MAIN POLYVINYL CHLORIDE PIPE AND FITTINGS","","","",0]
["638E00391","FT","4\" WATER MAIN POLYVINYL CHLORIDE PIPE AND FITTINGS, AS PER PLAN","","","",0]
["638E00400","FT","4\" WATER MAIN POLYVINYL CHLORIDE PIPE AND FITTINGS, ASTM SDR 26","","","",0]
["638E00450","FT","4\" WATER MAIN POLYVINYL CHLORIDE PIPE AND FITTINGS, ASTM SDR 21","","","",0]
["638E00451","FT","4\" WATER MAIN POLYVINYL CHLORIDE PIPE AND FITTINGS, ASTM SDR 21, AS PER PLAN","","","",0]
["638E00520","FT","4\" WATER MAIN POLYVINYL CHLORIDE PIPE AND FITTINGS, AWWA C900, DR18","","","",0]
["638E00521","FT","4\" WATER MAIN POLYVINYL CHLORIDE PIPE AND FITTINGS, AWWA C900, DR18, AS PER PLAN","","","",0]
["638E00600","FT","6\" WATER MAIN DUCTILE IRON PIPE ANSI CLASS 52, PUSH-ON JOINTS AND FITTINGS","","","",0]
["638E00601","FT","6\" WATER MAIN DUCTILE IRON PIPE ANSI CLASS 52, PUSH-ON JOINTS AND FITTINGS, AS PER PLAN","","","",0]
["638E00604","FT","6\" WATER MAIN DUCTILE IRON PIPE ANSI CLASS 53, PUSH-ON JOINTS AND FITTINGS","","","",0]
["638E00605","FT","6\" WATER MAIN DUCTILE IRON PIPE ANSI CLASS 53, PUSH-ON JOINTS AND FITTINGS, AS PER PLAN","","","",0]
["638E00606","FT","6\" WATER MAIN DUCTILE IRON PIPE ANSI CLASS 54, PUSH-ON JOINTS AND FITTINGS","","","",0]
["638E00700","FT","6\" WATER MAIN DUCTILE IRON PIPE ANSI CLASS 52, MECHANICAL JOINTS AND FITTINGS","","","",0]
["638E00701","FT","6\" WATER MAIN DUCTILE IRON PIPE ANSI CLASS 52, MECHANICAL JOINTS AND FITTINGS, AS PER PLAN","","","",0]
["638E00704","FT","6\" WATER MAIN DUCTILE IRON PIPE ANSI CLASS 53, MECHANICAL JOINTS AND FITTINGS","","","",0]
["638E00705","FT","6\" WATER MAIN DUCTILE IRON PIPE ANSI CLASS 53, MECHANICAL JOINTS AND FITTINGS, AS PER PLAN","","","",0]
["638E00706","FT","6\" WATER MAIN DUCTILE IRON PIPE ANSI CLASS 54, MECHANICAL JOINTS AND FITTINGS","","","",0]
["638E00708","FT","6\" WATER MAIN DUCTILE IRON PIPE ANSI CLASS 56, MECHANICAL JOINTS AND FITTINGS","","","",0]
["638E00800","FT","6\" WATER MAIN DUCTILE IRON PIPE ANSI CLASS 52, BOLTLESS-RESTRAINED JOINTS AND FITTINGS","","","",0]
["638E00801","FT","6\" WATER MAIN DUCTILE IRON PIPE ANSI CLASS 52, BOLTLESS-RESTRAINED JOINTS AND FITTINGS, AS PER PLAN","","","",0]
["638E00804","FT","6\" WATER MAIN DUCTILE IRON PIPE ANSI CLASS 53, BOLTLESS-RESTRAINED JOINTS AND FITTINGS","","","",0]
["638E00805","FT","6\" WATER MAIN DUCTILE IRON PIPE ANSI CLASS 53, BOLTLESS-RESTRAINED JOINTS AND FITTINGS, AS PER PLAN","","","",0]
["638E00808","FT","6\" WATER MAIN DUCTILE IRON PIPE ANSI CLASS 56, BALL AND SOCKET JOINTS AND FITTINGS","","","",0]
["638E00900","FT","6\" WATER MAIN DUCTILE IRON PIPE ANSI CLASS 55, BALL AND SOCKET JOINTS AND FITTINGS","","","",0]
["638E00904","FT","6\" WATER MAIN DUCTILE IRON ANCHORING PIPE AND FITTINGS","","","",0]
["638E00905","FT","6\" WATER MAIN DUCTILE IRON ANCHORING PIPE AND FITTINGS, AS PER PLAN","","","",0]
["638E00990","FT","6\" WATER MAIN POLYVINYL CHLORIDE PIPE AND FITTINGS, ASTM SDR 21","","","",0]
["638E00991","FT","6\" WATER MAIN POLYVINYL CHLORIDE PIPE AND FITTINGS, ASTM SDR 21, AS PER PLAN","","","",0]
["638E01000","FT","6\" WATER MAIN POLYVINYL CHLORIDE PIPE AND FITTINGS, ASTM SDR 26","","","",0]
["638E01120","FT","6\" WATER MAIN POLYVINYL CHLORIDE PIPE AND FITTINGS, AWWA C900, DR25","","","",0]
["638E01130","FT","6\" WATER MAIN POLYVINYL CHLORIDE PIPE AND FITTINGS, AWWA C900, DR18","","","",0]
["638E01131","FT","6\" WATER MAIN POLYVINYL CHLORIDE PIPE AND FITTINGS, AWWA C900, DR18, AS PER PLAN","","","",0]
["638E01140","FT","6\" WATER MAIN POLYVINYL CHLORIDE PIPE AND FITTINGS, AWWA C900, DR14","","","",0]
["638E01141","FT","6\" WATER MAIN POLYVINYL CHLORIDE PIPE AND FITTINGS, AWWA C900, DR14, AS PER PLAN","","","",0]
["638E01190","FT","6\" WATER MAIN POLYVINYL CHLORIDE PIPE AND FITTINGS","","","",0]
["638E01191","FT","6\" WATER MAIN POLYVINYL CHLORIDE PIPE AND FITTINGS, AS PER PLAN","","","",0]
["638E01200","FT","8\" WATER MAIN DUCTILE IRON PIPE ANSI CLASS 52, PUSH-ON JOINTS AND FITTINGS","","","",0]
["638E01201","FT","8\" WATER MAIN DUCTILE IRON PIPE ANSI CLASS 52, PUSH-ON JOINTS AND FITTINGS, AS PER PLAN","","","",0]
["638E01204","FT","8\" WATER MAIN DUCTILE IRON PIPE ANSI CLASS 53, PUSH-ON JOINTS AND FITTINGS","","","",0]
["638E01205","FT","8\" WATER MAIN DUCTILE IRON PIPE ANSI CLASS 53, PUSH-ON JOINTS AND FITTINGS, AS PER PLAN","","","",0]
["638E01206","FT","8\" WATER MAIN DUCTILE IRON PIPE ANSI CLASS 54, PUSH-ON JOINTS AND FITTINGS","","","",0]
["638E01300","FT","8\" WATER MAIN DUCTILE IRON PIPE ANSI CLASS 52, MECHANICAL JOINTS AND FITTINGS","","","",0]
["638E01301","FT","8\" WATER MAIN DUCTILE IRON PIPE ANSI CLASS 52, MECHANICAL JOINTS AND FITTINGS, AS PER PLAN","","","",0]
["638E01304","FT","8\" WATER MAIN DUCTILE IRON PIPE ANSI CLASS 53, MECHANICAL JOINTS AND FITTINGS","","","",0]
["638E01305","FT","8\" WATER MAIN DUCTILE IRON PIPE ANSI CLASS 53, MECHANICAL JOINTS AND FITTINGS, AS PER PLAN","","","",0]
["638E01308","FT","8\" WATER MAIN DUCTILE IRON PIPE ANSI CLASS 55, MECHANICAL JOINTS AND FITTINGS","","","",0]
["638E01309","FT","8\" WATER MAIN DUCTILE IRON PIPE ANSI CLASS 55, MECHANICAL JOINTS AND FITTINGS, AS PER PLAN","","","",0]
["638E01316","FT","8\" WATER MAIN DUCTILE IRON PIPE ANSI CLASS 56, MECHANICAL JOINTS AND FITTINGS","","","",0]
["638E01317","FT","8\" WATER MAIN DUCTILE IRON PIPE ANSI CLASS 56, MECHANICAL JOINTS AND FITTINGS, AS PER PLAN","","","",0]
["638E01400","FT","8\" WATER MAIN DUCTILE IRON PIPE ANSI CLASS 52, BOLTLESS-RESTRAINED JOINTS AND FITTINGS","","","",0]
["638E01401","FT","8\" WATER MAIN DUCTILE IRON PIPE ANSI CLASS 52, BOLTLESS-RESTRAINED JOINTS AND FITTINGS, AS PER PLAN","","","",0]
["638E01404","FT","8\" WATER MAIN DUCTILE IRON PIPE ANSI CLASS 53, BOLTLESS-RESTRAINED JOINTS AND FITTINGS","","","",0]
["638E01405","FT","8\" WATER MAIN DUCTILE IRON PIPE ANSI CLASS 53, BOLTLESS-RESTRAINED JOINTS AND FITTINGS, AS PER PLAN","","","",0]
["638E01406","FT","8\" WATER MAIN DUCTILE IRON PIPE ANSI CLASS 54, BOLTLESS-RESTRAINED JOINTS AND FITTINGS","","","",0]
["638E01407","FT","8\" WATER MAIN DUCTILE IRON PIPE ANSI CLASS 54, BOLTLESS-RESTRAINED JOINTS AND FITTINGS, AS PER PLAN","","","",0]
["638E01408","FT","8\" WATER MAIN DUCTILE IRON PIPE ANSI CLASS 56, BOLTLESS-RESTRAINED JOINTS AND FITTINGS","","","",0]
["638E01409","FT","8\" WATER MAIN DUCTILE IRON PIPE ANSI CLASS 56, BOLTLESS-RESTRAINED JOINTS AND FITTINGS, AS PER PLAN","","","",0]
["638E01500","FT","8\" WATER MAIN DUCTILE IRON PIPE ANSI CLASS 55, BALL AND SOCKET JOINTS AND FITTINGS","","","",0]
["638E01501","FT","8\" WATER MAIN DUCTILE IRON PIPE ANSI CLASS 55, BALL AND SOCKET JOINTS AND FITTINGS, AS PER PLAN","","","",0]
["638E01600","FT","8\" WATER MAIN POLYVINYL CHLORIDE PIPE AND FITTINGS, ASTM SDR 26","","","",0]
["638E01601","FT","8\" WATER MAIN POLYVINYL CHLORIDE PIPE AND FITTINGS, ASTM SDR 26, AS PER PLAN","","","",0]
["638E01710","FT","8\" WATER MAIN POLYVINYL CHLORIDE PIPE AND FITTINGS, AWWA C900, DR14","","","",0]
["638E01711","FT","8\" WATER MAIN POLYVINYL CHLORIDE PIPE AND FITTINGS, AWWA C900, DR14, AS PER PLAN","","","",0]
["638E01720","FT","8\" WATER MAIN POLYVINYL CHLORIDE PIPE AND FITTINGS, AWWA C900, DR18","","","",0]
["638E01721","FT","8\" WATER MAIN POLYVINYL CHLORIDE PIPE AND FITTINGS, AWWA C900, DR18, AS PER PLAN","","","",0]
["638E01800","FT","10\" WATER MAIN DUCTILE IRON PIPE ANSI CLASS 52, PUSH-ON JOINTS AND FITTINGS","","","",0]
["638E01801","FT","10\" WATER MAIN DUCTILE IRON PIPE ANSI CLASS 52, PUSH-ON JOINTS AND FITTINGS, AS PER PLAN","","","",0]
["638E01804","FT","10\" WATER MAIN DUCTILE IRON PIPE ANSI CLASS 53, PUSH-ON JOINTS AND FITTINGS","","","",0]
["638E01805","FT","10\" WATER MAIN DUCTILE IRON PIPE ANSI CLASS 53, PUSH-ON JOINTS AND FITTINGS, AS PER PLAN","","","",0]
["638E01900","FT","10\" WATER MAIN DUCTILE IRON PIPE ANSI CLASS 52, MECHANICAL JOINTS AND FITTINGS","","","",0]
["638E01901","FT","10\" WATER MAIN DUCTILE IRON PIPE ANSI CLASS 52, MECHANICAL JOINTS AND FITTINGS, AS PER PLAN","","","",0]
["638E01904","FT","10\" WATER MAIN DUCTILE IRON PIPE ANSI CLASS 53, MECHANICAL JOINTS AND FITTINGS","","","",0]
["638E02000","FT","10\" WATER MAIN DUCTILE IRON PIPE ANSI CLASS 52, BOLTLESS-RESTRAINED JOINTS AND FITTINGS","","","",0]
["638E02001","FT","10\" WATER MAIN DUCTILE IRON PIPE ANSI CLASS 52, BOLTLESS-RESTRAINED JOINTS AND FITTINGS, AS PER PLAN","","","",0]
["638E02004","FT","10\" WATER MAIN DUCTILE IRON PIPE ANSI CLASS 53, BOLTLESS-RESTRAINED JOINTS AND FITTINGS","","","",0]
["638E02005","FT","10\" WATER MAIN DUCTILE IRON PIPE ANSI CLASS 53, BOLTLESS - RESTRAINED JOINTS AND FITTINGS, AS PER PLAN","","","",0]
["638E02100","FT","10\" WATER MAIN DUCTILE IRON PIPE ANSI CLASS 55, BALL AND SOCKET JOINTS AND FITTINGS","","","",0]
["638E02104","FT","10\" WATER MAIN DUCTILE IRON MECHANICAL JOINT AND FLANGED LONG SPAN PIPE","","","",0]
["638E02200","FT","10\" WATER MAIN POLYVINYL CHLORIDE PIPE AND FITTINGS, ASTM SDR 26","","","",0]
["638E02320","FT","10\" WATER MAIN POLYVINYL CHLORIDE PIPE AND FITTINGS, AWWA C900, DR18","","","",0]
["638E02321","FT","10\" WATER MAIN POLYVINYL CHLORIDE PIPE AND FITTINGS, AWWA C900, DR18, AS PER PLAN","","","",0]
["638E02390","FT","10\" WATER MAIN POLYVINYL CHLORIDE PIPE AND FITTINGS","","","",0]
["638E02400","FT","12\" WATER MAIN DUCTILE IRON PIPE ANSI CLASS 52, PUSH-ON JOINTS AND FITTINGS","","","",0]
["638E02401","FT","12\" WATERMAIN DUCTILE IRON PIPE ANSI CLASS 52, PUSH-ON JOINTS AND FITTINGS, AS PER PLAN","","","",0]
["638E02404","FT","12\" WATER MAIN DUCTILE IRON PIPE ANSI CLASS 53, PUSH-ON JOINTS AND FITTINGS","","","",0]
["638E02405","FT","12\" WATER MAIN DUCTILE IRON PIPE ANSI CLASS 53, PUSH-ON JOINTS AND FITTINGS, AS PER PLAN","","","",0]
["638E02500","FT","12\" WATER MAIN DUCTILE IRON PIPE ANSI CLASS 52, MECHANICAL JOINTS AND FITTINGS","","","",0]
["638E02501","FT","12\" WATER MAIN DUCTILE IRON PIPE ANSI CLASS 52, MECHANICAL JOINTS AND FITTINGS, AS PER PLAN","","","",0]
["638E02504","FT","12\" WATER MAIN DUCTILE IRON PIPE ANSI CLASS 53, MECHANICAL JOINTS AND FITTINGS","","","",0]
["638E02505","FT","12\" WATER MAIN DUCTILE IRON PIPE ANSI CLASS 53, MECHANICAL JOINTS AND FITTINGS, AS PER PLAN","","","",0]
["638E02506","FT","12\" WATER MAIN DUCTILE IRON PIPE ANSI CLASS 54, MECHANICAL JOINTS AND FITTINGS","","","",0]
["638E02507","FT","12\" WATER MAIN DUCTILE IRON PIPE ANSI CLASS 54, MECHANICAL JOINTS AND FITTING, AS PER PLAN","","","",0]
["638E02510","FT","12\" WATER MAIN DUCTILE IRON PIPE ANSI CLASS 56, MECHANICAL JOINTS AND FITTINGS","","","",0]
["638E02600","FT","12\" WATER MAIN DUCTILE IRON PIPE ANSI CLASS 52, BOLTLESS-RESTRAINED JOINTS AND FITTINGS","","","",0]
["638E02601","FT","12\" WATER MAIN DUCTILE IRON PIPE ANSI CLASS 52, BOLTLESS-RESTRAINED JOINTS AND FITTINGS, AS PER PLAN","","","",0]
["638E02604","FT","12\" WATER MAIN DUCTILE IRON PIPE ANSI CLASS 53, BOLTLESS-RESTRAINED JOINTS AND FITTINGS","","","",0]
["638E02605","FT","12\" WATER MAIN DUCTILE IRON PIPE ANSI CLASS 53, BOLTLESS-RESTRAINED JOINTS AND FITTINGS, AS PER PLAN","","","",0]
["638E02700","FT","12\" WATER MAIN DUCTILE IRON PIPE ANSI CLASS 55, BALL AND SOCKET JOINTS AND FITTINGS","","","",0]
["638E02701","FT","12\" WATER MAIN DUCTILE IRON PIPE ANSI CLASS 55, BALL AND SOCKET JOINTS AND FITTINGS, AS PER PLAN","","","",0]
["638E02702","FT","12\" WATER MAIN DUCTILE IRON MECHANICAL JOINT AND FLANGED LONG SPAN PIPE","","","",0]
["638E02710","FT","12\" WATER MAIN DUCTILE IRON PIPE ANSI CLASS 56, BOLTLESS-RESTRAINED JOINTS AND FITTINGS","","","",0]
["638E02711","FT","12\" WATER MAIN DUCTILE IRON PIPE ANSI CLASS 56, BOLTLESS-RESTRAINED JOINTS AND FITTINGS, AS PER PLAN","","","",0]
["638E02730","FT","12\" WATER MAIN POLYVINYL CHLORIDE PIPE AND FITTINGS, AWWA C900, DR18","","","",0]
["638E02731","FT","12\" WATER MAIN POLYVINYL CHLORIDE PIPE AND FITTINGS, AWWA C900, DR18, AS PER PLAN","","","",0]
["638E02750","FT","12\" WATER MAIN POLYVINYL CHLORIDE PIPE AND FITTINGS, AWWA C900, DR-14","","","",0]
["638E02751","FT","12\" WATER MAIN POLYVINYL CHLORIDE PIPE AND FITTINGS, AWWA C900, DR-14, AS PER PLAN","","","",0]
["638E02800","FT","12\" WATER MAIN POLYVINYL CHLORIDE PIPE AND FITTINGS, ASTM SDR 26","","","",0]
["638E02850","FT","12\" WATER MAIN POLYVINYL CHLORIDE PIPE AND FITTINGS, ASTM SDR 21","","","",0]
["638E02916","FT","14\" WATER MAIN DUCTILE IRON PIPE ANSI CLASS 52, MECHANICAL JOINTS AND FITTINGS","","","",0]
["638E02917","FT","14\" WATER MAIN DUCTILE IRON PIPE ANSI CLASS 52, MECHANICAL JOINTS AND FITTINGS, AS PER PLAN","","","",0]
["638E02920","FT","14\" WATER MAIN DUCTILE IRON PIPE ANSI CLASS 53, MECHANICAL JOINTS AND FITTINGS","","","",0]
["638E02930","FT","14\" WATER MAIN DUCTILE IRON PIPE ANSI CLASS 53, PUSH-ON JOINTS AND FITTINGS","","","",0]
["638E02931","FT","14\" WATER MAIN DUCTILE IRON PIPE ANSI CLASS 53, PUSH-ON JOINTS AND FITTINGS, AS PER PLAN","","","",0]
["638E02990","FT","12\" WATER MAIN POLYVINYL CHLORIDE PIPE AND FITTINGS","","","",0]
["638E03000","FT","16\" WATER MAIN DUCTILE IRON PIPE ANSI CLASS 52, PUSH-ON JOINTS AND FITTINGS","","","",0]
["638E03001","FT","16\" WATER MAIN DUCTILE IRON PIPE ANSI CLASS 52, PUSH-ON JOINTS AND FITTINGS, AS PER PLAN","","","",0]
["638E03004","FT","16\" WATER MAIN DUCTILE IRON PIPE ANSI CLASS 53, PUSH-ON JOINTS AND FITTINGS","","","",0]
["638E03005","FT","16\" WATER MAIN DUCTILE IRON PIPE ANSI CLASS 53, PUSH-ON JOINTS AND FITTINGS, AS PER PLAN","","","",0]
["638E03100","FT","16\" WATER MAIN DUCTILE IRON PIPE ANSI CLASS 52, MECHANICAL JOINTS AND FITTINGS","","","",0]
["638E03101","FT","16\" WATER MAIN DUCTILE IRON PIPE ANSI CLASS 52, MECHANICAL JOINTS AND FITTINGS, AS PER PLAN","","","",0]
["638E03104","FT","16\" WATER MAIN DUCTILE IRON PIPE ANSI CLASS 53, MECHANICAL JOINTS AND FITTINGS","","","",0]
["638E03105","FT","16\" WATER MAIN DUCTILE IRON PIPE ANSI CLASS 53, MECHANICAL JOINTS AND FITTINGS, AS PER PLAN","","","",0]
["638E03200","FT","16\" WATER MAIN DUCTILE IRON PIPE ANSI CLASS 52, BOLTLESS-RESTRAINED JOINTS AND FITTINGS","","","",0]
["638E03201","FT","16\" WATER MAIN DUCTILE IRON PIPE ANSI CLASS 52, BOLTLESS-RESTRAINED JOINTS AND FITTINGS, AS PER PLAN","","","",0]
["638E03204","FT","16\" WATER MAIN DUCTILE IRON PIPE ANSI CLASS 53, BOLTLESS-RESTRAINED JOINTS AND FITTINGS","","","",0]
["638E03210","FT","16\" WATER MAIN DUCTILE IRON PIPE ANSI CLASS 56, BOLTLESS-RESTRAINED JOINTS AND FITTINGS","","","",0]
["638E03300","FT","16\" WATER MAIN DUCTILE IRON PIPE ANSI CLASS 56, BALL AND SOCKET JOINTS AND FITTINGS","","","",0]
["638E03380","FT","16\" WATER MAIN POLYVINYL CHLORIDE PIPE AND FITTINGS, AWWA CLASS C905","","","",0]
["638E03390","FT","16\" WATER MAIN POLYVINYL CHLORIDE PIPE AND FITTINGS","","","",0]
["638E03392","FT","18\" WATER MAIN DUCTILE IRON PIPE ANSI CLASS 52, MECHANICAL JOINTS AND FITTINGS","","","",0]
["638E03400","FT","20\" WATER MAIN DUCTILE IRON PIPE ANSI CLASS 52, PUSH-ON JOINTS AND FITTINGS","","","",0]
["638E03401","FT","20\" WATER MAIN DUCTILE IRON PIPE ANSI CLASS 52, PUSH-ON JOINTS AND FITTINGS, AS PER PLAN","","","",0]
["638E03404","FT","20\" WATER MAIN DUCTILE IRON PIPE ANSI CLASS 53, PUSH-ON JOINTS AND FITTINGS","","","",0]
["638E03500","FT","20\" WATER MAIN DUCTILE IRON PIPE ANSI CLASS 52, MECHANICAL JOINTS AND FITTINGS","","","",0]
["638E03501","FT","20\" WATER MAIN DUCTILE IRON PIPE ANSI CLASS 52, MECHANICAL JOINTS AND FITTINGS, AS PER PLAN","","","",0]
["638E03504","FT","20\" WATER MAIN DUCTILE IRON PIPE ANSI CLASS 53, MECHANICAL JOINTS AND FITTINGS","","","",0]
["638E03508","FT","20\" WATER MAIN DUCTILE IRON PIPE ANSI CLASS 56, MECHANICAL JOINTS AND FITTINGS","","","",0]
["638E03509","FT","20\" WATER MAIN DUCTILE IRON PIPE ANSI CLASS 56, MECHANICAL JOINTS AND FITTINGS, AS PER PLAN","","","",0]
["638E03600","FT","20\" WATER MAIN DUCTILE IRON PIPE ANSI CLASS 52, BOLTLESS-RESTRAINED JOINTS AND FITTINGS","","","",0]
["638E03604","FT","20\" WATER MAIN DUCTILE IRON PIPE ANSI CLASS 53, BOLTLESS-RESTRAINED JOINTS AND FITTINGS","","","",0]
["638E03700","FT","20\" WATER MAIN DUCTILE IRON PIPE ANSI CLASS 56, BALL AND SOCKET JOINTS AND FITTINGS","","","",0]
["638E03800","FT","24\" WATER MAIN DUCTILE IRON PIPE ANSI CLASS 52, PUSH-ON JOINTS AND FITTINGS","","","",0]
["638E03804","FT","24\" WATER MAIN DUCTILE IRON PIPE ANSI CLASS 53, PUSH-ON JOINTS AND FITTINGS","","","",0]
["638E03900","FT","24\" WATER MAIN DUCTILE IRON PIPE ANSI CLASS 52, MECHANICAL JOINTS AND FITTINGS","","","",0]
["638E03901","FT","24\" WATER MAIN DUCTILE IRON PIPE ANSI CLASS 52, MECHANICAL JOINTS AND FITTINGS, AS PER PLAN","","","",0]
["638E03904","FT","24\" WATER MAIN DUCTILE IRON PIPE ANSI CLASS 53, MECHANICAL JOINTS AND FITTINGS","","","",0]
["638E04000","FT","24\" WATER MAIN DUCTILE IRON PIPE ANSI CLASS 52, BOLTLESS-RESTRAINED JOINTS AND FITTINGS","","","",0]
["638E04004","FT","24\" WATER MAIN DUCTILE IRON PIPE ANSI CLASS 53, BOLTLESS-RESTRAINED JOINTS AND FITTINGS","","","",0]
["638E04100","FT","24\" WATER MAIN DUCTILE IRON PIPE ANSI CLASS 56, BALL AND SOCKET JOINTS AND FITTINGS","","","",0]
["638E04200","FT","30\" WATER MAIN DUCTILE IRON PIPE ANSI CLASS 52, PUSH-ON JOINTS AND FITTINGS","","","",0]
["638E04204","FT","30\" WATER MAIN DUCTILE IRON PIPE ANSI CLASS 53, PUSH-ON JOINTS AND FITTINGS","","","",0]
["638E04300","FT","30\" WATER MAIN DUCTILE IRON PIPE ANSI CLASS 52, MECHANICAL JOINTS AND FITTINGS","","","",0]
["638E04304","FT","30\" WATER MAIN DUCTILE IRON PIPE ANSI CLASS 53, MECHANICAL JOINTS AND FITTINGS","","","",0]
["638E04400","FT","30\" WATER MAIN DUCTILE IRON PIPE ANSI CLASS 52, BOLTLESS-RESTRAINED JOINTS AND FITTINGS","","","",0]
["638E04404","FT","30\" WATER MAIN DUCTILE IRON PIPE ANSI CLASS 53, BOLTLESS-RESTRAINED JOINTS AND FITTINGS","","","",0]
["638E04405","FT","30\" WATER MAIN DUCTILE IRON PIPE ANSI CLASS 53, BOLTLESS-RESTRAINED JOINTS AND FITTINGS, AS PER PLAN","","","",0]
["638E04500","FT","30\" WATER MAIN DUCTILE IRON PIPE ANSI CLASS 58, BALL AND SOCKET JOINTS AND FITTINGS","","","",0]
["638E04504","FT","36\" WATER MAIN DUCTILE IRON PIPE ANSI CLASS 52, BOLTLESS RESTRAINED JOINTS AND FITTINGS","","","",0]
["638E04800","FT","3/4\" COPPER SERVICE BRANCH","","","",0]
["638E04801","FT","3/4\" COPPER SERVICE BRANCH, AS PER PLAN","","","",0]
["638E04900","FT","1\" COPPER SERVICE BRANCH","","","",0]
["638E04901","FT","1\" COPPER SERVICE BRANCH, AS PER PLAN","","","",0]
["638E04950","FT","1-1/4\" COPPER SERVICE BRANCH","","","",0]
["638E04951","FT","1-1/4\" COPPER SERVICE BRANCH, AS PER PLAN","","","",0]
["638E05000","FT","1-1/2\" COPPER SERVICE BRANCH","","","",0]
["638E05001","FT","1-1/2\" COPPER SERVICE BRANCH, AS PER PLAN","","","",0]
["638E05100","FT","2\" COPPER SERVICE BRANCH","","","",0]
["638E05101","FT","2\" COPPER SERVICE BRANCH, AS PER PLAN","","","",0]
["638E05102","FT","2-1/2\" COPPER SERVICE BRANCH","","","",0]
["638E05300","FT","3/4\" POLYETHYLENE SERVICE BRANCH","","","",0]
["638E05301","FT","3/4\" POLYETHYLENE SERVICE BRANCH, AS PER PLAN","","","",0]
["638E05400","FT","1\" POLYETHYLENE SERVICE BRANCH","","","",0]
["638E05401","FT","1\" POLYETHYLENE SERVICE BRANCH, AS PER PLAN","","","",0]
["638E05500","FT","1-1/2\" POLYETHYLENE SERVICE BRANCH","","","",0]
["638E05501","FT","1-1/2\" POLYETHYLENE SERVICE BRANCH, AS PER PLAN","","","",0]
["638E05600","FT","2\" POLYETHYLENE SERVICE BRANCH","","","",0]
["638E05700","FT","3/4\" POLYBUTYLENE SERVICE BRANCH","","","",0]
["638E05800","FT","1\" POLYBUTYLENE SERVICE BRANCH","","","",0]
["638E05900","FT","1-1/2\" POLYBUTYLENE SERVICE BRANCH","","","",0]
["638E06000","FT","2\" POLYBUTYLENE SERVICE BRANCH","","","",0]
["638E06200","FT","POLYETHYLENE ENCASEMENT","","","",0]
["638E06300","FT","8\" STEEL PIPE ENCASEMENT, OPEN CUT","","","",0]
["638E06400","FT","10\" STEEL PIPE ENCASEMENT, OPEN CUT","","","",0]
["638E06401","FT","10\" STEEL PIPE ENCASEMENT, OPEN CUT, AS PER PLAN","","","",0]
["638E06500","FT","12\" STEEL PIPE ENCASEMENT, OPEN CUT","","","",0]
["638E06501","FT","12\" STEEL PIPE ENCASEMENT, OPEN CUT, AS PER PLAN","","","",0]
["638E06600","FT","14\" STEEL PIPE ENCASEMENT, OPEN CUT","","","",0]
["638E06601","FT","14\" STEEL PIPE ENCASEMENT, OPEN CUT, AS PER PLAN","","","",0]
["638E06700","FT","16\" STEEL PIPE ENCASEMENT, OPEN CUT","","","",0]
["638E06701","FT","16\" STEEL PIPE ENCASEMENT, OPEN CUT, AS PER PLAN","","","",0]
["638E06702","FT","18\" STEEL PIPE ENCASEMENT, OPEN CUT","","","",0]
["638E06703","FT","18\" STEEL PIPE ENCASEMENT, OPEN CUT, AS PER PLAN","","","",0]
["638E06704","FT","20\" STEEL PIPE ENCASEMENT, OPEN CUT","","","",0]
["638E06705","FT","20\" STEEL PIPE ENCASEMENT, OPEN CUT, AS PER PLAN","","","",0]
["638E06706","FT","22\" STEEL PIPE ENCASEMENT, OPEN CUT","","","",0]
["638E06708","FT","24\" STEEL PIPE ENCASEMENT, OPEN CUT","","","",0]
["638E06709","FT","24\" STEEL PIPE ENCASEMENT, OPEN CUT, AS PER PLAN","","","",0]
["638E06710","FT","28\" STEEL PIPE ENCASEMENT, OPEN CUT","","","",0]
["638E06711","FT","28\" STEEL PIPE ENCASEMENT, OPEN CUT, AS PER PLAN","","","",0]
["638E06712","FT","30\" STEEL PIPE ENCASEMENT, OPEN CUT","","","",0]
["638E06714","FT","26\" STEEL PIPE ENCASEMENT, OPEN CUT","","","",0]
["638E06904","FT","36\" STEEL PIPE ENCASEMENT, OPEN CUT","","","",0]
["638E06905","FT","36\" STEEL PIPE ENCASEMENT, OPEN CUT, AS PER PLAN","","","",0]
["638E06910","FT","40\" STEEL PIPE ENCASEMENT, OPEN CUT","","","",0]
["638E06911","FT","40\" STEEL PIPE ENCASEMENT, OPEN CUT, AS PER PLAN","","","",0]
["638E06912","FT","48\" STEEL PIPE ENCASEMENT, OPEN CUT","","","",0]
["638E06913","FT","48\" STEEL PIPE ENCASEMENT, OPEN CUT, AS PER PLAN","","","",0]
["638E06914","FT","54\" STEEL PIPE ENCASEMENT, OPEN CUT","","","",0]
["638E06920","FT","60\" STEEL PIPE ENCASEMENT, OPEN CUT","","","",0]
["638E06921","FT","60\" STEEL PIPE ENCASEMENT, OPEN CUT, AS PER PLAN","","","",0]
["638E07000","FT","10\" STEEL PIPE ENCASEMENT, BORED OR JACKED","","","",0]
["638E07001","FT","10\" STEEL PIPE ENCASEMENT, BORED OR JACKED, AS PER PLAN","","","",0]
["638E07100","FT","12\" STEEL PIPE ENCASEMENT, BORED OR JACKED","","","",0]
["638E07101","FT","12\" STEEL PIPE ENCASEMENT, BORED OR JACKED, AS PER PLAN","","","",0]
["638E07200","FT","14\" STEEL PIPE ENCASEMENT, BORED OR JACKED","","","",0]
["638E07201","FT","14\" STEEL PIPE ENCASEMENT, BORED OR JACKED, AS PER PLAN","","","",0]
["638E07300","FT","16\" STEEL PIPE ENCASEMENT, BORED OR JACKED","","","",0]
["638E07301","FT","16\" STEEL PIPE ENCASEMENT, BORED OR JACKED, AS PER PLAN","","","",0]
["638E07302","FT","18\" STEEL PIPE ENCASEMENT, BORED OR JACKED","","","",0]
["638E07303","FT","18\" STEEL PIPE ENCASEMENT, BORED OR JACKED, AS PER PLAN","","","",0]
["638E07304","FT","20\" STEEL PIPE ENCASEMENT, BORED OR JACKED","","","",0]
["638E07305","FT","20\" STEEL PIPE ENCASEMENT, BORED OR JACKED, AS PER PLAN","","","",0]
["638E07306","FT","22\" STEEL PIPE ENCASEMENT, BORED OR JACKED","","","",0]
["638E07307","FT","22\" STEEL PIPE ENCASEMENT, BORED OR JACKED, AS PER PLAN","","","",0]
["638E07310","FT","24\" STEEL PIPE ENCASEMENT, BORED OR JACKED","","","",0]
["638E07311","FT","24\" STEEL PIPE ENCASEMENT, BORED OR JACKED, AS PER PLAN","","","",0]
["638E07314","FT","30\" STEEL PIPE ENCASEMENT, BORED OR JACKED","","","",0]
["638E07315","FT","30\" STEEL PIPE ENCASEMENT, BORED OR JACKED, AS PER PLAN","","","",0]
["638E07316","FT","36\" STEEL PIPE ENCASEMENT, BORED OR JACKED","","","",0]
["638E07317","FT","36\" STEEL PIPE ENCASEMENT, BORED OR JACKED, AS PER PLAN","","","",0]
["638E07318","FT","40\" STEEL PIPE ENCASEMENT, BORED OR JACKED","","","",0]
["638E07320","FT","48\" STEEL PIPE ENCASEMENT, BORED OR JACKED","","","",0]
["638E07321","FT","48\" STEEL PIPE ENCASEMENT, BORED OR JACKED, AS PER PLAN","","","",0]
["638E07330","FT","54\" STEEL PIPE ENCASEMENT, BORED OR JACKED","","","",0]
["638E07334","FT","60\" STEEL PIPE ENCASEMENT, BORED OR JACKED","","","",0]
["638E07470","EACH","4\" GATE VALVE","","","",0]
["638E07480","EACH","6\" GATE VALVE","","","",0]
["638E07481","EACH","6\" GATE VALVE, AS PER PLAN","","","",0]
["638E07490","EACH","8\" GATE VALVE","","","",0]
["638E07491","EACH","8\" GATE VALVE, AS PER PLAN","","","",0]
["638E07500","EACH","12\" GATE VALVE","","","",0]
["638E07501","EACH","12\" GATE VALVE, AS PER PLAN","","","",0]
["638E07608","EACH","VALVE BOX","","","",0]
["638E07609","EACH","VALVE BOX, AS PER PLAN","","","",0]
["638E07690","EACH","2\" GATE VALVE AND VALVE BOX","","","",0]
["638E07691","EACH","2\" GATE VALVE AND VALVE BOX, AS PER PLAN","","","",0]
["638E07700","EACH","4\" GATE VALVE AND VALVE BOX","","","",0]
["638E07701","EACH","4\" GATE VALVE AND VALVE BOX, AS PER PLAN","","","",0]
["638E07800","EACH","6\" GATE VALVE AND VALVE BOX","","","",0]
["638E07801","EACH","6\" GATE VALVE AND VALVE BOX, AS PER PLAN","","","",0]
["638E07900","EACH","8\" GATE VALVE AND VALVE BOX","","","",0]
["638E07901","EACH","8\" GATE VALVE AND VALVE BOX, AS PER PLAN","","","",0]
["638E08000","EACH","10\" GATE VALVE AND VALVE BOX","","","",0]
["638E08001","EACH","10\" GATE VALVE AND VALVE BOX, AS PER PLAN","","","",0]
["638E08005","EACH","14\" GATE VALVE AND VALVE BOX, AS PER PLAN","","","",0]
["638E08100","EACH","12\" GATE VALVE AND VALVE BOX","","","",0]
["638E08101","EACH","12\" GATE VALVE AND VALVE BOX, AS PER PLAN","","","",0]
["638E08102","EACH","16\" GATE VALVE AND VALVE BOX","","","",0]
["638E08103","EACH","16\" GATE VALVE AND VALVE BOX, AS PER PLAN","","","",0]
["638E08104","EACH","18\" GATE VALVE AND VALVE BOX","","","",0]
["638E08105","EACH","18\" GATE VALVE AND VALVE BOX, AS PER PLAN","","","",0]
["638E08106","EACH","20\" GATE VALVE AND VALVE BOX","","","",0]
["638E08107","EACH","20\" GATE VALVE AND VALVE BOX, AS PER PLAN","","","",0]
["638E08108","EACH","24\" GATE VALVE, VALVE AND VALVE BOX","","","",0]
["638E08109","EACH","24\" GATE VALVE, VALVE AND VALVE BOX, AS PER PLAN","","","",0]
["638E08110","EACH","36\" GATE VALVE AND VALVE BOX","","","",0]
["638E08120","EACH","14\" GATE VALVE AND VALVE BOX","","","",0]
["638E08194","EACH","12\" BUTTERFLY VALVE AND VALVE BOX","","","",0]
["638E08195","EACH","12\" BUTTERFLY VALVE AND VALVE BOX, AS PER PLAN","","","",0]
["638E08200","EACH","16\" BUTTERFLY VALVE AND VALVE BOX","","","",0]
["638E08201","EACH","16\" BUTTERFLY VALVE AND VALVE BOX, PER PLAN","","","",0]
["638E08206","EACH","20\" BUTTERFLY VALVE AND VALVE BOX","","","",0]
["638E08300","EACH","4\" INSERTING VALVE AND VALVE BOX","","","",0]
["638E08400","EACH","6\" INSERTING VALVE AND VALVE BOX","","","",0]
["638E08500","EACH","8\" INSERTING VALVE AND VALVE BOX","","","",0]
["638E08501","EACH","8\" INSERTING VALVE AND VALVE BOX, AS PER PLAN","","","",0]
["638E08600","EACH","10\" INSERTING VALVE AND VALVE BOX","","","",0]
["638E08601","EACH","10\" INSERTING VALVE AND VALVE BOX, AS PER PLAN","","","",0]
["638E08620","EACH","12\" INSERTING VALVE AND VALVE BOX","","","",0]
["638E08621","EACH","12\" INSERTING VALVE AND VALVE BOX, AS PER PLAN","","","",0]
["638E08650","EACH","16\" INSERTING VALVE AND VALVE BOX","","","",0]
["638E08660","EACH","18\" INSERTING VALVE AND VALVE BOX","","","",0]
["638E08700","EACH","20\" INSERTING VALVE AND VALVE BOX","","","",0]
["638E08702","EACH","4\" CUTTING-IN SLEEVE","","","",0]
["638E08704","EACH","6\" CUTTING-IN SLEEVE","","","",0]
["638E08706","EACH","8\" CUTTING-IN SLEEVE","","","",0]
["638E08707","EACH","8\" CUTTING-IN SLEEVE, AS PER PLAN","","","",0]
["638E08708","EACH","10\" CUTTING-IN SLEEVE","","","",0]
["638E08710","EACH","12\" CUTTING-IN SLEEVE","","","",0]
["638E08711","EACH","12\" CUTTING-IN SLEEVE, AS PER PLAN","","","",0]
["638E08712","EACH","16\" CUTTING-IN SLEEVE","","","",0]
["638E08720","EACH","24\" CUTTING-IN SLEEVE","","","",0]
["638E08790","EACH","2\" CUTTING-IN SLEEVE, VALVE AND VALVE BOX","","","",0]
["638E08800","EACH","4\" CUTTING-IN SLEEVE, VALVE AND VALVE BOX","","","",0]
["638E08801","EACH","4\" CUTTING-IN SLEEVE, VALVE AND VALVE BOX, AS PER PLAN","","","",0]
["638E08900","EACH","6\" CUTTING-IN SLEEVE, VALVE AND VALVE BOX","","","",0]
["638E08901","EACH","6\" CUTTING-IN SLEEVE, VALVE AND VALVE BOX, AS PER PLAN","","","",0]
["638E09000","EACH","8\" CUTTING-IN SLEEVE, VALVE AND VALVE BOX","","","",0]
["638E09001","EACH","8\" CUTTING-IN SLEEVE, VALVE AND VALVE BOX, AS PER PLAN","","","",0]
["638E09100","EACH","10\" CUTTING-IN SLEEVE, VALVE AND VALVE BOX","","","",0]
["638E09200","EACH","12\" CUTTING-IN SLEEVE, VALVE AND VALVE BOX","","","",0]
["638E09201","EACH","12\" CUTTING-IN SLEEVE, VALVE AND VALVE BOX, AS PER PLAN","","","",0]
["638E09208","EACH","16\" CUTTING-IN SLEEVE, VALVE AND VALVE BOX","","","",0]
["638E09212","EACH","20\" CUTTING-IN SLEEVE, VALVE AND VALVE BOX","","","",0]
["638E09290","EACH","4\" X 4\" TAPPING SLEEVE, VALVE AND VALVE BOX","","","",0]
["638E09291","EACH","4\" X 4\" TAPPING SLEEVE, VALVE AND VALVE BOX, AS PER PLAN","","","",0]
["638E09300","EACH","6\" X 6\" TAPPING SLEEVE, VALVE AND VALVE BOX","","","",0]
["638E09301","EACH","6\" X 6\" TAPPING SLEEVE, VALVE AND VALVE BOX, AS PER PLAN","","","",0]
["638E09390","EACH","8\" X 6\" TAPPING SLEEVE, VALVE AND VALVE BOX","","","",0]
["638E09391","EACH","8\" X 6\" TAPPING SLEEVE, VALVE AND VALVE BOX, AS PER PLAN","","","",0]
["638E09400","EACH","8\" X 8\" TAPPING SLEEVE, VALVE AND VALVE BOX","","","",0]
["638E09401","EACH","8\" X 8\" TAPPING SLEEVE, VALVE AND VALVE BOX, AS PER PLAN","","","",0]
["638E09500","EACH","10\" X 4\" TAPPING SLEEVE, VALVE AND VALVE BOX","","","",0]
["638E09508","EACH","10\" X 6\" TAPPING SLEEVE, VALVE AND VALVE BOX","","","",0]
["638E09509","EACH","10\" X 6\" TAPPING SLEEVE, VALVE AND VALVE BOX, AS PER PLAN","","","",0]
["638E09510","EACH","10\" X 8\" TAPPING SLEEVE, VALVE AND VALVE BOX","","","",0]
["638E09511","EACH","10\" X 8\" TAPPING SLEEVE, VALVE AND VALVE BOX, AS PER PLAN","","","",0]
["638E09520","EACH","10\" X 10\" TAPPING SLEEVE, VALVE AND VALVE BOX","","","",0]
["638E09521","EACH","10\" X 10\" TAPPING SLEEVE, VALVE AND VALVE BOX, AS PER PLAN","","","",0]
["638E09600","EACH","12\" X 4\" TAPPING SLEEVE, VALVE AND VALVE BOX","","","",0]
["638E09700","EACH","12\" X 6\" TAPPING SLEEVE, VALVE AND VALVE BOX","","","",0]
["638E09701","EACH","12\" X 6\" TAPPING SLEEVE, VALVE AND VALVE BOX, AS PER PLAN","","","",0]
["638E09710","EACH","12\" X 8\" TAPPING SLEEVE, VALVE AND VALVE BOX","","","",0]
["638E09711","EACH","12\" X 8\" TAPPING SLEEVE, VALVE AND VALVE BOX, AS PER PLAN","","","",0]
["638E09714","EACH","12\" X 10\" TAPPING SLEEVE, VALVE AND VALVE BOX","","","",0]
["638E09800","EACH","12\" X 12\" TAPPING SLEEVE, VALVE AND VALVE BOX","","","",0]
["638E09801","EACH","12\" X 12\" TAPPING SLEEVE, VALVE AND VALVE BOX, AS PER PLAN","","","",0]
["638E09808","EACH","14\" X 14\" TAPPING SLEEVE, VALVE AND VALVE BOX","","","",0]
["638E09810","EACH","14\" X 6\" TAPPING SLEEVE, VALVE AND VALVE BOX","","","",0]
["638E09890","EACH","16\" X 6\" TAPPING SLEEVE, VALVE AND VALVE BOX","","","",0]
["638E09894","EACH","16\" X 8\" TAPPING SLEEVE, VALVE AND VALVE BOX","","","",0]
["638E09895","EACH","16\" X 8\" TAPPING SLEEVE, VALVE AND VALVE BOX, AS PER PLAN","","","",0]
["638E09900","EACH","16\" X 10\" TAPPING SLEEVE, VALVE AND VALVE BOX","","","",0]
["638E09908","EACH","16\" X 12\" TAPPING SLEEVE, VALVE AND VALVE BOX","","","",0]
["638E09909","EACH","16\" X 12\" TAPPING SLEEVE, VALVE AND VALVE BOX, AS PER PLAN","","","",0]
["638E09910","EACH","16\" X 16\" TAPPING SLEEVE, VALVE AND VALVE BOX","","","",0]
["638E09920","EACH","18\" X 18\" TAPPING SLEEVE, VALVE AND VALVE BOX","","","",0]
["638E10000","EACH","20\" X 16\" TAPPING SLEEVE, VALVE AND VALVE BOX","","","",0]
["638E10010","EACH","20\" X 20\" TAPPING SLEEVE, VALVE AND VALVE BOX","","","",0]
["638E10011","EACH","20\" X 20\" TAPPING SLEEVE, VALVE AND VALVE BOX, AS PER PLAN","","","",0]
["638E10100","EACH","4\" FIRE HYDRANT","","","",0]
["638E10101","EACH","4\" FIRE HYDRANT, AS PER PLAN","","","",0]
["638E10200","EACH","6\" FIRE HYDRANT","","","",0]
["638E10201","EACH","6\" FIRE HYDRANT, AS PER PLAN","","","",0]
["638E10300","EACH","FIRE HYDRANT EXTENDED AND ADJUSTED TO GRADE","","","",0]
["638E10301","EACH","FIRE HYDRANT EXTENDED AND ADJUSTED TO GRADE, AS PER PLAN","","","",0]
["638E10400","EACH","FIRE HYDRANT ADJUSTED TO GRADE","","","",0]
["638E10401","EACH","FIRE HYDRANT ADJUSTED TO GRADE, AS PER PLAN","","","",0]
["638E10480","EACH","FIRE HYDRANT REMOVED","","","",0]
["638E10481","EACH","FIRE HYDRANT REMOVED, AS PER PLAN","","","",0]
["638E10500","EACH","FIRE HYDRANT REMOVED AND RESET","","","",0]
["638E10501","EACH","FIRE HYDRANT REMOVED AND RESET, AS PER PLAN","","","",0]
["638E10600","EACH","FIRE HYDRANT AND GATE VALVE REMOVED AND RESET","","","",0]
["638E10601","EACH","FIRE HYDRANT AND GATE VALVE REMOVED AND RESET, AS PER PLAN","","","",0]
["638E10700","EACH","FIRE HYDRANT REMOVED AND DISPOSED OF","","","",0]
["638E10701","EACH","FIRE HYDRANT REMOVED AND DISPOSED OF, AS PER PLAN","","","",0]
["638E10800","EACH","VALVE BOX ADJUSTED TO GRADE","","","",0]
["638E10801","EACH","VALVE BOX ADJUSTED TO GRADE, AS PER PLAN","","","",0]
["638E10900","EACH","SERVICE BOX ADJUSTED TO GRADE","","","",0]
["638E10901","EACH","SERVICE BOX ADJUSTED TO GRADE, AS PER PLAN","","","",0]
["638E11100","EACH","METER AND CHAMBER REMOVED AND RESET","","","",0]
["638E11101","EACH","METER AND CHAMBER REMOVED AND RESET, AS PER PLAN","","","",0]
["638E11102","EACH","METER AND VAULT REMOVED AND RESET","","","",0]
["638E11103","EACH","METER AND VAULT REMOVED AND RESET, AS PER PLAN","","","",0]
["638E11200","EACH","METER, SETTING, STOP AND CHAMBER","","","",0]
["638E11201","EACH","METER, SETTING, STOP AND CHAMBER, AS PER PLAN","","","",0]
["638E11296","EACH","3/4\" AIR RELEASE VALVE","","","",0]
["638E11297","EACH","3/4\" AIR RELEASE VALVE, AS PER PLAN","","","",0]
["638E11300","EACH","1\" AIR RELEASE VALVE","","","",0]
["638E11301","EACH","1\" AIR RELEASE VALVE, AS PER PLAN","","","",0]
["638E11310","EACH","2\" AIR RELEASE VALVE","","","",0]
["638E11500","MBF","SHEETING AND BRACING ORDERED LEFT IN PLACE","","","",0]
["638E11600","FT","SPECIAL - 4\" WATER MAIN DIP AND FITTINGS","","","SPECIFY MUNICIPAL STANDARD",1]
["638E11602","FT","SPECIAL - 6\" WATER MAIN DIP AND FITTINGS","","","SPECIFY MUNICIPAL STANDARD",1]
["638E11604","FT","SPECIAL - 8\" WATER MAIN DIP AND FITTINGS","","","SPECIFY MUNICIPAL STANDARD",1]
["638E11606","FT","SPECIAL - 10\" WATER MAIN DIP AND FITTINGS","","","SPECIFY MUNICIPAL STANDARD",1]
["638E11608","FT","SPECIAL - 12\" WATER MAIN DIP AND FITTINGS","","","SPECIFY MUNICIPAL STANDARD",1]
["638E11610","FT","SPECIAL - 16\" WATER MAIN DIP AND FITTINGS","","","SPECIFY MUNICIPAL STANDARD",1]
["638E11612","FT","SPECIAL - 18\" WATER MAIN DIP AND FITTINGS","","","SPECIFY MUNICIPAL STANDARD",1]
["638E11614","FT","SPECIAL - 20\" WATER MAIN DIP AND FITTINGS","","","SPECIFY MUNICIPAL STANDARD",1]
["638E11616","FT","SPECIAL - 24\" WATER MAIN DIP AND FITTINGS","","","SPECIFY MUNICIPAL STANDARD",1]
["638E11618","FT","SPECIAL - 30\" WATER MAIN DIP AND FITTINGS","","","SPECIFY MUNICIPAL STANDARD",1]
["638E11620","FT","SPECIAL - 36\" WATER MAIN DIP AND FITTINGS","","","SPECIFY MUNICIPAL STANDARD",1]
["638E20000","FT","SPECIAL - 4\" WATER MAIN DIP CLASS 52 MECHANICAL JOINTS AND FITTINGS","","","SPECIFY MUNICIPAL STANDARD",1]
["638E20002","FT","SPECIAL - 4\" WATER MAIN DIP CLASS 52 BALL AND SOCKET JOINTS AND FITTINGS","","","SPECIFY MUNICIPAL STANDARD",1]
["638E20004","FT","SPECIAL - 4\" WATER MAIN DIP CLASS 52 BOLTLESS RESTRAINED JOINTS AND FITTINGS","","","SPECIFY MUNICIPAL STANDARD",1]
["638E20006","FT","SPECIAL - 4\" WATER MAIN DIP CLASS 52 PUSH ON JOINTS AND FITTINGS","","","SPECIFY MUNICIPAL STANDARD",1]
["638E20008","FT","SPECIAL - 4\" WATER MAIN DIP CLASS 53 MECHANICAL JOINTS AND FITTINGS","","","SPECIFY MUNICIPAL STANDARD",1]
["638E20010","FT","SPECIAL - 4\" WATER MAIN DIP CLASS 53 BALL AND SOCKET JOINTS AND FITTINGS","","","SPECIFY MUNICIPAL STANDARD",1]
["638E20012","FT","SPECIAL - 4\" WATER MAIN DIP CLASS 53 BOLTLESS RESTRAINED JOINTS AND FITTINGS","","","SPECIFY MUNICIPAL STANDARD",1]
["638E20014","FT","SPECIAL - 4\" WATER MAIN DIP CLASS 53 PUSH ON JOINTS AND FITTINGS","","","SPECIFY MUNICIPAL STANDARD",1]
["638E20016","FT","SPECIAL - 4\" WATER MAIN DIP CLASS 54 MECHANICAL JOINTS AND FITTINGS","","","SPECIFY MUNICIPAL STANDARD",1]
["638E20018","FT","SPECIAL - 4\" WATER MAIN DIP CLASS 54 BALL AND SOCKET JOINTS AND FITTINGS","","","SPECIFY MUNICIPAL STANDARD",1]
["638E20020","FT","SPECIAL - 4\" WATER MAIN DIP CLASS 54 BOLTLESS RESTRAINED JOINTS AND FITTINGS","","","SPECIFY MUNICIPAL STANDARD",1]
["638E20022","FT","SPECIAL - 4\" WATER MAIN DIP CLASS 54 PUSH ON JOINTS AND FITTINGS","","","SPECIFY MUNICIPAL STANDARD",1]
["638E20024","FT","SPECIAL - 4\" WATER MAIN DIP CLASS 55 MECHANICAL JOINTS AND FITTINGS","","","SPECIFY MUNICIPAL STANDARD",1]
["638E20026","FT","SPECIAL - 4\" WATER MAIN DIP CLASS 55 BALL AND SOCKET JOINTS AND FITTINGS","","","SPECIFY MUNICIPAL STANDARD",1]
["638E20028","FT","SPECIAL - 4\" WATER MAIN DIP CLASS 55 BOLTLESS RESTRAINED JOINTS AND FITTINGS","","","SPECIFY MUNICIPAL STANDARD",1]
["638E20030","FT","SPECIAL - 4\" WATER MAIN DIP CLASS 55 PUSH ON JOINTS AND FITTINGS","","","SPECIFY MUNICIPAL STANDARD",1]
["638E20032","FT","SPECIAL - 4\" WATER MAIN DIP CLASS 56 MECHANICAL JOINTS AND FITTINGS","","","SPECIFY MUNICIPAL STANDARD",1]
["638E20034","FT","SPECIAL - 4\" WATER MAIN DIP CLASS 56 BALL AND SOCKET JOINTS AND FITTINGS","","","SPECIFY MUNICIPAL STANDARD",1]
["638E20036","FT","SPECIAL - 4\" WATER MAIN DIP CLASS 56 BOLTLESS RESTRAINED JOINTS AND FITTINGS","","","SPECIFY MUNICIPAL STANDARD",1]
["638E20038","FT","SPECIAL - 4\" WATER MAIN DIP CLASS 56 PUSH ON JOINTS AND FITTINGS","","","SPECIFY MUNICIPAL STANDARD",1]
["638E20040","FT","SPECIAL - 6\" WATER MAIN DIP CLASS 52 MECHANICAL JOINTS AND FITTINGS","","","SPECIFY MUNICIPAL STANDARD",1]
["638E20042","FT","SPECIAL - 6\" WATER MAIN DIP CLASS 52 BALL AND SOCKET JOINTS AND FITTINGS","","","SPECIFY MUNICIPAL STANDARD",1]
["638E20044","FT","SPECIAL - 6\" WATER MAIN DIP CLASS 52 BOLTLESS RESTRAINED JOINTS AND FITTINGS","","","SPECIFY MUNICIPAL STANDARD",1]
["638E20046","FT","SPECIAL - 6\" WATER MAIN DIP CLASS 52 PUSH ON JOINTS AND FITTINGS","","","SPECIFY MUNICIPAL STANDARD",1]
["638E20048","FT","SPECIAL - 6\" WATER MAIN DIP CLASS 53 MECHANICAL JOINTS AND FITTINGS","","","SPECIFY MUNICIPAL STANDARD",1]
["638E20050","FT","SPECIAL - 6\" WATER MAIN DIP CLASS 53 BALL AND SOCKET JOINTS AND FITTINGS","","","SPECIFY MUNICIPAL STANDARD",1]
["638E20052","FT","SPECIAL - 6\" WATER MAIN DIP CLASS 53 BOLTLESS RESTRAINED JOINTS AND FITTINGS","","","SPECIFY MUNICIPAL STANDARD",1]
["638E20054","FT","SPECIAL - 6\" WATER MAIN DIP CLASS 53 PUSH ON JOINTS AND FITTINGS","","","SPECIFY MUNICIPAL STANDARD",1]
["638E20056","FT","SPECIAL - 6\" WATER MAIN DIP CLASS 54 MECHANICAL JOINTS AND FITTINGS","","","SPECIFY MUNICIPAL STANDARD",1]
["638E20058","FT","SPECIAL - 6\" WATER MAIN DIP CLASS 54 BALL AND SOCKET JOINTS AND FITTINGS","","","SPECIFY MUNICIPAL STANDARD",1]
["638E20060","FT","SPECIAL - 6\" WATER MAIN DIP CLASS 54 BOLTLESS RESTRAINED JOINTS AND FITTINGS","","","SPECIFY MUNICIPAL STANDARD",1]
["638E20062","FT","SPECIAL - 6\" WATER MAIN DIP CLASS 54 PUSH ON JOINTS AND FITTINGS","","","SPECIFY MUNICIPAL STANDARD",1]
["638E20064","FT","SPECIAL - 6\" WATER MAIN DIP CLASS 55 MECHANICAL JOINTS AND FITTINGS","","","SPECIFY MUNICIPAL STANDARD",1]
["638E20066","FT","SPECIAL - 6\" WATER MAIN DIP CLASS 55 BALL AND SOCKET JOINTS AND FITTINGS","","","SPECIFY MUNICIPAL STANDARD",1]
["638E20068","FT","SPECIAL - 6\" WATER MAIN DIP CLASS 55 BOLTLESS RESTRAINED JOINTS AND FITTINGS","","","SPECIFY MUNICIPAL STANDARD",1]
["638E20070","FT","SPECIAL - 6\" WATER MAIN DIP CLASS 55 PUSH ON JOINTS AND FITTINGS","","","SPECIFY MUNICIPAL STANDARD",1]
["638E20072","FT","SPECIAL - 6\" WATER MAIN DIP CLASS 56 MECHANICAL JOINTS AND FITTINGS","","","SPECIFY MUNICIPAL STANDARD",1]
["638E20074","FT","SPECIAL - 6\" WATER MAIN DIP CLASS 56 BALL AND SOCKET JOINTS AND FITTINGS","","","SPECIFY MUNICIPAL STANDARD",1]
["638E20076","FT","SPECIAL - 6\" WATER MAIN DIP CLASS 56 BOLTLESS RESTRAINED JOINTS AND FITTINGS","","","SPECIFY MUNICIPAL STANDARD",1]
["638E20078","FT","SPECIAL - 6\" WATER MAIN DIP CLASS 56 PUSH ON JOINTS AND FITTINGS","","","SPECIFY MUNICIPAL STANDARD",1]
["638E20080","FT","SPECIAL - 8\" WATER MAIN DIP CLASS 52 MECHANICAL JOINTS AND FITTINGS","","","SPECIFY MUNICIPAL STANDARD",1]
["638E20082","FT","SPECIAL - 8\" WATER MAIN DIP CLASS 52 BALL AND SOCKET JOINTS AND FITTINGS","","","SPECIFY MUNICIPAL STANDARD",1]
["638E20084","FT","SPECIAL - 8\" WATER MAIN DIP CLASS 52 BOLTLESS RESTRAINED JOINTS AND FITTINGS","","","SPECIFY MUNICIPAL STANDARD",1]
["638E20086","FT","SPECIAL - 8\" WATER MAIN DIP CLASS 52 PUSH ON JOINTS AND FITTINGS","","","SPECIFY MUNICIPAL STANDARD",1]
["638E20088","FT","SPECIAL - 8\" WATER MAIN DIP CLASS 53 MECHANICAL JOINTS AND FITTINGS","","","SPECIFY MUNICIPAL STANDARD",1]
["638E20090","FT","SPECIAL - 8\" WATER MAIN DIP CLASS 53 BALL AND SOCKET JOINTS AND FITTINGS","","","SPECIFY MUNICIPAL STANDARD",1]
["638E20092","FT","SPECIAL - 8\" WATER MAIN DIP CLASS 53 BOLTLESS RESTRAINED JOINTS AND FITTINGS","","","SPECIFY MUNICIPAL STANDARD",1]
["638E20094","FT","SPECIAL - 8\" WATER MAIN DIP CLASS 53 PUSH ON JOINTS AND FITTINGS","","","SPECIFY MUNICIPAL STANDARD",1]
["638E20096","FT","SPECIAL - 8\" WATER MAIN DIP CLASS 54 MECHANICAL JOINTS AND FITTINGS","","","SPECIFY MUNICIPAL STANDARD",1]
["638E20098","FT","SPECIAL - 8\" WATER MAIN DIP CLASS 54 BALL AND SOCKET JOINTS AND FITTINGS","","","SPECIFY MUNICIPAL STANDARD",1]
["638E20100","FT","SPECIAL - 8\" WATER MAIN DIP CLASS 54 BOLTLESS RESTRAINED JOINTS AND FITTINGS","","","SPECIFY MUNICIPAL STANDARD",1]
["638E20104","FT","SPECIAL - 8\" WATER MAIN DIP CLASS 54 PUSH ON JOINTS AND FITTINGS","","","SPECIFY MUNICIPAL STANDARD",1]
["638E20106","FT","SPECIAL - 8\" WATER MAIN DIP CLASS 55 MECHANICAL JOINTS AND FITTINGS","","","SPECIFY MUNICIPAL STANDARD",1]
["638E20110","FT","SPECIAL - 8\" WATER MAIN DIP CLASS 55 BALL AND SOCKET JOINTS AND FITTINGS","","","SPECIFY MUNICIPAL STANDARD",1]
["638E20112","FT","SPECIAL - 8\" WATER MAIN DIP CLASS 55 BOLTLESS RESTRAINED JOINTS AND FITTINGS","","","SPECIFY MUNICIPAL STANDARD",1]
["638E20114","FT","SPECIAL - 8\" WATER MAIN DIP CLASS 55 PUSH ON JOINTS AND FITTINGS","","","SPECIFY MUNICIPAL STANDARD",1]
["638E20116","FT","SPECIAL - 8\" WATER MAIN DIP CLASS 56 MECHANICAL JOINTS AND FITTINGS","","","SPECIFY MUNICIPAL STANDARD",1]
["638E20118","FT","SPECIAL - 8\" WATER MAIN DIP CLASS 56 BALL AND SOCKET JOINTS AND FITTINGS","","","SPECIFY MUNICIPAL STANDARD",1]
["638E20120","FT","SPECIAL - 8\" WATER MAIN DIP CLASS 56 BOLTLESS RESTRAINED JOINTS AND FITTINGS","","","SPECIFY MUNICIPAL STANDARD",1]
["638E20122","FT","SPECIAL - 8\" WATER MAIN DIP CLASS 56 PUSH ON JOINTS AND FITTINGS","","","SPECIFY MUNICIPAL STANDARD",1]
["638E20124","FT","SPECIAL - 10\" WATER MAIN DIP CLASS 52 MECHANICAL JOINTS AND FITTINGS","","","SPECIFY MUNICIPAL STANDARD",1]
["638E20126","FT","SPECIAL - 10\" WATER MAIN DIP CLASS 52 BALL AND SOCKET JOINTS AND FITTINGS","","","SPECIFY MUNICIPAL STANDARD",1]
["638E20128","FT","SPECIAL - 10\" WATER MAIN DIP CLASS 52 BOLTLESS RESTRAINED JOINTS AND FITTINGS","","","SPECIFY MUNICIPAL STANDARD",1]
["638E20130","FT","SPECIAL - 10\" WATER MAIN DIP CLASS 52 PUSH ON JOINTS AND FITTINGS","","","SPECIFY MUNICIPAL STANDARD",1]
["638E20132","FT","SPECIAL - 10\" WATER MAIN DIP CLASS 53 MECHANICAL JOINTS AND FITTINGS","","","SPECIFY MUNICIPAL STANDARD",1]
["638E20134","FT","SPECIAL - 10\" WATER MAIN DIP CLASS 53 BALL AND SOCKET JOINTS AND FITTINGS","","","SPECIFY MUNICIPAL STANDARD",1]
["638E20136","FT","SPECIAL - 10\" WATER MAIN DIP CLASS 53 BOLTLESS RESTRAINED JOINTS AND FITTINGS","","","SPECIFY MUNICIPAL STANDARD",1]
["638E20138","FT","SPECIAL - 10\" WATER MAIN DIP CLASS 53 PUSH ON JOINTS AND FITTINGS","","","SPECIFY MUNICIPAL STANDARD",1]
["638E20140","FT","SPECIAL - 10\" WATER MAIN DIP CLASS 54 MECHANICAL JOINTS AND FITTINGS","","","SPECIFY MUNICIPAL STANDARD",1]
["638E20142","FT","SPECIAL - 10\" WATER MAIN DIP CLASS 54 BALL AND SOCKET JOINTS AND FITTINGS","","","SPECIFY MUNICIPAL STANDARD",1]
["638E20144","FT","SPECIAL - 10\" WATER MAIN DIP CLASS 54 BOLTLESS RESTRAINED JOINTS AND FITTINGS","","","SPECIFY MUNICIPAL STANDARD",1]
["638E20146","FT","SPECIAL - 10\" WATER MAIN DIP CLASS 54 PUSH ON JOINTS AND FITTINGS","","","SPECIFY MUNICIPAL STANDARD",1]
["638E20148","FT","SPECIAL - 10\" WATER MAIN DIP CLASS 55 MECHANICAL JOINTS AND FITTINGS","","","SPECIFY MUNICIPAL STANDARD",1]
["638E20152","FT","SPECIAL - 10\" WATER MAIN DIP CLASS 55 BALL AND SOCKET JOINTS AND FITTINGS","","","SPECIFY MUNICIPAL STANDARD",1]
["638E20154","FT","SPECIAL - 10\" WATER MAIN DIP CLASS 55 BOLTLESS RESTRAINED JOINTS AND FITTINGS","","","SPECIFY MUNICIPAL STANDARD",1]
["638E20156","FT","SPECIAL - 10\" WATER MAIN DIP CLASS 55 PUSH ON JOINTS AND FITTINGS","","","SPECIFY MUNICIPAL STANDARD",1]
["638E20158","FT","SPECIAL - 10\" WATER MAIN DIP CLASS 56 MECHANICAL JOINTS AND FITTINGS","","","SPECIFY MUNICIPAL STANDARD",1]
["638E20162","FT","SPECIAL - 10\" WATER MAIN DIP CLASS 56 BALL AND SOCKET JOINTS AND FITTINGS","","","SPECIFY MUNICIPAL STANDARD",1]
["638E20164","FT","SPECIAL - 10\" WATER MAIN DIP CLASS 56 BOLTLESS RESTRAINED JOINTS AND FITTINGS","","","SPECIFY MUNICIPAL STANDARD",1]
["638E20166","FT","SPECIAL - 10\" WATER MAIN DIP CLASS 56 PUSH ON JOINTS AND FITTINGS","","","SPECIFY MUNICIPAL STANDARD",1]
["638E20168","FT","SPECIAL - 12\" WATER MAIN DIP CLASS 52 MECHANICAL JOINTS AND FITTINGS","","","SPECIFY MUNICIPAL STANDARD",1]
["638E20170","FT","SPECIAL - 12\" WATER MAIN DIP CLASS 52 BALL AND SOCKET JOINTS AND FITTINGS","","","SPECIFY MUNICIPAL STANDARD",1]
["638E20172","FT","SPECIAL - 12\" WATER MAIN DIP CLASS 52 BOLTLESS RESTRAINED JOINTS AND FITTINGS","","","SPECIFY MUNICIPAL STANDARD",1]
["638E20174","FT","SPECIAL - 12\" WATER MAIN DIP CLASS 52 PUSH ON JOINTS AND FITTINGS","","","SPECIFY MUNICIPAL STANDARD",1]
["638E20176","FT","SPECIAL - 12\" WATER MAIN DIP CLASS 53 MECHANICAL JOINTS AND FITTINGS","","","SPECIFY MUNICIPAL STANDARD",1]
["638E20178","FT","SPECIAL - 12\" WATER MAIN DIP CLASS 53 BALL AND SOCKET JOINTS AND FITTINGS","","","SPECIFY MUNICIPAL STANDARD",1]
["638E20180","FT","SPECIAL - 12\" WATER MAIN DIP CLASS 53 BOLTLESS RESTRAINED JOINTS AND FITTINGS","","","SPECIFY MUNICIPAL STANDARD",1]
["638E20182","FT","SPECIAL - 12\" WATER MAIN DIP CLASS 53 PUSH ON JOINTS AND FITTINGS","","","SPECIFY MUNICIPAL STANDARD",1]
["638E20184","FT","SPECIAL - 12\" WATER MAIN DIP CLASS 54 MECHANICAL JOINTS AND FITTINGS","","","SPECIFY MUNICIPAL STANDARD",1]
["638E20186","FT","SPECIAL - 12\" WATER MAIN DIP CLASS 54 BALL AND SOCKET JOINTS AND FITTINGS","","","SPECIFY MUNICIPAL STANDARD",1]
["638E20188","FT","SPECIAL - 12\" WATER MAIN DIP CLASS 54 BOLTLESS RESTRAINED JOINTS AND FITTINGS","","","SPECIFY MUNICIPAL STANDARD",1]
["638E20190","FT","SPECIAL - 12\" WATER MAIN DIP CLASS 54 PUSH ON JOINTS AND FITTINGS","","","SPECIFY MUNICIPAL STANDARD",1]
["638E20192","FT","SPECIAL - 12\" WATER MAIN DIP CLASS 55 MECHANICAL JOINTS AND FITTINGS","","","SPECIFY MUNICIPAL STANDARD",1]
["638E20194","FT","SPECIAL - 12\" WATER MAIN DIP CLASS 55 BALL AND SOCKET JOINTS AND FITTINGS","","","SPECIFY MUNICIPAL STANDARD",1]
["638E20196","FT","SPECIAL - 12\" WATER MAIN DIP CLASS 55 BOLTLESS RESTRAINED JOINTS AND FITTINGS","","","SPECIFY MUNICIPAL STANDARD",1]
["638E20198","FT","SPECIAL - 12\" WATER MAIN DIP CLASS 55 PUSH ON JOINTS AND FITTINGS","","","SPECIFY MUNICIPAL STANDARD",1]
["638E20200","FT","SPECIAL - 12\" WATER MAIN DIP CLASS 56 MECHANICAL JOINTS AND FITTINGS","","","SPECIFY MUNICIPAL STANDARD",1]
["638E20202","FT","SPECIAL - 12\" WATER MAIN DIP CLASS 56 BALL AND SOCKET JOINTS AND FITTINGS","","","SPECIFY MUNICIPAL STANDARD",1]
["638E20204","FT","SPECIAL - 12\" WATER MAIN DIP CLASS 56 BOLTLESS RESTRAINED JOINTS AND FITTINGS","","","SPECIFY MUNICIPAL STANDARD",1]
["638E20206","FT","SPECIAL - 12\" WATER MAIN DIP CLASS 56 PUSH ON JOINTS AND FITTINGS","","","SPECIFY MUNICIPAL STANDARD",1]
["638E20208","FT","SPECIAL - 16\" WATER MAIN DIP CLASS 52 MECHANICAL JOINTS AND FITTINGS","","","SPECIFY MUNICIPAL STANDARD",1]
["638E20210","FT","SPECIAL - 16\" WATER MAIN DIP CLASS 52 BALL AND SOCKET JOINTS AND FITTINGS","","","SPECIFY MUNICIPAL STANDARD",1]
["638E20212","FT","SPECIAL - 16\" WATER MAIN DIP CLASS 52 BOLTLESS RESTRAINED JOINTS AND FITTINGS","","","SPECIFY MUNICIPAL STANDARD",1]
["638E20214","FT","SPECIAL - 16\" WATER MAIN DIP CLASS 52 PUSH ON JOINTS AND FITTINGS","","","SPECIFY MUNICIPAL STANDARD",1]
["638E20216","FT","SPECIAL - 16\" WATER MAIN DIP CLASS 53 MECHANICAL JOINTS AND FITTINGS","","","SPECIFY MUNICIPAL STANDARD",1]
["638E20218","FT","SPECIAL - 16\" WATER MAIN DIP CLASS 53 BALL AND SOCKET JOINTS AND FITTINGS","","","SPECIFY MUNICIPAL STANDARD",1]
["638E20220","FT","SPECIAL - 16\" WATER MAIN DIP CLASS 53 BOLTLESS RESTRAINED JOINTS AND FITTINGS","","","SPECIFY MUNICIPAL STANDARD",1]
["638E20222","FT","SPECIAL - 16\" WATER MAIN DIP CLASS 53 PUSH ON JOINTS AND FITTINGS","","","SPECIFY MUNICIPAL STANDARD",1]
["638E20224","FT","SPECIAL - 16\" WATER MAIN DIP CLASS 54 MECHANICAL JOINTS AND FITTINGS","","","SPECIFY MUNICIPAL STANDARD",1]
["638E20226","FT","SPECIAL - 16\" WATER MAIN DIP CLASS 54 BALL AND SOCKET JOINTS AND FITTINGS","","","SPECIFY MUNICIPAL STANDARD",1]
["638E20228","FT","SPECIAL - 16\" WATER MAIN DIP CLASS 54 BOLTLESS RESTRAINED JOINTS AND FITTINGS","","","SPECIFY MUNICIPAL STANDARD",1]
["638E20230","FT","SPECIAL - 16\" WATER MAIN DIP CLASS 54 PUSH ON JOINTS AND FITTINGS","","","SPECIFY MUNICIPAL STANDARD",1]
["638E20232","FT","SPECIAL - 16\" WATER MAIN DIP CLASS 55 MECHANICAL JOINTS AND FITTINGS","","","SPECIFY MUNICIPAL STANDARD",1]
["638E20234","FT","SPECIAL - 16\" WATER MAIN DIP CLASS 55 BALL AND SOCKET JOINTS AND FITTINGS","","","SPECIFY MUNICIPAL STANDARD",1]
["638E20236","FT","SPECIAL - 16\" WATER MAIN DIP CLASS 55 BOLTLESS RESTRAINED JOINTS AND FITTINGS","","","SPECIFY MUNICIPAL STANDARD",1]
["638E20238","FT","SPECIAL - 16\" WATER MAIN DIP CLASS 55 PUSH ON JOINTS AND FITTINGS","","","SPECIFY MUNICIPAL STANDARD",1]
["638E20240","FT","SPECIAL - 16\" WATER MAIN DIP CLASS 56 MECHANICAL JOINTS AND FITTINGS","","","SPECIFY MUNICIPAL STANDARD",1]
["638E20242","FT","SPECIAL - 16\" WATER MAIN DIP CLASS 56 BALL AND SOCKET JOINTS AND FITTINGS","","","SPECIFY MUNICIPAL STANDARD",1]
["638E20244","FT","SPECIAL - 16\" WATER MAIN DIP CLASS 56 BOLTLESS RESTRAINED JOINTS AND FITTINGS","","","SPECIFY MUNICIPAL STANDARD",1]
["638E20246","FT","SPECIAL - 16\" WATER MAIN DIP CLASS 56 PUSH ON JOINTS AND FITTINGS","","","SPECIFY MUNICIPAL STANDARD",1]
["638E20248","FT","SPECIAL - 20\" WATER MAIN DIP CLASS 52 MECHANICAL JOINTS AND FITTINGS","","","SPECIFY MUNICIPAL STANDARD",1]
["638E20250","FT","SPECIAL - 20\" WATER MAIN DIP CLASS 52 BALL AND SOCKET JOINTS AND FITTINGS","","","SPECIFY MUNICIPAL STANDARD",1]
["638E20252","FT","SPECIAL - 20\" WATER MAIN DIP CLASS 52 BOLTLESS RESTRAINED JOINTS AND FITTINGS","","","SPECIFY MUNICIPAL STANDARD",1]
["638E20254","FT","SPECIAL - 20\" WATER MAIN DIP CLASS 52 PUSH ON JOINTS AND FITTINGS","","","SPECIFY MUNICIPAL STANDARD",1]
["638E20256","FT","SPECIAL - 20\" WATER MAIN DIP CLASS 53 MECHANICAL JOINTS AND FITTINGS","","","SPECIFY MUNICIPAL STANDARD",1]
["638E20258","FT","SPECIAL - 20\" WATER MAIN DIP CLASS 53 BALL AND SOCKET JOINTS AND FITTINGS","","","SPECIFY MUNICIPAL STANDARD",1]
["638E20260","FT","SPECIAL - 20\" WATER MAIN DIP CLASS 53 BOLTLESS RESTRAINED JOINTS AND FITTINGS","","","SPECIFY MUNICIPAL STANDARD",1]
["638E20262","FT","SPECIAL - 20\" WATER MAIN DIP CLASS 53 PUSH ON JOINTS AND FITTINGS","","","SPECIFY MUNICIPAL STANDARD",1]
["638E20264","FT","SPECIAL - 20\" WATER MAIN DIP CLASS 54 MECHANICAL JOINTS AND FITTINGS","","","SPECIFY MUNICIPAL STANDARD",1]
["638E20266","FT","SPECIAL - 20\" WATER MAIN DIP CLASS 54 BALL AND SOCKET JOINTS AND FITTINGS","","","SPECIFY MUNICIPAL STANDARD",1]
["638E20268","FT","SPECIAL - 20\" WATER MAIN DIP CLASS 54 BOLTLESS RESTRAINED JOINTS AND FITTINGS","","","SPECIFY MUNICIPAL STANDARD",1]
["638E20270","FT","SPECIAL - 20\" WATER MAIN DIP CLASS 54 PUSH ON JOINTS AND FITTINGS","","","SPECIFY MUNICIPAL STANDARD",1]
["638E20272","FT","SPECIAL - 20\" WATER MAIN DIP CLASS 55 MECHANICAL JOINTS AND FITTINGS","","","SPECIFY MUNICIPAL STANDARD",1]
["638E20274","FT","SPECIAL - 20\" WATER MAIN DIP CLASS 55 BALL AND SOCKET JOINTS AND FITTINGS","","","SPECIFY MUNICIPAL STANDARD",1]
["638E20276","FT","SPECIAL - 20\" WATER MAIN DIP CLASS 55 BOLTLESS RESTRAINED JOINTS AND FITTINGS","","","SPECIFY MUNICIPAL STANDARD",1]
["638E20278","FT","SPECIAL - 20\" WATER MAIN DIP CLASS 55 PUSH ON JOINTS AND FITTINGS","","","SPECIFY MUNICIPAL STANDARD",1]
["638E20280","FT","SPECIAL - 20\" WATER MAIN DIP CLASS 56 MECHANICAL JOINTS AND FITTINGS","","","SPECIFY MUNICIPAL STANDARD",1]
["638E20282","FT","SPECIAL - 20\" WATER MAIN DIP CLASS 56 BALL AND SOCKET JOINTS AND FITTINGS","","","SPECIFY MUNICIPAL STANDARD",1]
["638E20284","FT","SPECIAL - 20\" WATER MAIN DIP CLASS 56 BOLTLESS RESTRAINED JOINTS AND FITTINGS","","","SPECIFY MUNICIPAL STANDARD",1]
["638E20286","FT","SPECIAL - 20\" WATER MAIN DIP CLASS 56 PUSH ON JOINTS AND FITTINGS","","","SPECIFY MUNICIPAL STANDARD",1]
["638E20288","FT","SPECIAL - 24\" WATER MAIN DIP CLASS 52 MECHANICAL JOINTS AND FITTINGS","","","SPECIFY MUNICIPAL STANDARD",1]
["638E20290","FT","SPECIAL - 24\" WATER MAIN DIP CLASS 52 BALL AND SOCKET JOINTS AND FITTINGS","","","SPECIFY MUNICIPAL STANDARD",1]
["638E20292","FT","SPECIAL - 24\" WATER MAIN DIP CLASS 52 BOLTLESS RESTRAINED JOINTS AND FITTINGS","","","SPECIFY MUNICIPAL STANDARD",1]
["638E20294","FT","SPECIAL - 24\" WATER MAIN DIP CLASS 52 PUSH ON JOINTS AND FITTINGS","","","SPECIFY MUNICIPAL STANDARD",1]
["638E20296","FT","SPECIAL - 24\" WATER MAIN DIP CLASS 53 MECHANICAL JOINTS AND FITTINGS","","","SPECIFY MUNICIPAL STANDARD",1]
["638E20298","FT","SPECIAL - 24\" WATER MAIN DIP CLASS 53 BALL AND SOCKET JOINTS AND FITTINGS","","","SPECIFY MUNICIPAL STANDARD",1]
["638E20300","FT","SPECIAL - 24\" WATER MAIN DIP CLASS 53 BOLTLESS RESTRAINED JOINTS AND FITTINGS","","","SPECIFY MUNICIPAL STANDARD",1]
["638E20302","FT","SPECIAL - 24\" WATER MAIN DIP CLASS 53 PUSH ON JOINTS AND FITTINGS","","","SPECIFY MUNICIPAL STANDARD",1]
["638E20304","FT","SPECIAL - 24\" WATER MAIN DIP CLASS 54 MECHANICAL JOINTS AND FITTINGS","","","SPECIFY MUNICIPAL STANDARD",1]
["638E20308","FT","SPECIAL - 24\" WATER MAIN DIP CLASS 54 BALL AND SOCKET JOINTS AND FITTINGS","","","SPECIFY MUNICIPAL STANDARD",1]
["638E20312","FT","SPECIAL - 24\" WATER MAIN DIP CLASS 54 BOLTLESS RESTRAINED JOINTS AND FITTINGS","","","SPECIFY MUNICIPAL STANDARD",1]
["638E20314","FT","SPECIAL - 24\" WATER MAIN DIP CLASS 54 PUSH ON JOINTS AND FITTINGS","","","SPECIFY MUNICIPAL STANDARD",1]
["638E20316","FT","SPECIAL - 24\" WATER MAIN DIP CLASS 55 MECHANICAL JOINTS AND FITTINGS","","","SPECIFY MUNICIPAL STANDARD",1]
["638E20318","FT","SPECIAL - 24\" WATER MAIN DIP CLASS 55 BALL AND SOCKET JOINTS AND FITTINGS","","","SPECIFY MUNICIPAL STANDARD",1]
["638E20320","FT","SPECIAL - 24\" WATER MAIN DIP CLASS 55 BOLTLESS RESTRAINED JOINTS AND FITTINGS","","","SPECIFY MUNICIPAL STANDARD",1]
["638E20322","FT","SPECIAL - 24\" WATER MAIN DIP CLASS 55 PUSH ON JOINTS AND FITTINGS","","","SPECIFY MUNICIPAL STANDARD",1]
["638E20324","FT","SPECIAL - 24\" WATER MAIN DIP CLASS 56 MECHANICAL JOINTS AND FITTINGS","","","SPECIFY MUNICIPAL STANDARD",1]
["638E20326","FT","SPECIAL - 24\" WATER MAIN DIP CLASS 56 BALL AND SOCKET JOINTS AND FITTINGS","","","SPECIFY MUNICIPAL STANDARD",1]
["638E20328","FT","SPECIAL - 24\" WATER MAIN DIP CLASS 56 BOLTLESS RESTRAINED JOINTS AND FITTINGS","","","SPECIFY MUNICIPAL STANDARD",1]
["638E20330","FT","SPECIAL - 24\" WATER MAIN DIP CLASS 56 PUSH ON JOINTS AND FITTINGS","","","SPECIFY MUNICIPAL STANDARD",1]
["638E20332","FT","SPECIAL - 30\" WATER MAIN DIP CLASS 52 MECHANICAL JOINTS AND FITTINGS","","","SPECIFY MUNICIPAL STANDARD",1]
["638E20334","FT","SPECIAL - 30\" WATER MAIN DIP CLASS 52 BALL AND SOCKET JOINTS AND FITTINGS","","","SPECIFY MUNICIPAL STANDARD",1]
["638E20336","FT","SPECIAL - 30\" WATER MAIN DIP CLASS 52 BOLTLESS RESTRAINED JOINTS AND FITTINGS","","","SPECIFY MUNICIPAL STANDARD",1]
["638E20338","FT","SPECIAL - 30\" WATER MAIN DIP CLASS 52 PUSH ON JOINTS AND FITTINGS","","","SPECIFY MUNICIPAL STANDARD",1]
["638E20340","FT","SPECIAL - 30\" WATER MAIN DIP CLASS 53 MECHANICAL JOINTS AND FITTINGS","","","SPECIFY MUNICIPAL STANDARD",1]
["638E20342","FT","SPECIAL - 30\" WATER MAIN DIP CLASS 53 BALL AND SOCKET JOINTS AND FITTINGS","","","SPECIFY MUNICIPAL STANDARD",1]
["638E20344","FT","SPECIAL - 30\" WATER MAIN DIP CLASS 53 BOLTLESS RESTRAINED JOINTS AND FITTINGS","","","SPECIFY MUNICIPAL STANDARD",1]
["638E20346","FT","SPECIAL - 30\" WATER MAIN DIP CLASS 53 PUSH ON JOINTS AND FITTINGS","","","SPECIFY MUNICIPAL STANDARD",1]
["638E20348","FT","SPECIAL - 30\" WATER MAIN DIP CLASS 54 MECHANICAL JOINTS AND FITTINGS","","","SPECIFY MUNICIPAL STANDARD",1]
["638E20350","FT","SPECIAL - 30\" WATER MAIN DIP CLASS 54 BALL AND SOCKET JOINTS AND FITTINGS","","","SPECIFY MUNICIPAL STANDARD",1]
["638E20352","FT","SPECIAL - 30\" WATER MAIN DIP CLASS 54 BOLTLESS RESTRAINED JOINTS AND FITTINGS","","","SPECIFY MUNICIPAL STANDARD",1]
["638E20354","FT","SPECIAL - 30\" WATER MAIN DIP CLASS 54 PUSH ON JOINTS AND FITTINGS","","","SPECIFY MUNICIPAL STANDARD",1]
["638E20356","FT","SPECIAL - 30\" WATER MAIN DIP CLASS 55 MECHANICAL JOINTS AND FITTINGS","","","SPECIFY MUNICIPAL STANDARD",1]
["638E20358","FT","SPECIAL - 30\" WATER MAIN DIP CLASS 55 BALL AND SOCKET JOINTS AND FITTINGS","","","SPECIFY MUNICIPAL STANDARD",1]
["638E20360","FT","SPECIAL - 30\" WATER MAIN DIP CLASS 55 BOLTLESS RESTRAINED JOINTS AND FITTINGS","","","SPECIFY MUNICIPAL STANDARD",1]
["638E20362","FT","SPECIAL - 30\" WATER MAIN DIP CLASS 55 PUSH ON JOINTS AND FITTINGS","","","SPECIFY MUNICIPAL STANDARD",1]
["638E20364","FT","SPECIAL - 30\" WATER MAIN DIP CLASS 56 MECHANICAL JOINTS AND FITTINGS","","","SPECIFY MUNICIPAL STANDARD",1]
["638E20366","FT","SPECIAL - 30\" WATER MAIN DIP CLASS 56 BALL AND SOCKET JOINTS AND FITTINGS","","","SPECIFY MUNICIPAL STANDARD",1]
["638E20368","FT","SPECIAL - 30\" WATER MAIN DIP CLASS 56 BOLTLESS RESTRAINED JOINTS AND FITTINGS","","","SPECIFY MUNICIPAL STANDARD",1]
["638E20370","FT","SPECIAL - 30\" WATER MAIN DIP CLASS 56 PUSH ON JOINTS AND FITTINGS","","","SPECIFY MUNICIPAL STANDARD",1]
["638E20372","FT","SPECIAL - 36\" WATER MAIN DIP CLASS 52 MECHANICAL JOINTS AND FITTINGS","","","SPECIFY MUNICIPAL STANDARD",1]
["638E20374","FT","SPECIAL - 36\" WATER MAIN DIP CLASS 52 BALL AND SOCKET JOINTS AND FITTINGS","","","SPECIFY MUNICIPAL STANDARD",1]
["638E20376","FT","SPECIAL - 36\" WATER MAIN DIP CLASS 52 BOLTLESS RESTRAINED JOINTS AND FITTINGS","","","SPECIFY MUNICIPAL STANDARD",1]
["638E20378","FT","SPECIAL - 36\" WATER MAIN DIP CLASS 52 PUSH ON JOINTS AND FITTINGS","","","SPECIFY MUNICIPAL STANDARD",1]
["638E20380","FT","SPECIAL - 36\" WATER MAIN DIP CLASS 53 MECHANICAL JOINTS AND FITTINGS","","","SPECIFY MUNICIPAL STANDARD",1]
["638E20382","FT","SPECIAL - 36\" WATER MAIN DIP CLASS 53 BALL AND SOCKET JOINTS AND FITTINGS","","","SPECIFY MUNICIPAL STANDARD",1]
["638E20384","FT","SPECIAL - 36\" WATER MAIN DIP CLASS 53 BOLTLESS RESTRAINED JOINTS AND FITTINGS","","","SPECIFY MUNICIPAL STANDARD",1]
["638E20386","FT","SPECIAL - 36\" WATER MAIN DIP CLASS 53 PUSH ON JOINTS AND FITTINGS","","","SPECIFY MUNICIPAL STANDARD",1]
["638E20388","FT","SPECIAL - 36\" WATER MAIN DIP CLASS 54 MECHANICAL JOINTS AND FITTINGS","","","SPECIFY MUNICIPAL STANDARD",1]
["638E20390","FT","SPECIAL - 36\" WATER MAIN DIP CLASS 54 BALL AND SOCKET JOINTS AND FITTINGS","","","SPECIFY MUNICIPAL STANDARD",1]
["638E20392","FT","SPECIAL - 36\" WATER MAIN DIP CLASS 54 BOLTLESS RESTRAINED JOINTS AND FITTINGS","","","SPECIFY MUNICIPAL STANDARD",1]
["638E20394","FT","SPECIAL - 36\" WATER MAIN DIP CLASS 54 PUSH ON JOINTS AND FITTINGS","","","SPECIFY MUNICIPAL STANDARD",1]
["638E20396","FT","SPECIAL - 36\" WATER MAIN DIP CLASS 55 MECHANICAL JOINTS AND FITTINGS","","","SPECIFY MUNICIPAL STANDARD",1]
["638E20398","FT","SPECIAL - 36\" WATER MAIN DIP CLASS 55 BALL AND SOCKET JOINTS AND FITTINGS","","","SPECIFY MUNICIPAL STANDARD",1]
["638E20400","FT","SPECIAL - 36\" WATER MAIN DIP CLASS 55 BOLTLESS RESTRAINED JOINTS AND FITTINGS","","","SPECIFY MUNICIPAL STANDARD",1]
["638E20404","FT","SPECIAL - 36\" WATER MAIN DIP CLASS 55 PUSH ON JOINTS AND FITTINGS","","","SPECIFY MUNICIPAL STANDARD",1]
["638E20406","FT","SPECIAL - 36\" WATER MAIN DIP CLASS 56 MECHANICAL JOINTS AND FITTINGS","","","SPECIFY MUNICIPAL STANDARD",1]
["638E20408","FT","SPECIAL - 36\" WATER MAIN DIP CLASS 56 BALL AND SOCKET JOINTS AND FITTINGS","","","SPECIFY MUNICIPAL STANDARD",1]
["638E20410","FT","SPECIAL - 36\" WATER MAIN DIP CLASS 56 BOLTLESS RESTRAINED JOINTS AND FITTINGS","","","SPECIFY MUNICIPAL STANDARD",1]
["638E20412","FT","SPECIAL - 36\" WATER MAIN DIP CLASS 56 PUSH ON JOINTS AND FITTINGS","","","SPECIFY MUNICIPAL STANDARD",1]
["638E20414","FT","SPECIAL - 2\" WATER MAIN POLYVINYL CHLORIDE PIPE AND FITTINGS","","","SPECIFY MUNICIPAL STANDARD",1]
["638E20416","FT","SPECIAL - 4\" WATER MAIN POLYVINYL CHLORIDE PIPE AND FITTINGS","","","SPECIFY MUNICIPAL STANDARD",1]
["638E20418","FT","SPECIAL - 6\" WATER MAIN POLYVINYL CHLORIDE PIPE AND FITTINGS","","","SPECIFY MUNICIPAL STANDARD",1]
["638E20420","FT","SPECIAL - 8\" WATER MAIN POLYVINYL CHLORIDE PIPE AND FITTINGS","","","SPECIFY MUNICIPAL STANDARD",1]
["638E20422","FT","SPECIAL - 10\" WATER MAIN POLYVINYL CHLORIDE PIPE AND FITTINGS","","","SPECIFY MUNICIPAL STANDARD",1]
["638E20424","FT","SPECIAL - 12\" WATER MAIN POLYVINYL CHLORIDE PIPE AND FITTINGS","","","SPECIFY MUNICIPAL STANDARD",1]
["638E20426","FT","SPECIAL - 16\" WATER MAIN POLYVINYL CHLORIDE PIPE AND FITTINGS","","","SPECIFY MUNICIPAL STANDARD",1]
["638E20428","FT","SPECIAL - 6\" GALVANIZED STEEL PIPE","","","SPECIFY MUNICIPAL STANDARD",1]
["638E20430","FT","SPECIAL - 8\" GALVANIZED STEEL PIPE","","","SPECIFY MUNICIPAL STANDARD",1]
["638E20432","FT","SPECIAL - 12\" GALVANIZED STEEL PIPE","","","SPECIFY MUNICIPAL STANDARD",1]
["638E20434","FT","SPECIAL - 16\" GALVANIZED STEEL PIPE","","","SPECIFY MUNICIPAL STANDARD",1]
["638E20436","FT","SPECIAL - 24\" GALVANIZED STEEL PIPE","","","SPECIFY MUNICIPAL STANDARD",1]
["638E20438","FT","SPECIAL - 10\" STEEL PIPE ENCASEMENT, BORED OR JACKED","","","SPECIFY MUNICIPAL STANDARD",1]
["638E20442","FT","SPECIAL - 10\" STEEL PIPE ENCASEMENT, OPEN CUT","","","SPECIFY MUNICIPAL STANDARD",1]
["638E20444","FT","SPECIAL - 12\" STEEL PIPE ENCASEMENT, BORED OR JACKED","","","SPECIFY MUNICIPAL STANDARD",1]
["638E20446","FT","SPECIAL - 12\" STEEL PIPE ENCASEMENT, OPEN CUT","","","SPECIFY MUNICIPAL STANDARD",1]
["638E20448","FT","SPECIAL - 14\" STEEL PIPE ENCASEMENT, BORED OR JACKED","","","SPECIFY MUNICIPAL STANDARD",1]
["638E20450","FT","SPECIAL - 14\" STEEL PIPE ENCASEMENT, OPEN CUT","","","SPECIFY MUNICIPAL STANDARD",1]
["638E20452","FT","SPECIAL - 16\" STEEL PIPE ENCASEMENT, BORED OR JACKED","","","SPECIFY MUNICIPAL STANDARD",1]
["638E20454","FT","SPECIAL - 16\" STEEL PIPE ENCASEMENT, OPEN CUT","","","SPECIFY MUNICIPAL STANDARD",1]
["638E20456","FT","SPECIAL - 18\" STEEL PIPE ENCASEMENT, BORED OR JACKED","","","SPECIFY MUNICIPAL STANDARD",1]
["638E20458","FT","SPECIAL - 18\" STEEL PIPE ENCASEMENT, OPEN CUT","","","SPECIFY MUNICIPAL STANDARD",1]
["638E20460","FT","SPECIAL - 20\" STEEL PIPE ENCASEMENT, BORED OR JACKED","","","SPECIFY MUNICIPAL STANDARD",1]
["638E20462","FT","SPECIAL - 20\" STEEL PIPE ENCASEMENT, OPEN CUT","","","SPECIFY MUNICIPAL STANDARD",1]
["638E20464","FT","SPECIAL - 24\" STEEL PIPE ENCASEMENT, BORED OR JACKED","","","SPECIFY MUNICIPAL STANDARD",1]
["638E20466","FT","SPECIAL - 24\" STEEL PIPE ENCASEMENT, OPEN CUT","","","SPECIFY MUNICIPAL STANDARD",1]
["638E20468","FT","SPECIAL - 30\" STEEL PIPE ENCASEMENT, BORED OR JACKED","","","SPECIFY MUNICIPAL STANDARD",1]
["638E20470","FT","SPECIAL - 30\" STEEL PIPE ENCASEMENT, OPEN CUT","","","SPECIFY MUNICIPAL STANDARD",1]
["638E20472","FT","SPECIAL - 36\" STEEL PIPE ENCASEMENT, BORED OR JACKED","","","SPECIFY MUNICIPAL STANDARD",1]
["638E20474","FT","SPECIAL - 36\" STEEL PIPE ENCASEMENT, OPEN CUT","","","SPECIFY MUNICIPAL STANDARD",1]
["638E20476","FT","SPECIAL - 42\" STEEL PIPE ENCASEMENT, BORED OR JACKED","","","SPECIFY MUNICIPAL STANDARD",1]
["638E20478","FT","SPECIAL - 42\" STEEL PIPE ENCASEMENT, OPEN CUT","","","SPECIFY MUNICIPAL STANDARD",1]
["638E20480","FT","SPECIAL - 48\" STEEL PIPE ENCASEMENT, BORED OR JACKED","","","SPECIFY MUNICIPAL STANDARD",1]
["638E20482","FT","SPECIAL - 48\" STEEL PIPE ENCASEMENT, OPEN CUT","","","SPECIFY MUNICIPAL STANDARD",1]
["638E20484","FT","SPECIAL - 56\" STEEL PIPE ENCASEMENT, BORED OR JACKED","","","SPECIFY MUNICIPAL STANDARD",1]
["638E20486","FT","SPECIAL - 56\" STEEL PIPE ENCASEMENT, OPEN CUT","","","SPECIFY MUNICIPAL STANDARD",1]
["638E20488","FT","SPECIAL - 72\" STEEL PIPE ENCASEMENT, BORED OR JACKED","","","SPECIFY MUNICIPAL STANDARD",1]
["638E20490","FT","SPECIAL - 72\" STEEL PIPE ENCASEMENT, OPEN CUT","","","SPECIFY MUNICIPAL STANDARD",1]
["638E20492","FT","SPECIAL - 78\" STEEL PIPE ENCASEMENT, BORED OR JACKED","","","SPECIFY MUNICIPAL STANDARD",1]
["638E20494","FT","SPECIAL - 78\" STEEL PIPE ENCASEMENT, OPEN CUT","","","SPECIFY MUNICIPAL STANDARD",1]
["638E20496","FT","SPECIAL - TEMPORARY BY PASS COMPLETE WITH JOINTS AND FITTINGS","","","SPECIFY MUNICIPAL STANDARD",1]
["638E20498","EACH","SPECIAL - VALVE BOX","","","SPECIFY MUNICIPAL STANDARD",1]
["638E20500","EACH","SPECIAL - VALVE BOX ADJUSTED TO GRADE","","","SPECIFY MUNICIPAL STANDARD",1]
["638E20502","EACH","SPECIAL - VALVE BOX REBUILT TO GRADE","","","SPECIFY MUNICIPAL STANDARD",1]
["638E20504","EACH","SPECIAL - 2\" GATE VALVE","","","SPECIFY MUNICIPAL STANDARD",1]
["638E20506","EACH","SPECIAL - 2\" GATE VALVE WITH VALVE BOX","","","SPECIFY MUNICIPAL STANDARD",1]
["638E20508","EACH","SPECIAL - 2\" INSERTING VALVE","","","SPECIFY MUNICIPAL STANDARD",1]
["638E20510","EACH","SPECIAL - 2\" INSERTING VALVE WITH VALVE BOX","","","SPECIFY MUNICIPAL STANDARD",1]
["638E20512","EACH","SPECIAL - 2\" BUTTERFLY VALVE","","","SPECIFY MUNICIPAL STANDARD",1]
["638E20514","EACH","SPECIAL - 2\" BUTTERFLY VALVE WITH VALVE BOX","","","SPECIFY MUNICIPAL STANDARD",1]
["638E20516","EACH","SPECIAL - 2\" CUTTING IN SLEEVE","","","SPECIFY MUNICIPAL STANDARD",1]
["638E20518","EACH","SPECIAL - 2\" CUTTING IN SLEEVE, VALVE WITH VALVE BOX","","","SPECIFY MUNICIPAL STANDARD",1]
["638E20520","EACH","SPECIAL - 4\" GATE VALVE","","","SPECIFY MUNICIPAL STANDARD",1]
["638E20522","EACH","SPECIAL - 4\" GATE VALVE WITH VALVE BOX","","","SPECIFY MUNICIPAL STANDARD",1]
["638E20524","EACH","SPECIAL - 4\" INSERTING VALVE","","","SPECIFY MUNICIPAL STANDARD",1]
["638E20526","EACH","SPECIAL - 4\" INSERTING VALVE WITH VALVE BOX","","","SPECIFY MUNICIPAL STANDARD",1]
["638E20528","EACH","SPECIAL - 4\" BUTTERFLY VALVE","","","SPECIFY MUNICIPAL STANDARD",1]
["638E20530","EACH","SPECIAL - 4\" BUTTERFLY VALVE WITH VALVE BOX","","","SPECIFY MUNICIPAL STANDARD",1]
["638E20532","EACH","SPECIAL - 4\" CUTTING IN SLEEVE","","","SPECIFY MUNICIPAL STANDARD",1]
["638E20534","EACH","SPECIAL - 4\" CUTTING IN SLEEVE, VALVE WITH VALVE BOX","","","SPECIFY MUNICIPAL STANDARD",1]
["638E20536","EACH","SPECIAL - 6\" GATE VALVE","","","SPECIFY MUNICIPAL STANDARD",1]
["638E20538","EACH","SPECIAL - 6\" GATE VALVE WITH VALVE BOX","","","SPECIFY MUNICIPAL STANDARD",1]
["638E20540","EACH","SPECIAL - 6\" INSERTING VALVE","","","SPECIFY MUNICIPAL STANDARD",1]
["638E20542","EACH","SPECIAL - 6\" INSERTING VALVE WITH VALVE BOX","","","SPECIFY MUNICIPAL STANDARD",1]
["638E20544","EACH","SPECIAL - 6\" BUTTERFLY VALVE","","","SPECIFY MUNICIPAL STANDARD",1]
["638E20546","EACH","SPECIAL - 6\" BUTTERFLY VALVE WITH VALVE BOX","","","SPECIFY MUNICIPAL STANDARD",1]
["638E20548","EACH","SPECIAL - 6\" CUTTING IN SLEEVE","","","SPECIFY MUNICIPAL STANDARD",1]
["638E20550","EACH","SPECIAL - 6\" CUTTING IN SLEEVE, VALVE WITH VALVE BOX","","","SPECIFY MUNICIPAL STANDARD",1]
["638E20552","EACH","SPECIAL - 8\" GATE VALVE","","","SPECIFY MUNICIPAL STANDARD",1]
["638E20554","EACH","SPECIAL - 8\" GATE VALVE WITH VALVE BOX","","","SPECIFY MUNICIPAL STANDARD",1]
["638E20556","EACH","SPECIAL - 8\" INSERTING VALVE","","","SPECIFY MUNICIPAL STANDARD",1]
["638E20558","EACH","SPECIAL - 8\" INSERTING VALVE WITH VALVE BOX","","","SPECIFY MUNICIPAL STANDARD",1]
["638E20560","EACH","SPECIAL - 8\" BUTTERFLY VALVE","","","SPECIFY MUNICIPAL STANDARD",1]
["638E20562","EACH","SPECIAL - 8\" BUTTERFLY VALVE WITH VALVE BOX","","","SPECIFY MUNICIPAL STANDARD",1]
["638E20564","EACH","SPECIAL - 8\" CUTTING IN SLEEVE","","","SPECIFY MUNICIPAL STANDARD",1]
["638E20566","EACH","SPECIAL - 8\" CUTTING IN SLEEVE, VALVE WITH VALVE BOX","","","SPECIFY MUNICIPAL STANDARD",1]
["638E20568","EACH","SPECIAL - 10\" GATE VALVE","","","SPECIFY MUNICIPAL STANDARD",1]
["638E20570","EACH","SPECIAL - 10\" GATE VALVE WITH VALVE BOX","","","SPECIFY MUNICIPAL STANDARD",1]
["638E20572","EACH","SPECIAL - 10\" INSERTING VALVE","","","SPECIFY MUNICIPAL STANDARD",1]
["638E20574","EACH","SPECIAL - 10\" INSERTING VALVE WITH VALVE BOX","","","SPECIFY MUNICIPAL STANDARD",1]
["638E20576","EACH","SPECIAL - 10\" BUTTERFLY VALVE","","","SPECIFY MUNICIPAL STANDARD",1]
["638E20578","EACH","SPECIAL - 10\" BUTTERFLY VALVE WITH VALVE BOX","","","SPECIFY MUNICIPAL STANDARD",1]
["638E20580","EACH","SPECIAL - 10\" CUTTING IN SLEEVE","","","SPECIFY MUNICIPAL STANDARD",1]
["638E20582","EACH","SPECIAL - 10\" CUTTING IN SLEEVE, VALVE WITH VALVE BOX","","","SPECIFY MUNICIPAL STANDARD",1]
["638E20584","EACH","SPECIAL - 12\" GATE VALVE","","","SPECIFY MUNICIPAL STANDARD",1]
["638E20586","EACH","SPECIAL - 12\" GATE VALVE WITH VALVE BOX","","","SPECIFY MUNICIPAL STANDARD",1]
["638E20588","EACH","SPECIAL - 12\" INSERTING VALVE","","","SPECIFY MUNICIPAL STANDARD",1]
["638E20590","EACH","SPECIAL - 12\" INSERTING VALVE WITH VALVE BOX","","","SPECIFY MUNICIPAL STANDARD",1]
["638E20592","EACH","SPECIAL - 12\" BUTTERFLY VALVE","","","SPECIFY MUNICIPAL STANDARD",1]
["638E20594","EACH","SPECIAL - 12\" BUTTERFLY VALVE WITH VALVE BOX","","","SPECIFY MUNICIPAL STANDARD",1]
["638E20596","EACH","SPECIAL - 12\" CUTTING IN SLEEVE","","","SPECIFY MUNICIPAL STANDARD",1]
["638E20598","EACH","SPECIAL - 12\" CUTTING IN SLEEVE, VALVE WITH VALVE BOX","","","SPECIFY MUNICIPAL STANDARD",1]
["638E20602","EACH","SPECIAL - 14\" GATE VALVE","","","SPECIFY MUNICIPAL STANDARD",1]
["638E20604","EACH","SPECIAL - 14\" GATE VALVE WITH VALVE BOX","","","SPECIFY MUNICIPAL STANDARD",1]
["638E20608","EACH","SPECIAL - 14\" INSERTING VALVE","","","SPECIFY MUNICIPAL STANDARD",1]
["638E20610","EACH","SPECIAL - 14\" INSERTING VALVE WITH VALVE BOX","","","SPECIFY MUNICIPAL STANDARD",1]
["638E20612","EACH","SPECIAL - 14\" BUTTERFLY VALVE","","","SPECIFY MUNICIPAL STANDARD",1]
["638E20614","EACH","SPECIAL - 14\" BUTTERFLY VALVE WITH VALVE BOX","","","SPECIFY MUNICIPAL STANDARD",1]
["638E20616","EACH","SPECIAL - 14\" CUTTING IN SLEEVE","","","SPECIFY MUNICIPAL STANDARD",1]
["638E20618","EACH","SPECIAL - 14\" CUTTING IN SLEEVE, VALVE WITH VALVE BOX","","","SPECIFY MUNICIPAL STANDARD",1]
["638E20620","EACH","SPECIAL - 16\" GATE VALVE","","","SPECIFY MUNICIPAL STANDARD",1]
["638E20622","EACH","SPECIAL - 16\" GATE VALVE WITH VALVE BOX","","","SPECIFY MUNICIPAL STANDARD",1]
["638E20624","EACH","SPECIAL - 16\" INSERTING VALVE","","","SPECIFY MUNICIPAL STANDARD",1]
["638E20626","EACH","SPECIAL - 16\" INSERTING VALVE WITH VALVE BOX","","","SPECIFY MUNICIPAL STANDARD",1]
["638E20628","EACH","SPECIAL - 16\" BUTTERFLY VALVE","","","SPECIFY MUNICIPAL STANDARD",1]
["638E20630","EACH","SPECIAL - 16\" BUTTERFLY VALVE WITH VALVE BOX","","","SPECIFY MUNICIPAL STANDARD",1]
["638E20632","EACH","SPECIAL - 16\" CUTTING IN SLEEVE","","","SPECIFY MUNICIPAL STANDARD",1]
["638E20634","EACH","SPECIAL - 16\" CUTTING IN SLEEVE, VALVE WITH VALVE BOX","","","SPECIFY MUNICIPAL STANDARD",1]
["638E20636","EACH","SPECIAL - 18\" GATE VALVE","","","SPECIFY MUNICIPAL STANDARD",1]
["638E20638","EACH","SPECIAL - 18\" GATE VALVE WITH VALVE BOX","","","SPECIFY MUNICIPAL STANDARD",1]
["638E20642","EACH","SPECIAL - 18\" INSERTING VALVE","","","SPECIFY MUNICIPAL STANDARD",1]
["638E20644","EACH","SPECIAL - 18\" INSERTING VALVE WITH VALVE BOX","","","SPECIFY MUNICIPAL STANDARD",1]
["638E20646","EACH","SPECIAL - 18\" BUTTERFLY VALVE","","","SPECIFY MUNICIPAL STANDARD",1]
["638E20648","EACH","SPECIAL - 18\" BUTTERFLY VALVE WITH VALVE BOX","","","SPECIFY MUNICIPAL STANDARD",1]
["638E20652","EACH","SPECIAL - 18\" CUTTING IN SLEEVE","","","SPECIFY MUNICIPAL STANDARD",1]
["638E20654","EACH","SPECIAL - 18\" CUTTING IN SLEEVE, VALVE WITH VALVE BOX","","","SPECIFY MUNICIPAL STANDARD",1]
["638E20656","EACH","SPECIAL - 20\" GATE VALVE","","","SPECIFY MUNICIPAL STANDARD",1]
["638E20658","EACH","SPECIAL - 20\" GATE VALVE WITH VALVE BOX","","","SPECIFY MUNICIPAL STANDARD",1]
["638E20660","EACH","SPECIAL - 20\" INSERTING VALVE","","","SPECIFY MUNICIPAL STANDARD",1]
["638E20662","EACH","SPECIAL - 20\" INSERTING VALVE WITH VALVE BOX","","","SPECIFY MUNICIPAL STANDARD",1]
["638E20664","EACH","SPECIAL - 20\" BUTTERFLY VALVE","","","SPECIFY MUNICIPAL STANDARD",1]
["638E20666","EACH","SPECIAL - 20\" BUTTERFLY VALVE WITH VALVE BOX","","","SPECIFY MUNICIPAL STANDARD",1]
["638E20668","EACH","SPECIAL - 20\" CUTTING IN SLEEVE","","","SPECIFY MUNICIPAL STANDARD",1]
["638E20670","EACH","SPECIAL - 20\" CUTTING IN SLEEVE, VALVE WITH VALVE BOX","","","SPECIFY MUNICIPAL STANDARD",1]
["638E20672","EACH","SPECIAL - 24\" GATE VALVE","","","SPECIFY MUNICIPAL STANDARD",1]
["638E20674","EACH","SPECIAL - 24\" GATE VALVE WITH VALVE BOX","","","SPECIFY MUNICIPAL STANDARD",1]
["638E20676","EACH","SPECIAL - 24\" INSERTING VALVE","","","SPECIFY MUNICIPAL STANDARD",1]
["638E20678","EACH","SPECIAL - 24\" INSERTING VALVE WITH VALVE BOX","","","SPECIFY MUNICIPAL STANDARD",1]
["638E20680","EACH","SPECIAL - 24\" BUTTERFLY VALVE","","","SPECIFY MUNICIPAL STANDARD",1]
["638E20682","EACH","SPECIAL - 24\" BUTTERFLY VALVE WITH VALVE BOX","","","SPECIFY MUNICIPAL STANDARD",1]
["638E20684","EACH","SPECIAL - 24\" CUTTING IN SLEEVE","","","SPECIFY MUNICIPAL STANDARD",1]
["638E20686","EACH","SPECIAL - 24\" CUTTING IN SLEEVE, VALVE WITH VALVE BOX","","","SPECIFY MUNICIPAL STANDARD",1]
["638E20688","EACH","SPECIAL - 4\" X 4\" TAPPING SLEEVE, VALVE AND VALVE BOX","","","SPECIFY MUNICIPAL STANDARD",1]
["638E20690","EACH","SPECIAL - 6\" X 6\" TAPPING SLEEVE, VALVE AND VALVE BOX","","","SPECIFY MUNICIPAL STANDARD",1]
["638E20692","EACH","SPECIAL - 8\" X 6\" TAPPING SLEEVE, VALVE AND VALVE BOX","","","SPECIFY MUNICIPAL STANDARD",1]
["638E20694","EACH","SPECIAL - 8\" X 8\" TAPPING SLEEVE, VALVE AND VALVE BOX","","","SPECIFY MUNICIPAL STANDARD",1]
["638E20696","EACH","SPECIAL - 10\" X 4\" TAPPING SLEEVE, VALVE AND VALVE BOX","","","SPECIFY MUNICIPAL STANDARD",1]
["638E20698","EACH","SPECIAL - 10\" X 6\" TAPPING SLEEVE, VALVE AND VALVE BOX","","","SPECIFY MUNICIPAL STANDARD",1]
["638E20700","EACH","SPECIAL - 10\" X 8\" TAPPING SLEEVE, VALVE AND VALVE BOX","","","SPECIFY MUNICIPAL STANDARD",1]
["638E20702","EACH","SPECIAL - 10\" X 10\" TAPPING SLEEVE, VALVE AND VALVE BOX","","","SPECIFY MUNICIPAL STANDARD",1]
["638E20704","EACH","SPECIAL - 12\" X 4\" TAPPING SLEEVE, VALVE AND VALVE BOX","","","SPECIFY MUNICIPAL STANDARD",1]
["638E20706","EACH","SPECIAL - 12\" X 6\" TAPPING SLEEVE, VALVE AND VALVE BOX","","","SPECIFY MUNICIPAL STANDARD",1]
["638E20708","EACH","SPECIAL - 12\" X 8\" TAPPING SLEEVE, VALVE AND VALVE BOX","","","SPECIFY MUNICIPAL STANDARD",1]
["638E20710","EACH","SPECIAL - 12\" X 10\" TAPPING SLEEVE, VALVE AND VALVE BOX","","","SPECIFY MUNICIPAL STANDARD",1]
["638E20712","EACH","SPECIAL - 12\" X 12\" TAPPING SLEEVE, VALVE AND VALVE BOX","","","SPECIFY MUNICIPAL STANDARD",1]
["638E20714","EACH","SPECIAL - 14\" X 14\" TAPPING SLEEVE, VALVE AND VALVE BOX","","","SPECIFY MUNICIPAL STANDARD",1]
["638E20716","EACH","SPECIAL - 14\" X 6\" TAPPING SLEEVE, VALVE AND VALVE BOX","","","SPECIFY MUNICIPAL STANDARD",1]
["638E20718","EACH","SPECIAL - 16\" X 6\" TAPPING SLEEVE, VALVE AND VALVE BOX","","","SPECIFY MUNICIPAL STANDARD",1]
["638E20720","EACH","SPECIAL - 16\" X 8\" TAPPING SLEEVE, VALVE AND VALVE BOX","","","SPECIFY MUNICIPAL STANDARD",1]
["638E20722","EACH","SPECIAL - 16\" X 10\" TAPPING SLEEVE, VALVE AND VALVE BOX","","","SPECIFY MUNICIPAL STANDARD",1]
["638E20724","EACH","SPECIAL - 16\" X 12\" TAPPING SLEEVE, VALVE AND VALVE BOX","","","SPECIFY MUNICIPAL STANDARD",1]
["638E20726","EACH","SPECIAL - 16\" X 16\" TAPPING SLEEVE, VALVE AND VALVE BOX","","","SPECIFY MUNICIPAL STANDARD",1]
["638E20727","EACH","SPECIAL - 18\" X 18\" TAPPING SLEEVE, VALVE AND VALVE BOX","","","SPECIFY MUNICIPAL STANDARD",1]
["638E20728","EACH","SPECIAL - 20\" X 16\" TAPPING SLEEVE, VALVE AND VALVE BOX","","","SPECIFY MUNICIPAL STANDARD",1]
["638E20730","EACH","SPECIAL - 20\" X 20\" TAPPING SLEEVE, VALVE AND VALVE BOX","","","SPECIFY MUNICIPAL STANDARD",1]
["638E20732","EACH","SPECIAL - 3/4\" AIR RELEASE VALVE","","","SPECIFY MUNICIPAL STANDARD",1]
["638E20734","EACH","SPECIAL - 1\" AIR RELEASE VALVE","","","SPECIFY MUNICIPAL STANDARD",1]
["638E20736","EACH","SPECIAL - 1 1/2\" AIR RELEASE VALVE","","","SPECIFY MUNICIPAL STANDARD",1]
["638E20738","EACH","SPECIAL - 2\" AIR RELEASE VALVE","","","SPECIFY MUNICIPAL STANDARD",1]
["638E20740","EACH","SPECIAL - 3/4\" AIR RELEASE VALVE WITH VALVE BOX","","","SPECIFY MUNICIPAL STANDARD",1]
["638E20742","EACH","SPECIAL - 1\" AIR RELEASE VALVE WITH VALVE BOX","","","SPECIFY MUNICIPAL STANDARD",1]
["638E20744","EACH","SPECIAL - 1 1/2\" AIR RELEASE VALVE WITH VALVE BOX","","","SPECIFY MUNICIPAL STANDARD",1]
["638E20746","EACH","SPECIAL - 2\" AIR RELEASE VALVE WITH VALVE BOX","","","SPECIFY MUNICIPAL STANDARD",1]
["638E20748","EACH","SPECIAL - 4\" FIRE HYDRANT","","","SPECIFY MUNICIPAL STANDARD",1]
["638E20750","EACH","SPECIAL - 6\" FIRE HYDRANT","","","SPECIFY MUNICIPAL STANDARD",1]
["638E20752","EACH","SPECIAL - FIRE HYDRANT REMOVED FOR STORAGE","","","SPECIFY MUNICIPAL STANDARD",1]
["638E20754","EACH","SPECIAL - FIRE HYDRANT REMOVED AND RESET","","","SPECIFY MUNICIPAL STANDARD",1]
["638E20758","EACH","SPECIAL - FIRE HYDRANT ABANDONED","","","SPECIFY MUNICIPAL STANDARD",1]
["638E20760","EACH","SPECIAL - FIRE HYDRANT REMOVED AND DISPOSED OF","","","SPECIFY MUNICIPAL STANDARD",1]
["638E20762","EACH","SPECIAL - FIRE HYDRANT SERVICE LINE EXTENDED AND ADJUSTED TO GRADE","","","SPECIFY MUNICIPAL STANDARD",1]
["638E20764","EACH","SPECIAL - FIRE HYDRANT SERVICE LINE SHORTENED AND ADJUSTED TO GRADE","","","SPECIFY MUNICIPAL STANDARD",1]
["638E20766","FT","SPECIAL - 3/4\" COPPER WATER SERVICE LINE","","","SPECIFY MUNICIPAL STANDARD",1]
["638E20768","FT","SPECIAL - 3/4\" POLYETHYLENE WATER SERVICE LINE","","","SPECIFY MUNICIPAL STANDARD",1]
["638E20770","FT","SPECIAL - 1\" COPPER WATER SERVICE LINE","","","SPECIFY MUNICIPAL STANDARD",1]
["638E20772","FT","SPECIAL - 1\" POLYETHYLENE WATER SERVICE LINE","","","SPECIFY MUNICIPAL STANDARD",1]
["638E20774","FT","SPECIAL - 1 1/2\" COPPER WATER SERVICE LINE","","","SPECIFY MUNICIPAL STANDARD",1]
["638E20776","FT","SPECIAL - 1 1/2\" POLYETHYLENE WATER SERVICE LINE","","","SPECIFY MUNICIPAL STANDARD",1]
["638E20778","FT","SPECIAL - 2\" COPPER WATER SERVICE LINE","","","SPECIFY MUNICIPAL STANDARD",1]
["638E20780","FT","SPECIAL - 2\" POLYETHYLENE WATER SERVICE LINE","","","SPECIFY MUNICIPAL STANDARD",1]
["638E20782","FT","SPECIAL - 2 1/2\" COPPER WATER SERVICE LINE","","","SPECIFY MUNICIPAL STANDARD",1]
["638E20784","FT","SPECIAL - 2 1/2\" POLYETHYLENE WATER SERVICE LINE","","","SPECIFY MUNICIPAL STANDARD",1]
["638E20786","FT","SPECIAL - RETAP AND RECONNECT WATER SERVICE CONNECTION","","","SPECIFY MUNICIPAL STANDARD",1]
["638E20788","FT","SPECIAL - LOWER WATER SERVICE CONNECTION","","","SPECIFY MUNICIPAL STANDARD",1]
["638E20790","FT","SPECIAL - RAISE WATER SERVICE CONNECTION","","","SPECIFY MUNICIPAL STANDARD",1]
["638E20792","FT","SPECIAL - SHORTEN WATER SERVICE CONNECTION","","","SPECIFY MUNICIPAL STANDARD",1]
["638E20794","FT","SPECIAL - REMOVE WATER SERVICE CONNECTION","","","SPECIFY MUNICIPAL STANDARD",1]
["638E20796","FT","SPECIAL - RETAP, RECONNECT AND EXTEND 3/4\" COPPER WATER SERVICE CONNECTION","","","SPECIFY MUNICIPAL STANDARD",1]
["638E20798","FT","SPECIAL - RAISE AND EXTEND 3/4\" COPPER WATER SERVICE CONNECTION","","","SPECIFY MUNICIPAL STANDARD",1]
["638E20800","FT","SPECIAL - LOWER AND EXTEND 3/4\" COPPER WATER SERVICE CONNECTION","","","SPECIFY MUNICIPAL STANDARD",1]
["638E20802","FT","SPECIAL - EXTEND 3/4\" COPPER WATER SERVICE CONNECTION","","","SPECIFY MUNICIPAL STANDARD",1]
["638E20804","FT","SPECIAL - INSTALL 3/4\" COPPER WATER SERVICE CONNECTION","","","SPECIFY MUNICIPAL STANDARD",1]
["638E20806","FT","SPECIAL - RETAP, RECONNECT AND EXTEND 3/4\" POLYETHYLENE WATER SERVICE CONNECTION","","","SPECIFY MUNICIPAL STANDARD",1]
["638E20808","FT","SPECIAL - RAISE AND EXTEND 3/4\" POLYETHYLENE WATER SERVICE CONNECTION","","","SPECIFY MUNICIPAL STANDARD",1]
["638E20810","FT","SPECIAL - LOWER AND EXTEND 3/4\" POLYETHYLENE WATER SERVICE CONNECTION","","","SPECIFY MUNICIPAL STANDARD",1]
["638E20812","FT","SPECIAL - EXTEND 3/4\" POLYETHYLENE WATER SERVICE CONNECTION","","","SPECIFY MUNICIPAL STANDARD",1]
["638E20814","FT","SPECIAL - INSTALL 3/4\" POLYETHYLENE WATER SERVICE CONNECTION","","","SPECIFY MUNICIPAL STANDARD",1]
["638E20816","FT","SPECIAL - RETAP, RECONNECT AND EXTEND 1\" COPPER WATER SERVICE CONNECTION","","","SPECIFY MUNICIPAL STANDARD",1]
["638E20818","FT","SPECIAL - RAISE AND EXTEND 1\" COPPER WATER SERVICE CONNECTION","","","SPECIFY MUNICIPAL STANDARD",1]
["638E20820","FT","SPECIAL - LOWER AND EXTEND 1\" COPPER WATER SERVICE CONNECTION","","","SPECIFY MUNICIPAL STANDARD",1]
["638E20822","FT","SPECIAL - EXTEND 1\" COPPER WATER SERVICE CONNECTION","","","SPECIFY MUNICIPAL STANDARD",1]
["638E20824","FT","SPECIAL - INSTALL 1\" COPPER WATER SERVICE CONNECTION","","","SPECIFY MUNICIPAL STANDARD",1]
["638E20826","FT","SPECIAL - RETAP, RECONNECT AND EXTEND 1\" POLYETHYLENE WATER SERVICE CONNECTION","","","SPECIFY MUNICIPAL STANDARD",1]
["638E20828","FT","SPECIAL - RAISE AND EXTEND 1\" POLYETHYLENE WATER SERVICE CONNECTION","","","SPECIFY MUNICIPAL STANDARD",1]
["638E20830","FT","SPECIAL - LOWER AND EXTEND 1\" POLYETHYLENE WATER SERVICE CONNECTION","","","SPECIFY MUNICIPAL STANDARD",1]
["638E20832","FT","SPECIAL - EXTEND 1\" POLYETHYLENE WATER SERVICE CONNECTION","","","SPECIFY MUNICIPAL STANDARD",1]
["638E20834","FT","SPECIAL - INSTALL 1\" POLYETHYLENE WATER SERVICE CONNECTION","","","SPECIFY MUNICIPAL STANDARD",1]
["638E20836","FT","SPECIAL - RETAP, RECONNECT AND EXTEND 1 1/2\" COPPER WATER SERVICE CONNECTION","","","SPECIFY MUNICIPAL STANDARD",1]
["638E20838","FT","SPECIAL - RAISE AND EXTEND 1 1/2\" COPPER WATER SERVICE CONNECTION","","","SPECIFY MUNICIPAL STANDARD",1]
["638E20840","FT","SPECIAL - LOWER AND EXTEND 1 1/2\" COPPER WATER SERVICE CONNECTION","","","SPECIFY MUNICIPAL STANDARD",1]
["638E20842","FT","SPECIAL - EXTEND 1 1/2\" COPPER WATER SERVICE CONNECTION","","","SPECIFY MUNICIPAL STANDARD",1]
["638E20844","FT","SPECIAL - INSTALL 1 1/2\" COPPER WATER SERVICE CONNECTION","","","SPECIFY MUNICIPAL STANDARD",1]
["638E20846","FT","SPECIAL - RETAP, RECONNECT AND EXTEND 1 1/2\" POLYETHYLENE WATER SERVICE CONNECTION","","","SPECIFY MUNICIPAL STANDARD",1]
["638E20848","FT","SPECIAL - RAISE AND EXTEND 1 1/2\" POLYETHYLENE WATER SERVICE CONNECTION","","","SPECIFY MUNICIPAL STANDARD",1]
["638E20850","FT","SPECIAL - LOWER AND EXTEND 1 1/2\" POLYETHYLENE WATER SERVICE CONNECTION","","","SPECIFY MUNICIPAL STANDARD",1]
["638E20852","FT","SPECIAL - EXTEND 1 1/2\" POLYETHYLENE WATER SERVICE CONNECTION","","","SPECIFY MUNICIPAL STANDARD",1]
["638E20854","FT","SPECIAL - INSTALL 1 1/2\" POLYETHYLENE WATER SERVICE CONNECTION","","","SPECIFY MUNICIPAL STANDARD",1]
["638E20856","FT","SPECIAL - RETAP, RECONNECT AND EXTEND 2\" COPPER WATER SERVICE CONNECTION","","","SPECIFY MUNICIPAL STANDARD",1]
["638E20858","FT","SPECIAL - RAISE AND EXTEND 2\" COPPER WATER SERVICE CONNECTION","","","SPECIFY MUNICIPAL STANDARD",1]
["638E20860","FT","SPECIAL - LOWER AND EXTEND 2\" COPPER WATER SERVICE CONNECTION","","","SPECIFY MUNICIPAL STANDARD",1]
["638E20862","FT","SPECIAL - EXTEND 2\" COPPER WATER SERVICE CONNECTION","","","SPECIFY MUNICIPAL STANDARD",1]
["638E20864","FT","SPECIAL - INSTALL 2\" COPPER WATER SERVICE CONNECTION","","","SPECIFY MUNICIPAL STANDARD",1]
["638E20866","FT","SPECIAL - RETAP, RECONNECT AND EXTEND 2\" POLYETHYLENE WATER SERVICE CONNECTION","","","SPECIFY MUNICIPAL STANDARD",1]
["638E20868","FT","SPECIAL - RAISE AND EXTEND 2\" POLYETHYLENE WATER SERVICE CONNECTION","","","SPECIFY MUNICIPAL STANDARD",1]
["638E20870","FT","SPECIAL - LOWER AND EXTEND 2\" POLYETHYLENE WATER SERVICE CONNECTION","","","SPECIFY MUNICIPAL STANDARD",1]
["638E20872","FT","SPECIAL - EXTEND 2\" POLYETHYLENE WATER SERVICE CONNECTION","","","SPECIFY MUNICIPAL STANDARD",1]
["638E20874","FT","SPECIAL - INSTALL 2\" POLYETHYLENE WATER SERVICE CONNECTION","","","SPECIFY MUNICIPAL STANDARD",1]
["638E20876","EACH","SPECIAL - CUT AND PLUG EXISTING 4\" WATER LINE","","","SPECIFY MUNICIPAL STANDARD",1]
["638E20878","EACH","SPECIAL - CUT AND PLUG EXISTING 6\" WATER LINE","","","SPECIFY MUNICIPAL STANDARD",1]
["638E20880","EACH","SPECIAL - CUT AND PLUG EXISTING 8\" WATER LINE","","","SPECIFY MUNICIPAL STANDARD",1]
["638E20882","EACH","SPECIAL - CUT AND PLUG EXISTING 10\" WATER LINE","","","SPECIFY MUNICIPAL STANDARD",1]
["638E20884","EACH","SPECIAL - CUT AND PLUG EXISTING 12\" WATER LINE","","","SPECIFY MUNICIPAL STANDARD",1]
["638E20886","EACH","SPECIAL - CUT AND PLUG EXISTING 16\" WATER LINE","","","SPECIFY MUNICIPAL STANDARD",1]
["638E20888","EACH","SPECIAL - CUT AND PLUG EXISTING 20\" WATER LINE","","","SPECIFY MUNICIPAL STANDARD",1]
["638E20890","EACH","SPECIAL - CUT AND PLUG EXISTING 24\" WATER LINE","","","SPECIFY MUNICIPAL STANDARD",1]
["638E20892","EACH","SPECIAL - 3/4\" CORPORATION STOP","","","SPECIFY MUNICIPAL STANDARD",1]
["638E20894","EACH","SPECIAL - 1\" CORPORATION STOP","","","SPECIFY MUNICIPAL STANDARD",1]
["638E20896","EACH","SPECIAL - 1 1/2\" CORPORATION STOP","","","SPECIFY MUNICIPAL STANDARD",1]
["638E20902","EACH","SPECIAL - SERVICE BOX ADJUSTED TO GRADE","","","SPECIFY MUNICIPAL STANDARD",1]
["638E20904","EACH","SPECIAL - SERVICE BOX","","","SPECIFY MUNICIPAL STANDARD",1]
["638E20912","EACH","SPECIAL - 1\" CURB VALVE AND BOX","","","SPECIFY MUNICIPAL STANDARD",1]
["638E20914","EACH","SPECIAL - 1 1/2\" CURB VALVE AND BOX","","","SPECIFY MUNICIPAL STANDARD",1]
["638E20916","EACH","SPECIAL - 2\" CURB VALVE AND BOX","","","SPECIFY MUNICIPAL STANDARD",1]
["638E21002","EACH","SPECIAL - INSTALL 1\" METER SETTING, COMPLETE","","","SPECIFY MUNICIPAL STANDARD",1]
["638E21004","EACH","SPECIAL - INSTALL 1-1/2\" METER SETTING, COMPLETE","","","SPECIFY MUNICIPAL STANDARD",1]
["638E21006","EACH","SPECIAL - INSTALL 2\" METER SETTING, COMPLETE","","","SPECIFY MUNICIPAL STANDARD",1]
["638E21012","EACH","SPECIAL - INSTALL 6\" METER SETTING, COMPLETE","","","SPECIFY MUNICIPAL STANDARD",1]
["638E21014","EACH","SPECIAL - INSTALL 8\" METER SETTING, COMPLETE","","","SPECIFY MUNICIPAL STANDARD",1]
["638E21400","EACH","SPECIAL - FIRE HYDRANT ADJUSTED TO GRADE","","","SPECIFY MUNICIPAL STANDARD",1]
["638E21600","EACH","SPECIAL - FIRE HYDRANT AND GATE VALVE REMOVED AND RESET","","","SPECIFY MUNICIPAL STANDARD",1]
["638E30002","MBF","SPECIAL - SHEETING AND BRACING ORDERED LEFT IN PLACE","","","SPECIFY MUNICIPAL STANDARD",1]
["638E98000","EACH","WATER WORK, MISC.:","","","ADD SUPPLEMENTAL DESCRIPTION",1]
["638E98100","LS","WATER WORK, MISC.:","","","ADD SUPPLEMENTAL DESCRIPTION",1]
["638E98600","FT","WATER WORK, MISC.:","","","ADD SUPPLEMENTAL DESCRIPTION",1]
["638E99000","LS","SPECIAL - WATER WORKS","","","DESIGN BUILD PROJECTS ONLY",0]
["640E99000","LS","SPECIAL - PAVEMENT MARKING","","","DESIGN BUILD PROJECTS ONLY",0]
["642E00100","MILE","EDGE LINE, 4\", TYPE 1","","","",0]
["642E00101","MILE","EDGE LINE, 4\", TYPE 1, AS PER PLAN","","","",0]
["642E00104","MILE","EDGE LINE, 6\", TYPE 1","","","",0]
["642E00105","MILE","EDGE LINE, 6\", TYPE 1, AS PER PLAN","","","",0]
["642E00110","MILE","EDGE LINE, 4\", TYPE 1A","","","",0]
["642E00111","MILE","EDGE LINE, 4\", TYPE 1A, AS PER PLAN","","","",0]
["642E00114","MILE","EDGE LINE, 6\", TYPE 1A","","","",0]
["642E00200","MILE","LANE LINE, 4\", TYPE 1","","","",0]
["642E00201","MILE","LANE LINE, 4\", TYPE 1, AS PER PLAN","","","",0]
["642E00204","MILE","LANE LINE, 6\", TYPE 1","","","",0]
["642E00205","MILE","LANE LINE, 6\", TYPE 1, AS PER PLAN","","","",0]
["642E00210","MILE","LANE LINE, 4\", TYPE 1A","","","",0]
["642E00211","MILE","LANE LINE, 4\", TYPE 1A, AS PER PLAN","","","",0]
["642E00214","MILE","LANE LINE, 6\", TYPE 1A","","","",0]
["642E00300","MILE","CENTER LINE, TYPE 1","","","",0]
["642E00301","MILE","CENTER LINE, TYPE 1, AS PER PLAN","","","",0]
["642E00310","MILE","CENTER LINE, TYPE 1A","","","",0]
["642E00311","MILE","CENTER LINE, TYPE 1A, AS PER PLAN","","","",0]
["642E00400","FT","CHANNELIZING LINE, 8\", TYPE 1","","","",0]
["642E00401","FT","CHANNELIZING LINE, 8\", TYPE 1, AS PER PLAN","","","",0]
["642E00404","FT","CHANNELIZING LINE, 12\", TYPE 1","","","",0]
["642E00405","FT","CHANNELIZING LINE, 12\", TYPE 1, AS PER PLAN","","","",0]
["642E00410","FT","CHANNELIZING LINE, 8\", TYPE 1A","","","",0]
["642E00411","FT","CHANNELIZING LINE, 8\", TYPE 1A, AS PER PLAN","","","",0]
["642E00414","FT","CHANNELIZING LINE, 12\", TYPE 1A","","","",0]
["642E00500","FT","STOP LINE, TYPE 1","","","",0]
["642E00501","FT","STOP LINE, TYPE 1, AS PER PLAN","","","",0]
["642E00510","FT","STOP LINE, TYPE 1A","","","",0]
["642E00511","FT","STOP LINE, TYPE 1A, AS PER PLAN","","","",0]
["642E00620","FT","CROSSWALK LINE, 12\", TYPE 1","","","",0]
["642E00621","FT","CROSSWALK LINE, 12\", TYPE 1, AS PER PLAN","","","",0]
["642E00626","FT","CROSSWALK LINE, 18\", TYPE 1","","","",0]
["642E00627","FT","CROSSWALK LINE, 18\", TYPE 1, AS PER PLAN","","","",0]
["642E00630","FT","CROSSWALK LINE, 24\", TYPE 1","","","",0]
["642E00631","FT","CROSSWALK LINE, 24\", TYPE 1, AS PER PLAN","","","",0]
["642E00640","FT","CROSSWALK LINE, 12\", TYPE 1A","","","",0]
["642E00641","FT","CROSSWALK LINE, 12\", TYPE 1A, AS PER PLAN","","","",0]
["642E00650","FT","CROSSWALK LINE, 24\", TYPE 1A","","","",0]
["642E00651","FT","CROSSWALK LINE, 24\", TYPE 1A, AS PER PLAN","","","",0]
["642E00700","FT","TRANSVERSE/DIAGONAL LINE, TYPE 1","","","",0]
["642E00701","FT","TRANSVERSE/DIAGONAL LINE, TYPE 1, AS PER PLAN","","","",0]
["642E00710","FT","TRANSVERSE/DIAGONAL LINE, TYPE 1A","","","",0]
["642E00711","FT","TRANSVERSE/DIAGONAL LINE, TYPE 1A, AS PER PLAN","","","",0]
["642E00720","FT","CHEVRON MARKING, TYPE 1","","","",0]
["642E00721","FT","CHEVRON MARKING, TYPE 1, AS PER PLAN","","","",0]
["642E00730","FT","CHEVRON MARKING, TYPE 1A","","","",0]
["642E00731","FT","CHEVRON MARKING, TYPE 1A, AS PER PLAN","","","",0]
["642E00800","FT","CURB MARKING, TYPE 1","","","",0]
["642E00810","FT","CURB MARKING, TYPE 1A","","","",0]
["642E00900","SF","ISLAND MARKING, TYPE 1","","","",0]
["642E00901","SF","ISLAND MARKING, TYPE 1, AS PER PLAN","","","",0]
["642E00912","SF","ISLAND MARKING, TYPE 1A","","","",0]
["642E00913","SF","ISLAND MARKING, TYPE 1A, AS PER PLAN","","","",0]
["642E01000","EACH","RAILROAD SYMBOL MARKING, TYPE 1","","","",0]
["642E01001","EACH","RAILROAD SYMBOL MARKING, TYPE 1, AS PER PLAN","","","",0]
["642E01010","EACH","RAILROAD SYMBOL MARKING, TYPE 1A","","","",0]
["642E01011","EACH","RAILROAD SYMBOL MARKING, TYPE 1A, AS PER PLAN","","","",0]
["642E01100","EACH","SCHOOL SYMBOL MARKING, 72\", TYPE 1","","","",0]
["642E01106","EACH","SCHOOL SYMBOL MARKING, 72\", TYPE 1A","","","",0]
["642E01110","EACH","SCHOOL SYMBOL MARKING, 96\", TYPE 1","","","",0]
["642E01111","EACH","SCHOOL SYMBOL MARKING, 96\", TYPE 1, AS PER PLAN","","","",0]
["642E01116","EACH","SCHOOL SYMBOL MARKING, 96\", TYPE 1A","","","",0]
["642E01117","EACH","SCHOOL SYMBOL MARKING, 96\", TYPE 1A, AS PER PLAN","","","",0]
["642E01124","EACH","SCHOOL SYMBOL MARKING, 120\", TYPE 1","","","",0]
["642E01125","EACH","SCHOOL SYMBOL MARKING, 120\", TYPE 1, AS PER PLAN","","","",0]
["642E01130","EACH","SCHOOL SYMBOL MARKING, 120\", TYPE 1A","","","",0]
["642E01131","EACH","SCHOOL SYMBOL MARKING, 120\", TYPE 1A, AS PER PLAN","","","",0]
["642E01200","FT","PARKING LOT STALL MARKING, TYPE 1","","","",0]
["642E01201","FT","PARKING LOT STALL MARKING, TYPE 1, AS PER PLAN","","","",0]
["642E01210","FT","PARKING LOT STALL MARKING, TYPE 1A","","","",0]
["642E01211","FT","PARKING LOT STALL MARKING, TYPE 1A, AS PER PLAN","","","",0]
["642E01300","EACH","LANE ARROW, TYPE 1","","","",0]
["642E01301","EACH","LANE ARROW, TYPE 1, AS PER PLAN","","","",0]
["642E01310","EACH","LANE ARROW, TYPE 1A","","","",0]
["642E01311","EACH","LANE ARROW, TYPE 1A, AS PER PLAN","","","",0]
["642E01312","EACH","LANE REDUCTION ARROW, TYPE 1","","","",0]
["642E01313","EACH","LANE REDUCTION ARROW, TYPE 1, AS PER PLAN","","","",0]
["642E01314","EACH","LANE REDUCTION ARROW, TYPE 1A","","","",0]
["642E01315","EACH","LANE REDUCTION ARROW, TYPE 1A, AS PER PLAN","","","",0]
["642E01322","EACH","WRONG WAY ARROW, TYPE 1","","","",0]
["642E01326","EACH","WRONG WAY ARROW, TYPE 1A","","","",0]
["642E01400","EACH","WORD ON PAVEMENT, 72\", TYPE 1","","","",0]
["642E01401","EACH","WORD ON PAVEMENT, 72\", TYPE 1, AS PER PLAN","","","",0]
["642E01406","EACH","WORD ON PAVEMENT, 72\", TYPE 1A","","","",0]
["642E01407","EACH","WORD ON PAVEMENT, 72\", TYPE 1A, AS PER PLAN","","","",0]
["642E01410","EACH","WORD ON PAVEMENT, 96\", TYPE 1","","","",0]
["642E01411","EACH","WORD ON PAVEMENT, 96\", TYPE 1, AS PER PLAN","","","",0]
["642E01420","EACH","WORD ON PAVEMENT, 96\", TYPE 1A","","","",0]
["642E01421","EACH","WORD ON PAVEMENT, 96\", TYPE 1A, AS PER PLAN","","","",0]
["642E01500","FT","DOTTED LINE, 4\", TYPE 1","","","",0]
["642E01501","FT","DOTTED LINE, 4\", TYPE 1, AS PER PLAN","","","",0]
["642E01506","FT","DOTTED LINE, 4\", TYPE 1A","","","",0]
["642E01507","FT","DOTTED LINE, 4\", TYPE 1A, AS PER PLAN","","","",0]
["642E01510","FT","DOTTED LINE, 6\", TYPE 1","","","",0]
["642E01516","FT","DOTTED LINE, 6\", TYPE 1A","","","",0]
["642E01517","FT","DOTTED LINE, 6\", TYPE 1A, AS PER PLAN","","","",0]
["642E01522","FT","DOTTED LINE, 8\", TYPE 1","","","",0]
["642E01523","FT","DOTTED LINE, 8\", TYPE 1, AS PER PLAN","","","",0]
["642E01530","FT","DOTTED LINE, 8\", TYPE 1A","","","",0]
["642E01531","FT","DOTTED LINE, 8\", TYPE 1A, AS PER PLAN","","","",0]
["642E01560","FT","DOTTED LINE, 12\", TYPE 1","","","",0]
["642E01570","FT","DOTTED LINE, 12\", TYPE 1A","","","",0]
["642E01602","EACH","BIKE LANE SYMBOL MARKING, TYPE 1","","","",0]
["642E01610","EACH","BIKE LANE SYMBOL MARKING, TYPE 1A","","","",0]
["642E01650","EACH","BIKE LANE ARROW, TYPE 1","","","",0]
["642E01702","EACH","HANDICAP SYMBOL MARKING, TYPE 1","","","",0]
["642E01703","EACH","HANDICAP SYMBOL MARKING, TYPE 1, AS PER PLAN","","","",0]
["642E01710","EACH","HANDICAP SYMBOL MARKING, TYPE 1A","","","",0]
["642E19000","EACH","SHARED LANE MARKING, TYPE 1","","","",0]
["642E19010","EACH","SHARED LANE MARKING, TYPE 1A","","","",0]
["642E20000","LS","TWO-WAY RADIO EQUIPMENT","","","",0]
["642E20802","FT","YIELD LINE, TYPE 1","","","",0]
["642E20810","FT","YIELD LINE, TYPE 1A","","","",0]
["642E30000","FT","REMOVAL OF PAVEMENT MARKING","","","",0]
["642E30001","FT","REMOVAL OF PAVEMENT MARKING, AS PER PLAN","","","",0]
["642E30010","SF","REMOVAL OF PAVEMENT MARKING","","","",0]
["642E30020","EACH","REMOVAL OF PAVEMENT MARKING","","","",0]
["642E30030","MILE","REMOVAL OF PAVEMENT MARKING","","","",0]
["642E30031","MILE","REMOVAL OF PAVEMENT MARKING, AS PER PLAN","","","",0]
["642E40000","EACH","SPEED MEASUREMENT MARKING","","","",0]
["642E40001","EACH","SPEED MEASUREMENT MARKING, AS PER PLAN","","","",0]
["642E50000","MILE","PAVEMENT MARKING, MISC.:","","","ADD SUPPLEMENTAL DESCRIPTION",1]
["642E50010","EACH","PAVEMENT MARKING, MISC.:","","","ADD SUPPLEMENTAL DESCRIPTION",1]
["642E50020","FT","PAVEMENT MARKING, MISC.:","","","ADD SUPPLEMENTAL DESCRIPTION",1]
["642E50030","SF","PAVEMENT MARKING, MISC.:","","","ADD SUPPLEMENTAL DESCRIPTION",1]
["642E50040","LS","PAVEMENT MARKING, MISC.:","","","ADD SUPPLEMENTAL DESCRIPTION",1]
["642E60000","SF","GREEN COLORED PAVEMENT FOR BIKE LANES,TYPE 1","","","",0]
["642E60010","SF","GREEN COLORED PAVEMENT FOR BIKE LANES,TYPE 1A","","","",0]
["643E00100","MILE","EDGE LINE, 4\"","","","",0]
["643E00101","MILE","EDGE LINE, 4\", AS PER PLAN","","","",0]
["643E00104","MILE","EDGE LINE, 6\"","","","",0]
["643E00105","MILE","EDGE LINE, 6\", AS PER PLAN","","","",0]
["643E00200","MILE","LANE LINE, 4\"","","","",0]
["643E00201","MILE","LANE LINE, 4\", AS PER PLAN","","","",0]
["643E00204","MILE","LANE LINE, 6\"","","","",0]
["643E00205","MILE","LANE LINE, 6\", AS PER PLAN","","","",0]
["643E00300","MILE","CENTER LINE","","","",0]
["643E00301","MILE","CENTER LINE, AS PER PLAN","","","",0]
["643E00400","FT","CHANNELIZING LINE, 8\"","","","",0]
["643E00401","FT","CHANNELIZING LINE, 8\", AS PER PLAN","","","",0]
["643E00404","FT","CHANNELIZING LINE, 12\"","","","",0]
["643E00405","FT","CHANNELIZING LINE, 12\", AS PER PLAN","","","",0]
["643E00500","FT","STOP LINE","","","",0]
["643E00501","FT","STOP LINE, AS PER PLAN","","","",0]
["643E00620","FT","CROSSWALK LINE, 12\"","","","",0]
["643E00621","FT","CROSSWALK LINE, 12\", AS PER PLAN","","","",0]
["643E00630","FT","CROSSWALK LINE, 24\"","","","",0]
["643E00631","FT","CROSSWALK LINE, 24\", AS PER PLAN","","","",0]
["643E00700","FT","TRANSVERSE/DIAGONAL LINE","","","",0]
["643E00701","FT","TRANSVERSE/DIAGONAL LINE, AS PER PLAN","","","",0]
["643E00720","FT","CHEVRON MARKING","","","",0]
["643E00721","FT","CHEVRON MARKING, AS PER PLAN","","","",0]
["643E00800","FT","CURB MARKING","","","",0]
["643E00801","FT","CURB MARKING, AS PER PLAN","","","",0]
["643E00900","SF","ISLAND MARKING","","","",0]
["643E00901","SF","ISLAND MARKING, AS PER PLAN","","","",0]
["643E01000","EACH","RAILROAD SYMBOL MARKING","","","",0]
["643E01001","EACH","RAILROAD SYMBOL MARKING, AS PER PLAN","","","",0]
["643E01100","EACH","SCHOOL SYMBOL MARKING, 72\"","","","",0]
["643E01101","EACH","SCHOOL SYMBOL MARKING, 72\", AS PER PLAN","","","",0]
["643E01110","EACH","SCHOOL SYMBOL MARKING, 96\"","","","",0]
["643E01111","EACH","SCHOOL SYMBOL MARKING, 96\", AS PER PLAN","","","",0]
["643E01120","EACH","SCHOOL SYMBOL MARKING, 120\"","","","",0]
["643E01121","EACH","SCHOOL SYMBOL MARKING, 120\", AS PER PLAN","","","",0]
["643E01200","FT","PARKING LOT STALL MARKING","","","",0]
["643E01201","FT","PARKING LOT STALL MARKING, AS PER PLAN","","","",0]
["643E01300","EACH","LANE ARROW","","","",0]
["643E01301","EACH","LANE ARROW, AS PER PLAN","","","",0]
["643E01310","EACH","WRONG WAY ARROW","","","",0]
["643E01400","EACH","WORD ON PAVEMENT, 72\"","","","",0]
["643E01401","EACH","WORD ON PAVEMENT, 72\", AS PER PLAN","","","",0]
["643E01410","EACH","WORD ON PAVEMENT, 96\"","","","",0]
["643E01411","EACH","WORD ON PAVEMENT, 96\", AS PER PLAN","","","",0]
["643E01500","FT","DOTTED LINE, 4\"","","","",0]
["643E01501","FT","DOTTED LINE, 4\", AS PER PLAN","","","",0]
["643E01510","FT","DOTTED LINE, 6\"","","","",0]
["643E01511","FT","DOTTED LINE, 6\", AS PER PLAN","","","",0]
["643E01550","FT","DOTTED LINE, 12\"","","","",0]
["643E01551","FT","DOTTED LINE, 12\", AS PER PLAN","","","",0]
["643E01600","EACH","HANDICAP SYMBOL MARKING","","","",0]
["643E01601","EACH","HANDICAP SYMBOL MARKING, AS PER PLAN","","","",0]
["643E01602","EACH","BIKE LANE SYMBOL MARKING","","","",0]
["643E19000","EACH","SHARED LANE MARKING","","","",0]
["643E20000","LS","TWO-WAY RADIO EQUIPMENT","","","",0]
["643E20802","FT","YIELD LINE","","","",0]
["643E30000","FT","REMOVAL OF PAVEMENT MARKING","","","",0]
["643E30010","SF","REMOVAL OF PAVEMENT MARKING","","","",0]
["643E30020","EACH","REMOVAL OF PAVEMENT MARKING","","","",0]
["643E30030","MILE","REMOVAL OF PAVEMENT MARKING","","","",0]
["643E40000","EACH","SPEED MEASUREMENT MARKING","","","",0]
["643E40001","EACH","SPEED MEASUREMENT MARKING, AS PER PLAN","","","",0]
["643E50000","MILE","PAVEMENT MARKING, MISC.:","","","ADD SUPPLEMENTAL DESCRIPTION",1]
["643E50100","EACH","PAVEMENT MARKING, MISC.:","","","ADD SUPPLEMENTAL DESCRIPTION",1]
["643E50200","FT","PAVEMENT MARKING, MISC.:","","","ADD SUPPLEMENTAL DESCRIPTION",1]
["643E60000","SF","GREEN COLORED PAVEMENT FOR BIKE LANES","","","",0]
["644E00100","MILE","EDGE LINE, 4\"","","","",0]
["644E00101","MILE","EDGE LINE, 4\", AS PER PLAN","","","",0]
["644E00104","MILE","EDGE LINE, 6\"","","","",0]
["644E00105","MILE","EDGE LINE, 6\", AS PER PLAN","","","",0]
["644E00200","MILE","LANE LINE, 4\"","","","",0]
["644E00201","MILE","LANE LINE, 4\", AS PER PLAN","","","",0]
["644E00204","MILE","LANE LINE, 6\"","","","",0]
["644E00300","MILE","CENTER LINE","","","",0]
["644E00301","MILE","CENTER LINE, AS PER PLAN","","","",0]
["644E00400","FT","CHANNELIZING LINE, 8\"","","","",0]
["644E00401","FT","CHANNELIZING LINE, 8\", AS PER PLAN","","","",0]
["644E00404","FT","CHANNELIZING LINE, 12\"","","","",0]
["644E00405","FT","CHANNELIZING LINE, 12\", AS PER PLAN","","","",0]
["644E00500","FT","STOP LINE","","","",0]
["644E00501","FT","STOP LINE, AS PER PLAN","","","",0]
["644E00620","FT","CROSSWALK LINE, 12\"","","","",0]
["644E00621","FT","CROSSWALK LINE, 12\", AS PER PLAN","","","",0]
["644E00630","FT","CROSSWALK LINE, 24\"","","","",0]
["644E00631","FT","CROSSWALK LINE, 24\", AS PER PLAN","","","",0]
["644E00700","FT","TRANSVERSE/DIAGONAL LINE","","","",0]
["644E00701","FT","TRANSVERSE/DIAGONAL LINE, AS PER PLAN","","","",0]
["644E00720","FT","CHEVRON MARKING","","","",0]
["644E00721","FT","CHEVRON MARKING, AS PER PLAN","","","",0]
["644E00800","FT","CURB MARKING","","","",0]
["644E00900","SF","ISLAND MARKING","","","",0]
["644E00901","SF","ISLAND MARKING, AS PER PLAN","","","",0]
["644E01000","EACH","RAILROAD SYMBOL MARKING","","","",0]
["644E01001","EACH","RAILROAD SYMBOL MARKING, AS PER PLAN","","","",0]
["644E01100","EACH","SCHOOL SYMBOL MARKING, 72\"","","","",0]
["644E01110","EACH","SCHOOL SYMBOL MARKING, 96\"","","","",0]
["644E01111","EACH","SCHOOL SYMBOL MARKING, 96\", AS PER PLAN","","","",0]
["644E01120","EACH","SCHOOL SYMBOL MARKING, 120\"","","","",0]
["644E01121","EACH","SCHOOL SYMBOL MARKING, 120\", AS PER PLAN","","","",0]
["644E01200","FT","PARKING LOT STALL MARKING","","","",0]
["644E01201","FT","PARKING LOT STALL MARKING, AS PER PLAN","","","",0]
["644E01300","EACH","LANE ARROW","","","",0]
["644E01301","EACH","LANE ARROW, AS PER PLAN","","","",0]
["644E01350","EACH","LANE REDUCTION ARROW","","","",0]
["644E01360","EACH","WRONG WAY ARROW","","","",0]
["644E01382","EACH","WORD ON PAVEMENT, 48\"","","","",0]
["644E01383","EACH","WORD ON PAVEMENT, 48\", AS PER PLAN","","","",0]
["644E01400","EACH","WORD ON PAVEMENT, 72\"","","","",0]
["644E01401","EACH","WORD ON PAVEMENT, 72\", AS PER PLAN","","","",0]
["644E01410","EACH","WORD ON PAVEMENT, 96\"","","","",0]
["644E01411","EACH","WORD ON PAVEMENT, 96\", AS PER PLAN","","","",0]
["644E01500","FT","DOTTED LINE, 4\"","","","",0]
["644E01501","FT","DOTTED LINE, 4\", AS PER PLAN","","","",0]
["644E01510","FT","DOTTED LINE, 6\"","","","",0]
["644E01511","FT","DOTTED LINE, 6\", AS PER PLAN","","","",0]
["644E01514","FT","DOTTED LINE, 8\"","","","",0]
["644E01520","FT","DOTTED LINE, 12\"","","","",0]
["644E01600","EACH","HANDICAP SYMBOL MARKING","","","",0]
["644E01601","EACH","HANDICAP SYMBOL MARKING, AS PER PLAN","","","",0]
["644E01620","EACH","BIKE CROSSING SYMBOL","","","",0]
["644E01621","EACH","BIKE CROSSING SYMBOL, AS PER PLAN","","","",0]
["644E01630","EACH","BIKE LANE SYMBOL MARKING","","","",0]
["644E01800","EACH","PREFERENTIAL LANE MARKING","","","",0]
["644E19000","EACH","SHARED LANE MARKING","","","",0]
["644E20000","LS","TWO-WAY RADIO EQUIPMENT","","","",0]
["644E20001","LS","TWO WAY RADIO EQUIPMENT, AS PER PLAN","","","",0]
["644E20800","FT","YIELD LINE","","","",0]
["644E20801","FT","YIELD LINE, AS PER PLAN","","","",0]
["644E30000","FT","REMOVAL OF PAVEMENT MARKING","","","",0]
["644E30010","SF","REMOVAL OF PAVEMENT MARKING","","","",0]
["644E30020","EACH","REMOVAL OF PAVEMENT MARKING","","","",0]
["644E30030","MILE","REMOVAL OF PAVEMENT MARKING","","","",0]
["644E40000","EACH","SPEED MEASUREMENT MARKING","","","",0]
["644E40001","EACH","SPEED MEASUREMENT MARKING, AS PER PLAN","","","",0]
["644E50100","EACH","PAVEMENT MARKING, MISC.:","","","ADD SUPPLEMENTAL DESCRIPTION",1]
["644E50200","SF","PAVEMENT MARKING, MISC.:","","","ADD SUPPLEMENTAL DESCRIPTION",1]
["644E50300","FT","PAVEMENT MARKING, MISC.:","","","ADD SUPPLEMENTAL DESCRIPTION",1]
["644E50400","MILE","PAVEMENT MARKING, MISC.:","","","ADD SUPPLEMENTAL DESCRIPTION",1]
["644E60000","SF","GREEN COLORED PAVEMENT FOR BIKE LANES","","","",0]
["645E00100","MILE","EDGE LINE, 4\", TYPE A1","","","",0]
["645E00102","MILE","EDGE LINE, 4\", TYPE A2","","","",0]
["645E00104","MILE","EDGE LINE, TYPE B","","","",0]
["645E00106","MILE","EDGE LINE, TYPE C","","","",0]
["645E00110","MILE","EDGE LINE, 4\", TYPE A3","","","",0]
["645E00111","MILE","EDGE LINE, 4\", TYPE A3, AS PER PLAN","","","",0]
["645E00112","MILE","EDGE LINE, 6\", TYPE A1","","","",0]
["645E00114","MILE","EDGE LINE, 6\", TYPE A2","","","",0]
["645E00116","MILE","EDGE LINE, 6\", TYPE A3","","","",0]
["645E00117","MILE","EDGE LINE, 6\", TYPE A3, AS PER PLAN","","","",0]
["645E00200","MILE","LANE LINE, 4\", TYPE A1","","","",0]
["645E00202","MILE","LANE LINE, 4\", TYPE A2","","","",0]
["645E00204","MILE","LANE LINE, TYPE B","","","",0]
["645E00206","MILE","LANE LINE, TYPE C","","","",0]
["645E00210","MILE","LANE LINE, 4\", TYPE A3","","","",0]
["645E00211","MILE","LANE LINE, 4\", TYPE A3, AS PER PLAN","","","",0]
["645E00212","MILE","LANE LINE, 6\", TYPE A1","","","",0]
["645E00214","MILE","LANE LINE, 6\", TYPE A2","","","",0]
["645E00216","MILE","LANE LINE, 6\", TYPE A3","","","",0]
["645E00217","MILE","LANE LINE, 6\", TYPE A3, AS PER PLAN","","","",0]
["645E00300","MILE","CENTER LINE, TYPE A1","","","",0]
["645E00302","MILE","CENTER LINE, TYPE A2","","","",0]
["645E00304","MILE","CENTER LINE, TYPE B","","","",0]
["645E00306","MILE","CENTER LINE, TYPE C","","","",0]
["645E00310","MILE","CENTER LINE, TYPE A3","","","",0]
["645E00311","MILE","CENTER LINE, TYPE A3, AS PER PLAN","","","",0]
["645E00400","FT","CHANNELIZING LINE, 8\", TYPE A1","","","",0]
["645E00402","FT","CHANNELIZING LINE, 8\", TYPE A2","","","",0]
["645E00404","FT","CHANNELIZING LINE, TYPE B","","","",0]
["645E00406","FT","CHANNELIZING LINE, TYPE C","","","",0]
["645E00410","FT","CHANNELIZING LINE, 8\", TYPE A3","","","",0]
["645E00411","FT","CHANNELIZING LINE, 8\", TYPE A3, AS PER PLAN","","","",0]
["645E00412","FT","CHANNELIZING LINE, 12\", TYPE A1","","","",0]
["645E00414","FT","CHANNELIZING LINE, 12\", TYPE A2","","","",0]
["645E00416","FT","CHANNELIZING LINE, 12\", TYPE A3","","","",0]
["645E00417","FT","CHANNELIZING LINE, 12\", TYPE A3, AS PER PLAN","","","",0]
["645E00500","FT","STOP LINE, TYPE A1","","","",0]
["645E00502","FT","STOP LINE, TYPE A2","","","",0]
["645E00503","FT","STOP LINE, TYPE A2, AS PER PLAN","","","",0]
["645E00504","FT","STOP LINE, TYPE B","","","",0]
["645E00506","FT","STOP LINE, TYPE C","","","",0]
["645E00510","FT","STOP LINE, TYPE A3","","","",0]
["645E00511","FT","STOP LINE, TYPE A3, AS PER PLAN","","","",0]
["645E00620","FT","CROSSWALK LINE, 12\", TYPE A1","","","",0]
["645E00622","FT","CROSSWALK LINE, 12\", TYPE A2","","","",0]
["645E00624","FT","CROSSWALK LINE, 12\", TYPE A3","","","",0]
["645E00630","FT","CROSSWALK LINE, 12\", TYPE B","","","",0]
["645E00640","FT","CROSSWALK LINE, 12\", TYPE C","","","",0]
["645E00660","FT","CROSSWALK LINE, 24\", TYPE A1","","","",0]
["645E00662","FT","CROSSWALK LINE, 24\", TYPE A2","","","",0]
["645E00664","FT","CROSSWALK LINE, 24\", TYPE A3","","","",0]
["645E00670","FT","CROSSWALK LINE, 24\", TYPE B","","","",0]
["645E00680","FT","CROSSWALK LINE, 24\", TYPE C","","","",0]
["645E00700","FT","TRANSVERSE/DIAGONAL LINE, TYPE A1","","","",0]
["645E00701","FT","TRANSVERSE/DIAGONAL LINE, TYPE A1, AS PER PLAN","","","",0]
["645E00702","FT","TRANSVERSE/DIAGONAL LINE, TYPE A2","","","",0]
["645E00704","FT","TRANSVERSE/DIAGONAL LINE, TYPE B","","","",0]
["645E00706","FT","TRANSVERSE/DIAGONAL LINE, TYPE C","","","",0]
["645E00710","FT","TRANSVERSE/DIAGONAL LINE, TYPE A3","","","",0]
["645E00711","FT","TRANSVERSE/DIAGONAL LINE, TYPE A3, AS PER PLAN","","","",0]
["645E00722","FT","CHEVRON MARKING, TYPE A1","","","",0]
["645E00724","FT","CHEVRON MARKING, TYPE A2","","","",0]
["645E00726","FT","CHEVRON MARKING, TYPE A3","","","",0]
["645E00730","FT","CHEVRON MARKING, TYPE B","","","",0]
["645E00740","FT","CHEVRON MARKING, TYPE C","","","",0]
["645E00800","FT","CURB MARKING, TYPE A1","","","",0]
["645E00802","FT","CURB MARKING, TYPE A2","","","",0]
["645E00804","FT","CURB MARKING, TYPE B","","","",0]
["645E00806","FT","CURB MARKING, TYPE C","","","",0]
["645E00810","FT","CURB MARKING, TYPE A3","","","",0]
["645E00900","SF","ISLAND MARKING, TYPE A1","","","",0]
["645E00902","SF","ISLAND MARKING, TYPE A2","","","",0]
["645E00904","SF","ISLAND MARKING, TYPE B","","","",0]
["645E00906","SF","ISLAND MARKING, TYPE C","","","",0]
["645E00910","SF","ISLAND MARKING, TYPE A3","","","",0]
["645E01000","EACH","RAILROAD SYMBOL MARKING, TYPE A1","","","",0]
["645E01002","EACH","RAILROAD SYMBOL MARKING, TYPE A2","","","",0]
["645E01004","EACH","RAILROAD SYMBOL MARKING, TYPE B","","","",0]
["645E01006","EACH","RAILROAD SYMBOL MARKING, TYPE C","","","",0]
["645E01010","EACH","RAILROAD SYMBOL MARKING, TYPE A3","","","",0]
["645E01100","EACH","SCHOOL SYMBOL MARKING, 72\", TYPE A1","","","",0]
["645E01102","EACH","SCHOOL SYMBOL MARKING, 72\", TYPE A2","","","",0]
["645E01104","EACH","SCHOOL SYMBOL MARKING, 72\", TYPE B","","","",0]
["645E01106","EACH","SCHOOL SYMBOL MARKING, 72\", TYPE C","","","",0]
["645E01110","EACH","SCHOOL SYMBOL MARKING, 96\", TYPE A1","","","",0]
["645E01112","EACH","SCHOOL SYMBOL MARKING, 96\", TYPE A2","","","",0]
["645E01114","EACH","SCHOOL SYMBOL MARKING, 96\", TYPE B","","","",0]
["645E01116","EACH","SCHOOL SYMBOL MARKING, 96\", TYPE C","","","",0]
["645E01120","EACH","SCHOOL SYMBOL MARKING, 72\", TYPE A3","","","",0]
["645E01124","EACH","SCHOOL SYMBOL MARKING, 96\", TYPE A3","","","",0]
["645E01130","EACH","SCHOOL SYMBOL MARKING, 120\", TYPE A1","","","",0]
["645E01132","EACH","SCHOOL SYMBOL MARKING, 120\", TYPE A2","","","",0]
["645E01134","EACH","SCHOOL SYMBOL MARKING, 120\", TYPE A3","","","",0]
["645E01200","FT","PARKING LOT STALL MARKING, TYPE A1","","","",0]
["645E01202","FT","PARKING LOT STALL MARKING, TYPE A2","","","",0]
["645E01204","FT","PARKING LOT STALL MARKING, TYPE B","","","",0]
["645E01206","FT","PARKING LOT STALL MARKING, TYPE C","","","",0]
["645E01210","FT","PARKING LOT STALL MARKING, TYPE A3","","","",0]
["645E01300","EACH","LANE ARROW, TYPE A1","","","",0]
["645E01302","EACH","LANE ARROW, TYPE A2","","","",0]
["645E01304","EACH","LANE ARROW, TYPE B","","","",0]
["645E01306","EACH","LANE ARROW, TYPE C","","","",0]
["645E01310","EACH","LANE ARROW, TYPE A3","","","",0]
["645E01311","EACH","LANE ARROW, TYPE A3, AS PER PLAN","","","",0]
["645E01320","EACH","WRONG WAY ARROW, TYPE A1","","","",0]
["645E01322","EACH","WRONG WAY ARROW, TYPE A2","","","",0]
["645E01324","EACH","WRONG WAY ARROW, TYPE A3","","","",0]
["645E01326","EACH","WRONG WAY ARROW, TYPE B","","","",0]
["645E01328","EACH","WRONG WAY ARROW, TYPE C","","","",0]
["645E01400","EACH","WORD ON PAVEMENT, 72\", TYPE A1","","","",0]
["645E01402","EACH","WORD ON PAVEMENT, 72\", TYPE A2","","","",0]
["645E01404","EACH","WORD ON PAVEMENT, 72\", TYPE B","","","",0]
["645E01406","EACH","WORD ON PAVEMENT, 72\", TYPE C","","","",0]
["645E01410","EACH","WORD ON PAVEMENT, 96\", TYPE A1","","","",0]
["645E01412","EACH","WORD ON PAVEMENT, 96\", TYPE A2","","","",0]
["645E01414","EACH","WORD ON PAVEMENT, 96\", TYPE B","","","",0]
["645E01416","EACH","WORD ON PAVEMENT, 96\", TYPE C","","","",0]
["645E01420","EACH","WORD ON PAVEMENT, 72\", TYPE A3","","","",0]
["645E01421","EACH","WORD ON PAVEMENT, 72\", TYPE A3, AS PER PLAN","","","",0]
["645E01424","EACH","WORD ON PAVEMENT, 96\", TYPE A3","","","",0]
["645E01480","FT","DOTTED LINE, 4\", TYPE A3","","","",0]
["645E01481","FT","DOTTED LINE, 4\", TYPE A3, AS PER PLAN","","","",0]
["645E01500","FT","DOTTED LINE, 4\", TYPE A1","","","",0]
["645E01502","FT","DOTTED LINE, 4\", TYPE A2","","","",0]
["645E01504","FT","DOTTED LINE, 4\", TYPE B","","","",0]
["645E01506","FT","DOTTED LINE, 4\", TYPE C","","","",0]
["645E01510","FT","DOTTED LINE, 6\", TYPE A1","","","",0]
["645E01512","FT","DOTTED LINE, 6\", TYPE A2","","","",0]
["645E01514","FT","DOTTED LINE, 6\", TYPE B","","","",0]
["645E01516","FT","DOTTED LINE, 6\", TYPE C","","","",0]
["645E01520","FT","DOTTED LINE, 6\", TYPE A3","","","",0]
["645E01560","FT","DOTTED LINE, 12\", TYPE A1","","","",0]
["645E01562","FT","DOTTED LINE, 12\", TYPE A2","","","",0]
["645E01564","FT","DOTTED LINE, 12\", TYPE A3","","","",0]
["645E01565","FT","DOTTED LINE, 12\", TYPE A3, AS PER PLAN","","","",0]
["645E01602","EACH","HANDICAP SYMBOL MARKING, TYPE A1","","","",0]
["645E01604","EACH","HANDICAP SYMBOL MARKING, TYPE A2","","","",0]
["645E01606","EACH","HANDICAP SYMBOL MARKING, TYPE B","","","",0]
["645E01608","EACH","HANDICAP SYMBOL MARKING, TYPE C","","","",0]
["645E01610","EACH","HANDICAP SYMBOL MARKING, TYPE A3","","","",0]
["645E01620","EACH","BIKE CROSSING SYMBOL, TYPE A1","","","",0]
["645E01622","EACH","BIKE CROSSING SYMBOL, TYPE A2","","","",0]
["645E01624","EACH","BIKE CROSSING SYMBOL, TYPE A3","","","",0]
["645E01626","EACH","BIKE CROSSING SYMBOL, TYPE B","","","",0]
["645E01628","EACH","BIKE CROSSING SYMBOL, TYPE C","","","",0]
["645E01640","EACH","BIKE LANE SYMBOL MARKING, TYPE A1","","","",0]
["645E01642","EACH","BIKE LANE SYMBOL MARKING, TYPE A2","","","",0]
["645E01644","EACH","BIKE LANE SYMBOL MARKING, TYPE A3","","","",0]
["645E01646","EACH","BIKE LANE SYMBOL MARKING, TYPE B","","","",0]
["645E01648","EACH","BIKE LANE SYMBOL MARKING, TYPE C","","","",0]
["645E01700","EACH","SHARED LANE MARKING, TYPE A1","","","",0]
["645E01702","EACH","SHARED LANE MARKING, TYPE A2","","","",0]
["645E01704","EACH","SHARED LANE MARKING, TYPE A3","","","",0]
["645E01706","EACH","SHARED LANE MARKING, TYPE B","","","",0]
["645E01708","EACH","SHARED LANE MARKING, TYPE C","","","",0]
["645E01800","FT","YIELD LINE, TYPE A1","","","",0]
["645E01802","FT","YIELD LINE, TYPE A2","","","",0]
["645E01804","FT","YIELD LINE, TYPE A3","","","",0]
["645E01806","FT","YIELD LINE, TYPE B","","","",0]
["645E01808","FT","YIELD LINE, TYPE C","","","",0]
["645E20000","LS","TWO-WAY RADIO EQUIPMENT","","","",0]
["645E30000","FT","REMOVAL OF PAVEMENT MARKINGS","","","",0]
["645E30010","EACH","REMOVAL OF PAVEMENT MARKINGS","","","",0]
["645E30011","EACH","REMOVAL OF PAVEMENT MARKINGS, AS PER PLAN","","","",0]
["645E30020","SF","REMOVAL OF PAVEMENT MARKINGS","","","",0]
["645E40000","EACH","SPEED MEASUREMENT MARKING","","","",0]
["645E40001","EACH","SPEED MEASUREMENT MARKING, AS PER PLAN","","","",0]
["645E60000","SF","GREEN COLORED PAVEMENT FOR BIKE LANES, TYPE A1","","","",0]
["645E60010","SF","GREEN COLORED PAVEMENT FOR BIKE LANES, TYPE A2","","","",0]
["645E60020","SF","GREEN COLORED PAVEMENT FOR BIKE LANES, TYPE A3","","","",0]
["645E90000","MILE","PAVEMENT MARKING, MISC.","","","ADD SUPPLEMENTAL DESCRIPTION",1]
["645E98000","FT","PAVEMENT MARKING, MISC.","","","ADD SUPPLEMENTAL DESCRIPTION",1]
["645E98010","EACH","PAVEMENT MARKING, MISC.","","","ADD SUPPLEMENTAL DESCRIPTION",1]
["646E10000","MILE","EDGE LINE, 4\"","","","",0]
["646E10001","MILE","EDGE LINE, 4\", AS PER PLAN","","","",0]
["646E10010","MILE","EDGE LINE, 6\"","","","",0]
["646E10011","MILE","EDGE LINE, 6\", AS PER PLAN","","","",0]
["646E10100","MILE","LANE LINE, 4\"","","","",0]
["646E10101","MILE","LANE LINE, 4\", AS PER PLAN","","","",0]
["646E10110","MILE","LANE LINE, 6\"","","","",0]
["646E10111","MILE","LANE LINE, 6\", AS PER PLAN","","","",0]
["646E10200","MILE","CENTER LINE","","","",0]
["646E10201","MILE","CENTER LINE, AS PER PLAN","","","",0]
["646E10300","FT","CHANNELIZING LINE, 8\"","","","",0]
["646E10301","FT","CHANNELIZING LINE, 8\", AS PER PLAN","","","",0]
["646E10310","FT","CHANNELIZING LINE, 12\"","","","",0]
["646E10311","FT","CHANNELIZING LINE, 12\", AS PER PLAN","","","",0]
["646E10400","FT","STOP LINE","","","",0]
["646E10401","FT","STOP LINE, AS PER PLAN","","","",0]
["646E10510","FT","CROSSWALK LINE, 12\"","","","",0]
["646E10511","FT","CROSSWALK LINE, 12\", AS PER PLAN","","","",0]
["646E10516","FT","CROSSWALK LINE, 18\"","","","",0]
["646E10517","FT","CROSSWALK LINE, 18\", AS PER PLAN","","","",0]
["646E10520","FT","CROSSWALK LINE, 24\"","","","",0]
["646E10521","FT","CROSSWALK LINE, 24\", AS PER PLAN","","","",0]
["646E10600","FT","TRANSVERSE/DIAGONAL LINE","","","",0]
["646E10601","FT","TRANSVERSE/DIAGONAL LINE, AS PER PLAN","","","",0]
["646E10620","FT","CHEVRON MARKING","","","",0]
["646E10621","FT","CHEVRON MARKING, AS PER PLAN","","","",0]
["646E10700","FT","CURB MARKING","","","",0]
["646E10701","FT","CURB MARKING, AS PER PLAN","","","",0]
["646E10800","SF","ISLAND MARKING","","","",0]
["646E10801","SF","ISLAND MARKING, AS PER PLAN","","","",0]
["646E10900","EACH","HANDICAP SYMBOL MARKING","","","",0]
["646E10901","EACH","HANDICAP SYMBOL MARKING, AS PER PLAN","","","",0]
["646E20000","EACH","RAILROAD SYMBOL MARKING","","","",0]
["646E20001","EACH","RAILROAD SYMBOL MARKING, AS PER PLAN","","","",0]
["646E20100","EACH","SCHOOL SYMBOL MARKING, 72\"","","","",0]
["646E20101","EACH","SCHOOL SYMBOL MARKING, 72\", AS PER PLAN","","","",0]
["646E20110","EACH","SCHOOL SYMBOL MARKING, 96\"","","","",0]
["646E20111","EACH","SCHOOL SYMBOL MARKING, 96\", AS PER PLAN","","","",0]
["646E20120","EACH","SCHOOL SYMBOL MARKING, 120\"","","","",0]
["646E20121","EACH","SCHOOL SYMBOL MARKING, 120\", AS PER PLAN","","","",0]
["646E20200","FT","PARKING LOT STALL MARKING","","","",0]
["646E20201","FT","PARKING LOT STALL MARKING, AS PER PLAN","","","",0]
["646E20300","EACH","LANE ARROW","","","",0]
["646E20301","EACH","LANE ARROW, AS PER PLAN","","","",0]
["646E20320","EACH","WRONG WAY ARROW","","","",0]
["646E20350","EACH","LANE REDUCTION ARROW","","","",0]
["646E20400","EACH","WORD ON PAVEMENT, 72\"","","","",0]
["646E20401","EACH","WORD ON PAVEMENT, 72\", AS PER PLAN","","","",0]
["646E20410","EACH","WORD ON PAVEMENT, 96\"","","","",0]
["646E20411","EACH","WORD ON PAVEMENT, 96\", AS PER PLAN","","","",0]
["646E20500","FT","DOTTED LINE","","","",0]
["646E20501","FT","DOTTED LINE, AS PER PLAN","","","",0]
["646E20502","FT","DOTTED LINE, 4\"","","","",0]
["646E20504","FT","DOTTED LINE, 6\"","","","",0]
["646E20506","FT","DOTTED LINE, 8\"","","","",0]
["646E20510","FT","DOTTED LINE, 12\"","","","",0]
["646E20520","FT","DOTTED LINE, 24\"","","","",0]
["646E20600","EACH","BIKE LANE SYMBOL MARKING","","","",0]
["646E20650","EACH","SHARED LANE MARKING","","","",0]
["646E20710","EACH","SPEED MEASUREMENT MARKING","","","",0]
["646E20711","EACH","SPEED MEASUREMENT MARKING, AS PER PLAN","","","",0]
["646E20800","FT","YIELD LINE","","","",0]
["646E50000","EACH","REMOVAL OF PAVEMENT MARKING","","","",0]
["646E50100","FT","REMOVAL OF PAVEMENT MARKING","","","",0]
["646E50101","FT","REMOVAL OF PAVEMENT MARKING, AS PER PLAN","","","",0]
["646E50200","SF","REMOVAL OF PAVEMENT MARKING","","","",0]
["646E50300","MILE","REMOVAL OF PAVEMENT MARKING","","","",0]
["646E50301","MILE","REMOVAL OF PAVEMENT MARKING, AS PER PLAN","","","",0]
["646E60000","LS","TWO-WAY RADIO EQUIPMENT","","","",0]
["646E60001","LS","TWO-WAY RADIO EQUIPMENT, AS PER PLAN","","","",0]
["646E60100","SF","GREEN COLORED PAVEMENT FOR BIKE LANES","","","",0]
["646E90000","FT","PAVEMENT MARKING, MISC.:","","","ADD SUPPLEMENTAL DESCRIPTION",1]
["646E90010","MILE","PAVEMENT MARKING, MISC.:","","","ADD SUPPLEMENTAL DESCRIPTION",1]
["646E98000","EACH","PAVEMENT MARKING, MISC.:","","","ADD SUPPLEMENTAL DESCRIPTION",1]
["647E18000","FT","CHANNELIZING LINE, 8\", TYPE A90","","","",0]
["647E18002","FT","CHANNELIZING LINE, 8\", TYPE A125","","","",0]
["647E18004","FT","CHANNELIZING LINE, 12\", TYPE A90","","","",0]
["647E18006","FT","CHANNELIZING LINE, 12\", TYPE A125","","","",0]
["647E18010","FT","CHANNELIZING LINE, 8\", TYPE B90","","","",0]
["647E18012","FT","CHANNELIZING LINE, 8\", TYPE B125","","","",0]
["647E18013","FT","CHANNELIZING LINE, 8\", TYPE B125, AS PER PLAN","","","",0]
["647E18014","FT","CHANNELIZING LINE, 12\", TYPE B90","","","",0]
["647E18016","FT","CHANNELIZING LINE, 12\", TYPE B125","","","",0]
["647E18050","FT","STOP LINE, TYPE A90","","","",0]
["647E18052","FT","STOP LINE, TYPE A125","","","",0]
["647E18060","FT","STOP LINE, TYPE B90","","","",0]
["647E18062","FT","STOP LINE, TYPE B125","","","",0]
["647E20020","FT","CROSSWALK LINE, 12\", TYPE A90","","","",0]
["647E20026","FT","CROSSWALK LINE, 12\", TYPE A125","","","",0]
["647E20030","FT","CROSSWALK LINE, 12\", TYPE B90","","","",0]
["647E20036","FT","CROSSWALK LINE, 12\", TYPE B125","","","",0]
["647E20070","FT","CROSSWALK LINE, 24\", TYPE A90","","","",0]
["647E20076","FT","CROSSWALK LINE, 24\", TYPE A125","","","",0]
["647E20080","FT","CROSSWALK LINE, 24\", TYPE B90","","","",0]
["647E20086","FT","CROSSWALK LINE, 24\", TYPE B125","","","",0]
["647E20100","FT","TRANSVERSE/DIAGONAL LINE, TYPE A90","","","",0]
["647E20102","FT","TRANSVERSE/DIAGONAL LINE, TYPE A125","","","",0]
["647E20110","FT","TRANSVERSE/DIAGONAL LINE, TYPE B90","","","",0]
["647E20112","FT","TRANSVERSE/DIAGONAL LINE, TYPE B125","","","",0]
["647E20120","FT","CHEVRON MARKING, TYPE A90","","","",0]
["647E20122","FT","CHEVRON MARKING, TYPE A125","","","",0]
["647E20130","FT","CHEVRON MARKING, TYPE B90","","","",0]
["647E20132","FT","CHEVRON MARKING, TYPE B125","","","",0]
["647E20200","EACH","HANDICAP SYMBOL MARKING, TYPE A90","","","",0]
["647E20202","EACH","HANDICAP SYMBOL MARKING, TYPE A125","","","",0]
["647E20210","EACH","HANDICAP SYMBOL MARKING, TYPE B90","","","",0]
["647E20212","EACH","HANDICAP SYMBOL MARKING, TYPE B125","","","",0]
["647E20300","EACH","RAILROAD SYMBOL MARKING, TYPE A90","","","",0]
["647E20302","EACH","RAILROAD SYMBOL MARKING, TYPE A125","","","",0]
["647E20310","EACH","RAILROAD SYMBOL MARKING, TYPE B90","","","",0]
["647E20312","EACH","RAILROAD SYMBOL MARKING, TYPE B125","","","",0]
["647E20400","EACH","SCHOOL SYMBOL MARKING, 72\", TYPE A90","","","",0]
["647E20402","EACH","SCHOOL SYMBOL MARKING, 72\", TYPE A125","","","",0]
["647E20410","EACH","SCHOOL SYMBOL MARKING, 72\", TYPE B90","","","",0]
["647E20412","EACH","SCHOOL SYMBOL MARKING, 72\", TYPE B125","","","",0]
["647E20430","EACH","SCHOOL SYMBOL MARKING, 96\", TYPE A90","","","",0]
["647E20432","EACH","SCHOOL SYMBOL MARKING, 96\", TYPE A125","","","",0]
["647E20440","EACH","SCHOOL SYMBOL MARKING, 96\", TYPE B90","","","",0]
["647E20442","EACH","SCHOOL SYMBOL MARKING, 96\", TYPE B125","","","",0]
["647E20460","EACH","SCHOOL SYMBOL MARKING, 120\", TYPE A90","","","",0]
["647E20462","EACH","SCHOOL SYMBOL MARKING, 120\", TYPE A125","","","",0]
["647E20470","EACH","SCHOOL SYMBOL MARKING, 120\", TYPE B90","","","",0]
["647E20472","EACH","SCHOOL SYMBOL MARKING, 120\", TYPE B125","","","",0]
["647E20500","FT","PARKING LOT STALL MARKING, TYPE A90","","","",0]
["647E20502","FT","PARKING LOT STALL MARKING, TYPE A125","","","",0]
["647E20510","FT","PARKING LOT STALL MARKING, TYPE B90","","","",0]
["647E20512","FT","PARKING LOT STALL MARKING, TYPE B125","","","",0]
["647E20600","EACH","LANE ARROW, TYPE A90","","","",0]
["647E20602","EACH","LANE ARROW, TYPE A125","","","",0]
["647E20610","EACH","LANE ARROW, TYPE B90","","","",0]
["647E20612","EACH","LANE ARROW, TYPE B125","","","",0]
["647E20620","EACH","WRONG WAY ARROW","","","",0]
["647E20640","EACH","LANE REDUCTION ARROW, TYPE A90","","","",0]
["647E20642","EACH","LANE REDUCTION ARROW, TYPE A125","","","",0]
["647E20650","EACH","LANE REDUCTION ARROW, TYPE B90","","","",0]
["647E20652","EACH","LANE REDUCTION ARROW, TYPE B125","","","",0]
["647E20700","EACH","WORD ON PAVEMENT, 72\", TYPE A90","","","",0]
["647E20702","EACH","WORD ON PAVEMENT, 72\", TYPE A125","","","",0]
["647E20710","EACH","WORD ON PAVEMENT, 72\", TYPE B90","","","",0]
["647E20712","EACH","WORD ON PAVEMENT, 72\", TYPE B125","","","",0]
["647E20730","EACH","WORD ON PAVEMENT, 96\", TYPE A90","","","",0]
["647E20732","EACH","WORD ON PAVEMENT, 96\", TYPE A125","","","",0]
["647E20740","EACH","WORD ON PAVEMENT, 96\", TYPE B90","","","",0]
["647E20742","EACH","WORD ON PAVEMENT, 96\", TYPE B125","","","",0]
["647E20800","FT","DOTTED LINE, 4\", TYPE A90","","","",0]
["647E20802","FT","DOTTED LINE, 4\", TYPE A125","","","",0]
["647E20810","FT","DOTTED LINE, 4\", TYPE B90","","","",0]
["647E20812","FT","DOTTED LINE, 4\", TYPE B125","","","",0]
["647E20880","FT","DOTTED LINE, 12\", TYPE A90","","","",0]
["647E20882","FT","DOTTED LINE, 12\", TYPE A125","","","",0]
["647E20890","FT","DOTTED LINE, 12\", TYPE B90","","","",0]
["647E20892","FT","DOTTED LINE, 12\", TYPE B125","","","",0]
["647E20900","EACH","BIKE LANE SYMBOL MARKING, TYPE A90","","","",0]
["647E20902","EACH","BIKE LANE SYMBOL MARKING, TYPE A125","","","",0]
["647E20910","EACH","BIKE LANE SYMBOL MARKING, TYPE B90","","","",0]
["647E20912","EACH","BIKE LANE SYMBOL MARKING, TYPE B125","","","",0]
["647E20930","EACH","SHARED LANE MARKING, TYPE A90","","","",0]
["647E20932","EACH","SHARED LANE MARKING, TYPE A125","","","",0]
["647E20940","EACH","SHARED LANE MARKING, TYPE B90","","","",0]
["647E20942","EACH","SHARED LANE MARKING, TYPE B125","","","",0]
["647E20960","FT","YIELD LINE, TYPE A90","","","",0]
["647E20962","FT","YIELD LINE, TYPE A125","","","",0]
["647E20970","FT","YIELD LINE, TYPE B90","","","",0]
["647E20972","FT","YIELD LINE, TYPE B125","","","",0]
["647E21012","EACH","SPEED MEASUREMENT MARKING, TYPE B125","","","",0]
["647E21013","EACH","SPEED MEASUREMENT MARKING, TYPE B125, AS PER PLAN","","","",0]
["647E50000","FT","REMOVAL OF PAVEMENT MARKING","","","",0]
["647E50010","EACH","REMOVAL OF PAVEMENT MARKING","","","",0]
["647E50020","SF","REMOVAL OF PAVEMENT MARKING","","","",0]
["647E50100","EACH","PAVEMENT MARKING, MISC.:","","","ADD SUPPLEMENTAL DESCRIPTION",1]
["647E50110","SF","PAVEMENT MARKING, MISC.:","","","ADD SUPPLEMENTAL DESCRIPTION",1]
["647E50120","FT","PAVEMENT MARKING, MISC.:","","","ADD SUPPLEMENTAL DESCRIPTION",1]
["647E50130","MILE","PAVEMENT MARKING, MISC.:","","","ADD SUPPLEMENTAL DESCRIPTION",1]
["647E60000","SF","GREEN COLORED PAVEMENT FOR BIKE LANES,TYPE A90","","","",0]
["647E60010","SF","GREEN COLORED PAVEMENT FOR BIKE LANES,TYPE A125","","","",0]
["647E60020","SF","GREEN COLORED PAVEMENT FOR BIKE LANES,TYPE B90","","","",0]
["647E60030","SF","GREEN COLORED PAVEMENT FOR BIKE LANES,TYPE B125","","","",0]
["648E00100","MILE","EDGE LINE, 4\"","","","",0]
["648E00101","MILE","EDGE LINE, 4\", AS PER PLAN","","","",0]
["648E00104","MILE","EDGE LINE, 6\"","","","",0]
["648E00105","MILE","EDGE LINE, 6\", AS PER PLAN","","","",0]
["648E00200","MILE","LANE LINE, 4\"","","","",0]
["648E00201","MILE","LANE LINE, 4\", AS PER PLAN","","","",0]
["648E00204","MILE","LANE LINE, 6\"","","","",0]
["648E00205","MILE","LANE LINE, 6\", AS PER PLAN","","","",0]
["648E00300","MILE","CENTER LINE","","","",0]
["648E00301","MILE","CENTER LINE, AS PER PLAN","","","",0]
["648E00400","FT","CHANNELIZING LINE, 8\"","","","",0]
["648E00401","FT","CHANNELIZING LINE, 8\", AS PER PLAN","","","",0]
["648E00404","FT","CHANNELIZING LINE, 12\"","","","",0]
["648E00405","FT","CHANNELIZING LINE, 12\", AS PER PLAN","","","",0]
["648E01500","FT","DOTTED LINE, 4\"","","","",0]
["648E01501","FT","DOTTED LINE, 4\", AS PER PLAN","","","",0]
["648E01502","FT","DOTTED LINE, 5\"","","","",0]
["648E01503","FT","DOTTED LINE, 5\", AS PER PLAN","","","",0]
["648E01510","FT","DOTTED LINE, 6\"","","","",0]
["648E01511","FT","DOTTED LINE, 6\", AS PER PLAN","","","",0]
["648E01514","FT","DOTTED LINE, 8\"","","","",0]
["648E01515","FT","DOTTED LINE, 8\", AS PER PLAN","","","",0]
["648E01520","FT","DOTTED LINE, 12\"","","","",0]
["648E01521","FT","DOTTED LINE, 12\", AS PER PLAN","","","",0]
["648E20000","LS","TWO - WAY RADIO EQUIPMENT","","","",0]
["648E30000","FT","REMOVAL OF PAVEMENT MARKING","","","",0]
["648E30010","SF","REMOVAL OF PAVEMENT MARKING","","","",0]
["648E30020","EACH","REMOVAL OF PAVEMENT MARKING","","","",0]
["648E30030","MILE","REMOVAL OF PAVEMENT MARKING","","","",0]
["648E60000","SF","GREEN COLORED PAVEMENT FOR BIKE LANES","","","",0]
["651E10000","CY","TOPSOIL STOCKPILED","","","",0]
["651E10001","CY","TOPSOIL STOCKPILED, AS PER PLAN","","","",0]
["652E10000","CY","PLACING STOCKPILED TOPSOIL","","","",0]
["652E10001","CY","PLACING STOCKPILED TOPSOIL, AS PER PLAN","","","",0]
["653E10000","CY","TOPSOIL FURNISHED AND PLACED","","","",0]
["653E10001","CY","TOPSOIL FURNISHED AND PLACED, AS PER PLAN","","","",0]
["654E10000","MSF","RENOVATING EXISTING SOIL","","","",0]
["654E10001","MSF","RENOVATING EXISTING SOIL, AS PER PLAN","","","",0]
["654E11000","TON","COMMERCIAL FERTILIZER","","","",0]
["654E11001","TON","COMMERCIAL FERTILIZER, AS PER PLAN","","","",0]
["656E10000","MSF","ROADSIDE CLEANUP","","","",0]
["656E10001","MSF","ROADSIDE CLEANUP, AS PER PLAN","","","",0]
["657E10000","SY","RIPRAP FOR TREE PROTECTION","","","",0]
["657E10001","SY","RIPRAP FOR TREE PROTECTION, AS PER PLAN","","","",0]
["657E98000","SY","RIPRAP, MISC.:","","","ADD SUPPLEMENTAL DESCRIPTION",1]
["658E10000","CY","TREE ROOT AERATION","","","",0]
["658E10001","CY","TREE ROOT AERATION, AS PER PLAN","","","",0]
["659E00100","EACH","SOIL ANALYSIS TEST","","","",0]
["659E00300","CY","TOPSOIL","","","",0]
["659E00301","CY","TOPSOIL, AS PER PLAN","","","",0]
["659E00500","SY","SEEDING AND MULCHING, CLASS 1","","","",0]
["659E00501","SY","SEEDING AND MULCHING, CLASS 1, AS PER PLAN","","","",0]
["659E00510","SY","SEEDING AND MULCHING, CLASS 2","","","",0]
["659E00511","SY","SEEDING AND MULCHING, CLASS 2, AS PER PLAN","","","",0]
["659E00520","SY","SEEDING AND MULCHING, CLASS 3A","","","",0]
["659E00530","SY","SEEDING AND MULCHING, CLASS 3B","","","",0]
["659E00531","SY","SEEDING AND MULCHING, CLASS 3B, AS PER PLAN","","","",0]
["659E00540","SY","SEEDING AND MULCHING, CLASS 3C","","","",0]
["659E00541","SY","SEEDING AND MULCHING, CLASS 3C, AS PER PLAN","","","",0]
["659E00550","SY","SEEDING AND MULCHING, CLASS 4A","","","",0]
["659E00551","SY","SEEDING AND MULCHING, CLASS 4A, AS PER PLAN","","","",0]
["659E00560","SY","SEEDING AND MULCHING, CLASS 4B","","","",0]
["659E00561","SY","SEEDING AND MULCHING, CLASS 4B, AS PER PLAN","","","",0]
["659E00570","SY","SEEDING AND MULCHING, CLASS 5A","","","",0]
["659E00571","SY","SEEDING AND MULCHING, CLASS 5A, AS PER PLAN","","","",0]
["659E00580","SY","SEEDING AND MULCHING, CLASS 5B","","","",0]
["659E00581","SY","SEEDING AND MULCHING, CLASS 5B, AS PER PLAN","","","",0]
["659E00590","SY","SEEDING AND MULCHING, CLASS 6","","","",0]
["659E00600","SY","SEEDING AND MULCHING, CLASS 7","","","",0]
["659E10000","SY","SEEDING AND MULCHING","","","",0]
["659E10001","SY","SEEDING AND MULCHING, AS PER PLAN","","","",0]
["659E10100","SY","SEEDING AND MULCHING FOR WILDLIFE","","","",0]
["659E10101","SY","SEEDING AND MULCHING FOR WILDLIFE, AS PER PLAN","","","",0]
["659E14000","SY","REPAIR SEEDING AND MULCHING","","","",0]
["659E14001","SY","REPAIR SEEDING AND MULCHING, AS PER PLAN","","","",0]
["659E15000","SY","INTER-SEEDING","","","",0]
["659E15001","SY","INTER-SEEDING, AS PER PLAN","","","",0]
["659E20000","TON","COMMERCIAL FERTILIZER","","","",0]
["659E20001","TON","COMMERCIAL FERTILIZER, AS PER PLAN","","","",0]
["659E31000","ACRE","LIME","","","",0]
["659E31001","ACRE","LIME, AS PER PLAN","","","",0]
["659E35000","MGAL","WATER","","","",0]
["659E35001","MGAL","WATER, AS PER PLAN","","","",0]
["659E40000","MSF","MOWING","","","",0]
["659E40001","MSF","MOWING, AS PER PLAN","","","",0]
["659E98000","SY","SEEDING, MISC.:","","","ADD SUPPLEMENTAL DESCRIPTION",1]
["659E98700","LS","SEEDING, MISC.:","","","ADD SUPPLEMENTAL DESCRIPTION",1]
["659E99000","LS","SPECIAL - PERMANENT EROSION CONTROL","","","DESIGN BUILD PROJECTS ONLY",0]
["660E20000","SY","SODDING REINFORCED","","","",0]
["660E20001","SY","SODDING REINFORCED, AS PER PLAN","","","",0]
["660E25000","SY","SODDING STAKED","","","",0]
["660E25001","SY","SODDING STAKED, AS PER PLAN","","","",0]
["660E30000","SY","SODDING UNSTAKED","","","",0]
["660E30001","SY","SODDING UNSTAKED, AS PER PLAN","","","",0]
["661E00100","EACH","TREE SEEDLING","","","SPECIFY TYPE",1]
["661E00101","EACH","TREE SEEDLING, AS PER PLAN","","","SPECIFY TYPE",1]
["661E00500","CY","MULCH","","","",0]
["661E00501","CY","MULCH, AS PER PLAN","","","",0]
["661E10000","EACH","GROUNDCOVER AND VINES, 1 YEAR, CUTTING","","","SPECIFY TYPE",1]
["661E10500","EACH","GROUNDCOVER AND VINES, 1 YEAR, BUNDLE","","","SPECIFY TYPE",1]
["661E11000","EACH","GROUNDCOVER AND VINES, 1 YEAR, CLUMP","","","SPECIFY TYPE",1]
["661E11001","EACH","GROUNDCOVER AND VINES, 1 YEAR, CLUMP, AS PER PLAN","","","SPECIFY TYPE",1]
["661E11500","EACH","GROUNDCOVER AND VINES, 1 YEAR, CROWN","","","SPECIFY TYPE",1]
["661E12000","EACH","GROUNDCOVER AND VINES, 1 YEAR, POTTED","","","SPECIFY TYPE",1]
["661E12100","EACH","GROUND COVER AND VINES, 1 YEAR, FLAT","","","SPECIFY TYPE",1]
["661E12500","EACH","GROUNDCOVER AND VINES, 2 YEAR, CLUMP","","","SPECIFY TYPE",1]
["661E13000","EACH","GROUNDCOVER AND VINES, 2 YEAR, POTTED","","","SPECIFY TYPE",1]
["661E14000","EACH","PERENNIALS","","","SPECIFY TYPE",1]
["661E14001","EACH","PERENNIALS, AS PER PLAN","","","SPECIFY TYPE",1]
["661E19000","EACH","DECIDUOUS SHRUB, 12\" HEIGHT","","","SPECIFY TYPE AND CONDITION",1]
["661E19001","EACH","DECIDUOUS SHRUB, 12\" HEIGHT, AS PER PLAN","","","SPECIFY TYPE AND CONDITION",1]
["661E20000","EACH","DECIDUOUS SHRUB, 15\" HEIGHT","","","SPECIFY TYPE AND CONDITION",1]
["661E20001","EACH","DECIDUOUS SHRUB, 15\" HEIGHT, AS PER PLAN","","","SPECIFY TYPE AND CONDITION",1]
["661E20020","EACH","DECIDUOUS SHRUB, 18\" HEIGHT","","","SPECIFY TYPE AND CONDITION",1]
["661E20021","EACH","DECIDUOUS SHRUB, 18\" HEIGHT, AS PER PLAN","","","SPECIFY TYPE AND CONDITION",1]
["661E20040","EACH","DECIDUOUS SHRUB, 2' HEIGHT","","","SPECIFY TYPE AND CONDITION",1]
["661E20041","EACH","DECIDUOUS SHRUB, 2' HEIGHT, AS PER PLAN","","","SPECIFY TYPE AND CONDITION",1]
["661E20060","EACH","DECIDUOUS SHRUB, 3' HEIGHT","","","SPECIFY TYPE AND CONDITION",1]
["661E20061","EACH","DECIDUOUS SHRUB, 3' HEIGHT, AS PER PLAN","","","SPECIFY TYPE AND CONDITION",1]
["661E20070","EACH","DECIDUOUS SHRUB, 30\" HEIGHT","","","SPECIFY TYPE AND CONDITION",1]
["661E20071","EACH","DECIDUOUS SHRUB, 30\" HEIGHT, AS PER PLAN","","","SPECIFY TYPE AND CONDITION",1]
["661E20080","EACH","DECIDUOUS SHRUB, 4' HEIGHT","","","SPECIFY TYPE AND CONDITION",1]
["661E20081","EACH","DECIDUOUS SHRUB, 4' HEIGHT, AS PER PLAN","","","SPECIFY TYPE AND CONDITION",1]
["661E20100","EACH","DECIDUOUS SHRUB, 5' HEIGHT","","","SPECIFY TYPE AND CONDITION",1]
["661E20101","EACH","DECIDUOUS SHRUB, 5' HEIGHT, AS PER PLAN","","","SPECIFY TYPE AND CONDITION",1]
["661E20110","EACH","DECIDUOUS SHRUB, 6' HEIGHT","","","SPECIFY TYPE AND CONDITION",1]
["661E20111","EACH","DECIDUOUS SHRUB, 6' HEIGHT, AS PER PLAN","","","SPECIFY TYPE AND CONDITION",1]
["661E30000","EACH","EVERGREEN SHRUB, 12\" HEIGHT","","","SPECIFY TYPE AND CONDITION",1]
["661E30001","EACH","EVERGREEN SHRUB, 12\" HEIGHT, AS PER PLAN","","","SPECIFY TYPE AND CONDITION",1]
["661E30020","EACH","EVERGREEN SHRUB, 15\" HEIGHT","","","SPECIFY TYPE AND CONDITION",1]
["661E30040","EACH","EVERGREEN SHRUB, 18\" HEIGHT","","","SPECIFY TYPE AND CONDITION",1]
["661E30041","EACH","EVERGREEN SHRUB, 18\" HEIGHT, AS PER PLAN","","","SPECIFY TYPE AND CONDITION",1]
["661E30060","EACH","EVERGREEN SHRUB, 2' HEIGHT","","","SPECIFY TYPE AND CONDITION",1]
["661E30061","EACH","EVERGREEN SHRUB, 2' HEIGHT, AS PER PLAN","","","SPECIFY TYPE AND CONDITION",1]
["661E30070","EACH","EVERGREEN SHRUB, 2.5' HEIGHT","","","SPECIFY TYPE AND CONDITION",1]
["661E30071","EACH","EVERGREEN SHRUB, 2.5' HEIGHT, AS PER PLAN","","","SPECIFY TYPE AND CONDITION",1]
["661E30080","EACH","EVERGREEN SHRUB, 3' HEIGHT","","","SPECIFY TYPE AND CONDITION",1]
["661E30081","EACH","EVERGREEN SHRUB, 3' HEIGHT, AS PER PLAN","","","SPECIFY TYPE AND CONDITION",1]
["661E30100","EACH","EVERGREEN SHRUB, 4' HEIGHT","","","SPECIFY TYPE AND CONDITION",1]
["661E30101","EACH","EVERGREEN SHRUB, 4' HEIGHT, AS PER PLAN","","","SPECIFY TYPE AND CONDITION",1]
["661E30110","EACH","EVERGREEN SHRUB, 5' HEIGHT","","","SPECIFY TYPE AND CONDITION",1]
["661E30111","EACH","EVERGREEN SHRUB, 5' HEIGHT, AS PER PLAN","","","SPECIFY TYPE AND CONDITION",1]
["661E30120","EACH","EVERGREEN SHRUB, 6' HEIGHT","","","SPECIFY TYPE AND CONDITION",1]
["661E30121","EACH","EVERGREEN SHRUB, 6' HEIGHT, AS PER PLAN","","","SPECIFY TYPE AND CONDITION",1]
["661E31000","GAL","LANDSCAPE WATERING","","","",0]
["661E31001","GAL","LANDSCAPE WATERING, AS PER PLAN","","","",0]
["661E40000","EACH","DECIDUOUS TREE, 5' HEIGHT","","","SPECIFY TYPE AND CONDITION",1]
["661E40001","EACH","DECIDUOUS TREE, 5' HEIGHT, AS PER PLAN","","","SPECIFY TYPE AND CONDITION",1]
["661E40020","EACH","DECIDUOUS TREE, 6' HEIGHT","","","SPECIFY TYPE AND CONDITION",1]
["661E40021","EACH","DECIDUOUS TREE, 6' HEIGHT, AS PER PLAN","","","SPECIFY TYPE AND CONDITION",1]
["661E40040","EACH","DECIDUOUS TREE, 1\" CALIPER","","","SPECIFY TYPE AND CONDITION",1]
["661E40041","EACH","DECIDUOUS TREE, 1\" CALIPER, AS PER PLAN","","","SPECIFY TYPE AND CONDITION",1]
["661E40060","EACH","DECIDUOUS TREE, 1-1/2\" CALIPER","","","SPECIFY TYPE AND CONDITION",1]
["661E40061","EACH","DECIDUOUS TREE, 1-1/2\" CALIPER, AS PER PLAN","","","SPECIFY TYPE AND CONDITION",1]
["661E40080","EACH","DECIDUOUS TREE, 2\" CALIPER","","","SPECIFY TYPE AND CONDITION",1]
["661E40081","EACH","DECIDUOUS TREE, 2\" CALIPER, AS PER PLAN","","","SPECIFY TYPE AND CONDITION",1]
["661E40100","EACH","DECIDUOUS TREE, 2-1/2\" CALIPER","","","SPECIFY TYPE AND CONDITION",1]
["661E40101","EACH","DECIDUOUS TREE, 2-1/2\" CALIPER, AS PER PLAN","","","SPECIFY TYPE AND CONDITION",1]
["661E40120","EACH","DECIDUOUS TREE, 3\" CALIPER","","","SPECIFY TYPE AND CONDITION",1]
["661E40121","EACH","DECIDUOUS TREE, 3\" CALIPER, AS PER PLAN","","","SPECIFY TYPE AND CONDITION",1]
["661E40140","EACH","DECIDUOUS TREE, 4\" CALIPER","","","SPECIFY TYPE AND CONDITION",1]
["661E40141","EACH","DECIDUOUS TREE, 4\" CALIPER, AS PER PLAN","","","SPECIFY TYPE AND CONDITION",1]
["661E40160","EACH","DECIDUOUS TREE, 5\" CALIPER","","","SPECIFY TYPE AND CONDITION",1]
["661E40161","EACH","DECIDUOUS TREE, 5\" CALIPER, AS PER PLAN","","","SPECIFY TYPE AND CONDITION",1]
["661E50000","EACH","EVERGREEN TREE, 3 YEAR, BARE ROOT SEEDLING","","","SPECIFY TYPE",1]
["661E50020","EACH","EVERGREEN TREE, 1' HEIGHT","","","SPECIFY TYPE AND CONDITION",1]
["661E50040","EACH","EVERGREEN TREE, 2' HEIGHT","","","SPECIFY TYPE AND CONDITION",1]
["661E50060","EACH","EVERGREEN TREE, 3' HEIGHT","","","SPECIFY TYPE AND CONDITION",1]
["661E50080","EACH","EVERGREEN TREE, 4' HEIGHT","","","SPECIFY TYPE AND CONDITION",1]
["661E50100","EACH","EVERGREEN TREE, 5' HEIGHT","","","SPECIFY TYPE AND CONDITION",1]
["661E50101","EACH","EVERGREEN TREE, 5' HEIGHT, AS PER PLAN","","","SPECIFY TYPE AND CONDITION",1]
["661E50120","EACH","EVERGREEN TREE, 6' HEIGHT","","","SPECIFY TYPE AND CONDITION",1]
["661E50121","EACH","EVERGREEN TREE, 6' HEIGHT, AS PER PLAN","","","SPECIFY TYPE AND CONDITION",1]
["661E50140","EACH","EVERGREEN TREE, 7' HEIGHT","","","SPECIFY TYPE AND CONDITION",1]
["661E50141","EACH","EVERGREEN TREE, 7' HEIGHT, AS PER PLAN","","","SPECIFY TYPE AND CONDITION",1]
["661E50160","EACH","EVERGREEN TREE, 8' HEIGHT","","","SPECIFY TYPE AND CONDITION",1]
["661E50161","EACH","EVERGREEN TREE, 8' HEIGHT, AS PER PLAN","","","SPECIFY TYPE AND CONDITION",1]
["661E50170","EACH","EVERGREEN TREE, 10' HEIGHT","","","SPECIFY TYPE AND CONDITION",1]
["661E50171","EACH","EVERGREEN TREE, 10' HEIGHT, AS PER PLAN","","","SPECIFY TYPE AND CONDITION",1]
["661E99000","LS","SPECIAL - LANDSCAPING","","","DESIGN BUILD PROJECTS ONLY",0]
["661E99900","EACH","PLANTING, MISC.:","","","ADD SUPPLEMENTAL DESCRIPTION",1]
["661E99910","ACRE","PLANTING, MISC.:","","","ADD SUPPLEMENTAL DESCRIPTION",1]
["661E99920","SF","PLANTING, MISC.:","","","ADD SUPPLEMENTAL DESCRIPTION",1]
["661E99930","SY","PLANTING, MISC.:","","","ADD SUPPLEMENTAL DESCRIPTION",1]
["661E99940","LS","PLANTING, MISC.:","","","ADD SUPPLEMENTAL DESCRIPTION",1]
["661E99950","FT","PLANTING, MISC.:","","","ADD SUPPLEMENTAL DESCRIPTION",1]
["662E30000","MGAL","LANDSCAPE WATERING","","","",0]
["662E30001","MGAL","LANDSCAPE WATERING, AS PER PLAN","","","",0]
["662E30100","LS","LANDSCAPE WATERING","","","",0]
["662E31000","GAL","LANDSCAPE WATERING","","","",0]
["662E31001","GAL","LANDSCAPE WATERING, AS PER PLAN","","","",0]
["662E98000","EACH","LANDSCAPE WATERING, MISC.:","","","ADD SUPPLEMENTAL DESCRIPTION",1]
["666E09000","EACH","PRUNING EXISTING TREE, 3 TO 8-INCH DIAMETER","","","",0]
["666E09001","EACH","PRUNING EXISTING TREE, 3 TO 8-INCH DIAMETER, AS PER PLAN","","","",0]
["666E10000","EACH","PRUNING EXISTING TREE, 8 TO 16-INCH DIAMETER","","","",0]
["666E10001","EACH","PRUNING EXISTING TREE, 8 TO 16-INCH DIAMETER, AS PER PLAN","","","",0]
["666E10010","EACH","PRUNING EXISTING TREE, 16 TO 24-INCH DIAMETER","","","",0]
["666E10011","EACH","PRUNING EXISTING TREE, 16 TO 24-INCH DIAMETER, AS PER PLAN","","","",0]
["666E10020","EACH","PRUNING EXISTING TREE, 24 TO 36-INCH DIAMETER","","","",0]
["666E10021","EACH","PRUNING EXISTING TREE, 24 TO 36-INCH DIAMETER, AS PER PLAN","","","",0]
["666E10030","EACH","PRUNING EXISTING TREE, 36 INCH DIAMETER AND OVER","","","",0]
["666E10031","EACH","PRUNING EXISTING TREE, 36 INCH DIAMETER AND OVER, AS PER PLAN","","","",0]
["670E00200","SY","VEGETATED SWALE EROSION PROTECTION","","","",0]
["670E00500","SY","SLOPE EROSION PROTECTION","","","",0]
["670E00501","SY","SLOPE EROSION PROTECTION, AS PER PLAN","","","",0]
["670E00510","SY","SLOPE EROSION PROTECTION MAT, TYPE A","","","",0]
["670E00520","SY","SLOPE EROSION PROTECTION MAT, TYPE B","","","",0]
["670E00530","SY","SLOPE EROSION PROTECTION MAT, TYPE C","","","",0]
["670E00540","SY","SLOPE EROSION PROTECTION MAT, TYPE D","","","",0]
["670E00550","SY","SLOPE EROSION PROTECTION MAT, TYPE E","","","",0]
["670E00551","SY","SLOPE EROSION PROTECTION MAT, TYPE E, AS PER PLAN","","","",0]
["670E00560","SY","SLOPE EROSION PROTECTION MAT, TYPE F","","","",0]
["670E00570","SY","SLOPE EROSION PROTECTION MAT, TYPE G","","","",0]
["670E00700","SY","DITCH EROSION PROTECTION","","","",0]
["670E00701","SY","DITCH EROSION PROTECTION, AS PER PLAN","","","",0]
["670E00710","SY","DITCH EROSION PROTECTION MAT, TYPE A","","","",0]
["670E00720","SY","DITCH EROSION PROTECTION MAT, TYPE B","","","",0]
["670E00730","SY","DITCH EROSION PROTECTION MAT, TYPE C","","","",0]
["670E00750","SY","DITCH EROSION PROTECTION MAT, TYPE E","","","",0]
["670E00760","SY","DITCH EROSION PROTECTION MAT, TYPE F","","","",0]
["670E00770","SY","DITCH EROSION PROTECTION MAT, TYPE G","","","",0]
["671E14000","SY","EROSION CONTROL MAT","","","",0]
["671E15000","SY","EROSION CONTROL MAT, TYPE A","","","",0]
["671E15010","SY","EROSION CONTROL MAT, TYPE B","","","",0]
["671E15020","SY","EROSION CONTROL MAT, TYPE C","","","",0]
["671E15040","SY","EROSION CONTROL MAT, TYPE E","","","",0]
["671E15050","SY","EROSION CONTROL MAT, TYPE F","","","",0]
["671E15060","SY","EROSION CONTROL MAT, TYPE G","","","",0]
["671E15080","SY","EROSION CONTROL MAT, TYPE I","","","",0]
["680E05000","LS","SPECIAL - SITE RESTORATION","","","",0]
["680E10400","EACH","SPECIAL - MOTORIST SERVICES BUILDING, MSB-4","","","GENERAL ONLY",0]
["680E10850","EACH","SPECIAL - MOTORIST SERVICES BUILDING","","","NO ELEC/PLBG",0]
["680E11000","EACH","SPECIAL - SHELTER HOUSE","","","GENERAL ONLY",0]
["680E11304","EACH","SPECIAL - COMPLETE WASTEWATER TREATMENT SYSTEM, 5,000 GALLON","","","GENERAL ONLY",0]
["680E11308","EACH","SPECIAL - COMPLETE WASTEWATER TREATMENT SYSTEM, 7,000 GALLON","","","GENERAL ONLY",0]
["680E11404","EACH","SPECIAL - COMPLETE WASTEWATER TREATMENT SYSTEM, 10,000 GALLON","","","GENERAL ONLY",0]
["680E11510","EACH","SPECIAL - COMPLETE WASTEWATER TREATMENT SYSTEM, 30,000 GALLON","","","GENERAL ONLY",0]
["680E12000","EACH","SPECIAL - WATER RESERVOIR ASSEMBLY","","","GENERAL ONLY",0]
["680E12500","FT","SPECIAL - SNOW FENCE - TREE PROTECTION","","","",0]
["680E13000","EACH","SPECIAL - PICNIC TABLE","","","",0]
["680E14000","EACH","SPECIAL - PICNIC TABLE AND SLAB","","","",0]
["680E14500","EACH","SPECIAL - CHARCOAL GRILL AND SERVING TABLE (WITH SLAB)","","","",0]
["680E14550","EACH","SPECIAL - TRASH RECEPTACLE","","","",0]
["680E15000","EACH","SPECIAL - WASTE RECEPTACLE SLEEVE","","","",0]
["680E15500","EACH","SPECIAL - WASTE RECEPTACLE SLAB","","","",0]
["680E15502","EACH","SPECIAL - WASTE RECEPTACLE SLEEVE AND SLAB","","","",0]
["680E16400","EACH","SPECIAL - 5' WOOD BENCH","","","",0]
["680E16500","EACH","SPECIAL - 6' WOOD BENCH","","","",0]
["680E17000","EACH","SPECIAL - 8' WOOD BENCH","","","",0]
["680E18050","EACH","SPECIAL - WOOD CHAIR","","","",0]
["680E18100","EACH","SPECIAL - STACKING CHAIR","","","",0]
["680E18200","EACH","SPECIAL - FOLDING LEG TABLE","","","",0]
["680E19200","EACH","SPECIAL - LIFT STATION","","","GENERAL ONLY",0]
["680E20400","EACH","SPECIAL - MOTORIST SERVICES BUILDING, MSB-4","","","PLUMBING ONLY",0]
["680E20800","EACH","SPECIAL - MOTORIST SERVICES BUILDING","","","PLUMBING ONLY",0]
["680E21000","EACH","SPECIAL - WATER WELL ASSEMBLY","","","PLUMBING ONLY",0]
["680E21500","EACH","SPECIAL - WATER SYSTEM HYPOCHLORINATOR","","","PLUMBING ONLY",0]
["680E22000","EACH","SPECIAL - WATER RESERVOIR ASSEMBLY","","","PLUMBING ONLY",0]
["680E23000","FT","SPECIAL - COLD WATER SERVICE TO WASTE TREATMENT PLANT","","","",0]
["680E23400","EACH","SPECIAL - COLD WATER SERVICE FOR MOTORIST SERVICES BUILDING MSB-4","","","",0]
["680E30400","EACH","SPECIAL - MOTORIST SERVICES BUILDING, MSB-4","","","HEATING & VENTILATING ONLY",0]
["680E39800","EACH","SPECIAL - TOURIST INFORMATION CENTER","","","HEATING & VENTILATING ONLY",0]
["680E40400","EACH","SPECIAL - MOTORIST SERVICES BUILDING, MSB-4","","","ELECTRICAL ONLY",0]
["680E41000","EACH","SPECIAL - WATER WELL ASSEMBLY","","","ELECTRICAL ONLY",0]
["680E41300","EACH","SPECIAL - COMPLETE WASTE TREATMENT SYSTEM","","","ELECTRICAL ONLY",0]
["680E41500","EACH","SPECIAL - WATER SYSTEM HYPOCHLORINATOR","","","ELECTRICAL ONLY",0]
["680E42000","EACH","SPECIAL - WATER RESERVOIR ASSEMBLY","","","ELECTRICAL ONLY",0]
["680E43100","EACH","SPECIAL - COMPLETE IRRIGATION SYSTEM","","","",0]
["680E43400","EACH","SPECIAL - CHARCOAL GRILL AND SERVING TABLE REMOVED","","","",0]
["680E43900","FT","SPECIAL - CAST IRON SOIL PIPE (SV) WITH FLEXIBLE JOINTS","","","",0]
["680E44300","FT","SPECIAL - 2\" FORCE MAIN","","","",0]
["680E44304","LF","SPECIAL - 3\" FORCE MAIN","","","",0]
["680E44310","FT","SPECIAL - 4\" FORCE MAIN","","","",0]
["680E44400","FT","SPECIAL - PVC FORCE MAIN PIPE AND FITTINGS","","","",0]
["680E44600","FT","SPECIAL - COLD WATER SERVICE TO BOX HYDRANT","","","",0]
["680E44700","EACH","SPECIAL - TELEPHONE SERVICE","","","",0]
["680E49200","EACH","SPECIAL - LIFT STATION","","","ELECTRICAL ONLY",0]
["690E11500","EACH","SPECIAL - IRON PIN","","","",0]
["690E12000","SY","SPECIAL - FILTER FABRIC","","","",0]
["690E12010","SY","SPECIAL - GEOTEXTILE FABRIC","","","",0]
["690E12030","SY","SPECIAL - PAVEMENT REINFORCING FABRIC","","","",0]
["690E12040","SY","SPECIAL - PAVEMENT CRACK AND JOINT REINFORCING FABRIC","","","",0]
["690E12050","SY","SPECIAL - REINFORCED MESH FOR TRANSVERSE AND/OR LONGITUDINAL JOINTS AND CRACKS","","","",0]
["690E12060","SY","SPECIAL - PAVEMENT OVERLAY FABRIC COMPOSITE","","","",0]
["690E12100","SY","SPECIAL - ASPHALT CONCRETE PAVEMENT SURFACE HEATER RECYCLING","","","",0]
["690E12150","GAL","SPECIAL - ASPHALT REJUVENATING AGENT","","","",0]
["690E12160","LS","SPECIAL - TESTING","","","",0]
["690E12200","SY","SPECIAL - PAVING MAT","","","",0]
["690E12500","SY","SPECIAL - NOVACHIP","","","",0]
["690E14010","EACH","SPECIAL - PIEZO WEIGH-IN-MOTION DATA COLLECTION SYSTEM","","","",0]
["690E20000","LS","SPECIAL - AUTOMATIC TRAFFIC RECORDER","","","DESIGN BUILD PROJECTS ONLY",0]
["690E20010","LS","SPECIAL - AS-BUILT CONSTRUCTION PLANS","","","DESIGN BUILD PROJECTS ONLY",0]
["690E20020","LS","SPECIAL - FIELD SURVEYS","","","DESIGN BUILD PROJECTS ONLY",0]
["690E20030","LS","SPECIAL - UTILITY COORDINATION AND RELOCATION","","","DESIGN BUILD PROJECTS ONLY",0]
["690E20040","LS","SPECIAL - PRELIMINARY DESIGN","","","DESIGN BUILD PROJECTS ONLY",0]
["690E20050","LS","SPECIAL - FINAL DESIGN","","","DESIGN BUILD PROJECTS ONLY",0]
["690E20080","LS","SPECIAL - SUBSURFACE INVESTIGATIONS","","","DESIGN BUILD PROJECTS ONLY",0]
["690E20220","LS","SPECIAL - CONSTRUCTION PLANS","","","DESIGN BUILD PROJECTS ONLY",0]
["690E20240","LS","SPECIAL - ROADWAY","","","DESIGN BUILD PROJECTS ONLY",0]
["690E20250","LS","SPECIAL - MISCELLANEOUS PAVEMENT FOR DESIGN BUILD","","","DESIGN BUILD PROJECTS ONLY",0]
["690E20260","LS","SPECIAL - TRAFFIC SURVEILLANCE","","","DESIGN BUILD PROJECTS ONLY",0]
["690E21000","LS","SPECIAL -","","","DESIGN BUILD PROJECTS ONLY",1]
["690E50000","EACH","SPECIAL - MAILBOX SUPPORT","","","",0]
["690E50100","EACH","SPECIAL - MAILBOX SUPPORT SYSTEM, SINGLE","","","",0]
["690E50200","EACH","SPECIAL - MAILBOX SUPPORT SYSTEM, DOUBLE","","","",0]
["690E50300","EACH","SPECIAL - MAILBOX SUPPORT SYSTEM, MULTIPLE","","","",0]
["690E50350","EACH","SPECIAL - MAILBOX REMOVED AND RESET","","","",0]
["690E50500","EACH","SPECIAL - CONCRETE PARKING BLOCK","","","",0]
["690E50560","EACH","SPECIAL - BICYCLE RACK","","","",0]
["690E50600","EACH","SPECIAL - BOLLARD","","","",0]
["690E50610","EACH","SPECIAL - BOLLARD, HINGED","","","",0]
["690E60000","CY","SPECIAL - BERM REPAIR, FLEXIBLE","","","",0]
["690E65000","TON","SPECIAL - WORK INVOLVING NON-REGULATED MATERIALS","","","",0]
["690E65002","TON","SPECIAL - WORK INVOLVING HAZARDOUS WASTE","","","",0]
["690E65010","TON","SPECIAL - WORK INVOLVING SOLID WASTE","","","",0]
["690E65016","TON","SPECIAL - WORK INVOLVING PETROLEUM CONTAMINATED SOIL","","","",0]
["690E65018","TON","SPECIAL - WORK INVOLVING PCB/TSCA WASTE","","","",0]
["690E65020","GAL","SPECIAL - WORK INVOLVING WATER","","","",0]
["690E65022","GAL","SPECIAL - WORK INVOLVING NON-REGULATED WATER","","","",0]
["690E65024","GAL","SPECIAL - WORK INVOLVING REGULATED WATER","","","",0]
["690E65030","EACH","SPECIAL - DRUM REMOVED","","","",0]
["690E65034","EACH","SPECIAL - DRUMS CONTAINING SOLID WASTE","","","",0]
["690E65038","EACH","SPECIAL - DRUMS CONTAINING HAZARDOUS WASTE","","","",0]
["690E65100","TON","SPECIAL - WORK INVOLVING CONSTRUCTION DEBRIS","","","",0]
["690E65200","TON","SPECIAL - WORK INVOLVING FIELD SCREENED MATERIALS","","","",0]
["690E65300","EACH","SPECIAL - GROUND WATER MONITORING WELL ABANDONMENT","","","",0]
["690E65310","EACH","SPECIAL - GROUND WATER MONITORING WELL RECONSTRUCTION","","","",0]
["690E65350","LS","SPECIAL - REGULATED MATERIALS REMOVAL AND DISPOSAL","","","",0]
["690E65400","EACH","SPECIAL - OIL SPILL KIT","","","",0]
["690E70000","LS","SPECIAL - ENVIRONMENTAL","","","ADD SUPPLEMENTAL DESCRIPTION",1]
["690E70010","EACH","SPECIAL - ENVIRONMENTAL","","","ADD SUPPLEMENTAL DESCRIPTION",1]
["690E70020","TON","SPECIAL - ENVIRONMENTAL","","","ADD SUPPLEMENTAL DESCRIPTION",1]
["690E70030","CY","SPECIAL - ENVIRONMENTAL","","","ADD SUPPLEMENTAL DESCRIPTION",1]
["690E70040","LB","SPECIAL - ENVIRONMENTAL","","","ADD SUPPLEMENTAL DESCRIPTION",1]
["690E70090","GAL","SPECIAL - ENVIRONMENTAL","","","ADD SUPPLEMENTAL DESCRIPTION",1]
["690E70100","SF","SPECIAL - ASBESTOS ABATEMENT","","","ADD SUPPLEMENTAL DESCRIPTION",1]
["690E70120","FT","SPECIAL - ASBESTOS ABATEMENT","","","ADD SUPPLEMENTAL DESCRIPTION",1]
["690E70140","CF","SPECIAL - ASBESTOS ABATEMENT","","","ADD SUPPLEMENTAL DESCRIPTION",1]
["690E70160","TON","SPECIAL - ASBESTOS ABATEMENT","","","ADD SUPPLEMENTAL DESCRIPTION",1]
["690E71000","LS","SPECIAL - ASBESTOS ABATEMENT","","","ADD SUPPLEMENTAL DESCRIPTION",1]
["690E71050","EACH","SPECIAL - ASBESTOS INSPECTION","","","",0]
["690E72000","LS","SPECIAL - ASBESTOS NOTIFICATION","","","",0]
["690E75000","LS","SPECIAL - WETLAND MITIGATION","","","",0]
["690E76000","FT","SPECIAL - 8\" COMPOST FILTER SOCK FOR PERIMETER CONTROL","","","",0]
["690E76002","FT","SPECIAL - 12\" COMPOST FILTER SOCK FOR PERIMETER CONTROL","","","",0]
["690E76010","FT","SPECIAL - 8\" COMPOST FILTER SOCK FOR DITCH CHECKS","","","",0]
["690E76012","FT","SPECIAL - 12\" COMPOST FILTER SOCK FOR DITCH CHECKS","","","",0]
["690E76020","FT","SPECIAL - 8\" COMPOST FILTER SOCK FOR INLET PROTECTION","","","",0]
["690E76022","FT","SPECIAL - 12\" COMPOST FILTER SOCK FOR INLET PROTECTION","","","",0]
["690E76032","FT","SPECIAL - 12\" COMPOST FILTER SOCK FOR RUNOFF DIVERSION DIKE","","","",0]
["690E91000","LS","SPECIAL - AS-BUILT CONSTRUCTION PLANS","","","",0]
["690E98000","EACH","SPECIAL -","","","ADD SUPPLEMENTAL DESCRIPTION",1]
["690E98100","FT","SPECIAL -","","","ADD SUPPLEMENTAL DESCRIPTION",1]
["690E98200","SF","SPECIAL -","","","ADD SUPPLEMENTAL DESCRIPTION",1]
["690E98300","SY","SPECIAL -","","","ADD SUPPLEMENTAL DESCRIPTION",1]
["690E98400","LS","SPECIAL -","","","ADD SUPPLEMENTAL DESCRIPTION",1]
["690E98500","MILE","SPECIAL -","","","ADD SUPPLEMENTAL DESCRIPTION",1]
["690E98600","HOUR","SPECIAL -","","","ADD SUPPLEMENTAL DESCRIPTION",1]
["690E98700","CY","SPECIAL -","","","ADD SUPPLEMENTAL DESCRIPTION",1]
["690E98800","TON","SPECIAL -","","","ADD SUPPLEMENTAL DESCRIPTION",1]
["690E98900","GAL","SPECIAL -","","","ADD SUPPLEMENTAL DESCRIPTION",1]
["690E99000","ACRE","SPECIAL -","","","ADD SUPPLEMENTAL DESCRIPTION",1]
["690E99100","STA","SPECIAL -","","","ADD SUPPLEMENTAL DESCRIPTION",1]
["690E99200","CF","SPECIAL -","","","ADD SUPPLEMENTAL DESCRIPTION",1]
["690E99300","MGAL","SPECIAL -","","","ADD SUPPLEMENTAL DESCRIPTION",1]
["690E99400","LB","SPECIAL -","","","ADD SUPPLEMENTAL DESCRIPTION",1]
["690E99500","DAY","SPECIAL -","","","ADD SUPPLEMENTAL DESCRIPTION",1]
["690E99550","MNTH","SPECIAL -","","","ADD SUPPLEMENTAL DESCRIPTION",1]
["690E99600","MSF","SPECIAL -","","","ADD SUPPLEMENTAL DESCRIPTION",1]
["690E99700","SET","SPECIAL -","","","ADD SUPPLEMENTAL DESCRIPTION",1]
["690E99800","DLR","SPECIAL -","","","ADD SUPPLEMENTAL DESCRIPTION",1]
["690E99900","MBF","SPECIAL -","","","ADD SUPPLEMENTAL DESCRIPTION",1]
["691E00500","SY","SPECIAL - HERBICIDE FOR WEED CONTROL","","","",0]
["691E10000","ACRE","SPECIAL - HERBICIDAL SPRAYING, WEED AND BRUSH CONTROL FROM ROAD","","","CHECK UNIT OF MEASURE",0]
["691E10100","ACRE","SPECIAL - HERBICIDAL SPRAYING, WEED AND BRUSH CONTROL OFF ROAD","","","CHECK UNIT OF MEASURE",0]
["691E10200","MILE","SPECIAL - HERBICIDAL SPRAYING, WEED AND BRUSH CONTROL FROM ROAD","","","CHECK UNIT OF MEASURE",0]
["691E20000","GAL","SPECIAL - HERBICIDAL SPRAYING, WEED AND BRUSH CONTROL FROM ROAD","","","CHECK UNIT OF MEASURE",0]
["691E20100","GAL","SPECIAL - HERBICIDAL SPRAYING, WEED AND BRUSH CONTROL OFF ROAD","","","CHECK UNIT OF MEASURE",0]
["691E30000","FT","SPECIAL - HERBICIDAL SPRAYING, NON SELECTIVE VEGETATION CONTROL, GUARDRAIL, SIGNS AND DELINEATORS","","","CHECK UNIT OF MEASURE",0]
["691E40000","MILE","SPECIAL - HERBICIDAL SPRAYING, CATTAIL CONTROL","","","CHECK UNIT OF MEASURE",0]
["691E41000","MILE","SPECIAL - HERBICIDAL SPRAYING","","","CHECK UNIT OF MEASURE",0]
["691E41200","LB","SPECIAL - HERBICIDAL SPRAYING","","","CHECK UNIT OF MEASURE",0]
["691E41900","MILE","SPECIAL - HERBICIDAL SPRAYING, GUARDRAIL","","","CHECK UNIT OF MEASURE",0]
["691E42000","MILE","SPECIAL - HERBICIDAL SPRAYING, NON SELECTIVE VEGETATION CONTROL, GUARDRAIL, SIGNS AND DELINEATORS","","","CHECK UNIT OF MEASURE",0]
["691E42500","EACH","SPECIAL - HERBICIDAL SPRAYING, DELINEATOR, SIGNPOST, LIGHTPOLE AND/OR THEIR FOUNDATIONS","","","CHECK UNIT OF MEASURE",0]
["691E50000","GAL","SPECIAL - HERBICIDAL SPRAYING, BRUSH CONTROL FROM ROAD","","","CHECK UNIT OF MEASURE",0]
["691E50100","MILE","SPECIAL - HERBICIDAL SPRAYING, RIGHT-OF-WAY FENCE","","","CHECK UNIT OF MEASURE",0]
["691E60000","GAL","SPECIAL - HERBICIDAL SPRAYING","","","ADD SUPPLEMENTAL DESCRIPTION",1]
["691E60100","ACRE","SPECIAL - HERBICIDAL SPRAYING","","","ADD SUPPLEMENTAL DESCRIPTION",1]
["691E60200","SY","SPECIAL - HERBICIDAL SPRAYING","","","ADD SUPPLEMENTAL DESCRIPTION",1]
["691E60300","MILE","SPECIAL - HERBICIDAL SPRAYING","","","ADD SUPPLEMENTAL DESCRIPTION",1]
["692E10000","MILE","SPECIAL - FIRST MOWING","","","CHECK UNIT OF MEASURE",0]
["692E10100","ACRE","SPECIAL - FIRST MOWING","","","CHECK UNIT OF MEASURE",0]
["692E10200","LS","SPECIAL - FIRST MOWING","","","CHECK UNIT OF MEASURE",0]
["692E10300","MSF","SPECIAL - FIRST MOWING","","","CHECK UNIT OF MEASURE",0]
["692E20000","MILE","SPECIAL - SECOND MOWING","","","CHECK UNIT OF MEASURE",0]
["692E20100","ACRE","SPECIAL - SECOND MOWING","","","CHECK UNIT OF MEASURE",0]
["692E20200","LS","SPECIAL - SECOND MOWING","","","CHECK UNIT OF MEASURE",0]
["692E20300","MSF","SPECIAL - SECOND MOWING","","","CHECK UNIT OF MEASURE",0]
["692E30000","MILE","SPECIAL - THIRD MOWING","","","CHECK UNIT OF MEASURE",0]
["692E30100","ACRE","SPECIAL - THIRD MOWING","","","CHECK UNIT OF MEASURE",0]
["692E30200","LS","SPECIAL - THIRD MOWING","","","CHECK UNIT OF MEASURE",0]
["692E30220","MSF","SPECIAL - THIRD MOWING","","","CHECK UNIT OF MEASURE",0]
["692E30250","MILE","SPECIAL - FOURTH MOWING","","","CHECK UNIT OF MEASURE",0]
["692E30260","LS","SPECIAL - FOURTH MOWING","","","CHECK UNIT OF MEASURE",0]
["692E30270","ACRE","SPECIAL - FOURTH MOWING","","","CHECK UNIT OF MEASURE",0]
["692E30280","MILE","SPECIAL - FIFTH MOWING","","","CHECK UNIT OF MEASURE",0]
["692E30284","ACRE","SPECIAL - FIFTH MOWING","","","CHECK UNIT OF MEASURE",0]
["692E30290","MILE","SPECIAL - SIXTH MOWING","","","CHECK UNIT OF MEASURE",0]
["692E30294","ACRE","SPECIAL - SIXTH MOWING","","","CHECK UNIT OF MEASURE",0]
["692E30300","MILE","SPECIAL - SEVENTH MOWING","","","CHECK UNIT OF MEASURE",0]
["692E30304","ACRE","SPECIAL - SEVENTH MOWING","","","CHECK UNIT OF MEASURE",0]
["692E30310","LIMI","SPECIAL - EIGHTH MOWING","","","CHECK UNIT OF MEASURE",0]
["692E30314","ACRE","SPECIAL - EIGHTH MOWING","","","CHECK UNIT OF MEASURE",0]
["692E30324","ACRE","SPECIAL - NINETH MOWING","","","CHECK UNIT OF MEASURE",0]
["692E30334","ACRE","SPECIAL - TENTH MOWING","","","CHECK UNIT OF MEASURE",0]
["692E30400","ACRE","SPECIAL - MOWBACK","","","",0]
["692E30440","MILE","SPECIAL - MOWBACK - FIRST MOWING","","","",0]
["692E30450","MILE","SPECIAL - MOWBACK - SECOND MOWING","","","",0]
["692E35000","MILE","SPECIAL - MOWING","","","ADD SUPPLEMENTAL DESCRIPTION",1]
["692E35500","ACRE","SPECIAL - MOWING","","","ADD SUPPLEMENTAL DESCRIPTION",1]
["692E36000","EACH","SPECIAL - MOWING","","","ADD SUPPLEMENTAL DESCRIPTION",1]
["692E37000","LS","SPECIAL - MOWING","","","ADD SUPPLEMENTAL DESCRIPTION",1]
["803E45000","CY","RUBBERIZED OPEN GRADED ASPHALT FRICTION COURSE","","","",0]
["803E45001","CY","RUBBERIZED OPEN GRADED ASPHALT FRICTION COURSE, AS PER PLAN","","","",0]
["804E15000","FT","FIBER OPTIC CABLE, 18 FIBER","","","",0]
["804E15010","FT","FIBER OPTIC CABLE, 24 FIBER","","","",0]
["804E15011","FT","FIBER OPTIC CABLE, 24 FIBER, AS PER PLAN","","","",0]
["804E15020","FT","FIBER OPTIC CABLE, 48 FIBER","","","",0]
["804E15021","FT","FIBER OPTIC CABLE, 48 FIBER, AS PER PLAN","","","",0]
["804E15030","FT","FIBER OPTIC CABLE, 72 FIBER","","","",0]
["804E15031","FT","FIBER OPTIC CABLE, 72 FIBER, AS PER PLAN","","","",0]
["804E15040","FT","FIBER OPTIC CABLE, 144 FIBER","","","",0]
["804E15050","FT","FIBER OPTIC CABLE, 288 FIBER","","","",0]
["804E19001","FT","FIBER OPTIC CABLE, HYBRID, SM / MM","","","",0]
["804E19080","FT","FIBER OPTIC CABLE, ARMORED, 12 FIBER","","","",0]
["804E19081","FT","FIBER OPTIC CABLE, ARMORED, 12 FIBER, AS PER PLAN","","","",0]
["804E20010","FT","FIBER OPTIC CABLE, ARMORED, 18 FIBER","","","",0]
["804E20011","FT","FIBER OPTIC CABLE, ARMORED, 18 FIBER, AS PER PLAN","","","",0]
["804E20020","FT","FIBER OPTIC CABLE, INTEGRAL MESSENGER WIRE, 18 FIBER","","","",0]
["804E20034","FT","FIBER OPTIC CABLE, ARMORED, 24 FIBER","","","",0]
["804E20035","FT","FIBER OPTIC CABLE, ARMORED, 24 FIBER, AS PER PLAN","","","",0]
["804E20044","FT","FIBER OPTIC CABLE, ARMORED, 36 FIBER","","","",0]
["804E20050","FT","FIBER OPTIC CABLE, ARMORED, 48 FIBER","","","",0]
["804E20051","FT","FIBER OPTIC CABLE, ARMORED, 48 FIBER, AS PER PLAN","","","",0]
["804E20056","FT","FIBER OPTIC CABLE, ARMORED, 60 FIBER","","","",0]
["804E20110","FT","FIBER OPTIC CABLE, ARMORED, 108 FIBER","","","",0]
["804E20114","FT","FIBER OPTIC CABLE, ARMORED, 144 FIBER","","","",0]
["804E20220","FT","FIBER OPTIC CABLE, ARMORED, INTEGRAL MESSENGER, 12 FIBER","","","",0]
["804E20240","FT","FIBER OPTIC CABLE, ARMORED, INTEGRAL MESSENGER, 24 FIBER","","","",0]
["804E20260","FT","FIBER OPTIC CABLE, ARMORED, INTEGRAL MESSENGER, 48 FIBER","","","",0]
["804E20266","FT","FIBER OPTIC CABLE, ARMORED, INTEGRAL MESSENGER, 36 FIBER","","","",0]
["804E20280","FT","FIBER OPTIC CABLE, ARMORED, INTEGRAL MESSENGER, 144 FIBER","","","",0]
["804E21000","FT","FIBER OPTIC CABLE, AIRBLOWN/PUSHABLE, 12 FIBER","","","",0]
["804E21010","FT","FIBER OPTIC CABLE, AIRBLOWN/PUSHABLE, 24 FIBER","","","",0]
["804E21020","FT","FIBER OPTIC CABLE, AIRBLOWN/PUSHABLE, 48 FIBER","","","",0]
["804E21030","FT","FIBER OPTIC CABLE, AIRBLOWN/PUSHABLE, 72 FIBER","","","",0]
["804E21040","FT","FIBER OPTIC CABLE, AIRBLOWN/PUSHABLE, 144 FIBER","","","",0]
["804E21050","FT","FIBER OPTIC CABLE, AIRBLOWN/PUSHABLE, 288 FIBER","","","",0]
["804E21060","FT","FIBER OPTIC CABLE, AIRBLOWN/PUSHABLE, 432 FIBER","","","",0]
["804E29990","EACH","FAN-OUT KIT, 2 FIBER","","","",0]
["804E30000","EACH","FAN-OUT KIT, 6 FIBER","","","",0]
["804E30001","EACH","FAN-OUT KIT, 6 FIBER, AS PER PLAN","","","",0]
["804E30010","EACH","FAN-OUT KIT, 12 FIBER","","","",0]
["804E30011","EACH","FAN-OUT KIT, 12 FIBER, AS PER PLAN","","","",0]
["804E31990","EACH","DROP CABLE, 2 FIBER","","","",0]
["804E32000","EACH","DROP CABLE, 6 FIBER","","","",0]
["804E32001","EACH","DROP CABLE, 6 FIBER, AS PER PLAN","","","",0]
["804E32010","EACH","DROP CABLE, 12 FIBER","","","",0]
["804E32011","EACH","DROP CABLE, 12 FIBER, AS PER PLAN","","","",0]
["804E32012","EACH","DROP CABLE, 24 FIBER","","","",0]
["804E32016","EACH","DROP CABLE, 48 FIBER","","","",0]
["804E32018","EACH","DROP CABLE, 72 FIBER","","","",0]
["804E32020","FT","DROP CABLE, 6 FIBER","","","",0]
["804E32021","FT","DROP CABLE, 6 FIBER, AS PER PLAN","","","",0]
["804E32040","FT","DROP CABLE, 12 FIBER","","","",0]
["804E32060","FT","DROP CABLE, 24 FIBER","","","CHECK UNIT OF MEASURE",0]
["804E32070","FT","DROP CABLE, 48 FIBER","","","",0]
["804E32080","FT","DROP CABLE, 72 FIBER","","","",0]
["804E32990","EACH","FIBER OPTIC PATCH CORD, 2 FIBER","","","",0]
["804E33000","EACH","FIBER OPTIC PATCH CORD, 4 FIBER","","","",0]
["804E33001","EACH","FIBER OPTIC PATCH CORD, 4 FIBER, AS PER PLAN","","","",0]
["804E33990","EACH","FIBER OPTIC PATCH CORD, 1 FIBER","","","",0]
["804E33991","EACH","FIBER OPTIC PATCH CORD, 1 FIBER, AS PER PLAN","","","",0]
["804E33996","EACH","FIBER TERMINATION PANEL, 2 FIBER","","","",0]
["804E34000","EACH","FIBER TERMINATION PANEL, 6 FIBER","","","",0]
["804E34001","EACH","FIBER TERMINATION PANEL, 6 FIBER, AS PER PLAN","","","",0]
["804E34012","EACH","FIBER TERMINATION PANEL, 12 FIBER","","","",0]
["804E34013","EACH","FIBER TERMINATION PANEL, 12 FIBER, AS PER PLAN","","","",0]
["804E34022","EACH","FIBER TERMINATION PANEL, 24 FIBER","","","",0]
["804E34023","EACH","FIBER TERMINATION PANEL, 24 FIBER, AS PER PLAN","","","",0]
["804E34026","EACH","FIBER TERMINATION PANEL, 36 FIBER","","","",0]
["804E34030","EACH","FIBER TERMINATION PANEL, 48 FIBER","","","",0]
["804E34031","EACH","FIBER TERMINATION PANEL, 48 FIBER, AS PER PLAN","","","",0]
["804E34042","EACH","FIBER TERMINATION PANEL, 72 FIBER","","","",0]
["804E34062","EACH","FIBER TERMINATION PANEL, 144 FIBER","","","",0]
["804E34082","EACH","FIBER TERMINATION PANEL, 288 FIBER","","","",0]
["804E35000","EACH","FUSION SPLICE","","","",0]
["804E35001","EACH","FUSION SPLICE, AS PER PLAN","","","",0]
["804E37000","EACH","SPLICE ENCLOSURE, BUTT STYLE","","","",0]
["804E37001","EACH","SPLICE ENCLOSURE, AS PER PLAN","","","",0]
["804E37002","EACH","SPLICE ENCLOSURE, IN-LINE","","","",0]
["804E37500","EACH","FIBER OPTIC CONNECTOR","","","",0]
["804E37501","EACH","FIBER OPTIC CONNECTOR, AS PER PLAN","","","",0]
["804E37700","LS","FIBER OPTIC CABLE TESTING","","","",0]
["804E37701","LS","FIBER OPTIC CABLE TESTING, AS PER PLAN","","","",0]
["804E37800","LS","FIBER OPTIC TRAINING","","","",0]
["804E38000","EACH","FIBER OPTIC CABLE MODEM","","","",0]
["804E38001","EACH","FIBER OPTIC CABLE MODEM, AS PER PLAN","","","",0]
["804E98000","FT","FIBER OPTIC CABLE, MISC.:","","","ADD SUPPLEMENTAL DESCRIPTION",1]
["804E98100","EACH","FIBER OPTIC CABLE, MISC.:","","","ADD SUPPLEMENTAL DESCRIPTION",1]
["804E98200","LS","FIBER OPTIC CABLE, MISC.:","","","ADD SUPPLEMENTAL DESCRIPTION",1]
["804E99000","LS","SPECIAL - FIBER OPTIC CABLE AND COMPONENTS","","","DESIGN BUILD PROJECTS ONLY",0]
["805E00100","EACH","GLOBAL POSITIONING SYSTEM CLOCK ASSEMBLY","","","",0]
["805E00101","EACH","GLOBAL POSITIONING SYSTEM CLOCK ASSEMBLY, AS PER PLAN","","","",0]
["807E10000","MILE","WET REFLECTIVE TRAFFIC PAINT, EDGE LINE, 4\"","","","",0]
["807E10010","MILE","WET REFLECTIVE TRAFFIC PAINT, EDGE LINE, 6\"","","","",0]
["807E10100","MILE","WET REFLECTIVE TRAFFIC PAINT, LANE LINE, 4\"","","","",0]
["807E10110","MILE","WET REFLECTIVE TRAFFIC PAINT, LANE LINE, 6\"","","","",0]
["807E10200","MILE","WET REFLECTIVE TRAFFIC PAINT, CENTER LINE","","","",0]
["807E10300","FT","WET REFLECTIVE TRAFFIC PAINT, CHANNELIZING LINE, 8\"","","","",0]
["807E10310","FT","WET REFLECTIVE TRAFFIC PAINT, CHANNELIZING LINE, 12\"","","","",0]
["807E10400","FT","WET REFLECTIVE TRAFFIC PAINT, DOTTED LINE, 4\"","","","",0]
["807E10410","FT","WET REFLECTIVE TRAFFIC PAINT, DOTTED LINE, 6\"","","","",0]
["807E10420","FT","WET REFLECTIVE TRAFFIC PAINT, DOTTED LINE, 8\"","","","",0]
["807E10430","FT","WET REFLECTIVE TRAFFIC PAINT, DOTTED LINE, 12\"","","","",0]
["807E11000","MILE","WET REFLECTIVE POLYESTER PAVEMENT MARKING, EDGE LINE, 4\"","","","",0]
["807E11010","MILE","WET REFLECTIVE POLYESTER PAVEMENT MARKING, EDGE LINE, 6\"","","","",0]
["807E11100","MILE","WET REFLECTIVE POLYESTER PAVEMENT MARKING, LANE LINE, 4\"","","","",0]
["807E11110","MILE","WET REFLECTIVE POLYESTER PAVEMENT MARKING, LANE LINE, 6\"","","","",0]
["807E11200","MILE","WET REFLECTIVE POLYESTER PAVEMENT MARKING, CENTER LINE","","","",0]
["807E11300","FT","WET REFLECTIVE POLYESTER PAVEMENT MARKING, CHANNELIZING LINE, 8\"","","","",0]
["807E11310","FT","WET REFLECTIVE POLYESTER PAVEMENT MARKING, CHANNELIZING LINE, 12\"","","","",0]
["807E11400","FT","WET REFLECTIVE POLYESTER PAVEMENT MARKING, DOTTED LINE, 4\"","","","",0]
["807E11410","FT","WET REFLECTIVE POLYESTER PAVEMENT MARKING, DOTTED LINE, 6\"","","","",0]
["807E11420","FT","WET REFLECTIVE POLYESTER PAVEMENT MARKING, DOTTED LINE, 8\"","","","",0]
["807E11430","FT","WET REFLECTIVE POLYESTER PAVEMENT MARKING, DOTTED LINE, 12\"","","","",0]
["807E12000","MILE","WET REFLECTIVE EPOXY PAVEMENT MARKING, EDGE LINE, 4\"","","","",0]
["807E12010","MILE","WET REFLECTIVE EPOXY PAVEMENT MARKING, EDGE LINE, 6\"","","","",0]
["807E12100","MILE","WET REFLECTIVE EPOXY PAVEMENT MARKING, LANE LINE, 4\"","","","",0]
["807E12110","MILE","WET REFLECTIVE EPOXY PAVEMENT MARKING, LANE LINE, 6\"","","","",0]
["807E12200","MILE","WET REFLECTIVE EPOXY PAVEMENT MARKING, CENTER LINE","","","",0]
["807E12300","FT","WET REFLECTIVE EPOXY PAVEMENT MARKING, CHANNELIZING LINE, 8\"","","","",0]
["807E12310","FT","WET REFLECTIVE EPOXY PAVEMENT MARKING, CHANNELIZING LINE, 12\"","","","",0]
["807E12400","FT","WET REFLECTIVE EPOXY PAVEMENT MARKING, DOTTED LINE, 4\"","","","",0]
["807E12410","FT","WET REFLECTIVE EPOXY PAVEMENT MARKING, DOTTED LINE, 6\"","","","",0]
["807E12420","FT","WET REFLECTIVE EPOXY PAVEMENT MARKING, DOTTED LINE, 8\"","","","",0]
["807E12430","FT","WET REFLECTIVE EPOXY PAVEMENT MARKING, DOTTED LINE, 12\"","","","",0]
["807E13000","MILE","WET REFLECTIVE SPRAY THERMOPLASTIC PAVEMENT MARKING, EDGE LINE, 4\"","","","",0]
["807E13010","MILE","WET REFLECTIVE SPRAY THERMOPLASTIC PAVEMENT MARKING, EDGE LINE, 6\"","","","",0]
["807E13100","MILE","WET REFLECTIVE SPRAY THERMOPLASTIC PAVEMENT MARKING, LANE LINE, 4\"","","","",0]
["807E13110","MILE","WET REFLECTIVE SPRAY THERMOPLASTIC PAVEMENT MARKING, LANE LINE, 6\"","","","",0]
["807E13200","MILE","WET REFLECTIVE SPRAY THERMOPLASTIC PAVEMENT MARKING, CENTER LINE","","","",0]
["807E13300","FT","WET REFLECTIVE SPRAY THERMOPLASTIC PAVEMENT MARKING, CHANNELIZING LINE, 8\"","","","",0]
["807E13310","FT","WET REFLECTIVE SPRAY THERMOPLASTIC PAVEMENT MARKING, CHANNELIZING LINE, 12\"","","","",0]
["807E13400","FT","WET REFLECTIVE SPRAY THERMOPLASTIC PAVEMENT MARKING, DOTTED LINE, 4\"","","","",0]
["807E13410","FT","WET REFLECTIVE SPRAY THERMOPLASTIC PAVEMENT MARKING, DOTTED LINE, 6\"","","","",0]
["807E13420","FT","WET REFLECTIVE SPRAY THERMOPLASTIC PAVEMENT MARKING, DOTTED LINE, 8\"","","","",0]
["807E13430","FT","WET REFLECTIVE SPRAY THERMOPLASTIC PAVEMENT MARKING, DOTTED LINE, 12\"","","","",0]
["807E14000","MILE","WET REFLECTIVE THERMOPLASTIC PAVEMENT MARKING, EDGE LINE, 4\"","","","",0]
["807E14010","MILE","WET REFLECTIVE THERMOPLASTIC PAVEMENT MARKING, EDGE LINE, 6\"","","","",0]
["807E14100","MILE","WET REFLECTIVE THERMOPLASTIC PAVEMENT MARKING, LANE LINE, 4\"","","","",0]
["807E14110","MILE","WET REFLECTIVE THERMOPLASTIC PAVEMENT MARKING, LANE LINE, 6\"","","","",0]
["807E14200","MILE","WET REFLECTIVE THERMOPLASTIC PAVEMENT MARKING, CENTER LINE","","","",0]
["807E14300","FT","WET REFLECTIVE THERMOPLASTIC PAVEMENT MARKING, CHANNELIZING LINE, 8\"","","","",0]
["807E14310","FT","WET REFLECTIVE THERMOPLASTIC PAVEMENT MARKING, CHANNELIZING LINE, 12\"","","","",0]
["807E14400","FT","WET REFLECTIVE THERMOPLASTIC PAVEMENT MARKING, DOTTED LINE, 4\"","","","",0]
["807E14410","FT","WET REFLECTIVE THERMOPLASTIC PAVEMENT MARKING, DOTTED LINE, 6\"","","","",0]
["807E14420","FT","WET REFLECTIVE THERMOPLASTIC PAVEMENT MARKING, DOTTED LINE, 8\"","","","",0]
["807E14430","FT","WET REFLECTIVE THERMOPLASTIC PAVEMENT MARKING, DOTTED LINE, 12\"","","","",0]
["808E18700","SNMT","DIGITAL SPEED LIMIT (DSL) SIGN ASSEMBLY","","","",0]
["809E20000","FT","MICRO-DUCT PATHWAY, 1 CELL 14/10","","","",0]
["809E20010","FT","MICRO-DUCT PATHWAY, 2 CELL 14/10","","","",0]
["809E20020","FT","MICRO-DUCT PATHWAY, 4 CELL 14/10","","","",0]
["809E20030","FT","MICRO-DUCT PATHWAY, 7 CELL 14/10","","","",0]
["809E20100","FT","MICRO-DUCT PATHWAY, 1 CELL 22/16","","","",0]
["809E20110","FT","MICRO-DUCT PATHWAY, 2 CELL 22/16","","","",0]
["809E20120","FT","MICRO-DUCT PATHWAY, 4 CELL 22/16","","","",0]
["809E20130","FT","MICRO-DUCT PATHWAY, 7 CELL 22/16","","","",0]
["809E21000","FT","MICRO-DUCT PATHWAY, HYBRID, 3 – 14/10 AND 3 – 1.25 IN","","","",0]
["809E22000","FT","MICRO-DUCT PATHWAY, JACKED OR DRILLED","","","SPECIFY SIZE",1]
["809E23000","FT","MICRO-DUCT INNERDUCT, 10/8","","","",0]
["809E23100","FT","MICRO-DUCT INNERDUCT, 14/10","","","",0]
["809E23200","FT","MICRO-DUCT INNERDUCT, 22/16","","","",0]
["809E24000","FT","CONDUIT, MULTICELL, JACKED OR DRILLED","","","SPECIFY SIZE",1]
["809E24500","FT","CONDUIT, 4\", MULTICELL, HDPE WITH 4 – 1” INNERDUCTS","","","",0]
["809E25000","FT","CONDUIT, MULTICELL, MISC.:","","","ADD SUPPLEMENTAL DESCRIPTION",1]
["809E60000","EACH","CCTV IP-CAMERA SYSTEM, DOME-TYPE","","","",0]
["809E60001","EACH","CCTV IP-CAMERA SYSTEM, DOME-TYPE, AS PER PLAN","","","",0]
["809E60010","EACH","CCTV IP-CAMERA SYSTEM, WALL/TUNNEL","","","",0]
["809E60020","DAY","CCTV IP-CAMERA SYSTEM, PORTABLE","","","CHECK UNIT OF MEASURE",0]
["809E60030","EACH","CCTV IP-CAMERA SYSTEM, ENHANCED","","","",0]
["809E60040","EACH","CCTV IP-CAMERA SYSTEM, QUAD MULTI-VIEW FIXED WITH PTZ","","","",0]
["809E60050","EACH","CCTV IP-CAMERA SYSTEM, MULTI-VIEW","","","",0]
["809E60060","EACH","CCTV IP-CAMERA SYSTEM, FIXED-VIEW","","","",0]
["809E61002","EACH","CCTV CONCRETE POLE, 70 FEET","","","",0]
["809E61012","EACH","CCTV CONCRETE POLE, 50 FEET","","","",0]
["809E61090","EACH","CCTV LOWERING UNIT","","","",0]
["809E61100","EACH","CCTV LOWERING UNIT, INSTALLATION ONLY","","","",0]
["809E62990","EACH","DYNAMIC MESSAGE SIGN (DMS), FULL COLOR","","","",0]
["809E63000","EACH","DYNAMIC MESSAGE SIGN (DMS), FULL-SIZE WALK-IN","","","",0]
["809E63001","EACH","DYNAMIC MESSAGE SIGN (DMS), FULL-SIZE WALK-IN, AS PER PLAN","","","",0]
["809E63010","EACH","DYNAMIC MESSAGE SIGN (DMS), FRONT-ACCESS","","","",0]
["809E63020","EACH","DESTINATION DYNAMIC MESSAGE SIGN (DDMS), FREEWAY - TWO-LINE","","","",0]
["809E63030","EACH","DESTINATION DYNAMIC MESSAGE SIGN (DDMS), FREEWAY - THREE-LINE","","","",0]
["809E63040","EACH","DESTINATION DYNAMIC MESSAGE SIGN (DDMS), ARTERIAL - TWO-LINE","","","",0]
["809E63050","EACH","DESTINATION DYNAMIC MESSAGE SIGN (DDMS), ARTERIAL - THREE-LINE","","","",0]
["809E64500","EACH","HIGH-SPEED ETHERNET RADIO","","","",0]
["809E64550","FT","ETHERNET CABLE, OUTDOOR-RATED","","","",0]
["809E65000","EACH","ITS CABINET - GROUND MOUNTED","","","",0]
["809E65001","EACH","ITS CABINET - GROUND MOUNTED, AS PER PLAN","","","",0]
["809E65010","EACH","ITS CABINET - POLE MOUNTED","","","",0]
["809E65011","EACH","ITS CABINET - POLE MOUNTED, AS PER PLAN","","","",0]
["809E65020","EACH","ITS CABINET - POWER DISTRIBUTION CABINET (PDC)","","","",0]
["809E65030","EACH","ITS CABINET - RAMP METER","","","",0]
["809E65040","EACH","ITS CABINET - DMS","","","",0]
["809E65990","EACH","ITS DEVICE, MISC.:","","","ADD SUPPLEMENTAL DESCRIPTION",1]
["809E66000","EACH","CLOSED LOOP ARTERIAL TRAFFIC SIGNAL SYSTEM","","","",0]
["809E66010","EACH","CENTRALLY CONTROLLED ARTERIAL TRAFFIC SIGNAL SYSTEM","","","",0]
["809E66020","EACH","HIGHWAY RAIL / TRAFFIC SIGNAL PRE-EMPTION","","","",0]
["809E66030","EACH","TRAFFIC SIGNAL SYSTEM WITH EMERGENCY VEHICLE PRE-EMPTION","","","",0]
["809E66040","EACH","TRAFFIC SIGNAL SYSTEM WITH TRANSIT PRIORITY","","","",0]
["809E66050","EACH","ADAPTIVE TRAFFIC SIGNAL CONTROL SYSTEM","","","",0]
["809E67050","EACH","RAMP METER TRAINING","","","",0]
["809E68900","EACH","SIDE-FIRED RADAR DETECTOR","","","",0]
["809E69000","EACH","ADVANCE RADAR DETECTION","","","",0]
["809E69001","EACH","ADVANCE RADAR DETECTION, AS PER PLAN","","","",0]
["809E69100","EACH","STOP LINE RADAR DETECTION","","","",0]
["809E69101","EACH","STOP LINE RADAR DETECTION, AS PER PLAN","","","",0]
["809E69110","EACH","COMBINED RADAR DETECTION","","","",0]
["809E69122","EACH","ATC CONTROLLER","","","",0]
["809E69123","EACH","ATC CONTROLLER, AS PER PLAN","","","",0]
["809E69130","EACH","WRONG WAY DETECTION SYSTEM","","","",0]
["809E69200","EACH","EMERGENCY VEHICLE PREEMPTION","","","",0]
["809E69201","EACH","EMERGENCY VEHICLE PREEMPTION, AS PER PLAN","","","",0]
["809E69210","EACH","PREEMPT RECEIVING UNIT","","","",0]
["809E69211","EACH","PREEMPT RECEIVING UNIT, AS PER PLAN","","","",0]
["809E69220","FT","PREEMPT DETECTOR CABLE","","","",0]
["809E69221","FT","PREEMPT DETECTOR CABLE, AS PER PLAN","","","",0]
["809E69230","EACH","PREEMPT PHASE SELECTOR","","","",0]
["809E69231","EACH","PREEMPT PHASE SELECTOR, AS PER PLAN","","","",0]
["809E69240","EACH","PREEMPT CONFIRMATION LIGHT","","","",0]
["809E69241","EACH","PREEMPT CONFIRMATION LIGHT, AS PER PLAN","","","",0]
["809E70000","LS","MAINTAINING ITS DURING CONSTRUCTION","","","",0]
["809E70050","LS","AS-BUILT CONSTRUCTION PLANS","","","",0]
["809E70100","LS","TRAINING","","","",0]
["809E99000","LS","SPECIAL - ITS","","","DESIGN BUILD PROJECTS ONLY",0]
["810E00100","EACH","VITAL INDUCTIVE LOOP PROCESSOR SYSTEM","","","",0]
["810E00101","EACH","VITAL INDUCTIVE LOOP PROCESSOR SYSTEM, AS PER PLAN","","","",0]
["811E10000","EACH","GREEN UNINTERRUPTIBLE POWER SUPPLY (UPS)","","","",0]
["811E10001","EACH","GREEN UNINTERRUPTIBLE POWER SUPPLY (UPS), AS PER PLAN","","","",0]
["812E10000","EACH","PRECAST LIGHT POLE FOUNDATION","","","",0]
["814E00010","EACH","INTERSTATE ELONGATED ROUTE SHIELD SYMBOL MARKING, TYPE B125","","","",0]
["814E00012","EACH","US ROUTE SHIELD SYMBOL MARKING, TYPE B125","","","",0]
["814E00014","EACH","STATE ROUTE SHIELD SYMBOL MARKING, TYPE B125","","","",0]
["814E00016","EACH","CARDINAL DIRECTION (NORTH, SOUTH, WEST & EAST) MARKING, TYPE B125","","","",0]
["814E00018","EACH","REMOVAL OF PAVEMENT MARKING","","","",0]
["814E00020","SF","REMOVAL OF PAVEMENT MARKING","","","",0]
["815E30000","EACH","SPREAD SPECTRUM RADIO","","","",0]
["815E30001","EACH","SPREAD SPECTRUM RADIO, AS PER PLAN","","","",0]
["815E30100","LS","TRAINING FOR SPREAD SPECTRUM RADIO","","","",0]
["816E30000","EACH","VIDEO DETECTION SYSTEM","","","",0]
["816E30001","EACH","VIDEO DETECTION SYSTEM, AS PER PLAN","","","",0]
["816E30100","LS","TRAINING FOR VIDEO DETECTION SYSTEM","","","",0]
["818E30000","EACH","PROGRAMMABLE LOGIC CONTROLLER (PLC), (BASIC OR ADVANCED)","","","",0]
["819E10000","EACH","RAILROAD PREEMPTION INTERFACE","","","LOCATION REQUIRED",1]
["819E10001","EACH","RAILROAD PREEMPTION INTERFACE, AS PER PLAN","","","LOCATION REQUIRED",1]
["820E10001","EACH","INSTRUMENTATION ENCLOSURE, AS PER PLAN","","","SEE SS820 FOR SUPP DESCRIPTION",1]
["822E10000","SY","HOT IN-PLACE RECYCLING, INTERMEDIATE COURSE","","","",0]
["823E10000","CY","ASPHALT CONCRETE SURFACE COURSE, TYPE 1, (448)","","","",0]
["823E15000","CY","ASPHALT CONCRETE INTERMEDIATE COURSE, TYPE 1, (448)","","","",0]
["823E20000","CY","ASPHALT CONCRETE INTERMEDIATE COURSE, TYPE 2, (448)","","","",0]
["823E40000","CY","ASPHALT CONCRETE SURFACE COURSE, TYPE 1, (449)","","","",0]
["823E41000","CY","ASPHALT CONCRETE INTERMEDIATE COURSE, TYPE 1, (449)","","","",0]
["823E42000","CY","ASPHALT CONCRETE INTERMEDIATE COURSE, TYPE 2, (449)","","","",0]
["824E00010","LS","SYSTEM ANALYSIS","","","",0]
["824E00011","LS","SYSTEM ANALYSIS, AS PER PLAN","","","",0]
["826E10000","CY","ASPHALT CONCRETE SURFACE COURSE, TYPE 1, (448), FIBER TYPE A","","","",0]
["826E10001","CY","ASPHALT CONCRETE SURFACE COURSE, TYPE 1, (448), FIBER TYPE A, AS PER PLAN","","","",0]
["826E10020","CY","ASPHALT CONCRETE SURFACE COURSE, TYPE 1, (448), FIBER TYPE B","","","",0]
["826E10021","CY","ASPHALT CONCRETE SURFACE COURSE, TYPE 1, (448), FIBER TYPE B, AS PER PLAN","","","",0]
["826E10040","CY","ASPHALT CONCRETE SURFACE COURSE, TYPE 1, (448), FIBER TYPE C","","","",0]
["826E10041","CY","ASPHALT CONCRETE SURFACE COURSE, TYPE 1, (448), FIBER TYPE C, AS PER PLAN","","","",0]
["826E10300","CY","ASPHALT CONCRETE INTERMEDIATE COURSE, TYPE 2, (448), FIBER TYPE A","","","",0]
["826E10301","CY","ASPHALT CONCRETE INTERMEDIATE COURSE, TYPE 2, (448), FIBER TYPE A, AS PER PLAN","","","",0]
["826E10400","CY","ASPHALT CONCRETE INTERMEDIATE COURSE, TYPE 2, (448), FIBER TYPE B","","","",0]
["826E10500","CY","ASPHALT CONCRETE INTERMEDIATE COURSE, TYPE 2, (448), FIBER TYPE C","","","",0]
["826E10600","CY","ASPHALT CONCRETE SURFACE COURSE, 442 12.5MM, (448), FIBER TYPE A","","","",0]
["826E10620","CY","ASPHALT CONCRETE SURFACE COURSE, 442 12.5MM, (448), FIBER TYPE B","","","",0]
["826E10640","CY","ASPHALT CONCRETE SURFACE COURSE, 442 12.5MM, (448), FIBER TYPE C","","","",0]
["826E10700","CY","ASPHALT CONCRETE INTERMEDIATE COURSE, 442 19MM, (448), FIBER TYPE A","","","",0]
["826E10720","CY","ASPHALT CONCRETE INTERMEDIATE COURSE, 442 19MM, (448), FIBER TYPE B","","","",0]
["826E10740","CY","ASPHALT CONCRETE INTERMEDIATE COURSE, 442 19MM, (448), FIBER TYPE C","","","",0]
["826E20000","CY","ASPHALT CONCRETE, MISC.:","","","ADD SUPPLEMENTAL DESCRIPTION",1]
["826E30000","CY","ASPHALT CONCRETE SURFACE COURSE, TYPE 1, (449), FIBER TYPE A","","","",0]
["826E30020","CY","ASPHALT CONCRETE SURFACE COURSE, TYPE 1, (449), FIBER TYPE B","","","",0]
["826E30040","CY","ASPHALT CONCRETE SURFACE COURSE, TYPE 1, (449), FIBER TYPE C","","","",0]
["826E30100","CY","ASPHALT CONCRETE INTERMEDIATE COURSE, TYPE 2, (449), FIBER TYPE A","","","",0]
["826E30120","CY","ASPHALT CONCRETE INTERMEDIATE COURSE, TYPE 2, (449), FIBER TYPE B","","","",0]
["826E30140","CY","ASPHALT CONCRETE INTERMEDIATE COURSE, TYPE 2, (449), FIBER TYPE C","","","",0]
["826E30600","CY","ASPHALT CONCRETE SURFACE COURSE, 442 12.5MM, (449), FIBER TYPE A","","","",0]
["826E30620","CY","ASPHALT CONCRETE SURFACE COURSE, 442 12.5MM, (449), FIBER TYPE B","","","",0]
["826E30640","CY","ASPHALT CONCRETE SURFACE COURSE, 442 12.5MM, (449), FIBER TYPE C","","","",0]
["826E30700","CY","ASPHALT CONCRETE INTERMEDIATE COURSE, 442 19MM, (449), FIBER TYPE A","","","",0]
["826E30720","CY","ASPHALT CONCRETE INTERMEDIATE COURSE, 442 19MM, (449), FIBER TYPE B","","","",0]
["826E30740","CY","ASPHALT CONCRETE INTERMEDIATE COURSE, 442 19MM, (449), FIBER TYPE C","","","",0]
["828E00100","EACH","LED BLANKOUT SIGN","","","SPECIFY TYPE AND SIZE",1]
["828E00110","EACH","LED BLANKOUT SIGN, (MMU/CMU COMPATIBLE)","","","SPECIFY TYPE AND SIZE",1]
["829E00100","SNMT","WORK ZONE EGRESS WARNING SYSTEM","","","",0]
["831E00100","FT","LONGITUDINAL CHANNELIZING DEVICE","","","",0]
["831E00101","FT","LONGITUDINAL CHANNELIZING DEVICE, AS PER PLAN","","","",0]
["831E00500","FT","REMOVAL OF LONGITUDINAL CHANNELIZING DEVICE","","","",0]
["831E00510","EACH","REMOVAL OF LONGITUDINAL CHANNELIZING DEVICE","","","",0]
["832E15000","LS","STORM WATER POLLUTION PREVENTION PLAN","","","",0]
["832E15001","LS","STORM WATER POLLUTION PREVENTION PLAN, AS PER PLAN","","","",0]
["832E15002","LS","STORM WATER POLLUTION PREVENTION INSPECTIONS","","","",0]
["832E15010","LS","STORM WATER POLLUTION PREVENTION INSPECTION SOFTWARE","","","",0]
["832E30000","EACH","EROSION CONTROL","","","",0]
["832E30001","EACH","EROSION CONTROL, AS PER PLAN","","","",0]
["832E99100","EACH","SPECIAL - CONSTRUCTION EROSION CONTROL","","","DESIGN BUILD PROJECTS ONLY",0]
["833E10000","FT","CONDUIT RENEWAL USING SPRAY APPLIED STRUCTURAL LINER, ROUND CONDUIT","","","SPECIFY SIZE (___\" DIAMETER)",1]
["833E10001","FT","CONDUIT RENEWAL USING SPRAY APPLIED STRUCTURAL LINER, ROUND CONDUIT, AS PER PLAN","","","SPECIFY SIZE (___\" DIAMETER)",1]
["833E11000","FT","CONDUIT RENEWAL USING SPRAY APPLIED STRUCTURAL LINER, ELLIPTICAL CONDUIT","","","SPECIFY SIZE (RISE X SPAN)",1]
["833E12000","FT","CONDUIT RENEWAL USING SPRAY APPLIED STRUCTURAL LINER, ARCH","","","SPECIFY SIZE (SPAN X RISE)",1]
["833E12001","FT","CONDUIT RENEWAL USING SPRAY APPLIED STRUCTURAL LINER, ARCH, AS PER PLAN","","","SPECIFY SIZE (SPAN X RISE)",1]
["833E13000","FT","CONDUIT RENEWAL USING SPRAY APPLIED STRUCTURAL LINER, BOX CULVERT","","","SPECIFY SIZE (SPAN X RISE)",1]
["833E13001","FT","CONDUIT RENEWAL USING SPRAY APPLIED STRUCTURAL LINER, BOX CULVERT, AS PER PLAN","","","SPECIFY SIZE (SPAN X RISE)",1]
["836E10000","SY","SEEDING AND EROSION CONTROL WITH TURF REINFORCING MAT, TYPE 1","","","",0]
["836E10020","SY","SEEDING AND EROSION CONTROL WITH TURF REINFORCING MAT, TYPE 2","","","",0]
["836E10030","SY","SEEDING AND EROSION CONTROL WITH TURF REINFORCING MAT, TYPE 3","","","",0]
["836E10040","SY","SEEDING AND EROSION CONTROL WITH TURF REINFORCING MAT, TYPE 4","","","",0]
["836E20000","SY","SEEDING AND EROSION CONTROL WITH TURF REINFORCING MAT, TYPE 1, WITHOUT SOIL FILLING","","","",0]
["836E20020","SY","SEEDING AND EROSION CONTROL WITH TURF REINFORCING MAT, TYPE 2, WITHOUT SOIL FILLING","","","",0]
["836E20030","SY","SEEDING AND EROSION CONTROL WITH TURF REINFORCING MAT, TYPE 3, WITHOUT SOIL FILLING","","","",0]
["836E20040","SY","SEEDING AND EROSION CONTROL WITH TURF REINFORCING MAT, TYPE 4, WITHOUT SOIL FILLING","","","",0]
["837E10000","FT","LINER PIPE","","","SPECIFY SIZE AND TYPE",1]
["837E10001","FT","LINER PIPE, AS PER PLAN","","","SPECIFY SIZE AND TYPE",1]
["837E21000","FT","BACKFILL FOR LINER PIPE","","","",0]
["837E21001","FT","BACKFILL FOR LINER PIPE, AS PER PLAN","","","",0]
["838E20700","CY","GABIONS","","","",0]
["838E20701","CY","GABIONS, AS PER PLAN","","","",0]
["838E20750","CY","GABIONS WITH ADDITIONAL COATING","","","",0]
["838E20751","CY","GABIONS WITH ADDITIONAL COATING, AS PER PLAN","","","",0]
["839E29000","FT","TRENCH DRAIN, TYPE A WITH STANDARD GRATE","","","",0]
["839E29100","FT","TRENCH DRAIN, TYPE A WITH PEDESTRIAN GRATE","","","",0]
["839E30000","FT","TRENCH DRAIN, TYPE B WITH STANDARD GRATE","","","",0]
["839E30001","FT","TRENCH DRAIN, TYPE B WITH STANDARD GRATE, AS PER PLAN","","","",0]
["839E30100","FT","TRENCH DRAIN, TYPE B WITH PEDESTRIAN GRATE","","","",0]
["840E20000","SF","MECHANICALLY STABILIZED EARTH WALL","","","",0]
["840E20001","SF","MECHANICALLY STABILIZED EARTH WALL, AS PER PLAN","","","",0]
["840E21000","CY","WALL EXCAVATION","","","",0]
["840E21001","CY","WALL EXCAVATION, AS PER PLAN","","","",0]
["840E22000","SY","FOUNDATION PREPARATION","","","",0]
["840E22001","SY","FOUNDATION PREPARATION, AS PER PLAN","","","",0]
["840E23000","CY","SELECT GRANULAR BACKFILL","","","",0]
["840E23001","CY","SELECT GRANULAR BACKFILL, AS PER PLAN","","","",0]
["840E23050","CY","NATURAL SOIL","","","",0]
["840E25010","FT","6\" DRAINAGE PIPE, PERFORATED","","","",0]
["840E25020","FT","6\" DRAINAGE PIPE, NON-PERFORATED","","","",0]
["840E26000","FT","CONCRETE COPING","","","",0]
["840E26001","FT","CONCRETE COPING, AS PER PLAN","","","",0]
["840E26050","SF","AESTHETIC SURFACE TREATMENT","","","",0]
["840E27000","DAY","ON-SITE ASSISTANCE","","","",0]
["840E28000","LS","SGB INSPECTION AND COMPACTION TESTING","","","",0]
["841E10000","FT","SPIRAL WOUND RENEWAL SYSTEM, ROUND CONDUIT","","","SPECIFY SIZE",1]
["841E10001","FT","SPIRAL WOUND RENEWAL SYSTEM, ROUND CONDUIT, AS PER PLAN","","","SPECIFY SIZE",1]
["841E11000","FT","SPIRAL WOUND RENEWAL SYSTEM, ELLIPTICAL CONDUIT","","","SPECIFY SIZE (RISE X SPAN)",1]
["841E11001","FT","SPIRAL WOUND RENEWAL SYSTEM, ELLIPTICAL CONDUIT, AS PER PLAN","","","SPECIFY SIZE (RISE X SPAN)",1]
["841E12000","FT","SPIRAL WOUND RENEWAL SYSTEM, BOX","","","SPECIFY SIZE (RISE X SPAN)",1]
["841E12001","FT","SPIRAL WOUND RENEWAL SYSTEM, BOX, AS PER PLAN","","","SPECIFY SIZE (RISE X SPAN)",1]
["841E13000","FT","SPIRAL WOUND RENEWAL SYSTEM, ARCH","","","SPECIFY SPAN X RISE OR SIZE",1]
["841E13001","FT","SPIRAL WOUND RENEWAL SYSTEM, ARCH, AS PER PLAN","","","SPECIFY SPAN X RISE OR SIZE",1]
["842E10000","LB","CORRECTING ELEVATION OF CONCRETE APPROACH SLABS WITH HIGH DENSITY POLYURETHANE","","","",0]
["843E50000","SF","PATCHING CONCRETE STRUCTURES WITH TROWELABLE MORTAR","","","",0]
["843E50001","SF","PATCHING CONCRETE STRUCTURES WITH TROWELABLE MORTAR, AS PER PLAN","","","",0]
["844E10000","SF","CONCRETE PATCHING WITH GALVANIC ANODE PROTECTION","","","",0]
["844E10001","SF","CONCRETE PATCHING WITH GALVANIC ANODE PROTECTION, AS PER PLAN","","","",0]
["845E60000","SF","SURFACE PREPARATION OF EXISTING STRUCTURAL STEEL","","","",0]
["845E60020","LS","SURFACE PREPARATION OF EXISTING STRUCTURAL STEEL","","","",0]
["845E61000","MNHR","GRINDING FINS, TEARS, SLIVERS ON EXISTING STRUCTURAL STEEL","","","",0]
["845E62000","SF","FIELD METALLIZING OF EXISTING STRUCTURAL STEEL","","","",0]
["845E62020","LS","FIELD METALLIZING OF EXISTING STRUCTURAL STEEL","","","",0]
["845E98000","SF","FIELD METALLIZING, MISC.:","","","ADD SUPPLEMENTAL DESCRIPTION",1]
["846E00110","CF","POLYMER MODIFIED ASPHALT EXPANSION JOINT SYSTEM","","","",0]
["846E00111","CF","POLYMER MODIFIED ASPHALT EXPANSION JOINT SYSTEM, AS PER PLAN","","","",0]
["847E10000","SY","MICRO SILICA MODIFIED CONCRETE OVERLAY","","","SPECIFY THICKNESS",1]
["847E10001","SY","MICRO SILICA MODIFIED CONCRETE OVERLAY, AS PER PLAN","","","",0]
["847E10100","SY","LATEX MODIFIED CONCRETE OVERLAY","","","SPECIFY THICKNESS",1]
["847E10101","SY","LATEX MODIFIED CONCRETE OVERLAY, AS PER PLAN","","","SPECIFY THICKNESS",1]
["847E10200","SY","SUPERPLASTICIZED DENSE CONCRETE OVERLAY","","","SPECIFY THICKNESS",1]
["847E10201","SY","SUPERPLASTICIZED DENSE CONCRETE OVERLAY, AS PER PLAN","","","SPECIFY THICKNESS",1]
["847E20000","CY","MICRO SILICA MODIFIED CONCRETE OVERLAY (VARIABLE THICKNESS), MATERIAL ONLY","","","",0]
["847E20001","CY","MICRO SILICA MODIFIED CONCRETE OVERLAY (VARIABLE THICKNESS), MATERIAL ONLY, AS PER PLAN","","","",0]
["847E20100","CY","LATEX MODIFIED CONCRETE OVERLAY (VARIABLE THICKNESS), MATERIAL ONLY","","","",0]
["847E20101","CY","LATEX MODIFIED CONCRETE OVERLAY (VARIABLE THICKNESS), MATERIAL ONLY, AS PER PLAN","","","",0]
["847E20200","CY","SUPERPLASTICIZED DENSE CONCRETE OVERLAY (VARIABLE THICKNESS), MATERIAL ONLY","","","",0]
["847E20201","CY","SUPERPLASTICIZED DENSE CONCRETE OVERLAY (VARIABLE THICKNESS), MATERIAL ONLY, AS PER PLAN","","","",0]
["847E30000","LS","TEST SLAB","","","",0]
["847E30200","CY","FULL DEPTH REPAIR","","","",0]
["847E30201","CY","FULL DEPTH REPAIR, AS PER PLAN","","","",0]
["847E30300","SY","WEARING COURSE REMOVED, ASPHALT","","","",0]
["847E30301","SY","WEARING COURSE REMOVED, ASPHALT, AS PER PLAN","","","",0]
["847E30400","SY","EXISTING CONCRETE OVERLAY REMOVED","","","SPECIFY NOMINAL THICKNESS",1]
["847E30401","SY","EXISTING CONCRETE OVERLAY REMOVED, AS PER PLAN","","","SPECIFY NOMINAL THICKNESS",1]
["847E50000","SY","HAND CHIPPING","","","",0]
["848E10000","SY","MICRO SILICA MODIFIED CONCRETE OVERLAY USING HYDRODEMOLITION","","","SPECIFY THICKNESS",1]
["848E10001","SY","MICRO SILICA MODIFIED CONCRETE OVERLAY USING HYDRODEMOLITION, AS PER PLAN","","","SPECIFY THICKNESS",1]
["848E10100","SY","LATEX MODIFIED CONCRETE OVERLAY USING HYDRODEMOLITION","","","SPECIFY THICKNESS",1]
["848E10101","SY","LATEX MODIFIED CONCRETE OVERLAY USING HYDRODEMOLITION, AS PER PLAN","","","SPECIFY THICKNESS",1]
["848E10200","SY","SUPERPLASTICIZED DENSE CONCRETE OVERLAY USING HYDRODEMOLITION","","","SPECIFY THICKNESS",1]
["848E10201","SY","SUPERPLASTICIZED DENSE CONCRETE OVERLAY USING HYDRODEMOLITION, AS PER PLAN","","","SPECIFY THICKNESS",1]
["848E20000","SY","SURFACE PREPARATION USING HYDRODEMOLITION","","","",0]
["848E20001","SY","SURFACE PREPARATION USING HYDRODEMOLITION, AS PER PLAN","","","",0]
["848E30000","CY","MICRO SILICA MODIFIED CONCRETE OVERLAY (VARIABLE THICKNESS), MATERIAL ONLY","","","",0]
["848E30001","CY","MICRO SILICA MODIFIED CONCRETE OVERLAY (VARIABLE THICKNESS), MATERIAL ONLY, AS PER PLAN","","","",0]
["848E30100","CY","LATEX MODIFIED CONCRETE OVERLAY (VARIABLE THICKNESS), MATERIAL ONLY","","","",0]
["848E30101","CY","LATEX MODIFIED CONCRETE OVERLAY (VARIABLE THICKNESS), MATERIAL ONLY, AS PER PLAN","","","",0]
["848E30200","CY","SUPERPLASTICIZED DENSE CONCRETE OVERLAY (VARIABLE THICKNESS), MATERIAL ONLY","","","",0]
["848E30201","CY","SUPERPLASTICIZED DENSE CONCRETE OVERLAY (VARIABLE THICKNESS), MATERIAL ONLY, AS PER PLAN","","","",0]
["848E50000","SY","HAND CHIPPING","","","",0]
["848E50001","SY","HAND CHIPPING, AS PER PLAN","","","",0]
["848E50100","LS","TEST SLAB","","","",0]
["848E50101","LS","TEST SLAB, AS PER PLAN","","","",0]
["848E50200","CY","FULL-DEPTH REPAIR","","","",0]
["848E50201","CY","FULL DEPTH REPAIR, AS PER PLAN","","","",0]
["848E50300","SY","WEARING COURSE REMOVED, ASPHALT","","","",0]
["848E50301","SY","WEARING COURSE REMOVED, ASPHALT, AS PER PLAN","","","",0]
["848E50320","SY","EXISTING CONCRETE OVERLAY REMOVED","","","SPECIFY THICKNESS",1]
["848E50321","SY","EXISTING CONCRETE OVERLAY REMOVED, AS PER PLAN","","","",0]
["848E50340","SY","REMOVAL OF DEBONDED OR DETERIORATED EXISTING VARIABLE THICKNESS CONCRETE OVERLAY","","","",0]
["848E50341","SY","REMOVAL OF DEBONDED OR DETERIORATED EXISTING VARIABLE THICKNESS CONCRETE OVERLAY, AS PER PLAN","","","",0]
["848E90000","SY","OVERLAY, MISC.:","","","ADD SUPPLEMENTAL DESCRIPTION",1]
["848E91000","CY","OVERLAY, MISC.:","","","ADD SUPPLEMENTAL DESCRIPTION",1]
["848E99000","CY","SPECIAL - CONCRETE OVERLAY, VARIABLE THICKNESS, MATERIAL ONLY","","","DESIGN BUILD PROJECTS ONLY",0]
["848E99100","LS","SPECIAL - BRIDGE DECK CONCRETE OVERLAYS","","","DESIGN BUILD PROJECTS ONLY",0]
["849E10000","LS","DAMAGE ASSESSMENT","","","",0]
["849E10001","LS","DAMAGE ASSESSMENT, AS PER PLAN","","","",0]
["849E10500","LS","SURFACE PREPARATION","","","",0]
["849E10600","HOUR","REPAIRING DAMAGED MEMBERS BY GRINDING","","","",0]
["849E10700","LS","STRAIGHTENING DAMAGED MEMBERS","","","",0]
["850E10000","MILE","GROOVING FOR 4\" RECESSED PAVEMENT MARKING, (ASPHALT)","","","",0]
["850E10001","MILE","GROOVING FOR 4\" RECESSED PAVEMENT MARKING, (ASPHALT), AS PER PLAN","","","",0]
["850E10010","MILE","GROOVING FOR 6\" RECESSED PAVEMENT MARKING, (ASPHALT)","","","",0]
["850E10011","MILE","GROOVING FOR 6\" RECESSED PAVEMENT MARKING, (ASPHALT), AS PER PLAN","","","",0]
["850E10020","MILE","GROOVING FOR 8\" RECESSED PAVEMENT MARKING, (ASPHALT)","","","",0]
["850E10030","MILE","GROOVING FOR 12\" RECESSED PAVEMENT MARKING, (ASPHALT)","","","",0]
["850E10100","FT","GROOVING FOR 4\" RECESSED PAVEMENT MARKING, (ASPHALT)","","","",0]
["850E10110","FT","GROOVING FOR 6\" RECESSED PAVEMENT MARKING, (ASPHALT)","","","",0]
["850E10111","FT","GROOVING FOR 6\" RECESSED PAVEMENT MARKING, (ASPHALT), AS PER PLAN","","","",0]
["850E10120","FT","GROOVING FOR 8\" RECESSED PAVEMENT MARKING, (ASPHALT)","","","",0]
["850E10130","FT","GROOVING FOR 12\" RECESSED PAVEMENT MARKING, (ASPHALT)","","","",0]
["850E10131","FT","GROOVING FOR 12\" RECESSED PAVEMENT MARKING, (ASPHALT), AS PER PLAN","","","",0]
["850E20000","MILE","GROOVING FOR 4\" RECESSED PAVEMENT MARKING, (CONCRETE)","","","",0]
["850E20010","MILE","GROOVING FOR 6\" RECESSED PAVEMENT MARKING, (CONCRETE)","","","",0]
["850E20011","MILE","GROOVING FOR 6\" RECESSED PAVEMENT MARKING, (CONCRETE), AS PER PLAN","","","",0]
["850E20020","MILE","GROOVING FOR 8\" RECESSED PAVEMENT MARKING, (CONCRETE)","","","",0]
["850E20030","MILE","GROOVING FOR 12\" RECESSED PAVEMENT MARKING, (CONCRETE)","","","",0]
["850E20100","FT","GROOVING FOR 4\" RECESSED PAVEMENT MARKING, (CONCRETE)","","","",0]
["850E20110","FT","GROOVING FOR 6\" RECESSED PAVEMENT MARKING, (CONCRETE)","","","",0]
["850E20111","FT","GROOVING FOR 6\" RECESSED PAVEMENT MARKING, (CONCRETE), AS PER PLAN","","","",0]
["850E20120","FT","GROOVING FOR 8\" RECESSED PAVEMENT MARKING, (CONCRETE)","","","",0]
["850E20130","FT","GROOVING FOR 12\" RECESSED PAVEMENT MARKING, (CONCRETE)","","","",0]
["850E20131","FT","GROOVING FOR 12\" RECESSED PAVEMENT MARKING, (CONCRETE), AS PER PLAN","","","",0]
["851E10000","SF","PRECAST GRAVITY AND SEMIGRAVITY RETAINING WALL","","","",0]
["851E10001","SF","PRECAST GRAVITY AND SEMIGRAVITY RETAINING WALL, AS PER PLAN","","","",0]
["851E11000","CY","NATURAL SOIL","","","",0]
["851E12000","FT","CONCRETE COPING","","","",0]
["851E14000","DAY","ON-SITE ASSISTANCE","","","",0]
["851E15000","LS","WALL DRAINAGE SYSTEM","","","",0]
["851E15500","LS","PGSRW INSPECTION AND COMPACTION TESTING","","","",0]
["852E10000","SY","ULTRA-THIN WHITETOPPING","","","",0]
["855E00010","LB","POST-TENSIONING STRAND TENDON","","","",0]
["855E00020","LB","POST-TENSIONING BAR TENDON","","","",0]
["856E10000","CY","BRIDGE DECK WATERPROOFING ASPHALT CONCRETE","","","",0]
["858E10000","SY","THIN POLYMER EPOXY OVERLAY","","","",0]
["858E10001","SY","THIN POLYMER EPOXY OVERLAY, AS PER PLAN","","","",0]
["859E10000","CY","ASPHALT CONCRETE WITH VERGLIMIT","","","",0]
["859E10001","CY","ASPHALT CONCRETE WITH VERGLIMIT, AS PER PLAN","","","",0]
["860E10000","CY","THINLAY ASPHALT CONCRETE, TYPE MED","","","",0]
["860E10010","CY","THINLAY ASPHALT CONCRETE, TYPE LT","","","",0]
["862E00500","HOUR","SCALING","","","",0]
["862E00600","SY","SLOPE DRAPE","","","",0]
["862E00601","SY","SLOPE DRAPE, AS PER PLAN","","","",0]
["862E00610","CY","EXCAVATION","","","",0]
["862E00611","CY","EXCAVATION, AS PER PLAN","","","",0]
["862E00700","SF","TRIM BLASTING","","","",0]
["862E99000","FT","ROCKFALL PROTECTION, MISC.:","","","ADD SUPPLEMENTAL DESCRIPTION",1]
["863E00100","SY","GEOGRID, TYPE P1","","","",0]
["863E00200","SY","GEOGRID, TYPE P2","","","",0]
["863E00300","SY","GEOGRID, TYPE P3","","","",0]
["863E00400","SY","GEOGRID, TYPE P4","","","",0]
["863E00500","SY","GEOGRID, TYPE P5","","","",0]
["863E00600","SY","GEOGRID, TYPE S1","","","",0]
["863E00700","SY","GEOGRID, TYPE S2","","","",0]
["863E00800","CY","REINFORCED EMBANKMENT","","","",0]
["863E00801","CY","REINFORCED EMBANKMENT, AS PER PLAN","","","",0]
["864E10000","GAL","POLYURETHANE EXPANDING FOAM, PREMIXED","","","",0]
["866E00100","EACH","GROUND ANCHOR,","","","SPECIFY ___ KIP MAX. TEST LOAD",1]
["866E00101","EACH","GROUND ANCHOR, AS PER PLAN","","","SPECIFY ___ KIP MAX. TEST LOAD",1]
["866E00200","EACH","TEMPORARY GROUND ANCHOR","","","SPECIFY ___ KIP MAX. TEST LOAD",1]
["866E00300","LS","INVESTIGATIVE ANCHOR PULLOUT TESTS","","","",0]
["866E00400","EACH","PERFORMANCE TEST","","","",0]
["866E00500","EACH","EXTENDED CREEP TEST","","","",0]
["866E01000","CY","PRE-GROUTING IN ROCK","","","",0]
["866E01100","EACH","REDRILLING PRE-GROUTED HOLES IN ROCK","","","",0]
["867E00100","LS","TEMPORARY WIRE FACED MECHANICALLY STABILIZED EARTH WALL","","","",0]
["867E00101","LS","TEMPORARY WIRE FACED MECHANICALLY STABILIZED EARTH WALL, AS PER PLAN","","","",0]
["869E00100","EACH","HIGH LOAD MULTI-ROTATIONAL (HLMR) BEARINGS","","","",0]
["869E00101","EACH","HIGH LOAD MULTI-ROTATIONAL (HLMR) BEARINGS, AS PER PLAN","","","",0]
["870E10000","SF","PREFABRICATED MODULAR RETAINING WALL","","","",0]
["870E10001","SF","PREFABRICATED MODULAR RETAINING WALL, AS PER PLAN","","","",0]
["870E11000","CY","WALL EXCAVATION","","","",0]
["870E11100","CY","NATURAL SOIL","","","",0]
["870E12000","FT","6\" DRAINAGE PIPE, PERFORATED","","","",0]
["870E12100","FT","6\" DRAINAGE PIPE, NON-PERFORATED","","","",0]
["870E12500","FT","CONCRETE COPING","","","",0]
["870E14000","DAY","ON-SITE ASSISTANCE","","","",0]
["870E15000","LS","PMRW INSPECTION AND COMPACTION TESTING","","","",0]
["871E10000","CY","EMBANKMENT USING FLY ASH","","","",0]
["871E10020","CY","EMBANKMENT USING BOTTOM ASH","","","",0]
["871E10040","CY","EMBANKMENT USING FOUNDRY SAND","","","",0]
["871E10060","CY","EMBANKMENT USING RECYCLED GLASS","","","",0]
["871E10080","CY","EMBANKMENT USING TIRE SHREDS","","","",0]
["871E10090","CY","EMBANKMENT USING PETROLEUM CONTAMINATED SOIL","","","",0]
["871E10110","CY","EMBANKMENT USING RECYCLED MATERIALS","","","",0]
["871E30000","LS","SOILS CONSULTANT ANALYSIS","","","",0]
["872E10000","FT","VOID REDUCING ASPHALT MEMBRANE (VRAM)","","","",0]
["872E10001","FT","VOID REDUCING ASPHALT MEMBRANE (VRAM), AS PER PLAN","","","",0]
["874E20000","FT","LONGITUDINAL JOINT PREPARATION","","","",0]
["874E20001","FT","LONGITUDINAL JOINT PREPARATION, AS PER PLAN","","","",0]
["874E21000","MILE","LONGITUDINAL JOINT PREPARATION","","","",0]
["874E21001","MILE","LONGITUDINAL JOINT PREPARATION, AS PER PLAN","","","",0]
["875E10000","LB","LONGITUDINAL JOINT ADHESIVE","","","",0]
["878E25000","LS","INSPECTION AND COMPACTION TESTING OF UNBOUND MATERIALS","","","",0]
["880E10000","CY","ASPHALT CONCRETE WITH WARRANTY (5 YEARS)","","","",0]
["880E10001","CY","ASPHALT CONCRETE WITH WARRANTY (5 YEARS), AS PER PLAN","","","",0]
["880E15000","CY","ASPHALT CONCRETE WITH WARRANTY (7 YEARS)","","","",0]
["880E15001","CY","ASPHALT CONCRETE WITH WARRANTY (7 YEARS), AS PER PLAN","","","",0]
["880E99000","LS","SPECIAL - ASPHALT PAVEMENT (5 YEAR WARRANTY)","","","DESIGN BUILD PROJECTS ONLY",0]
["880E99050","LS","SPECIAL - ASPHALT PAVEMENT (7 YEAR WARRANTY)","","","DESIGN BUILD PROJECTS ONLY",0]
["881E10000","SY","MICROSURFACING WITH WARRANTY, SINGLE COURSE","","","",0]
["881E10001","SY","MICROSURFACING WITH WARRANTY, SINGLE COURSE, AS PER PLAN","","","",0]
["881E20000","SY","MICROSURFACING WITH WARRANTY, MULTIPLE COURSE","","","",0]
["881E20001","SY","MICROSURFACING WITH WARRANTY, MULTIPLE COURSE, AS PER PLAN","","","",0]
["882E10000","SY","SINGLE CHIP SEAL WITH TWO YEAR WARRANTY","","","",0]
["882E10001","SY","SINGLE CHIP SEAL WITH TWO YEAR WARRANTY, AS PER PLAN","","","",0]
["882E20000","SY","DOUBLE CHIP SEAL WITH TWO YEAR WARRANTY","","","",0]
["882E20001","SY","DOUBLE CHIP SEAL WITH TWO YEAR WARRANTY, AS PER PLAN","","","",0]
["882E98000","SY","CHIP SEAL, MISC.:","","","ADD SUPPLEMENTAL DESCRIPTION",1]
["883E00050","SF","SURFACE PREPARATION OF STRUCTURAL STEEL, WITH WARRANTY","","","",0]
["883E00060","LS","SURFACE PREPARATION OF STRUCTURAL STEEL, WITH WARRANTY","","","",0]
["883E00200","SF","FIELD METALLIZING OF STRUCTURAL STEEL, WITH WARRANTY","","","",0]
["883E00210","LS","FIELD METALLIZING OF STRUCTURAL STEEL, WITH WARRANTY","","","",0]
["883E00504","MNHR","GRINDING FINS, TEARS, SLIVERS ON STRUCTURAL STEEL","","","",0]
["884E00500","SY","VARIABLE THICKNESS PORTLAND CEMENT CONCRETE PAVEMENT (7 YEAR WARRANTY)","","","",0]
["884E10000","SY","8\" PORTLAND CEMENT CONCRETE PAVEMENT (7 YEAR WARRANTY)","","","",0]
["884E10050","SY","9\" PORTLAND CEMENT CONCRETE PAVEMENT (7 YEAR WARRANTY)","","","",0]
["884E10051","SY","9\" PORTLAND CEMENT CONCRETE PAVEMENT (7 YEAR WARRANTY), AS PER PLAN","","","",0]
["884E10080","SY","9.5\" PORTLAND CEMENT CONCRETE PAVEMENT (7 YEAR WARRANTY)","","","",0]
["884E10100","SY","10\" PORTLAND CEMENT CONCRETE PAVEMENT (7 YEAR WARRANTY)","","","",0]
["884E10150","SY","11\" PORTLAND CEMENT CONCRETE PAVEMENT (7 YEAR WARRANTY)","","","",0]
["884E10200","SY","12\" PORTLAND CEMENT CONCRETE PAVEMENT (7 YEAR WARRANTY)","","","",0]
["884E10201","SY","12\" PORTLAND CEMENT CONCRETE PAVEMENT (7 YEAR WARRANTY), AS PER PLAN","","","",0]
["884E10240","SY","12.5\" PORTLAND CEMENT CONCRETE PAVEMENT (7 YEAR WARRANTY)","","","",0]
["884E10250","SY","13\" PORTLAND CEMENT CONCRETE PAVEMENT (7 YEAR WARRANTY)","","","",0]
["884E10270","SY","13.5\" PORTLAND CEMENT CONCRETE PAVEMENT (7 YEAR WARRANTY)","","","",0]
["884E10300","SY","14\" PORTLAND CEMENT CONCRETE PAVEMENT (7 YEAR WARRANTY)","","","",0]
["884E10320","SY","14.5\" PORTLAND CEMENT CONCRETE PAVEMENT (7 YEAR WARRANTY)","","","",0]
["884E10321","SY","14.5\" PORTLAND CEMENT CONCRETE PAVEMENT (7 YEAR WARRANTY), AS PER PLAN","","","",0]
["884E10350","SY","15\" PORTLAND CEMENT CONCRETE PAVEMENT (7 YEAR WARRANTY)","","","",0]
["884E80000","SY","PORTLAND CEMENT CONCRETE PAVEMENT (7 YEAR WARRANTY), MISC.:","","","SPECIFY THICKNESS",1]
["884E99000","LS","SPECIAL - PORTLAND CEMENT CONCRETE PAVEMENT (7 YEAR WARRANTY)","","","DESIGN BUILD PROJECTS ONLY",0]
["885E00050","SF","SURFACE PREPARATION OF EXISTING STRUCTURAL STEEL, WITH WARRANTY","","","",0]
["885E00051","SF","SURFACE PREPARATION OF EXISTING STRUCTURAL STEEL, WITH WARRANTY, AS PER PLAN","","","",0]
["885E00056","SF","FIELD PAINTING OF EXISTING STRUCTURAL STEEL, PRIME COAT, WITH WARRANTY","","","",0]
["885E00057","SF","FIELD PAINTING OF EXISTING STRUCTURAL STEEL, PRIME COAT, WITH WARRANTY, AS PER PLAN","","","",0]
["885E00060","SF","FIELD PAINTING OF EXISTING STRUCTURAL STEEL, INTERMEDIATE COAT, WITH WARRANTY","","","",0]
["885E00061","SF","FIELD PAINTING OF EXISTING STRUCTURAL STEEL, INTERMEDIATE COAT, WITH WARRANTY, AS PER PLAN","","","",0]
["885E00066","SF","FIELD PAINTING STRUCTURAL STEEL, FINISH COAT, WITH WARRANTY","","","",0]
["885E00067","SF","FIELD PAINTING STRUCTURAL STEEL, FINISH COAT, WITH WARRANTY, AS PER PLAN","","","",0]
["885E00100","LS","SURFACE PREPARATION OF EXISTING STRUCTURAL STEEL, WITH WARRANTY","","","",0]
["885E00200","LS","FIELD PAINTING OF EXISTING STRUCTURAL STEEL, PRIME COAT, WITH WARRANTY","","","",0]
["885E00300","LS","FIELD PAINTING STRUCTURAL STEEL, INTERMEDIATE COAT, WITH WARRANTY","","","",0]
["885E00400","LS","FIELD PAINTING STRUCTURAL STEEL, FINISH COAT, WITH WARRANTY","","","",0]
["885E00504","MNHR","GRINDING FINS, TEARS, SLIVERS ON EXISTING STRUCTURAL STEEL","","","",0]
["885E00800","LB","FIELD PAINTING STRUCTURAL STEEL, INTERMEDIATE COAT, WITH WARRANTY","","","",0]
["885E00850","LB","FIELD PAINTING STRUCTURAL STEEL, FINISH COAT, WITH WARRANTY","","","",0]
["885E10000","EACH","FINAL INSPECTION REPAIR","","","",0]
["885E90000","SF","FIELD PAINTING, MISC.:","","","ADD SUPPLEMENTAL DESCRIPTION",1]
["885E90010","LS","FIELD PAINTING, MISC.:","","","ADD SUPPLEMENTAL DESCRIPTION",1]
["885E90020","FT","FIELD PAINTING, MISC.:","","","ADD SUPPLEMENTAL DESCRIPTION",1]
["886E11000","GAL","FOG SEAL","","","",0]
["888E10000","SY","HIGH FRICTION SURFACE TREATMENT, SINGLE LIFT","","","",0]
["888E10001","SY","HIGH FRICTION SURFACE TREATMENT, SINGLE LIFT, AS PER PLAN","","","",0]
["888E20000","SY","HIGH FRICTION SURFACE TREATMENT, DOUBLE LIFT","","","",0]
["888E20001","SY","HIGH FRICTION SURFACE TREATMENT, DOUBLE LIFT, AS PER PLAN","","","",0]
["892E10200","CY","QC/QA CONCRETE, CLASS QC2, SUPERSTRUCTURE (DECK) WITH WARRANTY","","","",0]
["892E10201","CY","QC/QA CONCRETE, CLASS QC2, SUPERSTRUCTURE (DECK) WITH WARRANTY, AS PER PLAN","","","",0]
["892E10400","CY","QC/QA CONCRETE, CLASS QC3, SUPERSTRUCTURE (DECK) WITH WARRANTY","","","",0]
["892E10600","SY","QC/QA CONCRETE, CLASS QC2, SUPERSTRUCTURE (DECK) WITH WARRANTY","","","",0]
["892E10800","SY","QC/QA CONCRETE, CLASS QC3, SUPERSTRUCTURE (DECK) WITH WARRANTY","","","",0]
["893E10000","FT","CONTINUOUS FLIGHT AUGER (CFA) PILES, 12” DIAMETER","","","",0]
["893E10001","FT","CONTINUOUS FLIGHT AUGER (CFA) PILES, 12” DIAMETER, AS PER PLAN","","","",0]
["893E10100","FT","CONTINUOUS FLIGHT AUGER (CFA) PILES, 14” DIAMETER","","","",0]
["893E10101","FT","CONTINUOUS FLIGHT AUGER (CFA) PILES, 14” DIAMETER, AS PER PLAN","","","",0]
["893E10200","FT","CONTINUOUS FLIGHT AUGER (CFA) PILES, 16” DIAMETER","","","",0]
["893E10201","FT","CONTINUOUS FLIGHT AUGER (CFA) PILES, 16” DIAMETER, AS PER PLAN","","","",0]
["893E10300","FT","CONTINUOUS FLIGHT AUGER (CFA) PILES, 18” DIAMETER","","","",0]
["893E10301","FT","CONTINUOUS FLIGHT AUGER (CFA) PILES, 18” DIAMETER, AS PER PLAN","","","",0]
["893E10400","FT","CONTINUOUS FLIGHT AUGER (CFA) PILES, 24” DIAMETER","","","",0]
["893E10401","FT","CONTINUOUS FLIGHT AUGER (CFA) PILES, 24” DIAMETER, AS PER PLAN","","","",0]
["893E10500","FT","CONTINUOUS FLIGHT AUGER (CFA) PILES, 30” DIAMETER","","","",0]
["893E10501","FT","CONTINUOUS FLIGHT AUGER (CFA) PILES, 30” DIAMETER, AS PER PLAN","","","",0]
["893E10600","FT","CONTINUOUS FLIGHT AUGER (CFA) PILES, 36” DIAMETER","","","",0]
["893E10601","FT","CONTINUOUS FLIGHT AUGER (CFA) PILES, 36” DIAMETER, AS PER PLAN","","","",0]
["893E10700","FT","CONTINUOUS FLIGHT AUGER (CFA) PILES, 42” DIAMETER","","","",0]
["893E10701","FT","CONTINUOUS FLIGHT AUGER (CFA) PILES, 42” DIAMETER, AS PER PLAN","","","",0]
["893E10800","FT","CONTINUOUS FLIGHT AUGER (CFA) PILES, 48” DIAMETER","","","",0]
["893E10801","FT","CONTINUOUS FLIGHT AUGER (CFA) PILES, 48” DIAMETER, AS PER PLAN","","","",0]
["893E19000","FT","CONTINUOUS FLIGHT AUGER (CFA) PILES, MISC.:","","","ADD SUPPLEMENTAL DESCRIPTION",1]
["893E20000","EACH","CONTINUOUS FLIGHT AUGER (CFA) PILES, INTEGRITY TEST","","","",0]
["893E20100","EACH","CONTINUOUS FLIGHT AUGER (CFA) PILES, VERIFICATION LOAD TEST","","","",0]
["893E20200","EACH","CONTINUOUS FLIGHT AUGER (CFA) PILES, PROOF LOAD TEST","","","",0]
["894E10000","EACH","THERMAL INTEGRITY PROFILING (TIP) TEST","","","",0]
["894E10100","FT","CONCRETE CORE SAMPLING AND GROUTING","","","",0]
["894E10200","EACH","CONCRETE CORE STRENGTH TEST","","","",0]
["895E10010","EACH","MANUFACTURED WATER QUALITY STRUCTURE, TYPE 1","","","",0]
["895E10011","EACH","MANUFACTURED WATER QUALITY STRUCTURE, TYPE 1, AS PER PLAN","","","",0]
["895E10020","EACH","MANUFACTURED WATER QUALITY STRUCTURE, TYPE 2","","","",0]
["895E10021","EACH","MANUFACTURED WATER QUALITY STRUCTURE, TYPE 2, AS PER PLAN","","","",0]
["895E10030","EACH","MANUFACTURED WATER QUALITY STRUCTURE, TYPE 3","","","",0]
["895E10040","EACH","MANUFACTURED WATER QUALITY STRUCTURE, TYPE 4","","","",0]
["896E00010","SNMT","PORTABLE NON-INTRUSIVE TRAFFIC SENSOR, CLASS I","","","",0]
["896E00012","SNMT","PORTABLE NON-INTRUSIVE TRAFFIC SENSOR, CLASS II","","","",0]
["896E00020","SNMT","PORTABLE CHANGEABLE MESSAGE SIGN","","","",0]
["896E00021","SNMT","PORTABLE CHANGEABLE MESSAGE SIGN, AS PER PLAN","","","",0]
["897E01010","SY","PAVEMENT PLANING, ASPHALT CONCRETE, CLASS A","","","SPECIFY DEPTH",1]
["897E01011","SY","PAVEMENT PLANING, ASPHALT CONCRETE, CLASS A, AS PER PLAN","","","SPECIFY DEPTH",1]
["897E01020","SY","PAVEMENT PLANING, ASPHALT CONCRETE, CLASS B","","","SPECIFY DEPTH",1]
["897E01021","SY","PAVEMENT PLANING, ASPHALT CONCRETE, CLASS B, AS PER PLAN","","","SPECIFY DEPTH",1]
["897E02000","SY","PATCHING PLANED SURFACE","","","",0]
["897E02001","SY","PATCHING PLANED SURFACE, AS PER PLAN","","","",0]
["898E10000","EACH","WIRELESS MAGNETOMETER DETECTION SYSTEM","","","",0]
["898E10001","EACH","WIRELESS MAGNETOMETER DETECTION SYSTEM, AS PER PLAN","","","",0]
["898E15000","LS","TRAINING FOR WIRELESS MAGNETOMETER DETECTION SYSTEM","","","",0]
["899E10000","FT","CURED-IN-PLACE PIPE LINER","","","SPECIFY SIZE (___\" DIAMETER)",1]
["899E10001","FT","CURED-IN-PLACE PIPE LINER, AS PER PLAN","","","SPECIFY SIZE (___\" DIAMETER)",1]
["900E01000","MILE","SPECIAL -","","","ADD SUPP DESC - RAIL ONLY",1]
["900E10000","FT","SPECIAL -","","","ADD SUPP DESC - RAIL ONLY",1]
["900E11000","EACH","SPECIAL -","","","ADD SUPP DESC - RAIL ONLY",1]
["900E12000","TKFT","SPECIAL -","","","ADD SUPP DESC - RAIL ONLY",1]
["900E13000","PAIR","SPECIAL -","","","ADD SUPP DESC - RAIL ONLY",1]
["900E14000","JT","SPECIAL -","","","ADD SUPP DESC - RAIL ONLY",1]
["900E15000","SET","SPECIAL -","","","ADD SUPP DESC - RAIL ONLY",1]
["900E16000","TON","SPECIAL -","","","ADD SUPP DESC - RAIL ONLY",1]
["900E17000","LS","SPECIAL -","","","ADD SUPP DESC - RAIL ONLY",1]
["900E19000","CY","SPECIAL -","","","ADD SUPP DESC - RAIL ONLY",1]
["900E20000","SY","SPECIAL -","","","ADD SUPP DESC - RAIL ONLY",1]
["900E21000","BNDL","SPECIAL -","","","ADD SUPP DESC - RAIL ONLY",1]
["900E22000","LB","SPECIAL -","","","ADD SUPP DESC - RAIL ONLY",1]
["950E10000","LS","SPECIAL - SALT SHED DEMOLISHED","","","",0]
["950E14000","EACH","SPECIAL - SALT DOME CONSTRUCTED, 51'","","","",0]
["950E14010","EACH","SPECIAL - SALT DOME CONSTRUCTED, 56'","","","",0]
["950E15000","EACH","SPECIAL - SALT DOME CONSTRUCTED, 62'","","","",0]
["950E16000","EACH","SPECIAL - SALT DOME CONSTRUCTED, 61'","","","",0]
["950E20000","EACH","SPECIAL - SALT DOME CONSTRUCTED, 72'","","","",0]
["950E20010","EACH","SPECIAL - SALT DOME CONSTRUCTED, 82'","","","",0]
["950E30000","EACH","SPECIAL - SALT DOME CONSTRUCTED, 100'","","","",0]
["950E35000","LS","SPECIAL - ROOF REPLACEMENT","","","",0]
["950E40000","EACH","SPECIAL - MANUFACTURED OFFICE, 44'","","","",0]
["950E50000","LS","SPECIAL - FACILITIES","","","ADD SUPPLEMENTAL DESCRIPTION",1]
["950E51000","EACH","SPECIAL - FACILITIES","","","ADD SUPPLEMENTAL DESCRIPTION",1]
["990E10000","LS","ESTIMATED COST OF REPAIRS TO DETOUR","","","ODOT INTERNAL USE ONLY",0]
["990E10010","LS","ESTIMATED COST OF RIGHT OF WAY","","","ODOT INTERNAL USE ONLY",0]
["990E10020","LS","ESTIMATED COST OF ENGINEERING, SUPERINTENDENCE AND CONTINGENCIES","","","ODOT INTERNAL USE ONLY",0]
["990E10030","LS","ESTIMATED COST OF PRELIMINARY ENGINEERING","","","ODOT INTERNAL USE ONLY",0]
["990E10040","LS","ESTIMATED COST OF FORCE ACCOUNT WORK","","","ODOT INTERNAL USE ONLY",0]
["990E10500","LS","ESTIMATED COST OF INCENTIVE/DISINCENTIVE PAYMENT","","","ODOT INTERNAL USE ONLY",0]
["990E20000","LS","FORCE ACCOUNT","","","SITE MANAGER USE ONLY",0]
["990E20010","LS","DIFFERENCE BETWEEN ESTIMATED AND ACTUAL COST OF FORCE ACCOUNT","","","SITE MANAGER USE ONLY",0]
["990E21000","DLR","INTEREST PAYMENTS","","","SITE MANAGER USE ONLY",0]
["990E24000","LS","BITUMINOUS PRICE ADJUSTMENT","","","SITE MANAGER USE ONLY",0]
["990E24100","LS","446 ADJUSTMENT","","","SITE MANAGER USE ONLY",0]
["990E24130","LS","447 MAT DENSITY ADJUSTMENT","","","SITE MANAGER USE ONLY",0]
["990E24170","LS","447 JOINT DENSITY ADJUSTMENT","","","SITE MANAGER USE ONLY",0]
["990E24200","LS","448 ADJUSTMENT","","","SITE MANAGER USE ONLY",0]
["990E24300","LS","PAVEMENT SMOOTHNESS ADJUSTMENT (PN 420)","","","SITE MANAGER USE ONLY",0]
["990E24350","LS","BRIDGE SMOOTHNESS ADJUSTMENT (PN 555)","","","SITE MANAGER USE ONLY",0]
["990E24400","LS","STEEL PRICE ADJUSTMENT","","","SITE MANAGER USE ONLY",0]
["990E24500","LS","QC / QA","","","SITE MANAGER USE ONLY",0]
["990E24600","LS","LANDSCAPING ADJUSTMENT","","","SITE MANAGER USE ONLY",0]
["990E24700","LS","104.02 ADJUSTMENT","","","SITE MANAGER USE ONLY",0]
["990E24800","LS","NON-SPEC MATERIAL DEDUCTION","","","SITE MANAGER USE ONLY",0]
["990E24900","LS","109.05 - BUY BACK MATERIAL","","","SITE MANAGER USE ONLY",0]
["990E25000","LS","FUEL PRICE ADJUSTMENT","","","SITE MANAGER USE ONLY",0]
["990E25100","LS","UTILITY CONFLICT/DELAYS","","","SITE MANAGER USE ONLY",0]
["990E25200","LS","ABANDONED UTILITY CONFLICT/DELAYS","","","SITE MANAGER USE ONLY",0]
["990E25300","LS","105.03 NON-CONFORMANCE ADJUSTMENT","","","SITE MANAGER USE ONLY",0]
["990E25400","LS","LUMP SUM ADJUSTMENT - GENERAL / OTHER ITEMS","","","SITE MANAGER USE ONLY",0]
["990E25500","LS","FAILURE TO MEET DBE COMMITMENTS","","","SITE MANAGER USE ONLY",0]
["990E30000","LS","AGREED LUMP SUM","","","SITE MANAGER USE ONLY",0]
["990E40000","EACH","AGREED UNIT PRICE","","","SITE MANAGER USE ONLY",0]
["990E40010","FT","AGREED UNIT PRICE","","","SITE MANAGER USE ONLY",0]
["990E40020","SF","AGREED UNIT PRICE","","","SITE MANAGER USE ONLY",0]
["990E40030","SY","AGREED UNIT PRICE","","","SITE MANAGER USE ONLY",0]
["990E40050","MILE","AGREED UNIT PRICE","","","SITE MANAGER USE ONLY",0]
["990E40060","CY","AGREED UNIT PRICE","","","SITE MANAGER USE ONLY",0]
["990E40070","LB","AGREED UNIT PRICE","","","SITE MANAGER USE ONLY",0]
["990E40080","MNTH","AGREED UNIT PRICE","","","SITE MANAGER USE ONLY",0]
["990E40090","TON","AGREED UNIT PRICE","","","SITE MANAGER USE ONLY",0]
["990E40100","TKFT","AGREED UNIT PRICE","","","SITE MANAGER USE ONLY",0]
["990E50000","HOUR","AGREED UNIT PRICE","","","SITE MANAGER USE ONLY",0]
["990E50100","DAY","AGREED UNIT PRICE","","","SITE MANAGER USE ONLY",0]
["990E50110","GAL","AGREED UNIT PRICE","","","SITE MANAGER USE ONLY",0]
["990E50120","STA","AGREED UNIT PRICE","","","SITE MANAGER USE ONLY",0]
["990E50130","MSF","AGREED UNIT PRICE","","","SITE MANAGER USE ONLY",0]
["990E50140","MGAL","AGREED UNIT PRICE","","","SITE MANAGER USE ONLY",0]