<?xml version="1.0"?>
<!--<!DOCTYPE metadata SYSTEM "http://www.esri.com/metadata/esriprof80.dtd">-->
<metadata xml:lang="en">
  <Esri>
    <MetaID>{7990F418-8B36-4865-88A9-89B3E48A95D6}</MetaID>
    <CreaDate>20060626</CreaDate>
    <CreaTime>09261600</CreaTime>
    <SyncOnce>FALSE</SyncOnce>
    <SyncDate>20071212</SyncDate>
    <SyncTime>09005100</SyncTime>
    <ModDate>20071212</ModDate>
    <ModTime>09005100</ModTime>
    <DataProperties>
      <lineage>
        <Process ToolSource="C:\Program Files\ArcGIS\ArcToolbox\Toolboxes\Data Management Tools.tbx\DefineProjection" Date="20071210" Time="165932">DefineProjection K:\66462_Ohio_Statewide_Block_N\tifs\S1430405.tif PROJCS['NAD_1983_HARN_StatePlane_Ohio_South_FIPS_3402_USFoot',GEOGCS['GCS_North_American_1983_HARN',DATUM['D_North_American_1983_HARN',SPHEROID['GRS_1980',6378137.0,298.257222101]],PRIMEM['Greenwich',0.0],UNIT['Degree',0.0174532925199433]],PROJECTION['Lambert_Conformal_Conic'],PARAMETER['False_Easting',1968500.0],PARAMETER['False_Northing',0.0],PARAMETER['Central_Meridian',-82.5],PARAMETER['Standard_Parallel_1',38.73333333333333],PARAMETER['Standard_Parallel_2',40.03333333333333],PARAMETER['Latitude_Of_Origin',38.0],UNIT['Foot_US',0.3048006096012192]] K:\66462_Ohio_Statewide_Block_N\tifs\S1430405.tif</Process>
      </lineage>
    </DataProperties>
  </Esri>
  <idinfo>
    <native Sync="TRUE">Microsoft Windows 2000 Version 5.0 (Build 2195) Service Pack 4; ESRI ArcCatalog 9.0.0.535</native>
    <descript>
      <langdata Sync="TRUE">en</langdata>
      <abstract>The 2007 OSIP digital natural-color orthophotography was collected during the months of March and April (leaf-off conditions) at a minimum resolution of 1-foot statewide (the following eight counties were collected at 6-inch resolution:  Allen, Auglaize, Clark, Franklin, Gallia, Greene, Lawrence, Madison, Montgomery, Morgan and Muskingum.  The orthoimagery covers the entire land area of the southern tier of Ohio (approximately 17,000 square miles), excluding Highland, Pike, Ross, Adams and Scioto Counties, which due to weather, will be flown in 2008. The orthos are delivered in county sets, consisting of 5,000' x 5,000' uncompressed 24-bit natural color geotiff files.  Horizontal accuracy is based upon NMAS Standards, with the 1"=200' scale (1-foot imagery) based upon an accuracy of +/- 5.0-feet and the 1"=100' scale (0.5-foot imagery) based upon an accuracy of +/- 2.5-feet. Where the State borders other states (land only), the entire border of the State is buffered by at least 1,000-feet. Along the Ohio River ortho coverage is buffered beyond the opposing shoreline by an average distance of 200-feet.  Adjacent flight lines overlap by an average of 30 percent. Imagery was collected with Leica ADS40/51/52 digital cameras and rectified using LiDAR data. The file naming convention is as follows: Sxxxxyyy = 1"=200' scale imagery (1.0-foot resolution) located in the Ohio State Plane Coordinate System (Sorth Zone).  Nxxxxyyy = 1"=200' scale imagery (1.0-foot resolution) located in the Ohio State Plane Coordinate System (Nouth Zone). asxxxyyy or anxxxyyy=  (e.g., 6-inch); Please note that xxxx and yyy represent the easting and northing coordinates (respectively) in state plane feet. Each geotiff ortho file is approximately 75MBs in size. Ownership of the data products resides with the State of Ohio and counties that elected bo "buy-up". Orthophotography and ancillary data products produced through this contract are public domain data.

LiDAR was acquired Statewide to provide a solid and very accurate base to use during the image rectification process.  This same LiDAR can be supplemented with 3D breaklines to generate 2-foot and/or 4/5-foot contours.  The average post spacing between LiDAR points is 7-feet.  The flying altitude was 7,300-feet AMT, with the targeted flying speed at 170 knots.</abstract>
      <purpose>The State of Ohio has a goal to develop and maintain a seamless statewide base map, referred to as OSIP (Ohio Statewide Imagery Program). OSIP is an initiative partnered through several State Agencies (i.e. ODOT, ODNR, OEPA) through OGRIP. USGS is also a partner.  Data from this project forms the foundation of the Statewide base map, and was developed primarily to support multi-use applications, including homeland security, emergency management, economic development, and the business of government.</purpose>
      <supplinf>The delivery of the LiDAR DEM will be based upon the 5,000' x 5,000' ortho tile layout, with the same naming convention used for both the imagery and LiDAR.  Each LiDAR tile will be delivered in ArcGRID (ASCII), Raster and LAS Formats.</supplinf>
    </descript>
    <citation>
      <citeinfo>
        <origin>State of Ohio Office of Information Technology, Ohio Geographically Referenced Information Program</origin>
        <pubdate>20070101</pubdate>
        <title Sync="TRUE">s1430405.tif</title>
        <ftname Sync="TRUE">s1430405.tif</ftname>
        <geoform>raster digital data</geoform>
        <onlink Sync="TRUE">\\PH40ORTHO6329\K$\66462_Ohio_Statewide_Block_N\tifs\s1430405.tif</onlink>
      </citeinfo>
    </citation>
    <timeperd>
      <current>ground condition</current>
      <timeinfo>
        <sngdate>
          <caldate>04162007</caldate>
        </sngdate>
      </timeinfo>
    </timeperd>
    <status>
      <progress>In work</progress>
      <update>Unknown</update>
    </status>
    <spdom>
      <bounding>
        <westbc Sync="TRUE">-84.397933</westbc>
        <eastbc Sync="TRUE">-84.379949</eastbc>
        <northbc Sync="TRUE">39.110455</northbc>
        <southbc Sync="TRUE">39.096443</southbc>
      </bounding>
      <lboundng>
        <leftbc Sync="TRUE">1430000.000000</leftbc>
        <rightbc Sync="TRUE">1435000.000000</rightbc>
        <bottombc Sync="TRUE">405000.000000</bottombc>
        <topbc Sync="TRUE">410000.000000</topbc>
      </lboundng>
    </spdom>
    <keywords>
      <theme>
        <themekt>None</themekt>
        <themekey>Digital Orthophotography</themekey>
        <themekey>imageryBaseMapsEarthCover</themekey>
        <themekey>statewide imagery</themekey>
        <themekey>georeferenced image</themekey>
        <themekey>Georectification</themekey>
        <themekey>OSIP</themekey>
        <themekey>orthophotography</themekey>
        <themekey>aerial photograph</themekey>
        <themekey>rectified image</themekey>
        <themekey>digital orthophoto</themekey>
      </theme>
      <place>
        <placekey>US</placekey>
        <placekey>Ohio</placekey>
      </place>
    </keywords>
    <accconst>None</accconst>
    <useconst>None</useconst>
    <natvform Sync="TRUE">Raster Dataset</natvform>
    <datacred>This data set was acquired for the State of Ohio by Woolpert Inc. Subcontractors for data acquisition include NorthWest Geomatics, Horizons and EarthData.</datacred>
    <ptcontac>
      <cntinfo>
        <cntpos>Project Administrator</cntpos>
        <cntaddr>
          <addrtype>mailing and physical address</addrtype>
          <address>77 South High Street - Room 1990</address>
          <city>Columbus</city>
          <state>Ohio</state>
          <postal>43215</postal>
          <country>USA</country>
        </cntaddr>
        <cntvoice>614.466.4747</cntvoice>
        <cntfax>614.728.5297</cntfax>
        <cntemail>gis.support@oit.ohio.gov</cntemail>
        <hours>8:00 am - 5:00 pm</hours>
        <cntorgp>
          <cntorg>State of Ohio, through the Office of Information Technology, Investment and Governance Division, for the Office of Information Technology, Services Delivery Division and the Ohio Geographically Referenced Information Program (OGRIP)</cntorg>
          <cntper>Jeff Smith</cntper>
        </cntorgp>
      </cntinfo>
    </ptcontac>
    <crossref>
      <citeinfo>
        <origin>State of Ohio Office of Information Technology, Ohio Geographically Referenced Information Program</origin>
      </citeinfo>
    </crossref>
  </idinfo>
  <dataIdInfo>
    <envirDesc Sync="TRUE">Microsoft Windows 2000 Version 5.0 (Build 2195) Service Pack 4; ESRI ArcCatalog 9.0.0.535</envirDesc>
    <dataLang>
      <languageCode Sync="TRUE" value="en">
      </languageCode>
    </dataLang>
    <idCitation>
      <resTitle Sync="TRUE">s1430405.tif</resTitle>
      <presForm>
        <PresFormCd Sync="TRUE" value="005">
        </PresFormCd>
      </presForm>
    </idCitation>
    <spatRpType>
      <SpatRepTypCd Sync="TRUE" value="002">
      </SpatRepTypCd>
    </spatRpType>
    <dataExt>
      <geoEle>
        <GeoBndBox esriExtentType="native">
          <westBL Sync="TRUE">1430000</westBL>
          <eastBL Sync="TRUE">1435000</eastBL>
          <northBL Sync="TRUE">410000</northBL>
          <southBL Sync="TRUE">405000</southBL>
          <exTypeCode Sync="TRUE">1</exTypeCode>
        </GeoBndBox>
      </geoEle>
    </dataExt>
    <geoBox esriExtentType="decdegrees">
      <westBL Sync="TRUE">-84.397933</westBL>
      <eastBL Sync="TRUE">-84.379949</eastBL>
      <northBL Sync="TRUE">39.110455</northBL>
      <southBL Sync="TRUE">39.096443</southBL>
      <exTypeCode Sync="TRUE">1</exTypeCode>
    </geoBox>
  </dataIdInfo>
  <metainfo>
    <langmeta Sync="TRUE">en</langmeta>
    <metstdn Sync="TRUE">FGDC Content Standards for Digital Geospatial Metadata</metstdn>
    <metstdv Sync="TRUE">FGDC-STD-001-1998</metstdv>
    <mettc Sync="TRUE">local time</mettc>
    <metc>
      <cntinfo>
        <cntaddr>
          <addrtype>mailing and physical address</addrtype>
          <city>Dayton</city>
          <state>Ohio</state>
          <postal>45402</postal>
          <address>409 East Monument Avenue</address>
          <country>USA</country>
        </cntaddr>
        <cntvoice>937.531.1323</cntvoice>
        <cntperp>
          <cntper>Brian Stevens</cntper>
          <cntorg>Woolpert Inc.</cntorg>
        </cntperp>
        <cntpos>Project Manager</cntpos>
        <cntfax>937.461.0743</cntfax>
        <cntemail>brian.stevens@woolpert.com</cntemail>
      </cntinfo>
    </metc>
    <metd Sync="TRUE">20071212</metd>
    <metac>These metadata were produced prior to full state delivery and assume acceptance during QA/QC.  All project sets are to be delivered under contract by February 2008.  Completion status is contingent upon passing QA/QC checks and     acceptance of all products by the State of Ohio.  Delivery to counties occurs after acceptance.  If you are accessing this metadata prior to full project acceptance and delivery, users can view project status at http://ohioortho.woolpert.com/</metac>
    <metextns>
      <onlink Sync="TRUE">http://www.esri.com/metadata/esriprof80.html</onlink>
      <metprof Sync="TRUE">ESRI Metadata Profile</metprof>
    </metextns>
  </metainfo>
  <mdLang>
    <languageCode Sync="TRUE" value="en">
    </languageCode>
  </mdLang>
  <mdStanName Sync="TRUE">ISO 19115 Geographic Information - Metadata</mdStanName>
  <mdStanVer Sync="TRUE">DIS_ESRI1.0</mdStanVer>
  <mdChar>
    <CharSetCd Sync="TRUE" value="004">
    </CharSetCd>
  </mdChar>
  <mdHrLv>
    <ScopeCd Sync="TRUE" value="005">
    </ScopeCd>
  </mdHrLv>
  <mdHrLvName Sync="TRUE">dataset</mdHrLvName>
  <distinfo>
    <resdesc>Downloadable Data

External Hard Drives</resdesc>
    <stdorder>
      <digform>
        <digtinfo>
          <transize Sync="TRUE">71.528</transize>
          <dssize Sync="TRUE">71.528</dssize>
        </digtinfo>
      </digform>
    </stdorder>
    <distrib>
      <cntinfo>
        <cntperp>
          <cntper>Jeff Smith</cntper>
          <cntorg>OGRIP</cntorg>
        </cntperp>
        <cntpos>Manager</cntpos>
        <cntaddr>
          <addrtype>mailing and physical address</addrtype>
          <address>77 S. High St. - Rm 1990</address>
          <city>Columbus</city>
          <state>Ohio</state>
          <postal>43215</postal>
          <country>USA</country>
        </cntaddr>
        <cntvoice>614.466.4747</cntvoice>
        <cntfax>614.728.5297</cntfax>
        <cntemail>gis.support@oit.ohio.gov</cntemail>
      </cntinfo>
    </distrib>
    <availabl>
      <timeinfo>
        <mdattim>
          <sngdate>
            <caldate>20070101</caldate>
          </sngdate>
        </mdattim>
      </timeinfo>
    </availabl>
  </distinfo>
  <distInfo>
    <distributor>
      <distorTran>
        <onLineSrc>
          <orDesc Sync="TRUE">002</orDesc>
          <linkage Sync="TRUE">file://\\PH40ORTHO6329\K$\66462_Ohio_Statewide_Block_N\tifs\s1430405.tif</linkage>
          <protocol Sync="TRUE">Local Area Network</protocol>
        </onLineSrc>
        <transSize Sync="TRUE">71.528</transSize>
      </distorTran>
      <distorFormat>
        <formatName Sync="TRUE">Raster Dataset</formatName>
      </distorFormat>
    </distributor>
  </distInfo>
  <spdoinfo>
    <direct Sync="TRUE">Raster</direct>
    <rastinfo>
      <rasttype Sync="TRUE">Pixel</rasttype>
      <rowcount Sync="TRUE">5000</rowcount>
      <colcount Sync="TRUE">5000</colcount>
      <rastxsz Sync="TRUE">1.000000</rastxsz>
      <rastysz Sync="TRUE">1.000000</rastysz>
      <rastbpp Sync="TRUE">8</rastbpp>
      <vrtcount Sync="TRUE">1</vrtcount>
      <rastorig Sync="TRUE">Upper Left</rastorig>
      <rastcmap Sync="TRUE">FALSE</rastcmap>
      <rastcomp Sync="TRUE">None</rastcomp>
      <rastband Sync="TRUE">3</rastband>
      <rastdtyp Sync="TRUE">pixel codes</rastdtyp>
      <rastplyr Sync="TRUE">FALSE</rastplyr>
      <rastifor Sync="TRUE">TIFF</rastifor>
    </rastinfo>
  </spdoinfo>
  <spatRepInfo>
    <GridSpatRep>
      <numDims Sync="TRUE">2</numDims>
      <cellGeo>
        <CellGeoCd Sync="TRUE" value="002">
        </CellGeoCd>
      </cellGeo>
      <tranParaAv Sync="TRUE">1</tranParaAv>
      <axDimProps>
        <Dimen>
          <dimName>
            <DimNameTypCd Sync="TRUE" value="002">
            </DimNameTypCd>
          </dimName>
          <dimSize Sync="TRUE">5000</dimSize>
          <dimResol>
            <value Sync="TRUE">1</value>
            <uom>
              <UomLength>
                <uomName Sync="TRUE">Foot_US</uomName>
                <conversionToISOstandardUnit Sync="TRUE">1 Foot_US = 0.304801 Meter(s)</conversionToISOstandardUnit>
              </UomLength>
            </uom>
          </dimResol>
        </Dimen>
        <Dimen>
          <dimName>
            <DimNameTypCd Sync="TRUE" value="001">
            </DimNameTypCd>
          </dimName>
          <dimSize Sync="TRUE">5000</dimSize>
          <dimResol>
            <value Sync="TRUE">1</value>
            <uom>
              <UomLength>
                <uomName Sync="TRUE">Foot_US</uomName>
                <conversionToISOstandardUnit Sync="TRUE">1 Foot_US = 0.304801 Meter(s)</conversionToISOstandardUnit>
              </UomLength>
            </uom>
          </dimResol>
        </Dimen>
      </axDimProps>
    </GridSpatRep>
  </spatRepInfo>
  <spref>
    <horizsys>
      <planar>
        <planci>
          <plance Sync="TRUE">row and column</plance>
          <coordrep>
            <absres Sync="TRUE">1.000000</absres>
            <ordres Sync="TRUE">1.000000</ordres>
          </coordrep>
          <plandu>survey feet</plandu>
        </planci>
        <mapproj>
          <mapprojn Sync="TRUE">Lambert Conformal Conic</mapprojn>
          <lambertc>
            <stdparll Sync="TRUE">38.733333</stdparll>
            <stdparll Sync="TRUE">40.033333</stdparll>
            <longcm Sync="TRUE">-82.500000</longcm>
            <latprjo Sync="TRUE">38.000000</latprjo>
            <feast Sync="TRUE">1968500.000000</feast>
            <fnorth Sync="TRUE">0.000000</fnorth>
          </lambertc>
        </mapproj>
      </planar>
      <cordsysn>
        <geogcsn>GCS_North_American_State_Plane</geogcsn>
        <projcsn>NAD_1983_CORS_StatePlane_Ohio_South_FIPS_3402</projcsn>
      </cordsysn>
      <geodetic>
        <horizdn>D_North_American_1983_CORS</horizdn>
        <ellips Sync="TRUE">Geodetic Reference System 80</ellips>
        <semiaxis Sync="TRUE">6378137.000000</semiaxis>
        <denflat Sync="TRUE">298.257222</denflat>
      </geodetic>
    </horizsys>
    <vertdef>
      <altsys>
        <altdatum>North American Vertical Datum of 1988</altdatum>
        <altunits>feet</altunits>
      </altsys>
    </vertdef>
  </spref>
  <mdDateSt Sync="TRUE">20071212</mdDateSt>
  <refSysInfo>
    <RefSystem>
      <refSysID>
        <identCode Sync="TRUE">NAD_1983_HARN_StatePlane_Ohio_South_FIPS_3402_USFoot</identCode>
      </refSysID>
    </RefSystem>
  </refSysInfo>
  <dataqual>
    <logic> Compliance with the accuracy standard was validated by the collection of photo identifiable GPS ground control points     during the acquisition of aerial imagery. The following checks were performed.
              
- The ground control and airborne GPS data were validated through a fully analytical bundle aerotriangulation adjustment.

 - The LiDAR DEM data was checked against the project ground control. The technical staff confirmed the accuracy of the points during initial processing

 - Digital orthophotography was validated through an inspection of edge matching and visual inspection for image quality.
</logic>
    <complete>The following methods are used to assure imagery accuracy.

 - Use of IMU and ground control network utilizing GPS techniques.

 - Use of airborne GPS in conjunction with the imagery and LiDAR acquisition.

 - The following software is used for validation of the imagery and surface modeling

              - Aerotriangulation - Leica

              - LiDAR DEM Data - Terrascan, TerraModeler, Leica

              - Digital Orthophotography - Microstation, IRASC, OrthoPro, OrthoVista, ArcGIS, Leica GPro

              - MicroStation

              - ESRI - ArcInfo

              - ERDAS Imagine

              - Woolpert Proprietary software

              - Adobe - Photoshop</complete>
    <posacc>
      <horizpa>
        <horizpar>The 1"=200' scale orthophotos were created to meet 5.0-foot horizontal accuracy, meeting NMAS.

The 1"=100' scale orthophotos were created to meet 2.5-foot horizontal accuracy, meeting NMAS.</horizpar>
      </horizpa>
      <vertacc>
        <vertaccr>The LiDAR DEM was acquired to meet +/- 1-foot vertical accuracy.  This is suitable for rectification of digital orthophotography and for the creation of 2- and 5-foot contours (with the addition of 3D compiled breaklines).</vertaccr>
      </vertacc>
    </posacc>
    <lineage>
      <srcinfo>
        <srccontr>The aerial imagery acquisition for the State of Ohio was flown to support the creation of digital orthophotography with a 0.5-foot and 1-foot pixel resolution. The 0.5-foot pixel ortho imagery was flown at an approximate altitude of 4,800-feet AMT.  The 1-foot pixel ortho imagery was flown at approximately 9,600-feet AMT. Imagery was flown with an average 30% overlap between flight lines All imagery was collected using the Leica ADS40/51/52 digital camera system.</srccontr>
        <srccite>
          <citeinfo>
            <origin>Woolpert Inc.</origin>
            <pubdate>20070724</pubdate>
            <title>Aerial Image Acquisition</title>
            <edition>1</edition>
          </citeinfo>
        </srccite>
        <srcscale>1"=100' &amp; 1"=200'</srcscale>
        <typesrc>External Hard Drives</typesrc>
        <srccitea>Imagery Acquisition</srccitea>
      </srcinfo>
      <srcinfo>
        <srccite>
          <citeinfo>
            <title>GPS Ground Control</title>
            <origin>Woolpert Inc.</origin>
            <edition>1</edition>
          </citeinfo>
        </srccite>
        <srcscale>1"=100'</srcscale>
        <typesrc>External Hard Drives</typesrc>
        <srccitea>Ground Control</srccitea>
        <srccontr>Woolpert Inc. acquired photo identifiable ground control points during and after the acquisition of aerial imagery. The ground control points were established using GPS for horizontal and vertical coordinate values.

NAD83 (2005) - horizontal 
NAVD88 - vertical
Geoid03
Grid
US survey Feet
State Plane Ohio Sorth

and

Auglaize, Clark, Franklin, Greene, Madison, Montgomery, Morgan and Muskingum Counties
NAD83 (1995)
NAVD 88
US survey Feet
State Plane Ohio South
State Plane Ohio North (Auglaize County)
Geoid03
Grid

Allen, Gallia and Lawrence Counties
NAD83 (2005)
NAVD 88
US survey Feet
State Plane Ohio North (Allen County)
State Plane Ohio South (Gallia and Lawrence Counties)
Geoid03
Grid</srccontr>
      </srcinfo>
      <srcinfo>
        <srccite>
          <citeinfo>
            <title>Aerial Image Acquisition</title>
            <origin>Northwest Geomatics</origin>
            <edition>1</edition>
          </citeinfo>
        </srccite>
        <srccitea>Imagery Acquisition</srccitea>
        <typesrc>External Hard Drives</typesrc>
        <srcscale>1"=200'</srcscale>
        <srccontr>Northwest Geomatics was contracted by Woolpert Inc. to acquire 1-foot imagery acquisition. </srccontr>
      </srcinfo>
      <srcinfo>
        <srccite>
          <citeinfo>
            <title>Aerial Image Acquisition</title>
            <origin>Northwest Geomatics</origin>
            <pubdate>20070724</pubdate>
            <edition>1</edition>
          </citeinfo>
        </srccite>
        <srccontr>Northwest Geomatics and EarthData were contracted by Woolpert Inc. to acquire 0.5-foot RGB and 1-meter CIR magery acquisition.</srccontr>
        <srcscale>1"=100' &amp; 1"=1,000'</srcscale>
        <typesrc>External Hard Drives</typesrc>
        <srccitea>Imagery Acquistion</srccitea>
      </srcinfo>
      <srcinfo>
        <srccite>
          <citeinfo>
            <title>LiDAR Acquisition</title>
            <origin>Woolpert Inc. </origin>
            <pubdate>20070724</pubdate>
            <edition>1</edition>
          </citeinfo>
        </srccite>
        <srcscale>1"=100', 1"=200' and 1"=1,000'</srcscale>
        <typesrc>External Hard Drives</typesrc>
        <srccitea>LiDAR Acquisition</srccitea>
        <srccontr>Woolpert collected LiDAR data, which was used to rectify ortho imagery, as well as, the suitable future generation of contours.  Woolpert processed all LiDAR data.</srccontr>
      </srcinfo>
      <srcinfo>
        <srccite>
          <citeinfo>
            <title>LiDAR Acquisition</title>
            <origin>Horizons Inc.</origin>
            <pubdate>20070724</pubdate>
            <edition>1</edition>
          </citeinfo>
        </srccite>
        <srcscale>1"=100', 1"=200' and 1"=1,000'</srcscale>
        <typesrc>External Hard Drives</typesrc>
        <srccitea>LiDAR Acquisition</srccitea>
        <srccontr>Horizons was contracted by Woolpert to collect LiDAR data, which was used to rectify ortho imagery, as well as, the suitable future generation of contours.</srccontr>
      </srcinfo>
    </lineage>
    <cloud>None</cloud>
  </dataqual>
  <eainfo>
    <overview>
      <dsoverv>Natural Color Digital Orthophotography

1"=200' scale (statewide)

1"=100' scale (selected county "buy-ups")

"buy-up" counties include: Allen, Auglaize, Clark, Franklin, Gallia, Greene, Lawrence, Madison, Montgomery, Morgan and Muskingum Counties.

Color Infra-red Digital Orthophotography

1"=1,000' scale (statewide)

LiDAR DEM

Supplied in ArcGRID (ASCII); Raster and LAS Formats</dsoverv>
    </overview>
  </eainfo>
</metadata>