{"text_format":"1","workbook":"xlsx","n_sheets":9,"sheets":["Project Name","Local Controller Data - EXIST","Local Controller Data - PROP","Local Data - COMB - Read Only","Volume Data","Coordination Timing - EXISTING","Coordination Timing - PROPOSED","Combined Coord Timing-Read Only","Comb Coord Schedule-Read Only"],"not_rendered":{"charts":0,"images":0,"macros":1,"external_links":0,"defined_names":6,"comments":0,"pivot_tables":0},"unopened":[],"bounds":{"document_bytes":16777216,"sheet_cells":100000,"rows_first":2000,"rows_last":500,"rows_between":2000,"halvings":0,"cell_chars":16384,"cell_head_chars":4096},"cells_cut":0,"cells_raw":0,"read":"whole","date_system":"1900"}

{"sheet":"Project Name","index":0,"n_rows":2,"n_cols":3,"rows_kept":2,"cut":false,"hidden":false,"merged":[[2,0,2,3],[0,0,0,3]]}
[]
[null,"PROJECT NAME:","LOR-254/301 Signal Timing"]

{"sheet":"Local Controller Data - EXIST","index":1,"n_rows":600,"n_cols":47,"rows_kept":600,"cut":false,"hidden":false,"merged":[[588,3,588,6],[588,7,588,9],[589,3,589,6],[589,7,589,9],[590,3,590,6],[590,7,590,9],[591,3,591,6],[591,7,591,9],[592,3,592,6],[592,7,592,9],[583,3,583,6],[583,7,583,9],[584,3,584,6],[584,7,584,9],[585,3,585,6],[585,7,585,9],[586,3,586,6],[586,7,586,9],[587,3,587,6],[587,7,587,9],[570,0,570,1],[571,0,573,0],[575,0,575,10],[576,0,578,10],[579,0,579,10],[581,0,581,1],[581,3,581,9],[582,3,582,6],[582,7,582,9],[561,0,561,1],[562,0,562,1],[563,0,563,1],[564,0,564,1],[565,0,565,1],[566,0,566,1],[567,0,567,1],[568,0,568,1],[569,0,569,1],[553,0,553,2],[553,3,553,10],[554,0,554,2],[555,0,555,2],[556,0,556,1],[557,1,557,2],[558,0,558,1],[559,0,559,1],[560,0,560,1],[548,1,548,2],[548,3,549,6],[548,7,549,7],[548,8,549,8],[548,9,549,9],[548,10,549,10],[549,0,549,1],[550,1,550,2],[550,3,552,6],[550,7,552,7],[550,8,552,8],[550,9,552,9],[550,10,552,10],[551,1,551,2],[552,0,552,2],[541,0,541,10],[542,0,542,10],[544,0,544,2],[544,3,544,10],[545,0,545,2],[545,3,545,10],[546,0,547,2],[546,3,546,4],[546,6,546,7],[546,8,546,10],[547,3,547,4],[528,3,528,6],[528,7,528,9],[529,3,529,6],[529,7,529,9],[530,3,530,6],[530,7,530,9],[531,3,531,6],[531,7,531,9],[532,3,532,6],[532,7,532,9],[523,3,523,6],[523,7,523,9],[524,3,524,6],[524,7,524,9],[525,3,525,6],[525,7,525,9],[526,3,526,6],[526,7,526,9],[527,3,527,6],[527,7,527,9],[510,0,510,1],[511,0,513,0],[515,0,515,10],[516,0,518,10],[519,0,519,10],[521,0,521,1],[521,3,521,9],[522,3,522,6],[522,7,522,9],[501,0,501,1],[502,0,502,1],[503,0,503,1],[504,0,504,1],[505,0,505,1],[506,0,506,1],[507,0,507,1],[508,0,508,1],[509,0,509,1],[493,0,493,2],[493,3,493,10],[494,0,494,2],[495,0,495,2],[496,0,496,1],[497,1,497,2],[498,0,498,1],[499,0,499,1],[500,0,500,1],[488,1,488,2],[488,3,489,6],[488,7,489,7],[488,8,489,8],[488,9,489,9],[488,10,489,10],[489,0,489,1],[490,1,490,2],[490,3,492,6],[490,7,492,7],[490,8,492,8],[490,9,492,9],[490,10,492,10],[491,1,491,2],[492,0,492,2],[481,0,481,10],[482,0,482,10],[484,0,484,2],[484,3,484,10],[485,0,485,2],[485,3,485,10],[486,0,487,2],[486,3,486,4],[486,6,486,7],[486,8,486,10],[487,3,487,4],[468,3,468,6],[468,7,468,9],[469,3,469,6],[469,7,469,9],[470,3,470,6],[470,7,470,9],[471,3,471,6],[471,7,471,9],[472,3,472,6],[472,7,472,9],[463,3,463,6],[463,7,463,9],[464,3,464,6],[464,7,464,9],[465,3,465,6],[465,7,465,9],[466,3,466,6],[466,7,466,9],[467,3,467,6],[467,7,467,9],[450,0,450,1],[451,0,453,0],[455,0,455,10],[456,0,458,10],[459,0,459,10],[461,0,461,1],[461,3,461,9],[462,3,462,6],[462,7,462,9],[441,0,441,1],[442,0,442,1],[443,0,443,1],[444,0,444,1],[445,0,445,1],[446,0,446,1],[447,0,447,1],[448,0,448,1],[449,0,449,1],[433,0,433,2],[433,3,433,10],[434,0,434,2],[435,0,435,2],[436,0,436,1],[437,1,437,2],[438,0,438,1],[439,0,439,1],[440,0,440,1],[428,1,428,2],[428,3,429,6],[428,7,429,7],[428,8,429,8],[428,9,429,9],[428,10,429,10],[429,0,429,1],[430,1,430,2],[430,3,432,6],[430,7,432,7],[430,8,432,8],[430,9,432,9],[430,10,432,10],[431,1,431,2],[432,0,432,2],[421,0,421,10],[422,0,422,10],[424,0,424,2],[424,3,424,10],[425,0,425,2],[425,3,425,10],[426,0,427,2],[426,3,426,4],[426,6,426,7],[426,8,426,10],[427,3,427,4],[408,3,408,6],[408,7,408,9],[409,3,409,6],[409,7,409,9],[410,3,410,6],[410,7,410,9],[411,3,411,6],[411,7,411,9],[412,3,412,6],[412,7,412,9],[403,3,403,6],[403,7,403,9],[404,3,404,6],[404,7,404,9],[405,3,405,6],[405,7,405,9],[406,3,406,6],[406,7,406,9],[407,3,407,6],[407,7,407,9],[390,0,390,1],[391,0,393,0],[395,0,395,10],[396,0,398,10],[399,0,399,10],[401,0,401,1],[401,3,401,9],[402,3,402,6],[402,7,402,9],[381,0,381,1],[382,0,382,1],[383,0,383,1],[384,0,384,1],[385,0,385,1],[386,0,386,1],[387,0,387,1],[388,0,388,1],[389,0,389,1],[373,0,373,2],[373,3,373,10],[374,0,374,2],[375,0,375,2],[376,0,376,1],[377,1,377,2],[378,0,378,1],[379,0,379,1],[380,0,380,1],[368,1,368,2],[368,3,369,6],[368,7,369,7],[368,8,369,8],[368,9,369,9],[368,10,369,10],[369,0,369,1],[370,1,370,2],[370,3,372,6],[370,7,372,7],[370,8,372,8],[370,9,372,9],[370,10,372,10],[371,1,371,2],[372,0,372,2],[361,0,361,10],[362,0,362,10],[364,0,364,2],[364,3,364,10],[365,0,365,2],[365,3,365,10],[366,0,367,2],[366,3,366,4],[366,6,366,7],[366,8,366,10],[367,3,367,4],[348,3,348,6],[348,7,348,9],[349,3,349,6],[349,7,349,9],[350,3,350,6],[350,7,350,9],[351,3,351,6],[351,7,351,9],[352,3,352,6],[352,7,352,9],[343,3,343,6],[343,7,343,9],[344,3,344,6],[344,7,344,9],[345,3,345,6],[345,7,345,9],[346,3,346,6],[346,7,346,9],[347,3,347,6],[347,7,347,9],[330,0,330,1],[331,0,333,0],[335,0,335,10],[336,0,338,10],[339,0,339,10],[341,0,341,1],[341,3,341,9],[342,3,342,6],[342,7,342,9],[321,0,321,1],[322,0,322,1],[323,0,323,1],[324,0,324,1],[325,0,325,1],[326,0,326,1],[327,0,327,1],[328,0,328,1],[329,0,329,1],[313,0,313,2],[313,3,313,10],[314,0,314,2],[315,0,315,2],[316,0,316,1],[317,1,317,2],[318,0,318,1],[319,0,319,1],[320,0,320,1],[308,1,308,2],[308,3,309,6],[308,7,309,7],[308,8,309,8],[308,9,309,9],[308,10,309,10],[309,0,309,1],[310,1,310,2],[310,3,312,6],[310,7,312,7],[310,8,312,8],[310,9,312,9],[310,10,312,10],[311,1,311,2],[312,0,312,2],[301,0,301,10],[302,0,302,10],[304,0,304,2],[304,3,304,10],[305,0,305,2],[305,3,305,10],[306,0,307,2],[306,3,306,4],[306,6,306,7],[306,8,306,10],[307,3,307,4],[288,3,288,6],[288,7,288,9],[289,3,289,6],[289,7,289,9],[290,3,290,6],[290,7,290,9],[291,3,291,6],[291,7,291,9],[292,3,292,6],[292,7,292,9],[283,3,283,6],[283,7,283,9],[284,3,284,6],[284,7,284,9],[285,3,285,6],[285,7,285,9],[286,3,286,6],[286,7,286,9],[287,3,287,6],[287,7,287,9],[270,0,270,1],[271,0,273,0],[275,0,275,10],[276,0,278,10],[279,0,279,10],[281,0,281,1],[281,3,281,9],[282,3,282,6],[282,7,282,9],[261,0,261,1],[262,0,262,1],[263,0,263,1],[264,0,264,1],[265,0,265,1],[266,0,266,1],[267,0,267,1],[268,0,268,1],[269,0,269,1],[253,0,253,2],[253,3,253,10],[254,0,254,2],[255,0,255,2],[256,0,256,1],[257,1,257,2],[258,0,258,1],[259,0,259,1],[260,0,260,1],[248,1,248,2],[248,3,249,6],[248,7,249,7],[248,8,249,8],[248,9,249,9],[248,10,249,10],[249,0,249,1],[250,1,250,2],[250,3,252,6],[250,7,252,7],[250,8,252,8],[250,9,252,9],[250,10,252,10],[251,1,251,2],[252,0,252,2],[241,0,241,10],[242,0,242,10],[244,0,244,2],[244,3,244,10],[245,0,245,2],[245,3,245,10],[246,0,247,2],[246,3,246,4],[246,6,246,7],[246,8,246,10],[247,3,247,4],[228,3,228,6],[228,7,228,9],[229,3,229,6],[229,7,229,9],[230,3,230,6],[230,7,230,9],[231,3,231,6],[231,7,231,9],[232,3,232,6],[232,7,232,9],[223,3,223,6],[223,7,223,9],[224,3,224,6],[224,7,224,9],[225,3,225,6],[225,7,225,9],[226,3,226,6],[226,7,226,9],[227,3,227,6],[227,7,227,9],[210,0,210,1],[211,0,213,0],[215,0,215,10],[216,0,218,10],[219,0,219,10],[221,0,221,1],[221,3,221,9],[222,3,222,6],[222,7,222,9],[201,0,201,1],[202,0,202,1],[203,0,203,1],[204,0,204,1],[205,0,205,1],[206,0,206,1],[207,0,207,1],[208,0,208,1],[209,0,209,1],[193,0,193,2],[193,3,193,10],[194,0,194,2],[195,0,195,2],[196,0,196,1],[197,1,197,2],[198,0,198,1],[199,0,199,1],[200,0,200,1],[188,1,188,2],[188,3,189,6],[188,7,189,7],[188,8,189,8],[188,9,189,9],[188,10,189,10],[189,0,189,1],[190,1,190,2],[190,3,192,6],[190,7,192,7],[190,8,192,8],[190,9,192,9],[190,10,192,10],[191,1,191,2],[192,0,192,2],[181,0,181,10],[182,0,182,10],[184,0,184,2],[184,3,184,10],[185,0,185,2],[185,3,185,10],[186,0,187,2],[186,3,186,4],[186,6,186,7],[186,8,186,10],[187,3,187,4],[168,3,168,6],[168,7,168,9],[169,3,169,6],[169,7,169,9],[170,3,170,6],[170,7,170,9],[171,3,171,6],[171,7,171,9],[172,3,172,6],[172,7,172,9],[163,3,163,6],[163,7,163,9],[164,3,164,6],[164,7,164,9],[165,3,165,6],[165,7,165,9],[166,3,166,6],[166,7,166,9],[167,3,167,6],[167,7,167,9],[150,0,150,1],[151,0,153,0],[155,0,155,10],[156,0,158,10],[159,0,159,10],[161,0,161,1],[161,3,161,9],[162,3,162,6],[162,7,162,9],[141,0,141,1],[142,0,142,1],[143,0,143,1],[144,0,144,1],[145,0,145,1],[146,0,146,1],[147,0,147,1],[148,0,148,1],[149,0,149,1],[133,0,133,2],[133,3,133,10],[134,0,134,2],[135,0,135,2],[136,0,136,1],[137,1,137,2],[138,0,138,1],[139,0,139,1],[140,0,140,1],[128,1,128,2],[128,3,129,6],[128,7,129,7],[128,8,129,8],[128,9,129,9],[128,10,129,10],[129,0,129,1],[130,1,130,2],[130,3,132,6],[130,7,132,7],[130,8,132,8],[130,9,132,9],[130,10,132,10],[131,1,131,2],[132,0,132,2],[121,0,121,10],[122,0,122,10],[124,0,124,2],[124,3,124,10],[125,0,125,2],[125,3,125,10],[126,0,127,2],[126,3,126,4],[126,6,126,7],[126,8,126,10],[127,3,127,4],[5,8,5,10],[3,0,3,2],[4,0,4,2],[3,3,3,10],[4,3,4,10],[5,3,5,4],[6,3,6,4],[9,3,11,6],[22,0,22,1],[5,6,5,7],[7,1,7,2],[8,0,8,1],[9,1,9,2],[10,1,10,2],[12,0,12,2],[13,0,13,2],[14,0,14,2],[5,0,6,2],[17,0,17,1],[18,0,18,1],[19,0,19,1],[20,0,20,1],[21,0,21,1],[12,3,12,10],[7,10,8,10],[9,7,11,7],[9,8,11,8],[9,10,11,10],[7,7,8,7],[7,8,8,8],[7,9,8,9],[24,0,24,1],[25,0,25,1],[11,0,11,2],[16,1,16,2],[15,0,15,1],[7,3,8,6],[23,0,23,1],[47,3,47,6],[46,7,46,9],[61,0,61,10],[62,0,62,10],[64,0,64,2],[64,3,64,10],[65,0,65,2],[40,0,40,1],[9,9,11,9],[34,0,34,10],[30,0,32,0],[29,0,29,1],[28,0,28,1],[26,0,26,1],[35,0,37,10],[65,3,65,10],[38,0,38,10],[27,0,27,1],[75,0,75,2],[0,0,0,10],[1,0,1,10],[48,3,48,6],[49,3,49,6],[40,3,40,9],[41,3,41,6],[42,3,42,6],[43,3,43,6],[44,3,44,6],[50,3,50,6],[51,3,51,6],[41,7,41,9],[42,7,42,9],[47,7,47,9],[48,7,48,9],[49,7,49,9],[50,7,50,9],[43,7,43,9],[44,7,44,9],[45,7,45,9],[51,7,51,9],[45,3,45,6],[46,3,46,6],[81,0,81,1],[82,0,82,1],[83,0,83,1],[84,0,84,1],[78,0,78,1],[80,0,80,1],[76,0,76,1],[77,1,77,2],[79,0,79,1],[101,0,101,1],[101,3,101,9],[85,0,85,1],[86,0,86,1],[87,0,87,1],[88,0,88,1],[89,0,89,1],[90,0,90,1],[91,0,93,0],[95,0,95,10],[96,0,98,10],[99,0,99,10],[105,3,105,6],[105,7,105,9],[106,3,106,6],[106,7,106,9],[107,3,107,6],[107,7,107,9],[102,3,102,6],[102,7,102,9],[103,3,103,6],[103,7,103,9],[104,3,104,6],[104,7,104,9],[111,3,111,6],[111,7,111,9],[112,3,112,6],[112,7,112,9],[108,3,108,6],[108,7,108,9],[109,3,109,6],[109,7,109,9],[110,3,110,6],[110,7,110,9],[70,1,70,2],[74,0,74,2],[70,3,72,6],[70,7,72,7],[70,8,72,8],[70,9,72,9],[70,10,72,10],[71,1,71,2],[72,0,72,2],[73,0,73,2],[73,3,73,10],[66,0,67,2],[66,3,66,4],[66,6,66,7],[66,8,66,10],[67,3,67,4],[68,1,68,2],[68,3,69,6],[68,7,69,7],[68,8,69,8],[68,9,69,9],[68,10,69,10],[69,0,69,1]]}
[{"$f":"'Project Name'!$C$2","v":"LOR-254/301 Signal Timing"}]
["Existing Local Controller Data"]
[]
["INTERSECTION:",null,null,"Detroit Rd & Transportation Dr/Mike Bass Ford Dr",null,null,null,null,null,null,null,null,null,"-",null,null,null,"MANUAL PATTERN","SYSTEM SOURCE","SPLITS IN","TRANSITION","DWELL/ADD TIME","OFFSET REFERNECE","PED RECALL","LOCAL ZERO OVERRIDE","RE-SYNC COUNT","ECPI COORD","SYSTEM FORMAT ","OFFSET IN","MAX SELECT","FORCE OFF","USE PED TIME","PED RESERVICE","FO ADD INI GRN","MULTISYNC",null,"OPERATION","MODE (NORMAL)","MAXIMUM","CORRECTION","OFFSET MODE","FORCE MODE","MAX DWELL TIME","YIELD PERIOD","MANUAL CONTROL: DIAL","MANUAL CONTROL: SPLIT","MANUAL CONTROL: OFFSET"]
["MAINTAINING AGENCY:",null,null,"ODOT D3",null,null,null,null,null,null,null,null,null,"YES",null,null,null,"-","-","-","-","-","-","-","-","-","-","-","-","-","-","-","-","-","-",null,"-","-","-","-","-","-"]
["START UP",null,null,"DUAL ENTRY: ",null,"YES","PHASES:",null,"2, 4, 6, 8",null,null,null,null,"NO",null,null,null,"AUTO","HDW","SECONDS","DWELL",0,"LEAD","NO","NO",0,"NO","STD","SECONDS","MAXINH","FIXED ","NO","NO","NO","NO",null,"0 - FREE","0 - PERMISSIVE","0 - INHIBIT","0 - DWELL","0 - BEG GREEN","0 - PLAN"]
[null,null,null,"REST IN RED: ",null,null,"RING 1","NO",null,"RING 2","NO",null,null,null,null,"-",null,"FREE","TBC",null,"SMOOTH",1,"LAG","YES","YES",1,"YES","TS2",null,"MAX 1","FLOAT","YES","YES","YES","YES",null,"1 - AUTO","1 - YIELD","1 - MAX I","1 - MAX DWELL","1 - END GREEN","1 - CYCLE"]
["START IN: ","ALL-RED FLASH",null,"OVERLAP",null,null,null,"A","B","C","D",null,null,null,null,"NB",null,"FLASH","SYS",null,"ADD ONLY",2,"YIELD",null,null,2,null,"PTN",null,"MAX 2",null,null,null,null,null,null,"2 - MANUAL","2 - PERMISSIVE YIELD","2 - MAX II","2 - SHORT WAY",null,"2 - FLOATING"]
["TIME FOR: FLASH , ALL RED (SEC.):   ",null,"9, 6",null,null,null,null,null,null,null,null,null,null,"-",null,"SB",null,1,null,null,null,3,"YELLOW",null,null,3,null,null,null,"MAX 3 ",null,null,null,null,null,null,null,"3 - PERMISSIVE OMIT",null,"3 - ADD ONLY",null,"3 - FIXED"]
["FIRST PHASE(S):","2, 6",null,"PHASES",null,null,null,"-","-","-","-",null,null,"YELLOW/RED FLASH",null,"EB",null,2,null,null,null,4,"RING 1",null,null,4,null,null,null,null,null,null,null,null,null,null,null,"4 - SEQUENTIAL OMIT",null,"4 - SHORT WAY 2"]
["COLOR DISPLAYED:","GREEN",null,null,null,null,null,null,null,null,null,null,null,"ALL-RED FLASH",null,"WB",null,3,null,null,null,5,null,null,null,5,null,null,null,null,null,null,null,null,null,null,null,"5 - FULLY ACTUATED"]
[null,null,null,null,null,null,null,null,null,null,null,null,null,null,null,"NB LT",null,4,null,null,null,6,null,null,null,6,null,null,null,null,null,null,null,null,null,null,null,"6 - MUTUAL COORD"]
["INTERVAL OR FEATURE",null,null,"CONTROLLER MOVEMENT NO.",null,null,null,null,null,null,null,null,null,"-",null,"SB LT",null,5,null,null,null,7,null,null,null,7]
["INTERSECTION MOVEMENT (PHASE)",null,null,1,2,3,4,5,6,7,8,null,null,"GREEN",null,"EB LT",null,6,null,null,null,8,null,null,null,8]
["DIRECTION",null,null,"WBL","EBT","-","SBT","EBL","WBT","-","NBT",null,null,"YELLOW",null,"WB LT",null,7,null,null,null,9,null,null,null,9]
["MINIMUM GREEN (INITIAL) ",null,"(SEC.)",7,20,"-",10,7,20,"-",10,null,null,null,null,null,null,8,null,null,null,10,null,null,null,10]
["ADDED INITIAL","*(SEC./ACTUATION)",null,"-","-","-","-","-","-","-","-",null,null,null,null,null,null,9,null,null,null,11,null,null,null,11]
["MAXIMUM INITIAL",null,"*(SEC.)","-","-","-","-","-","-","-","-",null,null,null,null,null,null,10,null,null,null,12,null,null,null,12]
["PASSAGE TIME (PRESET GAP)",null,"(SEC.)",3,3,"-",3,3,3,"-",3,null,null,null,null,null,null,11,null,null,null,13,null,null,null,13]
["TIME BEFORE REDUCTION",null,"*(SEC.)","-","-","-","-","-","-","-","-",null,null,null,null,null,null,12,null,null,null,14,null,null,null,14]
["MINIMUM GAP",null,"*(SEC.)","-","-","-","-","-","-","-","-",null,null,null,null,null,null,13,null,null,null,15,null,null,null,15]
["TIME TO REDUCE",null,"*(SEC.)","-","-","-","-","-","-","-","-",null,null,null,null,null,null,14,null,null,null,16,null,null,null,16]
["MAXIMUM GREEN I",null,"(SEC.)",15,58,"-",22,15,58,"-",22,null,null,null,null,null,null,15,null,null,null,17,null,null,null,17]
["MAXIMUM GREEN II",null,"(SEC.)",15,58,"-",22,15,58,"-",22,null,null,null,null,null,null,16,null,null,null,18,null,null,null,18]
["YELLOW CHANGE",null,"(SEC.)",3.6,4,"-",4,3.6,4,"-",4,null,null,null,null,null,null,17,null,null,null,19,null,null,null,19]
["ALL RED CLEARANCE",null,"(SEC.)",1,1,"-",1,1,1,"-",1,null,null,null,null,null,null,18,null,null,null,20,null,null,null,20]
["DELAYED GREEN (LPI) #",null,"(SEC.)","-","-","-","-","-","-","-","-"]
["FLASHING YELLOW ARROW DELAY^",null,"(SEC.)","-","-","-","-","-","-","-","-"]
["WALK",null,"(SEC.)","-","-","-",7,"-",7,"-","-",null,null,null,null,null,null,19,null,null,null,21,null,null,null,21]
["PEDESTRIAN CLEARANCE",null,"(SEC.)","-","-","-",16,"-",24,"-","-",null,null,null,null,null,null,20,null,null,null,22,null,null,null,22]
["RECALL","MAXIMUM","(ON/OFF)","NO","NO","-","NO","NO","NO","-","NO",null,null,null,null,null,null,21,null,null,null,23,null,null,null,23]
[null,"MINIMUM","(ON/OFF)","NO","YES","-","NO","NO","YES","-","NO",null,null,null,null,null,null,22,null,null,null,24,null,null,null,24]
[null,"PEDESTRIAN","(ON/OFF)","NO","NO","-","NO","NO","NO","-","NO",null,null,null,null,null,null,23,null,null,null,25,null,null,null,25]
["MEMORY    ",null,"(ON/OFF)","YES","YES","-","YES","YES","YES","-","YES",null,null,null,null,null,null,24,null,null,null,26,null,null,null,26]
["*VOLUME DENSITY CONTROLS",null,null,null,null,null,null,null,null,null,null,null,null,null,null,null,null,25,null,null,null,27,null,null,null,27]
["# FOR CROSSINGS WITH PEDESTRIAN PUSHBUTTONS, LPI'S (LEADING PEDESTRIAN INTERVALS) MAY BE IMPLEMENTED (3-6 SEC.) IN ACCORDANCE WITH LPI DURATION TIME PER THE ODOT SIGNAL CALCULATIONS - CLEARANCE INTERVALS SPREADSHEET",null,null,null,null,null,null,null,null,null,null,null,null,null,null,null,null,26,null,null,null,28,null,null,null,28]
[null,null,null,null,null,null,null,null,null,null,null,null,null,null,null,null,null,27,null,null,null,29,null,null,null,29]
[]
["^ WHEN IMPLEMENTING FYA, A MINIMUM 3 SEC. DELAY SHALL BE PROGRAMMED PER FYA PHASE. "]
[]
["ECONOLITE COORD SETTINGS",null,null,"SIEMENS COORD SETTINGS",null,null,null,null,null,null,null,null,null,null,null,null,null,28,null,null,null,30,null,null,null,30]
["MANUAL PATTERN","AUTO",null,"OPERATION",null,null,null,"-",null,null,null,null,null,null,null,null,null,29,null,null,null,31,null,null,null,31]
["SYSTEM SOURCE","SYS",null,"MODE (NORMAL)",null,null,null,"-",null,null,null,null,null,null,null,null,null,30,null,null,null,32,null,null,null,32]
["SPLITS IN","SECONDS",null,"MAXIMUM",null,null,null,"-",null,null,null,null,null,null,null,null,null,31,null,null,null,33,null,null,null,33]
["TRANSITION","SMOOTH",null,"CORRECTION",null,null,null,"-",null,null,null,null,null,null,null,null,null,32,null,null,null,34,null,null,null,34]
["DWELL/ADD TIME",0,null,"OFFSET MODE",null,null,null,"-",null,null,null,null,null,null,null,null,null,33,null,null,null,35,null,null,null,35]
["OFFSET REFERENCE","YELLOW",null,"FORCE MODE",null,null,null,"-",null,null,null,null,null,null,null,null,null,34,null,null,null,36,null,null,null,36]
["PED RECALL","NO",null,"MAX DWELL TIME",null,null,null,"-",null,null,null,null,null,null,null,null,null,35,null,null,null,37,null,null,null,37]
["LOCAL ZERO OVERRIDE","NO",null,"YIELD PERIOD",null,null,null,"-",null,null,null,null,null,null,null,null,null,36,null,null,null,38,null,null,null,38]
["RE-SYNC COUNT",0,null,"MANUAL CONTROL: DIAL",null,null,null,"-",null,null,null,null,null,null,null,null,null,37,null,null,null,39,null,null,null,39]
["ECPI COORD","YES",null,"MANUAL CONTROL: SPLIT",null,null,null,"-",null,null,null,null,null,null,null,null,null,38,null,null,null,40,null,null,null,40]
["SYSTEM FORMAT ","STD",null,"MANUAL CONTROL: OFFSET",null,null,null,"-",null,null,null,null,null,null,null,null,null,39,null,null,null,41,null,null,null,41]
["OFFSET IN","SECONDS",null,null,null,null,null,null,null,null,null,null,null,null,null,null,null,40,null,null,null,42,null,null,null,42]
["MAX SELECT","MAXINH",null,null,null,null,null,null,null,null,null,null,null,null,null,null,null,41,null,null,null,43,null,null,null,43]
["FORCE OFF","FLOAT",null,null,null,null,null,null,null,null,null,null,null,null,null,null,null,42,null,null,null,44,null,null,null,44]
["USE PED TIME","YES",null,null,null,null,null,null,null,null,null,null,null,null,null,null,null,43,null,null,null,45,null,null,null,45]
["PED RESERVICE","NO",null,null,null,null,null,null,null,null,null,null,null,null,null,null,null,44,null,null,null,46,null,null,null,46]
["FO ADD INI GRN","NO",null,null,null,null,null,null,null,null,null,null,null,null,null,null,null,45,null,null,null,47,null,null,null,47]
["MULTISYNC","NO",null,null,null,null,null,null,null,null,null,null,null,null,null,null,null,46,null,null,null,48,null,null,null,48]
[null,null,null,null,null,null,null,null,null,null,null,null,null,null,null,null,null,47,null,null,null,49,null,null,null,49]
[null,null,null,null,null,null,null,null,null,null,null,null,null,null,null,null,null,48,null,null,null,50,null,null,null,50]
[{"$f":"'Project Name'!$C$2","v":"LOR-254/301 Signal Timing"},null,null,null,null,null,null,null,null,null,null,null,null,null,null,null,null,52,null,null,null,54,null,null,null,54]
["Existing Local Controller Data",null,null,null,null,null,null,null,null,null,null,null,null,null,null,null,null,53,null,null,null,55,null,null,null,55]
[null,null,null,null,null,null,null,null,null,null,null,null,null,null,null,null,null,54,null,null,null,56,null,null,null,56]
["INTERSECTION:",null,null,"Detroit Rd & I-90 WB Ramps",null,null,null,null,null,null,null,null,null,null,null,null,null,55,null,null,null,57,null,null,null,57]
["MAINTAINING AGENCY:",null,null,"ODOT D3",null,null,null,null,null,null,null,null,null,null,null,null,null,56,null,null,null,58,null,null,null,58]
["START UP",null,null,"DUAL ENTRY: ",null,"YES","PHASES:",null,"2, 4, 6",null,null,null,null,null,null,null,null,57,null,null,null,59,null,null,null,59]
[null,null,null,"REST IN RED: ",null,null,"RING 1","NO",null,"RING 2","NO",null,null,null,null,null,null,58,null,null,null,60,null,null,null,60]
["START IN: ","ALL-RED FLASH",null,"OVERLAP",null,null,null,"A","B","C","D",null,null,null,null,null,null,59,null,null,null,61,null,null,null,61]
["TIME FOR FLASH / ALL RED (SEC.):   ",null,"9, 6",null,null,null,null,null,null,null,null,null,null,null,null,null,null,60,null,null,null,62,null,null,null,62]
["FIRST PHASE(S):","2, 6",null,"PHASES",null,null,null,"-","-","-","-",null,null,null,null,null,null,61,null,null,null,63,null,null,null,63]
["COLOR DISPLAYED:","GREEN",null,null,null,null,null,null,null,null,null,null,null,null,null,null,null,62,null,null,null,64,null,null,null,64]
[null,null,null,null,null,null,null,null,null,null,null,null,null,null,null,null,null,63,null,null,null,65,null,null,null,65]
["INTERVAL OR FEATURE",null,null,"CONTROLLER MOVEMENT NO.",null,null,null,null,null,null,null,null,null,null,null,null,null,64,null,null,null,66,null,null,null,66]
["INTERSECTION MOVEMENT (PHASE)",null,null,1,2,3,4,5,6,7,8,null,null,null,null,null,null,65,null,null,null,67,null,null,null,67]
["DIRECTION",null,null,"WBL","EB","-","SB","-","WB","-","-",null,null,null,null,null,null,66,null,null,null,68,null,null,null,68]
["MINIMUM GREEN (INITIAL) ",null,"(SEC.)",10,20,"-",10,"-",20,"-","-",null,null,null,null,null,null,67,null,null,null,69,null,null,null,69]
["ADDED INITIAL","*(SEC./ACTUATION)",null,"-","-","-","-","-","-","-","-",null,null,null,null,null,null,68,null,null,null,70,null,null,null,70]
["MAXIMUM INITIAL",null,"*(SEC.)","-","-","-","-","-","-","-","-",null,null,null,null,null,null,69,null,null,null,71,null,null,null,71]
["PASSAGE TIME (PRESET GAP)",null,"(SEC.)",1,1,"-",1,"-",1,"-","-",null,null,null,null,null,null,70,null,null,null,72,null,null,null,72]
["TIME BEFORE REDUCTION",null,"*(SEC.)","-","-","-","-","-","-","-","-",null,null,null,null,null,null,71,null,null,null,73,null,null,null,73]
["MINIMUM GAP",null,"*(SEC.)","-","-","-","-","-","-","-","-",null,null,null,null,null,null,72,null,null,null,74,null,null,null,74]
["TIME TO REDUCE",null,"*(SEC.)","-","-","-","-","-","-","-","-",null,null,null,null,null,null,73,null,null,null,75,null,null,null,75]
["MAXIMUM GREEN I",null,"(SEC.)",15,60,"-",40,"-",60,"-","-",null,null,null,null,null,null,74,null,null,null,76,null,null,null,76]
["MAXIMUM GREEN II",null,"(SEC.)",15,60,"-",40,"-",60,"-","-",null,null,null,null,null,null,75,null,null,null,77,null,null,null,77]
["YELLOW CHANGE",null,"(SEC.)",3.2,4.0999999999999996,"-",3.7,"-",4.0999999999999996,"-","-",null,null,null,null,null,null,76,null,null,null,78,null,null,null,78]
["ALL RED CLEARANCE",null,"(SEC.)",2,1,"-",1,"-",1,"-","-",null,null,null,null,null,null,77,null,null,null,79,null,null,null,79]
["DELAYED GREEN (LPI) #",null,"(SEC.)","-","-","-","-","-","-","-","-",null,null,null,null,null,null,78,null,null,null,80,null,null,null,80]
["FLASHING YELLOW ARROW DELAY^",null,"(SEC.)","-","-","-","-","-","-","-","-",null,null,null,null,null,null,79,null,null,null,81,null,null,null,81]
["WALK",null,"(SEC.)","-","-","-","-","-","-","-","-",null,null,null,null,null,null,80,null,null,null,82,null,null,null,82]
["PEDESTRIAN CLEARANCE",null,"(SEC.)","-","-","-","-","-","-","-","-",null,null,null,null,null,null,81,null,null,null,83,null,null,null,83]
["RECALL","MAXIMUM","(ON/OFF)","NO","NO","-","NO","-","NO","-","-",null,null,null,null,null,null,82,null,null,null,84,null,null,null,84]
[null,"MINIMUM","(ON/OFF)","NO","YES","-","NO","-","YES","-","-",null,null,null,null,null,null,83,null,null,null,85,null,null,null,85]
[null,"PEDESTRIAN","(ON/OFF)","NO","NO","-","NO","-","NO","-","-",null,null,null,null,null,null,84,null,null,null,86,null,null,null,86]
["MEMORY    ",null,"(ON/OFF)","NO","YES","-","NO","-","YES","-","-",null,null,null,null,null,null,85,null,null,null,87,null,null,null,87]
["*VOLUME DENSITY CONTROLS",null,null,null,null,null,null,null,null,null,null,null,null,null,null,null,null,86,null,null,null,88,null,null,null,88]
["# FOR CROSSINGS WITH PEDESTRIAN PUSHBUTTONS, LPI'S (LEADING PEDESTRIAN INTERVALS) MAY BE IMPLEMENTED (3-6 SEC.) IN ACCORDANCE WITH LPI DURATION TIME PER THE ODOT SIGNAL CALCULATIONS - CLEARANCE INTERVALS SPREADSHEET",null,null,null,null,null,null,null,null,null,null,null,null,null,null,null,null,87,null,null,null,89,null,null,null,89]
[null,null,null,null,null,null,null,null,null,null,null,null,null,null,null,null,null,88,null,null,null,90,null,null,null,90]
[]
["^ WHEN IMPLEMENTING FYA, A MINIMUM 3 SEC. DELAY SHALL BE PROGRAMMED PER FYA PHASE. ",null,null,null,null,null,null,null,null,null,null,null,null,null,null,null,null,89,null,null,null,91,null,null,null,91]
[]
["ECONOLITE COORD SETTINGS",null,null,"SIEMENS COORD SETTINGS",null,null,null,null,null,null,null,null,null,null,null,null,null,90,null,null,null,92,null,null,null,92]
["MANUAL PATTERN","AUTO",null,"OPERATION",null,null,null,"-",null,null,null,null,null,null,null,null,null,91,null,null,null,93,null,null,null,93]
["SYSTEM SOURCE","TBC",null,"MODE (NORMAL)",null,null,null,"-",null,null,null,null,null,null,null,null,null,92,null,null,null,94,null,null,null,94]
["SPLITS IN","SECONDS",null,"MAXIMUM",null,null,null,"-",null,null,null,null,null,null,null,null,null,93,null,null,null,95,null,null,null,95]
["TRANSITION","SMOOTH",null,"CORRECTION",null,null,null,"-",null,null,null,null,null,null,null,null,null,94,null,null,null,96,null,null,null,96]
["DWELL/ADD TIME",0,null,"OFFSET MODE",null,null,null,"-",null,null,null,null,null,null,null,null,null,95,null,null,null,97,null,null,null,97]
["OFFSET REFERENCE","YELLOW",null,"FORCE MODE",null,null,null,"-",null,null,null,null,null,null,null,null,null,96,null,null,null,98,null,null,null,98]
["PED RECALL","NO",null,"MAX DWELL TIME",null,null,null,"-",null,null,null,null,null,null,null,null,null,97,null,null,null,99,null,null,null,99]
["LOCAL ZERO OVERRIDE","NO",null,"YIELD PERIOD",null,null,null,"-",null,null,null,null,null,null,null,null,null,98,null,null,null,100,null,null,null,100]
["RE-SYNC COUNT",0,null,"MANUAL CONTROL: DIAL",null,null,null,"-",null,null,null,null,null,null,null,null,null,99,null,null,null,101,null,null,null,101]
["ECPI COORD","YES",null,"MANUAL CONTROL: SPLIT",null,null,null,"-",null,null,null,null,null,null,null,null,null,100,null,null,null,102,null,null,null,102]
["SYSTEM FORMAT ","STD",null,"MANUAL CONTROL: OFFSET",null,null,null,"-",null,null,null,null,null,null,null,null,null,101,null,null,null,103,null,null,null,103]
["OFFSET IN","SECONDS",null,null,null,null,null,null,null,null,null,null,null,null,null,null,null,102,null,null,null,104,null,null,null,104]
["MAX SELECT","MAXINH",null,null,null,null,null,null,null,null,null,null,null,null,null,null,null,103,null,null,null,105,null,null,null,105]
["FORCE OFF","FLOAT",null,null,null,null,null,null,null,null,null,null,null,null,null,null,null,104,null,null,null,106,null,null,null,106]
["USE PED TIME","YES",null,null,null,null,null,null,null,null,null,null,null,null,null,null,null,105,null,null,null,107,null,null,null,107]
["PED RESERVICE","NO",null,null,null,null,null,null,null,null,null,null,null,null,null,null,null,106,null,null,null,108,null,null,null,108]
["FO ADD INI GRN","NO",null,null,null,null,null,null,null,null,null,null,null,null,null,null,null,107,null,null,null,109,null,null,null,109]
["MULTISYNC","NO",null,null,null,null,null,null,null,null,null,null,null,null,null,null,null,108,null,null,null,110,null,null,null,110]
[null,null,null,null,null,null,null,null,null,null,null,null,null,null,null,null,null,109,null,null,null,111,null,null,null,111]
[{"$f":"'Project Name'!$C$2","v":"LOR-254/301 Signal Timing"},null,null,null,null,null,null,null,null,null,null,null,null,null,null,null,null,110,null,null,null,112,null,null,null,112]
["Existing Local Controller Data",null,null,null,null,null,null,null,null,null,null,null,null,null,null,null,null,111,null,null,null,113,null,null,null,113]
[null,null,null,null,null,null,null,null,null,null,null,null,null,null,null,null,null,112,null,null,null,114,null,null,null,114]
["INTERSECTION:",null,null,"Detroit Rd & I-90 EB Ramps",null,null,null,null,null,null,null,null,null,null,null,null,null,113,null,null,null,115,null,null,null,115]
["MAINTAINING AGENCY:",null,null,"ODOT D3",null,null,null,null,null,null,null,null,null,null,null,null,null,114,null,null,null,116,null,null,null,116]
["START UP",null,null,"DUAL ENTRY: ",null,"YES","PHASES:",null,"2, 6, 8",null,null,null,null,null,null,null,null,115,null,null,null,117,null,null,null,117]
[null,null,null,"REST IN RED: ",null,null,"RING 1","NO",null,"RING 2","NO",null,null,null,null,null,null,116,null,null,null,118,null,null,null,118]
["START IN: ","ALL-RED FLASH",null,"OVERLAP",null,null,null,"A","B","C","D",null,null,null,null,null,null,117,null,null,null,119,null,null,null,119]
["TIME FOR FLASH / ALL RED (SEC.):   ",null,"9, 6",null,null,null,null,null,null,null,null,null,null,null,null,null,null,118,null,null,null,120,null,null,null,120]
["FIRST PHASE(S):","2, 6",null,"PHASES",null,null,null,"-","-","-","-",null,null,null,null,null,null,119,null,null,null,121,null,null,null,121]
["COLOR DISPLAYED:","GREEN",null,null,null,null,null,null,null,null,null,null,null,null,null,null,null,120,null,null,null,122,null,null,null,122]
[null,null,null,null,null,null,null,null,null,null,null,null,null,null,null,null,null,null,null,null,null,123,null,null,null,123]
["INTERVAL OR FEATURE",null,null,"CONTROLLER MOVEMENT NO.",null,null,null,null,null,null,null,null,null,null,null,null,null,null,null,null,null,124,null,null,null,124]
["INTERSECTION MOVEMENT (PHASE)",null,null,1,2,3,4,5,6,7,8,null,null,null,null,null,null,null,null,null,null,125,null,null,null,125]
["DIRECTION",null,null,"-","EBT","-","-","EBL","WBT","-","NBT",null,null,null,null,null,null,null,null,null,null,126,null,null,null,126]
["MINIMUM GREEN (INITIAL) ",null,"(SEC.)","-",20,"-","-",7,20,"-",10,null,null,null,null,null,null,null,null,null,null,127,null,null,null,127]
["ADDED INITIAL","*(SEC./ACTUATION)",null,"-","-","-","-","-","-","-","-",null,null,null,null,null,null,null,null,null,null,128,null,null,null,128]
["MAXIMUM INITIAL",null,"*(SEC.)","-","-","-","-","-","-","-","-",null,null,null,null,null,null,null,null,null,null,129,null,null,null,129]
["PASSAGE TIME (PRESET GAP)",null,"(SEC.)","-",1,"-","-",1,1,"-",1,null,null,null,null,null,null,null,null,null,null,130,null,null,null,130]
["TIME BEFORE REDUCTION",null,"*(SEC.)","-","-","-","-","-","-","-","-",null,null,null,null,null,null,null,null,null,null,131,null,null,null,131]
["MINIMUM GAP",null,"*(SEC.)","-","-","-","-","-","-","-","-",null,null,null,null,null,null,null,null,null,null,132,null,null,null,132]
["TIME TO REDUCE",null,"*(SEC.)","-","-","-","-","-","-","-","-",null,null,null,null,null,null,null,null,null,null,133,null,null,null,133]
["MAXIMUM GREEN I",null,"(SEC.)","-",60,"-","-",15,60,"-",40,null,null,null,null,null,null,null,null,null,null,134,null,null,null,134]
["MAXIMUM GREEN II",null,"(SEC.)","-",60,"-","-",15,60,"-",40,null,null,null,null,null,null,null,null,null,null,135,null,null,null,135]
["YELLOW CHANGE",null,"(SEC.)","-",4.0999999999999996,"-","-",3.2,4.0999999999999996,"-",4.0999999999999996,null,null,null,null,null,null,null,null,null,null,136,null,null,null,136]
["ALL RED CLEARANCE",null,"(SEC.)","-",1,"-","-",2.2999999999999998,1,"-",1,null,null,null,null,null,null,null,null,null,null,137,null,null,null,137]
["DELAYED GREEN (LPI) #",null,"(SEC.)","-","-","-","-","-","-","-","-",null,null,null,null,null,null,null,null,null,null,138,null,null,null,138]
["FLASHING YELLOW ARROW DELAY^",null,"(SEC.)","-","-","-","-","-","-","-","-",null,null,null,null,null,null,null,null,null,null,139,null,null,null,139]
["WALK",null,"(SEC.)","-","-","-","-","-","-","-","-",null,null,null,null,null,null,null,null,null,null,140,null,null,null,140]
["PEDESTRIAN CLEARANCE",null,"(SEC.)","-","-","-","-","-","-","-","-",null,null,null,null,null,null,null,null,null,null,141,null,null,null,141]
["RECALL","MAXIMUM","(ON/OFF)","-","NO","-","-","NO","NO","-","NO",null,null,null,null,null,null,null,null,null,null,142,null,null,null,142]
[null,"MINIMUM","(ON/OFF)","-","YES","-","-","NO","YES","-","NO",null,null,null,null,null,null,null,null,null,null,143,null,null,null,143]
[null,"PEDESTRIAN","(ON/OFF)","-","NO","-","-","NO","NO","-","NO",null,null,null,null,null,null,null,null,null,null,144,null,null,null,144]
["MEMORY    ",null,"(ON/OFF)","-","YES","-","-","NO","YES","-","NO",null,null,null,null,null,null,null,null,null,null,145,null,null,null,145]
["*VOLUME DENSITY CONTROLS",null,null,null,null,null,null,null,null,null,null,null,null,null,null,null,null,null,null,null,null,146,null,null,null,146]
["# FOR CROSSINGS WITH PEDESTRIAN PUSHBUTTONS, LPI'S (LEADING PEDESTRIAN INTERVALS) MAY BE IMPLEMENTED (3-6 SEC.) IN ACCORDANCE WITH LPI DURATION TIME PER THE ODOT SIGNAL CALCULATIONS - CLEARANCE INTERVALS SPREADSHEET",null,null,null,null,null,null,null,null,null,null,null,null,null,null,null,null,null,null,null,null,147,null,null,null,147]
[null,null,null,null,null,null,null,null,null,null,null,null,null,null,null,null,null,null,null,null,null,148,null,null,null,148]
[null,null,null,null,null,null,null,null,null,null,null,null,null,null,null,null,null,null,null,null,null,149,null,null,null,149]
["^ WHEN IMPLEMENTING FYA, A MINIMUM 3 SEC. DELAY SHALL BE PROGRAMMED PER FYA PHASE. ",null,null,null,null,null,null,null,null,null,null,null,null,null,null,null,null,null,null,null,null,150,null,null,null,150]
[null,null,null,null,null,null,null,null,null,null,null,null,null,null,null,null,null,null,null,null,null,151,null,null,null,151]
["ECONOLITE COORD SETTINGS",null,null,"SIEMENS COORD SETTINGS",null,null,null,null,null,null,null,null,null,null,null,null,null,null,null,null,null,152,null,null,null,152]
["MANUAL PATTERN","AUTO",null,"OPERATION",null,null,null,"-",null,null,null,null,null,null,null,null,null,null,null,null,null,153,null,null,null,153]
["SYSTEM SOURCE","TBC",null,"MODE (NORMAL)",null,null,null,"-",null,null,null,null,null,null,null,null,null,null,null,null,null,154,null,null,null,154]
["SPLITS IN","SECONDS",null,"MAXIMUM",null,null,null,"-",null,null,null,null,null,null,null,null,null,null,null,null,null,155,null,null,null,155]
["TRANSITION","SMOOTH",null,"CORRECTION",null,null,null,"-",null,null,null,null,null,null,null,null,null,null,null,null,null,156,null,null,null,156]
["DWELL/ADD TIME",0,null,"OFFSET MODE",null,null,null,"-",null,null,null,null,null,null,null,null,null,null,null,null,null,157,null,null,null,157]
["OFFSET REFERENCE","YELLOW",null,"FORCE MODE",null,null,null,"-",null,null,null,null,null,null,null,null,null,null,null,null,null,158,null,null,null,158]
["PED RECALL","NO",null,"MAX DWELL TIME",null,null,null,"-",null,null,null,null,null,null,null,null,null,null,null,null,null,159,null,null,null,159]
["LOCAL ZERO OVERRIDE","NO",null,"YIELD PERIOD",null,null,null,"-",null,null,null,null,null,null,null,null,null,null,null,null,null,160,null,null,null,160]
["RE-SYNC COUNT",0,null,"MANUAL CONTROL: DIAL",null,null,null,"-",null,null,null,null,null,null,null,null,null,null,null,null,null,161,null,null,null,161]
["ECPI COORD","YES",null,"MANUAL CONTROL: SPLIT",null,null,null,"-",null,null,null,null,null,null,null,null,null,null,null,null,null,162,null,null,null,162]
["SYSTEM FORMAT ","STD",null,"MANUAL CONTROL: OFFSET",null,null,null,"-",null,null,null,null,null,null,null,null,null,null,null,null,null,163,null,null,null,163]
["OFFSET IN","SECONDS",null,null,null,null,null,null,null,null,null,null,null,null,null,null,null,null,null,null,null,164,null,null,null,164]
["MAX SELECT","MAXINH",null,null,null,null,null,null,null,null,null,null,null,null,null,null,null,null,null,null,null,165,null,null,null,165]
["FORCE OFF","FLOAT",null,null,null,null,null,null,null,null,null,null,null,null,null,null,null,null,null,null,null,166,null,null,null,166]
["USE PED TIME","YES",null,null,null,null,null,null,null,null,null,null,null,null,null,null,null,null,null,null,null,167,null,null,null,167]
["PED RESERVICE","NO",null,null,null,null,null,null,null,null,null,null,null,null,null,null,null,null,null,null,null,168,null,null,null,168]
["FO ADD INI GRN","NO",null,null,null,null,null,null,null,null,null,null,null,null,null,null,null,null,null,null,null,169,null,null,null,169]
["MULTISYNC","NO",null,null,null,null,null,null,null,null,null,null,null,null,null,null,null,null,null,null,null,170,null,null,null,170]
[null,null,null,null,null,null,null,null,null,null,null,null,null,null,null,null,null,null,null,null,null,171,null,null,null,171]
[{"$f":"'Project Name'!$C$2","v":"LOR-254/301 Signal Timing"},null,null,null,null,null,null,null,null,null,null,null,null,null,null,null,null,null,null,null,null,172,null,null,null,172]
["Existing Local Controller Data",null,null,null,null,null,null,null,null,null,null,null,null,null,null,null,null,null,null,null,null,173,null,null,null,173]
[null,null,null,null,null,null,null,null,null,null,null,null,null,null,null,null,null,null,null,null,null,174,null,null,null,174]
["INTERSECTION:",null,null,"Detroit Rd & Sheffield Crossing",null,null,null,null,null,null,null,null,null,null,null,null,null,null,null,null,null,175,null,null,null,175]
["MAINTAINING AGENCY:",null,null,"ODOT D3",null,null,null,null,null,null,null,null,null,null,null,null,null,null,null,null,null,176,null,null,null,176]
["START UP",null,null,"DUAL ENTRY: ",null,"YES","PHASES:",null,"2, 4, 6, 8",null,null,null,null,null,null,null,null,null,null,null,null,177,null,null,null,177]
[null,null,null,"REST IN RED: ",null,null,"RING 1","NO",null,"RING 2","NO",null,null,null,null,null,null,null,null,null,null,178,null,null,null,178]
["START IN: ","ALL-RED FLASH",null,"OVERLAP",null,null,null,"A","B","C","D",null,null,null,null,null,null,null,null,null,null,179,null,null,null,179]
["TIME FOR FLASH / ALL RED (SEC.):   ",null,"9, 6",null,null,null,null,null,null,null,null,null,null,null,null,null,null,null,null,null,null,180,null,null,null,180]
["FIRST PHASE(S):","2, 6",null,"PHASES",null,null,null,"-","-","-","-",null,null,null,null,null,null,null,null,null,null,181,null,null,null,181]
["COLOR DISPLAYED:","GREEN",null,null,null,null,null,null,null,null,null,null,null,null,null,null,null,null,null,null,null,182,null,null,null,182]
[null,null,null,null,null,null,null,null,null,null,null,null,null,null,null,null,null,null,null,null,null,183,null,null,null,183]
["INTERVAL OR FEATURE",null,null,"CONTROLLER MOVEMENT NO.",null,null,null,null,null,null,null,null,null,null,null,null,null,null,null,null,null,184,null,null,null,184]
["INTERSECTION MOVEMENT (PHASE)",null,null,1,2,3,4,5,6,7,8,null,null,null,null,null,null,null,null,null,null,185,null,null,null,185]
["DIRECTION",null,null,"WBL","EBT","-","SBT","EBL","WB","-","NB",null,null,null,null,null,null,null,null,null,null,186,null,null,null,186]
["MINIMUM GREEN (INITIAL) ",null,"(SEC.)",7,20,"-",10,7,20,"-",10,null,null,null,null,null,null,null,null,null,null,187,null,null,null,187]
["ADDED INITIAL","*(SEC./ACTUATION)",null,"-","-","-","-","-","-","-","-",null,null,null,null,null,null,null,null,null,null,188,null,null,null,188]
["MAXIMUM INITIAL",null,"*(SEC.)","-","-","-","-","-","-","-","-",null,null,null,null,null,null,null,null,null,null,189,null,null,null,189]
["PASSAGE TIME (PRESET GAP)",null,"(SEC.)",1,1,"-",1,1,1,"-",1,null,null,null,null,null,null,null,null,null,null,190,null,null,null,190]
["TIME BEFORE REDUCTION",null,"*(SEC.)","-","-","-","-","-","-","-","-",null,null,null,null,null,null,null,null,null,null,191,null,null,null,191]
["MINIMUM GAP",null,"*(SEC.)","-","-","-","-","-","-","-","-",null,null,null,null,null,null,null,null,null,null,192,null,null,null,192]
["TIME TO REDUCE",null,"*(SEC.)","-","-","-","-","-","-","-","-",null,null,null,null,null,null,null,null,null,null,193,null,null,null,193]
["MAXIMUM GREEN I",null,"(SEC.)",15,60,"-",30,15,60,"-",30,null,null,null,null,null,null,null,null,null,null,194,null,null,null,194]
["MAXIMUM GREEN II",null,"(SEC.)",15,60,"-",30,15,60,"-",30,null,null,null,null,null,null,null,null,null,null,195,null,null,null,195]
["YELLOW CHANGE",null,"(SEC.)",3.2,4.0999999999999996,"-",3.3,3.2,4.0999999999999996,"-",3.3,null,null,null,null,null,null,null,null,null,null,196,null,null,null,196]
["ALL RED CLEARANCE",null,"(SEC.)",1.7,1,"-",1.1000000000000001,1.7,1,"-",1.1000000000000001,null,null,null,null,null,null,null,null,null,null,197,null,null,null,197]
["DELAYED GREEN (LPI) #",null,"(SEC.)","-","-","-","-","-","-","-","-",null,null,null,null,null,null,null,null,null,null,198,null,null,null,198]
["FLASHING YELLOW ARROW DELAY^",null,"(SEC.)","-","-","-","-","-","-","-","-",null,null,null,null,null,null,null,null,null,null,199,null,null,null,199]
["WALK",null,"(SEC.)","-","-","-","-","-","-","-","-",null,null,null,null,null,null,null,null,null,null,200,null,null,null,200]
["PEDESTRIAN CLEARANCE",null,"(SEC.)","-","-","-","-","-","-","-","-",null,null,null,null,null,null,null,null,null,null,201,null,null,null,201]
["RECALL","MAXIMUM","(ON/OFF)","NO","NO","-","NO","NO","NO","-","NO",null,null,null,null,null,null,null,null,null,null,202,null,null,null,202]
[null,"MINIMUM","(ON/OFF)","NO","YES","-","NO","NO","YES","-","NO",null,null,null,null,null,null,null,null,null,null,203,null,null,null,203]
[null,"PEDESTRIAN","(ON/OFF)","NO","NO","-","NO","NO","NO","-","NO",null,null,null,null,null,null,null,null,null,null,204,null,null,null,204]
["MEMORY    ",null,"(ON/OFF)","NO","YES","-","NO","NO","YES","-","NO",null,null,null,null,null,null,null,null,null,null,205,null,null,null,205]
["*VOLUME DENSITY CONTROLS",null,null,null,null,null,null,null,null,null,null,null,null,null,null,null,null,null,null,null,null,206,null,null,null,206]
["# FOR CROSSINGS WITH PEDESTRIAN PUSHBUTTONS, LPI'S (LEADING PEDESTRIAN INTERVALS) MAY BE IMPLEMENTED (3-6 SEC.) IN ACCORDANCE WITH LPI DURATION TIME PER THE ODOT SIGNAL CALCULATIONS - CLEARANCE INTERVALS SPREADSHEET",null,null,null,null,null,null,null,null,null,null,null,null,null,null,null,null,null,null,null,null,207,null,null,null,207]
[null,null,null,null,null,null,null,null,null,null,null,null,null,null,null,null,null,null,null,null,null,208,null,null,null,208]
[null,null,null,null,null,null,null,null,null,null,null,null,null,null,null,null,null,null,null,null,null,209,null,null,null,209]
["^ WHEN IMPLEMENTING FYA, A MINIMUM 3 SEC. DELAY SHALL BE PROGRAMMED PER FYA PHASE. ",null,null,null,null,null,null,null,null,null,null,null,null,null,null,null,null,null,null,null,null,210,null,null,null,210]
[null,null,null,null,null,null,null,null,null,null,null,null,null,null,null,null,null,null,null,null,null,211,null,null,null,211]
["ECONOLITE COORD SETTINGS",null,null,"SIEMENS COORD SETTINGS",null,null,null,null,null,null,null,null,null,null,null,null,null,null,null,null,null,212,null,null,null,212]
["MANUAL PATTERN","AUTO",null,"OPERATION",null,null,null,"-",null,null,null,null,null,null,null,null,null,null,null,null,null,213,null,null,null,213]
["SYSTEM SOURCE","TBC",null,"MODE (NORMAL)",null,null,null,"-",null,null,null,null,null,null,null,null,null,null,null,null,null,214,null,null,null,214]
["SPLITS IN","SECONDS",null,"MAXIMUM",null,null,null,"-",null,null,null,null,null,null,null,null,null,null,null,null,null,215,null,null,null,215]
["TRANSITION","SMOOTH",null,"CORRECTION",null,null,null,"-",null,null,null,null,null,null,null,null,null,null,null,null,null,216,null,null,null,216]
["DWELL/ADD TIME",0,null,"OFFSET MODE",null,null,null,"-",null,null,null,null,null,null,null,null,null,null,null,null,null,217,null,null,null,217]
["OFFSET REFERENCE","YELLOW",null,"FORCE MODE",null,null,null,"-",null,null,null,null,null,null,null,null,null,null,null,null,null,218,null,null,null,218]
["PED RECALL","NO",null,"MAX DWELL TIME",null,null,null,"-",null,null,null,null,null,null,null,null,null,null,null,null,null,219,null,null,null,219]
["LOCAL ZERO OVERRIDE","NO",null,"YIELD PERIOD",null,null,null,"-",null,null,null,null,null,null,null,null,null,null,null,null,null,220,null,null,null,220]
["RE-SYNC COUNT",0,null,"MANUAL CONTROL: DIAL",null,null,null,"-",null,null,null,null,null,null,null,null,null,null,null,null,null,221,null,null,null,221]
["ECPI COORD","YES",null,"MANUAL CONTROL: SPLIT",null,null,null,"-",null,null,null,null,null,null,null,null,null,null,null,null,null,222,null,null,null,222]
["SYSTEM FORMAT ","STD",null,"MANUAL CONTROL: OFFSET",null,null,null,"-",null,null,null,null,null,null,null,null,null,null,null,null,null,223,null,null,null,223]
["OFFSET IN","SECONDS",null,null,null,null,null,null,null,null,null,null,null,null,null,null,null,null,null,null,null,224,null,null,null,224]
["MAX SELECT","MAXINH",null,null,null,null,null,null,null,null,null,null,null,null,null,null,null,null,null,null,null,225,null,null,null,225]
["FORCE OFF","FLOAT",null,null,null,null,null,null,null,null,null,null,null,null,null,null,null,null,null,null,null,226,null,null,null,226]
["USE PED TIME","YES",null,null,null,null,null,null,null,null,null,null,null,null,null,null,null,null,null,null,null,227,null,null,null,227]
["PED RESERVICE","NO",null,null,null,null,null,null,null,null,null,null,null,null,null,null,null,null,null,null,null,228,null,null,null,228]
["FO ADD INI GRN","NO",null,null,null,null,null,null,null,null,null,null,null,null,null,null,null,null,null,null,null,229,null,null,null,229]
["MULTISYNC","NO",null,null,null,null,null,null,null,null,null,null,null,null,null,null,null,null,null,null,null,230,null,null,null,230]
[null,null,null,null,null,null,null,null,null,null,null,null,null,null,null,null,null,null,null,null,null,231,null,null,null,231]
[{"$f":"'Project Name'!$C$2","v":"LOR-254/301 Signal Timing"},null,null,null,null,null,null,null,null,null,null,null,null,null,null,null,null,null,null,null,null,232,null,null,null,232]
["Existing Local Controller Data",null,null,null,null,null,null,null,null,null,null,null,null,null,null,null,null,null,null,null,null,233,null,null,null,233]
[null,null,null,null,null,null,null,null,null,null,null,null,null,null,null,null,null,null,null,null,null,234,null,null,null,234]
["INTERSECTION:",null,null,"Detroit Rd & Abbe Rd",null,null,null,null,null,null,null,null,null,null,null,null,null,null,null,null,null,235,null,null,null,235]
["MAINTAINING AGENCY:",null,null,"ODOT D3",null,null,null,null,null,null,null,null,null,null,null,null,null,null,null,null,null,236,null,null,null,236]
["START UP",null,null,"DUAL ENTRY: ",null,"YES","PHASES:",null,"2, 4, 6, 8",null,null,null,null,null,null,null,null,null,null,null,null,237,null,null,null,237]
[null,null,null,"REST IN RED: ",null,null,"RING 1","NO",null,"RING 2","NO",null,null,null,null,null,null,null,null,null,null,238,null,null,null,238]
["START IN: ","ALL-RED FLASH",null,"OVERLAP",null,null,null,"A","B","C","D",null,null,null,null,null,null,null,null,null,null,239,null,null,null,239]
["TIME FOR FLASH / ALL RED (SEC.):   ",null,"9, 6",null,null,null,null,null,null,null,null,null,null,null,null,null,null,null,null,null,null,240,null,null,null,240]
["FIRST PHASE(S):","2, 6",null,"PHASES",null,null,null,1,5,3,"-",null,null,null,null,null,null,null,null,null,null,241,null,null,null,241]
["COLOR DISPLAYED:","GREEN",null,null,null,null,null,null,null,null,null,null,null,null,null,null,null,null,null,null,null,242,null,null,null,242]
[null,null,null,null,null,null,null,null,null,null,null,null,null,null,null,null,null,null,null,null,null,243,null,null,null,243]
["INTERVAL OR FEATURE",null,null,"CONTROLLER MOVEMENT NO.",null,null,null,null,null,null,null,null,null,null,null,null,null,null,null,null,null,244,null,null,null,244]
["INTERSECTION MOVEMENT (PHASE)",null,null,1,2,3,4,5,6,7,8,null,null,null,null,null,null,null,null,null,null,245,null,null,null,245]
["DIRECTION",null,null,"WBL","EBT","NBL","SBT","EBL","WBT","SBL","NBT",null,null,null,null,null,null,null,null,null,null,246,null,null,null,246]
["MINIMUM GREEN (INITIAL) ",null,"(SEC.)",7,20,7,10,7,20,7,10,null,null,null,null,null,null,null,null,null,null,247,null,null,null,247]
["ADDED INITIAL","*(SEC./ACTUATION)",null,"-","-","-","-","-","-","-","-",null,null,null,null,null,null,null,null,null,null,248,null,null,null,248]
["MAXIMUM INITIAL",null,"*(SEC.)","-","-","-","-","-","-","-","-",null,null,null,null,null,null,null,null,null,null,249,null,null,null,249]
["PASSAGE TIME (PRESET GAP)",null,"(SEC.)",3,3,3,3,3,3,3,3,null,null,null,null,null,null,null,null,null,null,250,null,null,null,250]
["TIME BEFORE REDUCTION",null,"*(SEC.)","-","-","-","-","-","-","-","-",null,null,null,null,null,null,null,null,null,null,251,null,null,null,251]
["MINIMUM GAP",null,"*(SEC.)","-","-","-","-","-","-","-","-",null,null,null,null,null,null,null,null,null,null,252,null,null,null,252]
["TIME TO REDUCE",null,"*(SEC.)","-","-","-","-","-","-","-","-",null,null,null,null,null,null,null,null,null,null,253,null,null,null,253]
["MAXIMUM GREEN I",null,"(SEC.)",15,50,20,45,15,50,20,45,null,null,null,null,null,null,null,null,null,null,254,null,null,null,254]
["MAXIMUM GREEN II",null,"(SEC.)",15,50,20,45,15,50,20,45,null,null,null,null,null,null,null,null,null,null,255,null,null,null,255]
["YELLOW CHANGE",null,"(SEC.)",3.2,4.0999999999999996,3.2,4.0999999999999996,3.2,4.0999999999999996,3.2,4.0999999999999996]
["ALL RED CLEARANCE",null,"(SEC.)",3.6,1.6,2.2999999999999998,1,3.6,1.6,2.2999999999999998,1]
["DELAYED GREEN (LPI) #",null,"(SEC.)","-","-","-","-","-","-","-","-"]
["FLASHING YELLOW ARROW DELAY^",null,"(SEC.)","-","-","-","-","-","-","-","-"]
["WALK",null,"(SEC.)","-",11,"-",10,"-","-","-",10]
["PEDESTRIAN CLEARANCE",null,"(SEC.)","-",28,"-",27,"-",7,"-",27]
["RECALL","MAXIMUM","(ON/OFF)","NO","NO","NO","NO","NO","NO","NO","NO"]
[null,"MINIMUM","(ON/OFF)","NO","YES","NO","NO","NO","YES","NO","NO"]
[null,"PEDESTRIAN","(ON/OFF)","NO","NO","NO","NO","NO","NO","NO","NO"]
["MEMORY    ",null,"(ON/OFF)","NO","YES","NO","NO","NO","YES","NO","NO"]
["*VOLUME DENSITY CONTROLS"]
["# FOR CROSSINGS WITH PEDESTRIAN PUSHBUTTONS, LPI'S (LEADING PEDESTRIAN INTERVALS) MAY BE IMPLEMENTED (3-6 SEC.) IN ACCORDANCE WITH LPI DURATION TIME PER THE ODOT SIGNAL CALCULATIONS - CLEARANCE INTERVALS SPREADSHEET"]
[]
[]
["^ WHEN IMPLEMENTING FYA, A MINIMUM 3 SEC. DELAY SHALL BE PROGRAMMED PER FYA PHASE. "]
[]
["ECONOLITE COORD SETTINGS",null,null,"SIEMENS COORD SETTINGS"]
["MANUAL PATTERN","AUTO",null,"OPERATION",null,null,null,"-"]
["SYSTEM SOURCE","TBC",null,"MODE (NORMAL)",null,null,null,"-"]
["SPLITS IN","SECONDS",null,"MAXIMUM",null,null,null,"-"]
["TRANSITION","SMOOTH",null,"CORRECTION",null,null,null,"-"]
["DWELL/ADD TIME",0,null,"OFFSET MODE",null,null,null,"-"]
["OFFSET REFERENCE","YELLOW",null,"FORCE MODE",null,null,null,"-"]
["PED RECALL","NO",null,"MAX DWELL TIME",null,null,null,"-"]
["LOCAL ZERO OVERRIDE","NO",null,"YIELD PERIOD",null,null,null,"-"]
["RE-SYNC COUNT",0,null,"MANUAL CONTROL: DIAL",null,null,null,"-"]
["ECPI COORD","YES",null,"MANUAL CONTROL: SPLIT",null,null,null,"-"]
["SYSTEM FORMAT ","STD",null,"MANUAL CONTROL: OFFSET",null,null,null,"-"]
["OFFSET IN","SECONDS"]
["MAX SELECT","MAXINH"]
["FORCE OFF","FLOAT"]
["USE PED TIME","YES"]
["PED RESERVICE","NO"]
["FO ADD INI GRN","NO"]
["MULTISYNC","NO"]
[]
[{"$f":"'Project Name'!$C$2","v":"LOR-254/301 Signal Timing"}]
["Existing Local Controller Data"]
[]
["INTERSECTION:",null,null,"Abbe Rd & Hoag Dr"]
["MAINTAINING AGENCY:"]
["START UP",null,null,"DUAL ENTRY: ",null,"YES","PHASES:",null,"2, 4, 6, 8"]
[null,null,null,"REST IN RED: ",null,null,"RING 1","NO",null,"RING 2","NO"]
["START IN: ","ALL-RED FLASH",null,"OVERLAP",null,null,null,"A","B","C","D"]
["TIME FOR FLASH / ALL RED (SEC.):   ",null,"9, 6"]
["FIRST PHASE(S):","2, 6",null,"PHASES",null,null,null,"-","-","-","-"]
["COLOR DISPLAYED:","GREEN"]
[]
["INTERVAL OR FEATURE",null,null,"CONTROLLER MOVEMENT NO."]
["INTERSECTION MOVEMENT (PHASE)",null,null,1,2,3,4,5,6,7,8]
["DIRECTION",null,null,"NBL","SBT","-","WBT","SBL","NBT","-","EBT"]
["MINIMUM GREEN (INITIAL) ",null,"(SEC.)",7,20,"-",10,7,20,"-",10]
["ADDED INITIAL","*(SEC./ACTUATION)",null,"-","-","-","-","-","-","-","-"]
["MAXIMUM INITIAL",null,"*(SEC.)","-","-","-","-","-","-","-","-"]
["PASSAGE TIME (PRESET GAP)",null,"(SEC.)",3,3,"-",3,3,3,"-",3]
["TIME BEFORE REDUCTION",null,"*(SEC.)","-","-","-","-","-","-","-","-"]
["MINIMUM GAP",null,"*(SEC.)","-","-","-","-","-","-","-","-"]
["TIME TO REDUCE",null,"*(SEC.)","-","-","-","-","-","-","-","-"]
["MAXIMUM GREEN I",null,"(SEC.)",15,55,"-",30,15,55,"-",30]
["MAXIMUM GREEN II",null,"(SEC.)",15,55,"-",30,15,55,"-",30]
["YELLOW CHANGE",null,"(SEC.)",4.0999999999999996,4.5,"-",3.8,4.0999999999999996,4.5,"-",3.8]
["ALL RED CLEARANCE",null,"(SEC.)",2,2,"-",2,2,2,"-",2]
["DELAYED GREEN (LPI) #",null,"(SEC.)","-","-","-","-","-","-","-","-"]
["FLASHING YELLOW ARROW DELAY^",null,"(SEC.)","-","-","-","-","-","-","-","-"]
["WALK",null,"(SEC.)","-",7,"-",7,"-",7,"-",7]
["PEDESTRIAN CLEARANCE",null,"(SEC.)","-",22,"-",17,"-",20,"-",17]
["RECALL","MAXIMUM","(ON/OFF)","NO","NO","NO","NO","NO","NO","NO","NO"]
[null,"MINIMUM","(ON/OFF)","NO","YES","NO","NO","NO","YES","NO","NO"]
[null,"PEDESTRIAN","(ON/OFF)","NO","YES","NO","NO","NO","YES","NO","NO"]
["MEMORY    ",null,"(ON/OFF)","NO","YES","NO","NO","NO","YES","NO","NO"]
["*VOLUME DENSITY CONTROLS"]
["# FOR CROSSINGS WITH PEDESTRIAN PUSHBUTTONS, LPI'S (LEADING PEDESTRIAN INTERVALS) MAY BE IMPLEMENTED (3-6 SEC.) IN ACCORDANCE WITH LPI DURATION TIME PER THE ODOT SIGNAL CALCULATIONS - CLEARANCE INTERVALS SPREADSHEET"]
[]
[]
["^ WHEN IMPLEMENTING FYA, A MINIMUM 3 SEC. DELAY SHALL BE PROGRAMMED PER FYA PHASE. "]
[]
["ECONOLITE COORD SETTINGS",null,null,"SIEMENS COORD SETTINGS"]
["MANUAL PATTERN","AUTO",null,"OPERATION",null,null,null,"-"]
["SYSTEM SOURCE","SYS",null,"MODE (NORMAL)",null,null,null,"-"]
["SPLITS IN","PERCENT",null,"MAXIMUM",null,null,null,"-"]
["TRANSITION","SMOOTH",null,"CORRECTION",null,null,null,"-"]
["DWELL/ADD TIME",0,null,"OFFSET MODE",null,null,null,"-"]
["OFFSET REFERENCE","LEAD",null,"FORCE MODE",null,null,null,"-"]
["PED RECALL","NO",null,"MAX DWELL TIME",null,null,null,"-"]
["LOCAL ZERO OVERRIDE","NO",null,"YIELD PERIOD",null,null,null,"-"]
["RE-SYNC COUNT",0,null,"MANUAL CONTROL: DIAL",null,null,null,"-"]
["ECPI COORD","YES",null,"MANUAL CONTROL: SPLIT",null,null,null,"-"]
["SYSTEM FORMAT ","STD",null,"MANUAL CONTROL: OFFSET",null,null,null,"-"]
["OFFSET IN","PERCENT"]
["MAX SELECT","MAXINH"]
["FORCE OFF","FLOAT"]
["USE PED TIME","YES"]
["PED RESERVICE","NO"]
["FO ADD INI GRN","NO"]
["MULTISYNC","NO"]
[]
[{"$f":"'Project Name'!$C$2","v":"LOR-254/301 Signal Timing"}]
["Existing Local Controller Data"]
[]
["INTERSECTION:"]
["MAINTAINING AGENCY:"]
["START UP",null,null,"DUAL ENTRY: ",null,"-","PHASES:",null,"-"]
[null,null,null,"REST IN RED: ",null,null,"RING 1","-",null,"RING 2","-"]
["START IN: ","-",null,"OVERLAP",null,null,null,"A","B","C","D"]
["TIME FOR FLASH / ALL RED (SEC.):   ",null,"9, 6"]
["FIRST PHASE(S):","-",null,"PHASES",null,null,null,"-","-","-","-"]
["COLOR DISPLAYED:","-"]
[]
["INTERVAL OR FEATURE",null,null,"CONTROLLER MOVEMENT NO."]
["INTERSECTION MOVEMENT (PHASE)",null,null,1,2,3,4,5,6,7,8]
["DIRECTION",null,null,"-","-","-","-","-","-","-","-"]
["MINIMUM GREEN (INITIAL) ",null,"(SEC.)","-","-","-","-","-","-","-","-"]
["ADDED INITIAL","*(SEC./ACTUATION)",null,"-","-","-","-","-","-","-","-"]
["MAXIMUM INITIAL",null,"*(SEC.)","-","-","-","-","-","-","-","-"]
["PASSAGE TIME (PRESET GAP)",null,"(SEC.)","-","-","-","-","-","-","-","-"]
["TIME BEFORE REDUCTION",null,"*(SEC.)","-","-","-","-","-","-","-","-"]
["MINIMUM GAP",null,"*(SEC.)","-","-","-","-","-","-","-","-"]
["TIME TO REDUCE",null,"*(SEC.)","-","-","-","-","-","-","-","-"]
["MAXIMUM GREEN I",null,"(SEC.)","-","-","-","-","-","-","-","-"]
["MAXIMUM GREEN II",null,"(SEC.)","-","-","-","-","-","-","-","-"]
["YELLOW CHANGE",null,"(SEC.)","-","-","-","-","-","-","-","-"]
["ALL RED CLEARANCE",null,"(SEC.)","-","-","-","-","-","-","-","-"]
["DELAYED GREEN (LPI) #",null,"(SEC.)","-","-","-","-","-","-","-","-"]
["FLASHING YELLOW ARROW DELAY^",null,"(SEC.)","-","-","-","-","-","-","-","-"]
["WALK",null,"(SEC.)","-","-","-","-","-","-","-","-"]
["PEDESTRIAN CLEARANCE",null,"(SEC.)","-","-","-","-","-","-","-","-"]
["RECALL","MAXIMUM","(ON/OFF)","-","-","-","-","-","-","-","-"]
[null,"MINIMUM","(ON/OFF)","-","-","-","-","-","-","-","-"]
[null,"PEDESTRIAN","(ON/OFF)","-","-","-","-","-","-","-","-"]
["MEMORY    ",null,"(ON/OFF)","-","-","-","-","-","-","-","-"]
["*VOLUME DENSITY CONTROLS"]
["# FOR CROSSINGS WITH PEDESTRIAN PUSHBUTTONS, LPI'S (LEADING PEDESTRIAN INTERVALS) MAY BE IMPLEMENTED (3-6 SEC.) IN ACCORDANCE WITH LPI DURATION TIME PER THE ODOT SIGNAL CALCULATIONS - CLEARANCE INTERVALS SPREADSHEET"]
[]
[]
["^ WHEN IMPLEMENTING FYA, A MINIMUM 3 SEC. DELAY SHALL BE PROGRAMMED PER FYA PHASE. "]
[]
["ECONOLITE COORD SETTINGS",null,null,"SIEMENS COORD SETTINGS"]
["MANUAL PATTERN","-",null,"OPERATION",null,null,null,"-"]
["SYSTEM SOURCE","-",null,"MODE (NORMAL)",null,null,null,"-"]
["SPLITS IN","-",null,"MAXIMUM",null,null,null,"-"]
["TRANSITION","-",null,"CORRECTION",null,null,null,"-"]
["DWELL/ADD TIME","-",null,"OFFSET MODE",null,null,null,"-"]
["OFFSET REFERENCE","-",null,"FORCE MODE",null,null,null,"-"]
["PED RECALL","-",null,"MAX DWELL TIME",null,null,null,"-"]
["LOCAL ZERO OVERRIDE","-",null,"YIELD PERIOD",null,null,null,"-"]
["RE-SYNC COUNT","-",null,"MANUAL CONTROL: DIAL",null,null,null,"-"]
["ECPI COORD","-",null,"MANUAL CONTROL: SPLIT",null,null,null,"-"]
["SYSTEM FORMAT ","-",null,"MANUAL CONTROL: OFFSET",null,null,null,"-"]
["OFFSET IN","-"]
["MAX SELECT","-"]
["FORCE OFF","-"]
["USE PED TIME","-"]
["PED RESERVICE","-"]
["FO ADD INI GRN","-"]
["MULTISYNC","-"]
[]
[{"$f":"'Project Name'!$C$2","v":"LOR-254/301 Signal Timing"}]
["Existing Local Controller Data"]
[]
["INTERSECTION:"]
["MAINTAINING AGENCY:"]
["START UP",null,null,"DUAL ENTRY: ",null,"-","PHASES:",null,"-"]
[null,null,null,"REST IN RED: ",null,null,"RING 1","-",null,"RING 2","-"]
["START IN: ","-",null,"OVERLAP",null,null,null,"A","B","C","D"]
["TIME FOR FLASH / ALL RED (SEC.):   ",null,"9, 6"]
["FIRST PHASE(S):","-",null,"PHASES",null,null,null,"-","-","-","-"]
["COLOR DISPLAYED:","-"]
[]
["INTERVAL OR FEATURE",null,null,"CONTROLLER MOVEMENT NO."]
["INTERSECTION MOVEMENT (PHASE)",null,null,1,2,3,4,5,6,7,8]
["DIRECTION",null,null,"-","-","-","-","-","-","-","-"]
["MINIMUM GREEN (INITIAL) ",null,"(SEC.)","-","-","-","-","-","-","-","-"]
["ADDED INITIAL","*(SEC./ACTUATION)",null,"-","-","-","-","-","-","-","-"]
["MAXIMUM INITIAL",null,"*(SEC.)","-","-","-","-","-","-","-","-"]
["PASSAGE TIME (PRESET GAP)",null,"(SEC.)","-","-","-","-","-","-","-","-"]
["TIME BEFORE REDUCTION",null,"*(SEC.)","-","-","-","-","-","-","-","-"]
["MINIMUM GAP",null,"*(SEC.)","-","-","-","-","-","-","-","-"]
["TIME TO REDUCE",null,"*(SEC.)","-","-","-","-","-","-","-","-"]
["MAXIMUM GREEN I",null,"(SEC.)","-","-","-","-","-","-","-","-"]
["MAXIMUM GREEN II",null,"(SEC.)","-","-","-","-","-","-","-","-"]
["YELLOW CHANGE",null,"(SEC.)","-","-","-","-","-","-","-","-"]
["ALL RED CLEARANCE",null,"(SEC.)","-","-","-","-","-","-","-","-"]
["DELAYED GREEN (LPI) #",null,"(SEC.)","-","-","-","-","-","-","-","-"]
["FLASHING YELLOW ARROW DELAY^",null,"(SEC.)","-","-","-","-","-","-","-","-"]
["WALK",null,"(SEC.)","-","-","-","-","-","-","-","-"]
["PEDESTRIAN CLEARANCE",null,"(SEC.)","-","-","-","-","-","-","-","-"]
["RECALL","MAXIMUM","(ON/OFF)","-","-","-","-","-","-","-","-"]
[null,"MINIMUM","(ON/OFF)","-","-","-","-","-","-","-","-"]
[null,"PEDESTRIAN","(ON/OFF)","-","-","-","-","-","-","-","-"]
["MEMORY    ",null,"(ON/OFF)","-","-","-","-","-","-","-","-"]
["*VOLUME DENSITY CONTROLS"]
["# FOR CROSSINGS WITH PEDESTRIAN PUSHBUTTONS, LPI'S (LEADING PEDESTRIAN INTERVALS) MAY BE IMPLEMENTED (3-6 SEC.) IN ACCORDANCE WITH LPI DURATION TIME PER THE ODOT SIGNAL CALCULATIONS - CLEARANCE INTERVALS SPREADSHEET"]
[]
[]
["^ WHEN IMPLEMENTING FYA, A MINIMUM 3 SEC. DELAY SHALL BE PROGRAMMED PER FYA PHASE. "]
[]
["ECONOLITE COORD SETTINGS",null,null,"SIEMENS COORD SETTINGS"]
["MANUAL PATTERN","-",null,"OPERATION",null,null,null,"-"]
["SYSTEM SOURCE","-",null,"MODE (NORMAL)",null,null,null,"-"]
["SPLITS IN","-",null,"MAXIMUM",null,null,null,"-"]
["TRANSITION","-",null,"CORRECTION",null,null,null,"-"]
["DWELL/ADD TIME","-",null,"OFFSET MODE",null,null,null,"-"]
["OFFSET REFERENCE","-",null,"FORCE MODE",null,null,null,"-"]
["PED RECALL","-",null,"MAX DWELL TIME",null,null,null,"-"]
["LOCAL ZERO OVERRIDE","-",null,"YIELD PERIOD",null,null,null,"-"]
["RE-SYNC COUNT","-",null,"MANUAL CONTROL: DIAL",null,null,null,"-"]
["ECPI COORD","-",null,"MANUAL CONTROL: SPLIT",null,null,null,"-"]
["SYSTEM FORMAT ","-",null,"MANUAL CONTROL: OFFSET",null,null,null,"-"]
["OFFSET IN","-"]
["MAX SELECT","-"]
["FORCE OFF","-"]
["USE PED TIME","-"]
["PED RESERVICE","-"]
["FO ADD INI GRN","-"]
["MULTISYNC","-"]
[]
[{"$f":"'Project Name'!$C$2","v":"LOR-254/301 Signal Timing"}]
["Existing Local Controller Data"]
[]
["INTERSECTION:"]
["MAINTAINING AGENCY:"]
["START UP",null,null,"DUAL ENTRY: ",null,"-","PHASES:",null,"-"]
[null,null,null,"REST IN RED: ",null,null,"RING 1","-",null,"RING 2","-"]
["START IN: ","-",null,"OVERLAP",null,null,null,"A","B","C","D"]
["TIME FOR FLASH / ALL RED (SEC.):   ",null,"9, 6"]
["FIRST PHASE(S):","-",null,"PHASES",null,null,null,"-","-","-","-"]
["COLOR DISPLAYED:","-"]
[]
["INTERVAL OR FEATURE",null,null,"CONTROLLER MOVEMENT NO."]
["INTERSECTION MOVEMENT (PHASE)",null,null,1,2,3,4,5,6,7,8]
["DIRECTION",null,null,"-","-","-","-","-","-","-","-"]
["MINIMUM GREEN (INITIAL) ",null,"(SEC.)","-","-","-","-","-","-","-","-"]
["ADDED INITIAL","*(SEC./ACTUATION)",null,"-","-","-","-","-","-","-","-"]
["MAXIMUM INITIAL",null,"*(SEC.)","-","-","-","-","-","-","-","-"]
["PASSAGE TIME (PRESET GAP)",null,"(SEC.)","-","-","-","-","-","-","-","-"]
["TIME BEFORE REDUCTION",null,"*(SEC.)","-","-","-","-","-","-","-","-"]
["MINIMUM GAP",null,"*(SEC.)","-","-","-","-","-","-","-","-"]
["TIME TO REDUCE",null,"*(SEC.)","-","-","-","-","-","-","-","-"]
["MAXIMUM GREEN I",null,"(SEC.)","-","-","-","-","-","-","-","-"]
["MAXIMUM GREEN II",null,"(SEC.)","-","-","-","-","-","-","-","-"]
["YELLOW CHANGE",null,"(SEC.)","-","-","-","-","-","-","-","-"]
["ALL RED CLEARANCE",null,"(SEC.)","-","-","-","-","-","-","-","-"]
["DELAYED GREEN (LPI) #",null,"(SEC.)","-","-","-","-","-","-","-","-"]
["FLASHING YELLOW ARROW DELAY^",null,"(SEC.)","-","-","-","-","-","-","-","-"]
["WALK",null,"(SEC.)","-","-","-","-","-","-","-","-"]
["PEDESTRIAN CLEARANCE",null,"(SEC.)","-","-","-","-","-","-","-","-"]
["RECALL","MAXIMUM","(ON/OFF)","-","-","-","-","-","-","-","-"]
[null,"MINIMUM","(ON/OFF)","-","-","-","-","-","-","-","-"]
[null,"PEDESTRIAN","(ON/OFF)","-","-","-","-","-","-","-","-"]
["MEMORY    ",null,"(ON/OFF)","-","-","-","-","-","-","-","-"]
["*VOLUME DENSITY CONTROLS"]
["# FOR CROSSINGS WITH PEDESTRIAN PUSHBUTTONS, LPI'S (LEADING PEDESTRIAN INTERVALS) MAY BE IMPLEMENTED (3-6 SEC.) IN ACCORDANCE WITH LPI DURATION TIME PER THE ODOT SIGNAL CALCULATIONS - CLEARANCE INTERVALS SPREADSHEET"]
[]
[]
["^ WHEN IMPLEMENTING FYA, A MINIMUM 3 SEC. DELAY SHALL BE PROGRAMMED PER FYA PHASE. "]
[]
["ECONOLITE COORD SETTINGS",null,null,"SIEMENS COORD SETTINGS"]
["MANUAL PATTERN","-",null,"OPERATION",null,null,null,"-"]
["SYSTEM SOURCE","-",null,"MODE (NORMAL)",null,null,null,"-"]
["SPLITS IN","-",null,"MAXIMUM",null,null,null,"-"]
["TRANSITION","-",null,"CORRECTION",null,null,null,"-"]
["DWELL/ADD TIME","-",null,"OFFSET MODE",null,null,null,"-"]
["OFFSET REFERENCE","-",null,"FORCE MODE",null,null,null,"-"]
["PED RECALL","-",null,"MAX DWELL TIME",null,null,null,"-"]
["LOCAL ZERO OVERRIDE","-",null,"YIELD PERIOD",null,null,null,"-"]
["RE-SYNC COUNT","-",null,"MANUAL CONTROL: DIAL",null,null,null,"-"]
["ECPI COORD","-",null,"MANUAL CONTROL: SPLIT",null,null,null,"-"]
["SYSTEM FORMAT ","-",null,"MANUAL CONTROL: OFFSET",null,null,null,"-"]
["OFFSET IN","-"]
["MAX SELECT","-"]
["FORCE OFF","-"]
["USE PED TIME","-"]
["PED RESERVICE","-"]
["FO ADD INI GRN","-"]
["MULTISYNC","-"]
[]
[{"$f":"'Project Name'!$C$2","v":"LOR-254/301 Signal Timing"}]
["Existing Local Controller Data"]
[]
["INTERSECTION:"]
["MAINTAINING AGENCY:"]
["START UP",null,null,"DUAL ENTRY: ",null,"-","PHASES:",null,"-"]
[null,null,null,"REST IN RED: ",null,null,"RING 1","-",null,"RING 2","-"]
["START IN: ","-",null,"OVERLAP",null,null,null,"A","B","C","D"]
["TIME FOR FLASH / ALL RED (SEC.):   ",null,"9, 6"]
["FIRST PHASE(S):","-",null,"PHASES",null,null,null,"-","-","-","-"]
["COLOR DISPLAYED:","-"]
[]
["INTERVAL OR FEATURE",null,null,"CONTROLLER MOVEMENT NO."]
["INTERSECTION MOVEMENT (PHASE)",null,null,1,2,3,4,5,6,7,8]
["DIRECTION",null,null,"-","-","-","-","-","-","-","-"]
["MINIMUM GREEN (INITIAL) ",null,"(SEC.)","-","-","-","-","-","-","-","-"]
["ADDED INITIAL","*(SEC./ACTUATION)",null,"-","-","-","-","-","-","-","-"]
["MAXIMUM INITIAL",null,"*(SEC.)","-","-","-","-","-","-","-","-"]
["PASSAGE TIME (PRESET GAP)",null,"(SEC.)","-","-","-","-","-","-","-","-"]
["TIME BEFORE REDUCTION",null,"*(SEC.)","-","-","-","-","-","-","-","-"]
["MINIMUM GAP",null,"*(SEC.)","-","-","-","-","-","-","-","-"]
["TIME TO REDUCE",null,"*(SEC.)","-","-","-","-","-","-","-","-"]
["MAXIMUM GREEN I",null,"(SEC.)","-","-","-","-","-","-","-","-"]
["MAXIMUM GREEN II",null,"(SEC.)","-","-","-","-","-","-","-","-"]
["YELLOW CHANGE",null,"(SEC.)","-","-","-","-","-","-","-","-"]
["ALL RED CLEARANCE",null,"(SEC.)","-","-","-","-","-","-","-","-"]
["DELAYED GREEN (LPI) #",null,"(SEC.)","-","-","-","-","-","-","-","-"]
["FLASHING YELLOW ARROW DELAY^",null,"(SEC.)","-","-","-","-","-","-","-","-"]
["WALK",null,"(SEC.)","-","-","-","-","-","-","-","-"]
["PEDESTRIAN CLEARANCE",null,"(SEC.)","-","-","-","-","-","-","-","-"]
["RECALL","MAXIMUM","(ON/OFF)","-","-","-","-","-","-","-","-"]
[null,"MINIMUM","(ON/OFF)","-","-","-","-","-","-","-","-"]
[null,"PEDESTRIAN","(ON/OFF)","-","-","-","-","-","-","-","-"]
["MEMORY    ",null,"(ON/OFF)","-","-","-","-","-","-","-","-"]
["*VOLUME DENSITY CONTROLS"]
["# FOR CROSSINGS WITH PEDESTRIAN PUSHBUTTONS, LPI'S (LEADING PEDESTRIAN INTERVALS) MAY BE IMPLEMENTED (3-6 SEC.) IN ACCORDANCE WITH LPI DURATION TIME PER THE ODOT SIGNAL CALCULATIONS - CLEARANCE INTERVALS SPREADSHEET"]
[]
[]
["^ WHEN IMPLEMENTING FYA, A MINIMUM 3 SEC. DELAY SHALL BE PROGRAMMED PER FYA PHASE. "]
[]
["ECONOLITE COORD SETTINGS",null,null,"SIEMENS COORD SETTINGS"]
["MANUAL PATTERN","-",null,"OPERATION",null,null,null,"-"]
["SYSTEM SOURCE","-",null,"MODE (NORMAL)",null,null,null,"-"]
["SPLITS IN","-",null,"MAXIMUM",null,null,null,"-"]
["TRANSITION","-",null,"CORRECTION",null,null,null,"-"]
["DWELL/ADD TIME","-",null,"OFFSET MODE",null,null,null,"-"]
["OFFSET REFERENCE","-",null,"FORCE MODE",null,null,null,"-"]
["PED RECALL","-",null,"MAX DWELL TIME",null,null,null,"-"]
["LOCAL ZERO OVERRIDE","-",null,"YIELD PERIOD",null,null,null,"-"]
["RE-SYNC COUNT","-",null,"MANUAL CONTROL: DIAL",null,null,null,"-"]
["ECPI COORD","-",null,"MANUAL CONTROL: SPLIT",null,null,null,"-"]
["SYSTEM FORMAT ","-",null,"MANUAL CONTROL: OFFSET",null,null,null,"-"]
["OFFSET IN","-"]
["MAX SELECT","-"]
["FORCE OFF","-"]
["USE PED TIME","-"]
["PED RESERVICE","-"]
["FO ADD INI GRN","-"]
["MULTISYNC","-"]

{"sheet":"Local Controller Data - PROP","index":2,"n_rows":600,"n_cols":47,"rows_kept":600,"cut":false,"hidden":false,"merged":[[588,3,588,6],[588,7,588,9],[589,3,589,6],[589,7,589,9],[590,3,590,6],[590,7,590,9],[591,3,591,6],[591,7,591,9],[592,3,592,6],[592,7,592,9],[583,3,583,6],[583,7,583,9],[584,3,584,6],[584,7,584,9],[585,3,585,6],[585,7,585,9],[586,3,586,6],[586,7,586,9],[587,3,587,6],[587,7,587,9],[570,0,570,1],[571,0,573,0],[575,0,575,10],[576,0,578,10],[579,0,579,10],[581,0,581,1],[581,3,581,9],[582,3,582,6],[582,7,582,9],[561,0,561,1],[562,0,562,1],[563,0,563,1],[564,0,564,1],[565,0,565,1],[566,0,566,1],[567,0,567,1],[568,0,568,1],[569,0,569,1],[553,0,553,2],[553,3,553,10],[554,0,554,2],[555,0,555,2],[556,0,556,1],[557,1,557,2],[558,0,558,1],[559,0,559,1],[560,0,560,1],[548,1,548,2],[548,3,549,6],[548,7,549,7],[548,8,549,8],[548,9,549,9],[548,10,549,10],[549,0,549,1],[550,1,550,2],[550,3,552,6],[550,7,552,7],[550,8,552,8],[550,9,552,9],[550,10,552,10],[551,1,551,2],[552,0,552,2],[541,0,541,10],[542,0,542,10],[544,0,544,2],[544,3,544,10],[545,0,545,2],[545,3,545,10],[546,0,547,2],[546,3,546,4],[546,6,546,7],[546,8,546,10],[547,3,547,4],[528,3,528,6],[528,7,528,9],[529,3,529,6],[529,7,529,9],[530,3,530,6],[530,7,530,9],[531,3,531,6],[531,7,531,9],[532,3,532,6],[532,7,532,9],[523,3,523,6],[523,7,523,9],[524,3,524,6],[524,7,524,9],[525,3,525,6],[525,7,525,9],[526,3,526,6],[526,7,526,9],[527,3,527,6],[527,7,527,9],[510,0,510,1],[511,0,513,0],[515,0,515,10],[516,0,518,10],[519,0,519,10],[521,0,521,1],[521,3,521,9],[522,3,522,6],[522,7,522,9],[501,0,501,1],[502,0,502,1],[503,0,503,1],[504,0,504,1],[505,0,505,1],[506,0,506,1],[507,0,507,1],[508,0,508,1],[509,0,509,1],[493,0,493,2],[493,3,493,10],[494,0,494,2],[495,0,495,2],[496,0,496,1],[497,1,497,2],[498,0,498,1],[499,0,499,1],[500,0,500,1],[488,1,488,2],[488,3,489,6],[488,7,489,7],[488,8,489,8],[488,9,489,9],[488,10,489,10],[489,0,489,1],[490,1,490,2],[490,3,492,6],[490,7,492,7],[490,8,492,8],[490,9,492,9],[490,10,492,10],[491,1,491,2],[492,0,492,2],[481,0,481,10],[482,0,482,10],[484,0,484,2],[484,3,484,10],[485,0,485,2],[485,3,485,10],[486,0,487,2],[486,3,486,4],[486,6,486,7],[486,8,486,10],[487,3,487,4],[468,3,468,6],[468,7,468,9],[469,3,469,6],[469,7,469,9],[470,3,470,6],[470,7,470,9],[471,3,471,6],[471,7,471,9],[472,3,472,6],[472,7,472,9],[463,3,463,6],[463,7,463,9],[464,3,464,6],[464,7,464,9],[465,3,465,6],[465,7,465,9],[466,3,466,6],[466,7,466,9],[467,3,467,6],[467,7,467,9],[450,0,450,1],[451,0,453,0],[455,0,455,10],[456,0,458,10],[459,0,459,10],[461,0,461,1],[461,3,461,9],[462,3,462,6],[462,7,462,9],[441,0,441,1],[442,0,442,1],[443,0,443,1],[444,0,444,1],[445,0,445,1],[446,0,446,1],[447,0,447,1],[448,0,448,1],[449,0,449,1],[433,0,433,2],[433,3,433,10],[434,0,434,2],[435,0,435,2],[436,0,436,1],[437,1,437,2],[438,0,438,1],[439,0,439,1],[440,0,440,1],[428,1,428,2],[428,3,429,6],[428,7,429,7],[428,8,429,8],[428,9,429,9],[428,10,429,10],[429,0,429,1],[430,1,430,2],[430,3,432,6],[430,7,432,7],[430,8,432,8],[430,9,432,9],[430,10,432,10],[431,1,431,2],[432,0,432,2],[421,0,421,10],[422,0,422,10],[424,0,424,2],[424,3,424,10],[425,0,425,2],[425,3,425,10],[426,0,427,2],[426,3,426,4],[426,6,426,7],[426,8,426,10],[427,3,427,4],[408,3,408,6],[408,7,408,9],[409,3,409,6],[409,7,409,9],[410,3,410,6],[410,7,410,9],[411,3,411,6],[411,7,411,9],[412,3,412,6],[412,7,412,9],[403,3,403,6],[403,7,403,9],[404,3,404,6],[404,7,404,9],[405,3,405,6],[405,7,405,9],[406,3,406,6],[406,7,406,9],[407,3,407,6],[407,7,407,9],[390,0,390,1],[391,0,393,0],[395,0,395,10],[396,0,398,10],[399,0,399,10],[401,0,401,1],[401,3,401,9],[402,3,402,6],[402,7,402,9],[381,0,381,1],[382,0,382,1],[383,0,383,1],[384,0,384,1],[385,0,385,1],[386,0,386,1],[387,0,387,1],[388,0,388,1],[389,0,389,1],[373,0,373,2],[373,3,373,10],[374,0,374,2],[375,0,375,2],[376,0,376,1],[377,1,377,2],[378,0,378,1],[379,0,379,1],[380,0,380,1],[368,1,368,2],[368,3,369,6],[368,7,369,7],[368,8,369,8],[368,9,369,9],[368,10,369,10],[369,0,369,1],[370,1,370,2],[370,3,372,6],[370,7,372,7],[370,8,372,8],[370,9,372,9],[370,10,372,10],[371,1,371,2],[372,0,372,2],[361,0,361,10],[362,0,362,10],[364,0,364,2],[364,3,364,10],[365,0,365,2],[365,3,365,10],[366,0,367,2],[366,3,366,4],[366,6,366,7],[366,8,366,10],[367,3,367,4],[348,3,348,6],[348,7,348,9],[349,3,349,6],[349,7,349,9],[350,3,350,6],[350,7,350,9],[351,3,351,6],[351,7,351,9],[352,3,352,6],[352,7,352,9],[343,3,343,6],[343,7,343,9],[344,3,344,6],[344,7,344,9],[345,3,345,6],[345,7,345,9],[346,3,346,6],[346,7,346,9],[347,3,347,6],[347,7,347,9],[330,0,330,1],[331,0,333,0],[335,0,335,10],[336,0,338,10],[339,0,339,10],[341,0,341,1],[341,3,341,9],[342,3,342,6],[342,7,342,9],[321,0,321,1],[322,0,322,1],[323,0,323,1],[324,0,324,1],[325,0,325,1],[326,0,326,1],[327,0,327,1],[328,0,328,1],[329,0,329,1],[313,0,313,2],[313,3,313,10],[314,0,314,2],[315,0,315,2],[316,0,316,1],[317,1,317,2],[318,0,318,1],[319,0,319,1],[320,0,320,1],[308,1,308,2],[308,3,309,6],[308,7,309,7],[308,8,309,8],[308,9,309,9],[308,10,309,10],[309,0,309,1],[310,1,310,2],[310,3,312,6],[310,7,312,7],[310,8,312,8],[310,9,312,9],[310,10,312,10],[311,1,311,2],[312,0,312,2],[301,0,301,10],[302,0,302,10],[304,0,304,2],[304,3,304,10],[305,0,305,2],[305,3,305,10],[306,0,307,2],[306,3,306,4],[306,6,306,7],[306,8,306,10],[307,3,307,4],[288,3,288,6],[288,7,288,9],[289,3,289,6],[289,7,289,9],[290,3,290,6],[290,7,290,9],[291,3,291,6],[291,7,291,9],[292,3,292,6],[292,7,292,9],[283,3,283,6],[283,7,283,9],[284,3,284,6],[284,7,284,9],[285,3,285,6],[285,7,285,9],[286,3,286,6],[286,7,286,9],[287,3,287,6],[287,7,287,9],[270,0,270,1],[271,0,273,0],[275,0,275,10],[276,0,278,10],[279,0,279,10],[281,0,281,1],[281,3,281,9],[282,3,282,6],[282,7,282,9],[261,0,261,1],[262,0,262,1],[263,0,263,1],[264,0,264,1],[265,0,265,1],[266,0,266,1],[267,0,267,1],[268,0,268,1],[269,0,269,1],[253,0,253,2],[253,3,253,10],[254,0,254,2],[255,0,255,2],[256,0,256,1],[257,1,257,2],[258,0,258,1],[259,0,259,1],[260,0,260,1],[248,1,248,2],[248,3,249,6],[248,7,249,7],[248,8,249,8],[248,9,249,9],[248,10,249,10],[249,0,249,1],[250,1,250,2],[250,3,252,6],[250,7,252,7],[250,8,252,8],[250,9,252,9],[250,10,252,10],[251,1,251,2],[252,0,252,2],[241,0,241,10],[242,0,242,10],[244,0,244,2],[244,3,244,10],[245,0,245,2],[245,3,245,10],[246,0,247,2],[246,3,246,4],[246,6,246,7],[246,8,246,10],[247,3,247,4],[228,3,228,6],[228,7,228,9],[229,3,229,6],[229,7,229,9],[230,3,230,6],[230,7,230,9],[231,3,231,6],[231,7,231,9],[232,3,232,6],[232,7,232,9],[223,3,223,6],[223,7,223,9],[224,3,224,6],[224,7,224,9],[225,3,225,6],[225,7,225,9],[226,3,226,6],[226,7,226,9],[227,3,227,6],[227,7,227,9],[210,0,210,1],[211,0,213,0],[215,0,215,10],[216,0,218,10],[219,0,219,10],[221,0,221,1],[221,3,221,9],[222,3,222,6],[222,7,222,9],[201,0,201,1],[202,0,202,1],[203,0,203,1],[204,0,204,1],[205,0,205,1],[206,0,206,1],[207,0,207,1],[208,0,208,1],[209,0,209,1],[193,0,193,2],[193,3,193,10],[194,0,194,2],[195,0,195,2],[196,0,196,1],[197,1,197,2],[198,0,198,1],[199,0,199,1],[200,0,200,1],[188,1,188,2],[188,3,189,6],[188,7,189,7],[188,8,189,8],[188,9,189,9],[188,10,189,10],[189,0,189,1],[190,1,190,2],[190,3,192,6],[190,7,192,7],[190,8,192,8],[190,9,192,9],[190,10,192,10],[191,1,191,2],[192,0,192,2],[181,0,181,10],[182,0,182,10],[184,0,184,2],[184,3,184,10],[185,0,185,2],[185,3,185,10],[186,0,187,2],[186,3,186,4],[186,6,186,7],[186,8,186,10],[187,3,187,4],[168,3,168,6],[168,7,168,9],[169,3,169,6],[169,7,169,9],[170,3,170,6],[170,7,170,9],[171,3,171,6],[171,7,171,9],[172,3,172,6],[172,7,172,9],[163,3,163,6],[163,7,163,9],[164,3,164,6],[164,7,164,9],[165,3,165,6],[165,7,165,9],[166,3,166,6],[166,7,166,9],[167,3,167,6],[167,7,167,9],[150,0,150,1],[151,0,153,0],[155,0,155,10],[156,0,158,10],[159,0,159,10],[161,0,161,1],[161,3,161,9],[162,3,162,6],[162,7,162,9],[141,0,141,1],[142,0,142,1],[143,0,143,1],[144,0,144,1],[145,0,145,1],[146,0,146,1],[147,0,147,1],[148,0,148,1],[149,0,149,1],[133,0,133,2],[133,3,133,10],[134,0,134,2],[135,0,135,2],[136,0,136,1],[137,1,137,2],[138,0,138,1],[139,0,139,1],[140,0,140,1],[128,1,128,2],[128,3,129,6],[128,7,129,7],[128,8,129,8],[128,9,129,9],[128,10,129,10],[129,0,129,1],[130,1,130,2],[130,3,132,6],[130,7,132,7],[130,8,132,8],[130,9,132,9],[130,10,132,10],[131,1,131,2],[132,0,132,2],[121,0,121,10],[122,0,122,10],[124,0,124,2],[124,3,124,10],[125,0,125,2],[125,3,125,10],[126,0,127,2],[126,3,126,4],[126,6,126,7],[126,8,126,10],[127,3,127,4],[111,3,111,6],[111,7,111,9],[112,3,112,6],[112,7,112,9],[108,3,108,6],[108,7,108,9],[109,3,109,6],[109,7,109,9],[110,3,110,6],[110,7,110,9],[105,3,105,6],[105,7,105,9],[106,3,106,6],[106,7,106,9],[107,3,107,6],[107,7,107,9],[102,3,102,6],[102,7,102,9],[103,3,103,6],[103,7,103,9],[104,3,104,6],[104,7,104,9],[90,0,90,1],[91,0,93,0],[95,0,95,10],[96,0,98,10],[99,0,99,10],[101,0,101,1],[101,3,101,9],[84,0,84,1],[85,0,85,1],[86,0,86,1],[87,0,87,1],[88,0,88,1],[89,0,89,1],[78,0,78,1],[79,0,79,1],[80,0,80,1],[81,0,81,1],[82,0,82,1],[83,0,83,1],[73,0,73,2],[73,3,73,10],[74,0,74,2],[75,0,75,2],[76,0,76,1],[77,1,77,2],[70,1,70,2],[70,3,72,6],[70,7,72,7],[70,8,72,8],[70,9,72,9],[70,10,72,10],[71,1,71,2],[72,0,72,2],[68,1,68,2],[68,3,69,6],[68,7,69,7],[68,8,69,8],[68,9,69,9],[68,10,69,10],[69,0,69,1],[64,0,64,2],[64,3,64,10],[65,0,65,2],[65,3,65,10],[66,0,67,2],[66,3,66,4],[66,6,66,7],[66,8,66,10],[67,3,67,4],[50,3,50,6],[50,7,50,9],[51,3,51,6],[51,7,51,9],[61,0,61,10],[62,0,62,10],[47,3,47,6],[47,7,47,9],[48,3,48,6],[48,7,48,9],[49,3,49,6],[49,7,49,9],[44,3,44,6],[44,7,44,9],[45,3,45,6],[45,7,45,9],[46,3,46,6],[46,7,46,9],[41,3,41,6],[41,7,41,9],[42,3,42,6],[42,7,42,9],[43,3,43,6],[43,7,43,9],[29,0,29,1],[30,0,32,0],[34,0,34,10],[35,0,37,10],[38,0,38,10],[40,0,40,1],[40,3,40,9],[23,0,23,1],[24,0,24,1],[25,0,25,1],[26,0,26,1],[27,0,27,1],[28,0,28,1],[17,0,17,1],[18,0,18,1],[19,0,19,1],[20,0,20,1],[21,0,21,1],[22,0,22,1],[12,0,12,2],[12,3,12,10],[13,0,13,2],[14,0,14,2],[15,0,15,1],[16,1,16,2],[7,1,7,2],[7,3,8,6],[7,7,8,7],[7,8,8,8],[7,9,8,9],[7,10,8,10],[8,0,8,1],[9,1,9,2],[9,3,11,6],[9,7,11,7],[9,8,11,8],[9,9,11,9],[9,10,11,10],[10,1,10,2],[11,0,11,2],[0,0,0,10],[1,0,1,10],[3,0,3,2],[3,3,3,10],[4,0,4,2],[4,3,4,10],[5,0,6,2],[5,3,5,4],[5,6,5,7],[5,8,5,10],[6,3,6,4]]}
[{"$f":"'Project Name'!$C$2","v":"LOR-254/301 Signal Timing"}]
["Proposed Local Controller Data"]
[]
["INTERSECTION:",null,null,"Detroit Rd & Transportation Dr/Mike Bass Ford Dr",null,null,null,null,null,null,null,null,null,"-",null,null,null,"MANUAL PATTERN","SYSTEM SOURCE","SPLITS IN","TRANSITION","DWELL/ADD TIME","OFFSET REFERNECE","PED RECALL","LOCAL ZERO OVERRIDE","RE-SYNC COUNT","ECPI COORD","SYSTEM FORMAT ","OFFSET IN","MAX SELECT","FORCE OFF","USE PED TIME","PED RESERVICE","FO ADD INI GRN","MULTISYNC",null,"OPERATION","MODE (NORMAL)","MAXIMUM","CORRECTION","OFFSET MODE","FORCE MODE","MAX DWELL TIME","YIELD PERIOD","MANUAL CONTROL: DIAL","MANUAL CONTROL: SPLIT","MANUAL CONTROL: OFFSET"]
["MAINTAINING AGENCY:",null,null,"ODOT D3",null,null,null,null,null,null,null,null,null,"YES",null,null,null,"-","-","-","-","-","-","-","-","-","-","-","-","-","-","-","-","-","-",null,"-","-","-","-","-","-"]
["START UP",null,null,"DUAL ENTRY: ",null,"YES","PHASES:",null,"2, 4, 6, 8",null,null,null,null,"NO",null,null,null,"AUTO","HDW","SECONDS","DWELL",0,"LEAD","NO","NO",0,"NO","STD","SECONDS","MAXINH","FIXED ","NO","NO","NO","NO",null,"0 - FREE","0 - PERMISSIVE","0 - INHIBIT","0 - DWELL","0 - BEG GREEN","0 - PLAN"]
[null,null,null,"REST IN RED: ",null,null,"RING 1","NO",null,"RING 2","NO",null,null,null,null,"-",null,"FREE","TBC",null,"SMOOTH",1,"LAG","YES","YES",1,"YES","TS2",null,"MAX 1","FLOAT","YES","YES","YES","YES",null,"1 - AUTO","1 - YIELD","1 - MAX I","1 - MAX DWELL","1 - END GREEN","1 - CYCLE"]
["START IN: ","ALL-RED FLASH",null,"OVERLAP",null,null,null,"A","B","C","D",null,null,null,null,"NB",null,"FLASH","SYS",null,"ADD ONLY",2,"YIELD",null,null,2,null,"PTN",null,"MAX 2",null,null,null,null,null,null,"2 - MANUAL","2 - PERMISSIVE YIELD","2 - MAX II","2 - SHORT WAY",null,"2 - FLOATING"]
["TIME FOR: FLASH , ALL RED (SEC.):   ",null,"9, 6",null,null,null,null,null,null,null,null,null,null,"-",null,"SB",null,1,null,null,null,3,"YELLOW",null,null,3,null,null,null,"MAX 3 ",null,null,null,null,null,null,null,"3 - PERMISSIVE OMIT",null,"3 - ADD ONLY",null,"3 - FIXED"]
["FIRST PHASE(S):","2, 6",null,"PHASES",null,null,null,"-","-","-","-",null,null,"YELLOW/RED FLASH",null,"EB",null,2,null,null,null,4,"RING 1",null,null,4,null,null,null,null,null,null,null,null,null,null,null,"4 - SEQUENTIAL OMIT",null,"4 - SHORT WAY 2"]
["COLOR DISPLAYED:","GREEN",null,null,null,null,null,null,null,null,null,null,null,"ALL-RED FLASH",null,"WB",null,3,null,null,null,5,null,null,null,5,null,null,null,null,null,null,null,null,null,null,null,"5 - FULLY ACTUATED"]
[null,null,null,null,null,null,null,null,null,null,null,null,null,null,null,"NB LT",null,4,null,null,null,6,null,null,null,6,null,null,null,null,null,null,null,null,null,null,null,"6 - MUTUAL COORD"]
["INTERVAL OR FEATURE",null,null,"CONTROLLER MOVEMENT NO.",null,null,null,null,null,null,null,null,null,"-",null,"SB LT",null,5,null,null,null,7,null,null,null,7]
["INTERSECTION MOVEMENT (PHASE)",null,null,1,2,3,4,5,6,7,8,null,null,"GREEN",null,"EB LT",null,6,null,null,null,8,null,null,null,8]
["DIRECTION",null,null,"WBL","EBT","-","SBT","EBL","WBT","-","NBT",null,null,"YELLOW",null,"WB LT",null,7,null,null,null,9,null,null,null,9]
["MINIMUM GREEN (INITIAL) ",null,"(SEC.)",7,20,"-",10,7,20,"-",10,null,null,null,null,null,null,8,null,null,null,10,null,null,null,10]
["ADDED INITIAL","*(SEC./ACTUATION)",null,"-","-","-","-","-","-","-","-",null,null,null,null,null,null,9,null,null,null,11,null,null,null,11]
["MAXIMUM INITIAL",null,"*(SEC.)","-","-","-","-","-","-","-","-",null,null,null,null,null,null,10,null,null,null,12,null,null,null,12]
["PASSAGE TIME (PRESET GAP)",null,"(SEC.)",3,3,"-",3,3,3,"-",3,null,null,null,null,null,null,11,null,null,null,13,null,null,null,13]
["TIME BEFORE REDUCTION",null,"*(SEC.)","-","-","-","-","-","-","-","-",null,null,null,null,null,null,12,null,null,null,14,null,null,null,14]
["MINIMUM GAP",null,"*(SEC.)","-","-","-","-","-","-","-","-",null,null,null,null,null,null,13,null,null,null,15,null,null,null,15]
["TIME TO REDUCE",null,"*(SEC.)","-","-","-","-","-","-","-","-",null,null,null,null,null,null,14,null,null,null,16,null,null,null,16]
["MAXIMUM GREEN I",null,"(SEC.)",15,58,"-",22,15,58,"-",22,null,null,null,null,null,null,15,null,null,null,17,null,null,null,17]
["MAXIMUM GREEN II",null,"(SEC.)",15,58,"-",22,15,58,"-",22,null,null,null,null,null,null,16,null,null,null,18,null,null,null,18]
["YELLOW CHANGE",null,"(SEC.)",3.1,4,"-",3.8,3.1,4,"-",3.8,null,null,null,null,null,null,17,null,null,null,19,null,null,null,19]
["ALL RED CLEARANCE",null,"(SEC.)",3,1.8,"-",1.2,3,1.8,"-",1.2,null,null,null,null,null,null,18,null,null,null,20,null,null,null,20]
["DELAYED GREEN (LPI) #",null,"(SEC.)","-","-","-","-","-","-","-","-"]
["FLASHING YELLOW ARROW DELAY^",null,"(SEC.)","-","-","-","-","-","-","-","-"]
["WALK",null,"(SEC.)","-","-","-",7,"-",10,"-","-",null,null,null,null,null,null,19,null,null,null,21,null,null,null,21]
["PEDESTRIAN CLEARANCE",null,"(SEC.)","-","-","-",11,"-",23,"-","-",null,null,null,null,null,null,20,null,null,null,22,null,null,null,22]
["RECALL","MAXIMUM","(ON/OFF)","NO","NO","-","NO","NO","NO","-","NO",null,null,null,null,null,null,21,null,null,null,23,null,null,null,23]
[null,"MINIMUM","(ON/OFF)","NO","YES","-","NO","NO","YES","-","NO",null,null,null,null,null,null,22,null,null,null,24,null,null,null,24]
[null,"PEDESTRIAN","(ON/OFF)","NO","NO","-","NO","NO","NO","-","NO",null,null,null,null,null,null,23,null,null,null,25,null,null,null,25]
["MEMORY    ",null,"(ON/OFF)","YES","YES","-","YES","YES","YES","-","YES",null,null,null,null,null,null,24,null,null,null,26,null,null,null,26]
["*VOLUME DENSITY CONTROLS",null,null,null,null,null,null,null,null,null,null,null,null,null,null,null,null,25,null,null,null,27,null,null,null,27]
["# FOR CROSSINGS WITH PEDESTRIAN PUSHBUTTONS, LPI'S (LEADING PEDESTRIAN INTERVALS) MAY BE IMPLEMENTED (3-6 SEC.) IN ACCORDANCE WITH LPI DURATION TIME PER THE ODOT SIGNAL CALCULATIONS - CLEARANCE INTERVALS SPREADSHEET",null,null,null,null,null,null,null,null,null,null,null,null,null,null,null,null,26,null,null,null,28,null,null,null,28]
[null,null,null,null,null,null,null,null,null,null,null,null,null,null,null,null,null,27,null,null,null,29,null,null,null,29]
[]
["^ WHEN IMPLEMENTING FYA, A MINIMUM 3 SEC. DELAY SHALL BE PROGRAMMED PER FYA PHASE. "]
[]
["ECONOLITE COORD SETTINGS",null,null,"SIEMENS COORD SETTINGS",null,null,null,null,null,null,null,null,null,null,null,null,null,28,null,null,null,30,null,null,null,30]
["MANUAL PATTERN","AUTO",null,"OPERATION",null,null,null,"-",null,null,null,null,null,null,null,null,null,29,null,null,null,31,null,null,null,31]
["SYSTEM SOURCE","SYS",null,"MODE (NORMAL)",null,null,null,"-",null,null,null,null,null,null,null,null,null,30,null,null,null,32,null,null,null,32]
["SPLITS IN","SECONDS",null,"MAXIMUM",null,null,null,"-",null,null,null,null,null,null,null,null,null,31,null,null,null,33,null,null,null,33]
["TRANSITION","SMOOTH",null,"CORRECTION",null,null,null,"-",null,null,null,null,null,null,null,null,null,32,null,null,null,34,null,null,null,34]
["DWELL/ADD TIME",0,null,"OFFSET MODE",null,null,null,"-",null,null,null,null,null,null,null,null,null,33,null,null,null,35,null,null,null,35]
["OFFSET REFERENCE","YELLOW",null,"FORCE MODE",null,null,null,"-",null,null,null,null,null,null,null,null,null,34,null,null,null,36,null,null,null,36]
["PED RECALL","NO",null,"MAX DWELL TIME",null,null,null,"-",null,null,null,null,null,null,null,null,null,35,null,null,null,37,null,null,null,37]
["LOCAL ZERO OVERRIDE","NO",null,"YIELD PERIOD",null,null,null,"-",null,null,null,null,null,null,null,null,null,36,null,null,null,38,null,null,null,38]
["RE-SYNC COUNT",0,null,"MANUAL CONTROL: DIAL",null,null,null,"-",null,null,null,null,null,null,null,null,null,37,null,null,null,39,null,null,null,39]
["ECPI COORD","YES",null,"MANUAL CONTROL: SPLIT",null,null,null,"-",null,null,null,null,null,null,null,null,null,38,null,null,null,40,null,null,null,40]
["SYSTEM FORMAT ","STD",null,"MANUAL CONTROL: OFFSET",null,null,null,"-",null,null,null,null,null,null,null,null,null,39,null,null,null,41,null,null,null,41]
["OFFSET IN","SECONDS",null,null,null,null,null,null,null,null,null,null,null,null,null,null,null,40,null,null,null,42,null,null,null,42]
["MAX SELECT","MAXINH",null,null,null,null,null,null,null,null,null,null,null,null,null,null,null,41,null,null,null,43,null,null,null,43]
["FORCE OFF","FLOAT",null,null,null,null,null,null,null,null,null,null,null,null,null,null,null,42,null,null,null,44,null,null,null,44]
["USE PED TIME","YES",null,null,null,null,null,null,null,null,null,null,null,null,null,null,null,43,null,null,null,45,null,null,null,45]
["PED RESERVICE","NO",null,null,null,null,null,null,null,null,null,null,null,null,null,null,null,44,null,null,null,46,null,null,null,46]
["FO ADD INI GRN","NO",null,null,null,null,null,null,null,null,null,null,null,null,null,null,null,45,null,null,null,47,null,null,null,47]
["MULTISYNC","NO",null,null,null,null,null,null,null,null,null,null,null,null,null,null,null,46,null,null,null,48,null,null,null,48]
[null,null,null,null,null,null,null,null,null,null,null,null,null,null,null,null,null,47,null,null,null,49,null,null,null,49]
[null,null,null,null,null,null,null,null,null,null,null,null,null,null,null,null,null,48,null,null,null,50,null,null,null,50]
[{"$f":"'Project Name'!$C$2","v":"LOR-254/301 Signal Timing"},null,null,null,null,null,null,null,null,null,null,null,null,null,null,null,null,52,null,null,null,54,null,null,null,54]
["Proposed Local Controller Data",null,null,null,null,null,null,null,null,null,null,null,null,null,null,null,null,53,null,null,null,55,null,null,null,55]
[null,null,null,null,null,null,null,null,null,null,null,null,null,null,null,null,null,54,null,null,null,56,null,null,null,56]
["INTERSECTION:",null,null,"Detroit Rd & I-90 WB Ramps",null,null,null,null,null,null,null,null,null,null,null,null,null,55,null,null,null,57,null,null,null,57]
["MAINTAINING AGENCY:",null,null,"ODOT D3",null,null,null,null,null,null,null,null,null,null,null,null,null,56,null,null,null,58,null,null,null,58]
["START UP",null,null,"DUAL ENTRY: ",null,"YES","PHASES:",null,"2, 4, 6",null,null,null,null,null,null,null,null,57,null,null,null,59,null,null,null,59]
[null,null,null,"REST IN RED: ",null,null,"RING 1","NO",null,"RING 2","NO",null,null,null,null,null,null,58,null,null,null,60,null,null,null,60]
["START IN: ","ALL-RED FLASH",null,"OVERLAP",null,null,null,"A","B","C","D",null,null,null,null,null,null,59,null,null,null,61,null,null,null,61]
["TIME FOR FLASH / ALL RED (SEC.):   ",null,"9, 6",null,null,null,null,null,null,null,null,null,null,null,null,null,null,60,null,null,null,62,null,null,null,62]
["FIRST PHASE(S):","2, 6",null,"PHASES",null,null,null,"-","-","-","-",null,null,null,null,null,null,61,null,null,null,63,null,null,null,63]
["COLOR DISPLAYED:","GREEN",null,null,null,null,null,null,null,null,null,null,null,null,null,null,null,62,null,null,null,64,null,null,null,64]
[null,null,null,null,null,null,null,null,null,null,null,null,null,null,null,null,null,63,null,null,null,65,null,null,null,65]
["INTERVAL OR FEATURE",null,null,"CONTROLLER MOVEMENT NO.",null,null,null,null,null,null,null,null,null,null,null,null,null,64,null,null,null,66,null,null,null,66]
["INTERSECTION MOVEMENT (PHASE)",null,null,1,2,3,4,5,6,7,8,null,null,null,null,null,null,65,null,null,null,67,null,null,null,67]
["DIRECTION",null,null,"WBL","EB","-","SB","-","WB","-","-",null,null,null,null,null,null,66,null,null,null,68,null,null,null,68]
["MINIMUM GREEN (INITIAL) ",null,"(SEC.)",10,20,"-",10,"-",20,"-","-",null,null,null,null,null,null,67,null,null,null,69,null,null,null,69]
["ADDED INITIAL","*(SEC./ACTUATION)",null,"-","-","-","-","-","-","-","-",null,null,null,null,null,null,68,null,null,null,70,null,null,null,70]
["MAXIMUM INITIAL",null,"*(SEC.)","-","-","-","-","-","-","-","-",null,null,null,null,null,null,69,null,null,null,71,null,null,null,71]
["PASSAGE TIME (PRESET GAP)",null,"(SEC.)",3,3,"-",3,"-",3,"-","-",null,null,null,null,null,null,70,null,null,null,72,null,null,null,72]
["TIME BEFORE REDUCTION",null,"*(SEC.)","-","-","-","-","-","-","-","-",null,null,null,null,null,null,71,null,null,null,73,null,null,null,73]
["MINIMUM GAP",null,"*(SEC.)","-","-","-","-","-","-","-","-",null,null,null,null,null,null,72,null,null,null,74,null,null,null,74]
["TIME TO REDUCE",null,"*(SEC.)","-","-","-","-","-","-","-","-",null,null,null,null,null,null,73,null,null,null,75,null,null,null,75]
["MAXIMUM GREEN I",null,"(SEC.)",15,60,"-",40,"-",60,"-","-",null,null,null,null,null,null,74,null,null,null,76,null,null,null,76]
["MAXIMUM GREEN II",null,"(SEC.)",15,60,"-",40,"-",60,"-","-",null,null,null,null,null,null,75,null,null,null,77,null,null,null,77]
["YELLOW CHANGE",null,"(SEC.)",3.1,4.2,"-",3.6,"-",4.2,"-","-",null,null,null,null,null,null,76,null,null,null,78,null,null,null,78]
["ALL RED CLEARANCE",null,"(SEC.)",2.1,1,"-",2.4,"-",1,"-","-",null,null,null,null,null,null,77,null,null,null,79,null,null,null,79]
["DELAYED GREEN (LPI) #",null,"(SEC.)","-","-","-","-","-","-","-","-",null,null,null,null,null,null,78,null,null,null,80,null,null,null,80]
["FLASHING YELLOW ARROW DELAY^",null,"(SEC.)","-","-","-","-","-","-","-","-",null,null,null,null,null,null,79,null,null,null,81,null,null,null,81]
["WALK",null,"(SEC.)","-","-","-","-","-","-","-","-",null,null,null,null,null,null,80,null,null,null,82,null,null,null,82]
["PEDESTRIAN CLEARANCE",null,"(SEC.)","-","-","-","-","-","-","-","-",null,null,null,null,null,null,81,null,null,null,83,null,null,null,83]
["RECALL","MAXIMUM","(ON/OFF)","NO","NO","-","NO","-","NO","-","-",null,null,null,null,null,null,82,null,null,null,84,null,null,null,84]
[null,"MINIMUM","(ON/OFF)","NO","YES","-","NO","-","YES","-","-",null,null,null,null,null,null,83,null,null,null,85,null,null,null,85]
[null,"PEDESTRIAN","(ON/OFF)","NO","NO","-","NO","-","NO","-","-",null,null,null,null,null,null,84,null,null,null,86,null,null,null,86]
["MEMORY    ",null,"(ON/OFF)","NO","YES","-","NO","-","YES","-","-",null,null,null,null,null,null,85,null,null,null,87,null,null,null,87]
["*VOLUME DENSITY CONTROLS",null,null,null,null,null,null,null,null,null,null,null,null,null,null,null,null,86,null,null,null,88,null,null,null,88]
["# FOR CROSSINGS WITH PEDESTRIAN PUSHBUTTONS, LPI'S (LEADING PEDESTRIAN INTERVALS) MAY BE IMPLEMENTED (3-6 SEC.) IN ACCORDANCE WITH LPI DURATION TIME PER THE ODOT SIGNAL CALCULATIONS - CLEARANCE INTERVALS SPREADSHEET",null,null,null,null,null,null,null,null,null,null,null,null,null,null,null,null,87,null,null,null,89,null,null,null,89]
[null,null,null,null,null,null,null,null,null,null,null,null,null,null,null,null,null,88,null,null,null,90,null,null,null,90]
[]
["^ WHEN IMPLEMENTING FYA, A MINIMUM 3 SEC. DELAY SHALL BE PROGRAMMED PER FYA PHASE. ",null,null,null,null,null,null,null,null,null,null,null,null,null,null,null,null,89,null,null,null,91,null,null,null,91]
[]
["ECONOLITE COORD SETTINGS",null,null,"SIEMENS COORD SETTINGS",null,null,null,null,null,null,null,null,null,null,null,null,null,90,null,null,null,92,null,null,null,92]
["MANUAL PATTERN","AUTO",null,"OPERATION",null,null,null,"-",null,null,null,null,null,null,null,null,null,91,null,null,null,93,null,null,null,93]
["SYSTEM SOURCE","TBC",null,"MODE (NORMAL)",null,null,null,"-",null,null,null,null,null,null,null,null,null,92,null,null,null,94,null,null,null,94]
["SPLITS IN","SECONDS",null,"MAXIMUM",null,null,null,"-",null,null,null,null,null,null,null,null,null,93,null,null,null,95,null,null,null,95]
["TRANSITION","SMOOTH",null,"CORRECTION",null,null,null,"-",null,null,null,null,null,null,null,null,null,94,null,null,null,96,null,null,null,96]
["DWELL/ADD TIME",0,null,"OFFSET MODE",null,null,null,"-",null,null,null,null,null,null,null,null,null,95,null,null,null,97,null,null,null,97]
["OFFSET REFERENCE","YELLOW",null,"FORCE MODE",null,null,null,"-",null,null,null,null,null,null,null,null,null,96,null,null,null,98,null,null,null,98]
["PED RECALL","NO",null,"MAX DWELL TIME",null,null,null,"-",null,null,null,null,null,null,null,null,null,97,null,null,null,99,null,null,null,99]
["LOCAL ZERO OVERRIDE","NO",null,"YIELD PERIOD",null,null,null,"-",null,null,null,null,null,null,null,null,null,98,null,null,null,100,null,null,null,100]
["RE-SYNC COUNT",0,null,"MANUAL CONTROL: DIAL",null,null,null,"-",null,null,null,null,null,null,null,null,null,99,null,null,null,101,null,null,null,101]
["ECPI COORD","YES",null,"MANUAL CONTROL: SPLIT",null,null,null,"-",null,null,null,null,null,null,null,null,null,100,null,null,null,102,null,null,null,102]
["SYSTEM FORMAT ","STD",null,"MANUAL CONTROL: OFFSET",null,null,null,"-",null,null,null,null,null,null,null,null,null,101,null,null,null,103,null,null,null,103]
["OFFSET IN","SECONDS",null,null,null,null,null,null,null,null,null,null,null,null,null,null,null,102,null,null,null,104,null,null,null,104]
["MAX SELECT","MAXINH",null,null,null,null,null,null,null,null,null,null,null,null,null,null,null,103,null,null,null,105,null,null,null,105]
["FORCE OFF","FLOAT",null,null,null,null,null,null,null,null,null,null,null,null,null,null,null,104,null,null,null,106,null,null,null,106]
["USE PED TIME","YES",null,null,null,null,null,null,null,null,null,null,null,null,null,null,null,105,null,null,null,107,null,null,null,107]
["PED RESERVICE","NO",null,null,null,null,null,null,null,null,null,null,null,null,null,null,null,106,null,null,null,108,null,null,null,108]
["FO ADD INI GRN","NO",null,null,null,null,null,null,null,null,null,null,null,null,null,null,null,107,null,null,null,109,null,null,null,109]
["MULTISYNC","NO",null,null,null,null,null,null,null,null,null,null,null,null,null,null,null,108,null,null,null,110,null,null,null,110]
[null,null,null,null,null,null,null,null,null,null,null,null,null,null,null,null,null,109,null,null,null,111,null,null,null,111]
[{"$f":"'Project Name'!$C$2","v":"LOR-254/301 Signal Timing"},null,null,null,null,null,null,null,null,null,null,null,null,null,null,null,null,110,null,null,null,112,null,null,null,112]
["Proposed Local Controller Data",null,null,null,null,null,null,null,null,null,null,null,null,null,null,null,null,111,null,null,null,113,null,null,null,113]
[null,null,null,null,null,null,null,null,null,null,null,null,null,null,null,null,null,112,null,null,null,114,null,null,null,114]
["INTERSECTION:",null,null,"Detroit Rd & I-90 EB Ramps",null,null,null,null,null,null,null,null,null,null,null,null,null,113,null,null,null,115,null,null,null,115]
["MAINTAINING AGENCY:",null,null,"ODOT D3",null,null,null,null,null,null,null,null,null,null,null,null,null,114,null,null,null,116,null,null,null,116]
["START UP",null,null,"DUAL ENTRY: ",null,"YES","PHASES:",null,"2, 6, 8",null,null,null,null,null,null,null,null,115,null,null,null,117,null,null,null,117]
[null,null,null,"REST IN RED: ",null,null,"RING 1","NO",null,"RING 2","NO",null,null,null,null,null,null,116,null,null,null,118,null,null,null,118]
["START IN: ","ALL-RED FLASH",null,"OVERLAP",null,null,null,"A","B","C","D",null,null,null,null,null,null,117,null,null,null,119,null,null,null,119]
["TIME FOR FLASH / ALL RED (SEC.):   ",null,"9, 6",null,null,null,null,null,null,null,null,null,null,null,null,null,null,118,null,null,null,120,null,null,null,120]
["FIRST PHASE(S):","2, 6",null,"PHASES",null,null,null,"-","-","-","-",null,null,null,null,null,null,119,null,null,null,121,null,null,null,121]
["COLOR DISPLAYED:","GREEN",null,null,null,null,null,null,null,null,null,null,null,null,null,null,null,120,null,null,null,122,null,null,null,122]
[null,null,null,null,null,null,null,null,null,null,null,null,null,null,null,null,null,null,null,null,null,123,null,null,null,123]
["INTERVAL OR FEATURE",null,null,"CONTROLLER MOVEMENT NO.",null,null,null,null,null,null,null,null,null,null,null,null,null,null,null,null,null,124,null,null,null,124]
["INTERSECTION MOVEMENT (PHASE)",null,null,1,2,3,4,5,6,7,8,null,null,null,null,null,null,null,null,null,null,125,null,null,null,125]
["DIRECTION",null,null,"-","EBT","-","-","EBL","WBT","-","NBT",null,null,null,null,null,null,null,null,null,null,126,null,null,null,126]
["MINIMUM GREEN (INITIAL) ",null,"(SEC.)","-",20,"-","-",10,20,"-",10,null,null,null,null,null,null,null,null,null,null,127,null,null,null,127]
["ADDED INITIAL","*(SEC./ACTUATION)",null,"-","-","-","-","-","-","-","-",null,null,null,null,null,null,null,null,null,null,128,null,null,null,128]
["MAXIMUM INITIAL",null,"*(SEC.)","-","-","-","-","-","-","-","-",null,null,null,null,null,null,null,null,null,null,129,null,null,null,129]
["PASSAGE TIME (PRESET GAP)",null,"(SEC.)","-",3,"-","-",3,3,"-",3,null,null,null,null,null,null,null,null,null,null,130,null,null,null,130]
["TIME BEFORE REDUCTION",null,"*(SEC.)","-","-","-","-","-","-","-","-",null,null,null,null,null,null,null,null,null,null,131,null,null,null,131]
["MINIMUM GAP",null,"*(SEC.)","-","-","-","-","-","-","-","-",null,null,null,null,null,null,null,null,null,null,132,null,null,null,132]
["TIME TO REDUCE",null,"*(SEC.)","-","-","-","-","-","-","-","-",null,null,null,null,null,null,null,null,null,null,133,null,null,null,133]
["MAXIMUM GREEN I",null,"(SEC.)","-",60,"-","-",15,60,"-",40,null,null,null,null,null,null,null,null,null,null,134,null,null,null,134]
["MAXIMUM GREEN II",null,"(SEC.)","-",60,"-","-",15,60,"-",40,null,null,null,null,null,null,null,null,null,null,135,null,null,null,135]
["YELLOW CHANGE",null,"(SEC.)","-",4.2,"-","-",3.3,4.2,"-",3.8,null,null,null,null,null,null,null,null,null,null,136,null,null,null,136]
["ALL RED CLEARANCE",null,"(SEC.)","-",1.2,"-","-",2.8,1.2,"-",2.1,null,null,null,null,null,null,null,null,null,null,137,null,null,null,137]
["DELAYED GREEN (LPI) #",null,"(SEC.)","-","-","-","-","-","-","-","-",null,null,null,null,null,null,null,null,null,null,138,null,null,null,138]
["FLASHING YELLOW ARROW DELAY^",null,"(SEC.)","-","-","-","-","-","-","-","-",null,null,null,null,null,null,null,null,null,null,139,null,null,null,139]
["WALK",null,"(SEC.)","-","-","-","-","-","-","-","-",null,null,null,null,null,null,null,null,null,null,140,null,null,null,140]
["PEDESTRIAN CLEARANCE",null,"(SEC.)","-","-","-","-","-","-","-","-",null,null,null,null,null,null,null,null,null,null,141,null,null,null,141]
["RECALL","MAXIMUM","(ON/OFF)","-","NO","-","-","NO","NO","-","NO",null,null,null,null,null,null,null,null,null,null,142,null,null,null,142]
[null,"MINIMUM","(ON/OFF)","-","YES","-","-","NO","YES","-","NO",null,null,null,null,null,null,null,null,null,null,143,null,null,null,143]
[null,"PEDESTRIAN","(ON/OFF)","-","NO","-","-","NO","NO","-","NO",null,null,null,null,null,null,null,null,null,null,144,null,null,null,144]
["MEMORY    ",null,"(ON/OFF)","-","YES","-","-","NO","YES","-","NO",null,null,null,null,null,null,null,null,null,null,145,null,null,null,145]
["*VOLUME DENSITY CONTROLS",null,null,null,null,null,null,null,null,null,null,null,null,null,null,null,null,null,null,null,null,146,null,null,null,146]
["# FOR CROSSINGS WITH PEDESTRIAN PUSHBUTTONS, LPI'S (LEADING PEDESTRIAN INTERVALS) MAY BE IMPLEMENTED (3-6 SEC.) IN ACCORDANCE WITH LPI DURATION TIME PER THE ODOT SIGNAL CALCULATIONS - CLEARANCE INTERVALS SPREADSHEET",null,null,null,null,null,null,null,null,null,null,null,null,null,null,null,null,null,null,null,null,147,null,null,null,147]
[null,null,null,null,null,null,null,null,null,null,null,null,null,null,null,null,null,null,null,null,null,148,null,null,null,148]
[null,null,null,null,null,null,null,null,null,null,null,null,null,null,null,null,null,null,null,null,null,149,null,null,null,149]
["^ WHEN IMPLEMENTING FYA, A MINIMUM 3 SEC. DELAY SHALL BE PROGRAMMED PER FYA PHASE. ",null,null,null,null,null,null,null,null,null,null,null,null,null,null,null,null,null,null,null,null,150,null,null,null,150]
[null,null,null,null,null,null,null,null,null,null,null,null,null,null,null,null,null,null,null,null,null,151,null,null,null,151]
["ECONOLITE COORD SETTINGS",null,null,"SIEMENS COORD SETTINGS",null,null,null,null,null,null,null,null,null,null,null,null,null,null,null,null,null,152,null,null,null,152]
["MANUAL PATTERN","AUTO",null,"OPERATION",null,null,null,"-",null,null,null,null,null,null,null,null,null,null,null,null,null,153,null,null,null,153]
["SYSTEM SOURCE","TBC",null,"MODE (NORMAL)",null,null,null,"-",null,null,null,null,null,null,null,null,null,null,null,null,null,154,null,null,null,154]
["SPLITS IN","SECONDS",null,"MAXIMUM",null,null,null,"-",null,null,null,null,null,null,null,null,null,null,null,null,null,155,null,null,null,155]
["TRANSITION","SMOOTH",null,"CORRECTION",null,null,null,"-",null,null,null,null,null,null,null,null,null,null,null,null,null,156,null,null,null,156]
["DWELL/ADD TIME",0,null,"OFFSET MODE",null,null,null,"-",null,null,null,null,null,null,null,null,null,null,null,null,null,157,null,null,null,157]
["OFFSET REFERENCE","YELLOW",null,"FORCE MODE",null,null,null,"-",null,null,null,null,null,null,null,null,null,null,null,null,null,158,null,null,null,158]
["PED RECALL","NO",null,"MAX DWELL TIME",null,null,null,"-",null,null,null,null,null,null,null,null,null,null,null,null,null,159,null,null,null,159]
["LOCAL ZERO OVERRIDE","NO",null,"YIELD PERIOD",null,null,null,"-",null,null,null,null,null,null,null,null,null,null,null,null,null,160,null,null,null,160]
["RE-SYNC COUNT",0,null,"MANUAL CONTROL: DIAL",null,null,null,"-",null,null,null,null,null,null,null,null,null,null,null,null,null,161,null,null,null,161]
["ECPI COORD","YES",null,"MANUAL CONTROL: SPLIT",null,null,null,"-",null,null,null,null,null,null,null,null,null,null,null,null,null,162,null,null,null,162]
["SYSTEM FORMAT ","STD",null,"MANUAL CONTROL: OFFSET",null,null,null,"-",null,null,null,null,null,null,null,null,null,null,null,null,null,163,null,null,null,163]
["OFFSET IN","SECONDS",null,null,null,null,null,null,null,null,null,null,null,null,null,null,null,null,null,null,null,164,null,null,null,164]
["MAX SELECT","MAXINH",null,null,null,null,null,null,null,null,null,null,null,null,null,null,null,null,null,null,null,165,null,null,null,165]
["FORCE OFF","FLOAT",null,null,null,null,null,null,null,null,null,null,null,null,null,null,null,null,null,null,null,166,null,null,null,166]
["USE PED TIME","YES",null,null,null,null,null,null,null,null,null,null,null,null,null,null,null,null,null,null,null,167,null,null,null,167]
["PED RESERVICE","NO",null,null,null,null,null,null,null,null,null,null,null,null,null,null,null,null,null,null,null,168,null,null,null,168]
["FO ADD INI GRN","NO",null,null,null,null,null,null,null,null,null,null,null,null,null,null,null,null,null,null,null,169,null,null,null,169]
["MULTISYNC","NO",null,null,null,null,null,null,null,null,null,null,null,null,null,null,null,null,null,null,null,170,null,null,null,170]
[null,null,null,null,null,null,null,null,null,null,null,null,null,null,null,null,null,null,null,null,null,171,null,null,null,171]
[{"$f":"'Project Name'!$C$2","v":"LOR-254/301 Signal Timing"},null,null,null,null,null,null,null,null,null,null,null,null,null,null,null,null,null,null,null,null,172,null,null,null,172]
["Proposed Local Controller Data",null,null,null,null,null,null,null,null,null,null,null,null,null,null,null,null,null,null,null,null,173,null,null,null,173]
[null,null,null,null,null,null,null,null,null,null,null,null,null,null,null,null,null,null,null,null,null,174,null,null,null,174]
["INTERSECTION:",null,null,"Detroit Rd & Sheffield Crossing",null,null,null,null,null,null,null,null,null,null,null,null,null,null,null,null,null,175,null,null,null,175]
["MAINTAINING AGENCY:",null,null,"ODOT D3",null,null,null,null,null,null,null,null,null,null,null,null,null,null,null,null,null,176,null,null,null,176]
["START UP",null,null,"DUAL ENTRY: ",null,"YES","PHASES:",null,"2, 4, 6, 8",null,null,null,null,null,null,null,null,null,null,null,null,177,null,null,null,177]
[null,null,null,"REST IN RED: ",null,null,"RING 1","NO",null,"RING 2","NO",null,null,null,null,null,null,null,null,null,null,178,null,null,null,178]
["START IN: ","ALL-RED FLASH",null,"OVERLAP",null,null,null,"A","B","C","D",null,null,null,null,null,null,null,null,null,null,179,null,null,null,179]
["TIME FOR FLASH / ALL RED (SEC.):   ",null,"9, 6",null,null,null,null,null,null,null,null,null,null,null,null,null,null,null,null,null,null,180,null,null,null,180]
["FIRST PHASE(S):","2, 6",null,"PHASES",null,null,null,"-","-","-","-",null,null,null,null,null,null,null,null,null,null,181,null,null,null,181]
["COLOR DISPLAYED:","GREEN",null,null,null,null,null,null,null,null,null,null,null,null,null,null,null,null,null,null,null,182,null,null,null,182]
[null,null,null,null,null,null,null,null,null,null,null,null,null,null,null,null,null,null,null,null,null,183,null,null,null,183]
["INTERVAL OR FEATURE",null,null,"CONTROLLER MOVEMENT NO.",null,null,null,null,null,null,null,null,null,null,null,null,null,null,null,null,null,184,null,null,null,184]
["INTERSECTION MOVEMENT (PHASE)",null,null,1,2,3,4,5,6,7,8,null,null,null,null,null,null,null,null,null,null,185,null,null,null,185]
["DIRECTION",null,null,"WBL","EBT","-","SBT","EBL","WB","-","NB",null,null,null,null,null,null,null,null,null,null,186,null,null,null,186]
["MINIMUM GREEN (INITIAL) ",null,"(SEC.)",7,20,"-",10,7,20,"-",10,null,null,null,null,null,null,null,null,null,null,187,null,null,null,187]
["ADDED INITIAL","*(SEC./ACTUATION)",null,"-","-","-","-","-","-","-","-",null,null,null,null,null,null,null,null,null,null,188,null,null,null,188]
["MAXIMUM INITIAL",null,"*(SEC.)","-","-","-","-","-","-","-","-",null,null,null,null,null,null,null,null,null,null,189,null,null,null,189]
["PASSAGE TIME (PRESET GAP)",null,"(SEC.)",3,3,"-",3,3,3,"-",3,null,null,null,null,null,null,null,null,null,null,190,null,null,null,190]
["TIME BEFORE REDUCTION",null,"*(SEC.)","-","-","-","-","-","-","-","-",null,null,null,null,null,null,null,null,null,null,191,null,null,null,191]
["MINIMUM GAP",null,"*(SEC.)","-","-","-","-","-","-","-","-",null,null,null,null,null,null,null,null,null,null,192,null,null,null,192]
["TIME TO REDUCE",null,"*(SEC.)","-","-","-","-","-","-","-","-",null,null,null,null,null,null,null,null,null,null,193,null,null,null,193]
["MAXIMUM GREEN I",null,"(SEC.)",15,60,"-",30,15,60,"-",30,null,null,null,null,null,null,null,null,null,null,194,null,null,null,194]
["MAXIMUM GREEN II",null,"(SEC.)",15,60,"-",30,15,60,"-",30,null,null,null,null,null,null,null,null,null,null,195,null,null,null,195]
["YELLOW CHANGE",null,"(SEC.)",3.3,4.2,"-",3.3,3.3,4.2,"-",3.3,null,null,null,null,null,null,null,null,null,null,196,null,null,null,196]
["ALL RED CLEARANCE",null,"(SEC.)",2.2000000000000002,1,"-",1.5,2.2000000000000002,1,"-",1.5,null,null,null,null,null,null,null,null,null,null,197,null,null,null,197]
["DELAYED GREEN (LPI) #",null,"(SEC.)","-","-","-","-","-","-","-","-",null,null,null,null,null,null,null,null,null,null,198,null,null,null,198]
["FLASHING YELLOW ARROW DELAY^",null,"(SEC.)","-","-","-","-","-","-","-","-",null,null,null,null,null,null,null,null,null,null,199,null,null,null,199]
["WALK",null,"(SEC.)","-","-","-","-","-","-","-","-",null,null,null,null,null,null,null,null,null,null,200,null,null,null,200]
["PEDESTRIAN CLEARANCE",null,"(SEC.)","-","-","-","-","-","-","-","-",null,null,null,null,null,null,null,null,null,null,201,null,null,null,201]
["RECALL","MAXIMUM","(ON/OFF)","NO","NO","-","NO","NO","NO","-","NO",null,null,null,null,null,null,null,null,null,null,202,null,null,null,202]
[null,"MINIMUM","(ON/OFF)","NO","YES","-","NO","NO","YES","-","NO",null,null,null,null,null,null,null,null,null,null,203,null,null,null,203]
[null,"PEDESTRIAN","(ON/OFF)","NO","NO","-","NO","NO","NO","-","NO",null,null,null,null,null,null,null,null,null,null,204,null,null,null,204]
["MEMORY    ",null,"(ON/OFF)","NO","YES","-","NO","NO","YES","-","NO",null,null,null,null,null,null,null,null,null,null,205,null,null,null,205]
["*VOLUME DENSITY CONTROLS",null,null,null,null,null,null,null,null,null,null,null,null,null,null,null,null,null,null,null,null,206,null,null,null,206]
["# FOR CROSSINGS WITH PEDESTRIAN PUSHBUTTONS, LPI'S (LEADING PEDESTRIAN INTERVALS) MAY BE IMPLEMENTED (3-6 SEC.) IN ACCORDANCE WITH LPI DURATION TIME PER THE ODOT SIGNAL CALCULATIONS - CLEARANCE INTERVALS SPREADSHEET",null,null,null,null,null,null,null,null,null,null,null,null,null,null,null,null,null,null,null,null,207,null,null,null,207]
[null,null,null,null,null,null,null,null,null,null,null,null,null,null,null,null,null,null,null,null,null,208,null,null,null,208]
[null,null,null,null,null,null,null,null,null,null,null,null,null,null,null,null,null,null,null,null,null,209,null,null,null,209]
["^ WHEN IMPLEMENTING FYA, A MINIMUM 3 SEC. DELAY SHALL BE PROGRAMMED PER FYA PHASE. ",null,null,null,null,null,null,null,null,null,null,null,null,null,null,null,null,null,null,null,null,210,null,null,null,210]
[null,null,null,null,null,null,null,null,null,null,null,null,null,null,null,null,null,null,null,null,null,211,null,null,null,211]
["ECONOLITE COORD SETTINGS",null,null,"SIEMENS COORD SETTINGS",null,null,null,null,null,null,null,null,null,null,null,null,null,null,null,null,null,212,null,null,null,212]
["MANUAL PATTERN","AUTO",null,"OPERATION",null,null,null,"-",null,null,null,null,null,null,null,null,null,null,null,null,null,213,null,null,null,213]
["SYSTEM SOURCE","TBC",null,"MODE (NORMAL)",null,null,null,"-",null,null,null,null,null,null,null,null,null,null,null,null,null,214,null,null,null,214]
["SPLITS IN","SECONDS",null,"MAXIMUM",null,null,null,"-",null,null,null,null,null,null,null,null,null,null,null,null,null,215,null,null,null,215]
["TRANSITION","SMOOTH",null,"CORRECTION",null,null,null,"-",null,null,null,null,null,null,null,null,null,null,null,null,null,216,null,null,null,216]
["DWELL/ADD TIME",0,null,"OFFSET MODE",null,null,null,"-",null,null,null,null,null,null,null,null,null,null,null,null,null,217,null,null,null,217]
["OFFSET REFERENCE","YELLOW",null,"FORCE MODE",null,null,null,"-",null,null,null,null,null,null,null,null,null,null,null,null,null,218,null,null,null,218]
["PED RECALL","NO",null,"MAX DWELL TIME",null,null,null,"-",null,null,null,null,null,null,null,null,null,null,null,null,null,219,null,null,null,219]
["LOCAL ZERO OVERRIDE","NO",null,"YIELD PERIOD",null,null,null,"-",null,null,null,null,null,null,null,null,null,null,null,null,null,220,null,null,null,220]
["RE-SYNC COUNT",0,null,"MANUAL CONTROL: DIAL",null,null,null,"-",null,null,null,null,null,null,null,null,null,null,null,null,null,221,null,null,null,221]
["ECPI COORD","YES",null,"MANUAL CONTROL: SPLIT",null,null,null,"-",null,null,null,null,null,null,null,null,null,null,null,null,null,222,null,null,null,222]
["SYSTEM FORMAT ","STD",null,"MANUAL CONTROL: OFFSET",null,null,null,"-",null,null,null,null,null,null,null,null,null,null,null,null,null,223,null,null,null,223]
["OFFSET IN","SECONDS",null,null,null,null,null,null,null,null,null,null,null,null,null,null,null,null,null,null,null,224,null,null,null,224]
["MAX SELECT","MAXINH",null,null,null,null,null,null,null,null,null,null,null,null,null,null,null,null,null,null,null,225,null,null,null,225]
["FORCE OFF","FLOAT",null,null,null,null,null,null,null,null,null,null,null,null,null,null,null,null,null,null,null,226,null,null,null,226]
["USE PED TIME","YES",null,null,null,null,null,null,null,null,null,null,null,null,null,null,null,null,null,null,null,227,null,null,null,227]
["PED RESERVICE","NO",null,null,null,null,null,null,null,null,null,null,null,null,null,null,null,null,null,null,null,228,null,null,null,228]
["FO ADD INI GRN","NO",null,null,null,null,null,null,null,null,null,null,null,null,null,null,null,null,null,null,null,229,null,null,null,229]
["MULTISYNC","NO",null,null,null,null,null,null,null,null,null,null,null,null,null,null,null,null,null,null,null,230,null,null,null,230]
[null,null,null,null,null,null,null,null,null,null,null,null,null,null,null,null,null,null,null,null,null,231,null,null,null,231]
[{"$f":"'Project Name'!$C$2","v":"LOR-254/301 Signal Timing"},null,null,null,null,null,null,null,null,null,null,null,null,null,null,null,null,null,null,null,null,232,null,null,null,232]
["Proposed Local Controller Data",null,null,null,null,null,null,null,null,null,null,null,null,null,null,null,null,null,null,null,null,233,null,null,null,233]
[null,null,null,null,null,null,null,null,null,null,null,null,null,null,null,null,null,null,null,null,null,234,null,null,null,234]
["INTERSECTION:",null,null,"Detroit Rd & Abbe Rd",null,null,null,null,null,null,null,null,null,null,null,null,null,null,null,null,null,235,null,null,null,235]
["MAINTAINING AGENCY:",null,null,"ODOT D3",null,null,null,null,null,null,null,null,null,null,null,null,null,null,null,null,null,236,null,null,null,236]
["START UP",null,null,"DUAL ENTRY: ",null,"YES","PHASES:",null,"2, 4, 6, 8",null,null,null,null,null,null,null,null,null,null,null,null,237,null,null,null,237]
[null,null,null,"REST IN RED: ",null,null,"RING 1","NO",null,"RING 2","NO",null,null,null,null,null,null,null,null,null,null,238,null,null,null,238]
["START IN: ","ALL-RED FLASH",null,"OVERLAP",null,null,null,"A","B","C","D",null,null,null,null,null,null,null,null,null,null,239,null,null,null,239]
["TIME FOR FLASH / ALL RED (SEC.):   ",null,"9, 6",null,null,null,null,null,null,null,null,null,null,null,null,null,null,null,null,null,null,240,null,null,null,240]
["FIRST PHASE(S):","2, 6",null,"PHASES",null,null,null,1,5,3,"-",null,null,null,null,null,null,null,null,null,null,241,null,null,null,241]
["COLOR DISPLAYED:","GREEN",null,null,null,null,null,null,null,null,null,null,null,null,null,null,null,null,null,null,null,242,null,null,null,242]
[null,null,null,null,null,null,null,null,null,null,null,null,null,null,null,null,null,null,null,null,null,243,null,null,null,243]
["INTERVAL OR FEATURE",null,null,"CONTROLLER MOVEMENT NO.",null,null,null,null,null,null,null,null,null,null,null,null,null,null,null,null,null,244,null,null,null,244]
["INTERSECTION MOVEMENT (PHASE)",null,null,1,2,3,4,5,6,7,8,null,null,null,null,null,null,null,null,null,null,245,null,null,null,245]
["DIRECTION",null,null,"WBL","EBT","NBL","SBT","EBL","WBT","SBL","NBT",null,null,null,null,null,null,null,null,null,null,246,null,null,null,246]
["MINIMUM GREEN (INITIAL) ",null,"(SEC.)",7,20,10,10,7,20,7,10,null,null,null,null,null,null,null,null,null,null,247,null,null,null,247]
["ADDED INITIAL","*(SEC./ACTUATION)",null,"-","-","-","-","-","-","-","-",null,null,null,null,null,null,null,null,null,null,248,null,null,null,248]
["MAXIMUM INITIAL",null,"*(SEC.)","-","-","-","-","-","-","-","-",null,null,null,null,null,null,null,null,null,null,249,null,null,null,249]
["PASSAGE TIME (PRESET GAP)",null,"(SEC.)",3,3,3,3,3,3,3,3,null,null,null,null,null,null,null,null,null,null,250,null,null,null,250]
["TIME BEFORE REDUCTION",null,"*(SEC.)","-","-","-","-","-","-","-","-",null,null,null,null,null,null,null,null,null,null,251,null,null,null,251]
["MINIMUM GAP",null,"*(SEC.)","-","-","-","-","-","-","-","-",null,null,null,null,null,null,null,null,null,null,252,null,null,null,252]
["TIME TO REDUCE",null,"*(SEC.)","-","-","-","-","-","-","-","-",null,null,null,null,null,null,null,null,null,null,253,null,null,null,253]
["MAXIMUM GREEN I",null,"(SEC.)",15,50,20,45,15,50,20,45,null,null,null,null,null,null,null,null,null,null,254,null,null,null,254]
["MAXIMUM GREEN II",null,"(SEC.)",15,50,20,45,15,50,20,45,null,null,null,null,null,null,null,null,null,null,255,null,null,null,255]
["YELLOW CHANGE",null,"(SEC.)",3.5,4.3,3.1,4,3.5,4.3,3.1,4]
["ALL RED CLEARANCE",null,"(SEC.)",4.4000000000000004,2.2000000000000002,3,1.6,4.4000000000000004,2.2000000000000002,3,1.6]
["DELAYED GREEN (LPI) #",null,"(SEC.)","-","-","-","-","-","-","-","-"]
["FLASHING YELLOW ARROW DELAY^",null,"(SEC.)","-","-","-","-","-","-","-","-"]
["WALK",null,"(SEC.)","-",11,"-",11,"-","-","-",10]
["PEDESTRIAN CLEARANCE",null,"(SEC.)","-",29,"-",29,"-","-","-",25]
["RECALL","MAXIMUM","(ON/OFF)","NO","NO","NO","NO","NO","NO","NO","NO"]
[null,"MINIMUM","(ON/OFF)","NO","YES","NO","NO","NO","YES","NO","NO"]
[null,"PEDESTRIAN","(ON/OFF)","NO","NO","NO","NO","NO","NO","NO","NO"]
["MEMORY    ",null,"(ON/OFF)","NO","YES","NO","NO","NO","YES","NO","NO"]
["*VOLUME DENSITY CONTROLS"]
["# FOR CROSSINGS WITH PEDESTRIAN PUSHBUTTONS, LPI'S (LEADING PEDESTRIAN INTERVALS) MAY BE IMPLEMENTED (3-6 SEC.) IN ACCORDANCE WITH LPI DURATION TIME PER THE ODOT SIGNAL CALCULATIONS - CLEARANCE INTERVALS SPREADSHEET"]
[]
[]
["^ WHEN IMPLEMENTING FYA, A MINIMUM 3 SEC. DELAY SHALL BE PROGRAMMED PER FYA PHASE. "]
[]
["ECONOLITE COORD SETTINGS",null,null,"SIEMENS COORD SETTINGS"]
["MANUAL PATTERN","AUTO",null,"OPERATION",null,null,null,"-"]
["SYSTEM SOURCE","TBC",null,"MODE (NORMAL)",null,null,null,"-"]
["SPLITS IN","SECONDS",null,"MAXIMUM",null,null,null,"-"]
["TRANSITION","SMOOTH",null,"CORRECTION",null,null,null,"-"]
["DWELL/ADD TIME",0,null,"OFFSET MODE",null,null,null,"-"]
["OFFSET REFERENCE","YELLOW",null,"FORCE MODE",null,null,null,"-"]
["PED RECALL","NO",null,"MAX DWELL TIME",null,null,null,"-"]
["LOCAL ZERO OVERRIDE","NO",null,"YIELD PERIOD",null,null,null,"-"]
["RE-SYNC COUNT",0,null,"MANUAL CONTROL: DIAL",null,null,null,"-"]
["ECPI COORD","YES",null,"MANUAL CONTROL: SPLIT",null,null,null,"-"]
["SYSTEM FORMAT ","STD",null,"MANUAL CONTROL: OFFSET",null,null,null,"-"]
["OFFSET IN","SECONDS"]
["MAX SELECT","MAXINH"]
["FORCE OFF","FLOAT"]
["USE PED TIME","YES"]
["PED RESERVICE","NO"]
["FO ADD INI GRN","NO"]
["MULTISYNC","NO"]
[]
[{"$f":"'Project Name'!$C$2","v":"LOR-254/301 Signal Timing"}]
["Proposed Local Controller Data"]
[]
["INTERSECTION:",null,null,"Abbe Rd & Hoag Dr"]
["MAINTAINING AGENCY:",null,null,"ODOT D3"]
["START UP",null,null,"DUAL ENTRY: ",null,"YES","PHASES:",null,"2, 4, 6, 8"]
[null,null,null,"REST IN RED: ",null,null,"RING 1","NO",null,"RING 2","NO"]
["START IN: ","ALL-RED FLASH",null,"OVERLAP",null,null,null,"A","B","C","D"]
["TIME FOR FLASH / ALL RED (SEC.):   ",null,"9, 6"]
["FIRST PHASE(S):","2, 6",null,"PHASES",null,null,null,"-","-","-","-"]
["COLOR DISPLAYED:","GREEN"]
[]
["INTERVAL OR FEATURE",null,null,"CONTROLLER MOVEMENT NO."]
["INTERSECTION MOVEMENT (PHASE)",null,null,1,2,3,4,5,6,7,8]
["DIRECTION",null,null,"NBL","SBT","-","WBT","SBL","NBT","-","EBT"]
["MINIMUM GREEN (INITIAL) ",null,"(SEC.)",7,20,"-",10,7,20,"-",10]
["ADDED INITIAL","*(SEC./ACTUATION)",null,"-","-","-","-","-","-","-","-"]
["MAXIMUM INITIAL",null,"*(SEC.)","-","-","-","-","-","-","-","-"]
["PASSAGE TIME (PRESET GAP)",null,"(SEC.)",3,3,"-",3,3,3,"-",3]
["TIME BEFORE REDUCTION",null,"*(SEC.)","-","-","-","-","-","-","-","-"]
["MINIMUM GAP",null,"*(SEC.)","-","-","-","-","-","-","-","-"]
["TIME TO REDUCE",null,"*(SEC.)","-","-","-","-","-","-","-","-"]
["MAXIMUM GREEN I",null,"(SEC.)",15,55,"-",30,15,55,"-",30]
["MAXIMUM GREEN II",null,"(SEC.)",15,55,"-",30,15,55,"-",30]
["YELLOW CHANGE",null,"(SEC.)",3.3,4.2,"-",3.4,3.3,4.2,"-",3.4]
["ALL RED CLEARANCE",null,"(SEC.)",2.9,1.9,"-",1.6,2.9,1.9,"-",1.6]
["DELAYED GREEN (LPI) #",null,"(SEC.)","-","-","-","-","-","-","-","-"]
["FLASHING YELLOW ARROW DELAY^",null,"(SEC.)","-","-","-","-","-","-","-","-"]
["WALK",null,"(SEC.)","-",7,"-",10,"-",7,"-",9]
["PEDESTRIAN CLEARANCE",null,"(SEC.)","-",20,"-",15,"-",17,"-",15]
["RECALL","MAXIMUM","(ON/OFF)","NO","NO","NO","NO","NO","NO","NO","NO"]
[null,"MINIMUM","(ON/OFF)","NO","YES","NO","NO","NO","YES","NO","NO"]
[null,"PEDESTRIAN","(ON/OFF)","NO","YES","NO","NO","NO","YES","NO","NO"]
["MEMORY    ",null,"(ON/OFF)","NO","YES","NO","NO","NO","YES","NO","NO"]
["*VOLUME DENSITY CONTROLS"]
["# FOR CROSSINGS WITH PEDESTRIAN PUSHBUTTONS, LPI'S (LEADING PEDESTRIAN INTERVALS) MAY BE IMPLEMENTED (3-6 SEC.) IN ACCORDANCE WITH LPI DURATION TIME PER THE ODOT SIGNAL CALCULATIONS - CLEARANCE INTERVALS SPREADSHEET"]
[]
[]
["^ WHEN IMPLEMENTING FYA, A MINIMUM 3 SEC. DELAY SHALL BE PROGRAMMED PER FYA PHASE. "]
[]
["ECONOLITE COORD SETTINGS",null,null,"SIEMENS COORD SETTINGS"]
["MANUAL PATTERN","AUTO",null,"OPERATION",null,null,null,"-"]
["SYSTEM SOURCE","SYS",null,"MODE (NORMAL)",null,null,null,"-"]
["SPLITS IN","SECONDS",null,"MAXIMUM",null,null,null,"-"]
["TRANSITION","SMOOTH",null,"CORRECTION",null,null,null,"-"]
["DWELL/ADD TIME",0,null,"OFFSET MODE",null,null,null,"-"]
["OFFSET REFERENCE","LEAD",null,"FORCE MODE",null,null,null,"-"]
["PED RECALL","NO",null,"MAX DWELL TIME",null,null,null,"-"]
["LOCAL ZERO OVERRIDE","NO",null,"YIELD PERIOD",null,null,null,"-"]
["RE-SYNC COUNT",0,null,"MANUAL CONTROL: DIAL",null,null,null,"-"]
["ECPI COORD","YES",null,"MANUAL CONTROL: SPLIT",null,null,null,"-"]
["SYSTEM FORMAT ","STD",null,"MANUAL CONTROL: OFFSET",null,null,null,"-"]
["OFFSET IN","SECONDS"]
["MAX SELECT","MAXINH"]
["FORCE OFF","FLOAT"]
["USE PED TIME","YES"]
["PED RESERVICE","NO"]
["FO ADD INI GRN","NO"]
["MULTISYNC","NO"]
[]
[{"$f":"'Project Name'!$C$2","v":"LOR-254/301 Signal Timing"}]
["Proposed Local Controller Data"]
[]
["INTERSECTION:"]
["MAINTAINING AGENCY:"]
["START UP",null,null,"DUAL ENTRY: ",null,"-","PHASES:",null,"-"]
[null,null,null,"REST IN RED: ",null,null,"RING 1","-",null,"RING 2","-"]
["START IN: ","-",null,"OVERLAP",null,null,null,"A","B","C","D"]
["TIME FOR FLASH / ALL RED (SEC.):   ",null,"9, 6"]
["FIRST PHASE(S):","-",null,"PHASES",null,null,null,"-","-","-","-"]
["COLOR DISPLAYED:","-"]
[]
["INTERVAL OR FEATURE",null,null,"CONTROLLER MOVEMENT NO."]
["INTERSECTION MOVEMENT (PHASE)",null,null,1,2,3,4,5,6,7,8]
["DIRECTION",null,null,"-","-","-","-","-","-","-","-"]
["MINIMUM GREEN (INITIAL) ",null,"(SEC.)","-","-","-","-","-","-","-","-"]
["ADDED INITIAL","*(SEC./ACTUATION)",null,"-","-","-","-","-","-","-","-"]
["MAXIMUM INITIAL",null,"*(SEC.)","-","-","-","-","-","-","-","-"]
["PASSAGE TIME (PRESET GAP)",null,"(SEC.)","-","-","-","-","-","-","-","-"]
["TIME BEFORE REDUCTION",null,"*(SEC.)","-","-","-","-","-","-","-","-"]
["MINIMUM GAP",null,"*(SEC.)","-","-","-","-","-","-","-","-"]
["TIME TO REDUCE",null,"*(SEC.)","-","-","-","-","-","-","-","-"]
["MAXIMUM GREEN I",null,"(SEC.)","-","-","-","-","-","-","-","-"]
["MAXIMUM GREEN II",null,"(SEC.)","-","-","-","-","-","-","-","-"]
["YELLOW CHANGE",null,"(SEC.)","-","-","-","-","-","-","-","-"]
["ALL RED CLEARANCE",null,"(SEC.)","-","-","-","-","-","-","-","-"]
["DELAYED GREEN (LPI) #",null,"(SEC.)","-","-","-","-","-","-","-","-"]
["FLASHING YELLOW ARROW DELAY^",null,"(SEC.)","-","-","-","-","-","-","-","-"]
["WALK",null,"(SEC.)","-","-","-","-","-","-","-","-"]
["PEDESTRIAN CLEARANCE",null,"(SEC.)","-","-","-","-","-","-","-","-"]
["RECALL","MAXIMUM","(ON/OFF)","-","-","-","-","-","-","-","-"]
[null,"MINIMUM","(ON/OFF)","-","-","-","-","-","-","-","-"]
[null,"PEDESTRIAN","(ON/OFF)","-","-","-","-","-","-","-","-"]
["MEMORY    ",null,"(ON/OFF)","-","-","-","-","-","-","-","-"]
["*VOLUME DENSITY CONTROLS"]
["# FOR CROSSINGS WITH PEDESTRIAN PUSHBUTTONS, LPI'S (LEADING PEDESTRIAN INTERVALS) MAY BE IMPLEMENTED (3-6 SEC.) IN ACCORDANCE WITH LPI DURATION TIME PER THE ODOT SIGNAL CALCULATIONS - CLEARANCE INTERVALS SPREADSHEET"]
[]
[]
["^ WHEN IMPLEMENTING FYA, A MINIMUM 3 SEC. DELAY SHALL BE PROGRAMMED PER FYA PHASE. "]
[]
["ECONOLITE COORD SETTINGS",null,null,"SIEMENS COORD SETTINGS"]
["MANUAL PATTERN","-",null,"OPERATION",null,null,null,"-"]
["SYSTEM SOURCE","-",null,"MODE (NORMAL)",null,null,null,"-"]
["SPLITS IN","-",null,"MAXIMUM",null,null,null,"-"]
["TRANSITION","-",null,"CORRECTION",null,null,null,"-"]
["DWELL/ADD TIME","-",null,"OFFSET MODE",null,null,null,"-"]
["OFFSET REFERENCE","-",null,"FORCE MODE",null,null,null,"-"]
["PED RECALL","-",null,"MAX DWELL TIME",null,null,null,"-"]
["LOCAL ZERO OVERRIDE","-",null,"YIELD PERIOD",null,null,null,"-"]
["RE-SYNC COUNT","-",null,"MANUAL CONTROL: DIAL",null,null,null,"-"]
["ECPI COORD","-",null,"MANUAL CONTROL: SPLIT",null,null,null,"-"]
["SYSTEM FORMAT ","-",null,"MANUAL CONTROL: OFFSET",null,null,null,"-"]
["OFFSET IN","-"]
["MAX SELECT","-"]
["FORCE OFF","-"]
["USE PED TIME","-"]
["PED RESERVICE","-"]
["FO ADD INI GRN","-"]
["MULTISYNC","-"]
[]
[{"$f":"'Project Name'!$C$2","v":"LOR-254/301 Signal Timing"}]
["Proposed Local Controller Data"]
[]
["INTERSECTION:"]
["MAINTAINING AGENCY:"]
["START UP",null,null,"DUAL ENTRY: ",null,"-","PHASES:",null,"-"]
[null,null,null,"REST IN RED: ",null,null,"RING 1","-",null,"RING 2","-"]
["START IN: ","-",null,"OVERLAP",null,null,null,"A","B","C","D"]
["TIME FOR FLASH / ALL RED (SEC.):   ",null,"9, 6"]
["FIRST PHASE(S):","-",null,"PHASES",null,null,null,"-","-","-","-"]
["COLOR DISPLAYED:","-"]
[]
["INTERVAL OR FEATURE",null,null,"CONTROLLER MOVEMENT NO."]
["INTERSECTION MOVEMENT (PHASE)",null,null,1,2,3,4,5,6,7,8]
["DIRECTION",null,null,"-","-","-","-","-","-","-","-"]
["MINIMUM GREEN (INITIAL) ",null,"(SEC.)","-","-","-","-","-","-","-","-"]
["ADDED INITIAL","*(SEC./ACTUATION)",null,"-","-","-","-","-","-","-","-"]
["MAXIMUM INITIAL",null,"*(SEC.)","-","-","-","-","-","-","-","-"]
["PASSAGE TIME (PRESET GAP)",null,"(SEC.)","-","-","-","-","-","-","-","-"]
["TIME BEFORE REDUCTION",null,"*(SEC.)","-","-","-","-","-","-","-","-"]
["MINIMUM GAP",null,"*(SEC.)","-","-","-","-","-","-","-","-"]
["TIME TO REDUCE",null,"*(SEC.)","-","-","-","-","-","-","-","-"]
["MAXIMUM GREEN I",null,"(SEC.)","-","-","-","-","-","-","-","-"]
["MAXIMUM GREEN II",null,"(SEC.)","-","-","-","-","-","-","-","-"]
["YELLOW CHANGE",null,"(SEC.)","-","-","-","-","-","-","-","-"]
["ALL RED CLEARANCE",null,"(SEC.)","-","-","-","-","-","-","-","-"]
["DELAYED GREEN (LPI) #",null,"(SEC.)","-","-","-","-","-","-","-","-"]
["FLASHING YELLOW ARROW DELAY^",null,"(SEC.)","-","-","-","-","-","-","-","-"]
["WALK",null,"(SEC.)","-","-","-","-","-","-","-","-"]
["PEDESTRIAN CLEARANCE",null,"(SEC.)","-","-","-","-","-","-","-","-"]
["RECALL","MAXIMUM","(ON/OFF)","-","-","-","-","-","-","-","-"]
[null,"MINIMUM","(ON/OFF)","-","-","-","-","-","-","-","-"]
[null,"PEDESTRIAN","(ON/OFF)","-","-","-","-","-","-","-","-"]
["MEMORY    ",null,"(ON/OFF)","-","-","-","-","-","-","-","-"]
["*VOLUME DENSITY CONTROLS"]
["# FOR CROSSINGS WITH PEDESTRIAN PUSHBUTTONS, LPI'S (LEADING PEDESTRIAN INTERVALS) MAY BE IMPLEMENTED (3-6 SEC.) IN ACCORDANCE WITH LPI DURATION TIME PER THE ODOT SIGNAL CALCULATIONS - CLEARANCE INTERVALS SPREADSHEET"]
[]
[]
["^ WHEN IMPLEMENTING FYA, A MINIMUM 3 SEC. DELAY SHALL BE PROGRAMMED PER FYA PHASE. "]
[]
["ECONOLITE COORD SETTINGS",null,null,"SIEMENS COORD SETTINGS"]
["MANUAL PATTERN","-",null,"OPERATION",null,null,null,"-"]
["SYSTEM SOURCE","-",null,"MODE (NORMAL)",null,null,null,"-"]
["SPLITS IN","-",null,"MAXIMUM",null,null,null,"-"]
["TRANSITION","-",null,"CORRECTION",null,null,null,"-"]
["DWELL/ADD TIME","-",null,"OFFSET MODE",null,null,null,"-"]
["OFFSET REFERENCE","-",null,"FORCE MODE",null,null,null,"-"]
["PED RECALL","-",null,"MAX DWELL TIME",null,null,null,"-"]
["LOCAL ZERO OVERRIDE","-",null,"YIELD PERIOD",null,null,null,"-"]
["RE-SYNC COUNT","-",null,"MANUAL CONTROL: DIAL",null,null,null,"-"]
["ECPI COORD","-",null,"MANUAL CONTROL: SPLIT",null,null,null,"-"]
["SYSTEM FORMAT ","-",null,"MANUAL CONTROL: OFFSET",null,null,null,"-"]
["OFFSET IN","-"]
["MAX SELECT","-"]
["FORCE OFF","-"]
["USE PED TIME","-"]
["PED RESERVICE","-"]
["FO ADD INI GRN","-"]
["MULTISYNC","-"]
[]
[{"$f":"'Project Name'!$C$2","v":"LOR-254/301 Signal Timing"}]
["Proposed Local Controller Data"]
[]
["INTERSECTION:"]
["MAINTAINING AGENCY:"]
["START UP",null,null,"DUAL ENTRY: ",null,"-","PHASES:",null,"-"]
[null,null,null,"REST IN RED: ",null,null,"RING 1","-",null,"RING 2","-"]
["START IN: ","-",null,"OVERLAP",null,null,null,"A","B","C","D"]
["TIME FOR FLASH / ALL RED (SEC.):   ",null,"9, 6"]
["FIRST PHASE(S):","-",null,"PHASES",null,null,null,"-","-","-","-"]
["COLOR DISPLAYED:","-"]
[]
["INTERVAL OR FEATURE",null,null,"CONTROLLER MOVEMENT NO."]
["INTERSECTION MOVEMENT (PHASE)",null,null,1,2,3,4,5,6,7,8]
["DIRECTION",null,null,"-","-","-","-","-","-","-","-"]
["MINIMUM GREEN (INITIAL) ",null,"(SEC.)","-","-","-","-","-","-","-","-"]
["ADDED INITIAL","*(SEC./ACTUATION)",null,"-","-","-","-","-","-","-","-"]
["MAXIMUM INITIAL",null,"*(SEC.)","-","-","-","-","-","-","-","-"]
["PASSAGE TIME (PRESET GAP)",null,"(SEC.)","-","-","-","-","-","-","-","-"]
["TIME BEFORE REDUCTION",null,"*(SEC.)","-","-","-","-","-","-","-","-"]
["MINIMUM GAP",null,"*(SEC.)","-","-","-","-","-","-","-","-"]
["TIME TO REDUCE",null,"*(SEC.)","-","-","-","-","-","-","-","-"]
["MAXIMUM GREEN I",null,"(SEC.)","-","-","-","-","-","-","-","-"]
["MAXIMUM GREEN II",null,"(SEC.)","-","-","-","-","-","-","-","-"]
["YELLOW CHANGE",null,"(SEC.)","-","-","-","-","-","-","-","-"]
["ALL RED CLEARANCE",null,"(SEC.)","-","-","-","-","-","-","-","-"]
["DELAYED GREEN (LPI) #",null,"(SEC.)","-","-","-","-","-","-","-","-"]
["FLASHING YELLOW ARROW DELAY^",null,"(SEC.)","-","-","-","-","-","-","-","-"]
["WALK",null,"(SEC.)","-","-","-","-","-","-","-","-"]
["PEDESTRIAN CLEARANCE",null,"(SEC.)","-","-","-","-","-","-","-","-"]
["RECALL","MAXIMUM","(ON/OFF)","-","-","-","-","-","-","-","-"]
[null,"MINIMUM","(ON/OFF)","-","-","-","-","-","-","-","-"]
[null,"PEDESTRIAN","(ON/OFF)","-","-","-","-","-","-","-","-"]
["MEMORY    ",null,"(ON/OFF)","-","-","-","-","-","-","-","-"]
["*VOLUME DENSITY CONTROLS"]
["# FOR CROSSINGS WITH PEDESTRIAN PUSHBUTTONS, LPI'S (LEADING PEDESTRIAN INTERVALS) MAY BE IMPLEMENTED (3-6 SEC.) IN ACCORDANCE WITH LPI DURATION TIME PER THE ODOT SIGNAL CALCULATIONS - CLEARANCE INTERVALS SPREADSHEET"]
[]
[]
["^ WHEN IMPLEMENTING FYA, A MINIMUM 3 SEC. DELAY SHALL BE PROGRAMMED PER FYA PHASE. "]
[]
["ECONOLITE COORD SETTINGS",null,null,"SIEMENS COORD SETTINGS"]
["MANUAL PATTERN","-",null,"OPERATION",null,null,null,"-"]
["SYSTEM SOURCE","-",null,"MODE (NORMAL)",null,null,null,"-"]
["SPLITS IN","-",null,"MAXIMUM",null,null,null,"-"]
["TRANSITION","-",null,"CORRECTION",null,null,null,"-"]
["DWELL/ADD TIME","-",null,"OFFSET MODE",null,null,null,"-"]
["OFFSET REFERENCE","-",null,"FORCE MODE",null,null,null,"-"]
["PED RECALL","-",null,"MAX DWELL TIME",null,null,null,"-"]
["LOCAL ZERO OVERRIDE","-",null,"YIELD PERIOD",null,null,null,"-"]
["RE-SYNC COUNT","-",null,"MANUAL CONTROL: DIAL",null,null,null,"-"]
["ECPI COORD","-",null,"MANUAL CONTROL: SPLIT",null,null,null,"-"]
["SYSTEM FORMAT ","-",null,"MANUAL CONTROL: OFFSET",null,null,null,"-"]
["OFFSET IN","-"]
["MAX SELECT","-"]
["FORCE OFF","-"]
["USE PED TIME","-"]
["PED RESERVICE","-"]
["FO ADD INI GRN","-"]
["MULTISYNC","-"]
[]
[{"$f":"'Project Name'!$C$2","v":"LOR-254/301 Signal Timing"}]
["Proposed Local Controller Data"]
[]
["INTERSECTION:"]
["MAINTAINING AGENCY:"]
["START UP",null,null,"DUAL ENTRY: ",null,"-","PHASES:",null,"-"]
[null,null,null,"REST IN RED: ",null,null,"RING 1","-",null,"RING 2","-"]
["START IN: ","-",null,"OVERLAP",null,null,null,"A","B","C","D"]
["TIME FOR FLASH / ALL RED (SEC.):   ",null,"9, 6"]
["FIRST PHASE(S):","-",null,"PHASES",null,null,null,"-","-","-","-"]
["COLOR DISPLAYED:","-"]
[]
["INTERVAL OR FEATURE",null,null,"CONTROLLER MOVEMENT NO."]
["INTERSECTION MOVEMENT (PHASE)",null,null,1,2,3,4,5,6,7,8]
["DIRECTION",null,null,"-","-","-","-","-","-","-","-"]
["MINIMUM GREEN (INITIAL) ",null,"(SEC.)","-","-","-","-","-","-","-","-"]
["ADDED INITIAL","*(SEC./ACTUATION)",null,"-","-","-","-","-","-","-","-"]
["MAXIMUM INITIAL",null,"*(SEC.)","-","-","-","-","-","-","-","-"]
["PASSAGE TIME (PRESET GAP)",null,"(SEC.)","-","-","-","-","-","-","-","-"]
["TIME BEFORE REDUCTION",null,"*(SEC.)","-","-","-","-","-","-","-","-"]
["MINIMUM GAP",null,"*(SEC.)","-","-","-","-","-","-","-","-"]
["TIME TO REDUCE",null,"*(SEC.)","-","-","-","-","-","-","-","-"]
["MAXIMUM GREEN I",null,"(SEC.)","-","-","-","-","-","-","-","-"]
["MAXIMUM GREEN II",null,"(SEC.)","-","-","-","-","-","-","-","-"]
["YELLOW CHANGE",null,"(SEC.)","-","-","-","-","-","-","-","-"]
["ALL RED CLEARANCE",null,"(SEC.)","-","-","-","-","-","-","-","-"]
["DELAYED GREEN (LPI) #",null,"(SEC.)","-","-","-","-","-","-","-","-"]
["FLASHING YELLOW ARROW DELAY^",null,"(SEC.)","-","-","-","-","-","-","-","-"]
["WALK",null,"(SEC.)","-","-","-","-","-","-","-","-"]
["PEDESTRIAN CLEARANCE",null,"(SEC.)","-","-","-","-","-","-","-","-"]
["RECALL","MAXIMUM","(ON/OFF)","-","-","-","-","-","-","-","-"]
[null,"MINIMUM","(ON/OFF)","-","-","-","-","-","-","-","-"]
[null,"PEDESTRIAN","(ON/OFF)","-","-","-","-","-","-","-","-"]
["MEMORY    ",null,"(ON/OFF)","-","-","-","-","-","-","-","-"]
["*VOLUME DENSITY CONTROLS"]
["# FOR CROSSINGS WITH PEDESTRIAN PUSHBUTTONS, LPI'S (LEADING PEDESTRIAN INTERVALS) MAY BE IMPLEMENTED (3-6 SEC.) IN ACCORDANCE WITH LPI DURATION TIME PER THE ODOT SIGNAL CALCULATIONS - CLEARANCE INTERVALS SPREADSHEET"]
[]
[]
["^ WHEN IMPLEMENTING FYA, A MINIMUM 3 SEC. DELAY SHALL BE PROGRAMMED PER FYA PHASE. "]
[]
["ECONOLITE COORD SETTINGS",null,null,"SIEMENS COORD SETTINGS"]
["MANUAL PATTERN","-",null,"OPERATION",null,null,null,"-"]
["SYSTEM SOURCE","-",null,"MODE (NORMAL)",null,null,null,"-"]
["SPLITS IN","-",null,"MAXIMUM",null,null,null,"-"]
["TRANSITION","-",null,"CORRECTION",null,null,null,"-"]
["DWELL/ADD TIME","-",null,"OFFSET MODE",null,null,null,"-"]
["OFFSET REFERENCE","-",null,"FORCE MODE",null,null,null,"-"]
["PED RECALL","-",null,"MAX DWELL TIME",null,null,null,"-"]
["LOCAL ZERO OVERRIDE","-",null,"YIELD PERIOD",null,null,null,"-"]
["RE-SYNC COUNT","-",null,"MANUAL CONTROL: DIAL",null,null,null,"-"]
["ECPI COORD","-",null,"MANUAL CONTROL: SPLIT",null,null,null,"-"]
["SYSTEM FORMAT ","-",null,"MANUAL CONTROL: OFFSET",null,null,null,"-"]
["OFFSET IN","-"]
["MAX SELECT","-"]
["FORCE OFF","-"]
["USE PED TIME","-"]
["PED RESERVICE","-"]
["FO ADD INI GRN","-"]
["MULTISYNC","-"]

{"sheet":"Local Data - COMB - Read Only","index":3,"n_rows":565,"n_cols":23,"rows_kept":565,"cut":false,"hidden":false,"merged":[[553,15,553,18],[553,19,553,21],[554,15,554,18],[554,19,554,21],[555,15,555,18],[555,19,555,21],[556,15,556,18],[556,19,556,21],[557,15,557,18],[557,19,557,21],[548,15,548,18],[548,19,548,21],[549,15,549,18],[549,19,549,21],[550,15,550,18],[550,19,550,21],[551,15,551,18],[551,19,551,21],[552,15,552,18],[552,19,552,21],[537,12,537,13],[538,12,540,12],[541,12,541,13],[542,12,542,22],[543,12,543,22],[544,12,544,22],[546,12,546,13],[546,15,546,21],[547,15,547,18],[547,19,547,21],[528,12,528,13],[529,12,529,13],[530,12,530,13],[531,12,531,13],[532,12,532,13],[533,12,533,13],[534,12,534,13],[535,12,535,13],[536,12,536,13],[520,12,520,14],[520,15,520,22],[521,12,521,14],[522,12,522,14],[523,12,523,13],[524,13,524,14],[525,12,525,13],[526,12,526,13],[527,12,527,13],[516,13,516,14],[516,15,517,18],[516,19,517,19],[516,20,517,20],[516,21,517,21],[516,22,517,22],[517,12,517,13],[518,13,518,14],[518,15,519,18],[518,19,519,19],[518,20,519,20],[518,21,519,21],[518,22,519,22],[519,13,519,14],[510,12,510,22],[511,12,511,22],[512,12,512,14],[512,15,512,22],[513,12,513,14],[513,15,513,22],[514,12,515,14],[514,15,514,16],[514,18,514,19],[514,20,514,22],[515,15,515,16],[497,15,497,18],[497,19,497,21],[498,15,498,18],[498,19,498,21],[499,15,499,18],[499,19,499,21],[500,15,500,18],[500,19,500,21],[501,15,501,18],[501,19,501,21],[492,15,492,18],[492,19,492,21],[493,15,493,18],[493,19,493,21],[494,15,494,18],[494,19,494,21],[495,15,495,18],[495,19,495,21],[496,15,496,18],[496,19,496,21],[481,12,481,13],[482,12,484,12],[485,12,485,13],[486,12,486,22],[487,12,487,22],[488,12,488,22],[490,12,490,13],[490,15,490,21],[491,15,491,18],[491,19,491,21],[472,12,472,13],[473,12,473,13],[474,12,474,13],[475,12,475,13],[476,12,476,13],[477,12,477,13],[478,12,478,13],[479,12,479,13],[480,12,480,13],[464,12,464,14],[464,15,464,22],[465,12,465,14],[466,12,466,14],[467,12,467,13],[468,13,468,14],[469,12,469,13],[470,12,470,13],[471,12,471,13],[460,13,460,14],[460,15,461,18],[460,19,461,19],[460,20,461,20],[460,21,461,21],[460,22,461,22],[461,12,461,13],[462,13,462,14],[462,15,463,18],[462,19,463,19],[462,20,463,20],[462,21,463,21],[462,22,463,22],[463,13,463,14],[454,12,454,22],[455,12,455,22],[456,12,456,14],[456,15,456,22],[457,12,457,14],[457,15,457,22],[458,12,459,14],[458,15,458,16],[458,18,458,19],[458,20,458,22],[459,15,459,16],[441,15,441,18],[441,19,441,21],[442,15,442,18],[442,19,442,21],[443,15,443,18],[443,19,443,21],[444,15,444,18],[444,19,444,21],[445,15,445,18],[445,19,445,21],[436,15,436,18],[436,19,436,21],[437,15,437,18],[437,19,437,21],[438,15,438,18],[438,19,438,21],[439,15,439,18],[439,19,439,21],[440,15,440,18],[440,19,440,21],[425,12,425,13],[426,12,428,12],[429,12,429,13],[430,12,430,22],[431,12,431,22],[432,12,432,22],[434,12,434,13],[434,15,434,21],[435,15,435,18],[435,19,435,21],[416,12,416,13],[417,12,417,13],[418,12,418,13],[419,12,419,13],[420,12,420,13],[421,12,421,13],[422,12,422,13],[423,12,423,13],[424,12,424,13],[408,12,408,14],[408,15,408,22],[409,12,409,14],[410,12,410,14],[411,12,411,13],[412,13,412,14],[413,12,413,13],[414,12,414,13],[415,12,415,13],[404,13,404,14],[404,15,405,18],[404,19,405,19],[404,20,405,20],[404,21,405,21],[404,22,405,22],[405,12,405,13],[406,13,406,14],[406,15,407,18],[406,19,407,19],[406,20,407,20],[406,21,407,21],[406,22,407,22],[407,13,407,14],[398,12,398,22],[399,12,399,22],[400,12,400,14],[400,15,400,22],[401,12,401,14],[401,15,401,22],[402,12,403,14],[402,15,402,16],[402,18,402,19],[402,20,402,22],[403,15,403,16],[385,15,385,18],[385,19,385,21],[386,15,386,18],[386,19,386,21],[387,15,387,18],[387,19,387,21],[388,15,388,18],[388,19,388,21],[389,15,389,18],[389,19,389,21],[380,15,380,18],[380,19,380,21],[381,15,381,18],[381,19,381,21],[382,15,382,18],[382,19,382,21],[383,15,383,18],[383,19,383,21],[384,15,384,18],[384,19,384,21],[369,12,369,13],[370,12,372,12],[373,12,373,13],[374,12,374,22],[375,12,375,22],[376,12,376,22],[378,12,378,13],[378,15,378,21],[379,15,379,18],[379,19,379,21],[360,12,360,13],[361,12,361,13],[362,12,362,13],[363,12,363,13],[364,12,364,13],[365,12,365,13],[366,12,366,13],[367,12,367,13],[368,12,368,13],[352,12,352,14],[352,15,352,22],[353,12,353,14],[354,12,354,14],[355,12,355,13],[356,13,356,14],[357,12,357,13],[358,12,358,13],[359,12,359,13],[348,13,348,14],[348,15,349,18],[348,19,349,19],[348,20,349,20],[348,21,349,21],[348,22,349,22],[349,12,349,13],[350,13,350,14],[350,15,351,18],[350,19,351,19],[350,20,351,20],[350,21,351,21],[350,22,351,22],[351,13,351,14],[342,12,342,22],[343,12,343,22],[344,12,344,14],[344,15,344,22],[345,12,345,14],[345,15,345,22],[346,12,347,14],[346,15,346,16],[346,18,346,19],[346,20,346,22],[347,15,347,16],[329,15,329,18],[329,19,329,21],[330,15,330,18],[330,19,330,21],[331,15,331,18],[331,19,331,21],[332,15,332,18],[332,19,332,21],[333,15,333,18],[333,19,333,21],[324,15,324,18],[324,19,324,21],[325,15,325,18],[325,19,325,21],[326,15,326,18],[326,19,326,21],[327,15,327,18],[327,19,327,21],[328,15,328,18],[328,19,328,21],[313,12,313,13],[314,12,316,12],[317,12,317,13],[318,12,318,22],[319,12,319,22],[320,12,320,22],[322,12,322,13],[322,15,322,21],[323,15,323,18],[323,19,323,21],[304,12,304,13],[305,12,305,13],[306,12,306,13],[307,12,307,13],[308,12,308,13],[309,12,309,13],[310,12,310,13],[311,12,311,13],[312,12,312,13],[296,12,296,14],[296,15,296,22],[297,12,297,14],[298,12,298,14],[299,12,299,13],[300,13,300,14],[301,12,301,13],[302,12,302,13],[303,12,303,13],[292,13,292,14],[292,15,293,18],[292,19,293,19],[292,20,293,20],[292,21,293,21],[292,22,293,22],[293,12,293,13],[294,13,294,14],[294,15,295,18],[294,19,295,19],[294,20,295,20],[294,21,295,21],[294,22,295,22],[295,13,295,14],[286,12,286,22],[287,12,287,22],[288,12,288,14],[288,15,288,22],[289,12,289,14],[289,15,289,22],[290,12,291,14],[290,15,290,16],[290,18,290,19],[290,20,290,22],[291,15,291,16],[273,15,273,18],[273,19,273,21],[274,15,274,18],[274,19,274,21],[275,15,275,18],[275,19,275,21],[276,15,276,18],[276,19,276,21],[277,15,277,18],[277,19,277,21],[268,15,268,18],[268,19,268,21],[269,15,269,18],[269,19,269,21],[270,15,270,18],[270,19,270,21],[271,15,271,18],[271,19,271,21],[272,15,272,18],[272,19,272,21],[257,12,257,13],[258,12,260,12],[261,12,261,13],[262,12,262,22],[263,12,263,22],[264,12,264,22],[266,12,266,13],[266,15,266,21],[267,15,267,18],[267,19,267,21],[248,12,248,13],[249,12,249,13],[250,12,250,13],[251,12,251,13],[252,12,252,13],[253,12,253,13],[254,12,254,13],[255,12,255,13],[256,12,256,13],[240,12,240,14],[240,15,240,22],[241,12,241,14],[242,12,242,14],[243,12,243,13],[244,13,244,14],[245,12,245,13],[246,12,246,13],[247,12,247,13],[236,13,236,14],[236,15,237,18],[236,19,237,19],[236,20,237,20],[236,21,237,21],[236,22,237,22],[237,12,237,13],[238,13,238,14],[238,15,239,18],[238,19,239,19],[238,20,239,20],[238,21,239,21],[238,22,239,22],[239,13,239,14],[231,12,231,22],[232,12,232,14],[232,15,232,22],[233,12,233,14],[233,15,233,22],[234,12,235,14],[234,15,234,16],[234,18,234,19],[234,20,234,22],[235,15,235,16],[210,3,210,9],[210,0,210,1],[213,7,213,9],[212,7,212,9],[211,7,211,9],[213,3,213,6],[212,3,212,6],[211,3,211,6],[230,12,230,22],[217,15,217,18],[217,19,217,21],[218,15,218,18],[218,19,218,21],[219,15,219,18],[219,19,219,21],[220,15,220,18],[220,19,220,21],[221,15,221,18],[221,19,221,21],[212,15,212,18],[212,19,212,21],[213,15,213,18],[213,19,213,21],[214,15,214,18],[214,19,214,21],[215,15,215,18],[215,19,215,21],[216,15,216,18],[216,19,216,21],[230,0,230,10],[201,12,201,13],[202,12,204,12],[205,12,205,13],[206,12,206,22],[207,12,207,22],[208,12,208,22],[210,12,210,13],[210,15,210,21],[211,15,211,18],[211,19,211,21],[192,12,192,13],[193,12,193,13],[194,12,194,13],[195,12,195,13],[196,12,196,13],[197,12,197,13],[198,12,198,13],[199,12,199,13],[200,12,200,13],[184,12,184,14],[184,15,184,22],[185,12,185,14],[186,12,186,14],[187,12,187,13],[188,13,188,14],[189,12,189,13],[190,12,190,13],[191,12,191,13],[180,13,180,14],[180,15,181,18],[180,19,181,19],[180,20,181,20],[180,21,181,21],[180,22,181,22],[181,12,181,13],[182,13,182,14],[182,15,183,18],[182,19,183,19],[182,20,183,20],[182,21,183,21],[182,22,183,22],[183,13,183,14],[145,12,145,13],[129,12,129,14],[130,12,130,14],[175,12,175,22],[176,12,176,14],[176,15,176,22],[177,12,177,14],[177,15,177,22],[178,12,179,14],[178,15,178,16],[178,18,178,19],[178,20,178,22],[179,15,179,16],[158,19,158,21],[157,19,157,21],[156,19,156,21],[155,19,155,21],[158,15,158,18],[157,15,157,18],[156,15,156,18],[155,15,155,18],[174,12,174,22],[146,12,148,12],[137,12,137,13],[138,12,138,13],[139,12,139,13],[140,12,140,13],[141,12,141,13],[142,12,142,13],[143,12,143,13],[144,12,144,13],[126,19,127,19],[126,20,127,20],[126,21,127,21],[126,22,127,22],[134,12,134,13],[135,12,135,13],[136,12,136,13],[124,13,124,14],[124,15,125,18],[124,19,125,19],[124,20,125,20],[124,21,125,21],[124,22,125,22],[125,12,125,13],[126,13,126,14],[127,13,127,14],[126,15,127,18],[128,12,128,14],[128,15,128,22],[131,12,131,13],[132,13,132,14],[133,12,133,13],[510,0,510,10],[511,0,511,10],[512,0,512,2],[512,3,512,10],[499,3,499,6],[499,7,499,9],[500,3,500,6],[500,7,500,9],[501,3,501,6],[501,7,501,9],[492,3,492,6],[492,7,492,9],[493,3,493,6],[493,7,493,9],[494,3,494,6],[494,7,494,9],[495,3,495,6],[495,7,495,9],[496,3,496,6],[496,7,496,9],[513,0,513,2],[513,3,513,10],[514,0,515,2],[514,3,514,4],[514,6,514,7],[514,8,514,10],[515,3,515,4],[119,12,119,22],[164,15,164,18],[164,19,164,21],[165,15,165,18],[165,19,165,21],[159,15,159,18],[159,19,159,21],[160,15,160,18],[160,19,160,21],[161,15,161,18],[161,19,161,21],[162,15,162,18],[162,19,162,21],[163,15,163,18],[163,19,163,21],[151,12,151,22],[149,12,149,13],[150,12,150,22],[152,12,152,22],[154,12,154,13],[154,15,154,21],[497,3,497,6],[497,7,497,9],[498,3,498,6],[498,7,498,9],[553,3,553,6],[553,7,553,9],[554,3,554,6],[554,7,554,9],[555,3,555,6],[555,7,555,9],[556,3,556,6],[556,7,556,9],[557,3,557,6],[557,7,557,9],[548,3,548,6],[548,7,548,9],[549,3,549,6],[549,7,549,9],[550,3,550,6],[550,7,550,9],[551,3,551,6],[551,7,551,9],[552,3,552,6],[552,7,552,9],[537,0,537,1],[538,0,540,0],[542,0,542,10],[543,0,543,10],[544,0,544,10],[546,0,546,1],[546,3,546,9],[547,3,547,6],[547,7,547,9],[528,0,528,1],[529,0,529,1],[530,0,530,1],[531,0,531,1],[532,0,532,1],[533,0,533,1],[534,0,534,1],[535,0,535,1],[536,0,536,1],[520,0,520,2],[520,3,520,10],[521,0,521,2],[522,0,522,2],[523,0,523,1],[524,1,524,2],[525,0,525,1],[526,0,526,1],[527,0,527,1],[516,1,516,2],[516,3,517,6],[516,7,517,7],[516,8,517,8],[516,9,517,9],[516,10,517,10],[517,0,517,1],[518,1,518,2],[518,3,519,6],[518,7,519,7],[518,8,519,8],[518,9,519,9],[518,10,519,10],[519,1,519,2],[481,0,481,1],[482,0,484,0],[486,0,486,10],[487,0,487,10],[488,0,488,10],[490,0,490,1],[490,3,490,9],[491,3,491,6],[491,7,491,9],[472,0,472,1],[473,0,473,1],[474,0,474,1],[475,0,475,1],[476,0,476,1],[477,0,477,1],[478,0,478,1],[479,0,479,1],[480,0,480,1],[464,0,464,2],[464,3,464,10],[465,0,465,2],[466,0,466,2],[467,0,467,1],[468,1,468,2],[469,0,469,1],[470,0,470,1],[471,0,471,1],[460,1,460,2],[460,3,461,6],[460,7,461,7],[460,8,461,8],[460,9,461,9],[460,10,461,10],[461,0,461,1],[462,1,462,2],[462,3,463,6],[462,7,463,7],[462,8,463,8],[462,9,463,9],[462,10,463,10],[463,1,463,2],[454,0,454,10],[455,0,455,10],[456,0,456,2],[456,3,456,10],[457,0,457,2],[457,3,457,10],[458,0,459,2],[458,3,458,4],[458,6,458,7],[458,8,458,10],[459,3,459,4],[441,3,441,6],[441,7,441,9],[442,3,442,6],[442,7,442,9],[443,3,443,6],[443,7,443,9],[444,3,444,6],[444,7,444,9],[445,3,445,6],[445,7,445,9],[436,3,436,6],[436,7,436,9],[437,3,437,6],[437,7,437,9],[438,3,438,6],[438,7,438,9],[439,3,439,6],[439,7,439,9],[440,3,440,6],[440,7,440,9],[425,0,425,1],[426,0,428,0],[430,0,430,10],[431,0,431,10],[432,0,432,10],[434,0,434,1],[434,3,434,9],[435,3,435,6],[435,7,435,9],[416,0,416,1],[417,0,417,1],[418,0,418,1],[419,0,419,1],[420,0,420,1],[421,0,421,1],[422,0,422,1],[423,0,423,1],[424,0,424,1],[408,0,408,2],[408,3,408,10],[409,0,409,2],[410,0,410,2],[411,0,411,1],[412,1,412,2],[413,0,413,1],[414,0,414,1],[415,0,415,1],[404,1,404,2],[404,3,405,6],[404,7,405,7],[404,8,405,8],[404,9,405,9],[404,10,405,10],[405,0,405,1],[406,1,406,2],[406,3,407,6],[406,7,407,7],[406,8,407,8],[406,9,407,9],[406,10,407,10],[407,1,407,2],[398,0,398,10],[399,0,399,10],[400,0,400,2],[400,3,400,10],[401,0,401,2],[401,3,401,10],[402,0,403,2],[402,3,402,4],[402,6,402,7],[402,8,402,10],[403,3,403,4],[385,3,385,6],[385,7,385,9],[386,3,386,6],[386,7,386,9],[387,3,387,6],[387,7,387,9],[388,3,388,6],[388,7,388,9],[389,3,389,6],[389,7,389,9],[380,3,380,6],[380,7,380,9],[381,3,381,6],[381,7,381,9],[382,3,382,6],[382,7,382,9],[383,3,383,6],[383,7,383,9],[384,3,384,6],[384,7,384,9],[369,0,369,1],[370,0,372,0],[374,0,374,10],[375,0,375,10],[376,0,376,10],[378,0,378,1],[378,3,378,9],[379,3,379,6],[379,7,379,9],[360,0,360,1],[361,0,361,1],[362,0,362,1],[363,0,363,1],[364,0,364,1],[365,0,365,1],[366,0,366,1],[367,0,367,1],[368,0,368,1],[352,0,352,2],[352,3,352,10],[353,0,353,2],[354,0,354,2],[355,0,355,1],[356,1,356,2],[357,0,357,1],[358,0,358,1],[359,0,359,1],[348,1,348,2],[348,3,349,6],[348,7,349,7],[348,8,349,8],[348,9,349,9],[348,10,349,10],[349,0,349,1],[350,1,350,2],[350,3,351,6],[350,7,351,7],[350,8,351,8],[350,9,351,9],[350,10,351,10],[351,1,351,2],[342,0,342,10],[343,0,343,10],[344,0,344,2],[344,3,344,10],[345,0,345,2],[345,3,345,10],[346,0,347,2],[346,3,346,4],[346,6,346,7],[346,8,346,10],[347,3,347,4],[329,3,329,6],[329,7,329,9],[330,3,330,6],[330,7,330,9],[331,3,331,6],[331,7,331,9],[332,3,332,6],[332,7,332,9],[333,3,333,6],[333,7,333,9],[324,3,324,6],[324,7,324,9],[325,3,325,6],[325,7,325,9],[326,3,326,6],[326,7,326,9],[327,3,327,6],[327,7,327,9],[328,3,328,6],[328,7,328,9],[313,0,313,1],[314,0,316,0],[318,0,318,10],[319,0,319,10],[320,0,320,10],[322,0,322,1],[322,3,322,9],[323,3,323,6],[323,7,323,9],[304,0,304,1],[305,0,305,1],[306,0,306,1],[307,0,307,1],[308,0,308,1],[309,0,309,1],[310,0,310,1],[311,0,311,1],[312,0,312,1],[296,0,296,2],[296,3,296,10],[297,0,297,2],[298,0,298,2],[299,0,299,1],[300,1,300,2],[301,0,301,1],[302,0,302,1],[303,0,303,1],[292,1,292,2],[292,3,293,6],[292,7,293,7],[292,8,293,8],[292,9,293,9],[292,10,293,10],[293,0,293,1],[294,1,294,2],[294,3,295,6],[294,7,295,7],[294,8,295,8],[294,9,295,9],[294,10,295,10],[295,1,295,2],[286,0,286,10],[287,0,287,10],[288,0,288,2],[288,3,288,10],[289,0,289,2],[289,3,289,10],[290,0,291,2],[290,3,290,4],[290,6,290,7],[290,8,290,10],[291,3,291,4],[273,3,273,6],[273,7,273,9],[274,3,274,6],[274,7,274,9],[275,3,275,6],[275,7,275,9],[276,3,276,6],[276,7,276,9],[277,3,277,6],[277,7,277,9],[268,3,268,6],[268,7,268,9],[269,3,269,6],[269,7,269,9],[270,3,270,6],[270,7,270,9],[271,3,271,6],[271,7,271,9],[272,3,272,6],[272,7,272,9],[257,0,257,1],[258,0,260,0],[262,0,262,10],[263,0,263,10],[264,0,264,10],[266,0,266,1],[266,3,266,9],[267,3,267,6],[267,7,267,9],[248,0,248,1],[249,0,249,1],[250,0,250,1],[251,0,251,1],[252,0,252,1],[253,0,253,1],[254,0,254,1],[255,0,255,1],[256,0,256,1],[240,0,240,2],[240,3,240,10],[241,0,241,2],[242,0,242,2],[243,0,243,1],[244,1,244,2],[245,0,245,1],[246,0,246,1],[247,0,247,1],[236,1,236,2],[236,3,237,6],[236,7,237,7],[236,8,237,8],[236,9,237,9],[236,10,237,10],[237,0,237,1],[238,1,238,2],[238,3,239,6],[238,7,239,7]],"merged_total":1452,"flags":["merged_cut"]}
[{"$f":"'Project Name'!$C$2","v":"LOR-254/301 Signal Timing"},null,null,null,null,null,null,null,null,null,null,null,{"$f":"'Project Name'!$C$2","v":"LOR-254/301 Signal Timing"}]
["Existing Local Controller Data",null,null,null,null,null,null,null,null,null,null,null,"Proposed Local Controller Data"]
["INTERSECTION:",null,null,{"$f":"'Local Controller Data - EXIST'!D4","v":"Detroit Rd & Transportation Dr/Mike Bass Ford Dr"},null,null,null,null,null,null,null,null,"INTERSECTION:",null,null,{"$f":"'Local Controller Data - PROP'!D4","v":"Detroit Rd & Transportation Dr/Mike Bass Ford Dr"}]
["MAINTAINING AGENCY:",null,null,{"$f":"'Local Controller Data - EXIST'!D5","v":"ODOT D3"},null,null,null,null,null,null,null,null,"MAINTAINING AGENCY:",null,null,{"$f":"'Local Controller Data - PROP'!D5","v":"ODOT D3"}]
["START UP",null,null,"DUAL ENTRY: ",null,{"$f":"'Local Controller Data - EXIST'!F6","v":"YES"},"PHASES:",null,{"$f":"'Local Controller Data - EXIST'!I6:K6","v":"2, 4, 6, 8"},null,null,null,"START UP",null,null,"DUAL ENTRY: ",null,{"$f":"'Local Controller Data - PROP'!F6","v":"YES"},"PHASES:",null,{"$f":"'Local Controller Data - PROP'!I6","v":"2, 4, 6, 8"}]
[null,null,null,"REST IN RED: ",null,null,"RING 1",{"$f":"'Local Controller Data - EXIST'!H7","v":"NO"},null,"RING 2",{"$f":"'Local Controller Data - EXIST'!K7","v":"NO"},null,null,null,null,"REST IN RED: ",null,null,"RING 1",{"$f":"'Local Controller Data - PROP'!H7","v":"NO"},null,"RING 2",{"$f":"'Local Controller Data - PROP'!K7","v":"NO"}]
["START IN: ",{"$f":"'Local Controller Data - EXIST'!B8:C8","v":"ALL-RED FLASH"},null,"OVERLAP",null,null,null,"A","B","C","D",null,"START IN: ",{"$f":"'Local Controller Data - PROP'!B8","v":"ALL-RED FLASH"},null,"OVERLAP",null,null,null,"A","B","C","D"]
["TIME FOR: FLASH , ALL RED (SEC.):   ",null,{"$f":"'Local Controller Data - EXIST'!C9","v":"9, 6"},null,null,null,null,null,null,null,null,null,"TIME FOR: FLASH , ALL RED (SEC.):   ",null,{"$f":"'Local Controller Data - PROP'!C9","v":"9, 6"}]
["FIRST PHASE(S):",{"$f":"'Local Controller Data - EXIST'!B10","v":"2, 6"},null,"PHASES",null,null,null,{"$f":"'Local Controller Data - EXIST'!H10","v":"-"},{"$f":"'Local Controller Data - EXIST'!I10","v":"-"},{"$f":"'Local Controller Data - EXIST'!J10","v":"-"},{"$f":"'Local Controller Data - EXIST'!K10","v":"-"},null,"FIRST PHASE(S):",{"$f":"'Local Controller Data - PROP'!B10","v":"2, 6"},null,"PHASES",null,null,null,{"$f":"'Local Controller Data - PROP'!H10","v":"-"},{"$f":"'Local Controller Data - PROP'!I10","v":"-"},{"$f":"'Local Controller Data - PROP'!J10","v":"-"},{"$f":"'Local Controller Data - PROP'!K10","v":"-"}]
["COLOR DISPLAYED:",{"$f":"'Local Controller Data - EXIST'!B11","v":"GREEN"},null,null,null,null,null,null,null,null,null,null,"COLOR DISPLAYED:",{"$f":"'Local Controller Data - PROP'!B11","v":"GREEN"}]
[]
["INTERVAL OR FEATURE",null,null,"CONTROLLER MOVEMENT NO.",null,null,null,null,null,null,null,null,"INTERVAL OR FEATURE",null,null,"CONTROLLER MOVEMENT NO."]
["INTERSECTION MOVEMENT (PHASE)",null,null,{"$f":"'Local Controller Data - EXIST'!D14","v":1},{"$f":"'Local Controller Data - EXIST'!E14","v":2},{"$f":"'Local Controller Data - EXIST'!F14","v":3},{"$f":"'Local Controller Data - EXIST'!G14","v":4},{"$f":"'Local Controller Data - EXIST'!H14","v":5},{"$f":"'Local Controller Data - EXIST'!I14","v":6},{"$f":"'Local Controller Data - EXIST'!J14","v":7},{"$f":"'Local Controller Data - EXIST'!K14","v":8},null,"INTERSECTION MOVEMENT (PHASE)",null,null,{"$f":"'Local Controller Data - PROP'!D14","v":1},{"$f":"'Local Controller Data - PROP'!E14","v":2},{"$f":"'Local Controller Data - PROP'!F14","v":3},{"$f":"'Local Controller Data - PROP'!G14","v":4},{"$f":"'Local Controller Data - PROP'!H14","v":5},{"$f":"'Local Controller Data - PROP'!I14","v":6},{"$f":"'Local Controller Data - PROP'!J14","v":7},{"$f":"'Local Controller Data - PROP'!K14","v":8}]
["DIRECTION",null,null,{"$f":"'Local Controller Data - EXIST'!D15","v":"WBL"},{"$f":"'Local Controller Data - EXIST'!E15","v":"EBT"},{"$f":"'Local Controller Data - EXIST'!F15","v":"-"},{"$f":"'Local Controller Data - EXIST'!G15","v":"SBT"},{"$f":"'Local Controller Data - EXIST'!H15","v":"EBL"},{"$f":"'Local Controller Data - EXIST'!I15","v":"WBT"},{"$f":"'Local Controller Data - EXIST'!J15","v":"-"},{"$f":"'Local Controller Data - EXIST'!K15","v":"NBT"},null,"DIRECTION",null,null,{"$f":"'Local Controller Data - PROP'!D15","v":"WBL"},{"$f":"'Local Controller Data - PROP'!E15","v":"EBT"},{"$f":"'Local Controller Data - PROP'!F15","v":"-"},{"$f":"'Local Controller Data - PROP'!G15","v":"SBT"},{"$f":"'Local Controller Data - PROP'!H15","v":"EBL"},{"$f":"'Local Controller Data - PROP'!I15","v":"WBT"},{"$f":"'Local Controller Data - PROP'!J15","v":"-"},{"$f":"'Local Controller Data - PROP'!K15","v":"NBT"}]
["MINIMUM GREEN (INITIAL) ",null,"(SEC.)",{"$f":"'Local Controller Data - EXIST'!D16","v":7},{"$f":"'Local Controller Data - EXIST'!E16","v":20},{"$f":"'Local Controller Data - EXIST'!F16","v":"-"},{"$f":"'Local Controller Data - EXIST'!G16","v":10},{"$f":"'Local Controller Data - EXIST'!H16","v":7},{"$f":"'Local Controller Data - EXIST'!I16","v":20},{"$f":"'Local Controller Data - EXIST'!J16","v":"-"},{"$f":"'Local Controller Data - EXIST'!K16","v":10},null,"MINIMUM GREEN (INITIAL) ",null,"(SEC.)",{"$f":"'Local Controller Data - PROP'!D16","v":7},{"$f":"'Local Controller Data - PROP'!E16","v":20},{"$f":"'Local Controller Data - PROP'!F16","v":"-"},{"$f":"'Local Controller Data - PROP'!G16","v":10},{"$f":"'Local Controller Data - PROP'!H16","v":7},{"$f":"'Local Controller Data - PROP'!I16","v":20},{"$f":"'Local Controller Data - PROP'!J16","v":"-"},{"$f":"'Local Controller Data - PROP'!K16","v":10}]
["ADDED INITIAL","*(SEC./ACTUATION)",null,{"$f":"'Local Controller Data - EXIST'!D17","v":"-"},{"$f":"'Local Controller Data - EXIST'!E17","v":"-"},{"$f":"'Local Controller Data - EXIST'!F17","v":"-"},{"$f":"'Local Controller Data - EXIST'!G17","v":"-"},{"$f":"'Local Controller Data - EXIST'!H17","v":"-"},{"$f":"'Local Controller Data - EXIST'!I17","v":"-"},{"$f":"'Local Controller Data - EXIST'!J17","v":"-"},{"$f":"'Local Controller Data - EXIST'!K17","v":"-"},null,"ADDED INITIAL","*(SEC./ACTUATION)",null,{"$f":"'Local Controller Data - PROP'!D17","v":"-"},{"$f":"'Local Controller Data - PROP'!E17","v":"-"},{"$f":"'Local Controller Data - PROP'!F17","v":"-"},{"$f":"'Local Controller Data - PROP'!G17","v":"-"},{"$f":"'Local Controller Data - PROP'!H17","v":"-"},{"$f":"'Local Controller Data - PROP'!I17","v":"-"},{"$f":"'Local Controller Data - PROP'!J17","v":"-"},{"$f":"'Local Controller Data - PROP'!K17","v":"-"}]
["MAXIMUM INITIAL",null,"*(SEC.)",{"$f":"'Local Controller Data - EXIST'!D18","v":"-"},{"$f":"'Local Controller Data - EXIST'!E18","v":"-"},{"$f":"'Local Controller Data - EXIST'!F18","v":"-"},{"$f":"'Local Controller Data - EXIST'!G18","v":"-"},{"$f":"'Local Controller Data - EXIST'!H18","v":"-"},{"$f":"'Local Controller Data - EXIST'!I18","v":"-"},{"$f":"'Local Controller Data - EXIST'!J18","v":"-"},{"$f":"'Local Controller Data - EXIST'!K18","v":"-"},null,"MAXIMUM INITIAL",null,"*(SEC.)",{"$f":"'Local Controller Data - PROP'!D18","v":"-"},{"$f":"'Local Controller Data - PROP'!E18","v":"-"},{"$f":"'Local Controller Data - PROP'!F18","v":"-"},{"$f":"'Local Controller Data - PROP'!G18","v":"-"},{"$f":"'Local Controller Data - PROP'!H18","v":"-"},{"$f":"'Local Controller Data - PROP'!I18","v":"-"},{"$f":"'Local Controller Data - PROP'!J18","v":"-"},{"$f":"'Local Controller Data - PROP'!K18","v":"-"}]
["PASSAGE TIME (PRESET GAP)",null,"(SEC.)",{"$f":"'Local Controller Data - EXIST'!D19","v":3},{"$f":"'Local Controller Data - EXIST'!E19","v":3},{"$f":"'Local Controller Data - EXIST'!F19","v":"-"},{"$f":"'Local Controller Data - EXIST'!G19","v":3},{"$f":"'Local Controller Data - EXIST'!H19","v":3},{"$f":"'Local Controller Data - EXIST'!I19","v":3},{"$f":"'Local Controller Data - EXIST'!J19","v":"-"},{"$f":"'Local Controller Data - EXIST'!K19","v":3},null,"PASSAGE TIME (PRESET GAP)",null,"(SEC.)",{"$f":"'Local Controller Data - PROP'!D19","v":3},{"$f":"'Local Controller Data - PROP'!E19","v":3},{"$f":"'Local Controller Data - PROP'!F19","v":"-"},{"$f":"'Local Controller Data - PROP'!G19","v":3},{"$f":"'Local Controller Data - PROP'!H19","v":3},{"$f":"'Local Controller Data - PROP'!I19","v":3},{"$f":"'Local Controller Data - PROP'!J19","v":"-"},{"$f":"'Local Controller Data - PROP'!K19","v":3}]
["TIME BEFORE REDUCTION",null,"*(SEC.)",{"$f":"'Local Controller Data - EXIST'!D20","v":"-"},{"$f":"'Local Controller Data - EXIST'!E20","v":"-"},{"$f":"'Local Controller Data - EXIST'!F20","v":"-"},{"$f":"'Local Controller Data - EXIST'!G20","v":"-"},{"$f":"'Local Controller Data - EXIST'!H20","v":"-"},{"$f":"'Local Controller Data - EXIST'!I20","v":"-"},{"$f":"'Local Controller Data - EXIST'!J20","v":"-"},{"$f":"'Local Controller Data - EXIST'!K20","v":"-"},null,"TIME BEFORE REDUCTION",null,"*(SEC.)",{"$f":"'Local Controller Data - PROP'!D20","v":"-"},{"$f":"'Local Controller Data - PROP'!E20","v":"-"},{"$f":"'Local Controller Data - PROP'!F20","v":"-"},{"$f":"'Local Controller Data - PROP'!G20","v":"-"},{"$f":"'Local Controller Data - PROP'!H20","v":"-"},{"$f":"'Local Controller Data - PROP'!I20","v":"-"},{"$f":"'Local Controller Data - PROP'!J20","v":"-"},{"$f":"'Local Controller Data - PROP'!K20","v":"-"}]
["MINIMUM GAP",null,"*(SEC.)",{"$f":"'Local Controller Data - EXIST'!D21","v":"-"},{"$f":"'Local Controller Data - EXIST'!E21","v":"-"},{"$f":"'Local Controller Data - EXIST'!F21","v":"-"},{"$f":"'Local Controller Data - EXIST'!G21","v":"-"},{"$f":"'Local Controller Data - EXIST'!H21","v":"-"},{"$f":"'Local Controller Data - EXIST'!I21","v":"-"},{"$f":"'Local Controller Data - EXIST'!J21","v":"-"},{"$f":"'Local Controller Data - EXIST'!K21","v":"-"},null,"MINIMUM GAP",null,"*(SEC.)",{"$f":"'Local Controller Data - PROP'!D21","v":"-"},{"$f":"'Local Controller Data - PROP'!E21","v":"-"},{"$f":"'Local Controller Data - PROP'!F21","v":"-"},{"$f":"'Local Controller Data - PROP'!G21","v":"-"},{"$f":"'Local Controller Data - PROP'!H21","v":"-"},{"$f":"'Local Controller Data - PROP'!I21","v":"-"},{"$f":"'Local Controller Data - PROP'!J21","v":"-"},{"$f":"'Local Controller Data - PROP'!K21","v":"-"}]
["TIME TO REDUCE",null,"*(SEC.)",{"$f":"'Local Controller Data - EXIST'!D22","v":"-"},{"$f":"'Local Controller Data - EXIST'!E22","v":"-"},{"$f":"'Local Controller Data - EXIST'!F22","v":"-"},{"$f":"'Local Controller Data - EXIST'!G22","v":"-"},{"$f":"'Local Controller Data - EXIST'!H22","v":"-"},{"$f":"'Local Controller Data - EXIST'!I22","v":"-"},{"$f":"'Local Controller Data - EXIST'!J22","v":"-"},{"$f":"'Local Controller Data - EXIST'!K22","v":"-"},null,"TIME TO REDUCE",null,"*(SEC.)",{"$f":"'Local Controller Data - PROP'!D22","v":"-"},{"$f":"'Local Controller Data - PROP'!E22","v":"-"},{"$f":"'Local Controller Data - PROP'!F22","v":"-"},{"$f":"'Local Controller Data - PROP'!G22","v":"-"},{"$f":"'Local Controller Data - PROP'!H22","v":"-"},{"$f":"'Local Controller Data - PROP'!I22","v":"-"},{"$f":"'Local Controller Data - PROP'!J22","v":"-"},{"$f":"'Local Controller Data - PROP'!K22","v":"-"}]
["MAXIMUM GREEN I",null,"(SEC.)",{"$f":"'Local Controller Data - EXIST'!D23","v":15},{"$f":"'Local Controller Data - EXIST'!E23","v":58},{"$f":"'Local Controller Data - EXIST'!F23","v":"-"},{"$f":"'Local Controller Data - EXIST'!G23","v":22},{"$f":"'Local Controller Data - EXIST'!H23","v":15},{"$f":"'Local Controller Data - EXIST'!I23","v":58},{"$f":"'Local Controller Data - EXIST'!J23","v":"-"},{"$f":"'Local Controller Data - EXIST'!K23","v":22},null,"MAXIMUM GREEN I",null,"(SEC.)",{"$f":"'Local Controller Data - PROP'!D23","v":15},{"$f":"'Local Controller Data - PROP'!E23","v":58},{"$f":"'Local Controller Data - PROP'!F23","v":"-"},{"$f":"'Local Controller Data - PROP'!G23","v":22},{"$f":"'Local Controller Data - PROP'!H23","v":15},{"$f":"'Local Controller Data - PROP'!I23","v":58},{"$f":"'Local Controller Data - PROP'!J23","v":"-"},{"$f":"'Local Controller Data - PROP'!K23","v":22}]
["MAXIMUM GREEN II",null,"(SEC.)",{"$f":"'Local Controller Data - EXIST'!D24","v":15},{"$f":"'Local Controller Data - EXIST'!E24","v":58},{"$f":"'Local Controller Data - EXIST'!F24","v":"-"},{"$f":"'Local Controller Data - EXIST'!G24","v":22},{"$f":"'Local Controller Data - EXIST'!H24","v":15},{"$f":"'Local Controller Data - EXIST'!I24","v":58},{"$f":"'Local Controller Data - EXIST'!J24","v":"-"},{"$f":"'Local Controller Data - EXIST'!K24","v":22},null,"MAXIMUM GREEN II",null,"(SEC.)",{"$f":"'Local Controller Data - PROP'!D24","v":15},{"$f":"'Local Controller Data - PROP'!E24","v":58},{"$f":"'Local Controller Data - PROP'!F24","v":"-"},{"$f":"'Local Controller Data - PROP'!G24","v":22},{"$f":"'Local Controller Data - PROP'!H24","v":15},{"$f":"'Local Controller Data - PROP'!I24","v":58},{"$f":"'Local Controller Data - PROP'!J24","v":"-"},{"$f":"'Local Controller Data - PROP'!K24","v":22}]
["YELLOW CHANGE",null,"(SEC.)",{"$f":"'Local Controller Data - EXIST'!D25","v":3.6},{"$f":"'Local Controller Data - EXIST'!E25","v":4},{"$f":"'Local Controller Data - EXIST'!F25","v":"-"},{"$f":"'Local Controller Data - EXIST'!G25","v":4},{"$f":"'Local Controller Data - EXIST'!H25","v":3.6},{"$f":"'Local Controller Data - EXIST'!I25","v":4},{"$f":"'Local Controller Data - EXIST'!J25","v":"-"},{"$f":"'Local Controller Data - EXIST'!K25","v":4},null,"YELLOW CHANGE",null,"(SEC.)",{"$f":"'Local Controller Data - PROP'!D25","v":3.1},{"$f":"'Local Controller Data - PROP'!E25","v":4},{"$f":"'Local Controller Data - PROP'!F25","v":"-"},{"$f":"'Local Controller Data - PROP'!G25","v":3.8},{"$f":"'Local Controller Data - PROP'!H25","v":3.1},{"$f":"'Local Controller Data - PROP'!I25","v":4},{"$f":"'Local Controller Data - PROP'!J25","v":"-"},{"$f":"'Local Controller Data - PROP'!K25","v":3.8}]
["ALL RED CLEARANCE",null,"(SEC.)",{"$f":"'Local Controller Data - EXIST'!D26","v":1},{"$f":"'Local Controller Data - EXIST'!E26","v":1},{"$f":"'Local Controller Data - EXIST'!F26","v":"-"},{"$f":"'Local Controller Data - EXIST'!G26","v":1},{"$f":"'Local Controller Data - EXIST'!H26","v":1},{"$f":"'Local Controller Data - EXIST'!I26","v":1},{"$f":"'Local Controller Data - EXIST'!J26","v":"-"},{"$f":"'Local Controller Data - EXIST'!K26","v":1},null,"ALL RED CLEARANCE",null,"(SEC.)",{"$f":"'Local Controller Data - PROP'!D26","v":3},{"$f":"'Local Controller Data - PROP'!E26","v":1.8},{"$f":"'Local Controller Data - PROP'!F26","v":"-"},{"$f":"'Local Controller Data - PROP'!G26","v":1.2},{"$f":"'Local Controller Data - PROP'!H26","v":3},{"$f":"'Local Controller Data - PROP'!I26","v":1.8},{"$f":"'Local Controller Data - PROP'!J26","v":"-"},{"$f":"'Local Controller Data - PROP'!K26","v":1.2}]
["DELAYED GREEN (LPI) #",null,"(SEC.)",{"$f":"'Local Controller Data - EXIST'!D27","v":"-"},{"$f":"'Local Controller Data - EXIST'!E27","v":"-"},{"$f":"'Local Controller Data - EXIST'!F27","v":"-"},{"$f":"'Local Controller Data - EXIST'!G27","v":"-"},{"$f":"'Local Controller Data - EXIST'!H27","v":"-"},{"$f":"'Local Controller Data - EXIST'!I27","v":"-"},{"$f":"'Local Controller Data - EXIST'!J27","v":"-"},{"$f":"'Local Controller Data - EXIST'!K27","v":"-"},null,"DELAYED GREEN (LPI) #",null,"(SEC.)",{"$f":"'Local Controller Data - PROP'!D27","v":"-"},{"$f":"'Local Controller Data - PROP'!E27","v":"-"},{"$f":"'Local Controller Data - PROP'!F27","v":"-"},{"$f":"'Local Controller Data - PROP'!G27","v":"-"},{"$f":"'Local Controller Data - PROP'!H27","v":"-"},{"$f":"'Local Controller Data - PROP'!I27","v":"-"},{"$f":"'Local Controller Data - PROP'!J27","v":"-"},{"$f":"'Local Controller Data - PROP'!K27","v":"-"}]
["FLASHING YELLOW ARROW DELAY^",null,"(SEC.)",{"$f":"'Local Controller Data - EXIST'!D28","v":"-"},{"$f":"'Local Controller Data - EXIST'!E28","v":"-"},{"$f":"'Local Controller Data - EXIST'!F28","v":"-"},{"$f":"'Local Controller Data - EXIST'!G28","v":"-"},{"$f":"'Local Controller Data - EXIST'!H28","v":"-"},{"$f":"'Local Controller Data - EXIST'!I28","v":"-"},{"$f":"'Local Controller Data - EXIST'!J28","v":"-"},{"$f":"'Local Controller Data - EXIST'!K28","v":"-"},null,"FLASHING YELLOW ARROW DELAY^",null,"(SEC.)",{"$f":"'Local Controller Data - PROP'!D28","v":"-"},{"$f":"'Local Controller Data - PROP'!E28","v":"-"},{"$f":"'Local Controller Data - PROP'!F28","v":"-"},{"$f":"'Local Controller Data - PROP'!G28","v":"-"},{"$f":"'Local Controller Data - PROP'!H28","v":"-"},{"$f":"'Local Controller Data - PROP'!I28","v":"-"},{"$f":"'Local Controller Data - PROP'!J28","v":"-"},{"$f":"'Local Controller Data - PROP'!K28","v":"-"}]
["WALK",null,"(SEC.)",{"$f":"'Local Controller Data - EXIST'!D29","v":"-"},{"$f":"'Local Controller Data - EXIST'!E29","v":"-"},{"$f":"'Local Controller Data - EXIST'!F29","v":"-"},{"$f":"'Local Controller Data - EXIST'!G29","v":7},{"$f":"'Local Controller Data - EXIST'!H29","v":"-"},{"$f":"'Local Controller Data - EXIST'!I29","v":7},{"$f":"'Local Controller Data - EXIST'!J29","v":"-"},{"$f":"'Local Controller Data - EXIST'!K29","v":"-"},null,"WALK",null,"(SEC.)",{"$f":"'Local Controller Data - PROP'!D29","v":"-"},{"$f":"'Local Controller Data - PROP'!E29","v":"-"},{"$f":"'Local Controller Data - PROP'!F29","v":"-"},{"$f":"'Local Controller Data - PROP'!G29","v":7},{"$f":"'Local Controller Data - PROP'!H29","v":"-"},{"$f":"'Local Controller Data - PROP'!I29","v":10},{"$f":"'Local Controller Data - PROP'!J29","v":"-"},{"$f":"'Local Controller Data - PROP'!K29","v":"-"}]
["PEDESTRIAN CLEARANCE",null,"(SEC.)",{"$f":"'Local Controller Data - EXIST'!D30","v":"-"},{"$f":"'Local Controller Data - EXIST'!E30","v":"-"},{"$f":"'Local Controller Data - EXIST'!F30","v":"-"},{"$f":"'Local Controller Data - EXIST'!G30","v":16},{"$f":"'Local Controller Data - EXIST'!H30","v":"-"},{"$f":"'Local Controller Data - EXIST'!I30","v":24},{"$f":"'Local Controller Data - EXIST'!J30","v":"-"},{"$f":"'Local Controller Data - EXIST'!K30","v":"-"},null,"PEDESTRIAN CLEARANCE",null,"(SEC.)",{"$f":"'Local Controller Data - PROP'!D30","v":"-"},{"$f":"'Local Controller Data - PROP'!E30","v":"-"},{"$f":"'Local Controller Data - PROP'!F30","v":"-"},{"$f":"'Local Controller Data - PROP'!G30","v":11},{"$f":"'Local Controller Data - PROP'!H30","v":"-"},{"$f":"'Local Controller Data - PROP'!I30","v":23},{"$f":"'Local Controller Data - PROP'!J30","v":"-"},{"$f":"'Local Controller Data - PROP'!K30","v":"-"}]
["RECALL","MAXIMUM","(ON/OFF)",{"$f":"'Local Controller Data - EXIST'!D31","v":"NO"},{"$f":"'Local Controller Data - EXIST'!E31","v":"NO"},{"$f":"'Local Controller Data - EXIST'!F31","v":"-"},{"$f":"'Local Controller Data - EXIST'!G31","v":"NO"},{"$f":"'Local Controller Data - EXIST'!H31","v":"NO"},{"$f":"'Local Controller Data - EXIST'!I31","v":"NO"},{"$f":"'Local Controller Data - EXIST'!J31","v":"-"},{"$f":"'Local Controller Data - EXIST'!K31","v":"NO"},null,"RECALL","MAXIMUM","(ON/OFF)",{"$f":"'Local Controller Data - PROP'!D31","v":"NO"},{"$f":"'Local Controller Data - PROP'!E31","v":"NO"},{"$f":"'Local Controller Data - PROP'!F31","v":"-"},{"$f":"'Local Controller Data - PROP'!G31","v":"NO"},{"$f":"'Local Controller Data - PROP'!H31","v":"NO"},{"$f":"'Local Controller Data - PROP'!I31","v":"NO"},{"$f":"'Local Controller Data - PROP'!J31","v":"-"},{"$f":"'Local Controller Data - PROP'!K31","v":"NO"}]
[null,"MINIMUM","(ON/OFF)",{"$f":"'Local Controller Data - EXIST'!D32","v":"NO"},{"$f":"'Local Controller Data - EXIST'!E32","v":"YES"},{"$f":"'Local Controller Data - EXIST'!F32","v":"-"},{"$f":"'Local Controller Data - EXIST'!G32","v":"NO"},{"$f":"'Local Controller Data - EXIST'!H32","v":"NO"},{"$f":"'Local Controller Data - EXIST'!I32","v":"YES"},{"$f":"'Local Controller Data - EXIST'!J32","v":"-"},{"$f":"'Local Controller Data - EXIST'!K32","v":"NO"},null,null,"MINIMUM","(ON/OFF)",{"$f":"'Local Controller Data - PROP'!D32","v":"NO"},{"$f":"'Local Controller Data - PROP'!E32","v":"YES"},{"$f":"'Local Controller Data - PROP'!F32","v":"-"},{"$f":"'Local Controller Data - PROP'!G32","v":"NO"},{"$f":"'Local Controller Data - PROP'!H32","v":"NO"},{"$f":"'Local Controller Data - PROP'!I32","v":"YES"},{"$f":"'Local Controller Data - PROP'!J32","v":"-"},{"$f":"'Local Controller Data - PROP'!K32","v":"NO"}]
[null,"PEDESTRIAN","(ON/OFF)",{"$f":"'Local Controller Data - EXIST'!D33","v":"NO"},{"$f":"'Local Controller Data - EXIST'!E33","v":"NO"},{"$f":"'Local Controller Data - EXIST'!F33","v":"-"},{"$f":"'Local Controller Data - EXIST'!G33","v":"NO"},{"$f":"'Local Controller Data - EXIST'!H33","v":"NO"},{"$f":"'Local Controller Data - EXIST'!I33","v":"NO"},{"$f":"'Local Controller Data - EXIST'!J33","v":"-"},{"$f":"'Local Controller Data - EXIST'!K33","v":"NO"},null,null,"PEDESTRIAN","(ON/OFF)",{"$f":"'Local Controller Data - PROP'!D33","v":"NO"},{"$f":"'Local Controller Data - PROP'!E33","v":"NO"},{"$f":"'Local Controller Data - PROP'!F33","v":"-"},{"$f":"'Local Controller Data - PROP'!G33","v":"NO"},{"$f":"'Local Controller Data - PROP'!H33","v":"NO"},{"$f":"'Local Controller Data - PROP'!I33","v":"NO"},{"$f":"'Local Controller Data - PROP'!J33","v":"-"},{"$f":"'Local Controller Data - PROP'!K33","v":"NO"}]
["MEMORY    ",null,"(ON/OFF)",{"$f":"'Local Controller Data - EXIST'!D34","v":"YES"},{"$f":"'Local Controller Data - EXIST'!E34","v":"YES"},{"$f":"'Local Controller Data - EXIST'!F34","v":"-"},{"$f":"'Local Controller Data - EXIST'!G34","v":"YES"},{"$f":"'Local Controller Data - EXIST'!H34","v":"YES"},{"$f":"'Local Controller Data - EXIST'!I34","v":"YES"},{"$f":"'Local Controller Data - EXIST'!J34","v":"-"},{"$f":"'Local Controller Data - EXIST'!K34","v":"YES"},null,"MEMORY    ",null,"(ON/OFF)",{"$f":"'Local Controller Data - PROP'!D34","v":"YES"},{"$f":"'Local Controller Data - PROP'!E34","v":"YES"},{"$f":"'Local Controller Data - PROP'!F34","v":"-"},{"$f":"'Local Controller Data - PROP'!G34","v":"YES"},{"$f":"'Local Controller Data - PROP'!H34","v":"YES"},{"$f":"'Local Controller Data - PROP'!I34","v":"YES"},{"$f":"'Local Controller Data - PROP'!J34","v":"-"},{"$f":"'Local Controller Data - PROP'!K34","v":"YES"}]
["*VOLUME DENSITY CONTROLS",null,null,null,null,null,null,null,null,null,null,null,"*VOLUME DENSITY CONTROLS"]
["# FOR CROSSINGS WITH PEDESTRIAN PUSHBUTTONS, LPI'S (LEADING PEDESTRIAN INTERVALS) MAY BE IMPLEMENTED (3-6 SEC.) IN ACCORDANCE WITH LPI DURATION TIME PER THE ODOT SIGNAL CALCULATIONS - CLEARANCE INTERVALS SPREADSHEET",null,null,null,null,null,null,null,null,null,null,null,"# FOR CROSSINGS WITH PEDESTRIAN PUSHBUTTONS, LPI'S (LEADING PEDESTRIAN INTERVALS) MAY BE IMPLEMENTED (3-6 SEC.) IN ACCORDANCE WITH LPI DURATION TIME PER THE ODOT SIGNAL CALCULATIONS - CLEARANCE INTERVALS SPREADSHEET"]
[]
[]
["^ WHEN IMPLEMENTING FYA, A MINIMUM 3 SEC. DELAY SHALL BE PROGRAMMED PER FYA PHASE. ",null,null,null,null,null,null,null,null,null,null,null,"^ WHEN IMPLEMENTING FYA, A MINIMUM 3 SEC. DELAY SHALL BE PROGRAMMED PER FYA PHASE. "]
[]
["ECONOLITE COORD SETTINGS",null,null,"SIEMENS COORD SETTINGS",null,null,null,null,null,null,null,null,"ECONOLITE COORD SETTINGS",null,null,"SIEMENS COORD SETTINGS"]
["MANUAL PATTERN",{"$f":"'Local Controller Data - EXIST'!B42","v":"AUTO"},null,"OPERATION",null,null,null,{"$f":"'Local Controller Data - EXIST'!H42:J42","v":"-"},null,null,null,null,"MANUAL PATTERN",{"$f":"'Local Controller Data - PROP'!B42","v":"AUTO"},null,"OPERATION",null,null,null,{"$f":"'Local Controller Data - PROP'!H42","v":"-"}]
["SYSTEM SOURCE",{"$f":"'Local Controller Data - EXIST'!B43","v":"SYS"},null,"MODE (NORMAL)",null,null,null,{"$f":"'Local Controller Data - EXIST'!H43:J43","v":"-"},null,null,null,null,"SYSTEM SOURCE",{"$f":"'Local Controller Data - PROP'!B43","v":"SYS"},null,"MODE (NORMAL)",null,null,null,{"$f":"'Local Controller Data - PROP'!H43","v":"-"}]
["SPLITS IN",{"$f":"'Local Controller Data - EXIST'!B44","v":"SECONDS"},null,"MAXIMUM",null,null,null,{"$f":"'Local Controller Data - EXIST'!H44:J44","v":"-"},null,null,null,null,"SPLITS IN",{"$f":"'Local Controller Data - PROP'!B44","v":"SECONDS"},null,"MAXIMUM",null,null,null,{"$f":"'Local Controller Data - PROP'!H44","v":"-"}]
["TRANSITION",{"$f":"'Local Controller Data - EXIST'!B45","v":"SMOOTH"},null,"CORRECTION",null,null,null,{"$f":"'Local Controller Data - EXIST'!H45:J45","v":"-"},null,null,null,null,"TRANSITION",{"$f":"'Local Controller Data - PROP'!B45","v":"SMOOTH"},null,"CORRECTION",null,null,null,{"$f":"'Local Controller Data - PROP'!H45","v":"-"}]
["DWELL/ADD TIME",{"$f":"'Local Controller Data - EXIST'!B46","v":0},null,"OFFSET MODE",null,null,null,{"$f":"'Local Controller Data - EXIST'!H46:J46","v":"-"},null,null,null,null,"DWELL/ADD TIME",{"$f":"'Local Controller Data - PROP'!B46","v":0},null,"OFFSET MODE",null,null,null,{"$f":"'Local Controller Data - PROP'!H46","v":"-"}]
["OFFSET REFERENCE",{"$f":"'Local Controller Data - EXIST'!B47","v":"YELLOW"},null,"FORCE MODE",null,null,null,{"$f":"'Local Controller Data - EXIST'!H47:J47","v":"-"},null,null,null,null,"OFFSET REFERENCE",{"$f":"'Local Controller Data - PROP'!B47","v":"YELLOW"},null,"FORCE MODE",null,null,null,{"$f":"'Local Controller Data - PROP'!H47","v":"-"}]
["PED RECALL",{"$f":"'Local Controller Data - EXIST'!B48","v":"NO"},null,"MAX DWELL TIME",null,null,null,{"$f":"'Local Controller Data - EXIST'!H48:J48","v":"-"},null,null,null,null,"PED RECALL",{"$f":"'Local Controller Data - PROP'!B48","v":"NO"},null,"MAX DWELL TIME",null,null,null,{"$f":"'Local Controller Data - PROP'!H48","v":"-"}]
["LOCAL ZERO OVERRIDE",{"$f":"'Local Controller Data - EXIST'!B49","v":"NO"},null,"YIELD PERIOD",null,null,null,{"$f":"'Local Controller Data - EXIST'!H49:J49","v":"-"},null,null,null,null,"LOCAL ZERO OVERRIDE",{"$f":"'Local Controller Data - PROP'!B49","v":"NO"},null,"YIELD PERIOD",null,null,null,{"$f":"'Local Controller Data - PROP'!H49","v":"-"}]
["RE-SYNC COUNT",{"$f":"'Local Controller Data - EXIST'!B50","v":0},null,"MANUAL CONTROL: DIAL",null,null,null,{"$f":"'Local Controller Data - EXIST'!H50:J50","v":"-"},null,null,null,null,"RE-SYNC COUNT",{"$f":"'Local Controller Data - PROP'!B50","v":0},null,"MANUAL CONTROL: DIAL",null,null,null,{"$f":"'Local Controller Data - PROP'!H50","v":"-"}]
["ECPI COORD",{"$f":"'Local Controller Data - EXIST'!B51","v":"YES"},null,"MANUAL CONTROL: SPLIT",null,null,null,{"$f":"'Local Controller Data - EXIST'!H51:J51","v":"-"},null,null,null,null,"ECPI COORD",{"$f":"'Local Controller Data - PROP'!B51","v":"YES"},null,"MANUAL CONTROL: SPLIT",null,null,null,{"$f":"'Local Controller Data - PROP'!H51","v":"-"}]
["SYSTEM FORMAT ",{"$f":"'Local Controller Data - EXIST'!B52","v":"STD"},null,"MANUAL CONTROL: OFFSET",null,null,null,{"$f":"'Local Controller Data - EXIST'!H52:J52","v":"-"},null,null,null,null,"SYSTEM FORMAT ",{"$f":"'Local Controller Data - PROP'!B52","v":"STD"},null,"MANUAL CONTROL: OFFSET",null,null,null,{"$f":"'Local Controller Data - PROP'!H52","v":"-"}]
["OFFSET IN",{"$f":"'Local Controller Data - EXIST'!B53","v":"SECONDS"},null,null,null,null,null,null,null,null,null,null,"OFFSET IN",{"$f":"'Local Controller Data - PROP'!B53","v":"SECONDS"}]
["MAX SELECT",{"$f":"'Local Controller Data - EXIST'!B54","v":"MAXINH"},null,null,null,null,null,null,null,null,null,null,"MAX SELECT",{"$f":"'Local Controller Data - PROP'!B54","v":"MAXINH"}]
["FORCE OFF",{"$f":"'Local Controller Data - EXIST'!B55","v":"FLOAT"},null,null,null,null,null,null,null,null,null,null,"FORCE OFF",{"$f":"'Local Controller Data - PROP'!B55","v":"FLOAT"}]
["USE PED TIME",{"$f":"'Local Controller Data - EXIST'!B56","v":"YES"},null,null,null,null,null,null,null,null,null,null,"USE PED TIME",{"$f":"'Local Controller Data - PROP'!B56","v":"YES"}]
["PED RESERVICE",{"$f":"'Local Controller Data - EXIST'!B57","v":"NO"},null,null,null,null,null,null,null,null,null,null,"PED RESERVICE",{"$f":"'Local Controller Data - PROP'!B57","v":"NO"}]
["FO ADD INI GRN",{"$f":"'Local Controller Data - EXIST'!B58","v":"NO"},null,null,null,null,null,null,null,null,null,null,"FO ADD INI GRN",{"$f":"'Local Controller Data - PROP'!B58","v":"NO"}]
["MULTISYNC",{"$f":"'Local Controller Data - EXIST'!B59","v":"NO"},null,null,null,null,null,null,null,"EXISTING TIMING",null,null,"MULTISYNC",{"$f":"'Local Controller Data - PROP'!B59","v":"NO"},null,null,null,null,null,null,null,"PROPOSED TIMING"]
[]
[{"$f":"'Project Name'!$C$2","v":"LOR-254/301 Signal Timing"},null,null,null,null,null,null,null,null,null,null,null,{"$f":"'Project Name'!$C$2","v":"LOR-254/301 Signal Timing"}]
["Existing Local Controller Data",null,null,null,null,null,null,null,null,null,null,null,"Proposed Local Controller Data"]
["INTERSECTION:",null,null,null,null,null,null,null,null,null,null,null,"INTERSECTION:"]
["MAINTAINING AGENCY:",null,null,null,null,null,null,null,null,null,null,null,"MAINTAINING AGENCY:"]
["START UP",null,null,"DUAL ENTRY: ",null,"-","PHASES:",null,"-",null,null,null,"START UP",null,null,"DUAL ENTRY: ",null,"-","PHASES:",null,"-"]
[null,null,null,"REST IN RED: ",null,null,"RING 1","-",null,"RING 2","-",null,null,null,null,"REST IN RED: ",null,null,"RING 1","-",null,"RING 2","-"]
["START IN: ",{"$f":"'Local Controller Data - EXIST'!B69:C69","v":"ALL-RED FLASH"},null,"OVERLAP",null,null,null,"A","B","C","D",null,"START IN: ","-",null,"OVERLAP",null,null,null,"A","B","C","D"]
["TIME FOR FLASH / ALL RED (SEC.):   ",null,"9, 6",null,null,null,null,null,null,null,null,null,"TIME FOR FLASH / ALL RED (SEC.):   ",null,"9, 6"]
["FIRST PHASE(S):",{"$f":"'Local Controller Data - EXIST'!B71:C71","v":"2, 6"},null,"PHASES",null,null,null,{"$f":"'Local Controller Data - EXIST'!H71","v":"-"},{"$f":"'Local Controller Data - EXIST'!I71","v":"-"},{"$f":"'Local Controller Data - EXIST'!J71","v":"-"},{"$f":"'Local Controller Data - EXIST'!K71","v":"-"},null,"FIRST PHASE(S):",{"$f":"'Local Controller Data - PROP'!B71:C71","v":{"$error":"#VALUE!"}},null,"PHASES",null,null,null,{"$f":"'Local Controller Data - PROP'!H71","v":"-"},{"$f":"'Local Controller Data - PROP'!I71","v":"-"},{"$f":"'Local Controller Data - PROP'!J71","v":"-"},{"$f":"'Local Controller Data - PROP'!K71","v":"-"}]
["COLOR DISPLAYED:","-",null,null,null,null,null,null,null,null,null,null,"COLOR DISPLAYED:","-"]
[]
["INTERVAL OR FEATURE",null,null,"CONTROLLER MOVEMENT NO.",null,null,null,null,null,null,null,null,"INTERVAL OR FEATURE",null,null,"CONTROLLER MOVEMENT NO."]
["INTERSECTION MOVEMENT (PHASE)",null,null,1,2,3,4,5,6,7,8,null,"INTERSECTION MOVEMENT (PHASE)",null,null,1,2,3,4,5,6,7,8]
["DIRECTION",null,null,{"$f":"'Local Controller Data - EXIST'!D76","v":"WBL"},{"$f":"'Local Controller Data - EXIST'!E76","v":"EB"},{"$f":"'Local Controller Data - EXIST'!F76","v":"-"},{"$f":"'Local Controller Data - EXIST'!G76","v":"SB"},{"$f":"'Local Controller Data - EXIST'!H76","v":"-"},{"$f":"'Local Controller Data - EXIST'!I76","v":"WB"},{"$f":"'Local Controller Data - EXIST'!J76","v":"-"},{"$f":"'Local Controller Data - EXIST'!K76","v":"-"},null,"DIRECTION",null,null,{"$f":"'Local Controller Data - PROP'!D76","v":"WBL"},{"$f":"'Local Controller Data - PROP'!E76","v":"EB"},{"$f":"'Local Controller Data - PROP'!F76","v":"-"},{"$f":"'Local Controller Data - PROP'!G76","v":"SB"},{"$f":"'Local Controller Data - PROP'!H76","v":"-"},{"$f":"'Local Controller Data - PROP'!I76","v":"WB"},{"$f":"'Local Controller Data - PROP'!J76","v":"-"},{"$f":"'Local Controller Data - PROP'!K76","v":"-"}]
["MINIMUM GREEN (INITIAL) ",null,"(SEC.)",{"$f":"'Local Controller Data - EXIST'!D77","v":10},{"$f":"'Local Controller Data - EXIST'!E77","v":20},{"$f":"'Local Controller Data - EXIST'!F77","v":"-"},{"$f":"'Local Controller Data - EXIST'!G77","v":10},{"$f":"'Local Controller Data - EXIST'!H77","v":"-"},{"$f":"'Local Controller Data - EXIST'!I77","v":20},{"$f":"'Local Controller Data - EXIST'!J77","v":"-"},{"$f":"'Local Controller Data - EXIST'!K77","v":"-"},null,"MINIMUM GREEN (INITIAL) ",null,"(SEC.)",{"$f":"'Local Controller Data - PROP'!D77","v":10},{"$f":"'Local Controller Data - PROP'!E77","v":20},{"$f":"'Local Controller Data - PROP'!F77","v":"-"},{"$f":"'Local Controller Data - PROP'!G77","v":10},{"$f":"'Local Controller Data - PROP'!H77","v":"-"},{"$f":"'Local Controller Data - PROP'!I77","v":20},{"$f":"'Local Controller Data - PROP'!J77","v":"-"},{"$f":"'Local Controller Data - PROP'!K77","v":"-"}]
["ADDED INITIAL","*(SEC./ACTUATION)",null,{"$f":"'Local Controller Data - EXIST'!D78","v":"-"},{"$f":"'Local Controller Data - EXIST'!E78","v":"-"},{"$f":"'Local Controller Data - EXIST'!F78","v":"-"},{"$f":"'Local Controller Data - EXIST'!G78","v":"-"},{"$f":"'Local Controller Data - EXIST'!H78","v":"-"},{"$f":"'Local Controller Data - EXIST'!I78","v":"-"},{"$f":"'Local Controller Data - EXIST'!J78","v":"-"},{"$f":"'Local Controller Data - EXIST'!K78","v":"-"},null,"ADDED INITIAL","*(SEC./ACTUATION)",null,{"$f":"'Local Controller Data - PROP'!D78","v":"-"},{"$f":"'Local Controller Data - PROP'!E78","v":"-"},{"$f":"'Local Controller Data - PROP'!F78","v":"-"},{"$f":"'Local Controller Data - PROP'!G78","v":"-"},{"$f":"'Local Controller Data - PROP'!H78","v":"-"},{"$f":"'Local Controller Data - PROP'!I78","v":"-"},{"$f":"'Local Controller Data - PROP'!J78","v":"-"},{"$f":"'Local Controller Data - PROP'!K78","v":"-"}]
["MAXIMUM INITIAL",null,"*(SEC.)",{"$f":"'Local Controller Data - EXIST'!D79","v":"-"},{"$f":"'Local Controller Data - EXIST'!E79","v":"-"},{"$f":"'Local Controller Data - EXIST'!F79","v":"-"},{"$f":"'Local Controller Data - EXIST'!G79","v":"-"},{"$f":"'Local Controller Data - EXIST'!H79","v":"-"},{"$f":"'Local Controller Data - EXIST'!I79","v":"-"},{"$f":"'Local Controller Data - EXIST'!J79","v":"-"},{"$f":"'Local Controller Data - EXIST'!K79","v":"-"},null,"MAXIMUM INITIAL",null,"*(SEC.)",{"$f":"'Local Controller Data - PROP'!D79","v":"-"},{"$f":"'Local Controller Data - PROP'!E79","v":"-"},{"$f":"'Local Controller Data - PROP'!F79","v":"-"},{"$f":"'Local Controller Data - PROP'!G79","v":"-"},{"$f":"'Local Controller Data - PROP'!H79","v":"-"},{"$f":"'Local Controller Data - PROP'!I79","v":"-"},{"$f":"'Local Controller Data - PROP'!J79","v":"-"},{"$f":"'Local Controller Data - PROP'!K79","v":"-"}]
["PASSAGE TIME (PRESET GAP)",null,"(SEC.)",{"$f":"'Local Controller Data - EXIST'!D80","v":1},{"$f":"'Local Controller Data - EXIST'!E80","v":1},{"$f":"'Local Controller Data - EXIST'!F80","v":"-"},{"$f":"'Local Controller Data - EXIST'!G80","v":1},{"$f":"'Local Controller Data - EXIST'!H80","v":"-"},{"$f":"'Local Controller Data - EXIST'!I80","v":1},{"$f":"'Local Controller Data - EXIST'!J80","v":"-"},{"$f":"'Local Controller Data - EXIST'!K80","v":"-"},null,"PASSAGE TIME (PRESET GAP)",null,"(SEC.)",{"$f":"'Local Controller Data - PROP'!D80","v":3},{"$f":"'Local Controller Data - PROP'!E80","v":3},{"$f":"'Local Controller Data - PROP'!F80","v":"-"},{"$f":"'Local Controller Data - PROP'!G80","v":3},{"$f":"'Local Controller Data - PROP'!H80","v":"-"},{"$f":"'Local Controller Data - PROP'!I80","v":3},{"$f":"'Local Controller Data - PROP'!J80","v":"-"},{"$f":"'Local Controller Data - PROP'!K80","v":"-"}]
["TIME BEFORE REDUCTION",null,"*(SEC.)",{"$f":"'Local Controller Data - EXIST'!D81","v":"-"},{"$f":"'Local Controller Data - EXIST'!E81","v":"-"},{"$f":"'Local Controller Data - EXIST'!F81","v":"-"},{"$f":"'Local Controller Data - EXIST'!G81","v":"-"},{"$f":"'Local Controller Data - EXIST'!H81","v":"-"},{"$f":"'Local Controller Data - EXIST'!I81","v":"-"},{"$f":"'Local Controller Data - EXIST'!J81","v":"-"},{"$f":"'Local Controller Data - EXIST'!K81","v":"-"},null,"TIME BEFORE REDUCTION",null,"*(SEC.)",{"$f":"'Local Controller Data - PROP'!D81","v":"-"},{"$f":"'Local Controller Data - PROP'!E81","v":"-"},{"$f":"'Local Controller Data - PROP'!F81","v":"-"},{"$f":"'Local Controller Data - PROP'!G81","v":"-"},{"$f":"'Local Controller Data - PROP'!H81","v":"-"},{"$f":"'Local Controller Data - PROP'!I81","v":"-"},{"$f":"'Local Controller Data - PROP'!J81","v":"-"},{"$f":"'Local Controller Data - PROP'!K81","v":"-"}]
["MINIMUM GAP",null,"*(SEC.)",{"$f":"'Local Controller Data - EXIST'!D82","v":"-"},{"$f":"'Local Controller Data - EXIST'!E82","v":"-"},{"$f":"'Local Controller Data - EXIST'!F82","v":"-"},{"$f":"'Local Controller Data - EXIST'!G82","v":"-"},{"$f":"'Local Controller Data - EXIST'!H82","v":"-"},{"$f":"'Local Controller Data - EXIST'!I82","v":"-"},{"$f":"'Local Controller Data - EXIST'!J82","v":"-"},{"$f":"'Local Controller Data - EXIST'!K82","v":"-"},null,"MINIMUM GAP",null,"*(SEC.)",{"$f":"'Local Controller Data - PROP'!D82","v":"-"},{"$f":"'Local Controller Data - PROP'!E82","v":"-"},{"$f":"'Local Controller Data - PROP'!F82","v":"-"},{"$f":"'Local Controller Data - PROP'!G82","v":"-"},{"$f":"'Local Controller Data - PROP'!H82","v":"-"},{"$f":"'Local Controller Data - PROP'!I82","v":"-"},{"$f":"'Local Controller Data - PROP'!J82","v":"-"},{"$f":"'Local Controller Data - PROP'!K82","v":"-"}]
["TIME TO REDUCE",null,"*(SEC.)",{"$f":"'Local Controller Data - EXIST'!D83","v":"-"},{"$f":"'Local Controller Data - EXIST'!E83","v":"-"},{"$f":"'Local Controller Data - EXIST'!F83","v":"-"},{"$f":"'Local Controller Data - EXIST'!G83","v":"-"},{"$f":"'Local Controller Data - EXIST'!H83","v":"-"},{"$f":"'Local Controller Data - EXIST'!I83","v":"-"},{"$f":"'Local Controller Data - EXIST'!J83","v":"-"},{"$f":"'Local Controller Data - EXIST'!K83","v":"-"},null,"TIME TO REDUCE",null,"*(SEC.)",{"$f":"'Local Controller Data - PROP'!D83","v":"-"},{"$f":"'Local Controller Data - PROP'!E83","v":"-"},{"$f":"'Local Controller Data - PROP'!F83","v":"-"},{"$f":"'Local Controller Data - PROP'!G83","v":"-"},{"$f":"'Local Controller Data - PROP'!H83","v":"-"},{"$f":"'Local Controller Data - PROP'!I83","v":"-"},{"$f":"'Local Controller Data - PROP'!J83","v":"-"},{"$f":"'Local Controller Data - PROP'!K83","v":"-"}]
["MAXIMUM GREEN I",null,"(SEC.)",{"$f":"'Local Controller Data - EXIST'!D84","v":15},{"$f":"'Local Controller Data - EXIST'!E84","v":60},{"$f":"'Local Controller Data - EXIST'!F84","v":"-"},{"$f":"'Local Controller Data - EXIST'!G84","v":40},{"$f":"'Local Controller Data - EXIST'!H84","v":"-"},{"$f":"'Local Controller Data - EXIST'!I84","v":60},{"$f":"'Local Controller Data - EXIST'!J84","v":"-"},{"$f":"'Local Controller Data - EXIST'!K84","v":"-"},null,"MAXIMUM GREEN I",null,"(SEC.)",{"$f":"'Local Controller Data - PROP'!D84","v":15},{"$f":"'Local Controller Data - PROP'!E84","v":60},{"$f":"'Local Controller Data - PROP'!F84","v":"-"},{"$f":"'Local Controller Data - PROP'!G84","v":40},{"$f":"'Local Controller Data - PROP'!H84","v":"-"},{"$f":"'Local Controller Data - PROP'!I84","v":60},{"$f":"'Local Controller Data - PROP'!J84","v":"-"},{"$f":"'Local Controller Data - PROP'!K84","v":"-"}]
["MAXIMUM GREEN II",null,"(SEC.)",{"$f":"'Local Controller Data - EXIST'!D85","v":15},{"$f":"'Local Controller Data - EXIST'!E85","v":60},{"$f":"'Local Controller Data - EXIST'!F85","v":"-"},{"$f":"'Local Controller Data - EXIST'!G85","v":40},{"$f":"'Local Controller Data - EXIST'!H85","v":"-"},{"$f":"'Local Controller Data - EXIST'!I85","v":60},{"$f":"'Local Controller Data - EXIST'!J85","v":"-"},{"$f":"'Local Controller Data - EXIST'!K85","v":"-"},null,"MAXIMUM GREEN II",null,"(SEC.)",{"$f":"'Local Controller Data - PROP'!D85","v":15},{"$f":"'Local Controller Data - PROP'!E85","v":60},{"$f":"'Local Controller Data - PROP'!F85","v":"-"},{"$f":"'Local Controller Data - PROP'!G85","v":40},{"$f":"'Local Controller Data - PROP'!H85","v":"-"},{"$f":"'Local Controller Data - PROP'!I85","v":60},{"$f":"'Local Controller Data - PROP'!J85","v":"-"},{"$f":"'Local Controller Data - PROP'!K85","v":"-"}]
["YELLOW CHANGE",null,"(SEC.)",{"$f":"'Local Controller Data - EXIST'!D86","v":3.2},{"$f":"'Local Controller Data - EXIST'!E86","v":4.0999999999999996},{"$f":"'Local Controller Data - EXIST'!F86","v":"-"},{"$f":"'Local Controller Data - EXIST'!G86","v":3.7},{"$f":"'Local Controller Data - EXIST'!H86","v":"-"},{"$f":"'Local Controller Data - EXIST'!I86","v":4.0999999999999996},{"$f":"'Local Controller Data - EXIST'!J86","v":"-"},{"$f":"'Local Controller Data - EXIST'!K86","v":"-"},null,"YELLOW CHANGE",null,"(SEC.)",{"$f":"'Local Controller Data - PROP'!D86","v":3.1},{"$f":"'Local Controller Data - PROP'!E86","v":4.2},{"$f":"'Local Controller Data - PROP'!F86","v":"-"},{"$f":"'Local Controller Data - PROP'!G86","v":3.6},{"$f":"'Local Controller Data - PROP'!H86","v":"-"},{"$f":"'Local Controller Data - PROP'!I86","v":4.2},{"$f":"'Local Controller Data - PROP'!J86","v":"-"},{"$f":"'Local Controller Data - PROP'!K86","v":"-"}]
["ALL RED CLEARANCE",null,"(SEC.)",{"$f":"'Local Controller Data - EXIST'!D87","v":2},{"$f":"'Local Controller Data - EXIST'!E87","v":1},{"$f":"'Local Controller Data - EXIST'!F87","v":"-"},{"$f":"'Local Controller Data - EXIST'!G87","v":1},{"$f":"'Local Controller Data - EXIST'!H87","v":"-"},{"$f":"'Local Controller Data - EXIST'!I87","v":1},{"$f":"'Local Controller Data - EXIST'!J87","v":"-"},{"$f":"'Local Controller Data - EXIST'!K87","v":"-"},null,"ALL RED CLEARANCE",null,"(SEC.)",{"$f":"'Local Controller Data - PROP'!D87","v":2.1},{"$f":"'Local Controller Data - PROP'!E87","v":1},{"$f":"'Local Controller Data - PROP'!F87","v":"-"},{"$f":"'Local Controller Data - PROP'!G87","v":2.4},{"$f":"'Local Controller Data - PROP'!H87","v":"-"},{"$f":"'Local Controller Data - PROP'!I87","v":1},{"$f":"'Local Controller Data - PROP'!J87","v":"-"},{"$f":"'Local Controller Data - PROP'!K87","v":"-"}]
["DELAYED GREEN (LPI) #",null,"(SEC.)",{"$f":"'Local Controller Data - EXIST'!D88","v":"-"},{"$f":"'Local Controller Data - EXIST'!E88","v":"-"},{"$f":"'Local Controller Data - EXIST'!F88","v":"-"},{"$f":"'Local Controller Data - EXIST'!G88","v":"-"},{"$f":"'Local Controller Data - EXIST'!H88","v":"-"},{"$f":"'Local Controller Data - EXIST'!I88","v":"-"},{"$f":"'Local Controller Data - EXIST'!J88","v":"-"},{"$f":"'Local Controller Data - EXIST'!K88","v":"-"},null,"DELAYED GREEN (LPI) #",null,"(SEC.)",{"$f":"'Local Controller Data - PROP'!D88","v":"-"},{"$f":"'Local Controller Data - PROP'!E88","v":"-"},{"$f":"'Local Controller Data - PROP'!F88","v":"-"},{"$f":"'Local Controller Data - PROP'!G88","v":"-"},{"$f":"'Local Controller Data - PROP'!H88","v":"-"},{"$f":"'Local Controller Data - PROP'!I88","v":"-"},{"$f":"'Local Controller Data - PROP'!J88","v":"-"},{"$f":"'Local Controller Data - PROP'!K88","v":"-"}]
["FLASHING YELLOW ARROW DELAY^",null,"(SEC.)",{"$f":"'Local Controller Data - EXIST'!D89","v":"-"},{"$f":"'Local Controller Data - EXIST'!E89","v":"-"},{"$f":"'Local Controller Data - EXIST'!F89","v":"-"},{"$f":"'Local Controller Data - EXIST'!G89","v":"-"},{"$f":"'Local Controller Data - EXIST'!H89","v":"-"},{"$f":"'Local Controller Data - EXIST'!I89","v":"-"},{"$f":"'Local Controller Data - EXIST'!J89","v":"-"},{"$f":"'Local Controller Data - EXIST'!K89","v":"-"},null,"FLASHING YELLOW ARROW DELAY^",null,"(SEC.)",{"$f":"'Local Controller Data - PROP'!D89","v":"-"},{"$f":"'Local Controller Data - PROP'!E89","v":"-"},{"$f":"'Local Controller Data - PROP'!F89","v":"-"},{"$f":"'Local Controller Data - PROP'!G89","v":"-"},{"$f":"'Local Controller Data - PROP'!H89","v":"-"},{"$f":"'Local Controller Data - PROP'!I89","v":"-"},{"$f":"'Local Controller Data - PROP'!J89","v":"-"},{"$f":"'Local Controller Data - PROP'!K89","v":"-"}]
["WALK",null,"(SEC.)",{"$f":"'Local Controller Data - EXIST'!D90","v":"-"},{"$f":"'Local Controller Data - EXIST'!E90","v":"-"},{"$f":"'Local Controller Data - EXIST'!F90","v":"-"},{"$f":"'Local Controller Data - EXIST'!G90","v":"-"},{"$f":"'Local Controller Data - EXIST'!H90","v":"-"},{"$f":"'Local Controller Data - EXIST'!I90","v":"-"},{"$f":"'Local Controller Data - EXIST'!J90","v":"-"},{"$f":"'Local Controller Data - EXIST'!K90","v":"-"},null,"WALK",null,"(SEC.)",{"$f":"'Local Controller Data - PROP'!D90","v":"-"},{"$f":"'Local Controller Data - PROP'!E90","v":"-"},{"$f":"'Local Controller Data - PROP'!F90","v":"-"},{"$f":"'Local Controller Data - PROP'!G90","v":"-"},{"$f":"'Local Controller Data - PROP'!H90","v":"-"},{"$f":"'Local Controller Data - PROP'!I90","v":"-"},{"$f":"'Local Controller Data - PROP'!J90","v":"-"},{"$f":"'Local Controller Data - PROP'!K90","v":"-"}]
["PEDESTRIAN CLEARANCE",null,"(SEC.)",{"$f":"'Local Controller Data - EXIST'!D91","v":"-"},{"$f":"'Local Controller Data - EXIST'!E91","v":"-"},{"$f":"'Local Controller Data - EXIST'!F91","v":"-"},{"$f":"'Local Controller Data - EXIST'!G91","v":"-"},{"$f":"'Local Controller Data - EXIST'!H91","v":"-"},{"$f":"'Local Controller Data - EXIST'!I91","v":"-"},{"$f":"'Local Controller Data - EXIST'!J91","v":"-"},{"$f":"'Local Controller Data - EXIST'!K91","v":"-"},null,"PEDESTRIAN CLEARANCE",null,"(SEC.)",{"$f":"'Local Controller Data - PROP'!D91","v":"-"},{"$f":"'Local Controller Data - PROP'!E91","v":"-"},{"$f":"'Local Controller Data - PROP'!F91","v":"-"},{"$f":"'Local Controller Data - PROP'!G91","v":"-"},{"$f":"'Local Controller Data - PROP'!H91","v":"-"},{"$f":"'Local Controller Data - PROP'!I91","v":"-"},{"$f":"'Local Controller Data - PROP'!J91","v":"-"},{"$f":"'Local Controller Data - PROP'!K91","v":"-"}]
["RECALL","MAXIMUM","(ON/OFF)",{"$f":"'Local Controller Data - EXIST'!D92","v":"NO"},{"$f":"'Local Controller Data - EXIST'!E92","v":"NO"},{"$f":"'Local Controller Data - EXIST'!F92","v":"-"},{"$f":"'Local Controller Data - EXIST'!G92","v":"NO"},{"$f":"'Local Controller Data - EXIST'!H92","v":"-"},{"$f":"'Local Controller Data - EXIST'!I92","v":"NO"},{"$f":"'Local Controller Data - EXIST'!J92","v":"-"},{"$f":"'Local Controller Data - EXIST'!K92","v":"-"},null,"RECALL","MAXIMUM","(ON/OFF)",{"$f":"'Local Controller Data - PROP'!D92","v":"NO"},{"$f":"'Local Controller Data - PROP'!E92","v":"NO"},{"$f":"'Local Controller Data - PROP'!F92","v":"-"},{"$f":"'Local Controller Data - PROP'!G92","v":"NO"},{"$f":"'Local Controller Data - PROP'!H92","v":"-"},{"$f":"'Local Controller Data - PROP'!I92","v":"NO"},{"$f":"'Local Controller Data - PROP'!J92","v":"-"},{"$f":"'Local Controller Data - PROP'!K92","v":"-"}]
[null,"MINIMUM","(ON/OFF)",{"$f":"'Local Controller Data - EXIST'!D93","v":"NO"},{"$f":"'Local Controller Data - EXIST'!E93","v":"YES"},{"$f":"'Local Controller Data - EXIST'!F93","v":"-"},{"$f":"'Local Controller Data - EXIST'!G93","v":"NO"},{"$f":"'Local Controller Data - EXIST'!H93","v":"-"},{"$f":"'Local Controller Data - EXIST'!I93","v":"YES"},{"$f":"'Local Controller Data - EXIST'!J93","v":"-"},{"$f":"'Local Controller Data - EXIST'!K93","v":"-"},null,null,"MINIMUM","(ON/OFF)",{"$f":"'Local Controller Data - PROP'!D93","v":"NO"},{"$f":"'Local Controller Data - PROP'!E93","v":"YES"},{"$f":"'Local Controller Data - PROP'!F93","v":"-"},{"$f":"'Local Controller Data - PROP'!G93","v":"NO"},{"$f":"'Local Controller Data - PROP'!H93","v":"-"},{"$f":"'Local Controller Data - PROP'!I93","v":"YES"},{"$f":"'Local Controller Data - PROP'!J93","v":"-"},{"$f":"'Local Controller Data - PROP'!K93","v":"-"}]
[null,"PEDESTRIAN","(ON/OFF)",{"$f":"'Local Controller Data - EXIST'!D94","v":"NO"},{"$f":"'Local Controller Data - EXIST'!E94","v":"NO"},{"$f":"'Local Controller Data - EXIST'!F94","v":"-"},{"$f":"'Local Controller Data - EXIST'!G94","v":"NO"},{"$f":"'Local Controller Data - EXIST'!H94","v":"-"},{"$f":"'Local Controller Data - EXIST'!I94","v":"NO"},{"$f":"'Local Controller Data - EXIST'!J94","v":"-"},{"$f":"'Local Controller Data - EXIST'!K94","v":"-"},null,null,"PEDESTRIAN","(ON/OFF)",{"$f":"'Local Controller Data - PROP'!D94","v":"NO"},{"$f":"'Local Controller Data - PROP'!E94","v":"NO"},{"$f":"'Local Controller Data - PROP'!F94","v":"-"},{"$f":"'Local Controller Data - PROP'!G94","v":"NO"},{"$f":"'Local Controller Data - PROP'!H94","v":"-"},{"$f":"'Local Controller Data - PROP'!I94","v":"NO"},{"$f":"'Local Controller Data - PROP'!J94","v":"-"},{"$f":"'Local Controller Data - PROP'!K94","v":"-"}]
["MEMORY    ",null,"(ON/OFF)",{"$f":"'Local Controller Data - EXIST'!D95","v":"NO"},{"$f":"'Local Controller Data - EXIST'!E95","v":"YES"},{"$f":"'Local Controller Data - EXIST'!F95","v":"-"},{"$f":"'Local Controller Data - EXIST'!G95","v":"NO"},{"$f":"'Local Controller Data - EXIST'!H95","v":"-"},{"$f":"'Local Controller Data - EXIST'!I95","v":"YES"},{"$f":"'Local Controller Data - EXIST'!J95","v":"-"},{"$f":"'Local Controller Data - EXIST'!K95","v":"-"},null,"MEMORY    ",null,"(ON/OFF)",{"$f":"'Local Controller Data - PROP'!D95","v":"NO"},{"$f":"'Local Controller Data - PROP'!E95","v":"YES"},{"$f":"'Local Controller Data - PROP'!F95","v":"-"},{"$f":"'Local Controller Data - PROP'!G95","v":"NO"},{"$f":"'Local Controller Data - PROP'!H95","v":"-"},{"$f":"'Local Controller Data - PROP'!I95","v":"YES"},{"$f":"'Local Controller Data - PROP'!J95","v":"-"},{"$f":"'Local Controller Data - PROP'!K95","v":"-"}]
["*VOLUME DENSITY CONTROLS",null,null,null,null,null,null,null,null,null,null,null,"*VOLUME DENSITY CONTROLS"]
["# FOR CROSSINGS WITH PEDESTRIAN PUSHBUTTONS, LPI'S (LEADING PEDESTRIAN INTERVALS) MAY BE IMPLEMENTED (3-6 SEC.) IN ACCORDANCE WITH LPI DURATION TIME PER THE ODOT SIGNAL CALCULATIONS - CLEARANCE INTERVALS SPREADSHEET",null,null,null,null,null,null,null,null,null,null,null,"# FOR CROSSINGS WITH PEDESTRIAN PUSHBUTTONS, LPI'S (LEADING PEDESTRIAN INTERVALS) MAY BE IMPLEMENTED (3-6 SEC.) IN ACCORDANCE WITH LPI DURATION TIME PER THE ODOT SIGNAL CALCULATIONS - CLEARANCE INTERVALS SPREADSHEET"]
[]
[]
["^ WHEN IMPLEMENTING FYA, A MINIMUM 3 SEC. DELAY SHALL BE PROGRAMMED PER FYA PHASE. ",null,null,null,null,null,null,null,null,null,null,null,"^ WHEN IMPLEMENTING FYA, A MINIMUM 3 SEC. DELAY SHALL BE PROGRAMMED PER FYA PHASE. "]
[]
["ECONOLITE COORD SETTINGS",null,null,"SIEMENS COORD SETTINGS",null,null,null,null,null,null,null,null,"ECONOLITE COORD SETTINGS",null,null,"SIEMENS COORD SETTINGS"]
["MANUAL PATTERN",{"$f":"'Local Controller Data - EXIST'!B103","v":"AUTO"},null,"OPERATION",null,null,null,"-",null,null,null,null,"MANUAL PATTERN",{"$f":"'Local Controller Data - PROP'!B103","v":"AUTO"},null,"OPERATION",null,null,null,"-"]
["SYSTEM SOURCE",{"$f":"'Local Controller Data - EXIST'!B104","v":"TBC"},null,"MODE (NORMAL)",null,null,null,"-",null,null,null,null,"SYSTEM SOURCE",{"$f":"'Local Controller Data - PROP'!B104","v":"TBC"},null,"MODE (NORMAL)",null,null,null,"-"]
["SPLITS IN",{"$f":"'Local Controller Data - EXIST'!B105","v":"SECONDS"},null,"MAXIMUM",null,null,null,"-",null,null,null,null,"SPLITS IN",{"$f":"'Local Controller Data - PROP'!B105","v":"SECONDS"},null,"MAXIMUM",null,null,null,"-"]
["TRANSITION",{"$f":"'Local Controller Data - EXIST'!B106","v":"SMOOTH"},null,"CORRECTION",null,null,null,"-",null,null,null,null,"TRANSITION",{"$f":"'Local Controller Data - PROP'!B106","v":"SMOOTH"},null,"CORRECTION",null,null,null,"-"]
["DWELL/ADD TIME",{"$f":"'Local Controller Data - EXIST'!B107","v":0},null,"OFFSET MODE",null,null,null,"-",null,null,null,null,"DWELL/ADD TIME",{"$f":"'Local Controller Data - PROP'!B107","v":0},null,"OFFSET MODE",null,null,null,"-"]
["OFFSET REFERENCE",{"$f":"'Local Controller Data - EXIST'!B108","v":"YELLOW"},null,"FORCE MODE",null,null,null,"-",null,null,null,null,"OFFSET REFERENCE",{"$f":"'Local Controller Data - PROP'!B108","v":"YELLOW"},null,"FORCE MODE",null,null,null,"-"]
["PED RECALL",{"$f":"'Local Controller Data - EXIST'!B109","v":"NO"},null,"MAX DWELL TIME",null,null,null,"-",null,null,null,null,"PED RECALL",{"$f":"'Local Controller Data - PROP'!B109","v":"NO"},null,"MAX DWELL TIME",null,null,null,"-"]
["LOCAL ZERO OVERRIDE",{"$f":"'Local Controller Data - EXIST'!B110","v":"NO"},null,"YIELD PERIOD",null,null,null,"-",null,null,null,null,"LOCAL ZERO OVERRIDE",{"$f":"'Local Controller Data - PROP'!B110","v":"NO"},null,"YIELD PERIOD",null,null,null,"-"]
["RE-SYNC COUNT",{"$f":"'Local Controller Data - EXIST'!B111","v":0},null,"MANUAL CONTROL: DIAL",null,null,null,"-",null,null,null,null,"RE-SYNC COUNT",{"$f":"'Local Controller Data - PROP'!B111","v":0},null,"MANUAL CONTROL: DIAL",null,null,null,"-"]
["ECPI COORD",{"$f":"'Local Controller Data - EXIST'!B112","v":"YES"},null,"MANUAL CONTROL: SPLIT",null,null,null,"-",null,null,null,null,"ECPI COORD",{"$f":"'Local Controller Data - PROP'!B112","v":"YES"},null,"MANUAL CONTROL: SPLIT",null,null,null,"-"]
["SYSTEM FORMAT ",{"$f":"'Local Controller Data - EXIST'!B113","v":"STD"},null,"MANUAL CONTROL: OFFSET",null,null,null,"-",null,null,null,null,"SYSTEM FORMAT ",{"$f":"'Local Controller Data - PROP'!B113","v":"STD"},null,"MANUAL CONTROL: OFFSET",null,null,null,"-"]
["OFFSET IN",{"$f":"'Local Controller Data - EXIST'!B114","v":"SECONDS"},null,null,null,null,null,null,null,null,null,null,"OFFSET IN",{"$f":"'Local Controller Data - PROP'!B114","v":"SECONDS"}]
["MAX SELECT",{"$f":"'Local Controller Data - EXIST'!B115","v":"MAXINH"},null,null,null,null,null,null,null,null,null,null,"MAX SELECT",{"$f":"'Local Controller Data - PROP'!B115","v":"MAXINH"}]
["FORCE OFF",{"$f":"'Local Controller Data - EXIST'!B116","v":"FLOAT"},null,null,null,null,null,null,null,null,null,null,"FORCE OFF",{"$f":"'Local Controller Data - PROP'!B116","v":"FLOAT"}]
["USE PED TIME",{"$f":"'Local Controller Data - EXIST'!B117","v":"YES"},null,null,null,null,null,null,null,null,null,null,"USE PED TIME",{"$f":"'Local Controller Data - PROP'!B117","v":"YES"}]
["PED RESERVICE",{"$f":"'Local Controller Data - EXIST'!B118","v":"NO"},null,null,null,null,null,null,null,null,null,null,"PED RESERVICE",{"$f":"'Local Controller Data - PROP'!B118","v":"NO"}]
["FO ADD INI GRN",{"$f":"'Local Controller Data - EXIST'!B119","v":"NO"},null,null,null,null,null,null,null,null,null,null,"FO ADD INI GRN",{"$f":"'Local Controller Data - PROP'!B119","v":"NO"}]
["MULTISYNC",{"$f":"'Local Controller Data - EXIST'!B120","v":"NO"},null,null,null,null,null,null,null,"EXISTING TIMING",null,null,"MULTISYNC",{"$f":"'Local Controller Data - PROP'!B120","v":"NO"},null,null,null,null,null,null,null,"PROPOSED TIMING"]
[]
[{"$f":"'Project Name'!$C$2","v":"LOR-254/301 Signal Timing"},null,null,null,null,null,null,null,null,null,null,null,{"$f":"'Project Name'!$C$2","v":"LOR-254/301 Signal Timing"}]
["Existing Local Controller Data",null,null,null,null,null,null,null,null,null,null,null,"Proposed Local Controller Data"]
["INTERSECTION:",null,null,null,null,null,null,null,null,null,null,null,"INTERSECTION:"]
["MAINTAINING AGENCY:",null,null,null,null,null,null,null,null,null,null,null,"MAINTAINING AGENCY:"]
["START UP",null,null,"DUAL ENTRY: ",null,"-","PHASES:",null,{"$f":"'Local Controller Data - EXIST'!I127:K127","v":"2, 6, 8"},null,null,null,"START UP",null,null,"DUAL ENTRY: ",null,"-","PHASES:",null,"-"]
[null,null,null,"REST IN RED: ",null,null,"RING 1","-",null,"RING 2","-",null,null,null,null,"REST IN RED: ",null,null,"RING 1","-",null,"RING 2","-"]
["START IN: ",{"$f":"'Local Controller Data - EXIST'!B129:C129","v":"ALL-RED FLASH"},null,"OVERLAP",null,null,null,"A","B","C","D",null,"START IN: ","-",null,"OVERLAP",null,null,null,"A","B","C","D"]
["TIME FOR FLASH / ALL RED (SEC.):   ",null,"9, 6",null,null,null,null,null,null,null,null,null,"TIME FOR FLASH / ALL RED (SEC.):   ",null,"9, 6"]
["FIRST PHASE(S):",{"$f":"'Local Controller Data - EXIST'!B131:C131","v":"2, 6"},null,"PHASES",null,null,null,{"$f":"'Local Controller Data - EXIST'!H131","v":"-"},{"$f":"'Local Controller Data - EXIST'!I131","v":"-"},{"$f":"'Local Controller Data - EXIST'!J131","v":"-"},{"$f":"'Local Controller Data - EXIST'!K131","v":"-"},null,"FIRST PHASE(S):",{"$f":"'Local Controller Data - PROP'!B131:C131","v":{"$error":"#VALUE!"}},null,"PHASES",null,null,null,{"$f":"'Local Controller Data - PROP'!H131","v":"-"},{"$f":"'Local Controller Data - PROP'!I131","v":"-"},{"$f":"'Local Controller Data - PROP'!J131","v":"-"},{"$f":"'Local Controller Data - PROP'!K131","v":"-"}]
["COLOR DISPLAYED:","-",null,null,null,null,null,null,null,null,null,null,"COLOR DISPLAYED:","-"]
["INTERVAL OR FEATURE",null,null,"CONTROLLER MOVEMENT NO.",null,null,null,null,null,null,null,null,"INTERVAL OR FEATURE",null,null,"CONTROLLER MOVEMENT NO."]
["INTERSECTION MOVEMENT (PHASE)",null,null,1,2,3,4,5,6,7,8,null,"INTERSECTION MOVEMENT (PHASE)",null,null,1,2,3,4,5,6,7,8]
["DIRECTION",null,null,{"$f":"'Local Controller Data - EXIST'!D136","v":"-"},{"$f":"'Local Controller Data - EXIST'!E136","v":"EBT"},{"$f":"'Local Controller Data - EXIST'!F136","v":"-"},{"$f":"'Local Controller Data - EXIST'!G136","v":"-"},{"$f":"'Local Controller Data - EXIST'!H136","v":"EBL"},{"$f":"'Local Controller Data - EXIST'!I136","v":"WBT"},{"$f":"'Local Controller Data - EXIST'!J136","v":"-"},{"$f":"'Local Controller Data - EXIST'!K136","v":"NBT"},null,"DIRECTION",null,null,{"$f":"'Local Controller Data - PROP'!D136","v":"-"},{"$f":"'Local Controller Data - PROP'!E136","v":"EBT"},{"$f":"'Local Controller Data - PROP'!F136","v":"-"},{"$f":"'Local Controller Data - PROP'!G136","v":"-"},{"$f":"'Local Controller Data - PROP'!H136","v":"EBL"},{"$f":"'Local Controller Data - PROP'!I136","v":"WBT"},{"$f":"'Local Controller Data - PROP'!J136","v":"-"},{"$f":"'Local Controller Data - PROP'!K136","v":"NBT"}]
["MINIMUM GREEN (INITIAL) ",null,"(SEC.)",{"$f":"'Local Controller Data - EXIST'!D137","v":"-"},{"$f":"'Local Controller Data - EXIST'!E137","v":20},{"$f":"'Local Controller Data - EXIST'!F137","v":"-"},{"$f":"'Local Controller Data - EXIST'!G137","v":"-"},{"$f":"'Local Controller Data - EXIST'!H137","v":7},{"$f":"'Local Controller Data - EXIST'!I137","v":20},{"$f":"'Local Controller Data - EXIST'!J137","v":"-"},{"$f":"'Local Controller Data - EXIST'!K137","v":10},null,"MINIMUM GREEN (INITIAL) ",null,"(SEC.)",{"$f":"'Local Controller Data - PROP'!D137","v":"-"},{"$f":"'Local Controller Data - PROP'!E137","v":20},{"$f":"'Local Controller Data - PROP'!F137","v":"-"},{"$f":"'Local Controller Data - PROP'!G137","v":"-"},{"$f":"'Local Controller Data - PROP'!H137","v":10},{"$f":"'Local Controller Data - PROP'!I137","v":20},{"$f":"'Local Controller Data - PROP'!J137","v":"-"},{"$f":"'Local Controller Data - PROP'!K137","v":10}]
["ADDED INITIAL","*(SEC./ACTUATION)",null,{"$f":"'Local Controller Data - EXIST'!D138","v":"-"},{"$f":"'Local Controller Data - EXIST'!E138","v":"-"},{"$f":"'Local Controller Data - EXIST'!F138","v":"-"},{"$f":"'Local Controller Data - EXIST'!G138","v":"-"},{"$f":"'Local Controller Data - EXIST'!H138","v":"-"},{"$f":"'Local Controller Data - EXIST'!I138","v":"-"},{"$f":"'Local Controller Data - EXIST'!J138","v":"-"},{"$f":"'Local Controller Data - EXIST'!K138","v":"-"},null,"ADDED INITIAL","*(SEC./ACTUATION)",null,{"$f":"'Local Controller Data - PROP'!D138","v":"-"},{"$f":"'Local Controller Data - PROP'!E138","v":"-"},{"$f":"'Local Controller Data - PROP'!F138","v":"-"},{"$f":"'Local Controller Data - PROP'!G138","v":"-"},{"$f":"'Local Controller Data - PROP'!H138","v":"-"},{"$f":"'Local Controller Data - PROP'!I138","v":"-"},{"$f":"'Local Controller Data - PROP'!J138","v":"-"},{"$f":"'Local Controller Data - PROP'!K138","v":"-"}]
["MAXIMUM INITIAL",null,"*(SEC.)",{"$f":"'Local Controller Data - EXIST'!D139","v":"-"},{"$f":"'Local Controller Data - EXIST'!E139","v":"-"},{"$f":"'Local Controller Data - EXIST'!F139","v":"-"},{"$f":"'Local Controller Data - EXIST'!G139","v":"-"},{"$f":"'Local Controller Data - EXIST'!H139","v":"-"},{"$f":"'Local Controller Data - EXIST'!I139","v":"-"},{"$f":"'Local Controller Data - EXIST'!J139","v":"-"},{"$f":"'Local Controller Data - EXIST'!K139","v":"-"},null,"MAXIMUM INITIAL",null,"*(SEC.)",{"$f":"'Local Controller Data - PROP'!D139","v":"-"},{"$f":"'Local Controller Data - PROP'!E139","v":"-"},{"$f":"'Local Controller Data - PROP'!F139","v":"-"},{"$f":"'Local Controller Data - PROP'!G139","v":"-"},{"$f":"'Local Controller Data - PROP'!H139","v":"-"},{"$f":"'Local Controller Data - PROP'!I139","v":"-"},{"$f":"'Local Controller Data - PROP'!J139","v":"-"},{"$f":"'Local Controller Data - PROP'!K139","v":"-"}]
["PASSAGE TIME (PRESET GAP)",null,"(SEC.)",{"$f":"'Local Controller Data - EXIST'!D140","v":"-"},{"$f":"'Local Controller Data - EXIST'!E140","v":1},{"$f":"'Local Controller Data - EXIST'!F140","v":"-"},{"$f":"'Local Controller Data - EXIST'!G140","v":"-"},{"$f":"'Local Controller Data - EXIST'!H140","v":1},{"$f":"'Local Controller Data - EXIST'!I140","v":1},{"$f":"'Local Controller Data - EXIST'!J140","v":"-"},{"$f":"'Local Controller Data - EXIST'!K140","v":1},null,"PASSAGE TIME (PRESET GAP)",null,"(SEC.)",{"$f":"'Local Controller Data - PROP'!D140","v":"-"},{"$f":"'Local Controller Data - PROP'!E140","v":3},{"$f":"'Local Controller Data - PROP'!F140","v":"-"},{"$f":"'Local Controller Data - PROP'!G140","v":"-"},{"$f":"'Local Controller Data - PROP'!H140","v":3},{"$f":"'Local Controller Data - PROP'!I140","v":3},{"$f":"'Local Controller Data - PROP'!J140","v":"-"},{"$f":"'Local Controller Data - PROP'!K140","v":3}]
["TIME BEFORE REDUCTION",null,"*(SEC.)",{"$f":"'Local Controller Data - EXIST'!D141","v":"-"},{"$f":"'Local Controller Data - EXIST'!E141","v":"-"},{"$f":"'Local Controller Data - EXIST'!F141","v":"-"},{"$f":"'Local Controller Data - EXIST'!G141","v":"-"},{"$f":"'Local Controller Data - EXIST'!H141","v":"-"},{"$f":"'Local Controller Data - EXIST'!I141","v":"-"},{"$f":"'Local Controller Data - EXIST'!J141","v":"-"},{"$f":"'Local Controller Data - EXIST'!K141","v":"-"},null,"TIME BEFORE REDUCTION",null,"*(SEC.)",{"$f":"'Local Controller Data - PROP'!D141","v":"-"},{"$f":"'Local Controller Data - PROP'!E141","v":"-"},{"$f":"'Local Controller Data - PROP'!F141","v":"-"},{"$f":"'Local Controller Data - PROP'!G141","v":"-"},{"$f":"'Local Controller Data - PROP'!H141","v":"-"},{"$f":"'Local Controller Data - PROP'!I141","v":"-"},{"$f":"'Local Controller Data - PROP'!J141","v":"-"},{"$f":"'Local Controller Data - PROP'!K141","v":"-"}]
["MINIMUM GAP",null,"*(SEC.)",{"$f":"'Local Controller Data - EXIST'!D142","v":"-"},{"$f":"'Local Controller Data - EXIST'!E142","v":"-"},{"$f":"'Local Controller Data - EXIST'!F142","v":"-"},{"$f":"'Local Controller Data - EXIST'!G142","v":"-"},{"$f":"'Local Controller Data - EXIST'!H142","v":"-"},{"$f":"'Local Controller Data - EXIST'!I142","v":"-"},{"$f":"'Local Controller Data - EXIST'!J142","v":"-"},{"$f":"'Local Controller Data - EXIST'!K142","v":"-"},null,"MINIMUM GAP",null,"*(SEC.)",{"$f":"'Local Controller Data - PROP'!D142","v":"-"},{"$f":"'Local Controller Data - PROP'!E142","v":"-"},{"$f":"'Local Controller Data - PROP'!F142","v":"-"},{"$f":"'Local Controller Data - PROP'!G142","v":"-"},{"$f":"'Local Controller Data - PROP'!H142","v":"-"},{"$f":"'Local Controller Data - PROP'!I142","v":"-"},{"$f":"'Local Controller Data - PROP'!J142","v":"-"},{"$f":"'Local Controller Data - PROP'!K142","v":"-"}]
["TIME TO REDUCE",null,"*(SEC.)",{"$f":"'Local Controller Data - EXIST'!D143","v":"-"},{"$f":"'Local Controller Data - EXIST'!E143","v":"-"},{"$f":"'Local Controller Data - EXIST'!F143","v":"-"},{"$f":"'Local Controller Data - EXIST'!G143","v":"-"},{"$f":"'Local Controller Data - EXIST'!H143","v":"-"},{"$f":"'Local Controller Data - EXIST'!I143","v":"-"},{"$f":"'Local Controller Data - EXIST'!J143","v":"-"},{"$f":"'Local Controller Data - EXIST'!K143","v":"-"},null,"TIME TO REDUCE",null,"*(SEC.)",{"$f":"'Local Controller Data - PROP'!D143","v":"-"},{"$f":"'Local Controller Data - PROP'!E143","v":"-"},{"$f":"'Local Controller Data - PROP'!F143","v":"-"},{"$f":"'Local Controller Data - PROP'!G143","v":"-"},{"$f":"'Local Controller Data - PROP'!H143","v":"-"},{"$f":"'Local Controller Data - PROP'!I143","v":"-"},{"$f":"'Local Controller Data - PROP'!J143","v":"-"},{"$f":"'Local Controller Data - PROP'!K143","v":"-"}]
["MAXIMUM GREEN I",null,"(SEC.)",{"$f":"'Local Controller Data - EXIST'!D144","v":"-"},{"$f":"'Local Controller Data - EXIST'!E144","v":60},{"$f":"'Local Controller Data - EXIST'!F144","v":"-"},{"$f":"'Local Controller Data - EXIST'!G144","v":"-"},{"$f":"'Local Controller Data - EXIST'!H144","v":15},{"$f":"'Local Controller Data - EXIST'!I144","v":60},{"$f":"'Local Controller Data - EXIST'!J144","v":"-"},{"$f":"'Local Controller Data - EXIST'!K144","v":40},null,"MAXIMUM GREEN I",null,"(SEC.)",{"$f":"'Local Controller Data - PROP'!D144","v":"-"},{"$f":"'Local Controller Data - PROP'!E144","v":60},{"$f":"'Local Controller Data - PROP'!F144","v":"-"},{"$f":"'Local Controller Data - PROP'!G144","v":"-"},{"$f":"'Local Controller Data - PROP'!H144","v":15},{"$f":"'Local Controller Data - PROP'!I144","v":60},{"$f":"'Local Controller Data - PROP'!J144","v":"-"},{"$f":"'Local Controller Data - PROP'!K144","v":40}]
["MAXIMUM GREEN II",null,"(SEC.)",{"$f":"'Local Controller Data - EXIST'!D145","v":"-"},{"$f":"'Local Controller Data - EXIST'!E145","v":60},{"$f":"'Local Controller Data - EXIST'!F145","v":"-"},{"$f":"'Local Controller Data - EXIST'!G145","v":"-"},{"$f":"'Local Controller Data - EXIST'!H145","v":15},{"$f":"'Local Controller Data - EXIST'!I145","v":60},{"$f":"'Local Controller Data - EXIST'!J145","v":"-"},{"$f":"'Local Controller Data - EXIST'!K145","v":40},null,"MAXIMUM GREEN II",null,"(SEC.)",{"$f":"'Local Controller Data - PROP'!D145","v":"-"},{"$f":"'Local Controller Data - PROP'!E145","v":60},{"$f":"'Local Controller Data - PROP'!F145","v":"-"},{"$f":"'Local Controller Data - PROP'!G145","v":"-"},{"$f":"'Local Controller Data - PROP'!H145","v":15},{"$f":"'Local Controller Data - PROP'!I145","v":60},{"$f":"'Local Controller Data - PROP'!J145","v":"-"},{"$f":"'Local Controller Data - PROP'!K145","v":40}]
["YELLOW CHANGE",null,"(SEC.)",{"$f":"'Local Controller Data - EXIST'!D146","v":"-"},{"$f":"'Local Controller Data - EXIST'!E146","v":4.0999999999999996},{"$f":"'Local Controller Data - EXIST'!F146","v":"-"},{"$f":"'Local Controller Data - EXIST'!G146","v":"-"},{"$f":"'Local Controller Data - EXIST'!H146","v":3.2},{"$f":"'Local Controller Data - EXIST'!I146","v":4.0999999999999996},{"$f":"'Local Controller Data - EXIST'!J146","v":"-"},{"$f":"'Local Controller Data - EXIST'!K146","v":4.0999999999999996},null,"YELLOW CHANGE",null,"(SEC.)",{"$f":"'Local Controller Data - PROP'!D146","v":"-"},{"$f":"'Local Controller Data - PROP'!E146","v":4.2},{"$f":"'Local Controller Data - PROP'!F146","v":"-"},{"$f":"'Local Controller Data - PROP'!G146","v":"-"},{"$f":"'Local Controller Data - PROP'!H146","v":3.3},{"$f":"'Local Controller Data - PROP'!I146","v":4.2},{"$f":"'Local Controller Data - PROP'!J146","v":"-"},{"$f":"'Local Controller Data - PROP'!K146","v":3.8}]
["ALL RED CLEARANCE",null,"(SEC.)",{"$f":"'Local Controller Data - EXIST'!D147","v":"-"},{"$f":"'Local Controller Data - EXIST'!E147","v":1},{"$f":"'Local Controller Data - EXIST'!F147","v":"-"},{"$f":"'Local Controller Data - EXIST'!G147","v":"-"},{"$f":"'Local Controller Data - EXIST'!H147","v":2.2999999999999998},{"$f":"'Local Controller Data - EXIST'!I147","v":1},{"$f":"'Local Controller Data - EXIST'!J147","v":"-"},{"$f":"'Local Controller Data - EXIST'!K147","v":1},null,"ALL RED CLEARANCE",null,"(SEC.)",{"$f":"'Local Controller Data - PROP'!D147","v":"-"},{"$f":"'Local Controller Data - PROP'!E147","v":1.2},{"$f":"'Local Controller Data - PROP'!F147","v":"-"},{"$f":"'Local Controller Data - PROP'!G147","v":"-"},{"$f":"'Local Controller Data - PROP'!H147","v":2.8},{"$f":"'Local Controller Data - PROP'!I147","v":1.2},{"$f":"'Local Controller Data - PROP'!J147","v":"-"},{"$f":"'Local Controller Data - PROP'!K147","v":2.1}]
["DELAYED GREEN (LPI) #",null,"(SEC.)",{"$f":"'Local Controller Data - EXIST'!D148","v":"-"},{"$f":"'Local Controller Data - EXIST'!E148","v":"-"},{"$f":"'Local Controller Data - EXIST'!F148","v":"-"},{"$f":"'Local Controller Data - EXIST'!G148","v":"-"},{"$f":"'Local Controller Data - EXIST'!H148","v":"-"},{"$f":"'Local Controller Data - EXIST'!I148","v":"-"},{"$f":"'Local Controller Data - EXIST'!J148","v":"-"},{"$f":"'Local Controller Data - EXIST'!K148","v":"-"},null,"DELAYED GREEN (LPI) #",null,"(SEC.)",{"$f":"'Local Controller Data - PROP'!D148","v":"-"},{"$f":"'Local Controller Data - PROP'!E148","v":"-"},{"$f":"'Local Controller Data - PROP'!F148","v":"-"},{"$f":"'Local Controller Data - PROP'!G148","v":"-"},{"$f":"'Local Controller Data - PROP'!H148","v":"-"},{"$f":"'Local Controller Data - PROP'!I148","v":"-"},{"$f":"'Local Controller Data - PROP'!J148","v":"-"},{"$f":"'Local Controller Data - PROP'!K148","v":"-"}]
["FLASHING YELLOW ARROW DELAY^",null,"(SEC.)",{"$f":"'Local Controller Data - EXIST'!D149","v":"-"},{"$f":"'Local Controller Data - EXIST'!E149","v":"-"},{"$f":"'Local Controller Data - EXIST'!F149","v":"-"},{"$f":"'Local Controller Data - EXIST'!G149","v":"-"},{"$f":"'Local Controller Data - EXIST'!H149","v":"-"},{"$f":"'Local Controller Data - EXIST'!I149","v":"-"},{"$f":"'Local Controller Data - EXIST'!J149","v":"-"},{"$f":"'Local Controller Data - EXIST'!K149","v":"-"},null,"FLASHING YELLOW ARROW DELAY^",null,"(SEC.)",{"$f":"'Local Controller Data - PROP'!D149","v":"-"},{"$f":"'Local Controller Data - PROP'!E149","v":"-"},{"$f":"'Local Controller Data - PROP'!F149","v":"-"},{"$f":"'Local Controller Data - PROP'!G149","v":"-"},{"$f":"'Local Controller Data - PROP'!H149","v":"-"},{"$f":"'Local Controller Data - PROP'!I149","v":"-"},{"$f":"'Local Controller Data - PROP'!J149","v":"-"},{"$f":"'Local Controller Data - PROP'!K149","v":"-"}]
["WALK",null,"(SEC.)",{"$f":"'Local Controller Data - EXIST'!D150","v":"-"},{"$f":"'Local Controller Data - EXIST'!E150","v":"-"},{"$f":"'Local Controller Data - EXIST'!F150","v":"-"},{"$f":"'Local Controller Data - EXIST'!G150","v":"-"},{"$f":"'Local Controller Data - EXIST'!H150","v":"-"},{"$f":"'Local Controller Data - EXIST'!I150","v":"-"},{"$f":"'Local Controller Data - EXIST'!J150","v":"-"},{"$f":"'Local Controller Data - EXIST'!K150","v":"-"},null,"WALK",null,"(SEC.)",{"$f":"'Local Controller Data - PROP'!D150","v":"-"},{"$f":"'Local Controller Data - PROP'!E150","v":"-"},{"$f":"'Local Controller Data - PROP'!F150","v":"-"},{"$f":"'Local Controller Data - PROP'!G150","v":"-"},{"$f":"'Local Controller Data - PROP'!H150","v":"-"},{"$f":"'Local Controller Data - PROP'!I150","v":"-"},{"$f":"'Local Controller Data - PROP'!J150","v":"-"},{"$f":"'Local Controller Data - PROP'!K150","v":"-"}]
["PEDESTRIAN CLEARANCE",null,"(SEC.)",{"$f":"'Local Controller Data - EXIST'!D151","v":"-"},{"$f":"'Local Controller Data - EXIST'!E151","v":"-"},{"$f":"'Local Controller Data - EXIST'!F151","v":"-"},{"$f":"'Local Controller Data - EXIST'!G151","v":"-"},{"$f":"'Local Controller Data - EXIST'!H151","v":"-"},{"$f":"'Local Controller Data - EXIST'!I151","v":"-"},{"$f":"'Local Controller Data - EXIST'!J151","v":"-"},{"$f":"'Local Controller Data - EXIST'!K151","v":"-"},null,"PEDESTRIAN CLEARANCE",null,"(SEC.)",{"$f":"'Local Controller Data - PROP'!D151","v":"-"},{"$f":"'Local Controller Data - PROP'!E151","v":"-"},{"$f":"'Local Controller Data - PROP'!F151","v":"-"},{"$f":"'Local Controller Data - PROP'!G151","v":"-"},{"$f":"'Local Controller Data - PROP'!H151","v":"-"},{"$f":"'Local Controller Data - PROP'!I151","v":"-"},{"$f":"'Local Controller Data - PROP'!J151","v":"-"},{"$f":"'Local Controller Data - PROP'!K151","v":"-"}]
["RECALL","MAXIMUM","(ON/OFF)",{"$f":"'Local Controller Data - EXIST'!D152","v":"-"},{"$f":"'Local Controller Data - EXIST'!E152","v":"NO"},{"$f":"'Local Controller Data - EXIST'!F152","v":"-"},{"$f":"'Local Controller Data - EXIST'!G152","v":"-"},{"$f":"'Local Controller Data - EXIST'!H152","v":"NO"},{"$f":"'Local Controller Data - EXIST'!I152","v":"NO"},{"$f":"'Local Controller Data - EXIST'!J152","v":"-"},{"$f":"'Local Controller Data - EXIST'!K152","v":"NO"},null,"RECALL","MAXIMUM","(ON/OFF)",{"$f":"'Local Controller Data - PROP'!D152","v":"-"},{"$f":"'Local Controller Data - PROP'!E152","v":"NO"},{"$f":"'Local Controller Data - PROP'!F152","v":"-"},{"$f":"'Local Controller Data - PROP'!G152","v":"-"},{"$f":"'Local Controller Data - PROP'!H152","v":"NO"},{"$f":"'Local Controller Data - PROP'!I152","v":"NO"},{"$f":"'Local Controller Data - PROP'!J152","v":"-"},{"$f":"'Local Controller Data - PROP'!K152","v":"NO"}]
[null,"MINIMUM","(ON/OFF)",{"$f":"'Local Controller Data - EXIST'!D153","v":"-"},{"$f":"'Local Controller Data - EXIST'!E153","v":"YES"},{"$f":"'Local Controller Data - EXIST'!F153","v":"-"},{"$f":"'Local Controller Data - EXIST'!G153","v":"-"},{"$f":"'Local Controller Data - EXIST'!H153","v":"NO"},{"$f":"'Local Controller Data - EXIST'!I153","v":"YES"},{"$f":"'Local Controller Data - EXIST'!J153","v":"-"},{"$f":"'Local Controller Data - EXIST'!K153","v":"NO"},null,null,"MINIMUM","(ON/OFF)",{"$f":"'Local Controller Data - PROP'!D153","v":"-"},{"$f":"'Local Controller Data - PROP'!E153","v":"YES"},{"$f":"'Local Controller Data - PROP'!F153","v":"-"},{"$f":"'Local Controller Data - PROP'!G153","v":"-"},{"$f":"'Local Controller Data - PROP'!H153","v":"NO"},{"$f":"'Local Controller Data - PROP'!I153","v":"YES"},{"$f":"'Local Controller Data - PROP'!J153","v":"-"},{"$f":"'Local Controller Data - PROP'!K153","v":"NO"}]
[null,"PEDESTRIAN","(ON/OFF)",{"$f":"'Local Controller Data - EXIST'!D154","v":"-"},{"$f":"'Local Controller Data - EXIST'!E154","v":"NO"},{"$f":"'Local Controller Data - EXIST'!F154","v":"-"},{"$f":"'Local Controller Data - EXIST'!G154","v":"-"},{"$f":"'Local Controller Data - EXIST'!H154","v":"NO"},{"$f":"'Local Controller Data - EXIST'!I154","v":"NO"},{"$f":"'Local Controller Data - EXIST'!J154","v":"-"},{"$f":"'Local Controller Data - EXIST'!K154","v":"NO"},null,null,"PEDESTRIAN","(ON/OFF)",{"$f":"'Local Controller Data - PROP'!D154","v":"-"},{"$f":"'Local Controller Data - PROP'!E154","v":"NO"},{"$f":"'Local Controller Data - PROP'!F154","v":"-"},{"$f":"'Local Controller Data - PROP'!G154","v":"-"},{"$f":"'Local Controller Data - PROP'!H154","v":"NO"},{"$f":"'Local Controller Data - PROP'!I154","v":"NO"},{"$f":"'Local Controller Data - PROP'!J154","v":"-"},{"$f":"'Local Controller Data - PROP'!K154","v":"NO"}]
["MEMORY    ",null,"(ON/OFF)",{"$f":"'Local Controller Data - EXIST'!D155","v":"-"},{"$f":"'Local Controller Data - EXIST'!E155","v":"YES"},{"$f":"'Local Controller Data - EXIST'!F155","v":"-"},{"$f":"'Local Controller Data - EXIST'!G155","v":"-"},{"$f":"'Local Controller Data - EXIST'!H155","v":"NO"},{"$f":"'Local Controller Data - EXIST'!I155","v":"YES"},{"$f":"'Local Controller Data - EXIST'!J155","v":"-"},{"$f":"'Local Controller Data - EXIST'!K155","v":"NO"},null,"MEMORY    ",null,"(ON/OFF)",{"$f":"'Local Controller Data - PROP'!D155","v":"-"},{"$f":"'Local Controller Data - PROP'!E155","v":"YES"},{"$f":"'Local Controller Data - PROP'!F155","v":"-"},{"$f":"'Local Controller Data - PROP'!G155","v":"-"},{"$f":"'Local Controller Data - PROP'!H155","v":"NO"},{"$f":"'Local Controller Data - PROP'!I155","v":"YES"},{"$f":"'Local Controller Data - PROP'!J155","v":"-"},{"$f":"'Local Controller Data - PROP'!K155","v":"NO"}]
["*VOLUME DENSITY CONTROLS",null,null,null,null,null,null,null,null,null,null,null,"*VOLUME DENSITY CONTROLS"]
["# FOR CROSSINGS WITH PEDESTRIAN PUSHBUTTONS, LPI'S (LEADING PEDESTRIAN INTERVALS) MAY BE IMPLEMENTED (3-6 SEC.) IN ACCORDANCE WITH LPI DURATION TIME PER THE ODOT SIGNAL CALCULATIONS - CLEARANCE INTERVALS SPREADSHEET",null,null,null,null,null,null,null,null,null,null,null,"# FOR CROSSINGS WITH PEDESTRIAN PUSHBUTTONS, LPI'S (LEADING PEDESTRIAN INTERVALS) MAY BE IMPLEMENTED (3-6 SEC.) IN ACCORDANCE WITH LPI DURATION TIME PER THE ODOT SIGNAL CALCULATIONS - CLEARANCE INTERVALS SPREADSHEET"]
["^ WHEN IMPLEMENTING FYA, A MINIMUM 3 SEC. DELAY SHALL BE PROGRAMMED PER FYA PHASE. ",null,null,null,null,null,null,null,null,null,null,null,"^ WHEN IMPLEMENTING FYA, A MINIMUM 3 SEC. DELAY SHALL BE PROGRAMMED PER FYA PHASE. "]
[]
["ECONOLITE COORD SETTINGS",null,null,"SIEMENS COORD SETTINGS",null,null,null,null,null,null,null,null,"ECONOLITE COORD SETTINGS",null,null,"SIEMENS COORD SETTINGS"]
["MANUAL PATTERN",{"$f":"'Local Controller Data - EXIST'!B163","v":"AUTO"},null,"OPERATION",null,null,null,"-",null,null,null,null,"MANUAL PATTERN",{"$f":"'Local Controller Data - PROP'!B163","v":"AUTO"},null,"OPERATION",null,null,null,"-"]
["SYSTEM SOURCE",{"$f":"'Local Controller Data - EXIST'!B164","v":"TBC"},null,"MODE (NORMAL)",null,null,null,"-",null,null,null,null,"SYSTEM SOURCE",{"$f":"'Local Controller Data - PROP'!B164","v":"TBC"},null,"MODE (NORMAL)",null,null,null,"-"]
["SPLITS IN",{"$f":"'Local Controller Data - EXIST'!B165","v":"SECONDS"},null,"MAXIMUM",null,null,null,"-",null,null,null,null,"SPLITS IN",{"$f":"'Local Controller Data - PROP'!B165","v":"SECONDS"},null,"MAXIMUM",null,null,null,"-"]
["TRANSITION",{"$f":"'Local Controller Data - EXIST'!B166","v":"SMOOTH"},null,"CORRECTION",null,null,null,"-",null,null,null,null,"TRANSITION",{"$f":"'Local Controller Data - PROP'!B166","v":"SMOOTH"},null,"CORRECTION",null,null,null,"-"]
["DWELL/ADD TIME",{"$f":"'Local Controller Data - EXIST'!B167","v":0},null,"OFFSET MODE",null,null,null,"-",null,null,null,null,"DWELL/ADD TIME",{"$f":"'Local Controller Data - PROP'!B167","v":0},null,"OFFSET MODE",null,null,null,"-"]
["OFFSET REFERENCE",{"$f":"'Local Controller Data - EXIST'!B168","v":"YELLOW"},null,"FORCE MODE",null,null,null,"-",null,null,null,null,"OFFSET REFERENCE",{"$f":"'Local Controller Data - PROP'!B168","v":"YELLOW"},null,"FORCE MODE",null,null,null,"-"]
["PED RECALL",{"$f":"'Local Controller Data - EXIST'!B169","v":"NO"},null,"MAX DWELL TIME",null,null,null,"-",null,null,null,null,"PED RECALL",{"$f":"'Local Controller Data - PROP'!B169","v":"NO"},null,"MAX DWELL TIME",null,null,null,"-"]
["LOCAL ZERO OVERRIDE",{"$f":"'Local Controller Data - EXIST'!B170","v":"NO"},null,"YIELD PERIOD",null,null,null,"-",null,null,null,null,"LOCAL ZERO OVERRIDE",{"$f":"'Local Controller Data - PROP'!B170","v":"NO"},null,"YIELD PERIOD",null,null,null,"-"]
["RE-SYNC COUNT",{"$f":"'Local Controller Data - EXIST'!B171","v":0},null,"MANUAL CONTROL: DIAL",null,null,null,"-",null,null,null,null,"RE-SYNC COUNT",{"$f":"'Local Controller Data - PROP'!B171","v":0},null,"MANUAL CONTROL: DIAL",null,null,null,"-"]
["ECPI COORD",{"$f":"'Local Controller Data - EXIST'!B172","v":"YES"},null,"MANUAL CONTROL: SPLIT",null,null,null,"-",null,null,null,null,"ECPI COORD",{"$f":"'Local Controller Data - PROP'!B172","v":"YES"},null,"MANUAL CONTROL: SPLIT",null,null,null,"-"]
["SYSTEM FORMAT ",{"$f":"'Local Controller Data - EXIST'!B173","v":"STD"},null,"MANUAL CONTROL: OFFSET",null,null,null,"-",null,null,null,null,"SYSTEM FORMAT ",{"$f":"'Local Controller Data - PROP'!B173","v":"STD"},null,"MANUAL CONTROL: OFFSET",null,null,null,"-"]
["OFFSET IN",{"$f":"'Local Controller Data - EXIST'!B174","v":"SECONDS"},null,null,null,null,null,null,null,null,null,null,"OFFSET IN",{"$f":"'Local Controller Data - PROP'!B174","v":"SECONDS"}]
["MAX SELECT",{"$f":"'Local Controller Data - EXIST'!B175","v":"MAXINH"},null,null,null,null,null,null,null,null,null,null,"MAX SELECT",{"$f":"'Local Controller Data - PROP'!B175","v":"MAXINH"}]
["FORCE OFF",{"$f":"'Local Controller Data - EXIST'!B176","v":"FLOAT"},null,null,null,null,null,null,null,null,null,null,"FORCE OFF",{"$f":"'Local Controller Data - PROP'!B176","v":"FLOAT"}]
["USE PED TIME",{"$f":"'Local Controller Data - EXIST'!B177","v":"YES"},null,null,null,null,null,null,null,null,null,null,"USE PED TIME",{"$f":"'Local Controller Data - PROP'!B177","v":"YES"}]
["PED RESERVICE",{"$f":"'Local Controller Data - EXIST'!B178","v":"NO"},null,null,null,null,null,null,null,null,null,null,"PED RESERVICE",{"$f":"'Local Controller Data - PROP'!B178","v":"NO"}]
["FO ADD INI GRN",{"$f":"'Local Controller Data - EXIST'!B179","v":"NO"},null,null,null,null,null,null,null,null,null,null,"FO ADD INI GRN",{"$f":"'Local Controller Data - PROP'!B179","v":"NO"}]
["MULTISYNC",{"$f":"'Local Controller Data - EXIST'!B180","v":"NO"},null,null,null,null,null,null,null,"EXISTING TIMING",null,null,"MULTISYNC",{"$f":"'Local Controller Data - PROP'!B180","v":"NO"},null,null,null,null,null,null,null,"PROPOSED TIMING"]
[]
[{"$f":"'Project Name'!$C$2","v":"LOR-254/301 Signal Timing"},null,null,null,null,null,null,null,null,null,null,null,{"$f":"'Project Name'!$C$2","v":"LOR-254/301 Signal Timing"}]
["Existing Local Controller Data",null,null,null,null,null,null,null,null,null,null,null,"Proposed Local Controller Data"]
["INTERSECTION:",null,null,null,null,null,null,null,null,null,null,null,"INTERSECTION:"]
["MAINTAINING AGENCY:",null,null,null,null,null,null,null,null,null,null,null,"MAINTAINING AGENCY:"]
["START UP",null,null,"DUAL ENTRY: ",null,"-","PHASES:",null,"-",null,null,null,"START UP",null,null,"DUAL ENTRY: ",null,"-","PHASES:",null,"-"]
[null,null,null,"REST IN RED: ",null,null,"RING 1","-",null,"RING 2","-",null,null,null,null,"REST IN RED: ",null,null,"RING 1","-",null,"RING 2","-"]
["START IN: ",{"$f":"'Local Controller Data - EXIST'!B189:C189","v":"ALL-RED FLASH"},null,"OVERLAP",null,null,null,"A","B","C","D",null,"START IN: ","-",null,"OVERLAP",null,null,null,"A","B","C","D"]
["TIME FOR FLASH / ALL RED (SEC.):   ",null,"9, 6",null,null,null,null,null,null,null,null,null,"TIME FOR FLASH / ALL RED (SEC.):   ",null,"9, 6"]
["FIRST PHASE(S):",{"$f":"'Local Controller Data - EXIST'!B191:C191","v":"2, 6"},null,"PHASES",null,null,null,{"$f":"'Local Controller Data - EXIST'!H191","v":"-"},{"$f":"'Local Controller Data - EXIST'!I191","v":"-"},{"$f":"'Local Controller Data - EXIST'!J191","v":"-"},{"$f":"'Local Controller Data - EXIST'!K191","v":"-"},null,"FIRST PHASE(S):",{"$f":"'Local Controller Data - PROP'!B191:C191","v":{"$error":"#VALUE!"}},null,"PHASES",null,null,null,{"$f":"'Local Controller Data - PROP'!H191","v":"-"},{"$f":"'Local Controller Data - PROP'!I191","v":"-"},{"$f":"'Local Controller Data - PROP'!J191","v":"-"},{"$f":"'Local Controller Data - PROP'!K191","v":"-"}]
["COLOR DISPLAYED:","-",null,null,null,null,null,null,null,null,null,null,"COLOR DISPLAYED:","-"]
["INTERVAL OR FEATURE",null,null,"CONTROLLER MOVEMENT NO.",null,null,null,null,null,null,null,null,"INTERVAL OR FEATURE",null,null,"CONTROLLER MOVEMENT NO."]
["INTERSECTION MOVEMENT (PHASE)",null,null,1,2,3,4,5,6,7,8,null,"INTERSECTION MOVEMENT (PHASE)",null,null,1,2,3,4,5,6,7,8]
["DIRECTION",null,null,{"$f":"'Local Controller Data - EXIST'!D196","v":"WBL"},{"$f":"'Local Controller Data - EXIST'!E196","v":"EBT"},{"$f":"'Local Controller Data - EXIST'!F196","v":"-"},{"$f":"'Local Controller Data - EXIST'!G196","v":"SBT"},{"$f":"'Local Controller Data - EXIST'!H196","v":"EBL"},{"$f":"'Local Controller Data - EXIST'!I196","v":"WB"},{"$f":"'Local Controller Data - EXIST'!J196","v":"-"},{"$f":"'Local Controller Data - EXIST'!K196","v":"NB"},null,"DIRECTION",null,null,{"$f":"'Local Controller Data - PROP'!D196","v":"WBL"},{"$f":"'Local Controller Data - PROP'!E196","v":"EBT"},{"$f":"'Local Controller Data - PROP'!F196","v":"-"},{"$f":"'Local Controller Data - PROP'!G196","v":"SBT"},{"$f":"'Local Controller Data - PROP'!H196","v":"EBL"},{"$f":"'Local Controller Data - PROP'!I196","v":"WB"},{"$f":"'Local Controller Data - PROP'!J196","v":"-"},{"$f":"'Local Controller Data - PROP'!K196","v":"NB"}]
["MINIMUM GREEN (INITIAL) ",null,"(SEC.)",{"$f":"'Local Controller Data - EXIST'!D197","v":7},{"$f":"'Local Controller Data - EXIST'!E197","v":20},{"$f":"'Local Controller Data - EXIST'!F197","v":"-"},{"$f":"'Local Controller Data - EXIST'!G197","v":10},{"$f":"'Local Controller Data - EXIST'!H197","v":7},{"$f":"'Local Controller Data - EXIST'!I197","v":20},{"$f":"'Local Controller Data - EXIST'!J197","v":"-"},{"$f":"'Local Controller Data - EXIST'!K197","v":10},null,"MINIMUM GREEN (INITIAL) ",null,"(SEC.)",{"$f":"'Local Controller Data - PROP'!D197","v":7},{"$f":"'Local Controller Data - PROP'!E197","v":20},{"$f":"'Local Controller Data - PROP'!F197","v":"-"},{"$f":"'Local Controller Data - PROP'!G197","v":10},{"$f":"'Local Controller Data - PROP'!H197","v":7},{"$f":"'Local Controller Data - PROP'!I197","v":20},{"$f":"'Local Controller Data - PROP'!J197","v":"-"},{"$f":"'Local Controller Data - PROP'!K197","v":10}]
["ADDED INITIAL","*(SEC./ACTUATION)",null,{"$f":"'Local Controller Data - EXIST'!D198","v":"-"},{"$f":"'Local Controller Data - EXIST'!E198","v":"-"},{"$f":"'Local Controller Data - EXIST'!F198","v":"-"},{"$f":"'Local Controller Data - EXIST'!G198","v":"-"},{"$f":"'Local Controller Data - EXIST'!H198","v":"-"},{"$f":"'Local Controller Data - EXIST'!I198","v":"-"},{"$f":"'Local Controller Data - EXIST'!J198","v":"-"},{"$f":"'Local Controller Data - EXIST'!K198","v":"-"},null,"ADDED INITIAL","*(SEC./ACTUATION)",null,{"$f":"'Local Controller Data - PROP'!D198","v":"-"},{"$f":"'Local Controller Data - PROP'!E198","v":"-"},{"$f":"'Local Controller Data - PROP'!F198","v":"-"},{"$f":"'Local Controller Data - PROP'!G198","v":"-"},{"$f":"'Local Controller Data - PROP'!H198","v":"-"},{"$f":"'Local Controller Data - PROP'!I198","v":"-"},{"$f":"'Local Controller Data - PROP'!J198","v":"-"},{"$f":"'Local Controller Data - PROP'!K198","v":"-"}]
["MAXIMUM INITIAL",null,"*(SEC.)",{"$f":"'Local Controller Data - EXIST'!D199","v":"-"},{"$f":"'Local Controller Data - EXIST'!E199","v":"-"},{"$f":"'Local Controller Data - EXIST'!F199","v":"-"},{"$f":"'Local Controller Data - EXIST'!G199","v":"-"},{"$f":"'Local Controller Data - EXIST'!H199","v":"-"},{"$f":"'Local Controller Data - EXIST'!I199","v":"-"},{"$f":"'Local Controller Data - EXIST'!J199","v":"-"},{"$f":"'Local Controller Data - EXIST'!K199","v":"-"},null,"MAXIMUM INITIAL",null,"*(SEC.)",{"$f":"'Local Controller Data - PROP'!D199","v":"-"},{"$f":"'Local Controller Data - PROP'!E199","v":"-"},{"$f":"'Local Controller Data - PROP'!F199","v":"-"},{"$f":"'Local Controller Data - PROP'!G199","v":"-"},{"$f":"'Local Controller Data - PROP'!H199","v":"-"},{"$f":"'Local Controller Data - PROP'!I199","v":"-"},{"$f":"'Local Controller Data - PROP'!J199","v":"-"},{"$f":"'Local Controller Data - PROP'!K199","v":"-"}]
["PASSAGE TIME (PRESET GAP)",null,"(SEC.)",{"$f":"'Local Controller Data - EXIST'!D200","v":1},{"$f":"'Local Controller Data - EXIST'!E200","v":1},{"$f":"'Local Controller Data - EXIST'!F200","v":"-"},{"$f":"'Local Controller Data - EXIST'!G200","v":1},{"$f":"'Local Controller Data - EXIST'!H200","v":1},{"$f":"'Local Controller Data - EXIST'!I200","v":1},{"$f":"'Local Controller Data - EXIST'!J200","v":"-"},{"$f":"'Local Controller Data - EXIST'!K200","v":1},null,"PASSAGE TIME (PRESET GAP)",null,"(SEC.)",{"$f":"'Local Controller Data - PROP'!D200","v":3},{"$f":"'Local Controller Data - PROP'!E200","v":3},{"$f":"'Local Controller Data - PROP'!F200","v":"-"},{"$f":"'Local Controller Data - PROP'!G200","v":3},{"$f":"'Local Controller Data - PROP'!H200","v":3},{"$f":"'Local Controller Data - PROP'!I200","v":3},{"$f":"'Local Controller Data - PROP'!J200","v":"-"},{"$f":"'Local Controller Data - PROP'!K200","v":3}]
["TIME BEFORE REDUCTION",null,"*(SEC.)",{"$f":"'Local Controller Data - EXIST'!D201","v":"-"},{"$f":"'Local Controller Data - EXIST'!E201","v":"-"},{"$f":"'Local Controller Data - EXIST'!F201","v":"-"},{"$f":"'Local Controller Data - EXIST'!G201","v":"-"},{"$f":"'Local Controller Data - EXIST'!H201","v":"-"},{"$f":"'Local Controller Data - EXIST'!I201","v":"-"},{"$f":"'Local Controller Data - EXIST'!J201","v":"-"},{"$f":"'Local Controller Data - EXIST'!K201","v":"-"},null,"TIME BEFORE REDUCTION",null,"*(SEC.)",{"$f":"'Local Controller Data - PROP'!D201","v":"-"},{"$f":"'Local Controller Data - PROP'!E201","v":"-"},{"$f":"'Local Controller Data - PROP'!F201","v":"-"},{"$f":"'Local Controller Data - PROP'!G201","v":"-"},{"$f":"'Local Controller Data - PROP'!H201","v":"-"},{"$f":"'Local Controller Data - PROP'!I201","v":"-"},{"$f":"'Local Controller Data - PROP'!J201","v":"-"},{"$f":"'Local Controller Data - PROP'!K201","v":"-"}]
["MINIMUM GAP",null,"*(SEC.)",{"$f":"'Local Controller Data - EXIST'!D202","v":"-"},{"$f":"'Local Controller Data - EXIST'!E202","v":"-"},{"$f":"'Local Controller Data - EXIST'!F202","v":"-"},{"$f":"'Local Controller Data - EXIST'!G202","v":"-"},{"$f":"'Local Controller Data - EXIST'!H202","v":"-"},{"$f":"'Local Controller Data - EXIST'!I202","v":"-"},{"$f":"'Local Controller Data - EXIST'!J202","v":"-"},{"$f":"'Local Controller Data - EXIST'!K202","v":"-"},null,"MINIMUM GAP",null,"*(SEC.)",{"$f":"'Local Controller Data - PROP'!D202","v":"-"},{"$f":"'Local Controller Data - PROP'!E202","v":"-"},{"$f":"'Local Controller Data - PROP'!F202","v":"-"},{"$f":"'Local Controller Data - PROP'!G202","v":"-"},{"$f":"'Local Controller Data - PROP'!H202","v":"-"},{"$f":"'Local Controller Data - PROP'!I202","v":"-"},{"$f":"'Local Controller Data - PROP'!J202","v":"-"},{"$f":"'Local Controller Data - PROP'!K202","v":"-"}]
["TIME TO REDUCE",null,"*(SEC.)",{"$f":"'Local Controller Data - EXIST'!D203","v":"-"},{"$f":"'Local Controller Data - EXIST'!E203","v":"-"},{"$f":"'Local Controller Data - EXIST'!F203","v":"-"},{"$f":"'Local Controller Data - EXIST'!G203","v":"-"},{"$f":"'Local Controller Data - EXIST'!H203","v":"-"},{"$f":"'Local Controller Data - EXIST'!I203","v":"-"},{"$f":"'Local Controller Data - EXIST'!J203","v":"-"},{"$f":"'Local Controller Data - EXIST'!K203","v":"-"},null,"TIME TO REDUCE",null,"*(SEC.)",{"$f":"'Local Controller Data - PROP'!D203","v":"-"},{"$f":"'Local Controller Data - PROP'!E203","v":"-"},{"$f":"'Local Controller Data - PROP'!F203","v":"-"},{"$f":"'Local Controller Data - PROP'!G203","v":"-"},{"$f":"'Local Controller Data - PROP'!H203","v":"-"},{"$f":"'Local Controller Data - PROP'!I203","v":"-"},{"$f":"'Local Controller Data - PROP'!J203","v":"-"},{"$f":"'Local Controller Data - PROP'!K203","v":"-"}]
["MAXIMUM GREEN I",null,"(SEC.)",{"$f":"'Local Controller Data - EXIST'!D204","v":15},{"$f":"'Local Controller Data - EXIST'!E204","v":60},{"$f":"'Local Controller Data - EXIST'!F204","v":"-"},{"$f":"'Local Controller Data - EXIST'!G204","v":30},{"$f":"'Local Controller Data - EXIST'!H204","v":15},{"$f":"'Local Controller Data - EXIST'!I204","v":60},{"$f":"'Local Controller Data - EXIST'!J204","v":"-"},{"$f":"'Local Controller Data - EXIST'!K204","v":30},null,"MAXIMUM GREEN I",null,"(SEC.)",{"$f":"'Local Controller Data - PROP'!D204","v":15},{"$f":"'Local Controller Data - PROP'!E204","v":60},{"$f":"'Local Controller Data - PROP'!F204","v":"-"},{"$f":"'Local Controller Data - PROP'!G204","v":30},{"$f":"'Local Controller Data - PROP'!H204","v":15},{"$f":"'Local Controller Data - PROP'!I204","v":60},{"$f":"'Local Controller Data - PROP'!J204","v":"-"},{"$f":"'Local Controller Data - PROP'!K204","v":30}]
["MAXIMUM GREEN II",null,"(SEC.)",{"$f":"'Local Controller Data - EXIST'!D205","v":15},{"$f":"'Local Controller Data - EXIST'!E205","v":60},{"$f":"'Local Controller Data - EXIST'!F205","v":"-"},{"$f":"'Local Controller Data - EXIST'!G205","v":30},{"$f":"'Local Controller Data - EXIST'!H205","v":15},{"$f":"'Local Controller Data - EXIST'!I205","v":60},{"$f":"'Local Controller Data - EXIST'!J205","v":"-"},{"$f":"'Local Controller Data - EXIST'!K205","v":30},null,"MAXIMUM GREEN II",null,"(SEC.)",{"$f":"'Local Controller Data - PROP'!D205","v":15},{"$f":"'Local Controller Data - PROP'!E205","v":60},{"$f":"'Local Controller Data - PROP'!F205","v":"-"},{"$f":"'Local Controller Data - PROP'!G205","v":30},{"$f":"'Local Controller Data - PROP'!H205","v":15},{"$f":"'Local Controller Data - PROP'!I205","v":60},{"$f":"'Local Controller Data - PROP'!J205","v":"-"},{"$f":"'Local Controller Data - PROP'!K205","v":30}]
["YELLOW CHANGE",null,"(SEC.)",{"$f":"'Local Controller Data - EXIST'!D206","v":3.2},{"$f":"'Local Controller Data - EXIST'!E206","v":4.0999999999999996},{"$f":"'Local Controller Data - EXIST'!F206","v":"-"},{"$f":"'Local Controller Data - EXIST'!G206","v":3.3},{"$f":"'Local Controller Data - EXIST'!H206","v":3.2},{"$f":"'Local Controller Data - EXIST'!I206","v":4.0999999999999996},{"$f":"'Local Controller Data - EXIST'!J206","v":"-"},{"$f":"'Local Controller Data - EXIST'!K206","v":3.3},null,"YELLOW CHANGE",null,"(SEC.)",{"$f":"'Local Controller Data - PROP'!D206","v":3.3},{"$f":"'Local Controller Data - PROP'!E206","v":4.2},{"$f":"'Local Controller Data - PROP'!F206","v":"-"},{"$f":"'Local Controller Data - PROP'!G206","v":3.3},{"$f":"'Local Controller Data - PROP'!H206","v":3.3},{"$f":"'Local Controller Data - PROP'!I206","v":4.2},{"$f":"'Local Controller Data - PROP'!J206","v":"-"},{"$f":"'Local Controller Data - PROP'!K206","v":3.3}]
["ALL RED CLEARANCE",null,"(SEC.)",{"$f":"'Local Controller Data - EXIST'!D207","v":1.7},{"$f":"'Local Controller Data - EXIST'!E207","v":1},{"$f":"'Local Controller Data - EXIST'!F207","v":"-"},{"$f":"'Local Controller Data - EXIST'!G207","v":1.1000000000000001},{"$f":"'Local Controller Data - EXIST'!H207","v":1.7},{"$f":"'Local Controller Data - EXIST'!I207","v":1},{"$f":"'Local Controller Data - EXIST'!J207","v":"-"},{"$f":"'Local Controller Data - EXIST'!K207","v":1.1000000000000001},null,"ALL RED CLEARANCE",null,"(SEC.)",{"$f":"'Local Controller Data - PROP'!D207","v":2.2000000000000002},{"$f":"'Local Controller Data - PROP'!E207","v":1},{"$f":"'Local Controller Data - PROP'!F207","v":"-"},{"$f":"'Local Controller Data - PROP'!G207","v":1.5},{"$f":"'Local Controller Data - PROP'!H207","v":2.2000000000000002},{"$f":"'Local Controller Data - PROP'!I207","v":1},{"$f":"'Local Controller Data - PROP'!J207","v":"-"},{"$f":"'Local Controller Data - PROP'!K207","v":1.5}]
["DELAYED GREEN (LPI) #",null,"(SEC.)",{"$f":"'Local Controller Data - EXIST'!D208","v":"-"},{"$f":"'Local Controller Data - EXIST'!E208","v":"-"},{"$f":"'Local Controller Data - EXIST'!F208","v":"-"},{"$f":"'Local Controller Data - EXIST'!G208","v":"-"},{"$f":"'Local Controller Data - EXIST'!H208","v":"-"},{"$f":"'Local Controller Data - EXIST'!I208","v":"-"},{"$f":"'Local Controller Data - EXIST'!J208","v":"-"},{"$f":"'Local Controller Data - EXIST'!K208","v":"-"},null,"DELAYED GREEN (LPI) #",null,"(SEC.)",{"$f":"'Local Controller Data - PROP'!D208","v":"-"},{"$f":"'Local Controller Data - PROP'!E208","v":"-"},{"$f":"'Local Controller Data - PROP'!F208","v":"-"},{"$f":"'Local Controller Data - PROP'!G208","v":"-"},{"$f":"'Local Controller Data - PROP'!H208","v":"-"},{"$f":"'Local Controller Data - PROP'!I208","v":"-"},{"$f":"'Local Controller Data - PROP'!J208","v":"-"},{"$f":"'Local Controller Data - PROP'!K208","v":"-"}]
["FLASHING YELLOW ARROW DELAY^",null,"(SEC.)",{"$f":"'Local Controller Data - EXIST'!D209","v":"-"},{"$f":"'Local Controller Data - EXIST'!E209","v":"-"},{"$f":"'Local Controller Data - EXIST'!F209","v":"-"},{"$f":"'Local Controller Data - EXIST'!G209","v":"-"},{"$f":"'Local Controller Data - EXIST'!H209","v":"-"},{"$f":"'Local Controller Data - EXIST'!I209","v":"-"},{"$f":"'Local Controller Data - EXIST'!J209","v":"-"},{"$f":"'Local Controller Data - EXIST'!K209","v":"-"},null,"FLASHING YELLOW ARROW DELAY^",null,"(SEC.)",{"$f":"'Local Controller Data - PROP'!D209","v":"-"},{"$f":"'Local Controller Data - PROP'!E209","v":"-"},{"$f":"'Local Controller Data - PROP'!F209","v":"-"},{"$f":"'Local Controller Data - PROP'!G209","v":"-"},{"$f":"'Local Controller Data - PROP'!H209","v":"-"},{"$f":"'Local Controller Data - PROP'!I209","v":"-"},{"$f":"'Local Controller Data - PROP'!J209","v":"-"},{"$f":"'Local Controller Data - PROP'!K209","v":"-"}]
["WALK",null,"(SEC.)",{"$f":"'Local Controller Data - EXIST'!D210","v":"-"},{"$f":"'Local Controller Data - EXIST'!E210","v":"-"},{"$f":"'Local Controller Data - EXIST'!F210","v":"-"},{"$f":"'Local Controller Data - EXIST'!G210","v":"-"},{"$f":"'Local Controller Data - EXIST'!H210","v":"-"},{"$f":"'Local Controller Data - EXIST'!I210","v":"-"},{"$f":"'Local Controller Data - EXIST'!J210","v":"-"},{"$f":"'Local Controller Data - EXIST'!K210","v":"-"},null,"WALK",null,"(SEC.)",{"$f":"'Local Controller Data - PROP'!D210","v":"-"},{"$f":"'Local Controller Data - PROP'!E210","v":"-"},{"$f":"'Local Controller Data - PROP'!F210","v":"-"},{"$f":"'Local Controller Data - PROP'!G210","v":"-"},{"$f":"'Local Controller Data - PROP'!H210","v":"-"},{"$f":"'Local Controller Data - PROP'!I210","v":"-"},{"$f":"'Local Controller Data - PROP'!J210","v":"-"},{"$f":"'Local Controller Data - PROP'!K210","v":"-"}]
["PEDESTRIAN CLEARANCE",null,"(SEC.)",{"$f":"'Local Controller Data - EXIST'!D211","v":"-"},{"$f":"'Local Controller Data - EXIST'!E211","v":"-"},{"$f":"'Local Controller Data - EXIST'!F211","v":"-"},{"$f":"'Local Controller Data - EXIST'!G211","v":"-"},{"$f":"'Local Controller Data - EXIST'!H211","v":"-"},{"$f":"'Local Controller Data - EXIST'!I211","v":"-"},{"$f":"'Local Controller Data - EXIST'!J211","v":"-"},{"$f":"'Local Controller Data - EXIST'!K211","v":"-"},null,"PEDESTRIAN CLEARANCE",null,"(SEC.)",{"$f":"'Local Controller Data - PROP'!D211","v":"-"},{"$f":"'Local Controller Data - PROP'!E211","v":"-"},{"$f":"'Local Controller Data - PROP'!F211","v":"-"},{"$f":"'Local Controller Data - PROP'!G211","v":"-"},{"$f":"'Local Controller Data - PROP'!H211","v":"-"},{"$f":"'Local Controller Data - PROP'!I211","v":"-"},{"$f":"'Local Controller Data - PROP'!J211","v":"-"},{"$f":"'Local Controller Data - PROP'!K211","v":"-"}]
["RECALL","MAXIMUM","(ON/OFF)",{"$f":"'Local Controller Data - EXIST'!D212","v":"NO"},{"$f":"'Local Controller Data - EXIST'!E212","v":"NO"},{"$f":"'Local Controller Data - EXIST'!F212","v":"-"},{"$f":"'Local Controller Data - EXIST'!G212","v":"NO"},{"$f":"'Local Controller Data - EXIST'!H212","v":"NO"},{"$f":"'Local Controller Data - EXIST'!I212","v":"NO"},{"$f":"'Local Controller Data - EXIST'!J212","v":"-"},{"$f":"'Local Controller Data - EXIST'!K212","v":"NO"},null,"RECALL","MAXIMUM","(ON/OFF)",{"$f":"'Local Controller Data - PROP'!D212","v":"NO"},{"$f":"'Local Controller Data - PROP'!E212","v":"NO"},{"$f":"'Local Controller Data - PROP'!F212","v":"-"},{"$f":"'Local Controller Data - PROP'!G212","v":"NO"},{"$f":"'Local Controller Data - PROP'!H212","v":"NO"},{"$f":"'Local Controller Data - PROP'!I212","v":"NO"},{"$f":"'Local Controller Data - PROP'!J212","v":"-"},{"$f":"'Local Controller Data - PROP'!K212","v":"NO"}]
[null,"MINIMUM","(ON/OFF)",{"$f":"'Local Controller Data - EXIST'!D213","v":"NO"},{"$f":"'Local Controller Data - EXIST'!E213","v":"YES"},{"$f":"'Local Controller Data - EXIST'!F213","v":"-"},{"$f":"'Local Controller Data - EXIST'!G213","v":"NO"},{"$f":"'Local Controller Data - EXIST'!H213","v":"NO"},{"$f":"'Local Controller Data - EXIST'!I213","v":"YES"},{"$f":"'Local Controller Data - EXIST'!J213","v":"-"},{"$f":"'Local Controller Data - EXIST'!K213","v":"NO"},null,null,"MINIMUM","(ON/OFF)",{"$f":"'Local Controller Data - PROP'!D213","v":"NO"},{"$f":"'Local Controller Data - PROP'!E213","v":"YES"},{"$f":"'Local Controller Data - PROP'!F213","v":"-"},{"$f":"'Local Controller Data - PROP'!G213","v":"NO"},{"$f":"'Local Controller Data - PROP'!H213","v":"NO"},{"$f":"'Local Controller Data - PROP'!I213","v":"YES"},{"$f":"'Local Controller Data - PROP'!J213","v":"-"},{"$f":"'Local Controller Data - PROP'!K213","v":"NO"}]
[null,"PEDESTRIAN","(ON/OFF)",{"$f":"'Local Controller Data - EXIST'!D214","v":"NO"},{"$f":"'Local Controller Data - EXIST'!E214","v":"NO"},{"$f":"'Local Controller Data - EXIST'!F214","v":"-"},{"$f":"'Local Controller Data - EXIST'!G214","v":"NO"},{"$f":"'Local Controller Data - EXIST'!H214","v":"NO"},{"$f":"'Local Controller Data - EXIST'!I214","v":"NO"},{"$f":"'Local Controller Data - EXIST'!J214","v":"-"},{"$f":"'Local Controller Data - EXIST'!K214","v":"NO"},null,null,"PEDESTRIAN","(ON/OFF)",{"$f":"'Local Controller Data - PROP'!D214","v":"NO"},{"$f":"'Local Controller Data - PROP'!E214","v":"NO"},{"$f":"'Local Controller Data - PROP'!F214","v":"-"},{"$f":"'Local Controller Data - PROP'!G214","v":"NO"},{"$f":"'Local Controller Data - PROP'!H214","v":"NO"},{"$f":"'Local Controller Data - PROP'!I214","v":"NO"},{"$f":"'Local Controller Data - PROP'!J214","v":"-"},{"$f":"'Local Controller Data - PROP'!K214","v":"NO"}]
["MEMORY    ",null,"(ON/OFF)",{"$f":"'Local Controller Data - EXIST'!D215","v":"NO"},{"$f":"'Local Controller Data - EXIST'!E215","v":"YES"},{"$f":"'Local Controller Data - EXIST'!F215","v":"-"},{"$f":"'Local Controller Data - EXIST'!G215","v":"NO"},{"$f":"'Local Controller Data - EXIST'!H215","v":"NO"},{"$f":"'Local Controller Data - EXIST'!I215","v":"YES"},{"$f":"'Local Controller Data - EXIST'!J215","v":"-"},{"$f":"'Local Controller Data - EXIST'!K215","v":"NO"},null,"MEMORY    ",null,"(ON/OFF)",{"$f":"'Local Controller Data - PROP'!D215","v":"NO"},{"$f":"'Local Controller Data - PROP'!E215","v":"YES"},{"$f":"'Local Controller Data - PROP'!F215","v":"-"},{"$f":"'Local Controller Data - PROP'!G215","v":"NO"},{"$f":"'Local Controller Data - PROP'!H215","v":"NO"},{"$f":"'Local Controller Data - PROP'!I215","v":"YES"},{"$f":"'Local Controller Data - PROP'!J215","v":"-"},{"$f":"'Local Controller Data - PROP'!K215","v":"NO"}]
["*VOLUME DENSITY CONTROLS",null,null,null,null,null,null,null,null,null,null,null,"*VOLUME DENSITY CONTROLS"]
["# FOR CROSSINGS WITH PEDESTRIAN PUSHBUTTONS, LPI'S (LEADING PEDESTRIAN INTERVALS) MAY BE IMPLEMENTED (3-6 SEC.) IN ACCORDANCE WITH LPI DURATION TIME PER THE ODOT SIGNAL CALCULATIONS - CLEARANCE INTERVALS SPREADSHEET",null,null,null,null,null,null,null,null,null,null,null,"# FOR CROSSINGS WITH PEDESTRIAN PUSHBUTTONS, LPI'S (LEADING PEDESTRIAN INTERVALS) MAY BE IMPLEMENTED (3-6 SEC.) IN ACCORDANCE WITH LPI DURATION TIME PER THE ODOT SIGNAL CALCULATIONS - CLEARANCE INTERVALS SPREADSHEET"]
["^ WHEN IMPLEMENTING FYA, A MINIMUM 3 SEC. DELAY SHALL BE PROGRAMMED PER FYA PHASE. ",null,null,null,null,null,null,null,null,null,null,null,"^ WHEN IMPLEMENTING FYA, A MINIMUM 3 SEC. DELAY SHALL BE PROGRAMMED PER FYA PHASE. "]
[]
["ECONOLITE COORD SETTINGS",null,null,"SIEMENS COORD SETTINGS",null,null,null,null,null,null,null,null,"ECONOLITE COORD SETTINGS",null,null,"SIEMENS COORD SETTINGS"]
["MANUAL PATTERN",{"$f":"'Local Controller Data - EXIST'!B223","v":"AUTO"},null,"OPERATION",null,null,null,"-",null,null,null,null,"MANUAL PATTERN",{"$f":"'Local Controller Data - PROP'!B223","v":"AUTO"},null,"OPERATION",null,null,null,"-"]
["SYSTEM SOURCE",{"$f":"'Local Controller Data - EXIST'!B224","v":"TBC"},null,"MODE (NORMAL)",null,null,null,"-",null,null,null,null,"SYSTEM SOURCE",{"$f":"'Local Controller Data - PROP'!B224","v":"TBC"},null,"MODE (NORMAL)",null,null,null,"-"]
["SPLITS IN",{"$f":"'Local Controller Data - EXIST'!B225","v":"SECONDS"},null,"MAXIMUM",null,null,null,"-",null,null,null,null,"SPLITS IN",{"$f":"'Local Controller Data - PROP'!B225","v":"SECONDS"},null,"MAXIMUM",null,null,null,"-"]
["TRANSITION",{"$f":"'Local Controller Data - EXIST'!B226","v":"SMOOTH"},null,"CORRECTION",null,null,null,"-",null,null,null,null,"TRANSITION",{"$f":"'Local Controller Data - PROP'!B226","v":"SMOOTH"},null,"CORRECTION",null,null,null,"-"]
["DWELL/ADD TIME",{"$f":"'Local Controller Data - EXIST'!B227","v":0},null,"OFFSET MODE",null,null,null,"-",null,null,null,null,"DWELL/ADD TIME",{"$f":"'Local Controller Data - PROP'!B227","v":0},null,"OFFSET MODE",null,null,null,"-"]
["OFFSET REFERENCE",{"$f":"'Local Controller Data - EXIST'!B228","v":"YELLOW"},null,"FORCE MODE",null,null,null,"-",null,null,null,null,"OFFSET REFERENCE",{"$f":"'Local Controller Data - PROP'!B228","v":"YELLOW"},null,"FORCE MODE",null,null,null,"-"]
["PED RECALL",{"$f":"'Local Controller Data - EXIST'!B229","v":"NO"},null,"MAX DWELL TIME",null,null,null,"-",null,null,null,null,"PED RECALL",{"$f":"'Local Controller Data - PROP'!B229","v":"NO"},null,"MAX DWELL TIME",null,null,null,"-"]
["LOCAL ZERO OVERRIDE",{"$f":"'Local Controller Data - EXIST'!B230","v":"NO"},null,"YIELD PERIOD",null,null,null,"-",null,null,null,null,"LOCAL ZERO OVERRIDE",{"$f":"'Local Controller Data - PROP'!B230","v":"NO"},null,"YIELD PERIOD",null,null,null,"-"]
["RE-SYNC COUNT",{"$f":"'Local Controller Data - EXIST'!B231","v":0},null,"MANUAL CONTROL: DIAL",null,null,null,"-",null,null,null,null,"RE-SYNC COUNT",{"$f":"'Local Controller Data - PROP'!B231","v":0},null,"MANUAL CONTROL: DIAL",null,null,null,"-"]
["ECPI COORD",{"$f":"'Local Controller Data - EXIST'!B232","v":"YES"},null,"MANUAL CONTROL: SPLIT",null,null,null,"-",null,null,null,null,"ECPI COORD",{"$f":"'Local Controller Data - PROP'!B232","v":"YES"},null,"MANUAL CONTROL: SPLIT",null,null,null,"-"]
["SYSTEM FORMAT ",{"$f":"'Local Controller Data - EXIST'!B233","v":"STD"},null,"MANUAL CONTROL: OFFSET",null,null,null,"-",null,null,null,null,"SYSTEM FORMAT ",{"$f":"'Local Controller Data - PROP'!B233","v":"STD"},null,"MANUAL CONTROL: OFFSET",null,null,null,"-"]
["OFFSET IN",{"$f":"'Local Controller Data - EXIST'!B234","v":"SECONDS"},null,null,null,null,null,null,null,null,null,null,"OFFSET IN",{"$f":"'Local Controller Data - PROP'!B234","v":"SECONDS"}]
["MAX SELECT",{"$f":"'Local Controller Data - EXIST'!B235","v":"MAXINH"},null,null,null,null,null,null,null,null,null,null,"MAX SELECT",{"$f":"'Local Controller Data - PROP'!B235","v":"MAXINH"}]
["FORCE OFF",{"$f":"'Local Controller Data - EXIST'!B236","v":"FLOAT"},null,null,null,null,null,null,null,null,null,null,"FORCE OFF",{"$f":"'Local Controller Data - PROP'!B236","v":"FLOAT"}]
["USE PED TIME",{"$f":"'Local Controller Data - EXIST'!B237","v":"YES"},null,null,null,null,null,null,null,null,null,null,"USE PED TIME",{"$f":"'Local Controller Data - PROP'!B237","v":"YES"}]
["PED RESERVICE",{"$f":"'Local Controller Data - EXIST'!B238","v":"NO"},null,null,null,null,null,null,null,null,null,null,"PED RESERVICE",{"$f":"'Local Controller Data - PROP'!B238","v":"NO"}]
["FO ADD INI GRN",{"$f":"'Local Controller Data - EXIST'!B239","v":"NO"},null,null,null,null,null,null,null,null,null,null,"FO ADD INI GRN",{"$f":"'Local Controller Data - PROP'!B239","v":"NO"}]
["MULTISYNC",{"$f":"'Local Controller Data - EXIST'!B240","v":"NO"},null,null,null,null,null,null,null,"EXISTING TIMING",null,null,"MULTISYNC",{"$f":"'Local Controller Data - PROP'!B240","v":"NO"},null,null,null,null,null,null,null,"PROPOSED TIMING"]
[]
[{"$f":"'Project Name'!$C$2","v":"LOR-254/301 Signal Timing"},null,null,null,null,null,null,null,null,null,null,null,{"$f":"'Project Name'!$C$2","v":"LOR-254/301 Signal Timing"}]
["Existing Local Controller Data",null,null,null,null,null,null,null,null,null,null,null,"Proposed Local Controller Data"]
["INTERSECTION:",null,null,null,null,null,null,null,null,null,null,null,"INTERSECTION:"]
["MAINTAINING AGENCY:",null,null,null,null,null,null,null,null,null,null,null,"MAINTAINING AGENCY:"]
["START UP",null,null,"DUAL ENTRY: ",null,"-","PHASES:",null,"-",null,null,null,"START UP",null,null,"DUAL ENTRY: ",null,"-","PHASES:",null,"-"]
[null,null,null,"REST IN RED: ",null,null,"RING 1","-",null,"RING 2","-",null,null,null,null,"REST IN RED: ",null,null,"RING 1","-",null,"RING 2","-"]
["START IN: ",{"$f":"'Local Controller Data - EXIST'!B249:C249","v":"ALL-RED FLASH"},null,"OVERLAP",null,null,null,"A","B","C","D",null,"START IN: ","-",null,"OVERLAP",null,null,null,"A","B","C","D"]
["TIME FOR FLASH / ALL RED (SEC.):   ",null,"9, 6",null,null,null,null,null,null,null,null,null,"TIME FOR FLASH / ALL RED (SEC.):   ",null,"9, 6"]
["FIRST PHASE(S):",{"$f":"'Local Controller Data - EXIST'!B251:C251","v":"2, 6"},null,"PHASES",null,null,null,{"$f":"'Local Controller Data - EXIST'!H251","v":1},{"$f":"'Local Controller Data - EXIST'!I251","v":5},{"$f":"'Local Controller Data - EXIST'!J251","v":3},{"$f":"'Local Controller Data - EXIST'!K251","v":"-"},null,"FIRST PHASE(S):",{"$f":"'Local Controller Data - PROP'!B251:C251","v":{"$error":"#VALUE!"}},null,"PHASES",null,null,null,{"$f":"'Local Controller Data - PROP'!H251","v":1},{"$f":"'Local Controller Data - PROP'!I251","v":5},{"$f":"'Local Controller Data - PROP'!J251","v":3},{"$f":"'Local Controller Data - PROP'!K251","v":"-"}]
["COLOR DISPLAYED:","-",null,null,null,null,null,null,null,null,null,null,"COLOR DISPLAYED:","-"]
["INTERVAL OR FEATURE",null,null,"CONTROLLER MOVEMENT NO.",null,null,null,null,null,null,null,null,"INTERVAL OR FEATURE",null,null,"CONTROLLER MOVEMENT NO."]
["INTERSECTION MOVEMENT (PHASE)",null,null,1,2,3,4,5,6,7,8,null,"INTERSECTION MOVEMENT (PHASE)",null,null,1,2,3,4,5,6,7,8]
["DIRECTION",null,null,{"$f":"'Local Controller Data - EXIST'!D256","v":"WBL"},{"$f":"'Local Controller Data - EXIST'!E256","v":"EBT"},{"$f":"'Local Controller Data - EXIST'!F256","v":"NBL"},{"$f":"'Local Controller Data - EXIST'!G256","v":"SBT"},{"$f":"'Local Controller Data - EXIST'!H256","v":"EBL"},{"$f":"'Local Controller Data - EXIST'!I256","v":"WBT"},{"$f":"'Local Controller Data - EXIST'!J256","v":"SBL"},{"$f":"'Local Controller Data - EXIST'!K256","v":"NBT"},null,"DIRECTION",null,null,{"$f":"'Local Controller Data - PROP'!D256","v":"WBL"},{"$f":"'Local Controller Data - PROP'!E256","v":"EBT"},{"$f":"'Local Controller Data - PROP'!F256","v":"NBL"},{"$f":"'Local Controller Data - PROP'!G256","v":"SBT"},{"$f":"'Local Controller Data - PROP'!H256","v":"EBL"},{"$f":"'Local Controller Data - PROP'!I256","v":"WBT"},{"$f":"'Local Controller Data - PROP'!J256","v":"SBL"},{"$f":"'Local Controller Data - PROP'!K256","v":"NBT"}]
["MINIMUM GREEN (INITIAL) ",null,"(SEC.)",{"$f":"'Local Controller Data - EXIST'!D257","v":7},{"$f":"'Local Controller Data - EXIST'!E257","v":20},{"$f":"'Local Controller Data - EXIST'!F257","v":7},{"$f":"'Local Controller Data - EXIST'!G257","v":10},{"$f":"'Local Controller Data - EXIST'!H257","v":7},{"$f":"'Local Controller Data - EXIST'!I257","v":20},{"$f":"'Local Controller Data - EXIST'!J257","v":7},{"$f":"'Local Controller Data - EXIST'!K257","v":10},null,"MINIMUM GREEN (INITIAL) ",null,"(SEC.)",{"$f":"'Local Controller Data - PROP'!D257","v":7},{"$f":"'Local Controller Data - PROP'!E257","v":20},{"$f":"'Local Controller Data - PROP'!F257","v":10},{"$f":"'Local Controller Data - PROP'!G257","v":10},{"$f":"'Local Controller Data - PROP'!H257","v":7},{"$f":"'Local Controller Data - PROP'!I257","v":20},{"$f":"'Local Controller Data - PROP'!J257","v":7},{"$f":"'Local Controller Data - PROP'!K257","v":10}]
["ADDED INITIAL","*(SEC./ACTUATION)",null,{"$f":"'Local Controller Data - EXIST'!D258","v":"-"},{"$f":"'Local Controller Data - EXIST'!E258","v":"-"},{"$f":"'Local Controller Data - EXIST'!F258","v":"-"},{"$f":"'Local Controller Data - EXIST'!G258","v":"-"},{"$f":"'Local Controller Data - EXIST'!H258","v":"-"},{"$f":"'Local Controller Data - EXIST'!I258","v":"-"},{"$f":"'Local Controller Data - EXIST'!J258","v":"-"},{"$f":"'Local Controller Data - EXIST'!K258","v":"-"},null,"ADDED INITIAL","*(SEC./ACTUATION)",null,{"$f":"'Local Controller Data - PROP'!D258","v":"-"},{"$f":"'Local Controller Data - PROP'!E258","v":"-"},{"$f":"'Local Controller Data - PROP'!F258","v":"-"},{"$f":"'Local Controller Data - PROP'!G258","v":"-"},{"$f":"'Local Controller Data - PROP'!H258","v":"-"},{"$f":"'Local Controller Data - PROP'!I258","v":"-"},{"$f":"'Local Controller Data - PROP'!J258","v":"-"},{"$f":"'Local Controller Data - PROP'!K258","v":"-"}]
["MAXIMUM INITIAL",null,"*(SEC.)",{"$f":"'Local Controller Data - EXIST'!D259","v":"-"},{"$f":"'Local Controller Data - EXIST'!E259","v":"-"},{"$f":"'Local Controller Data - EXIST'!F259","v":"-"},{"$f":"'Local Controller Data - EXIST'!G259","v":"-"},{"$f":"'Local Controller Data - EXIST'!H259","v":"-"},{"$f":"'Local Controller Data - EXIST'!I259","v":"-"},{"$f":"'Local Controller Data - EXIST'!J259","v":"-"},{"$f":"'Local Controller Data - EXIST'!K259","v":"-"},null,"MAXIMUM INITIAL",null,"*(SEC.)",{"$f":"'Local Controller Data - PROP'!D259","v":"-"},{"$f":"'Local Controller Data - PROP'!E259","v":"-"},{"$f":"'Local Controller Data - PROP'!F259","v":"-"},{"$f":"'Local Controller Data - PROP'!G259","v":"-"},{"$f":"'Local Controller Data - PROP'!H259","v":"-"},{"$f":"'Local Controller Data - PROP'!I259","v":"-"},{"$f":"'Local Controller Data - PROP'!J259","v":"-"},{"$f":"'Local Controller Data - PROP'!K259","v":"-"}]
["PASSAGE TIME (PRESET GAP)",null,"(SEC.)",{"$f":"'Local Controller Data - EXIST'!D260","v":3},{"$f":"'Local Controller Data - EXIST'!E260","v":3},{"$f":"'Local Controller Data - EXIST'!F260","v":3},{"$f":"'Local Controller Data - EXIST'!G260","v":3},{"$f":"'Local Controller Data - EXIST'!H260","v":3},{"$f":"'Local Controller Data - EXIST'!I260","v":3},{"$f":"'Local Controller Data - EXIST'!J260","v":3},{"$f":"'Local Controller Data - EXIST'!K260","v":3},null,"PASSAGE TIME (PRESET GAP)",null,"(SEC.)",{"$f":"'Local Controller Data - PROP'!D260","v":3},{"$f":"'Local Controller Data - PROP'!E260","v":3},{"$f":"'Local Controller Data - PROP'!F260","v":3},{"$f":"'Local Controller Data - PROP'!G260","v":3},{"$f":"'Local Controller Data - PROP'!H260","v":3},{"$f":"'Local Controller Data - PROP'!I260","v":3},{"$f":"'Local Controller Data - PROP'!J260","v":3},{"$f":"'Local Controller Data - PROP'!K260","v":3}]
["TIME BEFORE REDUCTION",null,"*(SEC.)",{"$f":"'Local Controller Data - EXIST'!D261","v":"-"},{"$f":"'Local Controller Data - EXIST'!E261","v":"-"},{"$f":"'Local Controller Data - EXIST'!F261","v":"-"},{"$f":"'Local Controller Data - EXIST'!G261","v":"-"},{"$f":"'Local Controller Data - EXIST'!H261","v":"-"},{"$f":"'Local Controller Data - EXIST'!I261","v":"-"},{"$f":"'Local Controller Data - EXIST'!J261","v":"-"},{"$f":"'Local Controller Data - EXIST'!K261","v":"-"},null,"TIME BEFORE REDUCTION",null,"*(SEC.)",{"$f":"'Local Controller Data - PROP'!D261","v":"-"},{"$f":"'Local Controller Data - PROP'!E261","v":"-"},{"$f":"'Local Controller Data - PROP'!F261","v":"-"},{"$f":"'Local Controller Data - PROP'!G261","v":"-"},{"$f":"'Local Controller Data - PROP'!H261","v":"-"},{"$f":"'Local Controller Data - PROP'!I261","v":"-"},{"$f":"'Local Controller Data - PROP'!J261","v":"-"},{"$f":"'Local Controller Data - PROP'!K261","v":"-"}]
["MINIMUM GAP",null,"*(SEC.)",{"$f":"'Local Controller Data - EXIST'!D262","v":"-"},{"$f":"'Local Controller Data - EXIST'!E262","v":"-"},{"$f":"'Local Controller Data - EXIST'!F262","v":"-"},{"$f":"'Local Controller Data - EXIST'!G262","v":"-"},{"$f":"'Local Controller Data - EXIST'!H262","v":"-"},{"$f":"'Local Controller Data - EXIST'!I262","v":"-"},{"$f":"'Local Controller Data - EXIST'!J262","v":"-"},{"$f":"'Local Controller Data - EXIST'!K262","v":"-"},null,"MINIMUM GAP",null,"*(SEC.)",{"$f":"'Local Controller Data - PROP'!D262","v":"-"},{"$f":"'Local Controller Data - PROP'!E262","v":"-"},{"$f":"'Local Controller Data - PROP'!F262","v":"-"},{"$f":"'Local Controller Data - PROP'!G262","v":"-"},{"$f":"'Local Controller Data - PROP'!H262","v":"-"},{"$f":"'Local Controller Data - PROP'!I262","v":"-"},{"$f":"'Local Controller Data - PROP'!J262","v":"-"},{"$f":"'Local Controller Data - PROP'!K262","v":"-"}]
["TIME TO REDUCE",null,"*(SEC.)",{"$f":"'Local Controller Data - EXIST'!D263","v":"-"},{"$f":"'Local Controller Data - EXIST'!E263","v":"-"},{"$f":"'Local Controller Data - EXIST'!F263","v":"-"},{"$f":"'Local Controller Data - EXIST'!G263","v":"-"},{"$f":"'Local Controller Data - EXIST'!H263","v":"-"},{"$f":"'Local Controller Data - EXIST'!I263","v":"-"},{"$f":"'Local Controller Data - EXIST'!J263","v":"-"},{"$f":"'Local Controller Data - EXIST'!K263","v":"-"},null,"TIME TO REDUCE",null,"*(SEC.)",{"$f":"'Local Controller Data - PROP'!D263","v":"-"},{"$f":"'Local Controller Data - PROP'!E263","v":"-"},{"$f":"'Local Controller Data - PROP'!F263","v":"-"},{"$f":"'Local Controller Data - PROP'!G263","v":"-"},{"$f":"'Local Controller Data - PROP'!H263","v":"-"},{"$f":"'Local Controller Data - PROP'!I263","v":"-"},{"$f":"'Local Controller Data - PROP'!J263","v":"-"},{"$f":"'Local Controller Data - PROP'!K263","v":"-"}]
["MAXIMUM GREEN I",null,"(SEC.)",{"$f":"'Local Controller Data - EXIST'!D264","v":15},{"$f":"'Local Controller Data - EXIST'!E264","v":50},{"$f":"'Local Controller Data - EXIST'!F264","v":20},{"$f":"'Local Controller Data - EXIST'!G264","v":45},{"$f":"'Local Controller Data - EXIST'!H264","v":15},{"$f":"'Local Controller Data - EXIST'!I264","v":50},{"$f":"'Local Controller Data - EXIST'!J264","v":20},{"$f":"'Local Controller Data - EXIST'!K264","v":45},null,"MAXIMUM GREEN I",null,"(SEC.)",{"$f":"'Local Controller Data - PROP'!D264","v":15},{"$f":"'Local Controller Data - PROP'!E264","v":50},{"$f":"'Local Controller Data - PROP'!F264","v":20},{"$f":"'Local Controller Data - PROP'!G264","v":45},{"$f":"'Local Controller Data - PROP'!H264","v":15},{"$f":"'Local Controller Data - PROP'!I264","v":50},{"$f":"'Local Controller Data - PROP'!J264","v":20},{"$f":"'Local Controller Data - PROP'!K264","v":45}]
["MAXIMUM GREEN II",null,"(SEC.)",{"$f":"'Local Controller Data - EXIST'!D265","v":15},{"$f":"'Local Controller Data - EXIST'!E265","v":50},{"$f":"'Local Controller Data - EXIST'!F265","v":20},{"$f":"'Local Controller Data - EXIST'!G265","v":45},{"$f":"'Local Controller Data - EXIST'!H265","v":15},{"$f":"'Local Controller Data - EXIST'!I265","v":50},{"$f":"'Local Controller Data - EXIST'!J265","v":20},{"$f":"'Local Controller Data - EXIST'!K265","v":45},null,"MAXIMUM GREEN II",null,"(SEC.)",{"$f":"'Local Controller Data - PROP'!D265","v":15},{"$f":"'Local Controller Data - PROP'!E265","v":50},{"$f":"'Local Controller Data - PROP'!F265","v":20},{"$f":"'Local Controller Data - PROP'!G265","v":45},{"$f":"'Local Controller Data - PROP'!H265","v":15},{"$f":"'Local Controller Data - PROP'!I265","v":50},{"$f":"'Local Controller Data - PROP'!J265","v":20},{"$f":"'Local Controller Data - PROP'!K265","v":45}]
["YELLOW CHANGE",null,"(SEC.)",{"$f":"'Local Controller Data - EXIST'!D266","v":3.2},{"$f":"'Local Controller Data - EXIST'!E266","v":4.0999999999999996},{"$f":"'Local Controller Data - EXIST'!F266","v":3.2},{"$f":"'Local Controller Data - EXIST'!G266","v":4.0999999999999996},{"$f":"'Local Controller Data - EXIST'!H266","v":3.2},{"$f":"'Local Controller Data - EXIST'!I266","v":4.0999999999999996},{"$f":"'Local Controller Data - EXIST'!J266","v":3.2},{"$f":"'Local Controller Data - EXIST'!K266","v":4.0999999999999996},null,"YELLOW CHANGE",null,"(SEC.)",{"$f":"'Local Controller Data - PROP'!D266","v":3.5},{"$f":"'Local Controller Data - PROP'!E266","v":4.3},{"$f":"'Local Controller Data - PROP'!F266","v":3.1},{"$f":"'Local Controller Data - PROP'!G266","v":4},{"$f":"'Local Controller Data - PROP'!H266","v":3.5},{"$f":"'Local Controller Data - PROP'!I266","v":4.3},{"$f":"'Local Controller Data - PROP'!J266","v":3.1},{"$f":"'Local Controller Data - PROP'!K266","v":4}]
["ALL RED CLEARANCE",null,"(SEC.)",{"$f":"'Local Controller Data - EXIST'!D267","v":3.6},{"$f":"'Local Controller Data - EXIST'!E267","v":1.6},{"$f":"'Local Controller Data - EXIST'!F267","v":2.2999999999999998},{"$f":"'Local Controller Data - EXIST'!G267","v":1},{"$f":"'Local Controller Data - EXIST'!H267","v":3.6},{"$f":"'Local Controller Data - EXIST'!I267","v":1.6},{"$f":"'Local Controller Data - EXIST'!J267","v":2.2999999999999998},{"$f":"'Local Controller Data - EXIST'!K267","v":1},null,"ALL RED CLEARANCE",null,"(SEC.)",{"$f":"'Local Controller Data - PROP'!D267","v":4.4000000000000004},{"$f":"'Local Controller Data - PROP'!E267","v":2.2000000000000002},{"$f":"'Local Controller Data - PROP'!F267","v":3},{"$f":"'Local Controller Data - PROP'!G267","v":1.6},{"$f":"'Local Controller Data - PROP'!H267","v":4.4000000000000004},{"$f":"'Local Controller Data - PROP'!I267","v":2.2000000000000002},{"$f":"'Local Controller Data - PROP'!J267","v":3},{"$f":"'Local Controller Data - PROP'!K267","v":1.6}]
["DELAYED GREEN (LPI) #",null,"(SEC.)",{"$f":"'Local Controller Data - EXIST'!D268","v":"-"},{"$f":"'Local Controller Data - EXIST'!E268","v":"-"},{"$f":"'Local Controller Data - EXIST'!F268","v":"-"},{"$f":"'Local Controller Data - EXIST'!G268","v":"-"},{"$f":"'Local Controller Data - EXIST'!H268","v":"-"},{"$f":"'Local Controller Data - EXIST'!I268","v":"-"},{"$f":"'Local Controller Data - EXIST'!J268","v":"-"},{"$f":"'Local Controller Data - EXIST'!K268","v":"-"},null,"DELAYED GREEN (LPI) #",null,"(SEC.)",{"$f":"'Local Controller Data - PROP'!D268","v":"-"},{"$f":"'Local Controller Data - PROP'!E268","v":"-"},{"$f":"'Local Controller Data - PROP'!F268","v":"-"},{"$f":"'Local Controller Data - PROP'!G268","v":"-"},{"$f":"'Local Controller Data - PROP'!H268","v":"-"},{"$f":"'Local Controller Data - PROP'!I268","v":"-"},{"$f":"'Local Controller Data - PROP'!J268","v":"-"},{"$f":"'Local Controller Data - PROP'!K268","v":"-"}]
["FLASHING YELLOW ARROW DELAY^",null,"(SEC.)",{"$f":"'Local Controller Data - EXIST'!D269","v":"-"},{"$f":"'Local Controller Data - EXIST'!E269","v":"-"},{"$f":"'Local Controller Data - EXIST'!F269","v":"-"},{"$f":"'Local Controller Data - EXIST'!G269","v":"-"},{"$f":"'Local Controller Data - EXIST'!H269","v":"-"},{"$f":"'Local Controller Data - EXIST'!I269","v":"-"},{"$f":"'Local Controller Data - EXIST'!J269","v":"-"},{"$f":"'Local Controller Data - EXIST'!K269","v":"-"},null,"FLASHING YELLOW ARROW DELAY^",null,"(SEC.)",{"$f":"'Local Controller Data - PROP'!D269","v":"-"},{"$f":"'Local Controller Data - PROP'!E269","v":"-"},{"$f":"'Local Controller Data - PROP'!F269","v":"-"},{"$f":"'Local Controller Data - PROP'!G269","v":"-"},{"$f":"'Local Controller Data - PROP'!H269","v":"-"},{"$f":"'Local Controller Data - PROP'!I269","v":"-"},{"$f":"'Local Controller Data - PROP'!J269","v":"-"},{"$f":"'Local Controller Data - PROP'!K269","v":"-"}]
["WALK",null,"(SEC.)",{"$f":"'Local Controller Data - EXIST'!D270","v":"-"},{"$f":"'Local Controller Data - EXIST'!E270","v":11},{"$f":"'Local Controller Data - EXIST'!F270","v":"-"},{"$f":"'Local Controller Data - EXIST'!G270","v":10},{"$f":"'Local Controller Data - EXIST'!H270","v":"-"},{"$f":"'Local Controller Data - EXIST'!I270","v":"-"},{"$f":"'Local Controller Data - EXIST'!J270","v":"-"},{"$f":"'Local Controller Data - EXIST'!K270","v":10},null,"WALK",null,"(SEC.)",{"$f":"'Local Controller Data - PROP'!D270","v":"-"},{"$f":"'Local Controller Data - PROP'!E270","v":11},{"$f":"'Local Controller Data - PROP'!F270","v":"-"},{"$f":"'Local Controller Data - PROP'!G270","v":11},{"$f":"'Local Controller Data - PROP'!H270","v":"-"},{"$f":"'Local Controller Data - PROP'!I270","v":"-"},{"$f":"'Local Controller Data - PROP'!J270","v":"-"},{"$f":"'Local Controller Data - PROP'!K270","v":10}]
["PEDESTRIAN CLEARANCE",null,"(SEC.)",{"$f":"'Local Controller Data - EXIST'!D271","v":"-"},{"$f":"'Local Controller Data - EXIST'!E271","v":28},{"$f":"'Local Controller Data - EXIST'!F271","v":"-"},{"$f":"'Local Controller Data - EXIST'!G271","v":27},{"$f":"'Local Controller Data - EXIST'!H271","v":"-"},{"$f":"'Local Controller Data - EXIST'!I271","v":7},{"$f":"'Local Controller Data - EXIST'!J271","v":"-"},{"$f":"'Local Controller Data - EXIST'!K271","v":27},null,"PEDESTRIAN CLEARANCE",null,"(SEC.)",{"$f":"'Local Controller Data - PROP'!D271","v":"-"},{"$f":"'Local Controller Data - PROP'!E271","v":29},{"$f":"'Local Controller Data - PROP'!F271","v":"-"},{"$f":"'Local Controller Data - PROP'!G271","v":29},{"$f":"'Local Controller Data - PROP'!H271","v":"-"},{"$f":"'Local Controller Data - PROP'!I271","v":"-"},{"$f":"'Local Controller Data - PROP'!J271","v":"-"},{"$f":"'Local Controller Data - PROP'!K271","v":25}]
["RECALL","MAXIMUM","(ON/OFF)",{"$f":"'Local Controller Data - EXIST'!D272","v":"NO"},{"$f":"'Local Controller Data - EXIST'!E272","v":"NO"},{"$f":"'Local Controller Data - EXIST'!F272","v":"NO"},{"$f":"'Local Controller Data - EXIST'!G272","v":"NO"},{"$f":"'Local Controller Data - EXIST'!H272","v":"NO"},{"$f":"'Local Controller Data - EXIST'!I272","v":"NO"},{"$f":"'Local Controller Data - EXIST'!J272","v":"NO"},{"$f":"'Local Controller Data - EXIST'!K272","v":"NO"},null,"RECALL","MAXIMUM","(ON/OFF)",{"$f":"'Local Controller Data - PROP'!D272","v":"NO"},{"$f":"'Local Controller Data - PROP'!E272","v":"NO"},{"$f":"'Local Controller Data - PROP'!F272","v":"NO"},{"$f":"'Local Controller Data - PROP'!G272","v":"NO"},{"$f":"'Local Controller Data - PROP'!H272","v":"NO"},{"$f":"'Local Controller Data - PROP'!I272","v":"NO"},{"$f":"'Local Controller Data - PROP'!J272","v":"NO"},{"$f":"'Local Controller Data - PROP'!K272","v":"NO"}]
[null,"MINIMUM","(ON/OFF)",{"$f":"'Local Controller Data - EXIST'!D273","v":"NO"},{"$f":"'Local Controller Data - EXIST'!E273","v":"YES"},{"$f":"'Local Controller Data - EXIST'!F273","v":"NO"},{"$f":"'Local Controller Data - EXIST'!G273","v":"NO"},{"$f":"'Local Controller Data - EXIST'!H273","v":"NO"},{"$f":"'Local Controller Data - EXIST'!I273","v":"YES"},{"$f":"'Local Controller Data - EXIST'!J273","v":"NO"},{"$f":"'Local Controller Data - EXIST'!K273","v":"NO"},null,null,"MINIMUM","(ON/OFF)",{"$f":"'Local Controller Data - PROP'!D273","v":"NO"},{"$f":"'Local Controller Data - PROP'!E273","v":"YES"},{"$f":"'Local Controller Data - PROP'!F273","v":"NO"},{"$f":"'Local Controller Data - PROP'!G273","v":"NO"},{"$f":"'Local Controller Data - PROP'!H273","v":"NO"},{"$f":"'Local Controller Data - PROP'!I273","v":"YES"},{"$f":"'Local Controller Data - PROP'!J273","v":"NO"},{"$f":"'Local Controller Data - PROP'!K273","v":"NO"}]
[null,"PEDESTRIAN","(ON/OFF)",{"$f":"'Local Controller Data - EXIST'!D274","v":"NO"},{"$f":"'Local Controller Data - EXIST'!E274","v":"NO"},{"$f":"'Local Controller Data - EXIST'!F274","v":"NO"},{"$f":"'Local Controller Data - EXIST'!G274","v":"NO"},{"$f":"'Local Controller Data - EXIST'!H274","v":"NO"},{"$f":"'Local Controller Data - EXIST'!I274","v":"NO"},{"$f":"'Local Controller Data - EXIST'!J274","v":"NO"},{"$f":"'Local Controller Data - EXIST'!K274","v":"NO"},null,null,"PEDESTRIAN","(ON/OFF)",{"$f":"'Local Controller Data - PROP'!D274","v":"NO"},{"$f":"'Local Controller Data - PROP'!E274","v":"NO"},{"$f":"'Local Controller Data - PROP'!F274","v":"NO"},{"$f":"'Local Controller Data - PROP'!G274","v":"NO"},{"$f":"'Local Controller Data - PROP'!H274","v":"NO"},{"$f":"'Local Controller Data - PROP'!I274","v":"NO"},{"$f":"'Local Controller Data - PROP'!J274","v":"NO"},{"$f":"'Local Controller Data - PROP'!K274","v":"NO"}]
["MEMORY    ",null,"(ON/OFF)",{"$f":"'Local Controller Data - EXIST'!D275","v":"NO"},{"$f":"'Local Controller Data - EXIST'!E275","v":"YES"},{"$f":"'Local Controller Data - EXIST'!F275","v":"NO"},{"$f":"'Local Controller Data - EXIST'!G275","v":"NO"},{"$f":"'Local Controller Data - EXIST'!H275","v":"NO"},{"$f":"'Local Controller Data - EXIST'!I275","v":"YES"},{"$f":"'Local Controller Data - EXIST'!J275","v":"NO"},{"$f":"'Local Controller Data - EXIST'!K275","v":"NO"},null,"MEMORY    ",null,"(ON/OFF)",{"$f":"'Local Controller Data - PROP'!D275","v":"NO"},{"$f":"'Local Controller Data - PROP'!E275","v":"YES"},{"$f":"'Local Controller Data - PROP'!F275","v":"NO"},{"$f":"'Local Controller Data - PROP'!G275","v":"NO"},{"$f":"'Local Controller Data - PROP'!H275","v":"NO"},{"$f":"'Local Controller Data - PROP'!I275","v":"YES"},{"$f":"'Local Controller Data - PROP'!J275","v":"NO"},{"$f":"'Local Controller Data - PROP'!K275","v":"NO"}]
["*VOLUME DENSITY CONTROLS",null,null,null,null,null,null,null,null,null,null,null,"*VOLUME DENSITY CONTROLS"]
["# FOR CROSSINGS WITH PEDESTRIAN PUSHBUTTONS, LPI'S (LEADING PEDESTRIAN INTERVALS) MAY BE IMPLEMENTED (3-6 SEC.) IN ACCORDANCE WITH LPI DURATION TIME PER THE ODOT SIGNAL CALCULATIONS - CLEARANCE INTERVALS SPREADSHEET",null,null,null,null,null,null,null,null,null,null,null,"# FOR CROSSINGS WITH PEDESTRIAN PUSHBUTTONS, LPI'S (LEADING PEDESTRIAN INTERVALS) MAY BE IMPLEMENTED (3-6 SEC.) IN ACCORDANCE WITH LPI DURATION TIME PER THE ODOT SIGNAL CALCULATIONS - CLEARANCE INTERVALS SPREADSHEET"]
["^ WHEN IMPLEMENTING FYA, A MINIMUM 3 SEC. DELAY SHALL BE PROGRAMMED PER FYA PHASE. ",null,null,null,null,null,null,null,null,null,null,null,"^ WHEN IMPLEMENTING FYA, A MINIMUM 3 SEC. DELAY SHALL BE PROGRAMMED PER FYA PHASE. "]
[]
["ECONOLITE COORD SETTINGS",null,null,"SIEMENS COORD SETTINGS",null,null,null,null,null,null,null,null,"ECONOLITE COORD SETTINGS",null,null,"SIEMENS COORD SETTINGS"]
["MANUAL PATTERN",{"$f":"'Local Controller Data - EXIST'!B283","v":"AUTO"},null,"OPERATION",null,null,null,"-",null,null,null,null,"MANUAL PATTERN",{"$f":"'Local Controller Data - PROP'!B283","v":"AUTO"},null,"OPERATION",null,null,null,"-"]
["SYSTEM SOURCE",{"$f":"'Local Controller Data - EXIST'!B284","v":"TBC"},null,"MODE (NORMAL)",null,null,null,"-",null,null,null,null,"SYSTEM SOURCE",{"$f":"'Local Controller Data - PROP'!B284","v":"TBC"},null,"MODE (NORMAL)",null,null,null,"-"]
["SPLITS IN",{"$f":"'Local Controller Data - EXIST'!B285","v":"SECONDS"},null,"MAXIMUM",null,null,null,"-",null,null,null,null,"SPLITS IN",{"$f":"'Local Controller Data - PROP'!B285","v":"SECONDS"},null,"MAXIMUM",null,null,null,"-"]
["TRANSITION",{"$f":"'Local Controller Data - EXIST'!B286","v":"SMOOTH"},null,"CORRECTION",null,null,null,"-",null,null,null,null,"TRANSITION",{"$f":"'Local Controller Data - PROP'!B286","v":"SMOOTH"},null,"CORRECTION",null,null,null,"-"]
["DWELL/ADD TIME",{"$f":"'Local Controller Data - EXIST'!B287","v":0},null,"OFFSET MODE",null,null,null,"-",null,null,null,null,"DWELL/ADD TIME",{"$f":"'Local Controller Data - PROP'!B287","v":0},null,"OFFSET MODE",null,null,null,"-"]
["OFFSET REFERENCE",{"$f":"'Local Controller Data - EXIST'!B288","v":"YELLOW"},null,"FORCE MODE",null,null,null,"-",null,null,null,null,"OFFSET REFERENCE",{"$f":"'Local Controller Data - PROP'!B288","v":"YELLOW"},null,"FORCE MODE",null,null,null,"-"]
["PED RECALL",{"$f":"'Local Controller Data - EXIST'!B289","v":"NO"},null,"MAX DWELL TIME",null,null,null,"-",null,null,null,null,"PED RECALL",{"$f":"'Local Controller Data - PROP'!B289","v":"NO"},null,"MAX DWELL TIME",null,null,null,"-"]
["LOCAL ZERO OVERRIDE",{"$f":"'Local Controller Data - EXIST'!B290","v":"NO"},null,"YIELD PERIOD",null,null,null,"-",null,null,null,null,"LOCAL ZERO OVERRIDE",{"$f":"'Local Controller Data - PROP'!B290","v":"NO"},null,"YIELD PERIOD",null,null,null,"-"]
["RE-SYNC COUNT",{"$f":"'Local Controller Data - EXIST'!B291","v":0},null,"MANUAL CONTROL: DIAL",null,null,null,"-",null,null,null,null,"RE-SYNC COUNT",{"$f":"'Local Controller Data - PROP'!B291","v":0},null,"MANUAL CONTROL: DIAL",null,null,null,"-"]
["ECPI COORD",{"$f":"'Local Controller Data - EXIST'!B292","v":"YES"},null,"MANUAL CONTROL: SPLIT",null,null,null,"-",null,null,null,null,"ECPI COORD",{"$f":"'Local Controller Data - PROP'!B292","v":"YES"},null,"MANUAL CONTROL: SPLIT",null,null,null,"-"]
["SYSTEM FORMAT ",{"$f":"'Local Controller Data - EXIST'!B293","v":"STD"},null,"MANUAL CONTROL: OFFSET",null,null,null,"-",null,null,null,null,"SYSTEM FORMAT ",{"$f":"'Local Controller Data - PROP'!B293","v":"STD"},null,"MANUAL CONTROL: OFFSET",null,null,null,"-"]
["OFFSET IN",{"$f":"'Local Controller Data - EXIST'!B294","v":"SECONDS"},null,null,null,null,null,null,null,null,null,null,"OFFSET IN",{"$f":"'Local Controller Data - PROP'!B294","v":"SECONDS"}]
["MAX SELECT",{"$f":"'Local Controller Data - EXIST'!B295","v":"MAXINH"},null,null,null,null,null,null,null,null,null,null,"MAX SELECT",{"$f":"'Local Controller Data - PROP'!B295","v":"MAXINH"}]
["FORCE OFF",{"$f":"'Local Controller Data - EXIST'!B296","v":"FLOAT"},null,null,null,null,null,null,null,null,null,null,"FORCE OFF",{"$f":"'Local Controller Data - PROP'!B296","v":"FLOAT"}]
["USE PED TIME",{"$f":"'Local Controller Data - EXIST'!B297","v":"YES"},null,null,null,null,null,null,null,null,null,null,"USE PED TIME",{"$f":"'Local Controller Data - PROP'!B297","v":"YES"}]
["PED RESERVICE",{"$f":"'Local Controller Data - EXIST'!B298","v":"NO"},null,null,null,null,null,null,null,null,null,null,"PED RESERVICE",{"$f":"'Local Controller Data - PROP'!B298","v":"NO"}]
["FO ADD INI GRN",{"$f":"'Local Controller Data - EXIST'!B299","v":"NO"},null,null,null,null,null,null,null,null,null,null,"FO ADD INI GRN",{"$f":"'Local Controller Data - PROP'!B299","v":"NO"}]
["MULTISYNC",{"$f":"'Local Controller Data - EXIST'!B300","v":"NO"},null,null,null,null,null,null,null,"EXISTING TIMING",null,null,"MULTISYNC",{"$f":"'Local Controller Data - PROP'!B300","v":"NO"},null,null,null,null,null,null,null,"PROPOSED TIMING"]
[]
[{"$f":"'Project Name'!$C$2","v":"LOR-254/301 Signal Timing"},null,null,null,null,null,null,null,null,null,null,null,{"$f":"'Project Name'!$C$2","v":"LOR-254/301 Signal Timing"}]
["Existing Local Controller Data",null,null,null,null,null,null,null,null,null,null,null,"Proposed Local Controller Data"]
["INTERSECTION:",null,null,null,null,null,null,null,null,null,null,null,"INTERSECTION:"]
["MAINTAINING AGENCY:",null,null,null,null,null,null,null,null,null,null,null,"MAINTAINING AGENCY:"]
["START UP",null,null,"DUAL ENTRY: ",null,"-","PHASES:",null,"-",null,null,null,"START UP",null,null,"DUAL ENTRY: ",null,"-","PHASES:",null,"-"]
[null,null,null,"REST IN RED: ",null,null,"RING 1","-",null,"RING 2","-",null,null,null,null,"REST IN RED: ",null,null,"RING 1","-",null,"RING 2","-"]
["START IN: ",{"$f":"'Local Controller Data - EXIST'!B309:C309","v":"ALL-RED FLASH"},null,"OVERLAP",null,null,null,"A","B","C","D",null,"START IN: ","-",null,"OVERLAP",null,null,null,"A","B","C","D"]
["TIME FOR FLASH / ALL RED (SEC.):   ",null,"9, 6",null,null,null,null,null,null,null,null,null,"TIME FOR FLASH / ALL RED (SEC.):   ",null,"9, 6"]
["FIRST PHASE(S):",{"$f":"'Local Controller Data - EXIST'!B311:C311","v":"2, 6"},null,"PHASES",null,null,null,{"$f":"'Local Controller Data - EXIST'!H311","v":"-"},{"$f":"'Local Controller Data - EXIST'!I311","v":"-"},{"$f":"'Local Controller Data - EXIST'!J311","v":"-"},{"$f":"'Local Controller Data - EXIST'!K311","v":"-"},null,"FIRST PHASE(S):",{"$f":"'Local Controller Data - PROP'!B311:C311","v":{"$error":"#VALUE!"}},null,"PHASES",null,null,null,{"$f":"'Local Controller Data - PROP'!H311","v":"-"},{"$f":"'Local Controller Data - PROP'!I311","v":"-"},{"$f":"'Local Controller Data - PROP'!J311","v":"-"},{"$f":"'Local Controller Data - PROP'!K311","v":"-"}]
["COLOR DISPLAYED:","-",null,null,null,null,null,null,null,null,null,null,"COLOR DISPLAYED:","-"]
["INTERVAL OR FEATURE",null,null,"CONTROLLER MOVEMENT NO.",null,null,null,null,null,null,null,null,"INTERVAL OR FEATURE",null,null,"CONTROLLER MOVEMENT NO."]
["INTERSECTION MOVEMENT (PHASE)",null,null,1,2,3,4,5,6,7,8,null,"INTERSECTION MOVEMENT (PHASE)",null,null,1,2,3,4,5,6,7,8]
["DIRECTION",null,null,{"$f":"'Local Controller Data - EXIST'!D316","v":"NBL"},{"$f":"'Local Controller Data - EXIST'!E316","v":"SBT"},{"$f":"'Local Controller Data - EXIST'!F316","v":"-"},{"$f":"'Local Controller Data - EXIST'!G316","v":"WBT"},{"$f":"'Local Controller Data - EXIST'!H316","v":"SBL"},{"$f":"'Local Controller Data - EXIST'!I316","v":"NBT"},{"$f":"'Local Controller Data - EXIST'!J316","v":"-"},{"$f":"'Local Controller Data - EXIST'!K316","v":"EBT"},null,"DIRECTION",null,null,{"$f":"'Local Controller Data - PROP'!D316","v":"NBL"},{"$f":"'Local Controller Data - PROP'!E316","v":"SBT"},{"$f":"'Local Controller Data - PROP'!F316","v":"-"},{"$f":"'Local Controller Data - PROP'!G316","v":"WBT"},{"$f":"'Local Controller Data - PROP'!H316","v":"SBL"},{"$f":"'Local Controller Data - PROP'!I316","v":"NBT"},{"$f":"'Local Controller Data - PROP'!J316","v":"-"},{"$f":"'Local Controller Data - PROP'!K316","v":"EBT"}]
["MINIMUM GREEN (INITIAL) ",null,"(SEC.)",{"$f":"'Local Controller Data - EXIST'!D317","v":7},{"$f":"'Local Controller Data - EXIST'!E317","v":20},{"$f":"'Local Controller Data - EXIST'!F317","v":"-"},{"$f":"'Local Controller Data - EXIST'!G317","v":10},{"$f":"'Local Controller Data - EXIST'!H317","v":7},{"$f":"'Local Controller Data - EXIST'!I317","v":20},{"$f":"'Local Controller Data - EXIST'!J317","v":"-"},{"$f":"'Local Controller Data - EXIST'!K317","v":10},null,"MINIMUM GREEN (INITIAL) ",null,"(SEC.)",{"$f":"'Local Controller Data - PROP'!D317","v":7},{"$f":"'Local Controller Data - PROP'!E317","v":20},{"$f":"'Local Controller Data - PROP'!F317","v":"-"},{"$f":"'Local Controller Data - PROP'!G317","v":10},{"$f":"'Local Controller Data - PROP'!H317","v":7},{"$f":"'Local Controller Data - PROP'!I317","v":20},{"$f":"'Local Controller Data - PROP'!J317","v":"-"},{"$f":"'Local Controller Data - PROP'!K317","v":10}]
["ADDED INITIAL","*(SEC./ACTUATION)",null,{"$f":"'Local Controller Data - EXIST'!D318","v":"-"},{"$f":"'Local Controller Data - EXIST'!E318","v":"-"},{"$f":"'Local Controller Data - EXIST'!F318","v":"-"},{"$f":"'Local Controller Data - EXIST'!G318","v":"-"},{"$f":"'Local Controller Data - EXIST'!H318","v":"-"},{"$f":"'Local Controller Data - EXIST'!I318","v":"-"},{"$f":"'Local Controller Data - EXIST'!J318","v":"-"},{"$f":"'Local Controller Data - EXIST'!K318","v":"-"},null,"ADDED INITIAL","*(SEC./ACTUATION)",null,{"$f":"'Local Controller Data - PROP'!D318","v":"-"},{"$f":"'Local Controller Data - PROP'!E318","v":"-"},{"$f":"'Local Controller Data - PROP'!F318","v":"-"},{"$f":"'Local Controller Data - PROP'!G318","v":"-"},{"$f":"'Local Controller Data - PROP'!H318","v":"-"},{"$f":"'Local Controller Data - PROP'!I318","v":"-"},{"$f":"'Local Controller Data - PROP'!J318","v":"-"},{"$f":"'Local Controller Data - PROP'!K318","v":"-"}]
["MAXIMUM INITIAL",null,"*(SEC.)",{"$f":"'Local Controller Data - EXIST'!D319","v":"-"},{"$f":"'Local Controller Data - EXIST'!E319","v":"-"},{"$f":"'Local Controller Data - EXIST'!F319","v":"-"},{"$f":"'Local Controller Data - EXIST'!G319","v":"-"},{"$f":"'Local Controller Data - EXIST'!H319","v":"-"},{"$f":"'Local Controller Data - EXIST'!I319","v":"-"},{"$f":"'Local Controller Data - EXIST'!J319","v":"-"},{"$f":"'Local Controller Data - EXIST'!K319","v":"-"},null,"MAXIMUM INITIAL",null,"*(SEC.)",{"$f":"'Local Controller Data - PROP'!D319","v":"-"},{"$f":"'Local Controller Data - PROP'!E319","v":"-"},{"$f":"'Local Controller Data - PROP'!F319","v":"-"},{"$f":"'Local Controller Data - PROP'!G319","v":"-"},{"$f":"'Local Controller Data - PROP'!H319","v":"-"},{"$f":"'Local Controller Data - PROP'!I319","v":"-"},{"$f":"'Local Controller Data - PROP'!J319","v":"-"},{"$f":"'Local Controller Data - PROP'!K319","v":"-"}]
["PASSAGE TIME (PRESET GAP)",null,"(SEC.)",{"$f":"'Local Controller Data - EXIST'!D320","v":3},{"$f":"'Local Controller Data - EXIST'!E320","v":3},{"$f":"'Local Controller Data - EXIST'!F320","v":"-"},{"$f":"'Local Controller Data - EXIST'!G320","v":3},{"$f":"'Local Controller Data - EXIST'!H320","v":3},{"$f":"'Local Controller Data - EXIST'!I320","v":3},{"$f":"'Local Controller Data - EXIST'!J320","v":"-"},{"$f":"'Local Controller Data - EXIST'!K320","v":3},null,"PASSAGE TIME (PRESET GAP)",null,"(SEC.)",{"$f":"'Local Controller Data - PROP'!D320","v":3},{"$f":"'Local Controller Data - PROP'!E320","v":3},{"$f":"'Local Controller Data - PROP'!F320","v":"-"},{"$f":"'Local Controller Data - PROP'!G320","v":3},{"$f":"'Local Controller Data - PROP'!H320","v":3},{"$f":"'Local Controller Data - PROP'!I320","v":3},{"$f":"'Local Controller Data - PROP'!J320","v":"-"},{"$f":"'Local Controller Data - PROP'!K320","v":3}]
["TIME BEFORE REDUCTION",null,"*(SEC.)",{"$f":"'Local Controller Data - EXIST'!D321","v":"-"},{"$f":"'Local Controller Data - EXIST'!E321","v":"-"},{"$f":"'Local Controller Data - EXIST'!F321","v":"-"},{"$f":"'Local Controller Data - EXIST'!G321","v":"-"},{"$f":"'Local Controller Data - EXIST'!H321","v":"-"},{"$f":"'Local Controller Data - EXIST'!I321","v":"-"},{"$f":"'Local Controller Data - EXIST'!J321","v":"-"},{"$f":"'Local Controller Data - EXIST'!K321","v":"-"},null,"TIME BEFORE REDUCTION",null,"*(SEC.)",{"$f":"'Local Controller Data - PROP'!D321","v":"-"},{"$f":"'Local Controller Data - PROP'!E321","v":"-"},{"$f":"'Local Controller Data - PROP'!F321","v":"-"},{"$f":"'Local Controller Data - PROP'!G321","v":"-"},{"$f":"'Local Controller Data - PROP'!H321","v":"-"},{"$f":"'Local Controller Data - PROP'!I321","v":"-"},{"$f":"'Local Controller Data - PROP'!J321","v":"-"},{"$f":"'Local Controller Data - PROP'!K321","v":"-"}]
["MINIMUM GAP",null,"*(SEC.)",{"$f":"'Local Controller Data - EXIST'!D322","v":"-"},{"$f":"'Local Controller Data - EXIST'!E322","v":"-"},{"$f":"'Local Controller Data - EXIST'!F322","v":"-"},{"$f":"'Local Controller Data - EXIST'!G322","v":"-"},{"$f":"'Local Controller Data - EXIST'!H322","v":"-"},{"$f":"'Local Controller Data - EXIST'!I322","v":"-"},{"$f":"'Local Controller Data - EXIST'!J322","v":"-"},{"$f":"'Local Controller Data - EXIST'!K322","v":"-"},null,"MINIMUM GAP",null,"*(SEC.)",{"$f":"'Local Controller Data - PROP'!D322","v":"-"},{"$f":"'Local Controller Data - PROP'!E322","v":"-"},{"$f":"'Local Controller Data - PROP'!F322","v":"-"},{"$f":"'Local Controller Data - PROP'!G322","v":"-"},{"$f":"'Local Controller Data - PROP'!H322","v":"-"},{"$f":"'Local Controller Data - PROP'!I322","v":"-"},{"$f":"'Local Controller Data - PROP'!J322","v":"-"},{"$f":"'Local Controller Data - PROP'!K322","v":"-"}]
["TIME TO REDUCE",null,"*(SEC.)",{"$f":"'Local Controller Data - EXIST'!D323","v":"-"},{"$f":"'Local Controller Data - EXIST'!E323","v":"-"},{"$f":"'Local Controller Data - EXIST'!F323","v":"-"},{"$f":"'Local Controller Data - EXIST'!G323","v":"-"},{"$f":"'Local Controller Data - EXIST'!H323","v":"-"},{"$f":"'Local Controller Data - EXIST'!I323","v":"-"},{"$f":"'Local Controller Data - EXIST'!J323","v":"-"},{"$f":"'Local Controller Data - EXIST'!K323","v":"-"},null,"TIME TO REDUCE",null,"*(SEC.)",{"$f":"'Local Controller Data - PROP'!D323","v":"-"},{"$f":"'Local Controller Data - PROP'!E323","v":"-"},{"$f":"'Local Controller Data - PROP'!F323","v":"-"},{"$f":"'Local Controller Data - PROP'!G323","v":"-"},{"$f":"'Local Controller Data - PROP'!H323","v":"-"},{"$f":"'Local Controller Data - PROP'!I323","v":"-"},{"$f":"'Local Controller Data - PROP'!J323","v":"-"},{"$f":"'Local Controller Data - PROP'!K323","v":"-"}]
["MAXIMUM GREEN I",null,"(SEC.)",{"$f":"'Local Controller Data - EXIST'!D324","v":15},{"$f":"'Local Controller Data - EXIST'!E324","v":55},{"$f":"'Local Controller Data - EXIST'!F324","v":"-"},{"$f":"'Local Controller Data - EXIST'!G324","v":30},{"$f":"'Local Controller Data - EXIST'!H324","v":15},{"$f":"'Local Controller Data - EXIST'!I324","v":55},{"$f":"'Local Controller Data - EXIST'!J324","v":"-"},{"$f":"'Local Controller Data - EXIST'!K324","v":30},null,"MAXIMUM GREEN I",null,"(SEC.)",{"$f":"'Local Controller Data - PROP'!D324","v":15},{"$f":"'Local Controller Data - PROP'!E324","v":55},{"$f":"'Local Controller Data - PROP'!F324","v":"-"},{"$f":"'Local Controller Data - PROP'!G324","v":30},{"$f":"'Local Controller Data - PROP'!H324","v":15},{"$f":"'Local Controller Data - PROP'!I324","v":55},{"$f":"'Local Controller Data - PROP'!J324","v":"-"},{"$f":"'Local Controller Data - PROP'!K324","v":30}]
["MAXIMUM GREEN II",null,"(SEC.)",{"$f":"'Local Controller Data - EXIST'!D325","v":15},{"$f":"'Local Controller Data - EXIST'!E325","v":55},{"$f":"'Local Controller Data - EXIST'!F325","v":"-"},{"$f":"'Local Controller Data - EXIST'!G325","v":30},{"$f":"'Local Controller Data - EXIST'!H325","v":15},{"$f":"'Local Controller Data - EXIST'!I325","v":55},{"$f":"'Local Controller Data - EXIST'!J325","v":"-"},{"$f":"'Local Controller Data - EXIST'!K325","v":30},null,"MAXIMUM GREEN II",null,"(SEC.)",{"$f":"'Local Controller Data - PROP'!D325","v":15},{"$f":"'Local Controller Data - PROP'!E325","v":55},{"$f":"'Local Controller Data - PROP'!F325","v":"-"},{"$f":"'Local Controller Data - PROP'!G325","v":30},{"$f":"'Local Controller Data - PROP'!H325","v":15},{"$f":"'Local Controller Data - PROP'!I325","v":55},{"$f":"'Local Controller Data - PROP'!J325","v":"-"},{"$f":"'Local Controller Data - PROP'!K325","v":30}]
["YELLOW CHANGE",null,"(SEC.)",{"$f":"'Local Controller Data - EXIST'!D326","v":4.0999999999999996},{"$f":"'Local Controller Data - EXIST'!E326","v":4.5},{"$f":"'Local Controller Data - EXIST'!F326","v":"-"},{"$f":"'Local Controller Data - EXIST'!G326","v":3.8},{"$f":"'Local Controller Data - EXIST'!H326","v":4.0999999999999996},{"$f":"'Local Controller Data - EXIST'!I326","v":4.5},{"$f":"'Local Controller Data - EXIST'!J326","v":"-"},{"$f":"'Local Controller Data - EXIST'!K326","v":3.8},null,"YELLOW CHANGE",null,"(SEC.)",{"$f":"'Local Controller Data - PROP'!D326","v":3.3},{"$f":"'Local Controller Data - PROP'!E326","v":4.2},{"$f":"'Local Controller Data - PROP'!F326","v":"-"},{"$f":"'Local Controller Data - PROP'!G326","v":3.4},{"$f":"'Local Controller Data - PROP'!H326","v":3.3},{"$f":"'Local Controller Data - PROP'!I326","v":4.2},{"$f":"'Local Controller Data - PROP'!J326","v":"-"},{"$f":"'Local Controller Data - PROP'!K326","v":3.4}]
["ALL RED CLEARANCE",null,"(SEC.)",{"$f":"'Local Controller Data - EXIST'!D327","v":2},{"$f":"'Local Controller Data - EXIST'!E327","v":2},{"$f":"'Local Controller Data - EXIST'!F327","v":"-"},{"$f":"'Local Controller Data - EXIST'!G327","v":2},{"$f":"'Local Controller Data - EXIST'!H327","v":2},{"$f":"'Local Controller Data - EXIST'!I327","v":2},{"$f":"'Local Controller Data - EXIST'!J327","v":"-"},{"$f":"'Local Controller Data - EXIST'!K327","v":2},null,"ALL RED CLEARANCE",null,"(SEC.)",{"$f":"'Local Controller Data - PROP'!D327","v":2.9},{"$f":"'Local Controller Data - PROP'!E327","v":1.9},{"$f":"'Local Controller Data - PROP'!F327","v":"-"},{"$f":"'Local Controller Data - PROP'!G327","v":1.6},{"$f":"'Local Controller Data - PROP'!H327","v":2.9},{"$f":"'Local Controller Data - PROP'!I327","v":1.9},{"$f":"'Local Controller Data - PROP'!J327","v":"-"},{"$f":"'Local Controller Data - PROP'!K327","v":1.6}]
["DELAYED GREEN (LPI) #",null,"(SEC.)",{"$f":"'Local Controller Data - EXIST'!D328","v":"-"},{"$f":"'Local Controller Data - EXIST'!E328","v":"-"},{"$f":"'Local Controller Data - EXIST'!F328","v":"-"},{"$f":"'Local Controller Data - EXIST'!G328","v":"-"},{"$f":"'Local Controller Data - EXIST'!H328","v":"-"},{"$f":"'Local Controller Data - EXIST'!I328","v":"-"},{"$f":"'Local Controller Data - EXIST'!J328","v":"-"},{"$f":"'Local Controller Data - EXIST'!K328","v":"-"},null,"DELAYED GREEN (LPI) #",null,"(SEC.)",{"$f":"'Local Controller Data - PROP'!D328","v":"-"},{"$f":"'Local Controller Data - PROP'!E328","v":"-"},{"$f":"'Local Controller Data - PROP'!F328","v":"-"},{"$f":"'Local Controller Data - PROP'!G328","v":"-"},{"$f":"'Local Controller Data - PROP'!H328","v":"-"},{"$f":"'Local Controller Data - PROP'!I328","v":"-"},{"$f":"'Local Controller Data - PROP'!J328","v":"-"},{"$f":"'Local Controller Data - PROP'!K328","v":"-"}]
["FLASHING YELLOW ARROW DELAY^",null,"(SEC.)",{"$f":"'Local Controller Data - EXIST'!D329","v":"-"},{"$f":"'Local Controller Data - EXIST'!E329","v":"-"},{"$f":"'Local Controller Data - EXIST'!F329","v":"-"},{"$f":"'Local Controller Data - EXIST'!G329","v":"-"},{"$f":"'Local Controller Data - EXIST'!H329","v":"-"},{"$f":"'Local Controller Data - EXIST'!I329","v":"-"},{"$f":"'Local Controller Data - EXIST'!J329","v":"-"},{"$f":"'Local Controller Data - EXIST'!K329","v":"-"},null,"FLASHING YELLOW ARROW DELAY^",null,"(SEC.)",{"$f":"'Local Controller Data - PROP'!D329","v":"-"},{"$f":"'Local Controller Data - PROP'!E329","v":"-"},{"$f":"'Local Controller Data - PROP'!F329","v":"-"},{"$f":"'Local Controller Data - PROP'!G329","v":"-"},{"$f":"'Local Controller Data - PROP'!H329","v":"-"},{"$f":"'Local Controller Data - PROP'!I329","v":"-"},{"$f":"'Local Controller Data - PROP'!J329","v":"-"},{"$f":"'Local Controller Data - PROP'!K329","v":"-"}]
["WALK",null,"(SEC.)",{"$f":"'Local Controller Data - EXIST'!D330","v":"-"},{"$f":"'Local Controller Data - EXIST'!E330","v":7},{"$f":"'Local Controller Data - EXIST'!F330","v":"-"},{"$f":"'Local Controller Data - EXIST'!G330","v":7},{"$f":"'Local Controller Data - EXIST'!H330","v":"-"},{"$f":"'Local Controller Data - EXIST'!I330","v":7},{"$f":"'Local Controller Data - EXIST'!J330","v":"-"},{"$f":"'Local Controller Data - EXIST'!K330","v":7},null,"WALK",null,"(SEC.)",{"$f":"'Local Controller Data - PROP'!D330","v":"-"},{"$f":"'Local Controller Data - PROP'!E330","v":7},{"$f":"'Local Controller Data - PROP'!F330","v":"-"},{"$f":"'Local Controller Data - PROP'!G330","v":10},{"$f":"'Local Controller Data - PROP'!H330","v":"-"},{"$f":"'Local Controller Data - PROP'!I330","v":7},{"$f":"'Local Controller Data - PROP'!J330","v":"-"},{"$f":"'Local Controller Data - PROP'!K330","v":9}]
["PEDESTRIAN CLEARANCE",null,"(SEC.)",{"$f":"'Local Controller Data - EXIST'!D331","v":"-"},{"$f":"'Local Controller Data - EXIST'!E331","v":22},{"$f":"'Local Controller Data - EXIST'!F331","v":"-"},{"$f":"'Local Controller Data - EXIST'!G331","v":17},{"$f":"'Local Controller Data - EXIST'!H331","v":"-"},{"$f":"'Local Controller Data - EXIST'!I331","v":20},{"$f":"'Local Controller Data - EXIST'!J331","v":"-"},{"$f":"'Local Controller Data - EXIST'!K331","v":17},null,"PEDESTRIAN CLEARANCE",null,"(SEC.)",{"$f":"'Local Controller Data - PROP'!D331","v":"-"},{"$f":"'Local Controller Data - PROP'!E331","v":20},{"$f":"'Local Controller Data - PROP'!F331","v":"-"},{"$f":"'Local Controller Data - PROP'!G331","v":15},{"$f":"'Local Controller Data - PROP'!H331","v":"-"},{"$f":"'Local Controller Data - PROP'!I331","v":17},{"$f":"'Local Controller Data - PROP'!J331","v":"-"},{"$f":"'Local Controller Data - PROP'!K331","v":15}]
["RECALL","MAXIMUM","(ON/OFF)",{"$f":"'Local Controller Data - EXIST'!D332","v":"NO"},{"$f":"'Local Controller Data - EXIST'!E332","v":"NO"},{"$f":"'Local Controller Data - EXIST'!F332","v":"NO"},{"$f":"'Local Controller Data - EXIST'!G332","v":"NO"},{"$f":"'Local Controller Data - EXIST'!H332","v":"NO"},{"$f":"'Local Controller Data - EXIST'!I332","v":"NO"},{"$f":"'Local Controller Data - EXIST'!J332","v":"NO"},{"$f":"'Local Controller Data - EXIST'!K332","v":"NO"},null,"RECALL","MAXIMUM","(ON/OFF)",{"$f":"'Local Controller Data - PROP'!D332","v":"NO"},{"$f":"'Local Controller Data - PROP'!E332","v":"NO"},{"$f":"'Local Controller Data - PROP'!F332","v":"NO"},{"$f":"'Local Controller Data - PROP'!G332","v":"NO"},{"$f":"'Local Controller Data - PROP'!H332","v":"NO"},{"$f":"'Local Controller Data - PROP'!I332","v":"NO"},{"$f":"'Local Controller Data - PROP'!J332","v":"NO"},{"$f":"'Local Controller Data - PROP'!K332","v":"NO"}]
[null,"MINIMUM","(ON/OFF)",{"$f":"'Local Controller Data - EXIST'!D333","v":"NO"},{"$f":"'Local Controller Data - EXIST'!E333","v":"YES"},{"$f":"'Local Controller Data - EXIST'!F333","v":"NO"},{"$f":"'Local Controller Data - EXIST'!G333","v":"NO"},{"$f":"'Local Controller Data - EXIST'!H333","v":"NO"},{"$f":"'Local Controller Data - EXIST'!I333","v":"YES"},{"$f":"'Local Controller Data - EXIST'!J333","v":"NO"},{"$f":"'Local Controller Data - EXIST'!K333","v":"NO"},null,null,"MINIMUM","(ON/OFF)",{"$f":"'Local Controller Data - PROP'!D333","v":"NO"},{"$f":"'Local Controller Data - PROP'!E333","v":"YES"},{"$f":"'Local Controller Data - PROP'!F333","v":"NO"},{"$f":"'Local Controller Data - PROP'!G333","v":"NO"},{"$f":"'Local Controller Data - PROP'!H333","v":"NO"},{"$f":"'Local Controller Data - PROP'!I333","v":"YES"},{"$f":"'Local Controller Data - PROP'!J333","v":"NO"},{"$f":"'Local Controller Data - PROP'!K333","v":"NO"}]
[null,"PEDESTRIAN","(ON/OFF)",{"$f":"'Local Controller Data - EXIST'!D334","v":"NO"},{"$f":"'Local Controller Data - EXIST'!E334","v":"YES"},{"$f":"'Local Controller Data - EXIST'!F334","v":"NO"},{"$f":"'Local Controller Data - EXIST'!G334","v":"NO"},{"$f":"'Local Controller Data - EXIST'!H334","v":"NO"},{"$f":"'Local Controller Data - EXIST'!I334","v":"YES"},{"$f":"'Local Controller Data - EXIST'!J334","v":"NO"},{"$f":"'Local Controller Data - EXIST'!K334","v":"NO"},null,null,"PEDESTRIAN","(ON/OFF)",{"$f":"'Local Controller Data - PROP'!D334","v":"NO"},{"$f":"'Local Controller Data - PROP'!E334","v":"YES"},{"$f":"'Local Controller Data - PROP'!F334","v":"NO"},{"$f":"'Local Controller Data - PROP'!G334","v":"NO"},{"$f":"'Local Controller Data - PROP'!H334","v":"NO"},{"$f":"'Local Controller Data - PROP'!I334","v":"YES"},{"$f":"'Local Controller Data - PROP'!J334","v":"NO"},{"$f":"'Local Controller Data - PROP'!K334","v":"NO"}]
["MEMORY    ",null,"(ON/OFF)",{"$f":"'Local Controller Data - EXIST'!D335","v":"NO"},{"$f":"'Local Controller Data - EXIST'!E335","v":"YES"},{"$f":"'Local Controller Data - EXIST'!F335","v":"NO"},{"$f":"'Local Controller Data - EXIST'!G335","v":"NO"},{"$f":"'Local Controller Data - EXIST'!H335","v":"NO"},{"$f":"'Local Controller Data - EXIST'!I335","v":"YES"},{"$f":"'Local Controller Data - EXIST'!J335","v":"NO"},{"$f":"'Local Controller Data - EXIST'!K335","v":"NO"},null,"MEMORY    ",null,"(ON/OFF)",{"$f":"'Local Controller Data - PROP'!D335","v":"NO"},{"$f":"'Local Controller Data - PROP'!E335","v":"YES"},{"$f":"'Local Controller Data - PROP'!F335","v":"NO"},{"$f":"'Local Controller Data - PROP'!G335","v":"NO"},{"$f":"'Local Controller Data - PROP'!H335","v":"NO"},{"$f":"'Local Controller Data - PROP'!I335","v":"YES"},{"$f":"'Local Controller Data - PROP'!J335","v":"NO"},{"$f":"'Local Controller Data - PROP'!K335","v":"NO"}]
["*VOLUME DENSITY CONTROLS",null,null,null,null,null,null,null,null,null,null,null,"*VOLUME DENSITY CONTROLS"]
["# FOR CROSSINGS WITH PEDESTRIAN PUSHBUTTONS, LPI'S (LEADING PEDESTRIAN INTERVALS) MAY BE IMPLEMENTED (3-6 SEC.) IN ACCORDANCE WITH LPI DURATION TIME PER THE ODOT SIGNAL CALCULATIONS - CLEARANCE INTERVALS SPREADSHEET",null,null,null,null,null,null,null,null,null,null,null,"# FOR CROSSINGS WITH PEDESTRIAN PUSHBUTTONS, LPI'S (LEADING PEDESTRIAN INTERVALS) MAY BE IMPLEMENTED (3-6 SEC.) IN ACCORDANCE WITH LPI DURATION TIME PER THE ODOT SIGNAL CALCULATIONS - CLEARANCE INTERVALS SPREADSHEET"]
["^ WHEN IMPLEMENTING FYA, A MINIMUM 3 SEC. DELAY SHALL BE PROGRAMMED PER FYA PHASE. ",null,null,null,null,null,null,null,null,null,null,null,"^ WHEN IMPLEMENTING FYA, A MINIMUM 3 SEC. DELAY SHALL BE PROGRAMMED PER FYA PHASE. "]
[]
["ECONOLITE COORD SETTINGS",null,null,"SIEMENS COORD SETTINGS",null,null,null,null,null,null,null,null,"ECONOLITE COORD SETTINGS",null,null,"SIEMENS COORD SETTINGS"]
["MANUAL PATTERN",{"$f":"'Local Controller Data - EXIST'!B343","v":"AUTO"},null,"OPERATION",null,null,null,"-",null,null,null,null,"MANUAL PATTERN",{"$f":"'Local Controller Data - PROP'!B343","v":"AUTO"},null,"OPERATION",null,null,null,"-"]
["SYSTEM SOURCE",{"$f":"'Local Controller Data - EXIST'!B344","v":"SYS"},null,"MODE (NORMAL)",null,null,null,"-",null,null,null,null,"SYSTEM SOURCE",{"$f":"'Local Controller Data - PROP'!B344","v":"SYS"},null,"MODE (NORMAL)",null,null,null,"-"]
["SPLITS IN",{"$f":"'Local Controller Data - EXIST'!B345","v":"PERCENT"},null,"MAXIMUM",null,null,null,"-",null,null,null,null,"SPLITS IN",{"$f":"'Local Controller Data - PROP'!B345","v":"SECONDS"},null,"MAXIMUM",null,null,null,"-"]
["TRANSITION",{"$f":"'Local Controller Data - EXIST'!B346","v":"SMOOTH"},null,"CORRECTION",null,null,null,"-",null,null,null,null,"TRANSITION",{"$f":"'Local Controller Data - PROP'!B346","v":"SMOOTH"},null,"CORRECTION",null,null,null,"-"]
["DWELL/ADD TIME",{"$f":"'Local Controller Data - EXIST'!B347","v":0},null,"OFFSET MODE",null,null,null,"-",null,null,null,null,"DWELL/ADD TIME",{"$f":"'Local Controller Data - PROP'!B347","v":0},null,"OFFSET MODE",null,null,null,"-"]
["OFFSET REFERENCE",{"$f":"'Local Controller Data - EXIST'!B348","v":"LEAD"},null,"FORCE MODE",null,null,null,"-",null,null,null,null,"OFFSET REFERENCE",{"$f":"'Local Controller Data - PROP'!B348","v":"LEAD"},null,"FORCE MODE",null,null,null,"-"]
["PED RECALL",{"$f":"'Local Controller Data - EXIST'!B349","v":"NO"},null,"MAX DWELL TIME",null,null,null,"-",null,null,null,null,"PED RECALL",{"$f":"'Local Controller Data - PROP'!B349","v":"NO"},null,"MAX DWELL TIME",null,null,null,"-"]
["LOCAL ZERO OVERRIDE",{"$f":"'Local Controller Data - EXIST'!B350","v":"NO"},null,"YIELD PERIOD",null,null,null,"-",null,null,null,null,"LOCAL ZERO OVERRIDE",{"$f":"'Local Controller Data - PROP'!B350","v":"NO"},null,"YIELD PERIOD",null,null,null,"-"]
["RE-SYNC COUNT",{"$f":"'Local Controller Data - EXIST'!B351","v":0},null,"MANUAL CONTROL: DIAL",null,null,null,"-",null,null,null,null,"RE-SYNC COUNT",{"$f":"'Local Controller Data - PROP'!B351","v":0},null,"MANUAL CONTROL: DIAL",null,null,null,"-"]
["ECPI COORD",{"$f":"'Local Controller Data - EXIST'!B352","v":"YES"},null,"MANUAL CONTROL: SPLIT",null,null,null,"-",null,null,null,null,"ECPI COORD",{"$f":"'Local Controller Data - PROP'!B352","v":"YES"},null,"MANUAL CONTROL: SPLIT",null,null,null,"-"]
["SYSTEM FORMAT ",{"$f":"'Local Controller Data - EXIST'!B353","v":"STD"},null,"MANUAL CONTROL: OFFSET",null,null,null,"-",null,null,null,null,"SYSTEM FORMAT ",{"$f":"'Local Controller Data - PROP'!B353","v":"STD"},null,"MANUAL CONTROL: OFFSET",null,null,null,"-"]
["OFFSET IN",{"$f":"'Local Controller Data - EXIST'!B354","v":"PERCENT"},null,null,null,null,null,null,null,null,null,null,"OFFSET IN",{"$f":"'Local Controller Data - PROP'!B354","v":"SECONDS"}]
["MAX SELECT",{"$f":"'Local Controller Data - EXIST'!B355","v":"MAXINH"},null,null,null,null,null,null,null,null,null,null,"MAX SELECT",{"$f":"'Local Controller Data - PROP'!B355","v":"MAXINH"}]
["FORCE OFF",{"$f":"'Local Controller Data - EXIST'!B356","v":"FLOAT"},null,null,null,null,null,null,null,null,null,null,"FORCE OFF",{"$f":"'Local Controller Data - PROP'!B356","v":"FLOAT"}]
["USE PED TIME",{"$f":"'Local Controller Data - EXIST'!B357","v":"YES"},null,null,null,null,null,null,null,null,null,null,"USE PED TIME",{"$f":"'Local Controller Data - PROP'!B357","v":"YES"}]
["PED RESERVICE",{"$f":"'Local Controller Data - EXIST'!B358","v":"NO"},null,null,null,null,null,null,null,null,null,null,"PED RESERVICE",{"$f":"'Local Controller Data - PROP'!B358","v":"NO"}]
["FO ADD INI GRN",{"$f":"'Local Controller Data - EXIST'!B359","v":"NO"},null,null,null,null,null,null,null,null,null,null,"FO ADD INI GRN",{"$f":"'Local Controller Data - PROP'!B359","v":"NO"}]
["MULTISYNC",{"$f":"'Local Controller Data - EXIST'!B360","v":"NO"},null,null,null,null,null,null,null,"EXISTING TIMING",null,null,"MULTISYNC",{"$f":"'Local Controller Data - PROP'!B360","v":"NO"},null,null,null,null,null,null,null,"PROPOSED TIMING"]
[]
[{"$f":"'Project Name'!$C$2","v":"LOR-254/301 Signal Timing"},null,null,null,null,null,null,null,null,null,null,null,{"$f":"'Project Name'!$C$2","v":"LOR-254/301 Signal Timing"}]
["Existing Local Controller Data",null,null,null,null,null,null,null,null,null,null,null,"Proposed Local Controller Data"]
["INTERSECTION:",null,null,null,null,null,null,null,null,null,null,null,"INTERSECTION:"]
["MAINTAINING AGENCY:",null,null,null,null,null,null,null,null,null,null,null,"MAINTAINING AGENCY:"]
["START UP",null,null,"DUAL ENTRY: ",null,"-","PHASES:",null,"-",null,null,null,"START UP",null,null,"DUAL ENTRY: ",null,"-","PHASES:",null,"-"]
[null,null,null,"REST IN RED: ",null,null,"RING 1","-",null,"RING 2","-",null,null,null,null,"REST IN RED: ",null,null,"RING 1","-",null,"RING 2","-"]
["START IN: ",{"$f":"'Local Controller Data - EXIST'!B369:C369","v":"-"},null,"OVERLAP",null,null,null,"A","B","C","D",null,"START IN: ","-",null,"OVERLAP",null,null,null,"A","B","C","D"]
["TIME FOR FLASH / ALL RED (SEC.):   ",null,"9, 6",null,null,null,null,null,null,null,null,null,"TIME FOR FLASH / ALL RED (SEC.):   ",null,"9, 6"]
["FIRST PHASE(S):",{"$f":"'Local Controller Data - EXIST'!B371:C371","v":"-"},null,"PHASES",null,null,null,{"$f":"'Local Controller Data - EXIST'!H371","v":"-"},{"$f":"'Local Controller Data - EXIST'!I371","v":"-"},{"$f":"'Local Controller Data - EXIST'!J371","v":"-"},{"$f":"'Local Controller Data - EXIST'!K371","v":"-"},null,"FIRST PHASE(S):",{"$f":"'Local Controller Data - PROP'!B371:C371","v":{"$error":"#VALUE!"}},null,"PHASES",null,null,null,{"$f":"'Local Controller Data - PROP'!H371","v":"-"},{"$f":"'Local Controller Data - PROP'!I371","v":"-"},{"$f":"'Local Controller Data - PROP'!J371","v":"-"},{"$f":"'Local Controller Data - PROP'!K371","v":"-"}]
["COLOR DISPLAYED:","-",null,null,null,null,null,null,null,null,null,null,"COLOR DISPLAYED:","-"]
["INTERVAL OR FEATURE",null,null,"CONTROLLER MOVEMENT NO.",null,null,null,null,null,null,null,null,"INTERVAL OR FEATURE",null,null,"CONTROLLER MOVEMENT NO."]
["INTERSECTION MOVEMENT (PHASE)",null,null,1,2,3,4,5,6,7,8,null,"INTERSECTION MOVEMENT (PHASE)",null,null,1,2,3,4,5,6,7,8]
["DIRECTION",null,null,{"$f":"'Local Controller Data - EXIST'!D376","v":"-"},{"$f":"'Local Controller Data - EXIST'!E376","v":"-"},{"$f":"'Local Controller Data - EXIST'!F376","v":"-"},{"$f":"'Local Controller Data - EXIST'!G376","v":"-"},{"$f":"'Local Controller Data - EXIST'!H376","v":"-"},{"$f":"'Local Controller Data - EXIST'!I376","v":"-"},{"$f":"'Local Controller Data - EXIST'!J376","v":"-"},{"$f":"'Local Controller Data - EXIST'!K376","v":"-"},null,"DIRECTION",null,null,{"$f":"'Local Controller Data - PROP'!D376","v":"-"},{"$f":"'Local Controller Data - PROP'!E376","v":"-"},{"$f":"'Local Controller Data - PROP'!F376","v":"-"},{"$f":"'Local Controller Data - PROP'!G376","v":"-"},{"$f":"'Local Controller Data - PROP'!H376","v":"-"},{"$f":"'Local Controller Data - PROP'!I376","v":"-"},{"$f":"'Local Controller Data - PROP'!J376","v":"-"},{"$f":"'Local Controller Data - PROP'!K376","v":"-"}]
["MINIMUM GREEN (INITIAL) ",null,"(SEC.)",{"$f":"'Local Controller Data - EXIST'!D377","v":"-"},{"$f":"'Local Controller Data - EXIST'!E377","v":"-"},{"$f":"'Local Controller Data - EXIST'!F377","v":"-"},{"$f":"'Local Controller Data - EXIST'!G377","v":"-"},{"$f":"'Local Controller Data - EXIST'!H377","v":"-"},{"$f":"'Local Controller Data - EXIST'!I377","v":"-"},{"$f":"'Local Controller Data - EXIST'!J377","v":"-"},{"$f":"'Local Controller Data - EXIST'!K377","v":"-"},null,"MINIMUM GREEN (INITIAL) ",null,"(SEC.)",{"$f":"'Local Controller Data - PROP'!D377","v":"-"},{"$f":"'Local Controller Data - PROP'!E377","v":"-"},{"$f":"'Local Controller Data - PROP'!F377","v":"-"},{"$f":"'Local Controller Data - PROP'!G377","v":"-"},{"$f":"'Local Controller Data - PROP'!H377","v":"-"},{"$f":"'Local Controller Data - PROP'!I377","v":"-"},{"$f":"'Local Controller Data - PROP'!J377","v":"-"},{"$f":"'Local Controller Data - PROP'!K377","v":"-"}]
["ADDED INITIAL","*(SEC./ACTUATION)",null,{"$f":"'Local Controller Data - EXIST'!D378","v":"-"},{"$f":"'Local Controller Data - EXIST'!E378","v":"-"},{"$f":"'Local Controller Data - EXIST'!F378","v":"-"},{"$f":"'Local Controller Data - EXIST'!G378","v":"-"},{"$f":"'Local Controller Data - EXIST'!H378","v":"-"},{"$f":"'Local Controller Data - EXIST'!I378","v":"-"},{"$f":"'Local Controller Data - EXIST'!J378","v":"-"},{"$f":"'Local Controller Data - EXIST'!K378","v":"-"},null,"ADDED INITIAL","*(SEC./ACTUATION)",null,{"$f":"'Local Controller Data - PROP'!D378","v":"-"},{"$f":"'Local Controller Data - PROP'!E378","v":"-"},{"$f":"'Local Controller Data - PROP'!F378","v":"-"},{"$f":"'Local Controller Data - PROP'!G378","v":"-"},{"$f":"'Local Controller Data - PROP'!H378","v":"-"},{"$f":"'Local Controller Data - PROP'!I378","v":"-"},{"$f":"'Local Controller Data - PROP'!J378","v":"-"},{"$f":"'Local Controller Data - PROP'!K378","v":"-"}]
["MAXIMUM INITIAL",null,"*(SEC.)",{"$f":"'Local Controller Data - EXIST'!D379","v":"-"},{"$f":"'Local Controller Data - EXIST'!E379","v":"-"},{"$f":"'Local Controller Data - EXIST'!F379","v":"-"},{"$f":"'Local Controller Data - EXIST'!G379","v":"-"},{"$f":"'Local Controller Data - EXIST'!H379","v":"-"},{"$f":"'Local Controller Data - EXIST'!I379","v":"-"},{"$f":"'Local Controller Data - EXIST'!J379","v":"-"},{"$f":"'Local Controller Data - EXIST'!K379","v":"-"},null,"MAXIMUM INITIAL",null,"*(SEC.)",{"$f":"'Local Controller Data - PROP'!D379","v":"-"},{"$f":"'Local Controller Data - PROP'!E379","v":"-"},{"$f":"'Local Controller Data - PROP'!F379","v":"-"},{"$f":"'Local Controller Data - PROP'!G379","v":"-"},{"$f":"'Local Controller Data - PROP'!H379","v":"-"},{"$f":"'Local Controller Data - PROP'!I379","v":"-"},{"$f":"'Local Controller Data - PROP'!J379","v":"-"},{"$f":"'Local Controller Data - PROP'!K379","v":"-"}]
["PASSAGE TIME (PRESET GAP)",null,"(SEC.)",{"$f":"'Local Controller Data - EXIST'!D380","v":"-"},{"$f":"'Local Controller Data - EXIST'!E380","v":"-"},{"$f":"'Local Controller Data - EXIST'!F380","v":"-"},{"$f":"'Local Controller Data - EXIST'!G380","v":"-"},{"$f":"'Local Controller Data - EXIST'!H380","v":"-"},{"$f":"'Local Controller Data - EXIST'!I380","v":"-"},{"$f":"'Local Controller Data - EXIST'!J380","v":"-"},{"$f":"'Local Controller Data - EXIST'!K380","v":"-"},null,"PASSAGE TIME (PRESET GAP)",null,"(SEC.)",{"$f":"'Local Controller Data - PROP'!D380","v":"-"},{"$f":"'Local Controller Data - PROP'!E380","v":"-"},{"$f":"'Local Controller Data - PROP'!F380","v":"-"},{"$f":"'Local Controller Data - PROP'!G380","v":"-"},{"$f":"'Local Controller Data - PROP'!H380","v":"-"},{"$f":"'Local Controller Data - PROP'!I380","v":"-"},{"$f":"'Local Controller Data - PROP'!J380","v":"-"},{"$f":"'Local Controller Data - PROP'!K380","v":"-"}]
["TIME BEFORE REDUCTION",null,"*(SEC.)",{"$f":"'Local Controller Data - EXIST'!D381","v":"-"},{"$f":"'Local Controller Data - EXIST'!E381","v":"-"},{"$f":"'Local Controller Data - EXIST'!F381","v":"-"},{"$f":"'Local Controller Data - EXIST'!G381","v":"-"},{"$f":"'Local Controller Data - EXIST'!H381","v":"-"},{"$f":"'Local Controller Data - EXIST'!I381","v":"-"},{"$f":"'Local Controller Data - EXIST'!J381","v":"-"},{"$f":"'Local Controller Data - EXIST'!K381","v":"-"},null,"TIME BEFORE REDUCTION",null,"*(SEC.)",{"$f":"'Local Controller Data - PROP'!D381","v":"-"},{"$f":"'Local Controller Data - PROP'!E381","v":"-"},{"$f":"'Local Controller Data - PROP'!F381","v":"-"},{"$f":"'Local Controller Data - PROP'!G381","v":"-"},{"$f":"'Local Controller Data - PROP'!H381","v":"-"},{"$f":"'Local Controller Data - PROP'!I381","v":"-"},{"$f":"'Local Controller Data - PROP'!J381","v":"-"},{"$f":"'Local Controller Data - PROP'!K381","v":"-"}]
["MINIMUM GAP",null,"*(SEC.)",{"$f":"'Local Controller Data - EXIST'!D382","v":"-"},{"$f":"'Local Controller Data - EXIST'!E382","v":"-"},{"$f":"'Local Controller Data - EXIST'!F382","v":"-"},{"$f":"'Local Controller Data - EXIST'!G382","v":"-"},{"$f":"'Local Controller Data - EXIST'!H382","v":"-"},{"$f":"'Local Controller Data - EXIST'!I382","v":"-"},{"$f":"'Local Controller Data - EXIST'!J382","v":"-"},{"$f":"'Local Controller Data - EXIST'!K382","v":"-"},null,"MINIMUM GAP",null,"*(SEC.)",{"$f":"'Local Controller Data - PROP'!D382","v":"-"},{"$f":"'Local Controller Data - PROP'!E382","v":"-"},{"$f":"'Local Controller Data - PROP'!F382","v":"-"},{"$f":"'Local Controller Data - PROP'!G382","v":"-"},{"$f":"'Local Controller Data - PROP'!H382","v":"-"},{"$f":"'Local Controller Data - PROP'!I382","v":"-"},{"$f":"'Local Controller Data - PROP'!J382","v":"-"},{"$f":"'Local Controller Data - PROP'!K382","v":"-"}]
["TIME TO REDUCE",null,"*(SEC.)",{"$f":"'Local Controller Data - EXIST'!D383","v":"-"},{"$f":"'Local Controller Data - EXIST'!E383","v":"-"},{"$f":"'Local Controller Data - EXIST'!F383","v":"-"},{"$f":"'Local Controller Data - EXIST'!G383","v":"-"},{"$f":"'Local Controller Data - EXIST'!H383","v":"-"},{"$f":"'Local Controller Data - EXIST'!I383","v":"-"},{"$f":"'Local Controller Data - EXIST'!J383","v":"-"},{"$f":"'Local Controller Data - EXIST'!K383","v":"-"},null,"TIME TO REDUCE",null,"*(SEC.)",{"$f":"'Local Controller Data - PROP'!D383","v":"-"},{"$f":"'Local Controller Data - PROP'!E383","v":"-"},{"$f":"'Local Controller Data - PROP'!F383","v":"-"},{"$f":"'Local Controller Data - PROP'!G383","v":"-"},{"$f":"'Local Controller Data - PROP'!H383","v":"-"},{"$f":"'Local Controller Data - PROP'!I383","v":"-"},{"$f":"'Local Controller Data - PROP'!J383","v":"-"},{"$f":"'Local Controller Data - PROP'!K383","v":"-"}]
["MAXIMUM GREEN I",null,"(SEC.)",{"$f":"'Local Controller Data - EXIST'!D384","v":"-"},{"$f":"'Local Controller Data - EXIST'!E384","v":"-"},{"$f":"'Local Controller Data - EXIST'!F384","v":"-"},{"$f":"'Local Controller Data - EXIST'!G384","v":"-"},{"$f":"'Local Controller Data - EXIST'!H384","v":"-"},{"$f":"'Local Controller Data - EXIST'!I384","v":"-"},{"$f":"'Local Controller Data - EXIST'!J384","v":"-"},{"$f":"'Local Controller Data - EXIST'!K384","v":"-"},null,"MAXIMUM GREEN I",null,"(SEC.)",{"$f":"'Local Controller Data - PROP'!D384","v":"-"},{"$f":"'Local Controller Data - PROP'!E384","v":"-"},{"$f":"'Local Controller Data - PROP'!F384","v":"-"},{"$f":"'Local Controller Data - PROP'!G384","v":"-"},{"$f":"'Local Controller Data - PROP'!H384","v":"-"},{"$f":"'Local Controller Data - PROP'!I384","v":"-"},{"$f":"'Local Controller Data - PROP'!J384","v":"-"},{"$f":"'Local Controller Data - PROP'!K384","v":"-"}]
["MAXIMUM GREEN II",null,"(SEC.)",{"$f":"'Local Controller Data - EXIST'!D385","v":"-"},{"$f":"'Local Controller Data - EXIST'!E385","v":"-"},{"$f":"'Local Controller Data - EXIST'!F385","v":"-"},{"$f":"'Local Controller Data - EXIST'!G385","v":"-"},{"$f":"'Local Controller Data - EXIST'!H385","v":"-"},{"$f":"'Local Controller Data - EXIST'!I385","v":"-"},{"$f":"'Local Controller Data - EXIST'!J385","v":"-"},{"$f":"'Local Controller Data - EXIST'!K385","v":"-"},null,"MAXIMUM GREEN II",null,"(SEC.)",{"$f":"'Local Controller Data - PROP'!D385","v":"-"},{"$f":"'Local Controller Data - PROP'!E385","v":"-"},{"$f":"'Local Controller Data - PROP'!F385","v":"-"},{"$f":"'Local Controller Data - PROP'!G385","v":"-"},{"$f":"'Local Controller Data - PROP'!H385","v":"-"},{"$f":"'Local Controller Data - PROP'!I385","v":"-"},{"$f":"'Local Controller Data - PROP'!J385","v":"-"},{"$f":"'Local Controller Data - PROP'!K385","v":"-"}]
["YELLOW CHANGE",null,"(SEC.)",{"$f":"'Local Controller Data - EXIST'!D386","v":"-"},{"$f":"'Local Controller Data - EXIST'!E386","v":"-"},{"$f":"'Local Controller Data - EXIST'!F386","v":"-"},{"$f":"'Local Controller Data - EXIST'!G386","v":"-"},{"$f":"'Local Controller Data - EXIST'!H386","v":"-"},{"$f":"'Local Controller Data - EXIST'!I386","v":"-"},{"$f":"'Local Controller Data - EXIST'!J386","v":"-"},{"$f":"'Local Controller Data - EXIST'!K386","v":"-"},null,"YELLOW CHANGE",null,"(SEC.)",{"$f":"'Local Controller Data - PROP'!D386","v":"-"},{"$f":"'Local Controller Data - PROP'!E386","v":"-"},{"$f":"'Local Controller Data - PROP'!F386","v":"-"},{"$f":"'Local Controller Data - PROP'!G386","v":"-"},{"$f":"'Local Controller Data - PROP'!H386","v":"-"},{"$f":"'Local Controller Data - PROP'!I386","v":"-"},{"$f":"'Local Controller Data - PROP'!J386","v":"-"},{"$f":"'Local Controller Data - PROP'!K386","v":"-"}]
["ALL RED CLEARANCE",null,"(SEC.)",{"$f":"'Local Controller Data - EXIST'!D387","v":"-"},{"$f":"'Local Controller Data - EXIST'!E387","v":"-"},{"$f":"'Local Controller Data - EXIST'!F387","v":"-"},{"$f":"'Local Controller Data - EXIST'!G387","v":"-"},{"$f":"'Local Controller Data - EXIST'!H387","v":"-"},{"$f":"'Local Controller Data - EXIST'!I387","v":"-"},{"$f":"'Local Controller Data - EXIST'!J387","v":"-"},{"$f":"'Local Controller Data - EXIST'!K387","v":"-"},null,"ALL RED CLEARANCE",null,"(SEC.)",{"$f":"'Local Controller Data - PROP'!D387","v":"-"},{"$f":"'Local Controller Data - PROP'!E387","v":"-"},{"$f":"'Local Controller Data - PROP'!F387","v":"-"},{"$f":"'Local Controller Data - PROP'!G387","v":"-"},{"$f":"'Local Controller Data - PROP'!H387","v":"-"},{"$f":"'Local Controller Data - PROP'!I387","v":"-"},{"$f":"'Local Controller Data - PROP'!J387","v":"-"},{"$f":"'Local Controller Data - PROP'!K387","v":"-"}]
["DELAYED GREEN (LPI) #",null,"(SEC.)",{"$f":"'Local Controller Data - EXIST'!D388","v":"-"},{"$f":"'Local Controller Data - EXIST'!E388","v":"-"},{"$f":"'Local Controller Data - EXIST'!F388","v":"-"},{"$f":"'Local Controller Data - EXIST'!G388","v":"-"},{"$f":"'Local Controller Data - EXIST'!H388","v":"-"},{"$f":"'Local Controller Data - EXIST'!I388","v":"-"},{"$f":"'Local Controller Data - EXIST'!J388","v":"-"},{"$f":"'Local Controller Data - EXIST'!K388","v":"-"},null,"DELAYED GREEN (LPI) #",null,"(SEC.)",{"$f":"'Local Controller Data - PROP'!D388","v":"-"},{"$f":"'Local Controller Data - PROP'!E388","v":"-"},{"$f":"'Local Controller Data - PROP'!F388","v":"-"},{"$f":"'Local Controller Data - PROP'!G388","v":"-"},{"$f":"'Local Controller Data - PROP'!H388","v":"-"},{"$f":"'Local Controller Data - PROP'!I388","v":"-"},{"$f":"'Local Controller Data - PROP'!J388","v":"-"},{"$f":"'Local Controller Data - PROP'!K388","v":"-"}]
["FLASHING YELLOW ARROW DELAY^",null,"(SEC.)",{"$f":"'Local Controller Data - EXIST'!D389","v":"-"},{"$f":"'Local Controller Data - EXIST'!E389","v":"-"},{"$f":"'Local Controller Data - EXIST'!F389","v":"-"},{"$f":"'Local Controller Data - EXIST'!G389","v":"-"},{"$f":"'Local Controller Data - EXIST'!H389","v":"-"},{"$f":"'Local Controller Data - EXIST'!I389","v":"-"},{"$f":"'Local Controller Data - EXIST'!J389","v":"-"},{"$f":"'Local Controller Data - EXIST'!K389","v":"-"},null,"FLASHING YELLOW ARROW DELAY^",null,"(SEC.)",{"$f":"'Local Controller Data - PROP'!D389","v":"-"},{"$f":"'Local Controller Data - PROP'!E389","v":"-"},{"$f":"'Local Controller Data - PROP'!F389","v":"-"},{"$f":"'Local Controller Data - PROP'!G389","v":"-"},{"$f":"'Local Controller Data - PROP'!H389","v":"-"},{"$f":"'Local Controller Data - PROP'!I389","v":"-"},{"$f":"'Local Controller Data - PROP'!J389","v":"-"},{"$f":"'Local Controller Data - PROP'!K389","v":"-"}]
["WALK",null,"(SEC.)",{"$f":"'Local Controller Data - EXIST'!D390","v":"-"},{"$f":"'Local Controller Data - EXIST'!E390","v":"-"},{"$f":"'Local Controller Data - EXIST'!F390","v":"-"},{"$f":"'Local Controller Data - EXIST'!G390","v":"-"},{"$f":"'Local Controller Data - EXIST'!H390","v":"-"},{"$f":"'Local Controller Data - EXIST'!I390","v":"-"},{"$f":"'Local Controller Data - EXIST'!J390","v":"-"},{"$f":"'Local Controller Data - EXIST'!K390","v":"-"},null,"WALK",null,"(SEC.)",{"$f":"'Local Controller Data - PROP'!D390","v":"-"},{"$f":"'Local Controller Data - PROP'!E390","v":"-"},{"$f":"'Local Controller Data - PROP'!F390","v":"-"},{"$f":"'Local Controller Data - PROP'!G390","v":"-"},{"$f":"'Local Controller Data - PROP'!H390","v":"-"},{"$f":"'Local Controller Data - PROP'!I390","v":"-"},{"$f":"'Local Controller Data - PROP'!J390","v":"-"},{"$f":"'Local Controller Data - PROP'!K390","v":"-"}]
["PEDESTRIAN CLEARANCE",null,"(SEC.)",{"$f":"'Local Controller Data - EXIST'!D391","v":"-"},{"$f":"'Local Controller Data - EXIST'!E391","v":"-"},{"$f":"'Local Controller Data - EXIST'!F391","v":"-"},{"$f":"'Local Controller Data - EXIST'!G391","v":"-"},{"$f":"'Local Controller Data - EXIST'!H391","v":"-"},{"$f":"'Local Controller Data - EXIST'!I391","v":"-"},{"$f":"'Local Controller Data - EXIST'!J391","v":"-"},{"$f":"'Local Controller Data - EXIST'!K391","v":"-"},null,"PEDESTRIAN CLEARANCE",null,"(SEC.)",{"$f":"'Local Controller Data - PROP'!D391","v":"-"},{"$f":"'Local Controller Data - PROP'!E391","v":"-"},{"$f":"'Local Controller Data - PROP'!F391","v":"-"},{"$f":"'Local Controller Data - PROP'!G391","v":"-"},{"$f":"'Local Controller Data - PROP'!H391","v":"-"},{"$f":"'Local Controller Data - PROP'!I391","v":"-"},{"$f":"'Local Controller Data - PROP'!J391","v":"-"},{"$f":"'Local Controller Data - PROP'!K391","v":"-"}]
["RECALL","MAXIMUM","(ON/OFF)",{"$f":"'Local Controller Data - EXIST'!D392","v":"-"},{"$f":"'Local Controller Data - EXIST'!E392","v":"-"},{"$f":"'Local Controller Data - EXIST'!F392","v":"-"},{"$f":"'Local Controller Data - EXIST'!G392","v":"-"},{"$f":"'Local Controller Data - EXIST'!H392","v":"-"},{"$f":"'Local Controller Data - EXIST'!I392","v":"-"},{"$f":"'Local Controller Data - EXIST'!J392","v":"-"},{"$f":"'Local Controller Data - EXIST'!K392","v":"-"},null,"RECALL","MAXIMUM","(ON/OFF)",{"$f":"'Local Controller Data - PROP'!D392","v":"-"},{"$f":"'Local Controller Data - PROP'!E392","v":"-"},{"$f":"'Local Controller Data - PROP'!F392","v":"-"},{"$f":"'Local Controller Data - PROP'!G392","v":"-"},{"$f":"'Local Controller Data - PROP'!H392","v":"-"},{"$f":"'Local Controller Data - PROP'!I392","v":"-"},{"$f":"'Local Controller Data - PROP'!J392","v":"-"},{"$f":"'Local Controller Data - PROP'!K392","v":"-"}]
[null,"MINIMUM","(ON/OFF)",{"$f":"'Local Controller Data - EXIST'!D393","v":"-"},{"$f":"'Local Controller Data - EXIST'!E393","v":"-"},{"$f":"'Local Controller Data - EXIST'!F393","v":"-"},{"$f":"'Local Controller Data - EXIST'!G393","v":"-"},{"$f":"'Local Controller Data - EXIST'!H393","v":"-"},{"$f":"'Local Controller Data - EXIST'!I393","v":"-"},{"$f":"'Local Controller Data - EXIST'!J393","v":"-"},{"$f":"'Local Controller Data - EXIST'!K393","v":"-"},null,null,"MINIMUM","(ON/OFF)",{"$f":"'Local Controller Data - PROP'!D393","v":"-"},{"$f":"'Local Controller Data - PROP'!E393","v":"-"},{"$f":"'Local Controller Data - PROP'!F393","v":"-"},{"$f":"'Local Controller Data - PROP'!G393","v":"-"},{"$f":"'Local Controller Data - PROP'!H393","v":"-"},{"$f":"'Local Controller Data - PROP'!I393","v":"-"},{"$f":"'Local Controller Data - PROP'!J393","v":"-"},{"$f":"'Local Controller Data - PROP'!K393","v":"-"}]
[null,"PEDESTRIAN","(ON/OFF)",{"$f":"'Local Controller Data - EXIST'!D394","v":"-"},{"$f":"'Local Controller Data - EXIST'!E394","v":"-"},{"$f":"'Local Controller Data - EXIST'!F394","v":"-"},{"$f":"'Local Controller Data - EXIST'!G394","v":"-"},{"$f":"'Local Controller Data - EXIST'!H394","v":"-"},{"$f":"'Local Controller Data - EXIST'!I394","v":"-"},{"$f":"'Local Controller Data - EXIST'!J394","v":"-"},{"$f":"'Local Controller Data - EXIST'!K394","v":"-"},null,null,"PEDESTRIAN","(ON/OFF)",{"$f":"'Local Controller Data - PROP'!D394","v":"-"},{"$f":"'Local Controller Data - PROP'!E394","v":"-"},{"$f":"'Local Controller Data - PROP'!F394","v":"-"},{"$f":"'Local Controller Data - PROP'!G394","v":"-"},{"$f":"'Local Controller Data - PROP'!H394","v":"-"},{"$f":"'Local Controller Data - PROP'!I394","v":"-"},{"$f":"'Local Controller Data - PROP'!J394","v":"-"},{"$f":"'Local Controller Data - PROP'!K394","v":"-"}]
["MEMORY    ",null,"(ON/OFF)",{"$f":"'Local Controller Data - EXIST'!D395","v":"-"},{"$f":"'Local Controller Data - EXIST'!E395","v":"-"},{"$f":"'Local Controller Data - EXIST'!F395","v":"-"},{"$f":"'Local Controller Data - EXIST'!G395","v":"-"},{"$f":"'Local Controller Data - EXIST'!H395","v":"-"},{"$f":"'Local Controller Data - EXIST'!I395","v":"-"},{"$f":"'Local Controller Data - EXIST'!J395","v":"-"},{"$f":"'Local Controller Data - EXIST'!K395","v":"-"},null,"MEMORY    ",null,"(ON/OFF)",{"$f":"'Local Controller Data - PROP'!D395","v":"-"},{"$f":"'Local Controller Data - PROP'!E395","v":"-"},{"$f":"'Local Controller Data - PROP'!F395","v":"-"},{"$f":"'Local Controller Data - PROP'!G395","v":"-"},{"$f":"'Local Controller Data - PROP'!H395","v":"-"},{"$f":"'Local Controller Data - PROP'!I395","v":"-"},{"$f":"'Local Controller Data - PROP'!J395","v":"-"},{"$f":"'Local Controller Data - PROP'!K395","v":"-"}]
["*VOLUME DENSITY CONTROLS",null,null,null,null,null,null,null,null,null,null,null,"*VOLUME DENSITY CONTROLS"]
["# FOR CROSSINGS WITH PEDESTRIAN PUSHBUTTONS, LPI'S (LEADING PEDESTRIAN INTERVALS) MAY BE IMPLEMENTED (3-6 SEC.) IN ACCORDANCE WITH LPI DURATION TIME PER THE ODOT SIGNAL CALCULATIONS - CLEARANCE INTERVALS SPREADSHEET",null,null,null,null,null,null,null,null,null,null,null,"# FOR CROSSINGS WITH PEDESTRIAN PUSHBUTTONS, LPI'S (LEADING PEDESTRIAN INTERVALS) MAY BE IMPLEMENTED (3-6 SEC.) IN ACCORDANCE WITH LPI DURATION TIME PER THE ODOT SIGNAL CALCULATIONS - CLEARANCE INTERVALS SPREADSHEET"]
["^ WHEN IMPLEMENTING FYA, A MINIMUM 3 SEC. DELAY SHALL BE PROGRAMMED PER FYA PHASE. ",null,null,null,null,null,null,null,null,null,null,null,"^ WHEN IMPLEMENTING FYA, A MINIMUM 3 SEC. DELAY SHALL BE PROGRAMMED PER FYA PHASE. "]
[]
["ECONOLITE COORD SETTINGS",null,null,"SIEMENS COORD SETTINGS",null,null,null,null,null,null,null,null,"ECONOLITE COORD SETTINGS",null,null,"SIEMENS COORD SETTINGS"]
["MANUAL PATTERN",{"$f":"'Local Controller Data - EXIST'!B403","v":"-"},null,"OPERATION",null,null,null,"-",null,null,null,null,"MANUAL PATTERN",{"$f":"'Local Controller Data - PROP'!B403","v":"-"},null,"OPERATION",null,null,null,"-"]
["SYSTEM SOURCE",{"$f":"'Local Controller Data - EXIST'!B404","v":"-"},null,"MODE (NORMAL)",null,null,null,"-",null,null,null,null,"SYSTEM SOURCE",{"$f":"'Local Controller Data - PROP'!B404","v":"-"},null,"MODE (NORMAL)",null,null,null,"-"]
["SPLITS IN",{"$f":"'Local Controller Data - EXIST'!B405","v":"-"},null,"MAXIMUM",null,null,null,"-",null,null,null,null,"SPLITS IN",{"$f":"'Local Controller Data - PROP'!B405","v":"-"},null,"MAXIMUM",null,null,null,"-"]
["TRANSITION",{"$f":"'Local Controller Data - EXIST'!B406","v":"-"},null,"CORRECTION",null,null,null,"-",null,null,null,null,"TRANSITION",{"$f":"'Local Controller Data - PROP'!B406","v":"-"},null,"CORRECTION",null,null,null,"-"]
["DWELL/ADD TIME",{"$f":"'Local Controller Data - EXIST'!B407","v":"-"},null,"OFFSET MODE",null,null,null,"-",null,null,null,null,"DWELL/ADD TIME",{"$f":"'Local Controller Data - PROP'!B407","v":"-"},null,"OFFSET MODE",null,null,null,"-"]
["OFFSET REFERENCE",{"$f":"'Local Controller Data - EXIST'!B408","v":"-"},null,"FORCE MODE",null,null,null,"-",null,null,null,null,"OFFSET REFERENCE",{"$f":"'Local Controller Data - PROP'!B408","v":"-"},null,"FORCE MODE",null,null,null,"-"]
["PED RECALL",{"$f":"'Local Controller Data - EXIST'!B409","v":"-"},null,"MAX DWELL TIME",null,null,null,"-",null,null,null,null,"PED RECALL",{"$f":"'Local Controller Data - PROP'!B409","v":"-"},null,"MAX DWELL TIME",null,null,null,"-"]
["LOCAL ZERO OVERRIDE",{"$f":"'Local Controller Data - EXIST'!B410","v":"-"},null,"YIELD PERIOD",null,null,null,"-",null,null,null,null,"LOCAL ZERO OVERRIDE",{"$f":"'Local Controller Data - PROP'!B410","v":"-"},null,"YIELD PERIOD",null,null,null,"-"]
["RE-SYNC COUNT",{"$f":"'Local Controller Data - EXIST'!B411","v":"-"},null,"MANUAL CONTROL: DIAL",null,null,null,"-",null,null,null,null,"RE-SYNC COUNT",{"$f":"'Local Controller Data - PROP'!B411","v":"-"},null,"MANUAL CONTROL: DIAL",null,null,null,"-"]
["ECPI COORD",{"$f":"'Local Controller Data - EXIST'!B412","v":"-"},null,"MANUAL CONTROL: SPLIT",null,null,null,"-",null,null,null,null,"ECPI COORD",{"$f":"'Local Controller Data - PROP'!B412","v":"-"},null,"MANUAL CONTROL: SPLIT",null,null,null,"-"]
["SYSTEM FORMAT ",{"$f":"'Local Controller Data - EXIST'!B413","v":"-"},null,"MANUAL CONTROL: OFFSET",null,null,null,"-",null,null,null,null,"SYSTEM FORMAT ",{"$f":"'Local Controller Data - PROP'!B413","v":"-"},null,"MANUAL CONTROL: OFFSET",null,null,null,"-"]
["OFFSET IN",{"$f":"'Local Controller Data - EXIST'!B414","v":"-"},null,null,null,null,null,null,null,null,null,null,"OFFSET IN",{"$f":"'Local Controller Data - PROP'!B414","v":"-"}]
["MAX SELECT",{"$f":"'Local Controller Data - EXIST'!B415","v":"-"},null,null,null,null,null,null,null,null,null,null,"MAX SELECT",{"$f":"'Local Controller Data - PROP'!B415","v":"-"}]
["FORCE OFF",{"$f":"'Local Controller Data - EXIST'!B416","v":"-"},null,null,null,null,null,null,null,null,null,null,"FORCE OFF",{"$f":"'Local Controller Data - PROP'!B416","v":"-"}]
["USE PED TIME",{"$f":"'Local Controller Data - EXIST'!B417","v":"-"},null,null,null,null,null,null,null,null,null,null,"USE PED TIME",{"$f":"'Local Controller Data - PROP'!B417","v":"-"}]
["PED RESERVICE",{"$f":"'Local Controller Data - EXIST'!B418","v":"-"},null,null,null,null,null,null,null,null,null,null,"PED RESERVICE",{"$f":"'Local Controller Data - PROP'!B418","v":"-"}]
["FO ADD INI GRN",{"$f":"'Local Controller Data - EXIST'!B419","v":"-"},null,null,null,null,null,null,null,null,null,null,"FO ADD INI GRN",{"$f":"'Local Controller Data - PROP'!B419","v":"-"}]
["MULTISYNC",{"$f":"'Local Controller Data - EXIST'!B420","v":"-"},null,null,null,null,null,null,null,"EXISTING TIMING",null,null,"MULTISYNC",{"$f":"'Local Controller Data - PROP'!B420","v":"-"},null,null,null,null,null,null,null,"PROPOSED TIMING"]
[]
[{"$f":"'Project Name'!$C$2","v":"LOR-254/301 Signal Timing"},null,null,null,null,null,null,null,null,null,null,null,{"$f":"'Project Name'!$C$2","v":"LOR-254/301 Signal Timing"}]
["Existing Local Controller Data",null,null,null,null,null,null,null,null,null,null,null,"Proposed Local Controller Data"]
["INTERSECTION:",null,null,null,null,null,null,null,null,null,null,null,"INTERSECTION:"]
["MAINTAINING AGENCY:",null,null,null,null,null,null,null,null,null,null,null,"MAINTAINING AGENCY:"]
["START UP",null,null,"DUAL ENTRY: ",null,"-","PHASES:",null,"-",null,null,null,"START UP",null,null,"DUAL ENTRY: ",null,"-","PHASES:",null,"-"]
[null,null,null,"REST IN RED: ",null,null,"RING 1","-",null,"RING 2","-",null,null,null,null,"REST IN RED: ",null,null,"RING 1","-",null,"RING 2","-"]
["START IN: ",{"$f":"'Local Controller Data - EXIST'!B429:C429","v":"-"},null,"OVERLAP",null,null,null,"A","B","C","D",null,"START IN: ","-",null,"OVERLAP",null,null,null,"A","B","C","D"]
["TIME FOR FLASH / ALL RED (SEC.):   ",null,"9, 6",null,null,null,null,null,null,null,null,null,"TIME FOR FLASH / ALL RED (SEC.):   ",null,"9, 6"]
["FIRST PHASE(S):",{"$f":"'Local Controller Data - EXIST'!B431:C431","v":"-"},null,"PHASES",null,null,null,{"$f":"'Local Controller Data - EXIST'!H431","v":"-"},{"$f":"'Local Controller Data - EXIST'!I431","v":"-"},{"$f":"'Local Controller Data - EXIST'!J431","v":"-"},{"$f":"'Local Controller Data - EXIST'!K431","v":"-"},null,"FIRST PHASE(S):",{"$f":"'Local Controller Data - PROP'!B431:C431","v":{"$error":"#VALUE!"}},null,"PHASES",null,null,null,{"$f":"'Local Controller Data - PROP'!H431","v":"-"},{"$f":"'Local Controller Data - PROP'!I431","v":"-"},{"$f":"'Local Controller Data - PROP'!J431","v":"-"},{"$f":"'Local Controller Data - PROP'!K431","v":"-"}]
["COLOR DISPLAYED:","-",null,null,null,null,null,null,null,null,null,null,"COLOR DISPLAYED:","-"]
["INTERVAL OR FEATURE",null,null,"CONTROLLER MOVEMENT NO.",null,null,null,null,null,null,null,null,"INTERVAL OR FEATURE",null,null,"CONTROLLER MOVEMENT NO."]
["INTERSECTION MOVEMENT (PHASE)",null,null,1,2,3,4,5,6,7,8,null,"INTERSECTION MOVEMENT (PHASE)",null,null,1,2,3,4,5,6,7,8]
["DIRECTION",null,null,{"$f":"'Local Controller Data - EXIST'!D436","v":"-"},{"$f":"'Local Controller Data - EXIST'!E436","v":"-"},{"$f":"'Local Controller Data - EXIST'!F436","v":"-"},{"$f":"'Local Controller Data - EXIST'!G436","v":"-"},{"$f":"'Local Controller Data - EXIST'!H436","v":"-"},{"$f":"'Local Controller Data - EXIST'!I436","v":"-"},{"$f":"'Local Controller Data - EXIST'!J436","v":"-"},{"$f":"'Local Controller Data - EXIST'!K436","v":"-"},null,"DIRECTION",null,null,{"$f":"'Local Controller Data - PROP'!D436","v":"-"},{"$f":"'Local Controller Data - PROP'!E436","v":"-"},{"$f":"'Local Controller Data - PROP'!F436","v":"-"},{"$f":"'Local Controller Data - PROP'!G436","v":"-"},{"$f":"'Local Controller Data - PROP'!H436","v":"-"},{"$f":"'Local Controller Data - PROP'!I436","v":"-"},{"$f":"'Local Controller Data - PROP'!J436","v":"-"},{"$f":"'Local Controller Data - PROP'!K436","v":"-"}]
["MINIMUM GREEN (INITIAL) ",null,"(SEC.)",{"$f":"'Local Controller Data - EXIST'!D437","v":"-"},{"$f":"'Local Controller Data - EXIST'!E437","v":"-"},{"$f":"'Local Controller Data - EXIST'!F437","v":"-"},{"$f":"'Local Controller Data - EXIST'!G437","v":"-"},{"$f":"'Local Controller Data - EXIST'!H437","v":"-"},{"$f":"'Local Controller Data - EXIST'!I437","v":"-"},{"$f":"'Local Controller Data - EXIST'!J437","v":"-"},{"$f":"'Local Controller Data - EXIST'!K437","v":"-"},null,"MINIMUM GREEN (INITIAL) ",null,"(SEC.)",{"$f":"'Local Controller Data - PROP'!D437","v":"-"},{"$f":"'Local Controller Data - PROP'!E437","v":"-"},{"$f":"'Local Controller Data - PROP'!F437","v":"-"},{"$f":"'Local Controller Data - PROP'!G437","v":"-"},{"$f":"'Local Controller Data - PROP'!H437","v":"-"},{"$f":"'Local Controller Data - PROP'!I437","v":"-"},{"$f":"'Local Controller Data - PROP'!J437","v":"-"},{"$f":"'Local Controller Data - PROP'!K437","v":"-"}]
["ADDED INITIAL","*(SEC./ACTUATION)",null,{"$f":"'Local Controller Data - EXIST'!D438","v":"-"},{"$f":"'Local Controller Data - EXIST'!E438","v":"-"},{"$f":"'Local Controller Data - EXIST'!F438","v":"-"},{"$f":"'Local Controller Data - EXIST'!G438","v":"-"},{"$f":"'Local Controller Data - EXIST'!H438","v":"-"},{"$f":"'Local Controller Data - EXIST'!I438","v":"-"},{"$f":"'Local Controller Data - EXIST'!J438","v":"-"},{"$f":"'Local Controller Data - EXIST'!K438","v":"-"},null,"ADDED INITIAL","*(SEC./ACTUATION)",null,{"$f":"'Local Controller Data - PROP'!D438","v":"-"},{"$f":"'Local Controller Data - PROP'!E438","v":"-"},{"$f":"'Local Controller Data - PROP'!F438","v":"-"},{"$f":"'Local Controller Data - PROP'!G438","v":"-"},{"$f":"'Local Controller Data - PROP'!H438","v":"-"},{"$f":"'Local Controller Data - PROP'!I438","v":"-"},{"$f":"'Local Controller Data - PROP'!J438","v":"-"},{"$f":"'Local Controller Data - PROP'!K438","v":"-"}]
["MAXIMUM INITIAL",null,"*(SEC.)",{"$f":"'Local Controller Data - EXIST'!D439","v":"-"},{"$f":"'Local Controller Data - EXIST'!E439","v":"-"},{"$f":"'Local Controller Data - EXIST'!F439","v":"-"},{"$f":"'Local Controller Data - EXIST'!G439","v":"-"},{"$f":"'Local Controller Data - EXIST'!H439","v":"-"},{"$f":"'Local Controller Data - EXIST'!I439","v":"-"},{"$f":"'Local Controller Data - EXIST'!J439","v":"-"},{"$f":"'Local Controller Data - EXIST'!K439","v":"-"},null,"MAXIMUM INITIAL",null,"*(SEC.)",{"$f":"'Local Controller Data - PROP'!D439","v":"-"},{"$f":"'Local Controller Data - PROP'!E439","v":"-"},{"$f":"'Local Controller Data - PROP'!F439","v":"-"},{"$f":"'Local Controller Data - PROP'!G439","v":"-"},{"$f":"'Local Controller Data - PROP'!H439","v":"-"},{"$f":"'Local Controller Data - PROP'!I439","v":"-"},{"$f":"'Local Controller Data - PROP'!J439","v":"-"},{"$f":"'Local Controller Data - PROP'!K439","v":"-"}]
["PASSAGE TIME (PRESET GAP)",null,"(SEC.)",{"$f":"'Local Controller Data - EXIST'!D440","v":"-"},{"$f":"'Local Controller Data - EXIST'!E440","v":"-"},{"$f":"'Local Controller Data - EXIST'!F440","v":"-"},{"$f":"'Local Controller Data - EXIST'!G440","v":"-"},{"$f":"'Local Controller Data - EXIST'!H440","v":"-"},{"$f":"'Local Controller Data - EXIST'!I440","v":"-"},{"$f":"'Local Controller Data - EXIST'!J440","v":"-"},{"$f":"'Local Controller Data - EXIST'!K440","v":"-"},null,"PASSAGE TIME (PRESET GAP)",null,"(SEC.)",{"$f":"'Local Controller Data - PROP'!D440","v":"-"},{"$f":"'Local Controller Data - PROP'!E440","v":"-"},{"$f":"'Local Controller Data - PROP'!F440","v":"-"},{"$f":"'Local Controller Data - PROP'!G440","v":"-"},{"$f":"'Local Controller Data - PROP'!H440","v":"-"},{"$f":"'Local Controller Data - PROP'!I440","v":"-"},{"$f":"'Local Controller Data - PROP'!J440","v":"-"},{"$f":"'Local Controller Data - PROP'!K440","v":"-"}]
["TIME BEFORE REDUCTION",null,"*(SEC.)",{"$f":"'Local Controller Data - EXIST'!D441","v":"-"},{"$f":"'Local Controller Data - EXIST'!E441","v":"-"},{"$f":"'Local Controller Data - EXIST'!F441","v":"-"},{"$f":"'Local Controller Data - EXIST'!G441","v":"-"},{"$f":"'Local Controller Data - EXIST'!H441","v":"-"},{"$f":"'Local Controller Data - EXIST'!I441","v":"-"},{"$f":"'Local Controller Data - EXIST'!J441","v":"-"},{"$f":"'Local Controller Data - EXIST'!K441","v":"-"},null,"TIME BEFORE REDUCTION",null,"*(SEC.)",{"$f":"'Local Controller Data - PROP'!D441","v":"-"},{"$f":"'Local Controller Data - PROP'!E441","v":"-"},{"$f":"'Local Controller Data - PROP'!F441","v":"-"},{"$f":"'Local Controller Data - PROP'!G441","v":"-"},{"$f":"'Local Controller Data - PROP'!H441","v":"-"},{"$f":"'Local Controller Data - PROP'!I441","v":"-"},{"$f":"'Local Controller Data - PROP'!J441","v":"-"},{"$f":"'Local Controller Data - PROP'!K441","v":"-"}]
["MINIMUM GAP",null,"*(SEC.)",{"$f":"'Local Controller Data - EXIST'!D442","v":"-"},{"$f":"'Local Controller Data - EXIST'!E442","v":"-"},{"$f":"'Local Controller Data - EXIST'!F442","v":"-"},{"$f":"'Local Controller Data - EXIST'!G442","v":"-"},{"$f":"'Local Controller Data - EXIST'!H442","v":"-"},{"$f":"'Local Controller Data - EXIST'!I442","v":"-"},{"$f":"'Local Controller Data - EXIST'!J442","v":"-"},{"$f":"'Local Controller Data - EXIST'!K442","v":"-"},null,"MINIMUM GAP",null,"*(SEC.)",{"$f":"'Local Controller Data - PROP'!D442","v":"-"},{"$f":"'Local Controller Data - PROP'!E442","v":"-"},{"$f":"'Local Controller Data - PROP'!F442","v":"-"},{"$f":"'Local Controller Data - PROP'!G442","v":"-"},{"$f":"'Local Controller Data - PROP'!H442","v":"-"},{"$f":"'Local Controller Data - PROP'!I442","v":"-"},{"$f":"'Local Controller Data - PROP'!J442","v":"-"},{"$f":"'Local Controller Data - PROP'!K442","v":"-"}]
["TIME TO REDUCE",null,"*(SEC.)",{"$f":"'Local Controller Data - EXIST'!D443","v":"-"},{"$f":"'Local Controller Data - EXIST'!E443","v":"-"},{"$f":"'Local Controller Data - EXIST'!F443","v":"-"},{"$f":"'Local Controller Data - EXIST'!G443","v":"-"},{"$f":"'Local Controller Data - EXIST'!H443","v":"-"},{"$f":"'Local Controller Data - EXIST'!I443","v":"-"},{"$f":"'Local Controller Data - EXIST'!J443","v":"-"},{"$f":"'Local Controller Data - EXIST'!K443","v":"-"},null,"TIME TO REDUCE",null,"*(SEC.)",{"$f":"'Local Controller Data - PROP'!D443","v":"-"},{"$f":"'Local Controller Data - PROP'!E443","v":"-"},{"$f":"'Local Controller Data - PROP'!F443","v":"-"},{"$f":"'Local Controller Data - PROP'!G443","v":"-"},{"$f":"'Local Controller Data - PROP'!H443","v":"-"},{"$f":"'Local Controller Data - PROP'!I443","v":"-"},{"$f":"'Local Controller Data - PROP'!J443","v":"-"},{"$f":"'Local Controller Data - PROP'!K443","v":"-"}]
["MAXIMUM GREEN I",null,"(SEC.)",{"$f":"'Local Controller Data - EXIST'!D444","v":"-"},{"$f":"'Local Controller Data - EXIST'!E444","v":"-"},{"$f":"'Local Controller Data - EXIST'!F444","v":"-"},{"$f":"'Local Controller Data - EXIST'!G444","v":"-"},{"$f":"'Local Controller Data - EXIST'!H444","v":"-"},{"$f":"'Local Controller Data - EXIST'!I444","v":"-"},{"$f":"'Local Controller Data - EXIST'!J444","v":"-"},{"$f":"'Local Controller Data - EXIST'!K444","v":"-"},null,"MAXIMUM GREEN I",null,"(SEC.)",{"$f":"'Local Controller Data - PROP'!D444","v":"-"},{"$f":"'Local Controller Data - PROP'!E444","v":"-"},{"$f":"'Local Controller Data - PROP'!F444","v":"-"},{"$f":"'Local Controller Data - PROP'!G444","v":"-"},{"$f":"'Local Controller Data - PROP'!H444","v":"-"},{"$f":"'Local Controller Data - PROP'!I444","v":"-"},{"$f":"'Local Controller Data - PROP'!J444","v":"-"},{"$f":"'Local Controller Data - PROP'!K444","v":"-"}]
["MAXIMUM GREEN II",null,"(SEC.)",{"$f":"'Local Controller Data - EXIST'!D445","v":"-"},{"$f":"'Local Controller Data - EXIST'!E445","v":"-"},{"$f":"'Local Controller Data - EXIST'!F445","v":"-"},{"$f":"'Local Controller Data - EXIST'!G445","v":"-"},{"$f":"'Local Controller Data - EXIST'!H445","v":"-"},{"$f":"'Local Controller Data - EXIST'!I445","v":"-"},{"$f":"'Local Controller Data - EXIST'!J445","v":"-"},{"$f":"'Local Controller Data - EXIST'!K445","v":"-"},null,"MAXIMUM GREEN II",null,"(SEC.)",{"$f":"'Local Controller Data - PROP'!D445","v":"-"},{"$f":"'Local Controller Data - PROP'!E445","v":"-"},{"$f":"'Local Controller Data - PROP'!F445","v":"-"},{"$f":"'Local Controller Data - PROP'!G445","v":"-"},{"$f":"'Local Controller Data - PROP'!H445","v":"-"},{"$f":"'Local Controller Data - PROP'!I445","v":"-"},{"$f":"'Local Controller Data - PROP'!J445","v":"-"},{"$f":"'Local Controller Data - PROP'!K445","v":"-"}]
["YELLOW CHANGE",null,"(SEC.)",{"$f":"'Local Controller Data - EXIST'!D446","v":"-"},{"$f":"'Local Controller Data - EXIST'!E446","v":"-"},{"$f":"'Local Controller Data - EXIST'!F446","v":"-"},{"$f":"'Local Controller Data - EXIST'!G446","v":"-"},{"$f":"'Local Controller Data - EXIST'!H446","v":"-"},{"$f":"'Local Controller Data - EXIST'!I446","v":"-"},{"$f":"'Local Controller Data - EXIST'!J446","v":"-"},{"$f":"'Local Controller Data - EXIST'!K446","v":"-"},null,"YELLOW CHANGE",null,"(SEC.)",{"$f":"'Local Controller Data - PROP'!D446","v":"-"},{"$f":"'Local Controller Data - PROP'!E446","v":"-"},{"$f":"'Local Controller Data - PROP'!F446","v":"-"},{"$f":"'Local Controller Data - PROP'!G446","v":"-"},{"$f":"'Local Controller Data - PROP'!H446","v":"-"},{"$f":"'Local Controller Data - PROP'!I446","v":"-"},{"$f":"'Local Controller Data - PROP'!J446","v":"-"},{"$f":"'Local Controller Data - PROP'!K446","v":"-"}]
["ALL RED CLEARANCE",null,"(SEC.)",{"$f":"'Local Controller Data - EXIST'!D447","v":"-"},{"$f":"'Local Controller Data - EXIST'!E447","v":"-"},{"$f":"'Local Controller Data - EXIST'!F447","v":"-"},{"$f":"'Local Controller Data - EXIST'!G447","v":"-"},{"$f":"'Local Controller Data - EXIST'!H447","v":"-"},{"$f":"'Local Controller Data - EXIST'!I447","v":"-"},{"$f":"'Local Controller Data - EXIST'!J447","v":"-"},{"$f":"'Local Controller Data - EXIST'!K447","v":"-"},null,"ALL RED CLEARANCE",null,"(SEC.)",{"$f":"'Local Controller Data - PROP'!D447","v":"-"},{"$f":"'Local Controller Data - PROP'!E447","v":"-"},{"$f":"'Local Controller Data - PROP'!F447","v":"-"},{"$f":"'Local Controller Data - PROP'!G447","v":"-"},{"$f":"'Local Controller Data - PROP'!H447","v":"-"},{"$f":"'Local Controller Data - PROP'!I447","v":"-"},{"$f":"'Local Controller Data - PROP'!J447","v":"-"},{"$f":"'Local Controller Data - PROP'!K447","v":"-"}]
["DELAYED GREEN (LPI) #",null,"(SEC.)",{"$f":"'Local Controller Data - EXIST'!D448","v":"-"},{"$f":"'Local Controller Data - EXIST'!E448","v":"-"},{"$f":"'Local Controller Data - EXIST'!F448","v":"-"},{"$f":"'Local Controller Data - EXIST'!G448","v":"-"},{"$f":"'Local Controller Data - EXIST'!H448","v":"-"},{"$f":"'Local Controller Data - EXIST'!I448","v":"-"},{"$f":"'Local Controller Data - EXIST'!J448","v":"-"},{"$f":"'Local Controller Data - EXIST'!K448","v":"-"},null,"DELAYED GREEN (LPI) #",null,"(SEC.)",{"$f":"'Local Controller Data - PROP'!D448","v":"-"},{"$f":"'Local Controller Data - PROP'!E448","v":"-"},{"$f":"'Local Controller Data - PROP'!F448","v":"-"},{"$f":"'Local Controller Data - PROP'!G448","v":"-"},{"$f":"'Local Controller Data - PROP'!H448","v":"-"},{"$f":"'Local Controller Data - PROP'!I448","v":"-"},{"$f":"'Local Controller Data - PROP'!J448","v":"-"},{"$f":"'Local Controller Data - PROP'!K448","v":"-"}]
["FLASHING YELLOW ARROW DELAY^",null,"(SEC.)",{"$f":"'Local Controller Data - EXIST'!D449","v":"-"},{"$f":"'Local Controller Data - EXIST'!E449","v":"-"},{"$f":"'Local Controller Data - EXIST'!F449","v":"-"},{"$f":"'Local Controller Data - EXIST'!G449","v":"-"},{"$f":"'Local Controller Data - EXIST'!H449","v":"-"},{"$f":"'Local Controller Data - EXIST'!I449","v":"-"},{"$f":"'Local Controller Data - EXIST'!J449","v":"-"},{"$f":"'Local Controller Data - EXIST'!K449","v":"-"},null,"FLASHING YELLOW ARROW DELAY^",null,"(SEC.)",{"$f":"'Local Controller Data - PROP'!D449","v":"-"},{"$f":"'Local Controller Data - PROP'!E449","v":"-"},{"$f":"'Local Controller Data - PROP'!F449","v":"-"},{"$f":"'Local Controller Data - PROP'!G449","v":"-"},{"$f":"'Local Controller Data - PROP'!H449","v":"-"},{"$f":"'Local Controller Data - PROP'!I449","v":"-"},{"$f":"'Local Controller Data - PROP'!J449","v":"-"},{"$f":"'Local Controller Data - PROP'!K449","v":"-"}]
["WALK",null,"(SEC.)",{"$f":"'Local Controller Data - EXIST'!D450","v":"-"},{"$f":"'Local Controller Data - EXIST'!E450","v":"-"},{"$f":"'Local Controller Data - EXIST'!F450","v":"-"},{"$f":"'Local Controller Data - EXIST'!G450","v":"-"},{"$f":"'Local Controller Data - EXIST'!H450","v":"-"},{"$f":"'Local Controller Data - EXIST'!I450","v":"-"},{"$f":"'Local Controller Data - EXIST'!J450","v":"-"},{"$f":"'Local Controller Data - EXIST'!K450","v":"-"},null,"WALK",null,"(SEC.)",{"$f":"'Local Controller Data - PROP'!D450","v":"-"},{"$f":"'Local Controller Data - PROP'!E450","v":"-"},{"$f":"'Local Controller Data - PROP'!F450","v":"-"},{"$f":"'Local Controller Data - PROP'!G450","v":"-"},{"$f":"'Local Controller Data - PROP'!H450","v":"-"},{"$f":"'Local Controller Data - PROP'!I450","v":"-"},{"$f":"'Local Controller Data - PROP'!J450","v":"-"},{"$f":"'Local Controller Data - PROP'!K450","v":"-"}]
["PEDESTRIAN CLEARANCE",null,"(SEC.)",{"$f":"'Local Controller Data - EXIST'!D451","v":"-"},{"$f":"'Local Controller Data - EXIST'!E451","v":"-"},{"$f":"'Local Controller Data - EXIST'!F451","v":"-"},{"$f":"'Local Controller Data - EXIST'!G451","v":"-"},{"$f":"'Local Controller Data - EXIST'!H451","v":"-"},{"$f":"'Local Controller Data - EXIST'!I451","v":"-"},{"$f":"'Local Controller Data - EXIST'!J451","v":"-"},{"$f":"'Local Controller Data - EXIST'!K451","v":"-"},null,"PEDESTRIAN CLEARANCE",null,"(SEC.)",{"$f":"'Local Controller Data - PROP'!D451","v":"-"},{"$f":"'Local Controller Data - PROP'!E451","v":"-"},{"$f":"'Local Controller Data - PROP'!F451","v":"-"},{"$f":"'Local Controller Data - PROP'!G451","v":"-"},{"$f":"'Local Controller Data - PROP'!H451","v":"-"},{"$f":"'Local Controller Data - PROP'!I451","v":"-"},{"$f":"'Local Controller Data - PROP'!J451","v":"-"},{"$f":"'Local Controller Data - PROP'!K451","v":"-"}]
["RECALL","MAXIMUM","(ON/OFF)",{"$f":"'Local Controller Data - EXIST'!D452","v":"-"},{"$f":"'Local Controller Data - EXIST'!E452","v":"-"},{"$f":"'Local Controller Data - EXIST'!F452","v":"-"},{"$f":"'Local Controller Data - EXIST'!G452","v":"-"},{"$f":"'Local Controller Data - EXIST'!H452","v":"-"},{"$f":"'Local Controller Data - EXIST'!I452","v":"-"},{"$f":"'Local Controller Data - EXIST'!J452","v":"-"},{"$f":"'Local Controller Data - EXIST'!K452","v":"-"},null,"RECALL","MAXIMUM","(ON/OFF)",{"$f":"'Local Controller Data - PROP'!D452","v":"-"},{"$f":"'Local Controller Data - PROP'!E452","v":"-"},{"$f":"'Local Controller Data - PROP'!F452","v":"-"},{"$f":"'Local Controller Data - PROP'!G452","v":"-"},{"$f":"'Local Controller Data - PROP'!H452","v":"-"},{"$f":"'Local Controller Data - PROP'!I452","v":"-"},{"$f":"'Local Controller Data - PROP'!J452","v":"-"},{"$f":"'Local Controller Data - PROP'!K452","v":"-"}]
[null,"MINIMUM","(ON/OFF)",{"$f":"'Local Controller Data - EXIST'!D453","v":"-"},{"$f":"'Local Controller Data - EXIST'!E453","v":"-"},{"$f":"'Local Controller Data - EXIST'!F453","v":"-"},{"$f":"'Local Controller Data - EXIST'!G453","v":"-"},{"$f":"'Local Controller Data - EXIST'!H453","v":"-"},{"$f":"'Local Controller Data - EXIST'!I453","v":"-"},{"$f":"'Local Controller Data - EXIST'!J453","v":"-"},{"$f":"'Local Controller Data - EXIST'!K453","v":"-"},null,null,"MINIMUM","(ON/OFF)",{"$f":"'Local Controller Data - PROP'!D453","v":"-"},{"$f":"'Local Controller Data - PROP'!E453","v":"-"},{"$f":"'Local Controller Data - PROP'!F453","v":"-"},{"$f":"'Local Controller Data - PROP'!G453","v":"-"},{"$f":"'Local Controller Data - PROP'!H453","v":"-"},{"$f":"'Local Controller Data - PROP'!I453","v":"-"},{"$f":"'Local Controller Data - PROP'!J453","v":"-"},{"$f":"'Local Controller Data - PROP'!K453","v":"-"}]
[null,"PEDESTRIAN","(ON/OFF)",{"$f":"'Local Controller Data - EXIST'!D454","v":"-"},{"$f":"'Local Controller Data - EXIST'!E454","v":"-"},{"$f":"'Local Controller Data - EXIST'!F454","v":"-"},{"$f":"'Local Controller Data - EXIST'!G454","v":"-"},{"$f":"'Local Controller Data - EXIST'!H454","v":"-"},{"$f":"'Local Controller Data - EXIST'!I454","v":"-"},{"$f":"'Local Controller Data - EXIST'!J454","v":"-"},{"$f":"'Local Controller Data - EXIST'!K454","v":"-"},null,null,"PEDESTRIAN","(ON/OFF)",{"$f":"'Local Controller Data - PROP'!D454","v":"-"},{"$f":"'Local Controller Data - PROP'!E454","v":"-"},{"$f":"'Local Controller Data - PROP'!F454","v":"-"},{"$f":"'Local Controller Data - PROP'!G454","v":"-"},{"$f":"'Local Controller Data - PROP'!H454","v":"-"},{"$f":"'Local Controller Data - PROP'!I454","v":"-"},{"$f":"'Local Controller Data - PROP'!J454","v":"-"},{"$f":"'Local Controller Data - PROP'!K454","v":"-"}]
["MEMORY    ",null,"(ON/OFF)",{"$f":"'Local Controller Data - EXIST'!D455","v":"-"},{"$f":"'Local Controller Data - EXIST'!E455","v":"-"},{"$f":"'Local Controller Data - EXIST'!F455","v":"-"},{"$f":"'Local Controller Data - EXIST'!G455","v":"-"},{"$f":"'Local Controller Data - EXIST'!H455","v":"-"},{"$f":"'Local Controller Data - EXIST'!I455","v":"-"},{"$f":"'Local Controller Data - EXIST'!J455","v":"-"},{"$f":"'Local Controller Data - EXIST'!K455","v":"-"},null,"MEMORY    ",null,"(ON/OFF)",{"$f":"'Local Controller Data - PROP'!D455","v":"-"},{"$f":"'Local Controller Data - PROP'!E455","v":"-"},{"$f":"'Local Controller Data - PROP'!F455","v":"-"},{"$f":"'Local Controller Data - PROP'!G455","v":"-"},{"$f":"'Local Controller Data - PROP'!H455","v":"-"},{"$f":"'Local Controller Data - PROP'!I455","v":"-"},{"$f":"'Local Controller Data - PROP'!J455","v":"-"},{"$f":"'Local Controller Data - PROP'!K455","v":"-"}]
["*VOLUME DENSITY CONTROLS",null,null,null,null,null,null,null,null,null,null,null,"*VOLUME DENSITY CONTROLS"]
["# FOR CROSSINGS WITH PEDESTRIAN PUSHBUTTONS, LPI'S (LEADING PEDESTRIAN INTERVALS) MAY BE IMPLEMENTED (3-6 SEC.) IN ACCORDANCE WITH LPI DURATION TIME PER THE ODOT SIGNAL CALCULATIONS - CLEARANCE INTERVALS SPREADSHEET",null,null,null,null,null,null,null,null,null,null,null,"# FOR CROSSINGS WITH PEDESTRIAN PUSHBUTTONS, LPI'S (LEADING PEDESTRIAN INTERVALS) MAY BE IMPLEMENTED (3-6 SEC.) IN ACCORDANCE WITH LPI DURATION TIME PER THE ODOT SIGNAL CALCULATIONS - CLEARANCE INTERVALS SPREADSHEET"]
["^ WHEN IMPLEMENTING FYA, A MINIMUM 3 SEC. DELAY SHALL BE PROGRAMMED PER FYA PHASE. ",null,null,null,null,null,null,null,null,null,null,null,"^ WHEN IMPLEMENTING FYA, A MINIMUM 3 SEC. DELAY SHALL BE PROGRAMMED PER FYA PHASE. "]
[]
["ECONOLITE COORD SETTINGS",null,null,"SIEMENS COORD SETTINGS",null,null,null,null,null,null,null,null,"ECONOLITE COORD SETTINGS",null,null,"SIEMENS COORD SETTINGS"]
["MANUAL PATTERN",{"$f":"'Local Controller Data - EXIST'!B463","v":"-"},null,"OPERATION",null,null,null,"-",null,null,null,null,"MANUAL PATTERN",{"$f":"'Local Controller Data - PROP'!B463","v":"-"},null,"OPERATION",null,null,null,"-"]
["SYSTEM SOURCE",{"$f":"'Local Controller Data - EXIST'!B464","v":"-"},null,"MODE (NORMAL)",null,null,null,"-",null,null,null,null,"SYSTEM SOURCE",{"$f":"'Local Controller Data - PROP'!B464","v":"-"},null,"MODE (NORMAL)",null,null,null,"-"]
["SPLITS IN",{"$f":"'Local Controller Data - EXIST'!B465","v":"-"},null,"MAXIMUM",null,null,null,"-",null,null,null,null,"SPLITS IN",{"$f":"'Local Controller Data - PROP'!B465","v":"-"},null,"MAXIMUM",null,null,null,"-"]
["TRANSITION",{"$f":"'Local Controller Data - EXIST'!B466","v":"-"},null,"CORRECTION",null,null,null,"-",null,null,null,null,"TRANSITION",{"$f":"'Local Controller Data - PROP'!B466","v":"-"},null,"CORRECTION",null,null,null,"-"]
["DWELL/ADD TIME",{"$f":"'Local Controller Data - EXIST'!B467","v":"-"},null,"OFFSET MODE",null,null,null,"-",null,null,null,null,"DWELL/ADD TIME",{"$f":"'Local Controller Data - PROP'!B467","v":"-"},null,"OFFSET MODE",null,null,null,"-"]
["OFFSET REFERENCE",{"$f":"'Local Controller Data - EXIST'!B468","v":"-"},null,"FORCE MODE",null,null,null,"-",null,null,null,null,"OFFSET REFERENCE",{"$f":"'Local Controller Data - PROP'!B468","v":"-"},null,"FORCE MODE",null,null,null,"-"]
["PED RECALL",{"$f":"'Local Controller Data - EXIST'!B469","v":"-"},null,"MAX DWELL TIME",null,null,null,"-",null,null,null,null,"PED RECALL",{"$f":"'Local Controller Data - PROP'!B469","v":"-"},null,"MAX DWELL TIME",null,null,null,"-"]
["LOCAL ZERO OVERRIDE",{"$f":"'Local Controller Data - EXIST'!B470","v":"-"},null,"YIELD PERIOD",null,null,null,"-",null,null,null,null,"LOCAL ZERO OVERRIDE",{"$f":"'Local Controller Data - PROP'!B470","v":"-"},null,"YIELD PERIOD",null,null,null,"-"]
["RE-SYNC COUNT",{"$f":"'Local Controller Data - EXIST'!B471","v":"-"},null,"MANUAL CONTROL: DIAL",null,null,null,"-",null,null,null,null,"RE-SYNC COUNT",{"$f":"'Local Controller Data - PROP'!B471","v":"-"},null,"MANUAL CONTROL: DIAL",null,null,null,"-"]
["ECPI COORD",{"$f":"'Local Controller Data - EXIST'!B472","v":"-"},null,"MANUAL CONTROL: SPLIT",null,null,null,"-",null,null,null,null,"ECPI COORD",{"$f":"'Local Controller Data - PROP'!B472","v":"-"},null,"MANUAL CONTROL: SPLIT",null,null,null,"-"]
["SYSTEM FORMAT ",{"$f":"'Local Controller Data - EXIST'!B473","v":"-"},null,"MANUAL CONTROL: OFFSET",null,null,null,"-",null,null,null,null,"SYSTEM FORMAT ",{"$f":"'Local Controller Data - PROP'!B473","v":"-"},null,"MANUAL CONTROL: OFFSET",null,null,null,"-"]
["OFFSET IN",{"$f":"'Local Controller Data - EXIST'!B474","v":"-"},null,null,null,null,null,null,null,null,null,null,"OFFSET IN",{"$f":"'Local Controller Data - PROP'!B474","v":"-"}]
["MAX SELECT",{"$f":"'Local Controller Data - EXIST'!B475","v":"-"},null,null,null,null,null,null,null,null,null,null,"MAX SELECT",{"$f":"'Local Controller Data - PROP'!B475","v":"-"}]
["FORCE OFF",{"$f":"'Local Controller Data - EXIST'!B476","v":"-"},null,null,null,null,null,null,null,null,null,null,"FORCE OFF",{"$f":"'Local Controller Data - PROP'!B476","v":"-"}]
["USE PED TIME",{"$f":"'Local Controller Data - EXIST'!B477","v":"-"},null,null,null,null,null,null,null,null,null,null,"USE PED TIME",{"$f":"'Local Controller Data - PROP'!B477","v":"-"}]
["PED RESERVICE",{"$f":"'Local Controller Data - EXIST'!B478","v":"-"},null,null,null,null,null,null,null,null,null,null,"PED RESERVICE",{"$f":"'Local Controller Data - PROP'!B478","v":"-"}]
["FO ADD INI GRN",{"$f":"'Local Controller Data - EXIST'!B479","v":"-"},null,null,null,null,null,null,null,null,null,null,"FO ADD INI GRN",{"$f":"'Local Controller Data - PROP'!B479","v":"-"}]
["MULTISYNC",{"$f":"'Local Controller Data - EXIST'!B480","v":"-"},null,null,null,null,null,null,null,"EXISTING TIMING",null,null,"MULTISYNC",{"$f":"'Local Controller Data - PROP'!B480","v":"-"},null,null,null,null,null,null,null,"PROPOSED TIMING"]
[]
[{"$f":"'Project Name'!$C$2","v":"LOR-254/301 Signal Timing"},null,null,null,null,null,null,null,null,null,null,null,{"$f":"'Project Name'!$C$2","v":"LOR-254/301 Signal Timing"}]
["Existing Local Controller Data",null,null,null,null,null,null,null,null,null,null,null,"Proposed Local Controller Data"]
["INTERSECTION:",null,null,null,null,null,null,null,null,null,null,null,"INTERSECTION:"]
["MAINTAINING AGENCY:",null,null,null,null,null,null,null,null,null,null,null,"MAINTAINING AGENCY:"]
["START UP",null,null,"DUAL ENTRY: ",null,"-","PHASES:",null,"-",null,null,null,"START UP",null,null,"DUAL ENTRY: ",null,"-","PHASES:",null,"-"]
[null,null,null,"REST IN RED: ",null,null,"RING 1","-",null,"RING 2","-",null,null,null,null,"REST IN RED: ",null,null,"RING 1","-",null,"RING 2","-"]
["START IN: ",{"$f":"'Local Controller Data - EXIST'!B489:C489","v":"-"},null,"OVERLAP",null,null,null,"A","B","C","D",null,"START IN: ","-",null,"OVERLAP",null,null,null,"A","B","C","D"]
["TIME FOR FLASH / ALL RED (SEC.):   ",null,"9, 6",null,null,null,null,null,null,null,null,null,"TIME FOR FLASH / ALL RED (SEC.):   ",null,"9, 6"]
["FIRST PHASE(S):",{"$f":"'Local Controller Data - EXIST'!B491:C491","v":"-"},null,"PHASES",null,null,null,{"$f":"'Local Controller Data - EXIST'!H491","v":"-"},{"$f":"'Local Controller Data - EXIST'!I491","v":"-"},{"$f":"'Local Controller Data - EXIST'!J491","v":"-"},{"$f":"'Local Controller Data - EXIST'!K491","v":"-"},null,"FIRST PHASE(S):",{"$f":"'Local Controller Data - PROP'!B491:C491","v":{"$error":"#VALUE!"}},null,"PHASES",null,null,null,{"$f":"'Local Controller Data - PROP'!H491","v":"-"},{"$f":"'Local Controller Data - PROP'!I491","v":"-"},{"$f":"'Local Controller Data - PROP'!J491","v":"-"},{"$f":"'Local Controller Data - PROP'!K491","v":"-"}]
["COLOR DISPLAYED:","-",null,null,null,null,null,null,null,null,null,null,"COLOR DISPLAYED:","-"]
["INTERVAL OR FEATURE",null,null,"CONTROLLER MOVEMENT NO.",null,null,null,null,null,null,null,null,"INTERVAL OR FEATURE",null,null,"CONTROLLER MOVEMENT NO."]
["INTERSECTION MOVEMENT (PHASE)",null,null,1,2,3,4,5,6,7,8,null,"INTERSECTION MOVEMENT (PHASE)",null,null,1,2,3,4,5,6,7,8]
["DIRECTION",null,null,{"$f":"'Local Controller Data - EXIST'!D496","v":"-"},{"$f":"'Local Controller Data - EXIST'!E496","v":"-"},{"$f":"'Local Controller Data - EXIST'!F496","v":"-"},{"$f":"'Local Controller Data - EXIST'!G496","v":"-"},{"$f":"'Local Controller Data - EXIST'!H496","v":"-"},{"$f":"'Local Controller Data - EXIST'!I496","v":"-"},{"$f":"'Local Controller Data - EXIST'!J496","v":"-"},{"$f":"'Local Controller Data - EXIST'!K496","v":"-"},null,"DIRECTION",null,null,{"$f":"'Local Controller Data - PROP'!D496","v":"-"},{"$f":"'Local Controller Data - PROP'!E496","v":"-"},{"$f":"'Local Controller Data - PROP'!F496","v":"-"},{"$f":"'Local Controller Data - PROP'!G496","v":"-"},{"$f":"'Local Controller Data - PROP'!H496","v":"-"},{"$f":"'Local Controller Data - PROP'!I496","v":"-"},{"$f":"'Local Controller Data - PROP'!J496","v":"-"},{"$f":"'Local Controller Data - PROP'!K496","v":"-"}]
["MINIMUM GREEN (INITIAL) ",null,"(SEC.)",{"$f":"'Local Controller Data - EXIST'!D497","v":"-"},{"$f":"'Local Controller Data - EXIST'!E497","v":"-"},{"$f":"'Local Controller Data - EXIST'!F497","v":"-"},{"$f":"'Local Controller Data - EXIST'!G497","v":"-"},{"$f":"'Local Controller Data - EXIST'!H497","v":"-"},{"$f":"'Local Controller Data - EXIST'!I497","v":"-"},{"$f":"'Local Controller Data - EXIST'!J497","v":"-"},{"$f":"'Local Controller Data - EXIST'!K497","v":"-"},null,"MINIMUM GREEN (INITIAL) ",null,"(SEC.)",{"$f":"'Local Controller Data - PROP'!D497","v":"-"},{"$f":"'Local Controller Data - PROP'!E497","v":"-"},{"$f":"'Local Controller Data - PROP'!F497","v":"-"},{"$f":"'Local Controller Data - PROP'!G497","v":"-"},{"$f":"'Local Controller Data - PROP'!H497","v":"-"},{"$f":"'Local Controller Data - PROP'!I497","v":"-"},{"$f":"'Local Controller Data - PROP'!J497","v":"-"},{"$f":"'Local Controller Data - PROP'!K497","v":"-"}]
["ADDED INITIAL","*(SEC./ACTUATION)",null,{"$f":"'Local Controller Data - EXIST'!D498","v":"-"},{"$f":"'Local Controller Data - EXIST'!E498","v":"-"},{"$f":"'Local Controller Data - EXIST'!F498","v":"-"},{"$f":"'Local Controller Data - EXIST'!G498","v":"-"},{"$f":"'Local Controller Data - EXIST'!H498","v":"-"},{"$f":"'Local Controller Data - EXIST'!I498","v":"-"},{"$f":"'Local Controller Data - EXIST'!J498","v":"-"},{"$f":"'Local Controller Data - EXIST'!K498","v":"-"},null,"ADDED INITIAL","*(SEC./ACTUATION)",null,{"$f":"'Local Controller Data - PROP'!D498","v":"-"},{"$f":"'Local Controller Data - PROP'!E498","v":"-"},{"$f":"'Local Controller Data - PROP'!F498","v":"-"},{"$f":"'Local Controller Data - PROP'!G498","v":"-"},{"$f":"'Local Controller Data - PROP'!H498","v":"-"},{"$f":"'Local Controller Data - PROP'!I498","v":"-"},{"$f":"'Local Controller Data - PROP'!J498","v":"-"},{"$f":"'Local Controller Data - PROP'!K498","v":"-"}]
["MAXIMUM INITIAL",null,"*(SEC.)",{"$f":"'Local Controller Data - EXIST'!D499","v":"-"},{"$f":"'Local Controller Data - EXIST'!E499","v":"-"},{"$f":"'Local Controller Data - EXIST'!F499","v":"-"},{"$f":"'Local Controller Data - EXIST'!G499","v":"-"},{"$f":"'Local Controller Data - EXIST'!H499","v":"-"},{"$f":"'Local Controller Data - EXIST'!I499","v":"-"},{"$f":"'Local Controller Data - EXIST'!J499","v":"-"},{"$f":"'Local Controller Data - EXIST'!K499","v":"-"},null,"MAXIMUM INITIAL",null,"*(SEC.)",{"$f":"'Local Controller Data - PROP'!D499","v":"-"},{"$f":"'Local Controller Data - PROP'!E499","v":"-"},{"$f":"'Local Controller Data - PROP'!F499","v":"-"},{"$f":"'Local Controller Data - PROP'!G499","v":"-"},{"$f":"'Local Controller Data - PROP'!H499","v":"-"},{"$f":"'Local Controller Data - PROP'!I499","v":"-"},{"$f":"'Local Controller Data - PROP'!J499","v":"-"},{"$f":"'Local Controller Data - PROP'!K499","v":"-"}]
["PASSAGE TIME (PRESET GAP)",null,"(SEC.)",{"$f":"'Local Controller Data - EXIST'!D500","v":"-"},{"$f":"'Local Controller Data - EXIST'!E500","v":"-"},{"$f":"'Local Controller Data - EXIST'!F500","v":"-"},{"$f":"'Local Controller Data - EXIST'!G500","v":"-"},{"$f":"'Local Controller Data - EXIST'!H500","v":"-"},{"$f":"'Local Controller Data - EXIST'!I500","v":"-"},{"$f":"'Local Controller Data - EXIST'!J500","v":"-"},{"$f":"'Local Controller Data - EXIST'!K500","v":"-"},null,"PASSAGE TIME (PRESET GAP)",null,"(SEC.)",{"$f":"'Local Controller Data - PROP'!D500","v":"-"},{"$f":"'Local Controller Data - PROP'!E500","v":"-"},{"$f":"'Local Controller Data - PROP'!F500","v":"-"},{"$f":"'Local Controller Data - PROP'!G500","v":"-"},{"$f":"'Local Controller Data - PROP'!H500","v":"-"},{"$f":"'Local Controller Data - PROP'!I500","v":"-"},{"$f":"'Local Controller Data - PROP'!J500","v":"-"},{"$f":"'Local Controller Data - PROP'!K500","v":"-"}]
["TIME BEFORE REDUCTION",null,"*(SEC.)",{"$f":"'Local Controller Data - EXIST'!D501","v":"-"},{"$f":"'Local Controller Data - EXIST'!E501","v":"-"},{"$f":"'Local Controller Data - EXIST'!F501","v":"-"},{"$f":"'Local Controller Data - EXIST'!G501","v":"-"},{"$f":"'Local Controller Data - EXIST'!H501","v":"-"},{"$f":"'Local Controller Data - EXIST'!I501","v":"-"},{"$f":"'Local Controller Data - EXIST'!J501","v":"-"},{"$f":"'Local Controller Data - EXIST'!K501","v":"-"},null,"TIME BEFORE REDUCTION",null,"*(SEC.)",{"$f":"'Local Controller Data - PROP'!D501","v":"-"},{"$f":"'Local Controller Data - PROP'!E501","v":"-"},{"$f":"'Local Controller Data - PROP'!F501","v":"-"},{"$f":"'Local Controller Data - PROP'!G501","v":"-"},{"$f":"'Local Controller Data - PROP'!H501","v":"-"},{"$f":"'Local Controller Data - PROP'!I501","v":"-"},{"$f":"'Local Controller Data - PROP'!J501","v":"-"},{"$f":"'Local Controller Data - PROP'!K501","v":"-"}]
["MINIMUM GAP",null,"*(SEC.)",{"$f":"'Local Controller Data - EXIST'!D502","v":"-"},{"$f":"'Local Controller Data - EXIST'!E502","v":"-"},{"$f":"'Local Controller Data - EXIST'!F502","v":"-"},{"$f":"'Local Controller Data - EXIST'!G502","v":"-"},{"$f":"'Local Controller Data - EXIST'!H502","v":"-"},{"$f":"'Local Controller Data - EXIST'!I502","v":"-"},{"$f":"'Local Controller Data - EXIST'!J502","v":"-"},{"$f":"'Local Controller Data - EXIST'!K502","v":"-"},null,"MINIMUM GAP",null,"*(SEC.)",{"$f":"'Local Controller Data - PROP'!D502","v":"-"},{"$f":"'Local Controller Data - PROP'!E502","v":"-"},{"$f":"'Local Controller Data - PROP'!F502","v":"-"},{"$f":"'Local Controller Data - PROP'!G502","v":"-"},{"$f":"'Local Controller Data - PROP'!H502","v":"-"},{"$f":"'Local Controller Data - PROP'!I502","v":"-"},{"$f":"'Local Controller Data - PROP'!J502","v":"-"},{"$f":"'Local Controller Data - PROP'!K502","v":"-"}]
["TIME TO REDUCE",null,"*(SEC.)",{"$f":"'Local Controller Data - EXIST'!D503","v":"-"},{"$f":"'Local Controller Data - EXIST'!E503","v":"-"},{"$f":"'Local Controller Data - EXIST'!F503","v":"-"},{"$f":"'Local Controller Data - EXIST'!G503","v":"-"},{"$f":"'Local Controller Data - EXIST'!H503","v":"-"},{"$f":"'Local Controller Data - EXIST'!I503","v":"-"},{"$f":"'Local Controller Data - EXIST'!J503","v":"-"},{"$f":"'Local Controller Data - EXIST'!K503","v":"-"},null,"TIME TO REDUCE",null,"*(SEC.)",{"$f":"'Local Controller Data - PROP'!D503","v":"-"},{"$f":"'Local Controller Data - PROP'!E503","v":"-"},{"$f":"'Local Controller Data - PROP'!F503","v":"-"},{"$f":"'Local Controller Data - PROP'!G503","v":"-"},{"$f":"'Local Controller Data - PROP'!H503","v":"-"},{"$f":"'Local Controller Data - PROP'!I503","v":"-"},{"$f":"'Local Controller Data - PROP'!J503","v":"-"},{"$f":"'Local Controller Data - PROP'!K503","v":"-"}]
["MAXIMUM GREEN I",null,"(SEC.)",{"$f":"'Local Controller Data - EXIST'!D504","v":"-"},{"$f":"'Local Controller Data - EXIST'!E504","v":"-"},{"$f":"'Local Controller Data - EXIST'!F504","v":"-"},{"$f":"'Local Controller Data - EXIST'!G504","v":"-"},{"$f":"'Local Controller Data - EXIST'!H504","v":"-"},{"$f":"'Local Controller Data - EXIST'!I504","v":"-"},{"$f":"'Local Controller Data - EXIST'!J504","v":"-"},{"$f":"'Local Controller Data - EXIST'!K504","v":"-"},null,"MAXIMUM GREEN I",null,"(SEC.)",{"$f":"'Local Controller Data - PROP'!D504","v":"-"},{"$f":"'Local Controller Data - PROP'!E504","v":"-"},{"$f":"'Local Controller Data - PROP'!F504","v":"-"},{"$f":"'Local Controller Data - PROP'!G504","v":"-"},{"$f":"'Local Controller Data - PROP'!H504","v":"-"},{"$f":"'Local Controller Data - PROP'!I504","v":"-"},{"$f":"'Local Controller Data - PROP'!J504","v":"-"},{"$f":"'Local Controller Data - PROP'!K504","v":"-"}]
["MAXIMUM GREEN II",null,"(SEC.)",{"$f":"'Local Controller Data - EXIST'!D505","v":"-"},{"$f":"'Local Controller Data - EXIST'!E505","v":"-"},{"$f":"'Local Controller Data - EXIST'!F505","v":"-"},{"$f":"'Local Controller Data - EXIST'!G505","v":"-"},{"$f":"'Local Controller Data - EXIST'!H505","v":"-"},{"$f":"'Local Controller Data - EXIST'!I505","v":"-"},{"$f":"'Local Controller Data - EXIST'!J505","v":"-"},{"$f":"'Local Controller Data - EXIST'!K505","v":"-"},null,"MAXIMUM GREEN II",null,"(SEC.)",{"$f":"'Local Controller Data - PROP'!D505","v":"-"},{"$f":"'Local Controller Data - PROP'!E505","v":"-"},{"$f":"'Local Controller Data - PROP'!F505","v":"-"},{"$f":"'Local Controller Data - PROP'!G505","v":"-"},{"$f":"'Local Controller Data - PROP'!H505","v":"-"},{"$f":"'Local Controller Data - PROP'!I505","v":"-"},{"$f":"'Local Controller Data - PROP'!J505","v":"-"},{"$f":"'Local Controller Data - PROP'!K505","v":"-"}]
["YELLOW CHANGE",null,"(SEC.)",{"$f":"'Local Controller Data - EXIST'!D506","v":"-"},{"$f":"'Local Controller Data - EXIST'!E506","v":"-"},{"$f":"'Local Controller Data - EXIST'!F506","v":"-"},{"$f":"'Local Controller Data - EXIST'!G506","v":"-"},{"$f":"'Local Controller Data - EXIST'!H506","v":"-"},{"$f":"'Local Controller Data - EXIST'!I506","v":"-"},{"$f":"'Local Controller Data - EXIST'!J506","v":"-"},{"$f":"'Local Controller Data - EXIST'!K506","v":"-"},null,"YELLOW CHANGE",null,"(SEC.)",{"$f":"'Local Controller Data - PROP'!D506","v":"-"},{"$f":"'Local Controller Data - PROP'!E506","v":"-"},{"$f":"'Local Controller Data - PROP'!F506","v":"-"},{"$f":"'Local Controller Data - PROP'!G506","v":"-"},{"$f":"'Local Controller Data - PROP'!H506","v":"-"},{"$f":"'Local Controller Data - PROP'!I506","v":"-"},{"$f":"'Local Controller Data - PROP'!J506","v":"-"},{"$f":"'Local Controller Data - PROP'!K506","v":"-"}]
["ALL RED CLEARANCE",null,"(SEC.)",{"$f":"'Local Controller Data - EXIST'!D507","v":"-"},{"$f":"'Local Controller Data - EXIST'!E507","v":"-"},{"$f":"'Local Controller Data - EXIST'!F507","v":"-"},{"$f":"'Local Controller Data - EXIST'!G507","v":"-"},{"$f":"'Local Controller Data - EXIST'!H507","v":"-"},{"$f":"'Local Controller Data - EXIST'!I507","v":"-"},{"$f":"'Local Controller Data - EXIST'!J507","v":"-"},{"$f":"'Local Controller Data - EXIST'!K507","v":"-"},null,"ALL RED CLEARANCE",null,"(SEC.)",{"$f":"'Local Controller Data - PROP'!D507","v":"-"},{"$f":"'Local Controller Data - PROP'!E507","v":"-"},{"$f":"'Local Controller Data - PROP'!F507","v":"-"},{"$f":"'Local Controller Data - PROP'!G507","v":"-"},{"$f":"'Local Controller Data - PROP'!H507","v":"-"},{"$f":"'Local Controller Data - PROP'!I507","v":"-"},{"$f":"'Local Controller Data - PROP'!J507","v":"-"},{"$f":"'Local Controller Data - PROP'!K507","v":"-"}]
["DELAYED GREEN (LPI) #",null,"(SEC.)",{"$f":"'Local Controller Data - EXIST'!D508","v":"-"},{"$f":"'Local Controller Data - EXIST'!E508","v":"-"},{"$f":"'Local Controller Data - EXIST'!F508","v":"-"},{"$f":"'Local Controller Data - EXIST'!G508","v":"-"},{"$f":"'Local Controller Data - EXIST'!H508","v":"-"},{"$f":"'Local Controller Data - EXIST'!I508","v":"-"},{"$f":"'Local Controller Data - EXIST'!J508","v":"-"},{"$f":"'Local Controller Data - EXIST'!K508","v":"-"},null,"DELAYED GREEN (LPI) #",null,"(SEC.)",{"$f":"'Local Controller Data - PROP'!D508","v":"-"},{"$f":"'Local Controller Data - PROP'!E508","v":"-"},{"$f":"'Local Controller Data - PROP'!F508","v":"-"},{"$f":"'Local Controller Data - PROP'!G508","v":"-"},{"$f":"'Local Controller Data - PROP'!H508","v":"-"},{"$f":"'Local Controller Data - PROP'!I508","v":"-"},{"$f":"'Local Controller Data - PROP'!J508","v":"-"},{"$f":"'Local Controller Data - PROP'!K508","v":"-"}]
["FLASHING YELLOW ARROW DELAY^",null,"(SEC.)",{"$f":"'Local Controller Data - EXIST'!D509","v":"-"},{"$f":"'Local Controller Data - EXIST'!E509","v":"-"},{"$f":"'Local Controller Data - EXIST'!F509","v":"-"},{"$f":"'Local Controller Data - EXIST'!G509","v":"-"},{"$f":"'Local Controller Data - EXIST'!H509","v":"-"},{"$f":"'Local Controller Data - EXIST'!I509","v":"-"},{"$f":"'Local Controller Data - EXIST'!J509","v":"-"},{"$f":"'Local Controller Data - EXIST'!K509","v":"-"},null,"FLASHING YELLOW ARROW DELAY^",null,"(SEC.)",{"$f":"'Local Controller Data - PROP'!D509","v":"-"},{"$f":"'Local Controller Data - PROP'!E509","v":"-"},{"$f":"'Local Controller Data - PROP'!F509","v":"-"},{"$f":"'Local Controller Data - PROP'!G509","v":"-"},{"$f":"'Local Controller Data - PROP'!H509","v":"-"},{"$f":"'Local Controller Data - PROP'!I509","v":"-"},{"$f":"'Local Controller Data - PROP'!J509","v":"-"},{"$f":"'Local Controller Data - PROP'!K509","v":"-"}]
["WALK",null,"(SEC.)",{"$f":"'Local Controller Data - EXIST'!D510","v":"-"},{"$f":"'Local Controller Data - EXIST'!E510","v":"-"},{"$f":"'Local Controller Data - EXIST'!F510","v":"-"},{"$f":"'Local Controller Data - EXIST'!G510","v":"-"},{"$f":"'Local Controller Data - EXIST'!H510","v":"-"},{"$f":"'Local Controller Data - EXIST'!I510","v":"-"},{"$f":"'Local Controller Data - EXIST'!J510","v":"-"},{"$f":"'Local Controller Data - EXIST'!K510","v":"-"},null,"WALK",null,"(SEC.)",{"$f":"'Local Controller Data - PROP'!D510","v":"-"},{"$f":"'Local Controller Data - PROP'!E510","v":"-"},{"$f":"'Local Controller Data - PROP'!F510","v":"-"},{"$f":"'Local Controller Data - PROP'!G510","v":"-"},{"$f":"'Local Controller Data - PROP'!H510","v":"-"},{"$f":"'Local Controller Data - PROP'!I510","v":"-"},{"$f":"'Local Controller Data - PROP'!J510","v":"-"},{"$f":"'Local Controller Data - PROP'!K510","v":"-"}]
["PEDESTRIAN CLEARANCE",null,"(SEC.)",{"$f":"'Local Controller Data - EXIST'!D511","v":"-"},{"$f":"'Local Controller Data - EXIST'!E511","v":"-"},{"$f":"'Local Controller Data - EXIST'!F511","v":"-"},{"$f":"'Local Controller Data - EXIST'!G511","v":"-"},{"$f":"'Local Controller Data - EXIST'!H511","v":"-"},{"$f":"'Local Controller Data - EXIST'!I511","v":"-"},{"$f":"'Local Controller Data - EXIST'!J511","v":"-"},{"$f":"'Local Controller Data - EXIST'!K511","v":"-"},null,"PEDESTRIAN CLEARANCE",null,"(SEC.)",{"$f":"'Local Controller Data - PROP'!D511","v":"-"},{"$f":"'Local Controller Data - PROP'!E511","v":"-"},{"$f":"'Local Controller Data - PROP'!F511","v":"-"},{"$f":"'Local Controller Data - PROP'!G511","v":"-"},{"$f":"'Local Controller Data - PROP'!H511","v":"-"},{"$f":"'Local Controller Data - PROP'!I511","v":"-"},{"$f":"'Local Controller Data - PROP'!J511","v":"-"},{"$f":"'Local Controller Data - PROP'!K511","v":"-"}]
["RECALL","MAXIMUM","(ON/OFF)",{"$f":"'Local Controller Data - EXIST'!D512","v":"-"},{"$f":"'Local Controller Data - EXIST'!E512","v":"-"},{"$f":"'Local Controller Data - EXIST'!F512","v":"-"},{"$f":"'Local Controller Data - EXIST'!G512","v":"-"},{"$f":"'Local Controller Data - EXIST'!H512","v":"-"},{"$f":"'Local Controller Data - EXIST'!I512","v":"-"},{"$f":"'Local Controller Data - EXIST'!J512","v":"-"},{"$f":"'Local Controller Data - EXIST'!K512","v":"-"},null,"RECALL","MAXIMUM","(ON/OFF)",{"$f":"'Local Controller Data - PROP'!D512","v":"-"},{"$f":"'Local Controller Data - PROP'!E512","v":"-"},{"$f":"'Local Controller Data - PROP'!F512","v":"-"},{"$f":"'Local Controller Data - PROP'!G512","v":"-"},{"$f":"'Local Controller Data - PROP'!H512","v":"-"},{"$f":"'Local Controller Data - PROP'!I512","v":"-"},{"$f":"'Local Controller Data - PROP'!J512","v":"-"},{"$f":"'Local Controller Data - PROP'!K512","v":"-"}]
[null,"MINIMUM","(ON/OFF)",{"$f":"'Local Controller Data - EXIST'!D513","v":"-"},{"$f":"'Local Controller Data - EXIST'!E513","v":"-"},{"$f":"'Local Controller Data - EXIST'!F513","v":"-"},{"$f":"'Local Controller Data - EXIST'!G513","v":"-"},{"$f":"'Local Controller Data - EXIST'!H513","v":"-"},{"$f":"'Local Controller Data - EXIST'!I513","v":"-"},{"$f":"'Local Controller Data - EXIST'!J513","v":"-"},{"$f":"'Local Controller Data - EXIST'!K513","v":"-"},null,null,"MINIMUM","(ON/OFF)",{"$f":"'Local Controller Data - PROP'!D513","v":"-"},{"$f":"'Local Controller Data - PROP'!E513","v":"-"},{"$f":"'Local Controller Data - PROP'!F513","v":"-"},{"$f":"'Local Controller Data - PROP'!G513","v":"-"},{"$f":"'Local Controller Data - PROP'!H513","v":"-"},{"$f":"'Local Controller Data - PROP'!I513","v":"-"},{"$f":"'Local Controller Data - PROP'!J513","v":"-"},{"$f":"'Local Controller Data - PROP'!K513","v":"-"}]
[null,"PEDESTRIAN","(ON/OFF)",{"$f":"'Local Controller Data - EXIST'!D514","v":"-"},{"$f":"'Local Controller Data - EXIST'!E514","v":"-"},{"$f":"'Local Controller Data - EXIST'!F514","v":"-"},{"$f":"'Local Controller Data - EXIST'!G514","v":"-"},{"$f":"'Local Controller Data - EXIST'!H514","v":"-"},{"$f":"'Local Controller Data - EXIST'!I514","v":"-"},{"$f":"'Local Controller Data - EXIST'!J514","v":"-"},{"$f":"'Local Controller Data - EXIST'!K514","v":"-"},null,null,"PEDESTRIAN","(ON/OFF)",{"$f":"'Local Controller Data - PROP'!D514","v":"-"},{"$f":"'Local Controller Data - PROP'!E514","v":"-"},{"$f":"'Local Controller Data - PROP'!F514","v":"-"},{"$f":"'Local Controller Data - PROP'!G514","v":"-"},{"$f":"'Local Controller Data - PROP'!H514","v":"-"},{"$f":"'Local Controller Data - PROP'!I514","v":"-"},{"$f":"'Local Controller Data - PROP'!J514","v":"-"},{"$f":"'Local Controller Data - PROP'!K514","v":"-"}]
["MEMORY    ",null,"(ON/OFF)",{"$f":"'Local Controller Data - EXIST'!D515","v":"-"},{"$f":"'Local Controller Data - EXIST'!E515","v":"-"},{"$f":"'Local Controller Data - EXIST'!F515","v":"-"},{"$f":"'Local Controller Data - EXIST'!G515","v":"-"},{"$f":"'Local Controller Data - EXIST'!H515","v":"-"},{"$f":"'Local Controller Data - EXIST'!I515","v":"-"},{"$f":"'Local Controller Data - EXIST'!J515","v":"-"},{"$f":"'Local Controller Data - EXIST'!K515","v":"-"},null,"MEMORY    ",null,"(ON/OFF)",{"$f":"'Local Controller Data - PROP'!D515","v":"-"},{"$f":"'Local Controller Data - PROP'!E515","v":"-"},{"$f":"'Local Controller Data - PROP'!F515","v":"-"},{"$f":"'Local Controller Data - PROP'!G515","v":"-"},{"$f":"'Local Controller Data - PROP'!H515","v":"-"},{"$f":"'Local Controller Data - PROP'!I515","v":"-"},{"$f":"'Local Controller Data - PROP'!J515","v":"-"},{"$f":"'Local Controller Data - PROP'!K515","v":"-"}]
["*VOLUME DENSITY CONTROLS",null,null,null,null,null,null,null,null,null,null,null,"*VOLUME DENSITY CONTROLS"]
["# FOR CROSSINGS WITH PEDESTRIAN PUSHBUTTONS, LPI'S (LEADING PEDESTRIAN INTERVALS) MAY BE IMPLEMENTED (3-6 SEC.) IN ACCORDANCE WITH LPI DURATION TIME PER THE ODOT SIGNAL CALCULATIONS - CLEARANCE INTERVALS SPREADSHEET",null,null,null,null,null,null,null,null,null,null,null,"# FOR CROSSINGS WITH PEDESTRIAN PUSHBUTTONS, LPI'S (LEADING PEDESTRIAN INTERVALS) MAY BE IMPLEMENTED (3-6 SEC.) IN ACCORDANCE WITH LPI DURATION TIME PER THE ODOT SIGNAL CALCULATIONS - CLEARANCE INTERVALS SPREADSHEET"]
["^ WHEN IMPLEMENTING FYA, A MINIMUM 3 SEC. DELAY SHALL BE PROGRAMMED PER FYA PHASE. ",null,null,null,null,null,null,null,null,null,null,null,"^ WHEN IMPLEMENTING FYA, A MINIMUM 3 SEC. DELAY SHALL BE PROGRAMMED PER FYA PHASE. "]
[]
["ECONOLITE COORD SETTINGS",null,null,"SIEMENS COORD SETTINGS",null,null,null,null,null,null,null,null,"ECONOLITE COORD SETTINGS",null,null,"SIEMENS COORD SETTINGS"]
["MANUAL PATTERN",{"$f":"'Local Controller Data - EXIST'!B523","v":"-"},null,"OPERATION",null,null,null,"-",null,null,null,null,"MANUAL PATTERN",{"$f":"'Local Controller Data - PROP'!B523","v":"-"},null,"OPERATION",null,null,null,"-"]
["SYSTEM SOURCE",{"$f":"'Local Controller Data - EXIST'!B524","v":"-"},null,"MODE (NORMAL)",null,null,null,"-",null,null,null,null,"SYSTEM SOURCE",{"$f":"'Local Controller Data - PROP'!B524","v":"-"},null,"MODE (NORMAL)",null,null,null,"-"]
["SPLITS IN",{"$f":"'Local Controller Data - EXIST'!B525","v":"-"},null,"MAXIMUM",null,null,null,"-",null,null,null,null,"SPLITS IN",{"$f":"'Local Controller Data - PROP'!B525","v":"-"},null,"MAXIMUM",null,null,null,"-"]
["TRANSITION",{"$f":"'Local Controller Data - EXIST'!B526","v":"-"},null,"CORRECTION",null,null,null,"-",null,null,null,null,"TRANSITION",{"$f":"'Local Controller Data - PROP'!B526","v":"-"},null,"CORRECTION",null,null,null,"-"]
["DWELL/ADD TIME",{"$f":"'Local Controller Data - EXIST'!B527","v":"-"},null,"OFFSET MODE",null,null,null,"-",null,null,null,null,"DWELL/ADD TIME",{"$f":"'Local Controller Data - PROP'!B527","v":"-"},null,"OFFSET MODE",null,null,null,"-"]
["OFFSET REFERENCE",{"$f":"'Local Controller Data - EXIST'!B528","v":"-"},null,"FORCE MODE",null,null,null,"-",null,null,null,null,"OFFSET REFERENCE",{"$f":"'Local Controller Data - PROP'!B528","v":"-"},null,"FORCE MODE",null,null,null,"-"]
["PED RECALL",{"$f":"'Local Controller Data - EXIST'!B529","v":"-"},null,"MAX DWELL TIME",null,null,null,"-",null,null,null,null,"PED RECALL",{"$f":"'Local Controller Data - PROP'!B529","v":"-"},null,"MAX DWELL TIME",null,null,null,"-"]
["LOCAL ZERO OVERRIDE",{"$f":"'Local Controller Data - EXIST'!B530","v":"-"},null,"YIELD PERIOD",null,null,null,"-",null,null,null,null,"LOCAL ZERO OVERRIDE",{"$f":"'Local Controller Data - PROP'!B530","v":"-"},null,"YIELD PERIOD",null,null,null,"-"]
["RE-SYNC COUNT",{"$f":"'Local Controller Data - EXIST'!B531","v":"-"},null,"MANUAL CONTROL: DIAL",null,null,null,"-",null,null,null,null,"RE-SYNC COUNT",{"$f":"'Local Controller Data - PROP'!B531","v":"-"},null,"MANUAL CONTROL: DIAL",null,null,null,"-"]
["ECPI COORD",{"$f":"'Local Controller Data - EXIST'!B532","v":"-"},null,"MANUAL CONTROL: SPLIT",null,null,null,"-",null,null,null,null,"ECPI COORD",{"$f":"'Local Controller Data - PROP'!B532","v":"-"},null,"MANUAL CONTROL: SPLIT",null,null,null,"-"]
["SYSTEM FORMAT ",{"$f":"'Local Controller Data - EXIST'!B533","v":"-"},null,"MANUAL CONTROL: OFFSET",null,null,null,"-",null,null,null,null,"SYSTEM FORMAT ",{"$f":"'Local Controller Data - PROP'!B533","v":"-"},null,"MANUAL CONTROL: OFFSET",null,null,null,"-"]
["OFFSET IN",{"$f":"'Local Controller Data - EXIST'!B534","v":"-"},null,null,null,null,null,null,null,null,null,null,"OFFSET IN",{"$f":"'Local Controller Data - PROP'!B534","v":"-"}]
["MAX SELECT",{"$f":"'Local Controller Data - EXIST'!B535","v":"-"},null,null,null,null,null,null,null,null,null,null,"MAX SELECT",{"$f":"'Local Controller Data - PROP'!B535","v":"-"}]
["FORCE OFF",{"$f":"'Local Controller Data - EXIST'!B536","v":"-"},null,null,null,null,null,null,null,null,null,null,"FORCE OFF",{"$f":"'Local Controller Data - PROP'!B536","v":"-"}]
["USE PED TIME",{"$f":"'Local Controller Data - EXIST'!B537","v":"-"},null,null,null,null,null,null,null,null,null,null,"USE PED TIME",{"$f":"'Local Controller Data - PROP'!B537","v":"-"}]
["PED RESERVICE",{"$f":"'Local Controller Data - EXIST'!B538","v":"-"},null,null,null,null,null,null,null,null,null,null,"PED RESERVICE",{"$f":"'Local Controller Data - PROP'!B538","v":"-"}]
["FO ADD INI GRN",{"$f":"'Local Controller Data - EXIST'!B539","v":"-"},null,null,null,null,null,null,null,null,null,null,"FO ADD INI GRN",{"$f":"'Local Controller Data - PROP'!B539","v":"-"}]
["MULTISYNC",{"$f":"'Local Controller Data - EXIST'!B540","v":"-"},null,null,null,null,null,null,null,"EXISTING TIMING",null,null,"MULTISYNC",{"$f":"'Local Controller Data - PROP'!B540","v":"-"},null,null,null,null,null,null,null,"PROPOSED TIMING"]
[]
[{"$f":"'Project Name'!$C$2","v":"LOR-254/301 Signal Timing"},null,null,null,null,null,null,null,null,null,null,null,{"$f":"'Project Name'!$C$2","v":"LOR-254/301 Signal Timing"}]
["Existing Local Controller Data",null,null,null,null,null,null,null,null,null,null,null,"Proposed Local Controller Data"]
["INTERSECTION:",null,null,null,null,null,null,null,null,null,null,null,"INTERSECTION:"]
["MAINTAINING AGENCY:",null,null,null,null,null,null,null,null,null,null,null,"MAINTAINING AGENCY:"]
["START UP",null,null,"DUAL ENTRY: ",null,"-","PHASES:",null,"-",null,null,null,"START UP",null,null,"DUAL ENTRY: ",null,"-","PHASES:",null,"-"]
[null,null,null,"REST IN RED: ",null,null,"RING 1","-",null,"RING 2","-",null,null,null,null,"REST IN RED: ",null,null,"RING 1","-",null,"RING 2","-"]
["START IN: ",{"$f":"'Local Controller Data - EXIST'!B549:C549","v":"-"},null,"OVERLAP",null,null,null,"A","B","C","D",null,"START IN: ","-",null,"OVERLAP",null,null,null,"A","B","C","D"]
["TIME FOR FLASH / ALL RED (SEC.):   ",null,"9, 6",null,null,null,null,null,null,null,null,null,"TIME FOR FLASH / ALL RED (SEC.):   ",null,"9, 6"]
["FIRST PHASE(S):",{"$f":"'Local Controller Data - EXIST'!B551:C551","v":"-"},null,"PHASES",null,null,null,{"$f":"'Local Controller Data - EXIST'!H551","v":"-"},{"$f":"'Local Controller Data - EXIST'!I551","v":"-"},{"$f":"'Local Controller Data - EXIST'!J551","v":"-"},{"$f":"'Local Controller Data - EXIST'!K551","v":"-"},null,"FIRST PHASE(S):",{"$f":"'Local Controller Data - PROP'!B551:C551","v":{"$error":"#VALUE!"}},null,"PHASES",null,null,null,{"$f":"'Local Controller Data - PROP'!H551","v":"-"},{"$f":"'Local Controller Data - PROP'!I551","v":"-"},{"$f":"'Local Controller Data - PROP'!J551","v":"-"},{"$f":"'Local Controller Data - PROP'!K551","v":"-"}]
["COLOR DISPLAYED:","-",null,null,null,null,null,null,null,null,null,null,"COLOR DISPLAYED:","-"]
["INTERVAL OR FEATURE",null,null,"CONTROLLER MOVEMENT NO.",null,null,null,null,null,null,null,null,"INTERVAL OR FEATURE",null,null,"CONTROLLER MOVEMENT NO."]
["INTERSECTION MOVEMENT (PHASE)",null,null,1,2,3,4,5,6,7,8,null,"INTERSECTION MOVEMENT (PHASE)",null,null,1,2,3,4,5,6,7,8]
["DIRECTION",null,null,{"$f":"'Local Controller Data - EXIST'!D556","v":"-"},{"$f":"'Local Controller Data - EXIST'!E556","v":"-"},{"$f":"'Local Controller Data - EXIST'!F556","v":"-"},{"$f":"'Local Controller Data - EXIST'!G556","v":"-"},{"$f":"'Local Controller Data - EXIST'!H556","v":"-"},{"$f":"'Local Controller Data - EXIST'!I556","v":"-"},{"$f":"'Local Controller Data - EXIST'!J556","v":"-"},{"$f":"'Local Controller Data - EXIST'!K556","v":"-"},null,"DIRECTION",null,null,{"$f":"'Local Controller Data - PROP'!D556","v":"-"},{"$f":"'Local Controller Data - PROP'!E556","v":"-"},{"$f":"'Local Controller Data - PROP'!F556","v":"-"},{"$f":"'Local Controller Data - PROP'!G556","v":"-"},{"$f":"'Local Controller Data - PROP'!H556","v":"-"},{"$f":"'Local Controller Data - PROP'!I556","v":"-"},{"$f":"'Local Controller Data - PROP'!J556","v":"-"},{"$f":"'Local Controller Data - PROP'!K556","v":"-"}]
["MINIMUM GREEN (INITIAL) ",null,"(SEC.)",{"$f":"'Local Controller Data - EXIST'!D557","v":"-"},{"$f":"'Local Controller Data - EXIST'!E557","v":"-"},{"$f":"'Local Controller Data - EXIST'!F557","v":"-"},{"$f":"'Local Controller Data - EXIST'!G557","v":"-"},{"$f":"'Local Controller Data - EXIST'!H557","v":"-"},{"$f":"'Local Controller Data - EXIST'!I557","v":"-"},{"$f":"'Local Controller Data - EXIST'!J557","v":"-"},{"$f":"'Local Controller Data - EXIST'!K557","v":"-"},null,"MINIMUM GREEN (INITIAL) ",null,"(SEC.)",{"$f":"'Local Controller Data - PROP'!D557","v":"-"},{"$f":"'Local Controller Data - PROP'!E557","v":"-"},{"$f":"'Local Controller Data - PROP'!F557","v":"-"},{"$f":"'Local Controller Data - PROP'!G557","v":"-"},{"$f":"'Local Controller Data - PROP'!H557","v":"-"},{"$f":"'Local Controller Data - PROP'!I557","v":"-"},{"$f":"'Local Controller Data - PROP'!J557","v":"-"},{"$f":"'Local Controller Data - PROP'!K557","v":"-"}]
["ADDED INITIAL","*(SEC./ACTUATION)",null,{"$f":"'Local Controller Data - EXIST'!D558","v":"-"},{"$f":"'Local Controller Data - EXIST'!E558","v":"-"},{"$f":"'Local Controller Data - EXIST'!F558","v":"-"},{"$f":"'Local Controller Data - EXIST'!G558","v":"-"},{"$f":"'Local Controller Data - EXIST'!H558","v":"-"},{"$f":"'Local Controller Data - EXIST'!I558","v":"-"},{"$f":"'Local Controller Data - EXIST'!J558","v":"-"},{"$f":"'Local Controller Data - EXIST'!K558","v":"-"},null,"ADDED INITIAL","*(SEC./ACTUATION)",null,{"$f":"'Local Controller Data - PROP'!D558","v":"-"},{"$f":"'Local Controller Data - PROP'!E558","v":"-"},{"$f":"'Local Controller Data - PROP'!F558","v":"-"},{"$f":"'Local Controller Data - PROP'!G558","v":"-"},{"$f":"'Local Controller Data - PROP'!H558","v":"-"},{"$f":"'Local Controller Data - PROP'!I558","v":"-"},{"$f":"'Local Controller Data - PROP'!J558","v":"-"},{"$f":"'Local Controller Data - PROP'!K558","v":"-"}]
["MAXIMUM INITIAL",null,"*(SEC.)",{"$f":"'Local Controller Data - EXIST'!D559","v":"-"},{"$f":"'Local Controller Data - EXIST'!E559","v":"-"},{"$f":"'Local Controller Data - EXIST'!F559","v":"-"},{"$f":"'Local Controller Data - EXIST'!G559","v":"-"},{"$f":"'Local Controller Data - EXIST'!H559","v":"-"},{"$f":"'Local Controller Data - EXIST'!I559","v":"-"},{"$f":"'Local Controller Data - EXIST'!J559","v":"-"},{"$f":"'Local Controller Data - EXIST'!K559","v":"-"},null,"MAXIMUM INITIAL",null,"*(SEC.)",{"$f":"'Local Controller Data - PROP'!D559","v":"-"},{"$f":"'Local Controller Data - PROP'!E559","v":"-"},{"$f":"'Local Controller Data - PROP'!F559","v":"-"},{"$f":"'Local Controller Data - PROP'!G559","v":"-"},{"$f":"'Local Controller Data - PROP'!H559","v":"-"},{"$f":"'Local Controller Data - PROP'!I559","v":"-"},{"$f":"'Local Controller Data - PROP'!J559","v":"-"},{"$f":"'Local Controller Data - PROP'!K559","v":"-"}]
["PASSAGE TIME (PRESET GAP)",null,"(SEC.)",{"$f":"'Local Controller Data - EXIST'!D560","v":"-"},{"$f":"'Local Controller Data - EXIST'!E560","v":"-"},{"$f":"'Local Controller Data - EXIST'!F560","v":"-"},{"$f":"'Local Controller Data - EXIST'!G560","v":"-"},{"$f":"'Local Controller Data - EXIST'!H560","v":"-"},{"$f":"'Local Controller Data - EXIST'!I560","v":"-"},{"$f":"'Local Controller Data - EXIST'!J560","v":"-"},{"$f":"'Local Controller Data - EXIST'!K560","v":"-"},null,"PASSAGE TIME (PRESET GAP)",null,"(SEC.)",{"$f":"'Local Controller Data - PROP'!D560","v":"-"},{"$f":"'Local Controller Data - PROP'!E560","v":"-"},{"$f":"'Local Controller Data - PROP'!F560","v":"-"},{"$f":"'Local Controller Data - PROP'!G560","v":"-"},{"$f":"'Local Controller Data - PROP'!H560","v":"-"},{"$f":"'Local Controller Data - PROP'!I560","v":"-"},{"$f":"'Local Controller Data - PROP'!J560","v":"-"},{"$f":"'Local Controller Data - PROP'!K560","v":"-"}]
["TIME BEFORE REDUCTION",null,"*(SEC.)",{"$f":"'Local Controller Data - EXIST'!D561","v":"-"},{"$f":"'Local Controller Data - EXIST'!E561","v":"-"},{"$f":"'Local Controller Data - EXIST'!F561","v":"-"},{"$f":"'Local Controller Data - EXIST'!G561","v":"-"},{"$f":"'Local Controller Data - EXIST'!H561","v":"-"},{"$f":"'Local Controller Data - EXIST'!I561","v":"-"},{"$f":"'Local Controller Data - EXIST'!J561","v":"-"},{"$f":"'Local Controller Data - EXIST'!K561","v":"-"},null,"TIME BEFORE REDUCTION",null,"*(SEC.)",{"$f":"'Local Controller Data - PROP'!D561","v":"-"},{"$f":"'Local Controller Data - PROP'!E561","v":"-"},{"$f":"'Local Controller Data - PROP'!F561","v":"-"},{"$f":"'Local Controller Data - PROP'!G561","v":"-"},{"$f":"'Local Controller Data - PROP'!H561","v":"-"},{"$f":"'Local Controller Data - PROP'!I561","v":"-"},{"$f":"'Local Controller Data - PROP'!J561","v":"-"},{"$f":"'Local Controller Data - PROP'!K561","v":"-"}]
["MINIMUM GAP",null,"*(SEC.)",{"$f":"'Local Controller Data - EXIST'!D562","v":"-"},{"$f":"'Local Controller Data - EXIST'!E562","v":"-"},{"$f":"'Local Controller Data - EXIST'!F562","v":"-"},{"$f":"'Local Controller Data - EXIST'!G562","v":"-"},{"$f":"'Local Controller Data - EXIST'!H562","v":"-"},{"$f":"'Local Controller Data - EXIST'!I562","v":"-"},{"$f":"'Local Controller Data - EXIST'!J562","v":"-"},{"$f":"'Local Controller Data - EXIST'!K562","v":"-"},null,"MINIMUM GAP",null,"*(SEC.)",{"$f":"'Local Controller Data - PROP'!D562","v":"-"},{"$f":"'Local Controller Data - PROP'!E562","v":"-"},{"$f":"'Local Controller Data - PROP'!F562","v":"-"},{"$f":"'Local Controller Data - PROP'!G562","v":"-"},{"$f":"'Local Controller Data - PROP'!H562","v":"-"},{"$f":"'Local Controller Data - PROP'!I562","v":"-"},{"$f":"'Local Controller Data - PROP'!J562","v":"-"},{"$f":"'Local Controller Data - PROP'!K562","v":"-"}]
["TIME TO REDUCE",null,"*(SEC.)",{"$f":"'Local Controller Data - EXIST'!D563","v":"-"},{"$f":"'Local Controller Data - EXIST'!E563","v":"-"},{"$f":"'Local Controller Data - EXIST'!F563","v":"-"},{"$f":"'Local Controller Data - EXIST'!G563","v":"-"},{"$f":"'Local Controller Data - EXIST'!H563","v":"-"},{"$f":"'Local Controller Data - EXIST'!I563","v":"-"},{"$f":"'Local Controller Data - EXIST'!J563","v":"-"},{"$f":"'Local Controller Data - EXIST'!K563","v":"-"},null,"TIME TO REDUCE",null,"*(SEC.)",{"$f":"'Local Controller Data - PROP'!D563","v":"-"},{"$f":"'Local Controller Data - PROP'!E563","v":"-"},{"$f":"'Local Controller Data - PROP'!F563","v":"-"},{"$f":"'Local Controller Data - PROP'!G563","v":"-"},{"$f":"'Local Controller Data - PROP'!H563","v":"-"},{"$f":"'Local Controller Data - PROP'!I563","v":"-"},{"$f":"'Local Controller Data - PROP'!J563","v":"-"},{"$f":"'Local Controller Data - PROP'!K563","v":"-"}]
["MAXIMUM GREEN I",null,"(SEC.)",{"$f":"'Local Controller Data - EXIST'!D564","v":"-"},{"$f":"'Local Controller Data - EXIST'!E564","v":"-"},{"$f":"'Local Controller Data - EXIST'!F564","v":"-"},{"$f":"'Local Controller Data - EXIST'!G564","v":"-"},{"$f":"'Local Controller Data - EXIST'!H564","v":"-"},{"$f":"'Local Controller Data - EXIST'!I564","v":"-"},{"$f":"'Local Controller Data - EXIST'!J564","v":"-"},{"$f":"'Local Controller Data - EXIST'!K564","v":"-"},null,"MAXIMUM GREEN I",null,"(SEC.)",{"$f":"'Local Controller Data - PROP'!D564","v":"-"},{"$f":"'Local Controller Data - PROP'!E564","v":"-"},{"$f":"'Local Controller Data - PROP'!F564","v":"-"},{"$f":"'Local Controller Data - PROP'!G564","v":"-"},{"$f":"'Local Controller Data - PROP'!H564","v":"-"},{"$f":"'Local Controller Data - PROP'!I564","v":"-"},{"$f":"'Local Controller Data - PROP'!J564","v":"-"},{"$f":"'Local Controller Data - PROP'!K564","v":"-"}]
["MAXIMUM GREEN II",null,"(SEC.)",{"$f":"'Local Controller Data - EXIST'!D565","v":"-"},{"$f":"'Local Controller Data - EXIST'!E565","v":"-"},{"$f":"'Local Controller Data - EXIST'!F565","v":"-"},{"$f":"'Local Controller Data - EXIST'!G565","v":"-"},{"$f":"'Local Controller Data - EXIST'!H565","v":"-"},{"$f":"'Local Controller Data - EXIST'!I565","v":"-"},{"$f":"'Local Controller Data - EXIST'!J565","v":"-"},{"$f":"'Local Controller Data - EXIST'!K565","v":"-"},null,"MAXIMUM GREEN II",null,"(SEC.)",{"$f":"'Local Controller Data - PROP'!D565","v":"-"},{"$f":"'Local Controller Data - PROP'!E565","v":"-"},{"$f":"'Local Controller Data - PROP'!F565","v":"-"},{"$f":"'Local Controller Data - PROP'!G565","v":"-"},{"$f":"'Local Controller Data - PROP'!H565","v":"-"},{"$f":"'Local Controller Data - PROP'!I565","v":"-"},{"$f":"'Local Controller Data - PROP'!J565","v":"-"},{"$f":"'Local Controller Data - PROP'!K565","v":"-"}]
["YELLOW CHANGE",null,"(SEC.)",{"$f":"'Local Controller Data - EXIST'!D566","v":"-"},{"$f":"'Local Controller Data - EXIST'!E566","v":"-"},{"$f":"'Local Controller Data - EXIST'!F566","v":"-"},{"$f":"'Local Controller Data - EXIST'!G566","v":"-"},{"$f":"'Local Controller Data - EXIST'!H566","v":"-"},{"$f":"'Local Controller Data - EXIST'!I566","v":"-"},{"$f":"'Local Controller Data - EXIST'!J566","v":"-"},{"$f":"'Local Controller Data - EXIST'!K566","v":"-"},null,"YELLOW CHANGE",null,"(SEC.)",{"$f":"'Local Controller Data - PROP'!D566","v":"-"},{"$f":"'Local Controller Data - PROP'!E566","v":"-"},{"$f":"'Local Controller Data - PROP'!F566","v":"-"},{"$f":"'Local Controller Data - PROP'!G566","v":"-"},{"$f":"'Local Controller Data - PROP'!H566","v":"-"},{"$f":"'Local Controller Data - PROP'!I566","v":"-"},{"$f":"'Local Controller Data - PROP'!J566","v":"-"},{"$f":"'Local Controller Data - PROP'!K566","v":"-"}]
["ALL RED CLEARANCE",null,"(SEC.)",{"$f":"'Local Controller Data - EXIST'!D567","v":"-"},{"$f":"'Local Controller Data - EXIST'!E567","v":"-"},{"$f":"'Local Controller Data - EXIST'!F567","v":"-"},{"$f":"'Local Controller Data - EXIST'!G567","v":"-"},{"$f":"'Local Controller Data - EXIST'!H567","v":"-"},{"$f":"'Local Controller Data - EXIST'!I567","v":"-"},{"$f":"'Local Controller Data - EXIST'!J567","v":"-"},{"$f":"'Local Controller Data - EXIST'!K567","v":"-"},null,"ALL RED CLEARANCE",null,"(SEC.)",{"$f":"'Local Controller Data - PROP'!D567","v":"-"},{"$f":"'Local Controller Data - PROP'!E567","v":"-"},{"$f":"'Local Controller Data - PROP'!F567","v":"-"},{"$f":"'Local Controller Data - PROP'!G567","v":"-"},{"$f":"'Local Controller Data - PROP'!H567","v":"-"},{"$f":"'Local Controller Data - PROP'!I567","v":"-"},{"$f":"'Local Controller Data - PROP'!J567","v":"-"},{"$f":"'Local Controller Data - PROP'!K567","v":"-"}]
["DELAYED GREEN (LPI) #",null,"(SEC.)",{"$f":"'Local Controller Data - EXIST'!D568","v":"-"},{"$f":"'Local Controller Data - EXIST'!E568","v":"-"},{"$f":"'Local Controller Data - EXIST'!F568","v":"-"},{"$f":"'Local Controller Data - EXIST'!G568","v":"-"},{"$f":"'Local Controller Data - EXIST'!H568","v":"-"},{"$f":"'Local Controller Data - EXIST'!I568","v":"-"},{"$f":"'Local Controller Data - EXIST'!J568","v":"-"},{"$f":"'Local Controller Data - EXIST'!K568","v":"-"},null,"DELAYED GREEN (LPI) #",null,"(SEC.)",{"$f":"'Local Controller Data - PROP'!D568","v":"-"},{"$f":"'Local Controller Data - PROP'!E568","v":"-"},{"$f":"'Local Controller Data - PROP'!F568","v":"-"},{"$f":"'Local Controller Data - PROP'!G568","v":"-"},{"$f":"'Local Controller Data - PROP'!H568","v":"-"},{"$f":"'Local Controller Data - PROP'!I568","v":"-"},{"$f":"'Local Controller Data - PROP'!J568","v":"-"},{"$f":"'Local Controller Data - PROP'!K568","v":"-"}]
["FLASHING YELLOW ARROW DELAY^",null,"(SEC.)",{"$f":"'Local Controller Data - EXIST'!D569","v":"-"},{"$f":"'Local Controller Data - EXIST'!E569","v":"-"},{"$f":"'Local Controller Data - EXIST'!F569","v":"-"},{"$f":"'Local Controller Data - EXIST'!G569","v":"-"},{"$f":"'Local Controller Data - EXIST'!H569","v":"-"},{"$f":"'Local Controller Data - EXIST'!I569","v":"-"},{"$f":"'Local Controller Data - EXIST'!J569","v":"-"},{"$f":"'Local Controller Data - EXIST'!K569","v":"-"},null,"FLASHING YELLOW ARROW DELAY^",null,"(SEC.)",{"$f":"'Local Controller Data - PROP'!D569","v":"-"},{"$f":"'Local Controller Data - PROP'!E569","v":"-"},{"$f":"'Local Controller Data - PROP'!F569","v":"-"},{"$f":"'Local Controller Data - PROP'!G569","v":"-"},{"$f":"'Local Controller Data - PROP'!H569","v":"-"},{"$f":"'Local Controller Data - PROP'!I569","v":"-"},{"$f":"'Local Controller Data - PROP'!J569","v":"-"},{"$f":"'Local Controller Data - PROP'!K569","v":"-"}]
["WALK",null,"(SEC.)",{"$f":"'Local Controller Data - EXIST'!D570","v":"-"},{"$f":"'Local Controller Data - EXIST'!E570","v":"-"},{"$f":"'Local Controller Data - EXIST'!F570","v":"-"},{"$f":"'Local Controller Data - EXIST'!G570","v":"-"},{"$f":"'Local Controller Data - EXIST'!H570","v":"-"},{"$f":"'Local Controller Data - EXIST'!I570","v":"-"},{"$f":"'Local Controller Data - EXIST'!J570","v":"-"},{"$f":"'Local Controller Data - EXIST'!K570","v":"-"},null,"WALK",null,"(SEC.)",{"$f":"'Local Controller Data - PROP'!D570","v":"-"},{"$f":"'Local Controller Data - PROP'!E570","v":"-"},{"$f":"'Local Controller Data - PROP'!F570","v":"-"},{"$f":"'Local Controller Data - PROP'!G570","v":"-"},{"$f":"'Local Controller Data - PROP'!H570","v":"-"},{"$f":"'Local Controller Data - PROP'!I570","v":"-"},{"$f":"'Local Controller Data - PROP'!J570","v":"-"},{"$f":"'Local Controller Data - PROP'!K570","v":"-"}]
["PEDESTRIAN CLEARANCE",null,"(SEC.)",{"$f":"'Local Controller Data - EXIST'!D571","v":"-"},{"$f":"'Local Controller Data - EXIST'!E571","v":"-"},{"$f":"'Local Controller Data - EXIST'!F571","v":"-"},{"$f":"'Local Controller Data - EXIST'!G571","v":"-"},{"$f":"'Local Controller Data - EXIST'!H571","v":"-"},{"$f":"'Local Controller Data - EXIST'!I571","v":"-"},{"$f":"'Local Controller Data - EXIST'!J571","v":"-"},{"$f":"'Local Controller Data - EXIST'!K571","v":"-"},null,"PEDESTRIAN CLEARANCE",null,"(SEC.)",{"$f":"'Local Controller Data - PROP'!D571","v":"-"},{"$f":"'Local Controller Data - PROP'!E571","v":"-"},{"$f":"'Local Controller Data - PROP'!F571","v":"-"},{"$f":"'Local Controller Data - PROP'!G571","v":"-"},{"$f":"'Local Controller Data - PROP'!H571","v":"-"},{"$f":"'Local Controller Data - PROP'!I571","v":"-"},{"$f":"'Local Controller Data - PROP'!J571","v":"-"},{"$f":"'Local Controller Data - PROP'!K571","v":"-"}]
["RECALL","MAXIMUM","(ON/OFF)",{"$f":"'Local Controller Data - EXIST'!D572","v":"-"},{"$f":"'Local Controller Data - EXIST'!E572","v":"-"},{"$f":"'Local Controller Data - EXIST'!F572","v":"-"},{"$f":"'Local Controller Data - EXIST'!G572","v":"-"},{"$f":"'Local Controller Data - EXIST'!H572","v":"-"},{"$f":"'Local Controller Data - EXIST'!I572","v":"-"},{"$f":"'Local Controller Data - EXIST'!J572","v":"-"},{"$f":"'Local Controller Data - EXIST'!K572","v":"-"},null,"RECALL","MAXIMUM","(ON/OFF)",{"$f":"'Local Controller Data - PROP'!D572","v":"-"},{"$f":"'Local Controller Data - PROP'!E572","v":"-"},{"$f":"'Local Controller Data - PROP'!F572","v":"-"},{"$f":"'Local Controller Data - PROP'!G572","v":"-"},{"$f":"'Local Controller Data - PROP'!H572","v":"-"},{"$f":"'Local Controller Data - PROP'!I572","v":"-"},{"$f":"'Local Controller Data - PROP'!J572","v":"-"},{"$f":"'Local Controller Data - PROP'!K572","v":"-"}]
[null,"MINIMUM","(ON/OFF)",{"$f":"'Local Controller Data - EXIST'!D573","v":"-"},{"$f":"'Local Controller Data - EXIST'!E573","v":"-"},{"$f":"'Local Controller Data - EXIST'!F573","v":"-"},{"$f":"'Local Controller Data - EXIST'!G573","v":"-"},{"$f":"'Local Controller Data - EXIST'!H573","v":"-"},{"$f":"'Local Controller Data - EXIST'!I573","v":"-"},{"$f":"'Local Controller Data - EXIST'!J573","v":"-"},{"$f":"'Local Controller Data - EXIST'!K573","v":"-"},null,null,"MINIMUM","(ON/OFF)",{"$f":"'Local Controller Data - PROP'!D573","v":"-"},{"$f":"'Local Controller Data - PROP'!E573","v":"-"},{"$f":"'Local Controller Data - PROP'!F573","v":"-"},{"$f":"'Local Controller Data - PROP'!G573","v":"-"},{"$f":"'Local Controller Data - PROP'!H573","v":"-"},{"$f":"'Local Controller Data - PROP'!I573","v":"-"},{"$f":"'Local Controller Data - PROP'!J573","v":"-"},{"$f":"'Local Controller Data - PROP'!K573","v":"-"}]
[null,"PEDESTRIAN","(ON/OFF)",{"$f":"'Local Controller Data - EXIST'!D574","v":"-"},{"$f":"'Local Controller Data - EXIST'!E574","v":"-"},{"$f":"'Local Controller Data - EXIST'!F574","v":"-"},{"$f":"'Local Controller Data - EXIST'!G574","v":"-"},{"$f":"'Local Controller Data - EXIST'!H574","v":"-"},{"$f":"'Local Controller Data - EXIST'!I574","v":"-"},{"$f":"'Local Controller Data - EXIST'!J574","v":"-"},{"$f":"'Local Controller Data - EXIST'!K574","v":"-"},null,null,"PEDESTRIAN","(ON/OFF)",{"$f":"'Local Controller Data - PROP'!D574","v":"-"},{"$f":"'Local Controller Data - PROP'!E574","v":"-"},{"$f":"'Local Controller Data - PROP'!F574","v":"-"},{"$f":"'Local Controller Data - PROP'!G574","v":"-"},{"$f":"'Local Controller Data - PROP'!H574","v":"-"},{"$f":"'Local Controller Data - PROP'!I574","v":"-"},{"$f":"'Local Controller Data - PROP'!J574","v":"-"},{"$f":"'Local Controller Data - PROP'!K574","v":"-"}]
["MEMORY    ",null,"(ON/OFF)",{"$f":"'Local Controller Data - EXIST'!D575","v":"-"},{"$f":"'Local Controller Data - EXIST'!E575","v":"-"},{"$f":"'Local Controller Data - EXIST'!F575","v":"-"},{"$f":"'Local Controller Data - EXIST'!G575","v":"-"},{"$f":"'Local Controller Data - EXIST'!H575","v":"-"},{"$f":"'Local Controller Data - EXIST'!I575","v":"-"},{"$f":"'Local Controller Data - EXIST'!J575","v":"-"},{"$f":"'Local Controller Data - EXIST'!K575","v":"-"},null,"MEMORY    ",null,"(ON/OFF)",{"$f":"'Local Controller Data - PROP'!D575","v":"-"},{"$f":"'Local Controller Data - PROP'!E575","v":"-"},{"$f":"'Local Controller Data - PROP'!F575","v":"-"},{"$f":"'Local Controller Data - PROP'!G575","v":"-"},{"$f":"'Local Controller Data - PROP'!H575","v":"-"},{"$f":"'Local Controller Data - PROP'!I575","v":"-"},{"$f":"'Local Controller Data - PROP'!J575","v":"-"},{"$f":"'Local Controller Data - PROP'!K575","v":"-"}]
["*VOLUME DENSITY CONTROLS",null,null,null,null,null,null,null,null,null,null,null,"*VOLUME DENSITY CONTROLS"]
["# FOR CROSSINGS WITH PEDESTRIAN PUSHBUTTONS, LPI'S (LEADING PEDESTRIAN INTERVALS) MAY BE IMPLEMENTED (3-6 SEC.) IN ACCORDANCE WITH LPI DURATION TIME PER THE ODOT SIGNAL CALCULATIONS - CLEARANCE INTERVALS SPREADSHEET",null,null,null,null,null,null,null,null,null,null,null,"# FOR CROSSINGS WITH PEDESTRIAN PUSHBUTTONS, LPI'S (LEADING PEDESTRIAN INTERVALS) MAY BE IMPLEMENTED (3-6 SEC.) IN ACCORDANCE WITH LPI DURATION TIME PER THE ODOT SIGNAL CALCULATIONS - CLEARANCE INTERVALS SPREADSHEET"]
["^ WHEN IMPLEMENTING FYA, A MINIMUM 3 SEC. DELAY SHALL BE PROGRAMMED PER FYA PHASE. ",null,null,null,null,null,null,null,null,null,null,null,"^ WHEN IMPLEMENTING FYA, A MINIMUM 3 SEC. DELAY SHALL BE PROGRAMMED PER FYA PHASE. "]
[]
["ECONOLITE COORD SETTINGS",null,null,"SIEMENS COORD SETTINGS",null,null,null,null,null,null,null,null,"ECONOLITE COORD SETTINGS",null,null,"SIEMENS COORD SETTINGS"]
["MANUAL PATTERN",{"$f":"'Local Controller Data - EXIST'!B583","v":"-"},null,"OPERATION",null,null,null,"-",null,null,null,null,"MANUAL PATTERN",{"$f":"'Local Controller Data - PROP'!B583","v":"-"},null,"OPERATION",null,null,null,"-"]
["SYSTEM SOURCE",{"$f":"'Local Controller Data - EXIST'!B584","v":"-"},null,"MODE (NORMAL)",null,null,null,"-",null,null,null,null,"SYSTEM SOURCE",{"$f":"'Local Controller Data - PROP'!B584","v":"-"},null,"MODE (NORMAL)",null,null,null,"-"]
["SPLITS IN",{"$f":"'Local Controller Data - EXIST'!B585","v":"-"},null,"MAXIMUM",null,null,null,"-",null,null,null,null,"SPLITS IN",{"$f":"'Local Controller Data - PROP'!B585","v":"-"},null,"MAXIMUM",null,null,null,"-"]
["TRANSITION",{"$f":"'Local Controller Data - EXIST'!B586","v":"-"},null,"CORRECTION",null,null,null,"-",null,null,null,null,"TRANSITION",{"$f":"'Local Controller Data - PROP'!B586","v":"-"},null,"CORRECTION",null,null,null,"-"]
["DWELL/ADD TIME",{"$f":"'Local Controller Data - EXIST'!B587","v":"-"},null,"OFFSET MODE",null,null,null,"-",null,null,null,null,"DWELL/ADD TIME",{"$f":"'Local Controller Data - PROP'!B587","v":"-"},null,"OFFSET MODE",null,null,null,"-"]
["OFFSET REFERENCE",{"$f":"'Local Controller Data - EXIST'!B588","v":"-"},null,"FORCE MODE",null,null,null,"-",null,null,null,null,"OFFSET REFERENCE",{"$f":"'Local Controller Data - PROP'!B588","v":"-"},null,"FORCE MODE",null,null,null,"-"]
["PED RECALL",{"$f":"'Local Controller Data - EXIST'!B589","v":"-"},null,"MAX DWELL TIME",null,null,null,"-",null,null,null,null,"PED RECALL",{"$f":"'Local Controller Data - PROP'!B589","v":"-"},null,"MAX DWELL TIME",null,null,null,"-"]
["LOCAL ZERO OVERRIDE",{"$f":"'Local Controller Data - EXIST'!B590","v":"-"},null,"YIELD PERIOD",null,null,null,"-",null,null,null,null,"LOCAL ZERO OVERRIDE",{"$f":"'Local Controller Data - PROP'!B590","v":"-"},null,"YIELD PERIOD",null,null,null,"-"]
["RE-SYNC COUNT",{"$f":"'Local Controller Data - EXIST'!B591","v":"-"},null,"MANUAL CONTROL: DIAL",null,null,null,"-",null,null,null,null,"RE-SYNC COUNT",{"$f":"'Local Controller Data - PROP'!B591","v":"-"},null,"MANUAL CONTROL: DIAL",null,null,null,"-"]
["ECPI COORD",{"$f":"'Local Controller Data - EXIST'!B592","v":"-"},null,"MANUAL CONTROL: SPLIT",null,null,null,"-",null,null,null,null,"ECPI COORD",{"$f":"'Local Controller Data - PROP'!B592","v":"-"},null,"MANUAL CONTROL: SPLIT",null,null,null,"-"]
["SYSTEM FORMAT ",{"$f":"'Local Controller Data - EXIST'!B593","v":"-"},null,"MANUAL CONTROL: OFFSET",null,null,null,"-",null,null,null,null,"SYSTEM FORMAT ",{"$f":"'Local Controller Data - PROP'!B593","v":"-"},null,"MANUAL CONTROL: OFFSET",null,null,null,"-"]
["OFFSET IN",{"$f":"'Local Controller Data - EXIST'!B594","v":"-"},null,null,null,null,null,null,null,null,null,null,"OFFSET IN",{"$f":"'Local Controller Data - PROP'!B594","v":"-"}]
["MAX SELECT",{"$f":"'Local Controller Data - EXIST'!B595","v":"-"},null,null,null,null,null,null,null,null,null,null,"MAX SELECT",{"$f":"'Local Controller Data - PROP'!B595","v":"-"}]
["FORCE OFF",{"$f":"'Local Controller Data - EXIST'!B596","v":"-"},null,null,null,null,null,null,null,null,null,null,"FORCE OFF",{"$f":"'Local Controller Data - PROP'!B596","v":"-"}]
["USE PED TIME",{"$f":"'Local Controller Data - EXIST'!B597","v":"-"},null,null,null,null,null,null,null,null,null,null,"USE PED TIME",{"$f":"'Local Controller Data - PROP'!B597","v":"-"}]
["PED RESERVICE",{"$f":"'Local Controller Data - EXIST'!B598","v":"-"},null,null,null,null,null,null,null,null,null,null,"PED RESERVICE",{"$f":"'Local Controller Data - PROP'!B598","v":"-"}]
["FO ADD INI GRN",{"$f":"'Local Controller Data - EXIST'!B599","v":"-"},null,null,null,null,null,null,null,null,null,null,"FO ADD INI GRN",{"$f":"'Local Controller Data - PROP'!B599","v":"-"}]
["MULTISYNC",{"$f":"'Local Controller Data - EXIST'!B600","v":"-"},null,null,null,null,null,null,null,"EXISTING TIMING",null,null,"MULTISYNC",{"$f":"'Local Controller Data - PROP'!B600","v":"-"},null,null,null,null,null,null,null,"PROPOSED TIMING"]

{"sheet":"Volume Data","index":4,"n_rows":144,"n_cols":14,"rows_kept":144,"cut":false,"hidden":false,"merged":[[128,2,128,13],[135,0,135,13],[138,2,138,13],[95,0,95,13],[98,2,98,13],[105,0,105,13],[108,2,108,13],[115,0,115,13],[118,2,118,13],[127,0,127,1],[136,0,136,1],[126,0,126,1],[0,0,0,13],[125,0,125,13],[14,0,14,8],[15,0,15,8],[1,0,1,13],[8,7,8,8],[6,0,6,8],[10,2,10,4],[9,1,9,8],[8,1,8,3],[88,2,88,13],[55,0,55,13],[58,2,58,13],[45,0,45,13],[48,2,48,13],[65,0,65,13],[68,2,68,13],[75,0,75,13],[57,0,57,1],[66,0,66,1],[47,0,47,1],[56,0,56,1],[67,0,67,1],[78,2,78,13],[85,0,85,13],[46,0,46,1],[137,0,137,1],[11,2,11,7],[12,1,12,5],[97,0,97,1],[106,0,106,1],[107,0,107,1],[116,0,116,1],[117,0,117,1],[76,0,76,1],[77,0,77,1],[86,0,86,1],[87,0,87,1],[96,0,96,1]]}
[{"$f":"'Project Name'!$C$2","v":"LOR-254/301 Signal Timing"}]
["Volume Data"]
["General Notes:"]
["1. Volumes are per hour"]
["2. Corresponding Plan No.'s are shown on Timing Summary"]
[]
["COUNT INFORMATION"]
[]
["Month/Year:   ","2022-05-19",null,null,null,"Day of Week:",null,"Th/Sat"]
["Time Period(s):","AM Peak, MD Peak, Offpeak, PM Peak, Weekend Peak"]
["Total Number of Hours:",null,5]
["Method of Obtaining Counts1:",null,"Miovision"]
["Type of Count2:","Video"]
[]
["1 Count Board, Video, Tube Counts, etc."]
["2 Turning Movement Count (TMC), Average Daily Traffic (ADT), etc."]
[]
[]
[]
[]
[]
[]
[]
[]
[]
[]
[]
[]
[]
[]
[]
[]
[]
[]
[]
[]
[]
[]
[]
[]
[]
[]
[]
[]
[]
[{"$f":"'Local Controller Data - EXIST'!D4","v":"Detroit Rd & Transportation Dr/Mike Bass Ford Dr"}]
["PHASE",null,1,2,"2/PED",3,4,"4/PED",5,6,"6/PED",7,8,"8/PED"]
["DIRECTION",null,"WBL","EBT","-","-","SBT","-","EBL","WBT","-","-","NBT","-"]
["EX. PLAN NO.","PROP. PLAN NO.","VEHICULAR/PED PEAK HOURLY VOLUME"]
["1-1","10 (AM Peak)",21,454,"-","-",{"$f":"62+1+19","v":82},"-",26,{"$f":"376+72","v":448},"-","-",39,"-"]
["1-2","20 (MD Peak)",28,538,"-","-",{"$f":"98+27","v":125},"-",19,{"$f":"560+82","v":642},"-","-",37,"-"]
["1-3","30 (PM Peak)",16,568,"-","-",{"$f":"72+1+38","v":111},"-",12,{"$f":"788+41","v":829},"-","-",47,"-"]
["1-1","40 (Offpeak)",21,454,"-","-",{"$f":"62+1+19","v":82},"-",26,{"$f":"376+71","v":447},"-","-",39,"-"]
["2-1","60 (Wknd Peak)",12,605,"-","-",22,"-",5,638,"-","-",18,"-"]
[]
[{"$f":"'Local Controller Data - EXIST'!D65","v":"Detroit Rd & I-90 WB Ramps"}]
["PHASE",null,1,2,"2/PED",3,4,"4/PED",5,6,"6/PED",7,8,"8/PED"]
["DIRECTION",null,"WBL","EBT","-","-","SBT","-","-","WBT","-","-","-","-"]
["EX. PLAN NO.","PROP. PLAN NO.","VEHICULAR/PED PEAK HOURLY VOLUME"]
["1-1","10 (AM Peak)",326,{"$f":"438+43","v":481},"-","-",{"$f":"237+222","v":459},"-","-",263,"-","-","-","-"]
["1-2","20 (MD Peak)",296,{"$f":"610+49","v":659},"-","-",{"$f":"284+206","v":490},"-","-",464,"-","-","-","-"]
["1-3","30 (PM Peak)",495,{"$f":"615+85","v":700},"-","-",{"$f":"438+411","v":849},"-","-",451,"-","-","-","-"]
["1-1","40 (Offpeak)",275,{"$f":"488+51","v":539},"-","-",{"$f":"213+147","v":360},"-","-",317,"-","-","-","-"]
["2-1","60 (Wknd Peak)",324,{"$f":"577+45","v":622},"-","-",{"$f":"331+225","v":556},"-","-",425,"-","-","-","-"]
[]
[{"$f":"'Local Controller Data - EXIST'!D125","v":"Detroit Rd & I-90 EB Ramps"}]
["PHASE",null,1,2,"2/PED",3,4,"4/PED",5,6,"6/PED",7,8,"8/PED"]
["DIRECTION",null,"-","EBT","-","-","-","-","EBL","WBT","-","-","NBT","-"]
["EX. PLAN NO.","PROP. PLAN NO.","VEHICULAR/PED PEAK HOURLY VOLUME"]
["1-1","10 (AM Peak)","-",456,"-","-","-","-",216,{"$f":"501+488","v":989},"-","-",{"$f":"70+449","v":519},"-"]
["1-2","20 (MD Peak)","-",748,"-","-","-","-",146,{"$f":"719+284","v":1003},"-","-",{"$f":"51+367","v":418},"-"]
["1-3","30 (PM Peak)","-",851,"-","-","-","-",202,{"$f":"907+358","v":1265},"-","-",{"$f":"42+3+472","v":517},"-"]
["1-1","40 (Offpeak)","-",155,"-","-","-","-",558,{"$f":"539+267","v":806},"-","-",{"$f":"61+1+332","v":394},"-"]
["2-1","60 (Wknd Peak)","-",174,"-","-","-","-",734,{"$f":"714+294","v":1008},"-","-",449,"-"]
[]
[{"$f":"'Local Controller Data - EXIST'!D185","v":"Detroit Rd & Sheffield Crossing"}]
["PHASE",null,1,2,"2/PED",3,4,"4/PED",5,6,"6/PED",7,8,"8/PED"]
["DIRECTION",null,"WBL","EBT","-","-","SBT","-","EBL","WBT","-","-","NBT","-"]
["EX. PLAN NO.","PROP. PLAN NO.","VEHICULAR/PED PEAK HOURLY VOLUME"]
["1-1","10 (AM Peak)",22,803,"-","-",{"$f":"9+2+33","v":44},"-",46,856,"-","-",{"$f":"104+2+30","v":136},"-"]
["1-2","20 (MD Peak)",45,{"$f":"801+103","v":904},"-","-",{"$f":"44+29+77","v":150},"-",130,{"$f":"704+78","v":782},"-","-",{"$f":"186+29+67","v":282},"-"]
["1-3","30 (PM Peak)",42,{"$f":"1007+89","v":1096},"-","-",{"$f":"37+23+99","v":159},"-",146,{"$f":"921+56","v":977},"-","-",{"$f":"217+23+75","v":315},"-"]
["1-1","40 (Offpeak)",36,{"$f":"653+73","v":726},"-","-",{"$f":"31+13+51","v":95},"-",{"$f":"653+73","v":726},624,"-","-",{"$f":"131+9+25","v":165},"-"]
["2-1","60 (Wknd Peak)",44,{"$f":"787+124","v":911},"-","-",{"$f":"45+29+84","v":158},"-",151,{"$f":"725+52","v":777},"-","-",{"$f":"191+23+76","v":290},"-"]
[]
[{"$f":"'Local Controller Data - EXIST'!D245","v":"Detroit Rd & Abbe Rd"}]
["PHASE",null,1,2,"2/PED",3,4,"4/PED",5,6,"6/PED",7,8,"8/PED"]
["DIRECTION",null,"WBL","EBT","-","NBL","SBT","-","EBL","WBT","-","SBL","NBT","-"]
["EX. PLAN NO.","PROP. PLAN NO.","VEHICULAR/PED PEAK HOURLY VOLUME"]
["1-1","10 (AM Peak)",104,{"$f":"225+449","v":674},"-",393,{"$f":"195+168","v":363},"-",100,{"$f":"319+28","v":347},"-",34,{"$f":"173+103","v":276},"-"]
["1-2","20 (MD Peak)",176,{"$f":"246+534","v":780},"-",461,{"$f":"260+105","v":365},"-",135,{"$f":"240+76","v":316},"-",84,{"$f":"224+134","v":358},"-"]
["1-3","30 (PM Peak)",183,{"$f":"363+549","v":912},"-",528,{"$f":"256+128","v":384},"-",183,{"$f":"351+83","v":434},"-",95,{"$f":"256+128","v":384},"-"]
["1-1","40 (Offpeak)",111,{"$f":"191+456","v":647},"-",364,{"$f":"166+85","v":251},"-",84,{"$f":"226+56","v":282},"-",52,{"$f":"150+149","v":299},"-"]
["2-1","60 (Wknd Peak)",209,781,"-",438,315,"-",133,336,"-",82,385,"-"]
[]
[{"$f":"'Local Controller Data - EXIST'!D305","v":"Abbe Rd & Hoag Dr"}]
["PHASE",null,1,2,"2/PED",3,4,"4/PED",5,6,"6/PED",7,8,"8/PED"]
["DIRECTION",null,"NBL","SBT","-","-","WBT","-","SBL","NBT","-","-","EBT","-"]
["EX. PLAN NO.","PROP. PLAN NO.","VEHICULAR/PED PEAK HOURLY VOLUME"]
["1-1","10 (AM Peak)",13,{"$f":"552+68","v":620},"-","-",{"$f":"19+3+21","v":43},"-",103,{"$f":"571+59","v":630},"-","-",{"$f":"56+9+14","v":79},"-"]
["1-2","20 (MD Peak)",65,{"$f":"624+201","v":825},"-","-",{"$f":"55+31+110","v":196},"-",79,{"$f":"543+59","v":602},"-","-",{"$f":"236+24+63","v":323},"-"]
["1-2","30 (PM Peak)",43,{"$f":"737+193","v":930},"-","-",{"$f":"81+19+120","v":220},"-",32,{"$f":"693+31","v":724},"-","-",{"$f":"228+17+56","v":301},"-"]
["1-3","40 (Offpeak)",41,{"$f":"432+165","v":597},"-","-",{"$f":"45+12+73","v":130},"-",79,{"$f":"473+65","v":538},"-","-",{"$f":"137+5+37","v":179},"-"]
["FREE","60 (Wknd Peak)",68,{"$f":"562+427","v":989},"-","-",{"$f":"20+9+18","v":47},"-",16,{"$f":"515+23","v":538},"-","-",{"$f":"327+7+93","v":427},"-"]
[]
["\"INTERSECTION 7\""]
["PHASE",null,1,2,"2/PED",3,4,"4/PED",5,6,"6/PED",7,8,"8/PED"]
["DIRECTION",null,"-","-","-","-","-","-","-","-","-","-","-","-"]
["EX. PLAN NO.","PROP. PLAN NO.","VEHICULAR/PED PEAK HOURLY VOLUME"]
["-","-","-","-","-","-","-","-","-","-","-","-","-","-"]
["-","-","-","-","-","-","-","-","-","-","-","-","-","-"]
["-","-","-","-","-","-","-","-","-","-","-","-","-","-"]
["-","-","-","-","-","-","-","-","-","-","-","-","-","-"]
["-","-","-","-","-","-","-","-","-","-","-","-","-","-"]
[]
["\"INTERSECTION 8\""]
["PHASE",null,1,2,"2/PED",3,4,"4/PED",5,6,"6/PED",7,8,"8/PED"]
["DIRECTION",null,"-","-","-","-","-","-","-","-","-","-","-","-"]
["EX. PLAN NO.","PROP. PLAN NO.","VEHICULAR/PED PEAK HOURLY VOLUME"]
["-","-","-","-","-","-","-","-","-","-","-","-","-","-"]
["-","-","-","-","-","-","-","-","-","-","-","-","-","-"]
["-","-","-","-","-","-","-","-","-","-","-","-","-","-"]
["-","-","-","-","-","-","-","-","-","-","-","-","-","-"]
["-","-","-","-","-","-","-","-","-","-","-","-","-","-"]
[]
["\"INTERSECTION 9\""]
["PHASE",null,1,2,"2/PED",3,4,"4/PED",5,6,"6/PED",7,8,"8/PED"]
["DIRECTION",null,"-","-","-","-","-","-","-","-","-","-","-","-"]
["EX. PLAN NO.","PROP. PLAN NO.","VEHICULAR/PED PEAK HOURLY VOLUME"]
["-","-","-","-","-","-","-","-","-","-","-","-","-","-"]
["-","-","-","-","-","-","-","-","-","-","-","-","-","-"]
["-","-","-","-","-","-","-","-","-","-","-","-","-","-"]
["-","-","-","-","-","-","-","-","-","-","-","-","-","-"]
["-","-","-","-","-","-","-","-","-","-","-","-","-","-"]
[]
["\"INTERSECTION 10\""]
["PHASE",null,1,2,"2/PED",3,4,"4/PED",5,6,"6/PED",7,8,"8/PED"]
["DIRECTION",null,"-","-","-","-","-","-","-","-","-","-","-","-"]
["EX. PLAN NO.","PROP. PLAN NO.","VEHICULAR/PED PEAK HOURLY VOLUME"]
["-","-","-","-","-","-","-","-","-","-","-","-","-","-"]
["-","-","-","-","-","-","-","-","-","-","-","-","-","-"]
["-","-","-","-","-","-","-","-","-","-","-","-","-","-"]
["-","-","-","-","-","-","-","-","-","-","-","-","-","-"]
["-","-","-","-","-","-","-","-","-","-","-","-","-","-"]

{"sheet":"Coordination Timing - EXISTING","index":5,"n_rows":196,"n_cols":19,"rows_kept":196,"cut":false,"hidden":false,"merged":[[3,0,3,4],[3,5,3,9],[4,0,4,2],[1,0,1,10],[187,0,187,10],[188,9,190,9],[188,10,190,10],[190,1,190,8],[167,0,167,10],[168,9,170,9],[168,10,170,10],[170,1,170,8],[177,0,177,10],[178,9,180,9],[178,10,180,10],[180,1,180,8],[158,9,160,9],[158,10,160,10],[160,1,160,8],[127,0,127,10],[128,9,130,9],[128,10,130,10],[130,1,130,8],[137,0,137,10],[138,9,140,9],[138,10,140,10],[140,1,140,8],[147,0,147,10],[148,9,150,9],[148,10,150,10],[150,1,150,8],[157,0,157,10],[33,1,33,2],[33,3,33,4],[33,5,33,7],[33,8,33,10],[59,1,59,2],[59,3,59,4],[59,5,59,7],[59,8,59,10],[118,9,120,9],[118,10,120,10],[120,1,120,8],[66,1,66,2],[66,3,66,4],[66,5,66,7],[66,8,66,10],[97,0,97,10],[100,1,100,8],[107,0,107,10],[108,9,110,9],[108,10,110,10],[110,1,110,8],[117,0,117,10],[29,1,29,2],[29,3,29,4],[29,5,29,7],[29,8,29,10],[30,1,30,2],[30,3,30,4],[30,5,30,7],[30,8,30,10],[32,1,32,2],[32,3,32,4],[32,5,32,7],[32,8,32,10],[39,1,39,2],[39,3,39,4],[39,5,39,7],[39,8,39,10],[40,1,40,2],[40,3,40,4],[99,11,100,12],[99,13,100,14],[99,15,100,16],[98,11,98,16],[0,0,0,10],[11,0,11,10],[12,1,12,2],[12,3,12,4],[12,5,12,7],[12,8,12,10],[26,1,26,2],[26,3,26,4],[26,5,26,7],[26,8,26,10],[27,1,27,2],[27,3,27,4],[27,5,27,7],[27,8,27,10],[28,1,28,2],[28,3,28,4],[28,5,28,7],[28,8,28,10],[98,9,100,9],[98,10,100,10],[148,11,148,16],[119,11,120,12],[119,13,120,14],[119,15,120,16],[128,11,128,16],[129,11,130,12],[129,13,130,14],[129,15,130,16],[108,11,108,16],[109,11,110,12],[109,13,110,14],[109,15,110,16],[118,11,118,16],[25,0,25,10],[179,11,180,12],[179,13,180,14],[179,15,180,16],[188,11,188,16],[189,11,190,12],[189,13,190,14],[189,15,190,16],[168,11,168,16],[169,11,170,12],[169,13,170,14],[169,15,170,16],[178,11,178,16],[149,11,150,12],[149,13,150,14],[149,15,150,16],[158,11,158,16],[159,11,160,12],[159,13,160,14],[159,15,160,16],[138,11,138,16],[139,11,140,12],[139,13,140,14],[139,15,140,16],[24,3,24,4],[45,0,45,10],[36,1,36,2],[36,3,36,4],[36,5,36,7],[36,8,36,10],[23,1,23,2],[23,3,23,4],[23,5,23,7],[23,8,23,10],[34,1,34,2],[34,3,34,4],[34,5,34,7],[34,8,34,10],[37,1,37,2],[37,3,37,4],[37,5,37,7],[37,8,37,10],[40,5,40,7],[40,8,40,10],[38,1,38,2],[38,3,38,4],[38,5,38,7],[38,8,38,10],[20,1,20,2],[20,3,20,4],[20,5,20,7],[20,8,20,10],[21,1,21,2],[21,3,21,4],[21,5,21,7],[21,8,21,10],[22,1,22,2],[22,3,22,4],[22,5,22,7],[22,8,22,10],[17,1,17,2],[17,3,17,4],[17,5,17,7],[17,8,17,10],[18,1,18,2],[18,3,18,4],[18,5,18,7],[18,8,18,10],[13,0,13,10],[14,1,14,2],[14,3,14,4],[14,5,14,7],[14,8,14,10],[15,1,15,2],[15,3,15,4],[15,5,15,7],[15,8,15,10],[16,1,16,2],[16,3,16,4],[16,5,16,7],[16,8,16,10],[24,5,24,7],[24,8,24,10],[46,1,46,2],[46,3,46,4],[46,5,46,7],[46,8,46,10],[47,1,47,2],[47,3,47,4],[47,5,47,7],[47,8,47,10],[44,1,44,2],[44,3,44,4],[44,5,44,7],[44,8,44,10],[35,0,35,10],[42,1,42,2],[42,3,42,4],[42,5,42,7],[42,8,42,10],[43,1,43,2],[43,3,43,4],[43,5,43,7],[43,8,43,10],[24,1,24,2],[48,1,48,2],[48,3,48,4],[48,5,48,7],[48,8,48,10],[49,1,49,2],[49,3,49,4],[49,5,49,7],[49,8,49,10],[50,1,50,2],[50,3,50,4],[50,5,50,7],[50,8,50,10],[51,1,51,2],[51,3,51,4],[51,5,51,7],[51,8,51,10],[52,1,52,2],[52,3,52,4],[52,5,52,7],[52,8,52,10],[53,1,53,2],[53,3,53,4],[53,5,53,7],[53,8,53,10],[54,1,54,2],[54,3,54,4],[54,5,54,7],[54,8,54,10],[60,1,60,2],[60,3,60,4],[60,5,60,7],[60,8,60,10],[62,1,62,2],[62,3,62,4],[62,5,62,7],[62,8,62,10],[56,1,56,2],[56,3,56,4],[56,5,56,7],[56,8,56,10],[57,1,57,2],[57,3,57,4],[57,5,57,7],[57,8,57,10],[58,1,58,2],[58,3,58,4],[58,5,58,7],[58,8,58,10],[63,1,63,2],[63,3,63,4],[63,5,63,7],[63,8,63,10],[64,1,64,2],[64,3,64,4],[64,5,64,7],[64,8,64,10],[65,1,65,2],[65,3,65,4],[65,5,65,7],[65,8,65,10]]}
[{"$f":"'Project Name'!$C$2","v":"LOR-254/301 Signal Timing"}]
["Signal Timing Summary - EXISTING"]
["General Notes:"]
["1.  All offsets are measured from the referenced phase",null,null,null,null,"END OF GREEN / BEGINNING OF YELLOW",null,null,null,null,null,null,null,null,null,null,null,null,"-"]
["2.  All offsets are measured from",null,null,"φ 2","&","φ 6",null,null,null,null,null,null,null,null,null,null,null,null,"END OF GREEN / BEGINNING OF YELLOW"]
["3.  Shared schedules of the Week listed (ex. Mon-Fri)"]
["4.  Plan Name shall denote AM Plan, PM Plan, Midday, etc."]
["5.  Hours shall be listed in military time (ex. 0600-01300)"]
["6.  Plan No. or C/S/O shall be listed programmed in Controller (follow template if provided)"]
[]
[null,null,null,null,null,null,null,null,null,null,null,null,null,null,null,null,null,null,"BEGINNING OF GREEN"]
["COORDINATION TIMING PLANS",null,null,null,null,null,null,null,null,null,null,null,null,null,null,null,null,null,"170 STYLE"]
["DAY(S) OF WEEK","PLAN NAME",null,"HOURS",null,"PLAN NO. OR\nCYCLE/SPLIT/OFFSET",null,null,"CYCLE LENGTH (SEC)"]
["Detroit Rd & Transportation Dr/Mike Bass Ford Dr"]
["MON-FRI","FREE",null,"0000-0700",null,100,null,null,"-",null,null,null,null,null,null,null,null,null,"-"]
["MON-FRI","AM",null,"0700-1000",null,"1-1",null,null,90,null,null,null,null,null,null,null,null,null,"φ 1"]
["MON-FRI","MD",null,"1000-1400",null,"1-2",null,null,100,null,null,null,null,null,null,null,null,null,"φ 2"]
["MON-FRI","PM",null,"1400-1900",null,"1-3",null,null,100,null,null,null,null,null,null,null,null,null,"φ 3"]
["MON-FRI","FREE",null,"1900-0000",null,100,null,null,"-",null,null,null,null,null,null,null,null,null,"φ 4"]
[]
["SAT-SUN","FLASH",null,"0000-0700",null,99,null,null,"-",null,null,null,null,null,null,null,null,null,"φ 5"]
["SAT-SUN","FREE",null,"0700-0800",null,"100",null,null,100,null,null,null,null,null,null,null,null,null,"φ 6"]
["SAT-SUN","Weekend",null,"0800-1900",null,100,null,null,"-"]
["SAT-SUN","FREE",null,"1900-2300",null,100,null,null,"-"]
["SAT-SUN","FLASH",null,"2300-0000",null,99,null,null,"-"]
["Detroit Rd (I-90 EB ramps, I-90 WB Ramps, Sheffield Crossing)"]
["MON-FRI","FREE",null,"0000-0700",null,100,null,null,"-",null,null,null,null,null,null,null,null,null,"-"]
["MON-FRI","AM",null,"0700-1100",null,"1-1",null,null,90,null,null,null,null,null,null,null,null,null,"φ 1"]
["MON-FRI","MD",null,"1100-1430",null,"1-2",null,null,100,null,null,null,null,null,null,null,null,null,"φ 2"]
["MON-FRI","PM",null,"1430-2000",null,"1-3",null,null,100,null,null,null,null,null,null,null,null,null,"φ 3"]
["MON-FRI","FREE",null,"2000-0000",null,100,null,null,"-",null,null,null,null,null,null,null,null,null,"φ 4"]
[]
["SAT-SUN","FREE",null,"0000-0830",null,100,null,null,"-",null,null,null,null,null,null,null,null,null,"φ 5"]
["SAT-SUN","Weekend",null,"0830-2000",null,"1-2",null,null,100,null,null,null,null,null,null,null,null,null,"φ 6"]
["SAT-SUN","FREE",null,"2000-0000",null,100,null,null,"-"]
["Detroit Rd & Abbe Rd"]
["MON-FRI","FREE",null,"0000-0700",null,100,null,null,"-"]
["MON-FRI","AM Alt",null,"0700-1100",null,"1-1",null,null,130]
["MON-FRI","MD",null,"1100-1430",null,"1-2",null,null,100]
["MON-FRI","PM",null,"1430-2000",null,"1-3",null,null,100]
["MON-FRI","FREE",null,"2000-0000",null,100,null,null,"-"]
[]
["SAT-SUN","FREE",null,"0000-0830",null,100,null,null,"-",null,null,null,null,null,null,null,null,null,"φ 5"]
["SAT-SUN","Weekend",null,"0830-2000",null,"1-2",null,null,100,null,null,null,null,null,null,null,null,null,"φ 6"]
["SAT-SUN","FREE",null,"2000-0000",null,100,null,null,"-"]
["Abbe Rd @ Hoag Dr"]
["MON-FRI","FLASH",null,"0000-0700",null,99,null,null,"-"]
["MON-FRI",1,null,"0700-0900",null,"1-1",null,null,130]
["MON-FRI",3,null,"0900-1130",null,"1-3",null,null,100]
["MON-FRI",2,null,"1130-1330",null,"1-2",null,null,100]
["MON-FRI",1,null,"1330-1530",null,"1-1",null,null,130]
["MON-FRI",2,null,"1530-1830",null,"1-2",null,null,100]
["MON-FRI",3,null,"1830-2130",null,"1-3",null,null,100]
["MON-FRI","FREE",null,"2130-2300",null,100,null,null,"-"]
["MON-FRI","FLASH",null,"2300-0000",null,99,null,null,"-"]
[]
["SAT","FLASH",null,"0000-0700",null,99,null,null,"-",null,null,null,null,null,null,null,null,null,"φ 5"]
["SAT","FREE",null,"0700-0830",null,"100",null,null,"-",null,null,null,null,null,null,null,null,null,"φ 6"]
["SAT","1-3",null,"0830-2000",null,"1-3",null,null,100]
["SAT","FREE",null,"2000-2300",null,100,null,null,"-",null,null,null,null,null,null,null,null,null,"φ 7"]
["SAT","FLASH",null,"2300-0000",null,99,null,null,"-"]
[]
["SAT","FLASH",null,"0000-0700",null,99,null,null,"-"]
["SAT","FREE",null,"0700-0900",null,"100",null,null,"-"]
["SAT","1-3",null,"0830-1830",null,"1-3",null,null,100]
["SAT","FREE",null,"1830-2300",null,100,null,null,"-"]
["SAT","FLASH",null,"2300-0000",null,99,null,null,"-",null,null,null,null,null,null,null,null,null,"φ 8"]
[]
[]
[null,null,null,null,null,null,null,null,null,null,null,null,null,null,null,null,null,null,"&"]
[]
[]
[]
[]
[]
[]
[]
[]
[]
[]
[]
[]
[]
[]
[]
[]
[]
[]
[]
[]
[]
[]
[]
[]
[]
[]
[null,null,null,null,null,null,null,null,null,null,null,"*Note: Calculation checks do not account for split phasing."]
[{"$f":"'Local Controller Data - EXIST'!D4","v":"Detroit Rd & Transportation Dr/Mike Bass Ford Dr"}]
["PHASE",1,2,3,4,5,6,7,8,"OFFSET 1 (SEC)","OFFSET 2 (SEC)","CALCULATION CHECKS"]
["DIRECTION","WBL","EBT","-","SBT","EBL","WBT","-","NBT",null,null,"1+2+3+4 = 5+6+7+8?",null,"1+2 = 5+6?",null,"3+4 = 7+8?"]
["PLAN NO. OR C/S/O","SPLITS (G+Y+AR) IN SECONDS"]
["1-1",12,46,"-",22,12,46,"-",22,59,"-",{"$f":"(IF(B102=\"-\",0,B102))+(IF(C102=\"-\",0,C102))+(IF(D102=\"-\",0,D102))+(IF(E102=\"-\",0,E102))","v":80},{"$f":"(IF(F102=\"-\",0,F102))+(IF(G102=\"-\",0,G102))+(IF(H102=\"-\",0,H102))+(IF(I102=\"-\",0,I102))","v":80},{"$f":"(IF(B102=\"-\",0,B102))+(IF(C102=\"-\",0,C102))","v":58},{"$f":"(IF(F102=\"-\",0,F102))+(IF(G102=\"-\",0,G102))","v":58},{"$f":"(IF(D102=\"-\",0,D102))+(IF(E102=\"-\",0,E102))","v":22},{"$f":"(IF(H102=\"-\",0,H102))+(IF(I102=\"-\",0,I102))","v":22}]
["1-2",12,46,"-",22,12,46,"-",22,60,"-",{"$f":"(IF(B103=\"-\",0,B103))+(IF(C103=\"-\",0,C103))+(IF(D103=\"-\",0,D103))+(IF(E103=\"-\",0,E103))","v":80},{"$f":"(IF(F103=\"-\",0,F103))+(IF(G103=\"-\",0,G103))+(IF(H103=\"-\",0,H103))+(IF(I103=\"-\",0,I103))","v":80},{"$f":"(IF(B103=\"-\",0,B103))+(IF(C103=\"-\",0,C103))","v":58},{"$f":"(IF(F103=\"-\",0,F103))+(IF(G103=\"-\",0,G103))","v":58},{"$f":"(IF(D103=\"-\",0,D103))+(IF(E103=\"-\",0,E103))","v":22},{"$f":"(IF(H103=\"-\",0,H103))+(IF(I103=\"-\",0,I103))","v":22}]
["1-3",12,51,"-",27,12,51,"-",27,58,"-",90,90,63,63,27,27]
["-","-","-","-","-","-","-","-","-","-","-",0,0,0,0,0,0]
["-","-","-","-","-","-","-","-","-","-","-",0,0,0,0,0,0]
[]
[{"$f":"'Local Controller Data - EXIST'!D65","v":"Detroit Rd & I-90 WB Ramps"}]
["PHASE",1,2,3,4,5,6,7,8,"OFFSET 1 (SEC)","OFFSET 2 (SEC)","CALCULATION CHECKS"]
["DIRECTION","WBL","EB","-","SB","-","WB","-","-",null,null,"1+2+3+4 = 5+6+7+8?",null,"1+2 = 5+6?",null,"3+4 = 7+8?"]
["PLAN NO. OR C/S/O","SPLITS (G+Y+AR) IN SECONDS"]
["1-1",23,36,"-",31,"-",{"$f":"C112+B112","v":59},"-","-",39,"-",{"$f":"(IF(B112=\"-\",0,B112))+(IF(C112=\"-\",0,C112))+(IF(D112=\"-\",0,D112))+(IF(E112=\"-\",0,E112))","v":90},{"$f":"(IF(F112=\"-\",0,F112))+(IF(G112=\"-\",0,G112))+(IF(H112=\"-\",0,H112))+(IF(I112=\"-\",0,I112))","v":59},{"$f":"(IF(B112=\"-\",0,B112))+(IF(C112=\"-\",0,C112))","v":59},{"$f":"(IF(F112=\"-\",0,F112))+(IF(G112=\"-\",0,G112))","v":59},{"$f":"(IF(D112=\"-\",0,D112))+(IF(E112=\"-\",0,E112))","v":31},{"$f":"(IF(H112=\"-\",0,H112))+(IF(I112=\"-\",0,I112))","v":0}]
["1-2",22,38,"-",40,"-",{"$f":"B113+C113","v":60},"-","-",58,"-",{"$f":"(IF(B113=\"-\",0,B113))+(IF(C113=\"-\",0,C113))+(IF(D113=\"-\",0,D113))+(IF(E113=\"-\",0,E113))","v":100},{"$f":"(IF(F113=\"-\",0,F113))+(IF(G113=\"-\",0,G113))+(IF(H113=\"-\",0,H113))+(IF(I113=\"-\",0,I113))","v":60},{"$f":"(IF(B113=\"-\",0,B113))+(IF(C113=\"-\",0,C113))","v":60},{"$f":"(IF(F113=\"-\",0,F113))+(IF(G113=\"-\",0,G113))","v":60},{"$f":"(IF(D113=\"-\",0,D113))+(IF(E113=\"-\",0,E113))","v":40},{"$f":"(IF(H113=\"-\",0,H113))+(IF(I113=\"-\",0,I113))","v":0}]
["1-3",32,35,"-",33,"-",{"$f":"B114+C114","v":67},"-","-",48,"-",100,67,67,67,33,0]
["-","-","-","-","-","-","-","-","-","-","-",0,0,0,0,0,0]
["-","-","-","-","-","-","-","-","-","-","-",0,0,0,0,0,0]
[]
[{"$f":"'Local Controller Data - EXIST'!D125","v":"Detroit Rd & I-90 EB Ramps"}]
["PHASE",1,2,3,4,5,6,7,8,"OFFSET 1 (SEC)","OFFSET 2 (SEC)","CALCULATION CHECKS"]
["DIRECTION","-","EBT","-","-","EBL","WBT","-","NBT",null,null,"1+2+3+4 = 5+6+7+8?",null,"1+2 = 5+6?",null,"3+4 = 7+8?"]
["PLAN NO. OR C/S/O","SPLITS (G+Y+AR) IN SECONDS"]
["1-1","-",60,"-","-",20,40,"-",30,5,"-",{"$f":"(IF(B122=\"-\",0,B122))+(IF(C122=\"-\",0,C122))+(IF(D122=\"-\",0,D122))+(IF(E122=\"-\",0,E122))","v":60},{"$f":"(IF(F122=\"-\",0,F122))+(IF(G122=\"-\",0,G122))+(IF(H122=\"-\",0,H122))+(IF(I122=\"-\",0,I122))","v":90},{"$f":"(IF(B122=\"-\",0,B122))+(IF(C122=\"-\",0,C122))","v":60},{"$f":"(IF(F122=\"-\",0,F122))+(IF(G122=\"-\",0,G122))","v":60},{"$f":"(IF(D122=\"-\",0,D122))+(IF(E122=\"-\",0,E122))","v":0},{"$f":"(IF(H122=\"-\",0,H122))+(IF(I122=\"-\",0,I122))","v":30}]
["1-2","-",68,"-","-",18,50,"-",32,14,"-",{"$f":"(IF(B123=\"-\",0,B123))+(IF(C123=\"-\",0,C123))+(IF(D123=\"-\",0,D123))+(IF(E123=\"-\",0,E123))","v":68},{"$f":"(IF(F123=\"-\",0,F123))+(IF(G123=\"-\",0,G123))+(IF(H123=\"-\",0,H123))+(IF(I123=\"-\",0,I123))","v":100},{"$f":"(IF(B123=\"-\",0,B123))+(IF(C123=\"-\",0,C123))","v":68},{"$f":"(IF(F123=\"-\",0,F123))+(IF(G123=\"-\",0,G123))","v":68},{"$f":"(IF(D123=\"-\",0,D123))+(IF(E123=\"-\",0,E123))","v":0},{"$f":"(IF(H123=\"-\",0,H123))+(IF(I123=\"-\",0,I123))","v":32}]
["1-3","-",69,"-","-",18,51,"-",31,12,"-",69,100,69,69,0,31]
["-","-","-","-","-","-","-","-","-","-","-",0,0,0,0,0,0]
["-","-","-","-","-","-","-","-","-","-","-",0,0,0,0,0,0]
[]
[{"$f":"'Local Controller Data - EXIST'!D185","v":"Detroit Rd & Sheffield Crossing"}]
["PHASE",1,2,3,4,5,6,7,8,"OFFSET 1 (SEC)","OFFSET 2 (SEC)","CALCULATION CHECKS"]
["DIRECTION","WBL","EBT","-","SBT","EBL","WB","-","NB",null,null,"1+2+3+4 = 5+6+7+8?",null,"1+2 = 5+6?",null,"3+4 = 7+8?"]
["PLAN NO. OR C/S/O","SPLITS (G+Y+AR) IN SECONDS"]
["1-1",16,43,"-",31,17,42,"-",31,2,"-",{"$f":"(IF(B132=\"-\",0,B132))+(IF(C132=\"-\",0,C132))+(IF(D132=\"-\",0,D132))+(IF(E132=\"-\",0,E132))","v":90},{"$f":"(IF(F132=\"-\",0,F132))+(IF(G132=\"-\",0,G132))+(IF(H132=\"-\",0,H132))+(IF(I132=\"-\",0,I132))","v":90},{"$f":"(IF(B132=\"-\",0,B132))+(IF(C132=\"-\",0,C132))","v":59},{"$f":"(IF(F132=\"-\",0,F132))+(IF(G132=\"-\",0,G132))","v":59},{"$f":"(IF(D132=\"-\",0,D132))+(IF(E132=\"-\",0,E132))","v":31},{"$f":"(IF(H132=\"-\",0,H132))+(IF(I132=\"-\",0,I132))","v":31}]
["1-2",14,47,"-",39,20,41,"-",39,2,"-",{"$f":"(IF(B133=\"-\",0,B133))+(IF(C133=\"-\",0,C133))+(IF(D133=\"-\",0,D133))+(IF(E133=\"-\",0,E133))","v":100},{"$f":"(IF(F133=\"-\",0,F133))+(IF(G133=\"-\",0,G133))+(IF(H133=\"-\",0,H133))+(IF(I133=\"-\",0,I133))","v":100},{"$f":"(IF(B133=\"-\",0,B133))+(IF(C133=\"-\",0,C133))","v":61},{"$f":"(IF(F133=\"-\",0,F133))+(IF(G133=\"-\",0,G133))","v":61},{"$f":"(IF(D133=\"-\",0,D133))+(IF(E133=\"-\",0,E133))","v":39},{"$f":"(IF(H133=\"-\",0,H133))+(IF(I133=\"-\",0,I133))","v":39}]
["1-3",14,56,"-",30,18,52,"-",30,38,"-",100,100,70,70,30,30]
["-","-","-","-","-","-","-","-","-","-","-",0,0,0,0,0,0]
["-","-","-","-","-","-","-","-","-","-","-",0,0,0,0,0,0]
[]
[{"$f":"'Local Controller Data - EXIST'!D245","v":"Detroit Rd & Abbe Rd"}]
["PHASE",1,2,3,4,5,6,7,8,"OFFSET 1 (SEC)","OFFSET 2 (SEC)","CALCULATION CHECKS"]
["DIRECTION","WBL","EBT","NBL","SBT","EBL","WBT","SBL","NBT",null,null,"1+2+3+4 = 5+6+7+8?",null,"1+2 = 5+6?",null,"3+4 = 7+8?"]
["PLAN NO. OR C/S/O","SPLITS (G+Y+AR) IN SECONDS"]
["1-1",20,54,18,38,20,54,16,40,0,"-",{"$f":"(IF(B142=\"-\",0,B142))+(IF(C142=\"-\",0,C142))+(IF(D142=\"-\",0,D142))+(IF(E142=\"-\",0,E142))","v":130},{"$f":"(IF(F142=\"-\",0,F142))+(IF(G142=\"-\",0,G142))+(IF(H142=\"-\",0,H142))+(IF(I142=\"-\",0,I142))","v":130},{"$f":"(IF(B142=\"-\",0,B142))+(IF(C142=\"-\",0,C142))","v":74},{"$f":"(IF(F142=\"-\",0,F142))+(IF(G142=\"-\",0,G142))","v":74},{"$f":"(IF(D142=\"-\",0,D142))+(IF(E142=\"-\",0,E142))","v":56},{"$f":"(IF(H142=\"-\",0,H142))+(IF(I142=\"-\",0,I142))","v":56}]
["1-2",15,45,23,17,15,45,14,26,0,"-",{"$f":"(IF(B143=\"-\",0,B143))+(IF(C143=\"-\",0,C143))+(IF(D143=\"-\",0,D143))+(IF(E143=\"-\",0,E143))","v":100},{"$f":"(IF(F143=\"-\",0,F143))+(IF(G143=\"-\",0,G143))+(IF(H143=\"-\",0,H143))+(IF(I143=\"-\",0,I143))","v":100},{"$f":"(IF(B143=\"-\",0,B143))+(IF(C143=\"-\",0,C143))","v":60},{"$f":"(IF(F143=\"-\",0,F143))+(IF(G143=\"-\",0,G143))","v":60},{"$f":"(IF(D143=\"-\",0,D143))+(IF(E143=\"-\",0,E143))","v":40},{"$f":"(IF(H143=\"-\",0,H143))+(IF(I143=\"-\",0,I143))","v":40}]
["1-3",15,45,23,17,15,45,14,26,0,"-",100,100,60,60,40,40]
["-","-","-","-","-","-","-","-","-","-","-",0,0,0,0,0,0]
["-","-","-","-","-","-","-","-","-","-","-",0,0,0,0,0,0]
[]
[{"$f":"'Local Controller Data - EXIST'!D305","v":"Abbe Rd & Hoag Dr"}]
["PHASE",1,2,3,4,5,6,7,8,"OFFSET 1 (SEC)","OFFSET 2 (SEC)","CALCULATION CHECKS"]
["DIRECTION","NBL","SBT","-","WBT","SBL","NBT","-","EBT",null,null,"1+2+3+4 = 5+6+7+8?",null,"1+2 = 5+6?",null,"3+4 = 7+8?"]
["PLAN NO. OR C/S/O","SPLITS (G+Y+AR) IN SECONDS"]
["1-1",21,41,"-",38,21,41,"-",38,0,"-",{"$f":"(IF(B152=\"-\",0,B152))+(IF(C152=\"-\",0,C152))+(IF(D152=\"-\",0,D152))+(IF(E152=\"-\",0,E152))","v":100},{"$f":"(IF(F152=\"-\",0,F152))+(IF(G152=\"-\",0,G152))+(IF(H152=\"-\",0,H152))+(IF(I152=\"-\",0,I152))","v":100},{"$f":"(IF(B152=\"-\",0,B152))+(IF(C152=\"-\",0,C152))","v":62},{"$f":"(IF(F152=\"-\",0,F152))+(IF(G152=\"-\",0,G152))","v":62},{"$f":"(IF(D152=\"-\",0,D152))+(IF(E152=\"-\",0,E152))","v":38},{"$f":"(IF(H152=\"-\",0,H152))+(IF(I152=\"-\",0,I152))","v":38}]
["1-2",16,43,"-",41,16,43,"-",41,0,"-",{"$f":"(IF(B153=\"-\",0,B153))+(IF(C153=\"-\",0,C153))+(IF(D153=\"-\",0,D153))+(IF(E153=\"-\",0,E153))","v":100},{"$f":"(IF(F153=\"-\",0,F153))+(IF(G153=\"-\",0,G153))+(IF(H153=\"-\",0,H153))+(IF(I153=\"-\",0,I153))","v":100},{"$f":"(IF(B153=\"-\",0,B153))+(IF(C153=\"-\",0,C153))","v":59},{"$f":"(IF(F153=\"-\",0,F153))+(IF(G153=\"-\",0,G153))","v":59},{"$f":"(IF(D153=\"-\",0,D153))+(IF(E153=\"-\",0,E153))","v":41},{"$f":"(IF(H153=\"-\",0,H153))+(IF(I153=\"-\",0,I153))","v":41}]
["1-3",19.95,36.1,"-",38.950000000000003,19.95,36.1,"-",38.950000000000003,0,"-",95,95,56.05,56.05,38.950000000000003,38.950000000000003]
["-","-","-","-","-","-","-","-","-","-","-",0,0,0,0,0,0]
["-","-","-","-","-","-","-","-","-","-","-",0,0,0,0,0,0]
[]
["\"INTERSECTION 7\""]
["PHASE",1,2,3,4,5,6,7,8,"OFFSET 1 (SEC)","OFFSET 2 (SEC)","CALCULATION CHECKS"]
["DIRECTION","-","-","-","-","-","-","-","-",null,null,"1+2+3+4 = 5+6+7+8?",null,"1+2 = 5+6?",null,"3+4 = 7+8?"]
["PLAN NO. OR C/S/O","SPLITS (G+Y+AR) IN SECONDS"]
["-","-","-","-","-","-","-","-","-","-","-",{"$f":"(IF(B162=\"-\",0,B162))+(IF(C162=\"-\",0,C162))+(IF(D162=\"-\",0,D162))+(IF(E162=\"-\",0,E162))","v":0},{"$f":"(IF(F162=\"-\",0,F162))+(IF(G162=\"-\",0,G162))+(IF(H162=\"-\",0,H162))+(IF(I162=\"-\",0,I162))","v":0},{"$f":"(IF(B162=\"-\",0,B162))+(IF(C162=\"-\",0,C162))","v":0},{"$f":"(IF(F162=\"-\",0,F162))+(IF(G162=\"-\",0,G162))","v":0},{"$f":"(IF(D162=\"-\",0,D162))+(IF(E162=\"-\",0,E162))","v":0},{"$f":"(IF(H162=\"-\",0,H162))+(IF(I162=\"-\",0,I162))","v":0}]
["-","-","-","-","-","-","-","-","-","-","-",{"$f":"(IF(B163=\"-\",0,B163))+(IF(C163=\"-\",0,C163))+(IF(D163=\"-\",0,D163))+(IF(E163=\"-\",0,E163))","v":0},{"$f":"(IF(F163=\"-\",0,F163))+(IF(G163=\"-\",0,G163))+(IF(H163=\"-\",0,H163))+(IF(I163=\"-\",0,I163))","v":0},{"$f":"(IF(B163=\"-\",0,B163))+(IF(C163=\"-\",0,C163))","v":0},{"$f":"(IF(F163=\"-\",0,F163))+(IF(G163=\"-\",0,G163))","v":0},{"$f":"(IF(D163=\"-\",0,D163))+(IF(E163=\"-\",0,E163))","v":0},{"$f":"(IF(H163=\"-\",0,H163))+(IF(I163=\"-\",0,I163))","v":0}]
["-","-","-","-","-","-","-","-","-","-","-",0,0,0,0,0,0]
["-","-","-","-","-","-","-","-","-","-","-",0,0,0,0,0,0]
["-","-","-","-","-","-","-","-","-","-","-",0,0,0,0,0,0]
[]
["\"INTERSECTION 8\""]
["PHASE",1,2,3,4,5,6,7,8,"OFFSET 1 (SEC)","OFFSET 2 (SEC)","CALCULATION CHECKS"]
["DIRECTION","-","-","-","-","-","-","-","-",null,null,"1+2+3+4 = 5+6+7+8?",null,"1+2 = 5+6?",null,"3+4 = 7+8?"]
["PLAN NO. OR C/S/O","SPLITS (G+Y+AR) IN SECONDS"]
["-","-","-","-","-","-","-","-","-","-","-",{"$f":"(IF(B172=\"-\",0,B172))+(IF(C172=\"-\",0,C172))+(IF(D172=\"-\",0,D172))+(IF(E172=\"-\",0,E172))","v":0},{"$f":"(IF(F172=\"-\",0,F172))+(IF(G172=\"-\",0,G172))+(IF(H172=\"-\",0,H172))+(IF(I172=\"-\",0,I172))","v":0},{"$f":"(IF(B172=\"-\",0,B172))+(IF(C172=\"-\",0,C172))","v":0},{"$f":"(IF(F172=\"-\",0,F172))+(IF(G172=\"-\",0,G172))","v":0},{"$f":"(IF(D172=\"-\",0,D172))+(IF(E172=\"-\",0,E172))","v":0},{"$f":"(IF(H172=\"-\",0,H172))+(IF(I172=\"-\",0,I172))","v":0}]
["-","-","-","-","-","-","-","-","-","-","-",{"$f":"(IF(B173=\"-\",0,B173))+(IF(C173=\"-\",0,C173))+(IF(D173=\"-\",0,D173))+(IF(E173=\"-\",0,E173))","v":0},{"$f":"(IF(F173=\"-\",0,F173))+(IF(G173=\"-\",0,G173))+(IF(H173=\"-\",0,H173))+(IF(I173=\"-\",0,I173))","v":0},{"$f":"(IF(B173=\"-\",0,B173))+(IF(C173=\"-\",0,C173))","v":0},{"$f":"(IF(F173=\"-\",0,F173))+(IF(G173=\"-\",0,G173))","v":0},{"$f":"(IF(D173=\"-\",0,D173))+(IF(E173=\"-\",0,E173))","v":0},{"$f":"(IF(H173=\"-\",0,H173))+(IF(I173=\"-\",0,I173))","v":0}]
["-","-","-","-","-","-","-","-","-","-","-",0,0,0,0,0,0]
["-","-","-","-","-","-","-","-","-","-","-",0,0,0,0,0,0]
["-","-","-","-","-","-","-","-","-","-","-",0,0,0,0,0,0]
[]
["\"INTERSECTION 9\""]
["PHASE",1,2,3,4,5,6,7,8,"OFFSET 1 (SEC)","OFFSET 2 (SEC)","CALCULATION CHECKS"]
["DIRECTION","-","-","-","-","-","-","-","-",null,null,"1+2+3+4 = 5+6+7+8?",null,"1+2 = 5+6?",null,"3+4 = 7+8?"]
["PLAN NO. OR C/S/O","SPLITS (G+Y+AR) IN SECONDS"]
["-","-","-","-","-","-","-","-","-","-","-",{"$f":"(IF(B182=\"-\",0,B182))+(IF(C182=\"-\",0,C182))+(IF(D182=\"-\",0,D182))+(IF(E182=\"-\",0,E182))","v":0},{"$f":"(IF(F182=\"-\",0,F182))+(IF(G182=\"-\",0,G182))+(IF(H182=\"-\",0,H182))+(IF(I182=\"-\",0,I182))","v":0},{"$f":"(IF(B182=\"-\",0,B182))+(IF(C182=\"-\",0,C182))","v":0},{"$f":"(IF(F182=\"-\",0,F182))+(IF(G182=\"-\",0,G182))","v":0},{"$f":"(IF(D182=\"-\",0,D182))+(IF(E182=\"-\",0,E182))","v":0},{"$f":"(IF(H182=\"-\",0,H182))+(IF(I182=\"-\",0,I182))","v":0}]
["-","-","-","-","-","-","-","-","-","-","-",{"$f":"(IF(B183=\"-\",0,B183))+(IF(C183=\"-\",0,C183))+(IF(D183=\"-\",0,D183))+(IF(E183=\"-\",0,E183))","v":0},{"$f":"(IF(F183=\"-\",0,F183))+(IF(G183=\"-\",0,G183))+(IF(H183=\"-\",0,H183))+(IF(I183=\"-\",0,I183))","v":0},{"$f":"(IF(B183=\"-\",0,B183))+(IF(C183=\"-\",0,C183))","v":0},{"$f":"(IF(F183=\"-\",0,F183))+(IF(G183=\"-\",0,G183))","v":0},{"$f":"(IF(D183=\"-\",0,D183))+(IF(E183=\"-\",0,E183))","v":0},{"$f":"(IF(H183=\"-\",0,H183))+(IF(I183=\"-\",0,I183))","v":0}]
["-","-","-","-","-","-","-","-","-","-","-",0,0,0,0,0,0]
["-","-","-","-","-","-","-","-","-","-","-",0,0,0,0,0,0]
["-","-","-","-","-","-","-","-","-","-","-",0,0,0,0,0,0]
[]
["\"INTERSECTION 10\""]
["PHASE",1,2,3,4,5,6,7,8,"OFFSET 1 (SEC)","OFFSET 2 (SEC)","CALCULATION CHECKS"]
["DIRECTION","-","-","-","-","-","-","-","-",null,null,"1+2+3+4 = 5+6+7+8?",null,"1+2 = 5+6?",null,"3+4 = 7+8?"]
["PLAN NO. OR C/S/O","SPLITS (G+Y+AR) IN SECONDS"]
["-","-","-","-","-","-","-","-","-","-","-",{"$f":"(IF(B192=\"-\",0,B192))+(IF(C192=\"-\",0,C192))+(IF(D192=\"-\",0,D192))+(IF(E192=\"-\",0,E192))","v":0},{"$f":"(IF(F192=\"-\",0,F192))+(IF(G192=\"-\",0,G192))+(IF(H192=\"-\",0,H192))+(IF(I192=\"-\",0,I192))","v":0},{"$f":"(IF(B192=\"-\",0,B192))+(IF(C192=\"-\",0,C192))","v":0},{"$f":"(IF(F192=\"-\",0,F192))+(IF(G192=\"-\",0,G192))","v":0},{"$f":"(IF(D192=\"-\",0,D192))+(IF(E192=\"-\",0,E192))","v":0},{"$f":"(IF(H192=\"-\",0,H192))+(IF(I192=\"-\",0,I192))","v":0}]
["-","-","-","-","-","-","-","-","-","-","-",{"$f":"(IF(B193=\"-\",0,B193))+(IF(C193=\"-\",0,C193))+(IF(D193=\"-\",0,D193))+(IF(E193=\"-\",0,E193))","v":0},{"$f":"(IF(F193=\"-\",0,F193))+(IF(G193=\"-\",0,G193))+(IF(H193=\"-\",0,H193))+(IF(I193=\"-\",0,I193))","v":0},{"$f":"(IF(B193=\"-\",0,B193))+(IF(C193=\"-\",0,C193))","v":0},{"$f":"(IF(F193=\"-\",0,F193))+(IF(G193=\"-\",0,G193))","v":0},{"$f":"(IF(D193=\"-\",0,D193))+(IF(E193=\"-\",0,E193))","v":0},{"$f":"(IF(H193=\"-\",0,H193))+(IF(I193=\"-\",0,I193))","v":0}]
["-","-","-","-","-","-","-","-","-","-","-",0,0,0,0,0,0]
["-","-","-","-","-","-","-","-","-","-","-",0,0,0,0,0,0]
["-","-","-","-","-","-","-","-","-","-","-",0,0,0,0,0,0]

{"sheet":"Coordination Timing - PROPOSED","index":6,"n_rows":178,"n_cols":19,"rows_kept":178,"cut":false,"hidden":false,"merged":[[32,1,32,2],[32,3,32,4],[32,5,32,7],[32,8,32,10],[27,3,27,4],[27,5,27,7],[27,8,27,10],[22,1,22,2],[22,3,22,4],[22,5,22,7],[22,8,22,10],[23,1,23,2],[25,1,25,2],[23,3,23,4],[25,3,25,4],[23,5,23,7],[27,1,27,2],[29,3,29,4],[29,5,29,7],[29,8,29,10],[30,1,30,2],[30,3,30,4],[30,5,30,7],[30,8,30,10],[21,1,21,2],[21,3,21,4],[21,5,21,7],[21,8,21,10],[24,1,24,2],[24,3,24,4],[24,5,24,7],[24,8,24,10],[26,1,26,2],[26,3,26,4],[26,5,26,7],[26,8,26,10],[25,5,25,7],[23,8,23,10],[25,8,25,10],[12,3,12,4],[12,5,12,7],[12,8,12,10],[15,1,15,2],[15,3,15,4],[15,5,15,7],[15,8,15,10],[20,1,20,2],[20,3,20,4],[20,5,20,7],[20,8,20,10],[19,1,19,2],[19,3,19,4],[19,5,19,7],[19,8,19,10],[0,0,0,10],[1,0,1,10],[3,0,3,4],[3,5,3,9],[4,0,4,2],[11,0,11,10],[18,1,18,2],[18,3,18,4],[18,5,18,7],[18,8,18,10],[16,1,16,2],[16,3,16,4],[16,5,16,7],[16,8,16,10],[17,1,17,2],[17,3,17,4],[17,5,17,7],[17,8,17,10],[14,1,14,2],[14,3,14,4],[14,5,14,7],[14,8,14,10],[13,0,13,10],[12,1,12,2],[78,10,80,10],[78,11,78,16],[79,11,80,12],[79,13,80,14],[79,15,80,16],[80,1,80,8],[64,0,64,10],[65,9,67,9],[65,10,67,10],[65,11,65,16],[66,11,67,12],[66,13,67,14],[66,15,67,16],[67,1,67,8],[104,11,104,16],[105,11,106,12],[105,13,106,14],[105,15,106,16],[106,1,106,8],[90,0,90,10],[91,9,93,9],[91,10,93,10],[91,11,91,16],[92,11,93,12],[92,13,93,14],[92,15,93,16],[93,1,93,8],[130,11,130,16],[131,11,132,12],[131,13,132,14],[131,15,132,16],[132,1,132,8],[116,0,116,10],[117,9,119,9],[117,10,119,10],[117,11,117,16],[118,11,119,12],[118,13,119,14],[118,15,119,16],[119,1,119,8],[150,11,150,16],[151,11,152,12],[151,13,152,14],[151,15,152,16],[152,1,152,8],[139,0,139,10],[140,9,142,9],[140,10,142,10],[140,11,140,16],[141,11,142,12],[141,13,142,14],[141,15,142,16],[142,1,142,8],[170,11,170,16],[171,11,172,12],[171,13,172,14],[171,15,172,16],[172,1,172,8],[159,0,159,10],[160,9,162,9],[160,10,162,10],[160,11,160,16],[161,11,162,12],[161,13,162,14],[161,15,162,16],[162,1,162,8],[31,0,31,10],[28,1,28,2],[28,3,28,4],[28,5,28,7],[28,8,28,10],[169,0,169,10],[170,9,172,9],[170,10,172,10],[149,0,149,10],[150,9,152,9],[150,10,152,10],[29,1,29,2],[129,0,129,10],[130,9,132,9],[130,10,132,10],[103,0,103,10],[104,9,106,9],[104,10,106,10],[33,1,33,2],[33,3,33,4],[33,5,33,7],[33,8,33,10],[77,0,77,10],[78,9,80,9]]}
[{"$f":"'Project Name'!$C$2","v":"LOR-254/301 Signal Timing"}]
["Signal Timing Summary - PROPOSED"]
["General Notes:"]
["1.  All offsets are measured from the referenced phase",null,null,null,null,"END OF GREEN / BEGINNING OF YELLOW",null,null,null,null,null,null,null,null,null,null,null,null,"-"]
["2.  All offsets are measured from",null,null,"φ 2","&","φ 6",null,null,null,null,null,null,null,null,null,null,null,null,"END OF GREEN / BEGINNING OF YELLOW"]
["3.  Shared schedules of the Week listed (ex. Mon-Fri)"]
["4.  Plan Name shall denote AM Plan, PM Plan, Midday, etc."]
["5.  Hours shall be listed in military time (ex. 0600-01300)"]
["6.  Plan No. or C/S/O shall be listed programmed in Controller (follow template if provided)"]
["7.  Plans should be provided for each weekday for the following time periods: AM, Midday, PM, and Off-peak. "]
["     If authorized, additional plans shall be developed for Weekend Peak/Off-Peaks or High Volume",null,null,null,null,null,null,null,null,null,null,null,null,null,null,null,null,null,"BEGINNING OF GREEN"]
["COORDINATION TIMING PLANS",null,null,null,null,null,null,null,null,null,null,null,null,null,null,null,null,null,"170 STYLE"]
["DAY(S) OF WEEK","PLAN NAME",null,"HOURS",null,"PLAN NO. OR\nCYCLE/SPLIT/OFFSET",null,null,"CYCLE LENGTH (SEC)"]
["Detroit Rd Intersections"]
["MON-FRI","FREE",null,"0000-0600",null,"-",null,null,"-",null,null,null,null,null,null,null,null,null,"-"]
["MON-FRI","AM Peak",null,"0530-0900",null,10,null,null,115,null,null,null,null,null,null,null,null,null,"-"]
["MON-FRI","Offpeak",null,"0900-1100",null,40,null,null,110,null,null,null,null,null,null,null,null,null,"φ 1"]
["MON-FRI","MD Peak",null,"1100-1400",null,20,null,null,120,null,null,null,null,null,null,null,null,null,"φ 2"]
["MON-FRI","PM Peak",null,"1400-1830",null,30,null,null,125,null,null,null,null,null,null,null,null,null,"φ 3"]
["MON-FRI","Offpeak",null,"1830-2100",null,30,null,null,110,null,null,null,null,null,null,null,null,null,"φ 3"]
["MON-FRI","FREE",null,"2100-2400",null,"-",null,null,"-",null,null,null,null,null,null,null,null,null,"φ 4"]
["-","-",null,"-",null,"-",null,null,"-",null,null,null,null,null,null,null,null,null,"φ 5"]
["SAT-SUN","FREE",null,"0000-0800",null,"-",null,null,"-",null,null,null,null,null,null,null,null,null,"φ 7"]
["SAT-SUN","Offpeak",null,"0800-1000",null,40,null,null,110]
["SAT-SUN","Weekend Peak",null,"1000-1800",null,60,null,null,120,null,null,null,null,null,null,null,null,null,"φ 6"]
["SAT-SUN","Offpeak",null,"1800-2000",null,40,null,null,110]
["SAT-SUN","FREE",null,"2000-2400",null,"-",null,null,"-",null,null,null,null,null,null,null,null,null,"φ 7"]
[]
["MON-FRI","High Vol Balanced",null,"-",null,70,null,null,140]
["MON-FRI","High Vol NB & WB",null,"-",null,71,null,null,140]
["MON-FRI","High Vol EB & SB",null,"-",null,72,null,null,140]
["Abbe Rd @ Hoag Dr"]
["MON-FRI","FREE",null,"0000-2400",null,"-",null,null,"-"]
["SAT-SUN","FREE",null,"0000-2400"]
[]
[]
[null,null,null,null,null,null,null,null,null,null,null,null,null,null,null,null,null,null,"&"]
[]
[]
[]
[]
[]
[]
[]
[]
[]
[]
[]
[]
[]
[]
[]
[]
[]
[]
[]
[]
[]
[]
[]
[]
[]
[]
[null,null,null,null,null,null,null,null,null,null,null,"*Note: Calculation checks do not account for split phasing."]
[{"$f":"'Coordination Timing - EXISTING'!A98","v":"Detroit Rd & Transportation Dr/Mike Bass Ford Dr"}]
["PHASE",1,2,3,4,5,6,7,8,"OFFSET 1 (SEC)","OFFSET 2 (SEC)","CALCULATION CHECKS"]
["DIRECTION","WBL","EBT","-","SBT","EBL","WBT","-","NBT",null,null,"1+2+3+4 = 5+6+7+8?",null,"1+2 = 5+6?",null,"3+4 = 7+8?"]
["PLAN NO. OR C/S/O","SPLITS (G+Y+AR) IN SECONDS"]
["10 (AM)",18,70,"-",27,18,70,"-",27,53,"-",{"$f":"(IF(B69=\"-\",0,B69))+(IF(C69=\"-\",0,C69))+(IF(D69=\"-\",0,D69))+(IF(E69=\"-\",0,E69))","v":115},{"$f":"(IF(F69=\"-\",0,F69))+(IF(G69=\"-\",0,G69))+(IF(H69=\"-\",0,H69))+(IF(I69=\"-\",0,I69))","v":115},{"$f":"(IF(B69=\"-\",0,B69))+(IF(C69=\"-\",0,C69))","v":88},{"$f":"(IF(F69=\"-\",0,F69))+(IF(G69=\"-\",0,G69))","v":88},{"$f":"(IF(D69=\"-\",0,D69))+(IF(E69=\"-\",0,E69))","v":27},{"$f":"(IF(H69=\"-\",0,H69))+(IF(I69=\"-\",0,I69))","v":27}]
["20 (MD)",17,74,"-",29,17,74,"-",29,56,"-",{"$f":"(IF(B70=\"-\",0,B70))+(IF(C70=\"-\",0,C70))+(IF(D70=\"-\",0,D70))+(IF(E70=\"-\",0,E70))","v":120},{"$f":"(IF(F70=\"-\",0,F70))+(IF(G70=\"-\",0,G70))+(IF(H70=\"-\",0,H70))+(IF(I70=\"-\",0,I70))","v":120},{"$f":"(IF(B70=\"-\",0,B70))+(IF(C70=\"-\",0,C70))","v":91},{"$f":"(IF(F70=\"-\",0,F70))+(IF(G70=\"-\",0,G70))","v":91},{"$f":"(IF(D70=\"-\",0,D70))+(IF(E70=\"-\",0,E70))","v":29},{"$f":"(IF(H70=\"-\",0,H70))+(IF(I70=\"-\",0,I70))","v":29}]
["30 (PM)",17,80,"-",28,17,80,"-",28,43,"-",125,125,97,97,28,28]
["40 (OP)",16,67,"-",27,16,67,"-",27,2,"-",110,110,83,83,27,27]
["60 (WKEND)",15,81,"-",24,15,81,"-",24,4,"-",{"$f":"(IF(B73=\"-\",0,B73))+(IF(C73=\"-\",0,C73))+(IF(D73=\"-\",0,D73))+(IF(E73=\"-\",0,E73))","v":120},{"$f":"(IF(F73=\"-\",0,F73))+(IF(G73=\"-\",0,G73))+(IF(H73=\"-\",0,H73))+(IF(I73=\"-\",0,I73))","v":120},{"$f":"(IF(B73=\"-\",0,B73))+(IF(C73=\"-\",0,C73))","v":96},{"$f":"(IF(F73=\"-\",0,F73))+(IF(G73=\"-\",0,G73))","v":96},{"$f":"(IF(D73=\"-\",0,D73))+(IF(E73=\"-\",0,E73))","v":24},{"$f":"(IF(H73=\"-\",0,H73))+(IF(I73=\"-\",0,I73))","v":24}]
["70 (HV-BAL)",17,91,"-",32,17,91,"-",32,17,"-",140,140,108,108,32,32]
["71 (HV- NB & WB)",17,91,"-",32,17,91,"-",32,8,"-",140,140,108,108,32,32]
["72 (HV-EB & SB)",17,91,"-",32,17,91,"-",32,47,"-",{"$f":"(IF(B76=\"-\",0,B76))+(IF(C76=\"-\",0,C76))+(IF(D76=\"-\",0,D76))+(IF(E76=\"-\",0,E76))","v":140},{"$f":"(IF(F76=\"-\",0,F76))+(IF(G76=\"-\",0,G76))+(IF(H76=\"-\",0,H76))+(IF(I76=\"-\",0,I76))","v":140},{"$f":"(IF(B76=\"-\",0,B76))+(IF(C76=\"-\",0,C76))","v":108},{"$f":"(IF(F76=\"-\",0,F76))+(IF(G76=\"-\",0,G76))","v":108},{"$f":"(IF(D76=\"-\",0,D76))+(IF(E76=\"-\",0,E76))","v":32},{"$f":"(IF(H76=\"-\",0,H76))+(IF(I76=\"-\",0,I76))","v":32}]
[]
[{"$f":"'Coordination Timing - EXISTING'!A108","v":"Detroit Rd & I-90 WB Ramps"}]
["PHASE",1,2,3,4,5,6,7,8,"OFFSET 1 (SEC)","OFFSET 2 (SEC)","CALCULATION CHECKS"]
["DIRECTION","WBL","EBT","-","SBT","-","WBT","-","-",null,null,"1+2+3+4 = 5+6+7+8?",null,"1+2 = 5+6?",null,"3+4 = 7+8?"]
["PLAN NO. OR C/S/O","SPLITS (G+Y+AR) IN SECONDS"]
["10 (AM)",34,38,"-",43,"-",72,"-","-",43,"-",{"$f":"(IF(B82=\"-\",0,B82))+(IF(C82=\"-\",0,C82))+(IF(D82=\"-\",0,D82))+(IF(E82=\"-\",0,E82))","v":115},{"$f":"(IF(F82=\"-\",0,F82))+(IF(G82=\"-\",0,G82))+(IF(H82=\"-\",0,H82))+(IF(I82=\"-\",0,I82))","v":72},{"$f":"(IF(B82=\"-\",0,B82))+(IF(C82=\"-\",0,C82))","v":72},{"$f":"(IF(F82=\"-\",0,F82))+(IF(G82=\"-\",0,G82))","v":72},{"$f":"(IF(D82=\"-\",0,D82))+(IF(E82=\"-\",0,E82))","v":43},{"$f":"(IF(H82=\"-\",0,H82))+(IF(I82=\"-\",0,I82))","v":0}]
["20 (MD)",33,42,"-",45,"-",75,"-","-",50,"-",{"$f":"(IF(B83=\"-\",0,B83))+(IF(C83=\"-\",0,C83))+(IF(D83=\"-\",0,D83))+(IF(E83=\"-\",0,E83))","v":120},{"$f":"(IF(F83=\"-\",0,F83))+(IF(G83=\"-\",0,G83))+(IF(H83=\"-\",0,H83))+(IF(I83=\"-\",0,I83))","v":75},{"$f":"(IF(B83=\"-\",0,B83))+(IF(C83=\"-\",0,C83))","v":75},{"$f":"(IF(F83=\"-\",0,F83))+(IF(G83=\"-\",0,G83))","v":75},{"$f":"(IF(D83=\"-\",0,D83))+(IF(E83=\"-\",0,E83))","v":45},{"$f":"(IF(H83=\"-\",0,H83))+(IF(I83=\"-\",0,I83))","v":0}]
["30 (PM)",45,32,"-",48,"-",77,"-","-",25,"-",125,77,77,77,48,0]
["40 (OP)",28,42,"-",40,"-",70,"-","-",107,"-",{"$f":"(IF(B85=\"-\",0,B85))+(IF(C85=\"-\",0,C85))+(IF(D85=\"-\",0,D85))+(IF(E85=\"-\",0,E85))","v":110},{"$f":"(IF(F85=\"-\",0,F85))+(IF(G85=\"-\",0,G85))+(IF(H85=\"-\",0,H85))+(IF(I85=\"-\",0,I85))","v":70},{"$f":"(IF(B85=\"-\",0,B85))+(IF(C85=\"-\",0,C85))","v":70},{"$f":"(IF(F85=\"-\",0,F85))+(IF(G85=\"-\",0,G85))","v":70},{"$f":"(IF(D85=\"-\",0,D85))+(IF(E85=\"-\",0,E85))","v":40},{"$f":"(IF(H85=\"-\",0,H85))+(IF(I85=\"-\",0,I85))","v":0}]
["60 (WKEND)",33,45,"-",42,"-",78,"-","-",115,"-",120,78,78,78,42,0]
["70 (HV-BAL)",41,43,"-",56,"-",84,"-","-",6,"-",140,84,84,84,56,0]
["71 (HV- NB & WB)",41,43,"-",56,"-",84,"-","-",133,"-",140,84,84,84,56,0]
["72 (HV-EB & SB)",41,43,"-",56,"-",84,"-","-",60,"-",140,84,84,84,56,0]
[]
[{"$f":"'Coordination Timing - EXISTING'!A118","v":"Detroit Rd & I-90 EB Ramps"}]
["PHASE",1,2,3,4,5,6,7,8,"OFFSET 1 (SEC)","OFFSET 2 (SEC)","CALCULATION CHECKS"]
["DIRECTION","-","EBT","-","-","EBL","WBT","-","NBT",null,null,"1+2+3+4 = 5+6+7+8?",null,"1+2 = 5+6?",null,"3+4 = 7+8?"]
["PLAN NO. OR C/S/O","SPLITS (G+Y+AR) IN SECONDS"]
["10 (AM)","-",82,"-","-",29,53,"-",33,0,"-",{"$f":"(IF(B95=\"-\",0,B95))+(IF(C95=\"-\",0,C95))+(IF(D95=\"-\",0,D95))+(IF(E95=\"-\",0,E95))","v":82},{"$f":"(IF(F95=\"-\",0,F95))+(IF(G95=\"-\",0,G95))+(IF(H95=\"-\",0,H95))+(IF(I95=\"-\",0,I95))","v":115},{"$f":"(IF(B95=\"-\",0,B95))+(IF(C95=\"-\",0,C95))","v":82},{"$f":"(IF(F95=\"-\",0,F95))+(IF(G95=\"-\",0,G95))","v":82},{"$f":"(IF(D95=\"-\",0,D95))+(IF(E95=\"-\",0,E95))","v":0},{"$f":"(IF(H95=\"-\",0,H95))+(IF(I95=\"-\",0,I95))","v":33}]
["20 (MD)","-",82,"-","-",24,58,"-",38,13,"-",{"$f":"(IF(B96=\"-\",0,B96))+(IF(C96=\"-\",0,C96))+(IF(D96=\"-\",0,D96))+(IF(E96=\"-\",0,E96))","v":82},{"$f":"(IF(F96=\"-\",0,F96))+(IF(G96=\"-\",0,G96))+(IF(H96=\"-\",0,H96))+(IF(I96=\"-\",0,I96))","v":120},{"$f":"(IF(B96=\"-\",0,B96))+(IF(C96=\"-\",0,C96))","v":82},{"$f":"(IF(F96=\"-\",0,F96))+(IF(G96=\"-\",0,G96))","v":82},{"$f":"(IF(D96=\"-\",0,D96))+(IF(E96=\"-\",0,E96))","v":0},{"$f":"(IF(H96=\"-\",0,H96))+(IF(I96=\"-\",0,I96))","v":38}]
["30 (PM)","-",85,"-","-",27,58,"-",40,96,"-",85,125,85,85,0,40]
["40 (OP)","-",79,"-","-",23,56,"-",31,4,"-",{"$f":"(IF(B98=\"-\",0,B98))+(IF(C98=\"-\",0,C98))+(IF(D98=\"-\",0,D98))+(IF(E98=\"-\",0,E98))","v":79},{"$f":"(IF(F98=\"-\",0,F98))+(IF(G98=\"-\",0,G98))+(IF(H98=\"-\",0,H98))+(IF(I98=\"-\",0,I98))","v":110},{"$f":"(IF(B98=\"-\",0,B98))+(IF(C98=\"-\",0,C98))","v":79},{"$f":"(IF(F98=\"-\",0,F98))+(IF(G98=\"-\",0,G98))","v":79},{"$f":"(IF(D98=\"-\",0,D98))+(IF(E98=\"-\",0,E98))","v":0},{"$f":"(IF(H98=\"-\",0,H98))+(IF(I98=\"-\",0,I98))","v":31}]
["60 (WKEND)","-",87,"-","-",28,59,"-",33,119,"-",87,120,87,87,0,33]
["70 (HV-BAL)","-",104,"-","-",27,77,"-",36,134,"-",104,140,104,104,0,36]
["71 (HV- NB & WB)","-",104,"-","-",27,77,"-",36,107,"-",104,140,104,104,0,36]
["72 (HV-EB & SB)","-",104,"-","-",27,77,"-",36,4,"-",104,140,104,104,0,36]
[]
[{"$f":"'Coordination Timing - EXISTING'!A128","v":"Detroit Rd & Sheffield Crossing"}]
["PHASE",1,2,3,4,5,6,7,8,"OFFSET 1 (SEC)","OFFSET 2 (SEC)","CALCULATION CHECKS"]
["DIRECTION","WBL","EBT","-","SBT","EBL","WB","-","NB",null,null,"1+2+3+4 = 5+6+7+8?",null,"1+2 = 5+6?",null,"3+4 = 7+8?"]
["PLAN NO. OR C/S/O","SPLITS (G+Y+AR) IN SECONDS"]
["10 (AM)",18,63,"-",34,18,63,"-",34,0,"-",{"$f":"(IF(B108=\"-\",0,B108))+(IF(C108=\"-\",0,C108))+(IF(D108=\"-\",0,D108))+(IF(E108=\"-\",0,E108))","v":115},{"$f":"(IF(F108=\"-\",0,F108))+(IF(G108=\"-\",0,G108))+(IF(H108=\"-\",0,H108))+(IF(I108=\"-\",0,I108))","v":115},{"$f":"(IF(B108=\"-\",0,B108))+(IF(C108=\"-\",0,C108))","v":81},{"$f":"(IF(F108=\"-\",0,F108))+(IF(G108=\"-\",0,G108))","v":81},{"$f":"(IF(D108=\"-\",0,D108))+(IF(E108=\"-\",0,E108))","v":34},{"$f":"(IF(H108=\"-\",0,H108))+(IF(I108=\"-\",0,I108))","v":34}]
["20 (MD)",14,61,"-",45,21,54,"-",45,101,"-",{"$f":"(IF(B109=\"-\",0,B109))+(IF(C109=\"-\",0,C109))+(IF(D109=\"-\",0,D109))+(IF(E109=\"-\",0,E109))","v":120},{"$f":"(IF(F109=\"-\",0,F109))+(IF(G109=\"-\",0,G109))+(IF(H109=\"-\",0,H109))+(IF(I109=\"-\",0,I109))","v":120},{"$f":"(IF(B109=\"-\",0,B109))+(IF(C109=\"-\",0,C109))","v":75},{"$f":"(IF(F109=\"-\",0,F109))+(IF(G109=\"-\",0,G109))","v":75},{"$f":"(IF(D109=\"-\",0,D109))+(IF(E109=\"-\",0,E109))","v":45},{"$f":"(IF(H109=\"-\",0,H109))+(IF(I109=\"-\",0,I109))","v":45}]
["30 (PM)",15,71,"-",39,21,65,"-",39,97,"-",125,125,86,86,39,39]
["40 (OP)",15,55,"-",40,19,51,"-",40,98,"-",{"$f":"(IF(B111=\"-\",0,B111))+(IF(C111=\"-\",0,C111))+(IF(D111=\"-\",0,D111))+(IF(E111=\"-\",0,E111))","v":110},{"$f":"(IF(F111=\"-\",0,F111))+(IF(G111=\"-\",0,G111))+(IF(H111=\"-\",0,H111))+(IF(I111=\"-\",0,I111))","v":110},{"$f":"(IF(B111=\"-\",0,B111))+(IF(C111=\"-\",0,C111))","v":70},{"$f":"(IF(F111=\"-\",0,F111))+(IF(G111=\"-\",0,G111))","v":70},{"$f":"(IF(D111=\"-\",0,D111))+(IF(E111=\"-\",0,E111))","v":40},{"$f":"(IF(H111=\"-\",0,H111))+(IF(I111=\"-\",0,I111))","v":40}]
["60 (WKEND)",15,60,"-",45,22,53,"-",45,105,"-",120,120,75,75,45,45]
["70 (HV-BAL)",14,82,"-",44,18,78,"-",44,4,"-",140,140,96,96,44,44]
["71 (HV- NB & WB)",14,82,"-",44,18,78,"-",44,104,"-",140,140,96,96,44,44]
["72 (HV-EB & SB)",14,82,"-",44,18,78,"-",44,5,"-",140,140,96,96,44,44]
[]
[{"$f":"'Coordination Timing - EXISTING'!A138","v":"Detroit Rd & Abbe Rd"}]
["PHASE",1,2,3,4,5,6,7,8,"OFFSET 1 (SEC)","OFFSET 2 (SEC)","CALCULATION CHECKS"]
["DIRECTION","WBL","EBT","NBL","SBT","EBL","WBT","SBL","NBT",null,null,"1+2+3+4 = 5+6+7+8?",null,"1+2 = 5+6?",null,"3+4 = 7+8?"]
["PLAN NO. OR C/S/O","SPLITS (G+Y+AR) IN SECONDS"]
["10 (AM)",18,47,29,21,19,46,16,34,0,"-",{"$f":"(IF(B121=\"-\",0,B121))+(IF(C121=\"-\",0,C121))+(IF(D121=\"-\",0,D121))+(IF(E121=\"-\",0,E121))","v":115},{"$f":"(IF(F121=\"-\",0,F121))+(IF(G121=\"-\",0,G121))+(IF(H121=\"-\",0,H121))+(IF(I121=\"-\",0,I121))","v":115},{"$f":"(IF(B121=\"-\",0,B121))+(IF(C121=\"-\",0,C121))","v":65},{"$f":"(IF(F121=\"-\",0,F121))+(IF(G121=\"-\",0,G121))","v":65},{"$f":"(IF(D121=\"-\",0,D121))+(IF(E121=\"-\",0,E121))","v":50},{"$f":"(IF(H121=\"-\",0,H121))+(IF(I121=\"-\",0,I121))","v":50}]
["20 (MD)",18,47,34,21,18,47,19,36,0,"-",{"$f":"(IF(B122=\"-\",0,B122))+(IF(C122=\"-\",0,C122))+(IF(D122=\"-\",0,D122))+(IF(E122=\"-\",0,E122))","v":120},{"$f":"(IF(F122=\"-\",0,F122))+(IF(G122=\"-\",0,G122))+(IF(H122=\"-\",0,H122))+(IF(I122=\"-\",0,I122))","v":120},{"$f":"(IF(B122=\"-\",0,B122))+(IF(C122=\"-\",0,C122))","v":65},{"$f":"(IF(F122=\"-\",0,F122))+(IF(G122=\"-\",0,G122))","v":65},{"$f":"(IF(D122=\"-\",0,D122))+(IF(E122=\"-\",0,E122))","v":55},{"$f":"(IF(H122=\"-\",0,H122))+(IF(I122=\"-\",0,I122))","v":55}]
["30 (PM)",20,47,37,21,20,47,17,41,17,"-",125,125,67,67,58,58]
["40 (OP)",16,47,27,20,16,47,17,30,0,"-",{"$f":"(IF(B124=\"-\",0,B124))+(IF(C124=\"-\",0,C124))+(IF(D124=\"-\",0,D124))+(IF(E124=\"-\",0,E124))","v":110},{"$f":"(IF(F124=\"-\",0,F124))+(IF(G124=\"-\",0,G124))+(IF(H124=\"-\",0,H124))+(IF(I124=\"-\",0,I124))","v":110},{"$f":"(IF(B124=\"-\",0,B124))+(IF(C124=\"-\",0,C124))","v":63},{"$f":"(IF(F124=\"-\",0,F124))+(IF(G124=\"-\",0,G124))","v":63},{"$f":"(IF(D124=\"-\",0,D124))+(IF(E124=\"-\",0,E124))","v":47},{"$f":"(IF(H124=\"-\",0,H124))+(IF(I124=\"-\",0,I124))","v":47}]
["60 (WKEND)",20,47,32,21,18,49,20,33,29,"-",120,120,67,67,53,53]
["70 (HV-BAL)",23,47,48,22,30,40,22,48,0,"-",140,140,70,70,70,70]
["71 (HV- NB & WB)",23,47,48,22,27,43,22,48,0,"-",140,140,70,70,70,70]
["72 (HV-EB & SB)",23,47,48,22,30,40,22,48,0,"-",140,140,70,70,70,70]
[]
[{"$f":"'Coordination Timing - EXISTING'!A148","v":"Abbe Rd & Hoag Dr"}]
["PHASE",1,2,3,4,5,6,7,8,"OFFSET 1 (SEC)","OFFSET 2 (SEC)","CALCULATION CHECKS"]
["DIRECTION","NBL","SBT","-","WBT","SBL","NBT","-","EBT",null,null,"1+2+3+4 = 5+6+7+8?",null,"1+2 = 5+6?",null,"3+4 = 7+8?"]
["PLAN NO. OR C/S/O","SPLITS (G+Y+AR) IN SECONDS"]
["FREE","-","-","-","-","-","-","-","-","-","-",{"$f":"(IF(B134=\"-\",0,B134))+(IF(C134=\"-\",0,C134))+(IF(D134=\"-\",0,D134))+(IF(E134=\"-\",0,E134))","v":0},{"$f":"(IF(F134=\"-\",0,F134))+(IF(G134=\"-\",0,G134))+(IF(H134=\"-\",0,H134))+(IF(I134=\"-\",0,I134))","v":0},{"$f":"(IF(B134=\"-\",0,B134))+(IF(C134=\"-\",0,C134))","v":0},{"$f":"(IF(F134=\"-\",0,F134))+(IF(G134=\"-\",0,G134))","v":0},{"$f":"(IF(D134=\"-\",0,D134))+(IF(E134=\"-\",0,E134))","v":0},{"$f":"(IF(H134=\"-\",0,H134))+(IF(I134=\"-\",0,I134))","v":0}]
["-","-","-","-","-","-","-","-","-","-","-",{"$f":"(IF(B135=\"-\",0,B135))+(IF(C135=\"-\",0,C135))+(IF(D135=\"-\",0,D135))+(IF(E135=\"-\",0,E135))","v":0},{"$f":"(IF(F135=\"-\",0,F135))+(IF(G135=\"-\",0,G135))+(IF(H135=\"-\",0,H135))+(IF(I135=\"-\",0,I135))","v":0},{"$f":"(IF(B135=\"-\",0,B135))+(IF(C135=\"-\",0,C135))","v":0},{"$f":"(IF(F135=\"-\",0,F135))+(IF(G135=\"-\",0,G135))","v":0},{"$f":"(IF(D135=\"-\",0,D135))+(IF(E135=\"-\",0,E135))","v":0},{"$f":"(IF(H135=\"-\",0,H135))+(IF(I135=\"-\",0,I135))","v":0}]
["-","-","-","-","-","-","-","-","-","-","-",0,0,0,0,0,0]
["-","-","-","-","-","-","-","-","-","-","-",0,0,0,0,0,0]
["-","-","-","-","-","-","-","-","-","-","-",0,0,0,0,0,0]
[]
["\"INTERSECTION 7\""]
["PHASE",1,2,3,4,5,6,7,8,"OFFSET 1 (SEC)","OFFSET 2 (SEC)","CALCULATION CHECKS"]
["DIRECTION","-","-","-","-","-","-","-","-",null,null,"1+2+3+4 = 5+6+7+8?",null,"1+2 = 5+6?",null,"3+4 = 7+8?"]
["PLAN NO. OR C/S/O","SPLITS (G+Y+AR) IN SECONDS"]
["-","-","-","-","-","-","-","-","-","-","-",{"$f":"(IF(B144=\"-\",0,B144))+(IF(C144=\"-\",0,C144))+(IF(D144=\"-\",0,D144))+(IF(E144=\"-\",0,E144))","v":0},{"$f":"(IF(F144=\"-\",0,F144))+(IF(G144=\"-\",0,G144))+(IF(H144=\"-\",0,H144))+(IF(I144=\"-\",0,I144))","v":0},{"$f":"(IF(B144=\"-\",0,B144))+(IF(C144=\"-\",0,C144))","v":0},{"$f":"(IF(F144=\"-\",0,F144))+(IF(G144=\"-\",0,G144))","v":0},{"$f":"(IF(D144=\"-\",0,D144))+(IF(E144=\"-\",0,E144))","v":0},{"$f":"(IF(H144=\"-\",0,H144))+(IF(I144=\"-\",0,I144))","v":0}]
["-","-","-","-","-","-","-","-","-","-","-",{"$f":"(IF(B145=\"-\",0,B145))+(IF(C145=\"-\",0,C145))+(IF(D145=\"-\",0,D145))+(IF(E145=\"-\",0,E145))","v":0},{"$f":"(IF(F145=\"-\",0,F145))+(IF(G145=\"-\",0,G145))+(IF(H145=\"-\",0,H145))+(IF(I145=\"-\",0,I145))","v":0},{"$f":"(IF(B145=\"-\",0,B145))+(IF(C145=\"-\",0,C145))","v":0},{"$f":"(IF(F145=\"-\",0,F145))+(IF(G145=\"-\",0,G145))","v":0},{"$f":"(IF(D145=\"-\",0,D145))+(IF(E145=\"-\",0,E145))","v":0},{"$f":"(IF(H145=\"-\",0,H145))+(IF(I145=\"-\",0,I145))","v":0}]
["-","-","-","-","-","-","-","-","-","-","-",0,0,0,0,0,0]
["-","-","-","-","-","-","-","-","-","-","-",0,0,0,0,0,0]
["-","-","-","-","-","-","-","-","-","-","-",0,0,0,0,0,0]
[]
["\"INTERSECTION 8\""]
["PHASE",1,2,3,4,5,6,7,8,"OFFSET 1 (SEC)","OFFSET 2 (SEC)","CALCULATION CHECKS"]
["DIRECTION","-","-","-","-","-","-","-","-",null,null,"1+2+3+4 = 5+6+7+8?",null,"1+2 = 5+6?",null,"3+4 = 7+8?"]
["PLAN NO. OR C/S/O","SPLITS (G+Y+AR) IN SECONDS"]
["-","-","-","-","-","-","-","-","-","-","-",{"$f":"(IF(B154=\"-\",0,B154))+(IF(C154=\"-\",0,C154))+(IF(D154=\"-\",0,D154))+(IF(E154=\"-\",0,E154))","v":0},{"$f":"(IF(F154=\"-\",0,F154))+(IF(G154=\"-\",0,G154))+(IF(H154=\"-\",0,H154))+(IF(I154=\"-\",0,I154))","v":0},{"$f":"(IF(B154=\"-\",0,B154))+(IF(C154=\"-\",0,C154))","v":0},{"$f":"(IF(F154=\"-\",0,F154))+(IF(G154=\"-\",0,G154))","v":0},{"$f":"(IF(D154=\"-\",0,D154))+(IF(E154=\"-\",0,E154))","v":0},{"$f":"(IF(H154=\"-\",0,H154))+(IF(I154=\"-\",0,I154))","v":0}]
["-","-","-","-","-","-","-","-","-","-","-",{"$f":"(IF(B155=\"-\",0,B155))+(IF(C155=\"-\",0,C155))+(IF(D155=\"-\",0,D155))+(IF(E155=\"-\",0,E155))","v":0},{"$f":"(IF(F155=\"-\",0,F155))+(IF(G155=\"-\",0,G155))+(IF(H155=\"-\",0,H155))+(IF(I155=\"-\",0,I155))","v":0},{"$f":"(IF(B155=\"-\",0,B155))+(IF(C155=\"-\",0,C155))","v":0},{"$f":"(IF(F155=\"-\",0,F155))+(IF(G155=\"-\",0,G155))","v":0},{"$f":"(IF(D155=\"-\",0,D155))+(IF(E155=\"-\",0,E155))","v":0},{"$f":"(IF(H155=\"-\",0,H155))+(IF(I155=\"-\",0,I155))","v":0}]
["-","-","-","-","-","-","-","-","-","-","-",0,0,0,0,0,0]
["-","-","-","-","-","-","-","-","-","-","-",0,0,0,0,0,0]
["-","-","-","-","-","-","-","-","-","-","-",0,0,0,0,0,0]
[]
["\"INTERSECTION 9\""]
["PHASE",1,2,3,4,5,6,7,8,"OFFSET 1 (SEC)","OFFSET 2 (SEC)","CALCULATION CHECKS"]
["DIRECTION","-","-","-","-","-","-","-","-",null,null,"1+2+3+4 = 5+6+7+8?",null,"1+2 = 5+6?",null,"3+4 = 7+8?"]
["PLAN NO. OR C/S/O","SPLITS (G+Y+AR) IN SECONDS"]
["-","-","-","-","-","-","-","-","-","-","-",{"$f":"(IF(B164=\"-\",0,B164))+(IF(C164=\"-\",0,C164))+(IF(D164=\"-\",0,D164))+(IF(E164=\"-\",0,E164))","v":0},{"$f":"(IF(F164=\"-\",0,F164))+(IF(G164=\"-\",0,G164))+(IF(H164=\"-\",0,H164))+(IF(I164=\"-\",0,I164))","v":0},{"$f":"(IF(B164=\"-\",0,B164))+(IF(C164=\"-\",0,C164))","v":0},{"$f":"(IF(F164=\"-\",0,F164))+(IF(G164=\"-\",0,G164))","v":0},{"$f":"(IF(D164=\"-\",0,D164))+(IF(E164=\"-\",0,E164))","v":0},{"$f":"(IF(H164=\"-\",0,H164))+(IF(I164=\"-\",0,I164))","v":0}]
["-","-","-","-","-","-","-","-","-","-","-",{"$f":"(IF(B165=\"-\",0,B165))+(IF(C165=\"-\",0,C165))+(IF(D165=\"-\",0,D165))+(IF(E165=\"-\",0,E165))","v":0},{"$f":"(IF(F165=\"-\",0,F165))+(IF(G165=\"-\",0,G165))+(IF(H165=\"-\",0,H165))+(IF(I165=\"-\",0,I165))","v":0},{"$f":"(IF(B165=\"-\",0,B165))+(IF(C165=\"-\",0,C165))","v":0},{"$f":"(IF(F165=\"-\",0,F165))+(IF(G165=\"-\",0,G165))","v":0},{"$f":"(IF(D165=\"-\",0,D165))+(IF(E165=\"-\",0,E165))","v":0},{"$f":"(IF(H165=\"-\",0,H165))+(IF(I165=\"-\",0,I165))","v":0}]
["-","-","-","-","-","-","-","-","-","-","-",0,0,0,0,0,0]
["-","-","-","-","-","-","-","-","-","-","-",0,0,0,0,0,0]
["-","-","-","-","-","-","-","-","-","-","-",0,0,0,0,0,0]
[]
["\"INTERSECTION 10\""]
["PHASE",1,2,3,4,5,6,7,8,"OFFSET 1 (SEC)","OFFSET 2 (SEC)","CALCULATION CHECKS"]
["DIRECTION","-","-","-","-","-","-","-","-",null,null,"1+2+3+4 = 5+6+7+8?",null,"1+2 = 5+6?",null,"3+4 = 7+8?"]
["PLAN NO. OR C/S/O","SPLITS (G+Y+AR) IN SECONDS"]
["-","-","-","-","-","-","-","-","-","-","-",{"$f":"(IF(B174=\"-\",0,B174))+(IF(C174=\"-\",0,C174))+(IF(D174=\"-\",0,D174))+(IF(E174=\"-\",0,E174))","v":0},{"$f":"(IF(F174=\"-\",0,F174))+(IF(G174=\"-\",0,G174))+(IF(H174=\"-\",0,H174))+(IF(I174=\"-\",0,I174))","v":0},{"$f":"(IF(B174=\"-\",0,B174))+(IF(C174=\"-\",0,C174))","v":0},{"$f":"(IF(F174=\"-\",0,F174))+(IF(G174=\"-\",0,G174))","v":0},{"$f":"(IF(D174=\"-\",0,D174))+(IF(E174=\"-\",0,E174))","v":0},{"$f":"(IF(H174=\"-\",0,H174))+(IF(I174=\"-\",0,I174))","v":0}]
["-","-","-","-","-","-","-","-","-","-","-",{"$f":"(IF(B175=\"-\",0,B175))+(IF(C175=\"-\",0,C175))+(IF(D175=\"-\",0,D175))+(IF(E175=\"-\",0,E175))","v":0},{"$f":"(IF(F175=\"-\",0,F175))+(IF(G175=\"-\",0,G175))+(IF(H175=\"-\",0,H175))+(IF(I175=\"-\",0,I175))","v":0},{"$f":"(IF(B175=\"-\",0,B175))+(IF(C175=\"-\",0,C175))","v":0},{"$f":"(IF(F175=\"-\",0,F175))+(IF(G175=\"-\",0,G175))","v":0},{"$f":"(IF(D175=\"-\",0,D175))+(IF(E175=\"-\",0,E175))","v":0},{"$f":"(IF(H175=\"-\",0,H175))+(IF(I175=\"-\",0,I175))","v":0}]
["-","-","-","-","-","-","-","-","-","-","-",0,0,0,0,0,0]
["-","-","-","-","-","-","-","-","-","-","-",0,0,0,0,0,0]
["-","-","-","-","-","-","-","-","-","-","-",0,0,0,0,0,0]

{"sheet":"Combined Coord Timing-Read Only","index":7,"n_rows":123,"n_cols":23,"rows_kept":123,"cut":false,"hidden":false,"merged":[[78,0,78,1],[110,0,110,1],[122,0,122,1],[40,12,40,13],[78,12,78,13],[110,12,110,13],[122,12,122,13],[42,0,42,10],[43,9,45,9],[43,10,45,10],[45,1,45,8],[40,0,40,1],[112,0,112,10],[113,9,115,9],[113,10,115,10],[115,1,115,8],[1,0,1,10],[2,9,4,9],[2,10,4,10],[4,1,4,8],[14,0,14,10],[15,9,17,9],[15,10,17,10],[17,1,17,8],[27,0,27,10],[28,9,30,9],[28,10,30,10],[30,1,30,8],[80,0,80,10],[81,9,83,9],[81,10,83,10],[83,1,83,8],[90,0,90,10],[91,9,93,9],[91,10,93,10],[93,1,93,8],[100,0,100,10],[101,9,103,9],[101,10,103,10],[103,1,103,8],[55,0,55,10],[56,9,58,9],[56,10,58,10],[58,1,58,8],[68,0,68,10],[69,9,71,9],[69,10,71,10],[71,1,71,8],[68,12,68,22],[1,12,1,22],[2,21,4,21],[2,22,4,22],[4,13,4,20],[14,12,14,22],[15,21,17,21],[15,22,17,22],[17,13,17,20],[43,21,45,21],[43,22,45,22],[45,13,45,20],[55,12,55,22],[27,12,27,22],[28,21,30,21],[28,22,30,22],[30,13,30,20],[42,12,42,22],[0,0,0,10],[0,12,0,22],[113,21,115,21],[113,22,115,22],[115,13,115,20],[80,12,80,22],[81,21,83,21],[81,22,83,22],[83,13,83,20],[90,12,90,22],[91,21,93,21],[91,22,93,22],[93,13,93,20],[100,12,100,22],[101,21,103,21],[101,22,103,22],[122,8,122,9],[110,8,110,9],[78,8,78,9],[40,8,40,9],[122,20,122,21],[110,20,110,21],[40,20,40,21],[78,20,78,21],[103,13,103,20],[112,12,112,22],[69,21,71,21],[69,22,71,22],[71,13,71,20],[56,21,58,21],[56,22,58,22],[58,13,58,20]]}
["EXISTING TIMING",null,null,null,null,null,null,null,null,null,null,null,"PROPOSED TIMING"]
["Detroit Rd & Transportation Dr/Mike Bass Ford Dr",null,null,null,null,null,null,null,null,null,null,null,"Detroit Rd & Transportation Dr/Mike Bass Ford Dr"]
["PHASE",1,2,3,4,5,6,7,8,"OFFSET 1 (SEC)","OFFSET 2 (SEC)",null,"PHASE",1,2,3,4,5,6,7,8,"OFFSET 1 (SEC)","OFFSET 2 (SEC)"]
["DIRECTION",{"$f":"'Coordination Timing - EXISTING'!B100","v":"WBL"},{"$f":"'Coordination Timing - EXISTING'!C100","v":"EBT"},{"$f":"'Coordination Timing - EXISTING'!D100","v":"-"},{"$f":"'Coordination Timing - EXISTING'!E100","v":"SBT"},{"$f":"'Coordination Timing - EXISTING'!F100","v":"EBL"},{"$f":"'Coordination Timing - EXISTING'!G100","v":"WBT"},{"$f":"'Coordination Timing - EXISTING'!H100","v":"-"},{"$f":"'Coordination Timing - EXISTING'!I100","v":"NBT"},null,null,null,"DIRECTION",{"$f":"'Coordination Timing - PROPOSED'!B67","v":"WBL"},{"$f":"'Coordination Timing - PROPOSED'!C67","v":"EBT"},{"$f":"'Coordination Timing - PROPOSED'!D67","v":"-"},{"$f":"'Coordination Timing - PROPOSED'!E67","v":"SBT"},{"$f":"'Coordination Timing - PROPOSED'!F67","v":"EBL"},{"$f":"'Coordination Timing - PROPOSED'!G67","v":"WBT"},{"$f":"'Coordination Timing - PROPOSED'!H67","v":"-"},{"$f":"'Coordination Timing - PROPOSED'!I67","v":"NBT"}]
["PLAN NO. OR C/S/O","SPLITS (G+Y+AR) IN SECONDS",null,null,null,null,null,null,null,null,null,null,"PLAN NO. OR C/S/O","SPLITS (G+Y+AR) IN SECONDS"]
[{"$f":"'Coordination Timing - EXISTING'!A102","v":"1-1"},{"$f":"'Coordination Timing - EXISTING'!B102","v":12},{"$f":"'Coordination Timing - EXISTING'!C102","v":46},{"$f":"'Coordination Timing - EXISTING'!D102","v":"-"},{"$f":"'Coordination Timing - EXISTING'!E102","v":22},{"$f":"'Coordination Timing - EXISTING'!F102","v":12},{"$f":"'Coordination Timing - EXISTING'!G102","v":46},{"$f":"'Coordination Timing - EXISTING'!H102","v":"-"},{"$f":"'Coordination Timing - EXISTING'!I102","v":22},{"$f":"'Coordination Timing - EXISTING'!J102","v":59},{"$f":"'Coordination Timing - EXISTING'!K102","v":"-"},null,{"$f":"'Coordination Timing - PROPOSED'!A69","v":"10 (AM)"},{"$f":"'Coordination Timing - PROPOSED'!B69","v":18},{"$f":"'Coordination Timing - PROPOSED'!C69","v":70},{"$f":"'Coordination Timing - PROPOSED'!D69","v":"-"},{"$f":"'Coordination Timing - PROPOSED'!E69","v":27},{"$f":"'Coordination Timing - PROPOSED'!F69","v":18},{"$f":"'Coordination Timing - PROPOSED'!G69","v":70},{"$f":"'Coordination Timing - PROPOSED'!H69","v":"-"},{"$f":"'Coordination Timing - PROPOSED'!I69","v":27},{"$f":"'Coordination Timing - PROPOSED'!J69","v":53},{"$f":"'Coordination Timing - PROPOSED'!K69","v":"-"}]
[{"$f":"'Coordination Timing - EXISTING'!A103","v":"1-2"},{"$f":"'Coordination Timing - EXISTING'!B103","v":12},{"$f":"'Coordination Timing - EXISTING'!C103","v":46},{"$f":"'Coordination Timing - EXISTING'!D103","v":"-"},{"$f":"'Coordination Timing - EXISTING'!E103","v":22},{"$f":"'Coordination Timing - EXISTING'!F103","v":12},{"$f":"'Coordination Timing - EXISTING'!G103","v":46},{"$f":"'Coordination Timing - EXISTING'!H103","v":"-"},{"$f":"'Coordination Timing - EXISTING'!I103","v":22},{"$f":"'Coordination Timing - EXISTING'!J103","v":60},{"$f":"'Coordination Timing - EXISTING'!K103","v":"-"},null,{"$f":"'Coordination Timing - PROPOSED'!A70","v":"20 (MD)"},{"$f":"'Coordination Timing - PROPOSED'!B70","v":17},{"$f":"'Coordination Timing - PROPOSED'!C70","v":74},{"$f":"'Coordination Timing - PROPOSED'!D70","v":"-"},{"$f":"'Coordination Timing - PROPOSED'!E70","v":29},{"$f":"'Coordination Timing - PROPOSED'!F70","v":17},{"$f":"'Coordination Timing - PROPOSED'!G70","v":74},{"$f":"'Coordination Timing - PROPOSED'!H70","v":"-"},{"$f":"'Coordination Timing - PROPOSED'!I70","v":29},{"$f":"'Coordination Timing - PROPOSED'!J70","v":56},{"$f":"'Coordination Timing - PROPOSED'!K70","v":"-"}]
[{"$f":"'Coordination Timing - EXISTING'!A104","v":"1-3"},{"$f":"'Coordination Timing - EXISTING'!B104","v":12},{"$f":"'Coordination Timing - EXISTING'!C104","v":51},{"$f":"'Coordination Timing - EXISTING'!D104","v":"-"},{"$f":"'Coordination Timing - EXISTING'!E104","v":27},{"$f":"'Coordination Timing - EXISTING'!F104","v":12},{"$f":"'Coordination Timing - EXISTING'!G104","v":51},{"$f":"'Coordination Timing - EXISTING'!H104","v":"-"},{"$f":"'Coordination Timing - EXISTING'!I104","v":27},{"$f":"'Coordination Timing - EXISTING'!J104","v":58},{"$f":"'Coordination Timing - EXISTING'!K104","v":"-"},null,{"$f":"'Coordination Timing - PROPOSED'!A71","v":"30 (PM)"},{"$f":"'Coordination Timing - PROPOSED'!B71","v":17},{"$f":"'Coordination Timing - PROPOSED'!C71","v":80},{"$f":"'Coordination Timing - PROPOSED'!D71","v":"-"},{"$f":"'Coordination Timing - PROPOSED'!E71","v":28},{"$f":"'Coordination Timing - PROPOSED'!F71","v":17},{"$f":"'Coordination Timing - PROPOSED'!G71","v":80},{"$f":"'Coordination Timing - PROPOSED'!H71","v":"-"},{"$f":"'Coordination Timing - PROPOSED'!I71","v":28},{"$f":"'Coordination Timing - PROPOSED'!J71","v":43},{"$f":"'Coordination Timing - PROPOSED'!K71","v":"-"}]
[{"$f":"'Coordination Timing - EXISTING'!A105","v":"-"},{"$f":"'Coordination Timing - EXISTING'!B105","v":"-"},{"$f":"'Coordination Timing - EXISTING'!C105","v":"-"},{"$f":"'Coordination Timing - EXISTING'!D105","v":"-"},{"$f":"'Coordination Timing - EXISTING'!E105","v":"-"},{"$f":"'Coordination Timing - EXISTING'!F105","v":"-"},{"$f":"'Coordination Timing - EXISTING'!G105","v":"-"},{"$f":"'Coordination Timing - EXISTING'!H105","v":"-"},{"$f":"'Coordination Timing - EXISTING'!I105","v":"-"},{"$f":"'Coordination Timing - EXISTING'!J105","v":"-"},{"$f":"'Coordination Timing - EXISTING'!K105","v":"-"},null,{"$f":"'Coordination Timing - PROPOSED'!A72","v":"40 (OP)"},{"$f":"'Coordination Timing - PROPOSED'!B72","v":16},{"$f":"'Coordination Timing - PROPOSED'!C72","v":67},{"$f":"'Coordination Timing - PROPOSED'!D72","v":"-"},{"$f":"'Coordination Timing - PROPOSED'!E72","v":27},{"$f":"'Coordination Timing - PROPOSED'!F72","v":16},{"$f":"'Coordination Timing - PROPOSED'!G72","v":67},{"$f":"'Coordination Timing - PROPOSED'!H72","v":"-"},{"$f":"'Coordination Timing - PROPOSED'!I72","v":27},{"$f":"'Coordination Timing - PROPOSED'!J72","v":2},{"$f":"'Coordination Timing - PROPOSED'!K72","v":"-"}]
[{"$f":"'Coordination Timing - EXISTING'!A106","v":"-"},{"$f":"'Coordination Timing - EXISTING'!B106","v":"-"},{"$f":"'Coordination Timing - EXISTING'!C106","v":"-"},{"$f":"'Coordination Timing - EXISTING'!D106","v":"-"},{"$f":"'Coordination Timing - EXISTING'!E106","v":"-"},{"$f":"'Coordination Timing - EXISTING'!F106","v":"-"},{"$f":"'Coordination Timing - EXISTING'!G106","v":"-"},{"$f":"'Coordination Timing - EXISTING'!H106","v":"-"},{"$f":"'Coordination Timing - EXISTING'!I106","v":"-"},{"$f":"'Coordination Timing - EXISTING'!J106","v":"-"},{"$f":"'Coordination Timing - EXISTING'!K106","v":"-"},null,{"$f":"'Coordination Timing - PROPOSED'!A73","v":"60 (WKEND)"},{"$f":"'Coordination Timing - PROPOSED'!B73","v":15},{"$f":"'Coordination Timing - PROPOSED'!C73","v":81},{"$f":"'Coordination Timing - PROPOSED'!D73","v":"-"},{"$f":"'Coordination Timing - PROPOSED'!E73","v":24},{"$f":"'Coordination Timing - PROPOSED'!F73","v":15},{"$f":"'Coordination Timing - PROPOSED'!G73","v":81},{"$f":"'Coordination Timing - PROPOSED'!H73","v":"-"},{"$f":"'Coordination Timing - PROPOSED'!I73","v":24},{"$f":"'Coordination Timing - PROPOSED'!J73","v":4},{"$f":"'Coordination Timing - PROPOSED'!K73","v":"-"}]
["-","-","-","-","-","-","-","-","-","-","-",null,{"$f":"'Coordination Timing - PROPOSED'!A74","v":"70 (HV-BAL)"},{"$f":"'Coordination Timing - PROPOSED'!B74","v":17},{"$f":"'Coordination Timing - PROPOSED'!C74","v":91},{"$f":"'Coordination Timing - PROPOSED'!D74","v":"-"},{"$f":"'Coordination Timing - PROPOSED'!E74","v":32},{"$f":"'Coordination Timing - PROPOSED'!F74","v":17},{"$f":"'Coordination Timing - PROPOSED'!G74","v":91},{"$f":"'Coordination Timing - PROPOSED'!H74","v":"-"},{"$f":"'Coordination Timing - PROPOSED'!I74","v":32},{"$f":"'Coordination Timing - PROPOSED'!J74","v":17},{"$f":"'Coordination Timing - PROPOSED'!K74","v":"-"}]
["-","-","-","-","-","-","-","-","-","-","-",null,{"$f":"'Coordination Timing - PROPOSED'!A75","v":"71 (HV- NB & WB)"},{"$f":"'Coordination Timing - PROPOSED'!B75","v":17},{"$f":"'Coordination Timing - PROPOSED'!C75","v":91},{"$f":"'Coordination Timing - PROPOSED'!D75","v":"-"},{"$f":"'Coordination Timing - PROPOSED'!E75","v":32},{"$f":"'Coordination Timing - PROPOSED'!F75","v":17},{"$f":"'Coordination Timing - PROPOSED'!G75","v":91},{"$f":"'Coordination Timing - PROPOSED'!H75","v":"-"},{"$f":"'Coordination Timing - PROPOSED'!I75","v":32},{"$f":"'Coordination Timing - PROPOSED'!J75","v":8},{"$f":"'Coordination Timing - PROPOSED'!K75","v":"-"}]
["-","-","-","-","-","-","-","-","-","-","-",null,{"$f":"'Coordination Timing - PROPOSED'!A76","v":"72 (HV-EB & SB)"},{"$f":"'Coordination Timing - PROPOSED'!B76","v":17},{"$f":"'Coordination Timing - PROPOSED'!C76","v":91},{"$f":"'Coordination Timing - PROPOSED'!D76","v":"-"},{"$f":"'Coordination Timing - PROPOSED'!E76","v":32},{"$f":"'Coordination Timing - PROPOSED'!F76","v":17},{"$f":"'Coordination Timing - PROPOSED'!G76","v":91},{"$f":"'Coordination Timing - PROPOSED'!H76","v":"-"},{"$f":"'Coordination Timing - PROPOSED'!I76","v":32},{"$f":"'Coordination Timing - PROPOSED'!J76","v":47},{"$f":"'Coordination Timing - PROPOSED'!K76","v":"-"}]
[]
["Detroit Rd & I-90 WB Ramps",null,null,null,null,null,null,null,null,null,null,null,"Detroit Rd & I-90 EB Ramps"]
["PHASE",1,2,3,4,5,6,7,8,"OFFSET 1 (SEC)","OFFSET 2 (SEC)",null,"PHASE",1,2,3,4,5,6,7,8,"OFFSET 1 (SEC)","OFFSET 2 (SEC)"]
["DIRECTION",{"$f":"'Coordination Timing - EXISTING'!B110","v":"WBL"},{"$f":"'Coordination Timing - EXISTING'!C110","v":"EB"},{"$f":"'Coordination Timing - EXISTING'!D110","v":"-"},{"$f":"'Coordination Timing - EXISTING'!E110","v":"SB"},{"$f":"'Coordination Timing - EXISTING'!F110","v":"-"},{"$f":"'Coordination Timing - EXISTING'!G110","v":"WB"},{"$f":"'Coordination Timing - EXISTING'!H110","v":"-"},{"$f":"'Coordination Timing - EXISTING'!I110","v":"-"},null,null,null,"DIRECTION",{"$f":"'Coordination Timing - PROPOSED'!B80","v":"WBL"},{"$f":"'Coordination Timing - PROPOSED'!C80","v":"EBT"},{"$f":"'Coordination Timing - PROPOSED'!D80","v":"-"},{"$f":"'Coordination Timing - PROPOSED'!E80","v":"SBT"},{"$f":"'Coordination Timing - PROPOSED'!F80","v":"-"},{"$f":"'Coordination Timing - PROPOSED'!G80","v":"WBT"},{"$f":"'Coordination Timing - PROPOSED'!H80","v":"-"},{"$f":"'Coordination Timing - PROPOSED'!I80","v":"-"}]
["PLAN NO. OR C/S/O","SPLITS (G+Y+AR) IN SECONDS",null,null,null,null,null,null,null,null,null,null,"PLAN NO. OR C/S/O","SPLITS (G+Y+AR) IN SECONDS"]
[{"$f":"'Coordination Timing - EXISTING'!A112","v":"1-1"},{"$f":"'Coordination Timing - EXISTING'!B112","v":23},{"$f":"'Coordination Timing - EXISTING'!C112","v":36},{"$f":"'Coordination Timing - EXISTING'!D112","v":"-"},{"$f":"'Coordination Timing - EXISTING'!E112","v":31},{"$f":"'Coordination Timing - EXISTING'!F112","v":"-"},{"$f":"'Coordination Timing - EXISTING'!G112","v":59},{"$f":"'Coordination Timing - EXISTING'!H112","v":"-"},{"$f":"'Coordination Timing - EXISTING'!I112","v":"-"},{"$f":"'Coordination Timing - EXISTING'!J112","v":39},{"$f":"'Coordination Timing - EXISTING'!K112","v":"-"},null,{"$f":"'Coordination Timing - PROPOSED'!A82","v":"10 (AM)"},{"$f":"'Coordination Timing - PROPOSED'!B82","v":34},{"$f":"'Coordination Timing - PROPOSED'!C82","v":38},{"$f":"'Coordination Timing - PROPOSED'!D82","v":"-"},{"$f":"'Coordination Timing - PROPOSED'!E82","v":43},{"$f":"'Coordination Timing - PROPOSED'!F82","v":"-"},{"$f":"'Coordination Timing - PROPOSED'!G82","v":72},{"$f":"'Coordination Timing - PROPOSED'!H82","v":"-"},{"$f":"'Coordination Timing - PROPOSED'!I82","v":"-"},{"$f":"'Coordination Timing - PROPOSED'!J82","v":43},{"$f":"'Coordination Timing - PROPOSED'!K82","v":"-"}]
[{"$f":"'Coordination Timing - EXISTING'!A113","v":"1-2"},{"$f":"'Coordination Timing - EXISTING'!B113","v":22},{"$f":"'Coordination Timing - EXISTING'!C113","v":38},{"$f":"'Coordination Timing - EXISTING'!D113","v":"-"},{"$f":"'Coordination Timing - EXISTING'!E113","v":40},{"$f":"'Coordination Timing - EXISTING'!F113","v":"-"},{"$f":"'Coordination Timing - EXISTING'!G113","v":60},{"$f":"'Coordination Timing - EXISTING'!H113","v":"-"},{"$f":"'Coordination Timing - EXISTING'!I113","v":"-"},{"$f":"'Coordination Timing - EXISTING'!J113","v":58},{"$f":"'Coordination Timing - EXISTING'!K113","v":"-"},null,{"$f":"'Coordination Timing - PROPOSED'!A83","v":"20 (MD)"},{"$f":"'Coordination Timing - PROPOSED'!B83","v":33},{"$f":"'Coordination Timing - PROPOSED'!C83","v":42},{"$f":"'Coordination Timing - PROPOSED'!D83","v":"-"},{"$f":"'Coordination Timing - PROPOSED'!E83","v":45},{"$f":"'Coordination Timing - PROPOSED'!F83","v":"-"},{"$f":"'Coordination Timing - PROPOSED'!G83","v":75},{"$f":"'Coordination Timing - PROPOSED'!H83","v":"-"},{"$f":"'Coordination Timing - PROPOSED'!I83","v":"-"},{"$f":"'Coordination Timing - PROPOSED'!J83","v":50},{"$f":"'Coordination Timing - PROPOSED'!K83","v":"-"}]
[{"$f":"'Coordination Timing - EXISTING'!A114","v":"1-3"},{"$f":"'Coordination Timing - EXISTING'!B114","v":32},{"$f":"'Coordination Timing - EXISTING'!C114","v":35},{"$f":"'Coordination Timing - EXISTING'!D114","v":"-"},{"$f":"'Coordination Timing - EXISTING'!E114","v":33},{"$f":"'Coordination Timing - EXISTING'!F114","v":"-"},{"$f":"'Coordination Timing - EXISTING'!G114","v":67},{"$f":"'Coordination Timing - EXISTING'!H114","v":"-"},{"$f":"'Coordination Timing - EXISTING'!I114","v":"-"},{"$f":"'Coordination Timing - EXISTING'!J114","v":48},{"$f":"'Coordination Timing - EXISTING'!K114","v":"-"},null,{"$f":"'Coordination Timing - PROPOSED'!A84","v":"30 (PM)"},{"$f":"'Coordination Timing - PROPOSED'!B84","v":45},{"$f":"'Coordination Timing - PROPOSED'!C84","v":32},{"$f":"'Coordination Timing - PROPOSED'!D84","v":"-"},{"$f":"'Coordination Timing - PROPOSED'!E84","v":48},{"$f":"'Coordination Timing - PROPOSED'!F84","v":"-"},{"$f":"'Coordination Timing - PROPOSED'!G84","v":77},{"$f":"'Coordination Timing - PROPOSED'!H84","v":"-"},{"$f":"'Coordination Timing - PROPOSED'!I84","v":"-"},{"$f":"'Coordination Timing - PROPOSED'!J84","v":25},{"$f":"'Coordination Timing - PROPOSED'!K84","v":"-"}]
["-","-","-","-","-","-","-","-","-","-","-",null,{"$f":"'Coordination Timing - PROPOSED'!A85","v":"40 (OP)"},{"$f":"'Coordination Timing - PROPOSED'!B85","v":28},{"$f":"'Coordination Timing - PROPOSED'!C85","v":42},{"$f":"'Coordination Timing - PROPOSED'!D85","v":"-"},{"$f":"'Coordination Timing - PROPOSED'!E85","v":40},{"$f":"'Coordination Timing - PROPOSED'!F85","v":"-"},{"$f":"'Coordination Timing - PROPOSED'!G85","v":70},{"$f":"'Coordination Timing - PROPOSED'!H85","v":"-"},{"$f":"'Coordination Timing - PROPOSED'!I85","v":"-"},{"$f":"'Coordination Timing - PROPOSED'!J85","v":107},{"$f":"'Coordination Timing - PROPOSED'!K85","v":"-"}]
["-","-","-","-","-","-","-","-","-","-","-",null,{"$f":"'Coordination Timing - PROPOSED'!A86","v":"60 (WKEND)"},{"$f":"'Coordination Timing - PROPOSED'!B86","v":33},{"$f":"'Coordination Timing - PROPOSED'!C86","v":45},{"$f":"'Coordination Timing - PROPOSED'!D86","v":"-"},{"$f":"'Coordination Timing - PROPOSED'!E86","v":42},{"$f":"'Coordination Timing - PROPOSED'!F86","v":"-"},{"$f":"'Coordination Timing - PROPOSED'!G86","v":78},{"$f":"'Coordination Timing - PROPOSED'!H86","v":"-"},{"$f":"'Coordination Timing - PROPOSED'!I86","v":"-"},{"$f":"'Coordination Timing - PROPOSED'!J86","v":115},{"$f":"'Coordination Timing - PROPOSED'!K86","v":"-"}]
["-","-","-","-","-","-","-","-","-","-","-",null,{"$f":"'Coordination Timing - PROPOSED'!A87","v":"70 (HV-BAL)"},{"$f":"'Coordination Timing - PROPOSED'!B87","v":41},{"$f":"'Coordination Timing - PROPOSED'!C87","v":43},{"$f":"'Coordination Timing - PROPOSED'!D87","v":"-"},{"$f":"'Coordination Timing - PROPOSED'!E87","v":56},{"$f":"'Coordination Timing - PROPOSED'!F87","v":"-"},{"$f":"'Coordination Timing - PROPOSED'!G87","v":84},{"$f":"'Coordination Timing - PROPOSED'!H87","v":"-"},{"$f":"'Coordination Timing - PROPOSED'!I87","v":"-"},{"$f":"'Coordination Timing - PROPOSED'!J87","v":6},{"$f":"'Coordination Timing - PROPOSED'!K87","v":"-"}]
[{"$f":"'Coordination Timing - EXISTING'!A115","v":"-"},{"$f":"'Coordination Timing - EXISTING'!B115","v":"-"},{"$f":"'Coordination Timing - EXISTING'!C115","v":"-"},{"$f":"'Coordination Timing - EXISTING'!D115","v":"-"},{"$f":"'Coordination Timing - EXISTING'!E115","v":"-"},{"$f":"'Coordination Timing - EXISTING'!F115","v":"-"},{"$f":"'Coordination Timing - EXISTING'!G115","v":"-"},{"$f":"'Coordination Timing - EXISTING'!H115","v":"-"},{"$f":"'Coordination Timing - EXISTING'!I115","v":"-"},{"$f":"'Coordination Timing - EXISTING'!J115","v":"-"},{"$f":"'Coordination Timing - EXISTING'!K115","v":"-"},null,{"$f":"'Coordination Timing - PROPOSED'!A88","v":"71 (HV- NB & WB)"},{"$f":"'Coordination Timing - PROPOSED'!B88","v":41},{"$f":"'Coordination Timing - PROPOSED'!C88","v":43},{"$f":"'Coordination Timing - PROPOSED'!D88","v":"-"},{"$f":"'Coordination Timing - PROPOSED'!E88","v":56},{"$f":"'Coordination Timing - PROPOSED'!F88","v":"-"},{"$f":"'Coordination Timing - PROPOSED'!G88","v":84},{"$f":"'Coordination Timing - PROPOSED'!H88","v":"-"},{"$f":"'Coordination Timing - PROPOSED'!I88","v":"-"},{"$f":"'Coordination Timing - PROPOSED'!J88","v":133},{"$f":"'Coordination Timing - PROPOSED'!K88","v":"-"}]
[{"$f":"'Coordination Timing - EXISTING'!A116","v":"-"},{"$f":"'Coordination Timing - EXISTING'!B116","v":"-"},{"$f":"'Coordination Timing - EXISTING'!C116","v":"-"},{"$f":"'Coordination Timing - EXISTING'!D116","v":"-"},{"$f":"'Coordination Timing - EXISTING'!E116","v":"-"},{"$f":"'Coordination Timing - EXISTING'!F116","v":"-"},{"$f":"'Coordination Timing - EXISTING'!G116","v":"-"},{"$f":"'Coordination Timing - EXISTING'!H116","v":"-"},{"$f":"'Coordination Timing - EXISTING'!I116","v":"-"},{"$f":"'Coordination Timing - EXISTING'!J116","v":"-"},{"$f":"'Coordination Timing - EXISTING'!K116","v":"-"},null,{"$f":"'Coordination Timing - PROPOSED'!A89","v":"72 (HV-EB & SB)"},{"$f":"'Coordination Timing - PROPOSED'!B89","v":41},{"$f":"'Coordination Timing - PROPOSED'!C89","v":43},{"$f":"'Coordination Timing - PROPOSED'!D89","v":"-"},{"$f":"'Coordination Timing - PROPOSED'!E89","v":56},{"$f":"'Coordination Timing - PROPOSED'!F89","v":"-"},{"$f":"'Coordination Timing - PROPOSED'!G89","v":84},{"$f":"'Coordination Timing - PROPOSED'!H89","v":"-"},{"$f":"'Coordination Timing - PROPOSED'!I89","v":"-"},{"$f":"'Coordination Timing - PROPOSED'!J89","v":60},{"$f":"'Coordination Timing - PROPOSED'!K89","v":"-"}]
[]
["Detroit Rd & I-90 EB Ramps",null,null,null,null,null,null,null,null,null,null,null,"Detroit Rd & I-90 EB Ramps"]
["PHASE",1,2,3,4,5,6,7,8,"OFFSET 1 (SEC)","OFFSET 2 (SEC)",null,"PHASE",1,2,3,4,5,6,7,8,"OFFSET 1 (SEC)","OFFSET 2 (SEC)"]
["DIRECTION",{"$f":"'Coordination Timing - EXISTING'!B120","v":"-"},{"$f":"'Coordination Timing - EXISTING'!C120","v":"EBT"},{"$f":"'Coordination Timing - EXISTING'!D120","v":"-"},{"$f":"'Coordination Timing - EXISTING'!E120","v":"-"},{"$f":"'Coordination Timing - EXISTING'!F120","v":"EBL"},{"$f":"'Coordination Timing - EXISTING'!G120","v":"WBT"},{"$f":"'Coordination Timing - EXISTING'!H120","v":"-"},{"$f":"'Coordination Timing - EXISTING'!I120","v":"NBT"},null,null,null,"DIRECTION",{"$f":"'Coordination Timing - PROPOSED'!B93","v":"-"},{"$f":"'Coordination Timing - PROPOSED'!C93","v":"EBT"},{"$f":"'Coordination Timing - PROPOSED'!D93","v":"-"},{"$f":"'Coordination Timing - PROPOSED'!E93","v":"-"},{"$f":"'Coordination Timing - PROPOSED'!F93","v":"EBL"},{"$f":"'Coordination Timing - PROPOSED'!G93","v":"WBT"},{"$f":"'Coordination Timing - PROPOSED'!H93","v":"-"},{"$f":"'Coordination Timing - PROPOSED'!I93","v":"NBT"}]
["PLAN NO. OR C/S/O","SPLITS (G+Y+AR) IN SECONDS",null,null,null,null,null,null,null,null,null,null,"PLAN NO. OR C/S/O","SPLITS (G+Y+AR) IN SECONDS"]
[{"$f":"'Coordination Timing - EXISTING'!A122","v":"1-1"},{"$f":"'Coordination Timing - EXISTING'!B122","v":"-"},{"$f":"'Coordination Timing - EXISTING'!C122","v":60},{"$f":"'Coordination Timing - EXISTING'!D122","v":"-"},{"$f":"'Coordination Timing - EXISTING'!E122","v":"-"},{"$f":"'Coordination Timing - EXISTING'!F122","v":20},{"$f":"'Coordination Timing - EXISTING'!G122","v":40},{"$f":"'Coordination Timing - EXISTING'!H122","v":"-"},{"$f":"'Coordination Timing - EXISTING'!I122","v":30},{"$f":"'Coordination Timing - EXISTING'!J122","v":5},{"$f":"'Coordination Timing - EXISTING'!K122","v":"-"},null,{"$f":"'Coordination Timing - PROPOSED'!A95","v":"10 (AM)"},{"$f":"'Coordination Timing - PROPOSED'!B95","v":"-"},{"$f":"'Coordination Timing - PROPOSED'!C95","v":82},{"$f":"'Coordination Timing - PROPOSED'!D95","v":"-"},{"$f":"'Coordination Timing - PROPOSED'!E95","v":"-"},{"$f":"'Coordination Timing - PROPOSED'!F95","v":29},{"$f":"'Coordination Timing - PROPOSED'!G95","v":53},{"$f":"'Coordination Timing - PROPOSED'!H95","v":"-"},{"$f":"'Coordination Timing - PROPOSED'!I95","v":33},{"$f":"'Coordination Timing - PROPOSED'!J95","v":0},{"$f":"'Coordination Timing - PROPOSED'!K95","v":"-"}]
[{"$f":"'Coordination Timing - EXISTING'!A123","v":"1-2"},{"$f":"'Coordination Timing - EXISTING'!B123","v":"-"},{"$f":"'Coordination Timing - EXISTING'!C123","v":68},{"$f":"'Coordination Timing - EXISTING'!D123","v":"-"},{"$f":"'Coordination Timing - EXISTING'!E123","v":"-"},{"$f":"'Coordination Timing - EXISTING'!F123","v":18},{"$f":"'Coordination Timing - EXISTING'!G123","v":50},{"$f":"'Coordination Timing - EXISTING'!H123","v":"-"},{"$f":"'Coordination Timing - EXISTING'!I123","v":32},{"$f":"'Coordination Timing - EXISTING'!J123","v":14},{"$f":"'Coordination Timing - EXISTING'!K123","v":"-"},null,{"$f":"'Coordination Timing - PROPOSED'!A96","v":"20 (MD)"},{"$f":"'Coordination Timing - PROPOSED'!B96","v":"-"},{"$f":"'Coordination Timing - PROPOSED'!C96","v":82},{"$f":"'Coordination Timing - PROPOSED'!D96","v":"-"},{"$f":"'Coordination Timing - PROPOSED'!E96","v":"-"},{"$f":"'Coordination Timing - PROPOSED'!F96","v":24},{"$f":"'Coordination Timing - PROPOSED'!G96","v":58},{"$f":"'Coordination Timing - PROPOSED'!H96","v":"-"},{"$f":"'Coordination Timing - PROPOSED'!I96","v":38},{"$f":"'Coordination Timing - PROPOSED'!J96","v":13},{"$f":"'Coordination Timing - PROPOSED'!K96","v":"-"}]
[{"$f":"'Coordination Timing - EXISTING'!A124","v":"1-3"},{"$f":"'Coordination Timing - EXISTING'!B124","v":"-"},{"$f":"'Coordination Timing - EXISTING'!C124","v":69},{"$f":"'Coordination Timing - EXISTING'!D124","v":"-"},{"$f":"'Coordination Timing - EXISTING'!E124","v":"-"},{"$f":"'Coordination Timing - EXISTING'!F124","v":18},{"$f":"'Coordination Timing - EXISTING'!G124","v":51},{"$f":"'Coordination Timing - EXISTING'!H124","v":"-"},{"$f":"'Coordination Timing - EXISTING'!I124","v":31},{"$f":"'Coordination Timing - EXISTING'!J124","v":12},{"$f":"'Coordination Timing - EXISTING'!K124","v":"-"},null,{"$f":"'Coordination Timing - PROPOSED'!A97","v":"30 (PM)"},{"$f":"'Coordination Timing - PROPOSED'!B97","v":"-"},{"$f":"'Coordination Timing - PROPOSED'!C97","v":85},{"$f":"'Coordination Timing - PROPOSED'!D97","v":"-"},{"$f":"'Coordination Timing - PROPOSED'!E97","v":"-"},{"$f":"'Coordination Timing - PROPOSED'!F97","v":27},{"$f":"'Coordination Timing - PROPOSED'!G97","v":58},{"$f":"'Coordination Timing - PROPOSED'!H97","v":"-"},{"$f":"'Coordination Timing - PROPOSED'!I97","v":40},{"$f":"'Coordination Timing - PROPOSED'!J97","v":96},{"$f":"'Coordination Timing - PROPOSED'!K97","v":"-"}]
["-","-","-","-","-","-","-","-","-","-","-",null,{"$f":"'Coordination Timing - PROPOSED'!A98","v":"40 (OP)"},{"$f":"'Coordination Timing - PROPOSED'!B98","v":"-"},{"$f":"'Coordination Timing - PROPOSED'!C98","v":79},{"$f":"'Coordination Timing - PROPOSED'!D98","v":"-"},{"$f":"'Coordination Timing - PROPOSED'!E98","v":"-"},{"$f":"'Coordination Timing - PROPOSED'!F98","v":23},{"$f":"'Coordination Timing - PROPOSED'!G98","v":56},{"$f":"'Coordination Timing - PROPOSED'!H98","v":"-"},{"$f":"'Coordination Timing - PROPOSED'!I98","v":31},{"$f":"'Coordination Timing - PROPOSED'!J98","v":4},{"$f":"'Coordination Timing - PROPOSED'!K98","v":"-"}]
["-","-","-","-","-","-","-","-","-","-","-",null,{"$f":"'Coordination Timing - PROPOSED'!A99","v":"60 (WKEND)"},{"$f":"'Coordination Timing - PROPOSED'!B99","v":"-"},{"$f":"'Coordination Timing - PROPOSED'!C99","v":87},{"$f":"'Coordination Timing - PROPOSED'!D99","v":"-"},{"$f":"'Coordination Timing - PROPOSED'!E99","v":"-"},{"$f":"'Coordination Timing - PROPOSED'!F99","v":28},{"$f":"'Coordination Timing - PROPOSED'!G99","v":59},{"$f":"'Coordination Timing - PROPOSED'!H99","v":"-"},{"$f":"'Coordination Timing - PROPOSED'!I99","v":33},{"$f":"'Coordination Timing - PROPOSED'!J99","v":119},{"$f":"'Coordination Timing - PROPOSED'!K99","v":"-"}]
["-","-","-","-","-","-","-","-","-","-","-",null,{"$f":"'Coordination Timing - PROPOSED'!A100","v":"70 (HV-BAL)"},{"$f":"'Coordination Timing - PROPOSED'!B100","v":"-"},{"$f":"'Coordination Timing - PROPOSED'!C100","v":104},{"$f":"'Coordination Timing - PROPOSED'!D100","v":"-"},{"$f":"'Coordination Timing - PROPOSED'!E100","v":"-"},{"$f":"'Coordination Timing - PROPOSED'!F100","v":27},{"$f":"'Coordination Timing - PROPOSED'!G100","v":77},{"$f":"'Coordination Timing - PROPOSED'!H100","v":"-"},{"$f":"'Coordination Timing - PROPOSED'!I100","v":36},{"$f":"'Coordination Timing - PROPOSED'!J100","v":134},{"$f":"'Coordination Timing - PROPOSED'!K100","v":"-"}]
[{"$f":"'Coordination Timing - EXISTING'!A125","v":"-"},{"$f":"'Coordination Timing - EXISTING'!B125","v":"-"},{"$f":"'Coordination Timing - EXISTING'!C125","v":"-"},{"$f":"'Coordination Timing - EXISTING'!D125","v":"-"},{"$f":"'Coordination Timing - EXISTING'!E125","v":"-"},{"$f":"'Coordination Timing - EXISTING'!F125","v":"-"},{"$f":"'Coordination Timing - EXISTING'!G125","v":"-"},{"$f":"'Coordination Timing - EXISTING'!H125","v":"-"},{"$f":"'Coordination Timing - EXISTING'!I125","v":"-"},{"$f":"'Coordination Timing - EXISTING'!J125","v":"-"},{"$f":"'Coordination Timing - EXISTING'!K125","v":"-"},null,{"$f":"'Coordination Timing - PROPOSED'!A101","v":"71 (HV- NB & WB)"},{"$f":"'Coordination Timing - PROPOSED'!B101","v":"-"},{"$f":"'Coordination Timing - PROPOSED'!C101","v":104},{"$f":"'Coordination Timing - PROPOSED'!D101","v":"-"},{"$f":"'Coordination Timing - PROPOSED'!E101","v":"-"},{"$f":"'Coordination Timing - PROPOSED'!F101","v":27},{"$f":"'Coordination Timing - PROPOSED'!G101","v":77},{"$f":"'Coordination Timing - PROPOSED'!H101","v":"-"},{"$f":"'Coordination Timing - PROPOSED'!I101","v":36},{"$f":"'Coordination Timing - PROPOSED'!J101","v":107},{"$f":"'Coordination Timing - PROPOSED'!K101","v":"-"}]
[{"$f":"'Coordination Timing - EXISTING'!A126","v":"-"},{"$f":"'Coordination Timing - EXISTING'!B126","v":"-"},{"$f":"'Coordination Timing - EXISTING'!C126","v":"-"},{"$f":"'Coordination Timing - EXISTING'!D126","v":"-"},{"$f":"'Coordination Timing - EXISTING'!E126","v":"-"},{"$f":"'Coordination Timing - EXISTING'!F126","v":"-"},{"$f":"'Coordination Timing - EXISTING'!G126","v":"-"},{"$f":"'Coordination Timing - EXISTING'!H126","v":"-"},{"$f":"'Coordination Timing - EXISTING'!I126","v":"-"},{"$f":"'Coordination Timing - EXISTING'!J126","v":"-"},{"$f":"'Coordination Timing - EXISTING'!K126","v":"-"},null,{"$f":"'Coordination Timing - PROPOSED'!A102","v":"72 (HV-EB & SB)"},{"$f":"'Coordination Timing - PROPOSED'!B102","v":"-"},{"$f":"'Coordination Timing - PROPOSED'!C102","v":104},{"$f":"'Coordination Timing - PROPOSED'!D102","v":"-"},{"$f":"'Coordination Timing - PROPOSED'!E102","v":"-"},{"$f":"'Coordination Timing - PROPOSED'!F102","v":27},{"$f":"'Coordination Timing - PROPOSED'!G102","v":77},{"$f":"'Coordination Timing - PROPOSED'!H102","v":"-"},{"$f":"'Coordination Timing - PROPOSED'!I102","v":36},{"$f":"'Coordination Timing - PROPOSED'!J102","v":4},{"$f":"'Coordination Timing - PROPOSED'!K102","v":"-"}]
[]
[null,null,null,null,null,null,null,null,"EXISTING TIMING",null,null,null,null,null,null,null,null,null,null,null,"PROPOSED TIMING"]
[]
["Detroit Rd & Sheffield Crossing",null,null,null,null,null,null,null,null,null,null,null,"Detroit Rd & Sheffield Crossing"]
["PHASE",1,2,3,4,5,6,7,8,"OFFSET 1 (SEC)","OFFSET 2 (SEC)",null,"PHASE",1,2,3,4,5,6,7,8,"OFFSET 1 (SEC)","OFFSET 2 (SEC)"]
["DIRECTION",{"$f":"'Coordination Timing - EXISTING'!B130","v":"WBL"},{"$f":"'Coordination Timing - EXISTING'!C130","v":"EBT"},{"$f":"'Coordination Timing - EXISTING'!D130","v":"-"},{"$f":"'Coordination Timing - EXISTING'!E130","v":"SBT"},{"$f":"'Coordination Timing - EXISTING'!F130","v":"EBL"},{"$f":"'Coordination Timing - EXISTING'!G130","v":"WB"},{"$f":"'Coordination Timing - EXISTING'!H130","v":"-"},{"$f":"'Coordination Timing - EXISTING'!I130","v":"NB"},null,null,null,"DIRECTION",{"$f":"'Coordination Timing - PROPOSED'!B106","v":"WBL"},{"$f":"'Coordination Timing - PROPOSED'!C106","v":"EBT"},{"$f":"'Coordination Timing - PROPOSED'!D106","v":"-"},{"$f":"'Coordination Timing - PROPOSED'!E106","v":"SBT"},{"$f":"'Coordination Timing - PROPOSED'!F106","v":"EBL"},{"$f":"'Coordination Timing - PROPOSED'!G106","v":"WB"},{"$f":"'Coordination Timing - PROPOSED'!H106","v":"-"},{"$f":"'Coordination Timing - PROPOSED'!I106","v":"NB"}]
["PLAN NO. OR C/S/O","SPLITS (G+Y+AR) IN SECONDS",null,null,null,null,null,null,null,null,null,null,"PLAN NO. OR C/S/O","SPLITS (G+Y+AR) IN SECONDS"]
[{"$f":"'Coordination Timing - EXISTING'!A132","v":"1-1"},{"$f":"'Coordination Timing - EXISTING'!B132","v":16},{"$f":"'Coordination Timing - EXISTING'!C132","v":43},{"$f":"'Coordination Timing - EXISTING'!D132","v":"-"},{"$f":"'Coordination Timing - EXISTING'!E132","v":31},{"$f":"'Coordination Timing - EXISTING'!F132","v":17},{"$f":"'Coordination Timing - EXISTING'!G132","v":42},{"$f":"'Coordination Timing - EXISTING'!H132","v":"-"},{"$f":"'Coordination Timing - EXISTING'!I132","v":31},{"$f":"'Coordination Timing - EXISTING'!J132","v":2},{"$f":"'Coordination Timing - EXISTING'!K132","v":"-"},null,{"$f":"'Coordination Timing - PROPOSED'!A108","v":"10 (AM)"},{"$f":"'Coordination Timing - PROPOSED'!B108","v":18},{"$f":"'Coordination Timing - PROPOSED'!C108","v":63},{"$f":"'Coordination Timing - PROPOSED'!D108","v":"-"},{"$f":"'Coordination Timing - PROPOSED'!E108","v":34},{"$f":"'Coordination Timing - PROPOSED'!F108","v":18},{"$f":"'Coordination Timing - PROPOSED'!G108","v":63},{"$f":"'Coordination Timing - PROPOSED'!H108","v":"-"},{"$f":"'Coordination Timing - PROPOSED'!I108","v":34},{"$f":"'Coordination Timing - PROPOSED'!J108","v":0},{"$f":"'Coordination Timing - PROPOSED'!K108","v":"-"}]
[{"$f":"'Coordination Timing - EXISTING'!A133","v":"1-2"},{"$f":"'Coordination Timing - EXISTING'!B133","v":14},{"$f":"'Coordination Timing - EXISTING'!C133","v":47},{"$f":"'Coordination Timing - EXISTING'!D133","v":"-"},{"$f":"'Coordination Timing - EXISTING'!E133","v":39},{"$f":"'Coordination Timing - EXISTING'!F133","v":20},{"$f":"'Coordination Timing - EXISTING'!G133","v":41},{"$f":"'Coordination Timing - EXISTING'!H133","v":"-"},{"$f":"'Coordination Timing - EXISTING'!I133","v":39},{"$f":"'Coordination Timing - EXISTING'!J133","v":2},{"$f":"'Coordination Timing - EXISTING'!K133","v":"-"},null,{"$f":"'Coordination Timing - PROPOSED'!A109","v":"20 (MD)"},{"$f":"'Coordination Timing - PROPOSED'!B109","v":14},{"$f":"'Coordination Timing - PROPOSED'!C109","v":61},{"$f":"'Coordination Timing - PROPOSED'!D109","v":"-"},{"$f":"'Coordination Timing - PROPOSED'!E109","v":45},{"$f":"'Coordination Timing - PROPOSED'!F109","v":21},{"$f":"'Coordination Timing - PROPOSED'!G109","v":54},{"$f":"'Coordination Timing - PROPOSED'!H109","v":"-"},{"$f":"'Coordination Timing - PROPOSED'!I109","v":45},{"$f":"'Coordination Timing - PROPOSED'!J109","v":101},{"$f":"'Coordination Timing - PROPOSED'!K109","v":"-"}]
[{"$f":"'Coordination Timing - EXISTING'!A134","v":"1-3"},{"$f":"'Coordination Timing - EXISTING'!B134","v":14},{"$f":"'Coordination Timing - EXISTING'!C134","v":56},{"$f":"'Coordination Timing - EXISTING'!D134","v":"-"},{"$f":"'Coordination Timing - EXISTING'!E134","v":30},{"$f":"'Coordination Timing - EXISTING'!F134","v":18},{"$f":"'Coordination Timing - EXISTING'!G134","v":52},{"$f":"'Coordination Timing - EXISTING'!H134","v":"-"},{"$f":"'Coordination Timing - EXISTING'!I134","v":30},{"$f":"'Coordination Timing - EXISTING'!J134","v":38},{"$f":"'Coordination Timing - EXISTING'!K134","v":"-"},null,{"$f":"'Coordination Timing - PROPOSED'!A110","v":"30 (PM)"},{"$f":"'Coordination Timing - PROPOSED'!B110","v":15},{"$f":"'Coordination Timing - PROPOSED'!C110","v":71},{"$f":"'Coordination Timing - PROPOSED'!D110","v":"-"},{"$f":"'Coordination Timing - PROPOSED'!E110","v":39},{"$f":"'Coordination Timing - PROPOSED'!F110","v":21},{"$f":"'Coordination Timing - PROPOSED'!G110","v":65},{"$f":"'Coordination Timing - PROPOSED'!H110","v":"-"},{"$f":"'Coordination Timing - PROPOSED'!I110","v":39},{"$f":"'Coordination Timing - PROPOSED'!J110","v":97},{"$f":"'Coordination Timing - PROPOSED'!K110","v":"-"}]
["-","-","-","-","-","-","-","-","-","-","-",null,{"$f":"'Coordination Timing - PROPOSED'!A111","v":"40 (OP)"},{"$f":"'Coordination Timing - PROPOSED'!B111","v":15},{"$f":"'Coordination Timing - PROPOSED'!C111","v":55},{"$f":"'Coordination Timing - PROPOSED'!D111","v":"-"},{"$f":"'Coordination Timing - PROPOSED'!E111","v":40},{"$f":"'Coordination Timing - PROPOSED'!F111","v":19},{"$f":"'Coordination Timing - PROPOSED'!G111","v":51},{"$f":"'Coordination Timing - PROPOSED'!H111","v":"-"},{"$f":"'Coordination Timing - PROPOSED'!I111","v":40},{"$f":"'Coordination Timing - PROPOSED'!J111","v":98},{"$f":"'Coordination Timing - PROPOSED'!K111","v":"-"}]
["-","-","-","-","-","-","-","-","-","-","-",null,{"$f":"'Coordination Timing - PROPOSED'!A112","v":"60 (WKEND)"},{"$f":"'Coordination Timing - PROPOSED'!B112","v":15},{"$f":"'Coordination Timing - PROPOSED'!C112","v":60},{"$f":"'Coordination Timing - PROPOSED'!D112","v":"-"},{"$f":"'Coordination Timing - PROPOSED'!E112","v":45},{"$f":"'Coordination Timing - PROPOSED'!F112","v":22},{"$f":"'Coordination Timing - PROPOSED'!G112","v":53},{"$f":"'Coordination Timing - PROPOSED'!H112","v":"-"},{"$f":"'Coordination Timing - PROPOSED'!I112","v":45},{"$f":"'Coordination Timing - PROPOSED'!J112","v":105},{"$f":"'Coordination Timing - PROPOSED'!K112","v":"-"}]
["-","-","-","-","-","-","-","-","-","-","-",null,{"$f":"'Coordination Timing - PROPOSED'!A113","v":"70 (HV-BAL)"},{"$f":"'Coordination Timing - PROPOSED'!B113","v":14},{"$f":"'Coordination Timing - PROPOSED'!C113","v":82},{"$f":"'Coordination Timing - PROPOSED'!D113","v":"-"},{"$f":"'Coordination Timing - PROPOSED'!E113","v":44},{"$f":"'Coordination Timing - PROPOSED'!F113","v":18},{"$f":"'Coordination Timing - PROPOSED'!G113","v":78},{"$f":"'Coordination Timing - PROPOSED'!H113","v":"-"},{"$f":"'Coordination Timing - PROPOSED'!I113","v":44},{"$f":"'Coordination Timing - PROPOSED'!J113","v":4},{"$f":"'Coordination Timing - PROPOSED'!K113","v":"-"}]
[{"$f":"'Coordination Timing - EXISTING'!A135","v":"-"},{"$f":"'Coordination Timing - EXISTING'!B135","v":"-"},{"$f":"'Coordination Timing - EXISTING'!C135","v":"-"},{"$f":"'Coordination Timing - EXISTING'!D135","v":"-"},{"$f":"'Coordination Timing - EXISTING'!E135","v":"-"},{"$f":"'Coordination Timing - EXISTING'!F135","v":"-"},{"$f":"'Coordination Timing - EXISTING'!G135","v":"-"},{"$f":"'Coordination Timing - EXISTING'!H135","v":"-"},{"$f":"'Coordination Timing - EXISTING'!I135","v":"-"},{"$f":"'Coordination Timing - EXISTING'!J135","v":"-"},{"$f":"'Coordination Timing - EXISTING'!K135","v":"-"},null,{"$f":"'Coordination Timing - PROPOSED'!A114","v":"71 (HV- NB & WB)"},{"$f":"'Coordination Timing - PROPOSED'!B114","v":14},{"$f":"'Coordination Timing - PROPOSED'!C114","v":82},{"$f":"'Coordination Timing - PROPOSED'!D114","v":"-"},{"$f":"'Coordination Timing - PROPOSED'!E114","v":44},{"$f":"'Coordination Timing - PROPOSED'!F114","v":18},{"$f":"'Coordination Timing - PROPOSED'!G114","v":78},{"$f":"'Coordination Timing - PROPOSED'!H114","v":"-"},{"$f":"'Coordination Timing - PROPOSED'!I114","v":44},{"$f":"'Coordination Timing - PROPOSED'!J114","v":104},{"$f":"'Coordination Timing - PROPOSED'!K114","v":"-"}]
[{"$f":"'Coordination Timing - EXISTING'!A136","v":"-"},{"$f":"'Coordination Timing - EXISTING'!B136","v":"-"},{"$f":"'Coordination Timing - EXISTING'!C136","v":"-"},{"$f":"'Coordination Timing - EXISTING'!D136","v":"-"},{"$f":"'Coordination Timing - EXISTING'!E136","v":"-"},{"$f":"'Coordination Timing - EXISTING'!F136","v":"-"},{"$f":"'Coordination Timing - EXISTING'!G136","v":"-"},{"$f":"'Coordination Timing - EXISTING'!H136","v":"-"},{"$f":"'Coordination Timing - EXISTING'!I136","v":"-"},{"$f":"'Coordination Timing - EXISTING'!J136","v":"-"},{"$f":"'Coordination Timing - EXISTING'!K136","v":"-"},null,{"$f":"'Coordination Timing - PROPOSED'!A115","v":"72 (HV-EB & SB)"},{"$f":"'Coordination Timing - PROPOSED'!B115","v":14},{"$f":"'Coordination Timing - PROPOSED'!C115","v":82},{"$f":"'Coordination Timing - PROPOSED'!D115","v":"-"},{"$f":"'Coordination Timing - PROPOSED'!E115","v":44},{"$f":"'Coordination Timing - PROPOSED'!F115","v":18},{"$f":"'Coordination Timing - PROPOSED'!G115","v":78},{"$f":"'Coordination Timing - PROPOSED'!H115","v":"-"},{"$f":"'Coordination Timing - PROPOSED'!I115","v":44},{"$f":"'Coordination Timing - PROPOSED'!J115","v":5},{"$f":"'Coordination Timing - PROPOSED'!K115","v":"-"}]
[]
["Detroit Rd & Abbe Rd",null,null,null,null,null,null,null,null,null,null,null,"Detroit Rd & Abbe Rd"]
["PHASE",1,2,3,4,5,6,7,8,"OFFSET 1 (SEC)","OFFSET 2 (SEC)",null,"PHASE",1,2,3,4,5,6,7,8,"OFFSET 1 (SEC)","OFFSET 2 (SEC)"]
["DIRECTION",{"$f":"'Coordination Timing - EXISTING'!B140","v":"WBL"},{"$f":"'Coordination Timing - EXISTING'!C140","v":"EBT"},{"$f":"'Coordination Timing - EXISTING'!D140","v":"NBL"},{"$f":"'Coordination Timing - EXISTING'!E140","v":"SBT"},{"$f":"'Coordination Timing - EXISTING'!F140","v":"EBL"},{"$f":"'Coordination Timing - EXISTING'!G140","v":"WBT"},{"$f":"'Coordination Timing - EXISTING'!H140","v":"SBL"},{"$f":"'Coordination Timing - EXISTING'!I140","v":"NBT"},null,null,null,"DIRECTION",{"$f":"'Coordination Timing - PROPOSED'!B119","v":"WBL"},{"$f":"'Coordination Timing - PROPOSED'!C119","v":"EBT"},{"$f":"'Coordination Timing - PROPOSED'!D119","v":"NBL"},{"$f":"'Coordination Timing - PROPOSED'!E119","v":"SBT"},{"$f":"'Coordination Timing - PROPOSED'!F119","v":"EBL"},{"$f":"'Coordination Timing - PROPOSED'!G119","v":"WBT"},{"$f":"'Coordination Timing - PROPOSED'!H119","v":"SBL"},{"$f":"'Coordination Timing - PROPOSED'!I119","v":"NBT"}]
["PLAN NO. OR C/S/O","SPLITS (G+Y+AR) IN SECONDS",null,null,null,null,null,null,null,null,null,null,"PLAN NO. OR C/S/O","SPLITS (G+Y+AR) IN SECONDS"]
[{"$f":"'Coordination Timing - EXISTING'!A142","v":"1-1"},{"$f":"'Coordination Timing - EXISTING'!B142","v":20},{"$f":"'Coordination Timing - EXISTING'!C142","v":54},{"$f":"'Coordination Timing - EXISTING'!D142","v":18},{"$f":"'Coordination Timing - EXISTING'!E142","v":38},{"$f":"'Coordination Timing - EXISTING'!F142","v":20},{"$f":"'Coordination Timing - EXISTING'!G142","v":54},{"$f":"'Coordination Timing - EXISTING'!H142","v":16},{"$f":"'Coordination Timing - EXISTING'!I142","v":40},{"$f":"'Coordination Timing - EXISTING'!J142","v":0},{"$f":"'Coordination Timing - EXISTING'!K142","v":"-"},null,{"$f":"'Coordination Timing - PROPOSED'!A121","v":"10 (AM)"},{"$f":"'Coordination Timing - PROPOSED'!B121","v":18},{"$f":"'Coordination Timing - PROPOSED'!C121","v":47},{"$f":"'Coordination Timing - PROPOSED'!D121","v":29},{"$f":"'Coordination Timing - PROPOSED'!E121","v":21},{"$f":"'Coordination Timing - PROPOSED'!F121","v":19},{"$f":"'Coordination Timing - PROPOSED'!G121","v":46},{"$f":"'Coordination Timing - PROPOSED'!H121","v":16},{"$f":"'Coordination Timing - PROPOSED'!I121","v":34},{"$f":"'Coordination Timing - PROPOSED'!J121","v":0},{"$f":"'Coordination Timing - PROPOSED'!K121","v":"-"}]
[{"$f":"'Coordination Timing - EXISTING'!A143","v":"1-2"},{"$f":"'Coordination Timing - EXISTING'!B143","v":15},{"$f":"'Coordination Timing - EXISTING'!C143","v":45},{"$f":"'Coordination Timing - EXISTING'!D143","v":23},{"$f":"'Coordination Timing - EXISTING'!E143","v":17},{"$f":"'Coordination Timing - EXISTING'!F143","v":15},{"$f":"'Coordination Timing - EXISTING'!G143","v":45},{"$f":"'Coordination Timing - EXISTING'!H143","v":14},{"$f":"'Coordination Timing - EXISTING'!I143","v":26},{"$f":"'Coordination Timing - EXISTING'!J143","v":0},{"$f":"'Coordination Timing - EXISTING'!K143","v":"-"},null,{"$f":"'Coordination Timing - PROPOSED'!A122","v":"20 (MD)"},{"$f":"'Coordination Timing - PROPOSED'!B122","v":18},{"$f":"'Coordination Timing - PROPOSED'!C122","v":47},{"$f":"'Coordination Timing - PROPOSED'!D122","v":34},{"$f":"'Coordination Timing - PROPOSED'!E122","v":21},{"$f":"'Coordination Timing - PROPOSED'!F122","v":18},{"$f":"'Coordination Timing - PROPOSED'!G122","v":47},{"$f":"'Coordination Timing - PROPOSED'!H122","v":19},{"$f":"'Coordination Timing - PROPOSED'!I122","v":36},{"$f":"'Coordination Timing - PROPOSED'!J122","v":0},{"$f":"'Coordination Timing - PROPOSED'!K122","v":"-"}]
[{"$f":"'Coordination Timing - EXISTING'!A144","v":"1-3"},{"$f":"'Coordination Timing - EXISTING'!B144","v":15},{"$f":"'Coordination Timing - EXISTING'!C144","v":45},{"$f":"'Coordination Timing - EXISTING'!D144","v":23},{"$f":"'Coordination Timing - EXISTING'!E144","v":17},{"$f":"'Coordination Timing - EXISTING'!F144","v":15},{"$f":"'Coordination Timing - EXISTING'!G144","v":45},{"$f":"'Coordination Timing - EXISTING'!H144","v":14},{"$f":"'Coordination Timing - EXISTING'!I144","v":26},{"$f":"'Coordination Timing - EXISTING'!J144","v":0},{"$f":"'Coordination Timing - EXISTING'!K144","v":"-"},null,{"$f":"'Coordination Timing - PROPOSED'!A123","v":"30 (PM)"},{"$f":"'Coordination Timing - PROPOSED'!B123","v":20},{"$f":"'Coordination Timing - PROPOSED'!C123","v":47},{"$f":"'Coordination Timing - PROPOSED'!D123","v":37},{"$f":"'Coordination Timing - PROPOSED'!E123","v":21},{"$f":"'Coordination Timing - PROPOSED'!F123","v":20},{"$f":"'Coordination Timing - PROPOSED'!G123","v":47},{"$f":"'Coordination Timing - PROPOSED'!H123","v":17},{"$f":"'Coordination Timing - PROPOSED'!I123","v":41},{"$f":"'Coordination Timing - PROPOSED'!J123","v":17},{"$f":"'Coordination Timing - PROPOSED'!K123","v":"-"}]
["-","-","-","-","-","-","-","-","-","-","-",null,{"$f":"'Coordination Timing - PROPOSED'!A124","v":"40 (OP)"},{"$f":"'Coordination Timing - PROPOSED'!B124","v":16},{"$f":"'Coordination Timing - PROPOSED'!C124","v":47},{"$f":"'Coordination Timing - PROPOSED'!D124","v":27},{"$f":"'Coordination Timing - PROPOSED'!E124","v":20},{"$f":"'Coordination Timing - PROPOSED'!F124","v":16},{"$f":"'Coordination Timing - PROPOSED'!G124","v":47},{"$f":"'Coordination Timing - PROPOSED'!H124","v":17},{"$f":"'Coordination Timing - PROPOSED'!I124","v":30},{"$f":"'Coordination Timing - PROPOSED'!J124","v":0},{"$f":"'Coordination Timing - PROPOSED'!K124","v":"-"}]
["-","-","-","-","-","-","-","-","-","-","-",null,{"$f":"'Coordination Timing - PROPOSED'!A125","v":"60 (WKEND)"},{"$f":"'Coordination Timing - PROPOSED'!B125","v":20},{"$f":"'Coordination Timing - PROPOSED'!C125","v":47},{"$f":"'Coordination Timing - PROPOSED'!D125","v":32},{"$f":"'Coordination Timing - PROPOSED'!E125","v":21},{"$f":"'Coordination Timing - PROPOSED'!F125","v":18},{"$f":"'Coordination Timing - PROPOSED'!G125","v":49},{"$f":"'Coordination Timing - PROPOSED'!H125","v":20},{"$f":"'Coordination Timing - PROPOSED'!I125","v":33},{"$f":"'Coordination Timing - PROPOSED'!J125","v":29},{"$f":"'Coordination Timing - PROPOSED'!K125","v":"-"}]
["-","-","-","-","-","-","-","-","-","-","-",null,{"$f":"'Coordination Timing - PROPOSED'!A126","v":"70 (HV-BAL)"},{"$f":"'Coordination Timing - PROPOSED'!B126","v":23},{"$f":"'Coordination Timing - PROPOSED'!C126","v":47},{"$f":"'Coordination Timing - PROPOSED'!D126","v":48},{"$f":"'Coordination Timing - PROPOSED'!E126","v":22},{"$f":"'Coordination Timing - PROPOSED'!F126","v":30},{"$f":"'Coordination Timing - PROPOSED'!G126","v":40},{"$f":"'Coordination Timing - PROPOSED'!H126","v":22},{"$f":"'Coordination Timing - PROPOSED'!I126","v":48},{"$f":"'Coordination Timing - PROPOSED'!J126","v":0},{"$f":"'Coordination Timing - PROPOSED'!K126","v":"-"}]
[{"$f":"'Coordination Timing - EXISTING'!A145","v":"-"},{"$f":"'Coordination Timing - EXISTING'!B145","v":"-"},{"$f":"'Coordination Timing - EXISTING'!C145","v":"-"},{"$f":"'Coordination Timing - EXISTING'!D145","v":"-"},{"$f":"'Coordination Timing - EXISTING'!E145","v":"-"},{"$f":"'Coordination Timing - EXISTING'!F145","v":"-"},{"$f":"'Coordination Timing - EXISTING'!G145","v":"-"},{"$f":"'Coordination Timing - EXISTING'!H145","v":"-"},{"$f":"'Coordination Timing - EXISTING'!I145","v":"-"},{"$f":"'Coordination Timing - EXISTING'!J145","v":"-"},{"$f":"'Coordination Timing - EXISTING'!K145","v":"-"},null,{"$f":"'Coordination Timing - PROPOSED'!A127","v":"71 (HV- NB & WB)"},{"$f":"'Coordination Timing - PROPOSED'!B127","v":23},{"$f":"'Coordination Timing - PROPOSED'!C127","v":47},{"$f":"'Coordination Timing - PROPOSED'!D127","v":48},{"$f":"'Coordination Timing - PROPOSED'!E127","v":22},{"$f":"'Coordination Timing - PROPOSED'!F127","v":27},{"$f":"'Coordination Timing - PROPOSED'!G127","v":43},{"$f":"'Coordination Timing - PROPOSED'!H127","v":22},{"$f":"'Coordination Timing - PROPOSED'!I127","v":48},{"$f":"'Coordination Timing - PROPOSED'!J127","v":0},{"$f":"'Coordination Timing - PROPOSED'!K127","v":"-"}]
[{"$f":"'Coordination Timing - EXISTING'!A146","v":"-"},{"$f":"'Coordination Timing - EXISTING'!B146","v":"-"},{"$f":"'Coordination Timing - EXISTING'!C146","v":"-"},{"$f":"'Coordination Timing - EXISTING'!D146","v":"-"},{"$f":"'Coordination Timing - EXISTING'!E146","v":"-"},{"$f":"'Coordination Timing - EXISTING'!F146","v":"-"},{"$f":"'Coordination Timing - EXISTING'!G146","v":"-"},{"$f":"'Coordination Timing - EXISTING'!H146","v":"-"},{"$f":"'Coordination Timing - EXISTING'!I146","v":"-"},{"$f":"'Coordination Timing - EXISTING'!J146","v":"-"},{"$f":"'Coordination Timing - EXISTING'!K146","v":"-"},null,{"$f":"'Coordination Timing - PROPOSED'!A128","v":"72 (HV-EB & SB)"},{"$f":"'Coordination Timing - PROPOSED'!B128","v":23},{"$f":"'Coordination Timing - PROPOSED'!C128","v":47},{"$f":"'Coordination Timing - PROPOSED'!D128","v":48},{"$f":"'Coordination Timing - PROPOSED'!E128","v":22},{"$f":"'Coordination Timing - PROPOSED'!F128","v":30},{"$f":"'Coordination Timing - PROPOSED'!G128","v":40},{"$f":"'Coordination Timing - PROPOSED'!H128","v":22},{"$f":"'Coordination Timing - PROPOSED'!I128","v":48},{"$f":"'Coordination Timing - PROPOSED'!J128","v":0},{"$f":"'Coordination Timing - PROPOSED'!K128","v":"-"}]
[]
["Abbe Rd & Hoag Dr",null,null,null,null,null,null,null,null,null,null,null,"Abbe Rd & Hoag Dr"]
["PHASE",1,2,3,4,5,6,7,8,"OFFSET 1 (SEC)","OFFSET 2 (SEC)",null,"PHASE",1,2,3,4,5,6,7,8,"OFFSET 1 (SEC)","OFFSET 2 (SEC)"]
["DIRECTION",{"$f":"'Coordination Timing - EXISTING'!B150","v":"NBL"},{"$f":"'Coordination Timing - EXISTING'!C150","v":"SBT"},{"$f":"'Coordination Timing - EXISTING'!D150","v":"-"},{"$f":"'Coordination Timing - EXISTING'!E150","v":"WBT"},{"$f":"'Coordination Timing - EXISTING'!F150","v":"SBL"},{"$f":"'Coordination Timing - EXISTING'!G150","v":"NBT"},{"$f":"'Coordination Timing - EXISTING'!H150","v":"-"},{"$f":"'Coordination Timing - EXISTING'!I150","v":"EBT"},null,null,null,"DIRECTION",{"$f":"'Coordination Timing - PROPOSED'!B132","v":"NBL"},{"$f":"'Coordination Timing - PROPOSED'!C132","v":"SBT"},{"$f":"'Coordination Timing - PROPOSED'!D132","v":"-"},{"$f":"'Coordination Timing - PROPOSED'!E132","v":"WBT"},{"$f":"'Coordination Timing - PROPOSED'!F132","v":"SBL"},{"$f":"'Coordination Timing - PROPOSED'!G132","v":"NBT"},{"$f":"'Coordination Timing - PROPOSED'!H132","v":"-"},{"$f":"'Coordination Timing - PROPOSED'!I132","v":"EBT"}]
["PLAN NO. OR C/S/O","SPLITS (G+Y+AR) IN SECONDS",null,null,null,null,null,null,null,null,null,null,"PLAN NO. OR C/S/O","SPLITS (G+Y+AR) IN SECONDS"]
[{"$f":"'Coordination Timing - EXISTING'!A152","v":"1-1"},{"$f":"'Coordination Timing - EXISTING'!B152","v":21},{"$f":"'Coordination Timing - EXISTING'!C152","v":41},{"$f":"'Coordination Timing - EXISTING'!D152","v":"-"},{"$f":"'Coordination Timing - EXISTING'!E152","v":38},{"$f":"'Coordination Timing - EXISTING'!F152","v":21},{"$f":"'Coordination Timing - EXISTING'!G152","v":41},{"$f":"'Coordination Timing - EXISTING'!H152","v":"-"},{"$f":"'Coordination Timing - EXISTING'!I152","v":38},{"$f":"'Coordination Timing - EXISTING'!J152","v":0},{"$f":"'Coordination Timing - EXISTING'!K152","v":"-"},null,{"$f":"'Coordination Timing - PROPOSED'!A134","v":"FREE"},{"$f":"'Coordination Timing - PROPOSED'!B134","v":"-"},{"$f":"'Coordination Timing - PROPOSED'!C134","v":"-"},{"$f":"'Coordination Timing - PROPOSED'!D134","v":"-"},{"$f":"'Coordination Timing - PROPOSED'!E134","v":"-"},{"$f":"'Coordination Timing - PROPOSED'!F134","v":"-"},{"$f":"'Coordination Timing - PROPOSED'!G134","v":"-"},{"$f":"'Coordination Timing - PROPOSED'!H134","v":"-"},{"$f":"'Coordination Timing - PROPOSED'!I134","v":"-"},{"$f":"'Coordination Timing - PROPOSED'!J134","v":"-"},{"$f":"'Coordination Timing - PROPOSED'!K134","v":"-"}]
[{"$f":"'Coordination Timing - EXISTING'!A153","v":"1-2"},{"$f":"'Coordination Timing - EXISTING'!B153","v":16},{"$f":"'Coordination Timing - EXISTING'!C153","v":43},{"$f":"'Coordination Timing - EXISTING'!D153","v":"-"},{"$f":"'Coordination Timing - EXISTING'!E153","v":41},{"$f":"'Coordination Timing - EXISTING'!F153","v":16},{"$f":"'Coordination Timing - EXISTING'!G153","v":43},{"$f":"'Coordination Timing - EXISTING'!H153","v":"-"},{"$f":"'Coordination Timing - EXISTING'!I153","v":41},{"$f":"'Coordination Timing - EXISTING'!J153","v":0},{"$f":"'Coordination Timing - EXISTING'!K153","v":"-"},null,{"$f":"'Coordination Timing - PROPOSED'!A135","v":"-"},{"$f":"'Coordination Timing - PROPOSED'!B135","v":"-"},{"$f":"'Coordination Timing - PROPOSED'!C135","v":"-"},{"$f":"'Coordination Timing - PROPOSED'!D135","v":"-"},{"$f":"'Coordination Timing - PROPOSED'!E135","v":"-"},{"$f":"'Coordination Timing - PROPOSED'!F135","v":"-"},{"$f":"'Coordination Timing - PROPOSED'!G135","v":"-"},{"$f":"'Coordination Timing - PROPOSED'!H135","v":"-"},{"$f":"'Coordination Timing - PROPOSED'!I135","v":"-"},{"$f":"'Coordination Timing - PROPOSED'!J135","v":"-"},{"$f":"'Coordination Timing - PROPOSED'!K135","v":"-"}]
[{"$f":"'Coordination Timing - EXISTING'!A154","v":"1-3"},{"$f":"'Coordination Timing - EXISTING'!B154","v":19.95},{"$f":"'Coordination Timing - EXISTING'!C154","v":36.1},{"$f":"'Coordination Timing - EXISTING'!D154","v":"-"},{"$f":"'Coordination Timing - EXISTING'!E154","v":38.950000000000003},{"$f":"'Coordination Timing - EXISTING'!F154","v":19.95},{"$f":"'Coordination Timing - EXISTING'!G154","v":36.1},{"$f":"'Coordination Timing - EXISTING'!H154","v":"-"},{"$f":"'Coordination Timing - EXISTING'!I154","v":38.950000000000003},{"$f":"'Coordination Timing - EXISTING'!J154","v":0},{"$f":"'Coordination Timing - EXISTING'!K154","v":"-"},null,{"$f":"'Coordination Timing - PROPOSED'!A136","v":"-"},{"$f":"'Coordination Timing - PROPOSED'!B136","v":"-"},{"$f":"'Coordination Timing - PROPOSED'!C136","v":"-"},{"$f":"'Coordination Timing - PROPOSED'!D136","v":"-"},{"$f":"'Coordination Timing - PROPOSED'!E136","v":"-"},{"$f":"'Coordination Timing - PROPOSED'!F136","v":"-"},{"$f":"'Coordination Timing - PROPOSED'!G136","v":"-"},{"$f":"'Coordination Timing - PROPOSED'!H136","v":"-"},{"$f":"'Coordination Timing - PROPOSED'!I136","v":"-"},{"$f":"'Coordination Timing - PROPOSED'!J136","v":"-"},{"$f":"'Coordination Timing - PROPOSED'!K136","v":"-"}]
[{"$f":"'Coordination Timing - EXISTING'!A155","v":"-"},{"$f":"'Coordination Timing - EXISTING'!B155","v":"-"},{"$f":"'Coordination Timing - EXISTING'!C155","v":"-"},{"$f":"'Coordination Timing - EXISTING'!D155","v":"-"},{"$f":"'Coordination Timing - EXISTING'!E155","v":"-"},{"$f":"'Coordination Timing - EXISTING'!F155","v":"-"},{"$f":"'Coordination Timing - EXISTING'!G155","v":"-"},{"$f":"'Coordination Timing - EXISTING'!H155","v":"-"},{"$f":"'Coordination Timing - EXISTING'!I155","v":"-"},{"$f":"'Coordination Timing - EXISTING'!J155","v":"-"},{"$f":"'Coordination Timing - EXISTING'!K155","v":"-"},null,{"$f":"'Coordination Timing - PROPOSED'!A137","v":"-"},{"$f":"'Coordination Timing - PROPOSED'!B137","v":"-"},{"$f":"'Coordination Timing - PROPOSED'!C137","v":"-"},{"$f":"'Coordination Timing - PROPOSED'!D137","v":"-"},{"$f":"'Coordination Timing - PROPOSED'!E137","v":"-"},{"$f":"'Coordination Timing - PROPOSED'!F137","v":"-"},{"$f":"'Coordination Timing - PROPOSED'!G137","v":"-"},{"$f":"'Coordination Timing - PROPOSED'!H137","v":"-"},{"$f":"'Coordination Timing - PROPOSED'!I137","v":"-"},{"$f":"'Coordination Timing - PROPOSED'!J137","v":"-"},{"$f":"'Coordination Timing - PROPOSED'!K137","v":"-"}]
[{"$f":"'Coordination Timing - EXISTING'!A156","v":"-"},{"$f":"'Coordination Timing - EXISTING'!B156","v":"-"},{"$f":"'Coordination Timing - EXISTING'!C156","v":"-"},{"$f":"'Coordination Timing - EXISTING'!D156","v":"-"},{"$f":"'Coordination Timing - EXISTING'!E156","v":"-"},{"$f":"'Coordination Timing - EXISTING'!F156","v":"-"},{"$f":"'Coordination Timing - EXISTING'!G156","v":"-"},{"$f":"'Coordination Timing - EXISTING'!H156","v":"-"},{"$f":"'Coordination Timing - EXISTING'!I156","v":"-"},{"$f":"'Coordination Timing - EXISTING'!J156","v":"-"},{"$f":"'Coordination Timing - EXISTING'!K156","v":"-"},null,{"$f":"'Coordination Timing - PROPOSED'!A138","v":"-"},{"$f":"'Coordination Timing - PROPOSED'!B138","v":"-"},{"$f":"'Coordination Timing - PROPOSED'!C138","v":"-"},{"$f":"'Coordination Timing - PROPOSED'!D138","v":"-"},{"$f":"'Coordination Timing - PROPOSED'!E138","v":"-"},{"$f":"'Coordination Timing - PROPOSED'!F138","v":"-"},{"$f":"'Coordination Timing - PROPOSED'!G138","v":"-"},{"$f":"'Coordination Timing - PROPOSED'!H138","v":"-"},{"$f":"'Coordination Timing - PROPOSED'!I138","v":"-"},{"$f":"'Coordination Timing - PROPOSED'!J138","v":"-"},{"$f":"'Coordination Timing - PROPOSED'!K138","v":"-"}]
[]
[null,null,null,null,null,null,null,null,"EXISTING TIMING",null,null,null,null,null,null,null,null,null,null,null,"PROPOSED TIMING"]
[]
["\"INTERSECTION 7\"",null,null,null,null,null,null,null,null,null,null,null,"\"INTERSECTION 7\""]
["PHASE",1,2,3,4,5,6,7,8,"OFFSET 1 (SEC)","OFFSET 2 (SEC)",null,"PHASE",1,2,3,4,5,6,7,8,"OFFSET 1 (SEC)","OFFSET 2 (SEC)"]
["DIRECTION",{"$f":"'Coordination Timing - EXISTING'!B160","v":"-"},{"$f":"'Coordination Timing - EXISTING'!C160","v":"-"},{"$f":"'Coordination Timing - EXISTING'!D160","v":"-"},{"$f":"'Coordination Timing - EXISTING'!E160","v":"-"},{"$f":"'Coordination Timing - EXISTING'!F160","v":"-"},{"$f":"'Coordination Timing - EXISTING'!G160","v":"-"},{"$f":"'Coordination Timing - EXISTING'!H160","v":"-"},{"$f":"'Coordination Timing - EXISTING'!I160","v":"-"},null,null,null,"DIRECTION",{"$f":"'Coordination Timing - PROPOSED'!B142","v":"-"},{"$f":"'Coordination Timing - PROPOSED'!C142","v":"-"},{"$f":"'Coordination Timing - PROPOSED'!D142","v":"-"},{"$f":"'Coordination Timing - PROPOSED'!E142","v":"-"},{"$f":"'Coordination Timing - PROPOSED'!F142","v":"-"},{"$f":"'Coordination Timing - PROPOSED'!G142","v":"-"},{"$f":"'Coordination Timing - PROPOSED'!H142","v":"-"},{"$f":"'Coordination Timing - PROPOSED'!I142","v":"-"}]
["PLAN NO. OR C/S/O","SPLITS (G+Y+AR) IN SECONDS",null,null,null,null,null,null,null,null,null,null,"PLAN NO. OR C/S/O","SPLITS (G+Y+AR) IN SECONDS"]
[{"$f":"'Coordination Timing - EXISTING'!A162","v":"-"},{"$f":"'Coordination Timing - EXISTING'!B162","v":"-"},{"$f":"'Coordination Timing - EXISTING'!C162","v":"-"},{"$f":"'Coordination Timing - EXISTING'!D162","v":"-"},{"$f":"'Coordination Timing - EXISTING'!E162","v":"-"},{"$f":"'Coordination Timing - EXISTING'!F162","v":"-"},{"$f":"'Coordination Timing - EXISTING'!G162","v":"-"},{"$f":"'Coordination Timing - EXISTING'!H162","v":"-"},{"$f":"'Coordination Timing - EXISTING'!I162","v":"-"},{"$f":"'Coordination Timing - EXISTING'!J162","v":"-"},{"$f":"'Coordination Timing - EXISTING'!K162","v":"-"},null,{"$f":"'Coordination Timing - PROPOSED'!A144","v":"-"},{"$f":"'Coordination Timing - PROPOSED'!B144","v":"-"},{"$f":"'Coordination Timing - PROPOSED'!C144","v":"-"},{"$f":"'Coordination Timing - PROPOSED'!D144","v":"-"},{"$f":"'Coordination Timing - PROPOSED'!E144","v":"-"},{"$f":"'Coordination Timing - PROPOSED'!F144","v":"-"},{"$f":"'Coordination Timing - PROPOSED'!G144","v":"-"},{"$f":"'Coordination Timing - PROPOSED'!H144","v":"-"},{"$f":"'Coordination Timing - PROPOSED'!I144","v":"-"},{"$f":"'Coordination Timing - PROPOSED'!J144","v":"-"},{"$f":"'Coordination Timing - PROPOSED'!K144","v":"-"}]
[{"$f":"'Coordination Timing - EXISTING'!A163","v":"-"},{"$f":"'Coordination Timing - EXISTING'!B163","v":"-"},{"$f":"'Coordination Timing - EXISTING'!C163","v":"-"},{"$f":"'Coordination Timing - EXISTING'!D163","v":"-"},{"$f":"'Coordination Timing - EXISTING'!E163","v":"-"},{"$f":"'Coordination Timing - EXISTING'!F163","v":"-"},{"$f":"'Coordination Timing - EXISTING'!G163","v":"-"},{"$f":"'Coordination Timing - EXISTING'!H163","v":"-"},{"$f":"'Coordination Timing - EXISTING'!I163","v":"-"},{"$f":"'Coordination Timing - EXISTING'!J163","v":"-"},{"$f":"'Coordination Timing - EXISTING'!K164","v":"-"},null,{"$f":"'Coordination Timing - PROPOSED'!A145","v":"-"},{"$f":"'Coordination Timing - PROPOSED'!B145","v":"-"},{"$f":"'Coordination Timing - PROPOSED'!C145","v":"-"},{"$f":"'Coordination Timing - PROPOSED'!D145","v":"-"},{"$f":"'Coordination Timing - PROPOSED'!E145","v":"-"},{"$f":"'Coordination Timing - PROPOSED'!F145","v":"-"},{"$f":"'Coordination Timing - PROPOSED'!G145","v":"-"},{"$f":"'Coordination Timing - PROPOSED'!H145","v":"-"},{"$f":"'Coordination Timing - PROPOSED'!I145","v":"-"},{"$f":"'Coordination Timing - PROPOSED'!J145","v":"-"},{"$f":"'Coordination Timing - PROPOSED'!K145","v":"-"}]
[{"$f":"'Coordination Timing - EXISTING'!A164","v":"-"},{"$f":"'Coordination Timing - EXISTING'!B164","v":"-"},{"$f":"'Coordination Timing - EXISTING'!C164","v":"-"},{"$f":"'Coordination Timing - EXISTING'!D164","v":"-"},{"$f":"'Coordination Timing - EXISTING'!E164","v":"-"},{"$f":"'Coordination Timing - EXISTING'!F164","v":"-"},{"$f":"'Coordination Timing - EXISTING'!G164","v":"-"},{"$f":"'Coordination Timing - EXISTING'!H164","v":"-"},{"$f":"'Coordination Timing - EXISTING'!I164","v":"-"},{"$f":"'Coordination Timing - EXISTING'!J164","v":"-"},{"$f":"'Coordination Timing - EXISTING'!K164","v":"-"},null,{"$f":"'Coordination Timing - PROPOSED'!A146","v":"-"},{"$f":"'Coordination Timing - PROPOSED'!B146","v":"-"},{"$f":"'Coordination Timing - PROPOSED'!C146","v":"-"},{"$f":"'Coordination Timing - PROPOSED'!D146","v":"-"},{"$f":"'Coordination Timing - PROPOSED'!E146","v":"-"},{"$f":"'Coordination Timing - PROPOSED'!F146","v":"-"},{"$f":"'Coordination Timing - PROPOSED'!G146","v":"-"},{"$f":"'Coordination Timing - PROPOSED'!H146","v":"-"},{"$f":"'Coordination Timing - PROPOSED'!I146","v":"-"},{"$f":"'Coordination Timing - PROPOSED'!J146","v":"-"},{"$f":"'Coordination Timing - PROPOSED'!K146","v":"-"}]
[{"$f":"'Coordination Timing - EXISTING'!A165","v":"-"},{"$f":"'Coordination Timing - EXISTING'!B165","v":"-"},{"$f":"'Coordination Timing - EXISTING'!C165","v":"-"},{"$f":"'Coordination Timing - EXISTING'!D165","v":"-"},{"$f":"'Coordination Timing - EXISTING'!E165","v":"-"},{"$f":"'Coordination Timing - EXISTING'!F165","v":"-"},{"$f":"'Coordination Timing - EXISTING'!G165","v":"-"},{"$f":"'Coordination Timing - EXISTING'!H165","v":"-"},{"$f":"'Coordination Timing - EXISTING'!I165","v":"-"},{"$f":"'Coordination Timing - EXISTING'!J165","v":"-"},{"$f":"'Coordination Timing - EXISTING'!K165","v":"-"},null,{"$f":"'Coordination Timing - PROPOSED'!A147","v":"-"},{"$f":"'Coordination Timing - PROPOSED'!B147","v":"-"},{"$f":"'Coordination Timing - PROPOSED'!C147","v":"-"},{"$f":"'Coordination Timing - PROPOSED'!D147","v":"-"},{"$f":"'Coordination Timing - PROPOSED'!E147","v":"-"},{"$f":"'Coordination Timing - PROPOSED'!F147","v":"-"},{"$f":"'Coordination Timing - PROPOSED'!G147","v":"-"},{"$f":"'Coordination Timing - PROPOSED'!H147","v":"-"},{"$f":"'Coordination Timing - PROPOSED'!I147","v":"-"},{"$f":"'Coordination Timing - PROPOSED'!J147","v":"-"},{"$f":"'Coordination Timing - PROPOSED'!K147","v":"-"}]
[{"$f":"'Coordination Timing - EXISTING'!A166","v":"-"},{"$f":"'Coordination Timing - EXISTING'!B166","v":"-"},{"$f":"'Coordination Timing - EXISTING'!C166","v":"-"},{"$f":"'Coordination Timing - EXISTING'!D166","v":"-"},{"$f":"'Coordination Timing - EXISTING'!E166","v":"-"},{"$f":"'Coordination Timing - EXISTING'!F166","v":"-"},{"$f":"'Coordination Timing - EXISTING'!G166","v":"-"},{"$f":"'Coordination Timing - EXISTING'!H166","v":"-"},{"$f":"'Coordination Timing - EXISTING'!I166","v":"-"},{"$f":"'Coordination Timing - EXISTING'!J166","v":"-"},{"$f":"'Coordination Timing - EXISTING'!K166","v":"-"},null,{"$f":"'Coordination Timing - PROPOSED'!A148","v":"-"},{"$f":"'Coordination Timing - PROPOSED'!B148","v":"-"},{"$f":"'Coordination Timing - PROPOSED'!C148","v":"-"},{"$f":"'Coordination Timing - PROPOSED'!D148","v":"-"},{"$f":"'Coordination Timing - PROPOSED'!E148","v":"-"},{"$f":"'Coordination Timing - PROPOSED'!F148","v":"-"},{"$f":"'Coordination Timing - PROPOSED'!G148","v":"-"},{"$f":"'Coordination Timing - PROPOSED'!H148","v":"-"},{"$f":"'Coordination Timing - PROPOSED'!I148","v":"-"},{"$f":"'Coordination Timing - PROPOSED'!J148","v":"-"},{"$f":"'Coordination Timing - PROPOSED'!K148","v":"-"}]
[]
["\"INTERSECTION 8\"",null,null,null,null,null,null,null,null,null,null,null,"\"INTERSECTION 8\""]
["PHASE",1,2,3,4,5,6,7,8,"OFFSET 1 (SEC)","OFFSET 2 (SEC)",null,"PHASE",1,2,3,4,5,6,7,8,"OFFSET 1 (SEC)","OFFSET 2 (SEC)"]
["DIRECTION",{"$f":"'Coordination Timing - EXISTING'!B170","v":"-"},{"$f":"'Coordination Timing - EXISTING'!C170","v":"-"},{"$f":"'Coordination Timing - EXISTING'!D170","v":"-"},{"$f":"'Coordination Timing - EXISTING'!E170","v":"-"},{"$f":"'Coordination Timing - EXISTING'!F170","v":"-"},{"$f":"'Coordination Timing - EXISTING'!G170","v":"-"},{"$f":"'Coordination Timing - EXISTING'!H170","v":"-"},{"$f":"'Coordination Timing - EXISTING'!I170","v":"-"},null,null,null,"DIRECTION",{"$f":"'Coordination Timing - PROPOSED'!B152","v":"-"},{"$f":"'Coordination Timing - PROPOSED'!C152","v":"-"},{"$f":"'Coordination Timing - PROPOSED'!D152","v":"-"},{"$f":"'Coordination Timing - PROPOSED'!E152","v":"-"},{"$f":"'Coordination Timing - PROPOSED'!F152","v":"-"},{"$f":"'Coordination Timing - PROPOSED'!G152","v":"-"},{"$f":"'Coordination Timing - PROPOSED'!H152","v":"-"},{"$f":"'Coordination Timing - PROPOSED'!I152","v":"-"}]
["PLAN NO. OR C/S/O","SPLITS (G+Y+AR) IN SECONDS",null,null,null,null,null,null,null,null,null,null,"PLAN NO. OR C/S/O","SPLITS (G+Y+AR) IN SECONDS"]
[{"$f":"'Coordination Timing - EXISTING'!A172","v":"-"},{"$f":"'Coordination Timing - EXISTING'!B172","v":"-"},{"$f":"'Coordination Timing - EXISTING'!C172","v":"-"},{"$f":"'Coordination Timing - EXISTING'!D172","v":"-"},{"$f":"'Coordination Timing - EXISTING'!E172","v":"-"},{"$f":"'Coordination Timing - EXISTING'!F172","v":"-"},{"$f":"'Coordination Timing - EXISTING'!G172","v":"-"},{"$f":"'Coordination Timing - EXISTING'!H172","v":"-"},{"$f":"'Coordination Timing - EXISTING'!I172","v":"-"},{"$f":"'Coordination Timing - EXISTING'!J172","v":"-"},{"$f":"'Coordination Timing - EXISTING'!K172","v":"-"},null,{"$f":"'Coordination Timing - PROPOSED'!A154","v":"-"},{"$f":"'Coordination Timing - PROPOSED'!B154","v":"-"},{"$f":"'Coordination Timing - PROPOSED'!C154","v":"-"},{"$f":"'Coordination Timing - PROPOSED'!D154","v":"-"},{"$f":"'Coordination Timing - PROPOSED'!E154","v":"-"},{"$f":"'Coordination Timing - PROPOSED'!F154","v":"-"},{"$f":"'Coordination Timing - PROPOSED'!G154","v":"-"},{"$f":"'Coordination Timing - PROPOSED'!H154","v":"-"},{"$f":"'Coordination Timing - PROPOSED'!I154","v":"-"},{"$f":"'Coordination Timing - PROPOSED'!J154","v":"-"},{"$f":"'Coordination Timing - PROPOSED'!K154","v":"-"}]
[{"$f":"'Coordination Timing - EXISTING'!A173","v":"-"},{"$f":"'Coordination Timing - EXISTING'!B173","v":"-"},{"$f":"'Coordination Timing - EXISTING'!C173","v":"-"},{"$f":"'Coordination Timing - EXISTING'!D173","v":"-"},{"$f":"'Coordination Timing - EXISTING'!E173","v":"-"},{"$f":"'Coordination Timing - EXISTING'!F173","v":"-"},{"$f":"'Coordination Timing - EXISTING'!G173","v":"-"},{"$f":"'Coordination Timing - EXISTING'!H173","v":"-"},{"$f":"'Coordination Timing - EXISTING'!I173","v":"-"},{"$f":"'Coordination Timing - EXISTING'!J173","v":"-"},{"$f":"'Coordination Timing - EXISTING'!K173","v":"-"},null,{"$f":"'Coordination Timing - PROPOSED'!A155","v":"-"},{"$f":"'Coordination Timing - PROPOSED'!B155","v":"-"},{"$f":"'Coordination Timing - PROPOSED'!C155","v":"-"},{"$f":"'Coordination Timing - PROPOSED'!D155","v":"-"},{"$f":"'Coordination Timing - PROPOSED'!E155","v":"-"},{"$f":"'Coordination Timing - PROPOSED'!F155","v":"-"},{"$f":"'Coordination Timing - PROPOSED'!G155","v":"-"},{"$f":"'Coordination Timing - PROPOSED'!H155","v":"-"},{"$f":"'Coordination Timing - PROPOSED'!I155","v":"-"},{"$f":"'Coordination Timing - PROPOSED'!J155","v":"-"},{"$f":"'Coordination Timing - PROPOSED'!K155","v":"-"}]
[{"$f":"'Coordination Timing - EXISTING'!A174","v":"-"},{"$f":"'Coordination Timing - EXISTING'!B174","v":"-"},{"$f":"'Coordination Timing - EXISTING'!C174","v":"-"},{"$f":"'Coordination Timing - EXISTING'!D174","v":"-"},{"$f":"'Coordination Timing - EXISTING'!E174","v":"-"},{"$f":"'Coordination Timing - EXISTING'!F174","v":"-"},{"$f":"'Coordination Timing - EXISTING'!G174","v":"-"},{"$f":"'Coordination Timing - EXISTING'!H174","v":"-"},{"$f":"'Coordination Timing - EXISTING'!I174","v":"-"},{"$f":"'Coordination Timing - EXISTING'!J174","v":"-"},{"$f":"'Coordination Timing - EXISTING'!K174","v":"-"},null,{"$f":"'Coordination Timing - PROPOSED'!A156","v":"-"},{"$f":"'Coordination Timing - PROPOSED'!B156","v":"-"},{"$f":"'Coordination Timing - PROPOSED'!C156","v":"-"},{"$f":"'Coordination Timing - PROPOSED'!D156","v":"-"},{"$f":"'Coordination Timing - PROPOSED'!E156","v":"-"},{"$f":"'Coordination Timing - PROPOSED'!F156","v":"-"},{"$f":"'Coordination Timing - PROPOSED'!G156","v":"-"},{"$f":"'Coordination Timing - PROPOSED'!H156","v":"-"},{"$f":"'Coordination Timing - PROPOSED'!I156","v":"-"},{"$f":"'Coordination Timing - PROPOSED'!J156","v":"-"},{"$f":"'Coordination Timing - PROPOSED'!K156","v":"-"}]
[{"$f":"'Coordination Timing - EXISTING'!A175","v":"-"},{"$f":"'Coordination Timing - EXISTING'!B175","v":"-"},{"$f":"'Coordination Timing - EXISTING'!C175","v":"-"},{"$f":"'Coordination Timing - EXISTING'!D175","v":"-"},{"$f":"'Coordination Timing - EXISTING'!E175","v":"-"},{"$f":"'Coordination Timing - EXISTING'!F175","v":"-"},{"$f":"'Coordination Timing - EXISTING'!G175","v":"-"},{"$f":"'Coordination Timing - EXISTING'!H175","v":"-"},{"$f":"'Coordination Timing - EXISTING'!I175","v":"-"},{"$f":"'Coordination Timing - EXISTING'!J175","v":"-"},{"$f":"'Coordination Timing - EXISTING'!K175","v":"-"},null,{"$f":"'Coordination Timing - PROPOSED'!A157","v":"-"},{"$f":"'Coordination Timing - PROPOSED'!B157","v":"-"},{"$f":"'Coordination Timing - PROPOSED'!C157","v":"-"},{"$f":"'Coordination Timing - PROPOSED'!D157","v":"-"},{"$f":"'Coordination Timing - PROPOSED'!E157","v":"-"},{"$f":"'Coordination Timing - PROPOSED'!F157","v":"-"},{"$f":"'Coordination Timing - PROPOSED'!G157","v":"-"},{"$f":"'Coordination Timing - PROPOSED'!H157","v":"-"},{"$f":"'Coordination Timing - PROPOSED'!I157","v":"-"},{"$f":"'Coordination Timing - PROPOSED'!J157","v":"-"},{"$f":"'Coordination Timing - PROPOSED'!K157","v":"-"}]
[{"$f":"'Coordination Timing - EXISTING'!A176","v":"-"},{"$f":"'Coordination Timing - EXISTING'!B176","v":"-"},{"$f":"'Coordination Timing - EXISTING'!C176","v":"-"},{"$f":"'Coordination Timing - EXISTING'!D176","v":"-"},{"$f":"'Coordination Timing - EXISTING'!E176","v":"-"},{"$f":"'Coordination Timing - EXISTING'!F176","v":"-"},{"$f":"'Coordination Timing - EXISTING'!G176","v":"-"},{"$f":"'Coordination Timing - EXISTING'!H176","v":"-"},{"$f":"'Coordination Timing - EXISTING'!I176","v":"-"},{"$f":"'Coordination Timing - EXISTING'!J176","v":"-"},{"$f":"'Coordination Timing - EXISTING'!K176","v":"-"},null,{"$f":"'Coordination Timing - PROPOSED'!A158","v":"-"},{"$f":"'Coordination Timing - PROPOSED'!B158","v":"-"},{"$f":"'Coordination Timing - PROPOSED'!C158","v":"-"},{"$f":"'Coordination Timing - PROPOSED'!D158","v":"-"},{"$f":"'Coordination Timing - PROPOSED'!E158","v":"-"},{"$f":"'Coordination Timing - PROPOSED'!F158","v":"-"},{"$f":"'Coordination Timing - PROPOSED'!G158","v":"-"},{"$f":"'Coordination Timing - PROPOSED'!H158","v":"-"},{"$f":"'Coordination Timing - PROPOSED'!I158","v":"-"},{"$f":"'Coordination Timing - PROPOSED'!J158","v":"-"},{"$f":"'Coordination Timing - PROPOSED'!K158","v":"-"}]
[]
["\"INTERSECTION 9\"",null,null,null,null,null,null,null,null,null,null,null,"\"INTERSECTION 9\""]
["PHASE",1,2,3,4,5,6,7,8,"OFFSET 1 (SEC)","OFFSET 2 (SEC)",null,"PHASE",1,2,3,4,5,6,7,8,"OFFSET 1 (SEC)","OFFSET 2 (SEC)"]
["DIRECTION",{"$f":"'Coordination Timing - EXISTING'!B180","v":"-"},{"$f":"'Coordination Timing - EXISTING'!C180","v":"-"},{"$f":"'Coordination Timing - EXISTING'!D180","v":"-"},{"$f":"'Coordination Timing - EXISTING'!E180","v":"-"},{"$f":"'Coordination Timing - EXISTING'!F180","v":"-"},{"$f":"'Coordination Timing - EXISTING'!G180","v":"-"},{"$f":"'Coordination Timing - EXISTING'!H180","v":"-"},{"$f":"'Coordination Timing - EXISTING'!I180","v":"-"},null,null,null,"DIRECTION",{"$f":"'Coordination Timing - PROPOSED'!B162","v":"-"},{"$f":"'Coordination Timing - PROPOSED'!C162","v":"-"},{"$f":"'Coordination Timing - PROPOSED'!D162","v":"-"},{"$f":"'Coordination Timing - PROPOSED'!E162","v":"-"},{"$f":"'Coordination Timing - PROPOSED'!F162","v":"-"},{"$f":"'Coordination Timing - PROPOSED'!G162","v":"-"},{"$f":"'Coordination Timing - PROPOSED'!H162","v":"-"},{"$f":"'Coordination Timing - PROPOSED'!I162","v":"-"}]
["PLAN NO. OR C/S/O","SPLITS (G+Y+AR) IN SECONDS",null,null,null,null,null,null,null,null,null,null,"PLAN NO. OR C/S/O","SPLITS (G+Y+AR) IN SECONDS"]
[{"$f":"'Coordination Timing - EXISTING'!A182","v":"-"},{"$f":"'Coordination Timing - EXISTING'!B182","v":"-"},{"$f":"'Coordination Timing - EXISTING'!C182","v":"-"},{"$f":"'Coordination Timing - EXISTING'!D182","v":"-"},{"$f":"'Coordination Timing - EXISTING'!E182","v":"-"},{"$f":"'Coordination Timing - EXISTING'!F182","v":"-"},{"$f":"'Coordination Timing - EXISTING'!G182","v":"-"},{"$f":"'Coordination Timing - EXISTING'!H182","v":"-"},{"$f":"'Coordination Timing - EXISTING'!I182","v":"-"},{"$f":"'Coordination Timing - EXISTING'!J182","v":"-"},{"$f":"'Coordination Timing - EXISTING'!K182","v":"-"},null,{"$f":"'Coordination Timing - PROPOSED'!A164","v":"-"},{"$f":"'Coordination Timing - PROPOSED'!B164","v":"-"},{"$f":"'Coordination Timing - PROPOSED'!C164","v":"-"},{"$f":"'Coordination Timing - PROPOSED'!D164","v":"-"},{"$f":"'Coordination Timing - PROPOSED'!E164","v":"-"},{"$f":"'Coordination Timing - PROPOSED'!F164","v":"-"},{"$f":"'Coordination Timing - PROPOSED'!G164","v":"-"},{"$f":"'Coordination Timing - PROPOSED'!H164","v":"-"},{"$f":"'Coordination Timing - PROPOSED'!I164","v":"-"},{"$f":"'Coordination Timing - PROPOSED'!J164","v":"-"},{"$f":"'Coordination Timing - PROPOSED'!K164","v":"-"}]
[{"$f":"'Coordination Timing - EXISTING'!A183","v":"-"},{"$f":"'Coordination Timing - EXISTING'!B183","v":"-"},{"$f":"'Coordination Timing - EXISTING'!C183","v":"-"},{"$f":"'Coordination Timing - EXISTING'!D183","v":"-"},{"$f":"'Coordination Timing - EXISTING'!E183","v":"-"},{"$f":"'Coordination Timing - EXISTING'!F183","v":"-"},{"$f":"'Coordination Timing - EXISTING'!G183","v":"-"},{"$f":"'Coordination Timing - EXISTING'!H183","v":"-"},{"$f":"'Coordination Timing - EXISTING'!I183","v":"-"},{"$f":"'Coordination Timing - EXISTING'!J183","v":"-"},{"$f":"'Coordination Timing - EXISTING'!K183","v":"-"},null,{"$f":"'Coordination Timing - PROPOSED'!A165","v":"-"},{"$f":"'Coordination Timing - PROPOSED'!B165","v":"-"},{"$f":"'Coordination Timing - PROPOSED'!C165","v":"-"},{"$f":"'Coordination Timing - PROPOSED'!D165","v":"-"},{"$f":"'Coordination Timing - PROPOSED'!E165","v":"-"},{"$f":"'Coordination Timing - PROPOSED'!F165","v":"-"},{"$f":"'Coordination Timing - PROPOSED'!G165","v":"-"},{"$f":"'Coordination Timing - PROPOSED'!H165","v":"-"},{"$f":"'Coordination Timing - PROPOSED'!I165","v":"-"},{"$f":"'Coordination Timing - PROPOSED'!J165","v":"-"},{"$f":"'Coordination Timing - PROPOSED'!K165","v":"-"}]
[{"$f":"'Coordination Timing - EXISTING'!A184","v":"-"},{"$f":"'Coordination Timing - EXISTING'!B184","v":"-"},{"$f":"'Coordination Timing - EXISTING'!C184","v":"-"},{"$f":"'Coordination Timing - EXISTING'!D184","v":"-"},{"$f":"'Coordination Timing - EXISTING'!E184","v":"-"},{"$f":"'Coordination Timing - EXISTING'!F184","v":"-"},{"$f":"'Coordination Timing - EXISTING'!G184","v":"-"},{"$f":"'Coordination Timing - EXISTING'!H184","v":"-"},{"$f":"'Coordination Timing - EXISTING'!I184","v":"-"},{"$f":"'Coordination Timing - EXISTING'!J184","v":"-"},{"$f":"'Coordination Timing - EXISTING'!K184","v":"-"},null,{"$f":"'Coordination Timing - PROPOSED'!A166","v":"-"},{"$f":"'Coordination Timing - PROPOSED'!B166","v":"-"},{"$f":"'Coordination Timing - PROPOSED'!C166","v":"-"},{"$f":"'Coordination Timing - PROPOSED'!D166","v":"-"},{"$f":"'Coordination Timing - PROPOSED'!E166","v":"-"},{"$f":"'Coordination Timing - PROPOSED'!F166","v":"-"},{"$f":"'Coordination Timing - PROPOSED'!G166","v":"-"},{"$f":"'Coordination Timing - PROPOSED'!H166","v":"-"},{"$f":"'Coordination Timing - PROPOSED'!I166","v":"-"},{"$f":"'Coordination Timing - PROPOSED'!J166","v":"-"},{"$f":"'Coordination Timing - PROPOSED'!K166","v":"-"}]
[{"$f":"'Coordination Timing - EXISTING'!A185","v":"-"},{"$f":"'Coordination Timing - EXISTING'!B185","v":"-"},{"$f":"'Coordination Timing - EXISTING'!C185","v":"-"},{"$f":"'Coordination Timing - EXISTING'!D185","v":"-"},{"$f":"'Coordination Timing - EXISTING'!E185","v":"-"},{"$f":"'Coordination Timing - EXISTING'!F185","v":"-"},{"$f":"'Coordination Timing - EXISTING'!G185","v":"-"},{"$f":"'Coordination Timing - EXISTING'!H185","v":"-"},{"$f":"'Coordination Timing - EXISTING'!I185","v":"-"},{"$f":"'Coordination Timing - EXISTING'!J185","v":"-"},{"$f":"'Coordination Timing - EXISTING'!K185","v":"-"},null,{"$f":"'Coordination Timing - PROPOSED'!A167","v":"-"},{"$f":"'Coordination Timing - PROPOSED'!B167","v":"-"},{"$f":"'Coordination Timing - PROPOSED'!C167","v":"-"},{"$f":"'Coordination Timing - PROPOSED'!D167","v":"-"},{"$f":"'Coordination Timing - PROPOSED'!E167","v":"-"},{"$f":"'Coordination Timing - PROPOSED'!F167","v":"-"},{"$f":"'Coordination Timing - PROPOSED'!G167","v":"-"},{"$f":"'Coordination Timing - PROPOSED'!H167","v":"-"},{"$f":"'Coordination Timing - PROPOSED'!I167","v":"-"},{"$f":"'Coordination Timing - PROPOSED'!J167","v":"-"},{"$f":"'Coordination Timing - PROPOSED'!K167","v":"-"}]
[{"$f":"'Coordination Timing - EXISTING'!A186","v":"-"},{"$f":"'Coordination Timing - EXISTING'!B186","v":"-"},{"$f":"'Coordination Timing - EXISTING'!C186","v":"-"},{"$f":"'Coordination Timing - EXISTING'!D186","v":"-"},{"$f":"'Coordination Timing - EXISTING'!E186","v":"-"},{"$f":"'Coordination Timing - EXISTING'!F186","v":"-"},{"$f":"'Coordination Timing - EXISTING'!G186","v":"-"},{"$f":"'Coordination Timing - EXISTING'!H186","v":"-"},{"$f":"'Coordination Timing - EXISTING'!I186","v":"-"},{"$f":"'Coordination Timing - EXISTING'!J186","v":"-"},{"$f":"'Coordination Timing - EXISTING'!K186","v":"-"},null,{"$f":"'Coordination Timing - PROPOSED'!A168","v":"-"},{"$f":"'Coordination Timing - PROPOSED'!B168","v":"-"},{"$f":"'Coordination Timing - PROPOSED'!C168","v":"-"},{"$f":"'Coordination Timing - PROPOSED'!D168","v":"-"},{"$f":"'Coordination Timing - PROPOSED'!E168","v":"-"},{"$f":"'Coordination Timing - PROPOSED'!F168","v":"-"},{"$f":"'Coordination Timing - PROPOSED'!G168","v":"-"},{"$f":"'Coordination Timing - PROPOSED'!H168","v":"-"},{"$f":"'Coordination Timing - PROPOSED'!I168","v":"-"},{"$f":"'Coordination Timing - PROPOSED'!J168","v":"-"},{"$f":"'Coordination Timing - PROPOSED'!K168","v":"-"}]
[]
[null,null,null,null,null,null,null,null,"EXISTING TIMING",null,null,null,null,null,null,null,null,null,null,null,"PROPOSED TIMING"]
[]
["\"INTERSECTION 10\"",null,null,null,null,null,null,null,null,null,null,null,"\"INTERSECTION 10\""]
["PHASE",1,2,3,4,5,6,7,8,"OFFSET 1 (SEC)","OFFSET 2 (SEC)",null,"PHASE",1,2,3,4,5,6,7,8,"OFFSET 1 (SEC)","OFFSET 2 (SEC)"]
["DIRECTION",{"$f":"'Coordination Timing - EXISTING'!B190","v":"-"},{"$f":"'Coordination Timing - EXISTING'!C190","v":"-"},{"$f":"'Coordination Timing - EXISTING'!D190","v":"-"},{"$f":"'Coordination Timing - EXISTING'!E190","v":"-"},{"$f":"'Coordination Timing - EXISTING'!F190","v":"-"},{"$f":"'Coordination Timing - EXISTING'!G190","v":"-"},{"$f":"'Coordination Timing - EXISTING'!H190","v":"-"},{"$f":"'Coordination Timing - EXISTING'!I190","v":"-"},null,null,null,"DIRECTION",{"$f":"'Coordination Timing - PROPOSED'!B172","v":"-"},{"$f":"'Coordination Timing - PROPOSED'!C172","v":"-"},{"$f":"'Coordination Timing - PROPOSED'!D172","v":"-"},{"$f":"'Coordination Timing - PROPOSED'!E172","v":"-"},{"$f":"'Coordination Timing - PROPOSED'!F172","v":"-"},{"$f":"'Coordination Timing - PROPOSED'!G172","v":"-"},{"$f":"'Coordination Timing - PROPOSED'!H172","v":"-"},{"$f":"'Coordination Timing - PROPOSED'!I172","v":"-"}]
["PLAN NO. OR C/S/O","SPLITS (G+Y+AR) IN SECONDS",null,null,null,null,null,null,null,null,null,null,"PLAN NO. OR C/S/O","SPLITS (G+Y+AR) IN SECONDS"]
[{"$f":"'Coordination Timing - EXISTING'!A192","v":"-"},{"$f":"'Coordination Timing - EXISTING'!B192","v":"-"},{"$f":"'Coordination Timing - EXISTING'!C192","v":"-"},{"$f":"'Coordination Timing - EXISTING'!D192","v":"-"},{"$f":"'Coordination Timing - EXISTING'!E192","v":"-"},{"$f":"'Coordination Timing - EXISTING'!F192","v":"-"},{"$f":"'Coordination Timing - EXISTING'!G192","v":"-"},{"$f":"'Coordination Timing - EXISTING'!H192","v":"-"},{"$f":"'Coordination Timing - EXISTING'!I192","v":"-"},{"$f":"'Coordination Timing - EXISTING'!J192","v":"-"},{"$f":"'Coordination Timing - EXISTING'!K192","v":"-"},null,{"$f":"'Coordination Timing - PROPOSED'!A174","v":"-"},{"$f":"'Coordination Timing - PROPOSED'!B174","v":"-"},{"$f":"'Coordination Timing - PROPOSED'!C174","v":"-"},{"$f":"'Coordination Timing - PROPOSED'!D174","v":"-"},{"$f":"'Coordination Timing - PROPOSED'!E174","v":"-"},{"$f":"'Coordination Timing - PROPOSED'!F174","v":"-"},{"$f":"'Coordination Timing - PROPOSED'!G174","v":"-"},{"$f":"'Coordination Timing - PROPOSED'!H174","v":"-"},{"$f":"'Coordination Timing - PROPOSED'!I174","v":"-"},{"$f":"'Coordination Timing - PROPOSED'!J174","v":"-"},{"$f":"'Coordination Timing - PROPOSED'!K174","v":"-"}]
[{"$f":"'Coordination Timing - EXISTING'!A193","v":"-"},{"$f":"'Coordination Timing - EXISTING'!B193","v":"-"},{"$f":"'Coordination Timing - EXISTING'!C193","v":"-"},{"$f":"'Coordination Timing - EXISTING'!D193","v":"-"},{"$f":"'Coordination Timing - EXISTING'!E193","v":"-"},{"$f":"'Coordination Timing - EXISTING'!F193","v":"-"},{"$f":"'Coordination Timing - EXISTING'!G193","v":"-"},{"$f":"'Coordination Timing - EXISTING'!H193","v":"-"},{"$f":"'Coordination Timing - EXISTING'!I193","v":"-"},{"$f":"'Coordination Timing - EXISTING'!J193","v":"-"},{"$f":"'Coordination Timing - EXISTING'!K193","v":"-"},null,{"$f":"'Coordination Timing - PROPOSED'!A175","v":"-"},{"$f":"'Coordination Timing - PROPOSED'!B175","v":"-"},{"$f":"'Coordination Timing - PROPOSED'!C175","v":"-"},{"$f":"'Coordination Timing - PROPOSED'!D175","v":"-"},{"$f":"'Coordination Timing - PROPOSED'!E175","v":"-"},{"$f":"'Coordination Timing - PROPOSED'!F175","v":"-"},{"$f":"'Coordination Timing - PROPOSED'!G175","v":"-"},{"$f":"'Coordination Timing - PROPOSED'!H175","v":"-"},{"$f":"'Coordination Timing - PROPOSED'!I175","v":"-"},{"$f":"'Coordination Timing - PROPOSED'!J175","v":"-"},{"$f":"'Coordination Timing - PROPOSED'!K175","v":"-"}]
[{"$f":"'Coordination Timing - EXISTING'!A194","v":"-"},{"$f":"'Coordination Timing - EXISTING'!B194","v":"-"},{"$f":"'Coordination Timing - EXISTING'!C194","v":"-"},{"$f":"'Coordination Timing - EXISTING'!D194","v":"-"},{"$f":"'Coordination Timing - EXISTING'!E194","v":"-"},{"$f":"'Coordination Timing - EXISTING'!F194","v":"-"},{"$f":"'Coordination Timing - EXISTING'!G194","v":"-"},{"$f":"'Coordination Timing - EXISTING'!H194","v":"-"},{"$f":"'Coordination Timing - EXISTING'!I194","v":"-"},{"$f":"'Coordination Timing - EXISTING'!J194","v":"-"},{"$f":"'Coordination Timing - EXISTING'!K194","v":"-"},null,{"$f":"'Coordination Timing - PROPOSED'!A176","v":"-"},{"$f":"'Coordination Timing - PROPOSED'!B176","v":"-"},{"$f":"'Coordination Timing - PROPOSED'!C176","v":"-"},{"$f":"'Coordination Timing - PROPOSED'!D176","v":"-"},{"$f":"'Coordination Timing - PROPOSED'!E176","v":"-"},{"$f":"'Coordination Timing - PROPOSED'!F176","v":"-"},{"$f":"'Coordination Timing - PROPOSED'!G176","v":"-"},{"$f":"'Coordination Timing - PROPOSED'!H176","v":"-"},{"$f":"'Coordination Timing - PROPOSED'!I176","v":"-"},{"$f":"'Coordination Timing - PROPOSED'!J176","v":"-"},{"$f":"'Coordination Timing - PROPOSED'!K176","v":"-"}]
[{"$f":"'Coordination Timing - EXISTING'!A195","v":"-"},{"$f":"'Coordination Timing - EXISTING'!B195","v":"-"},{"$f":"'Coordination Timing - EXISTING'!C195","v":"-"},{"$f":"'Coordination Timing - EXISTING'!D195","v":"-"},{"$f":"'Coordination Timing - EXISTING'!E195","v":"-"},{"$f":"'Coordination Timing - EXISTING'!F195","v":"-"},{"$f":"'Coordination Timing - EXISTING'!G195","v":"-"},{"$f":"'Coordination Timing - EXISTING'!H195","v":"-"},{"$f":"'Coordination Timing - EXISTING'!I195","v":"-"},{"$f":"'Coordination Timing - EXISTING'!J195","v":"-"},{"$f":"'Coordination Timing - EXISTING'!K195","v":"-"},null,{"$f":"'Coordination Timing - PROPOSED'!A177","v":"-"},{"$f":"'Coordination Timing - PROPOSED'!B177","v":"-"},{"$f":"'Coordination Timing - PROPOSED'!C177","v":"-"},{"$f":"'Coordination Timing - PROPOSED'!D177","v":"-"},{"$f":"'Coordination Timing - PROPOSED'!E177","v":"-"},{"$f":"'Coordination Timing - PROPOSED'!F177","v":"-"},{"$f":"'Coordination Timing - PROPOSED'!G177","v":"-"},{"$f":"'Coordination Timing - PROPOSED'!H177","v":"-"},{"$f":"'Coordination Timing - PROPOSED'!I177","v":"-"},{"$f":"'Coordination Timing - PROPOSED'!J177","v":"-"},{"$f":"'Coordination Timing - PROPOSED'!K177","v":"-"}]
[{"$f":"'Coordination Timing - EXISTING'!A196","v":"-"},{"$f":"'Coordination Timing - EXISTING'!B196","v":"-"},{"$f":"'Coordination Timing - EXISTING'!C196","v":"-"},{"$f":"'Coordination Timing - EXISTING'!D196","v":"-"},{"$f":"'Coordination Timing - EXISTING'!E196","v":"-"},{"$f":"'Coordination Timing - EXISTING'!F196","v":"-"},{"$f":"'Coordination Timing - EXISTING'!G196","v":"-"},{"$f":"'Coordination Timing - EXISTING'!H196","v":"-"},{"$f":"'Coordination Timing - EXISTING'!I196","v":"-"},{"$f":"'Coordination Timing - EXISTING'!J196","v":"-"},{"$f":"'Coordination Timing - EXISTING'!K196","v":"-"},null,{"$f":"'Coordination Timing - PROPOSED'!A178","v":"-"},{"$f":"'Coordination Timing - PROPOSED'!B178","v":"-"},{"$f":"'Coordination Timing - PROPOSED'!C178","v":"-"},{"$f":"'Coordination Timing - PROPOSED'!D178","v":"-"},{"$f":"'Coordination Timing - PROPOSED'!E178","v":"-"},{"$f":"'Coordination Timing - PROPOSED'!F178","v":"-"},{"$f":"'Coordination Timing - PROPOSED'!G178","v":"-"},{"$f":"'Coordination Timing - PROPOSED'!H178","v":"-"},{"$f":"'Coordination Timing - PROPOSED'!I178","v":"-"},{"$f":"'Coordination Timing - PROPOSED'!J178","v":"-"},{"$f":"'Coordination Timing - PROPOSED'!K178","v":"-"}]
[]
[null,null,null,null,null,null,null,null,"EXISTING TIMING",null,null,null,null,null,null,null,null,null,null,null,"PROPOSED TIMING"]

{"sheet":"Comb Coord Schedule-Read Only","index":8,"n_rows":25,"n_cols":9,"rows_kept":25,"cut":false,"hidden":false,"merged":[[1,0,1,10],[2,1,2,2],[2,3,2,4],[2,5,2,7],[2,8,2,10],[6,1,6,2],[6,3,6,4],[6,5,6,7],[6,8,6,10],[3,1,3,2],[3,3,3,4],[3,5,3,7],[3,8,3,10],[4,1,4,2],[4,3,4,4],[4,5,4,7],[4,8,4,10],[5,1,5,2],[5,3,5,4],[5,5,5,7],[5,8,5,10],[7,1,7,2],[7,3,7,4],[7,5,7,7],[7,8,7,10],[9,1,9,2],[9,3,9,4],[9,5,9,7],[9,8,9,10],[8,1,8,2],[8,3,8,4],[8,5,8,7],[8,8,8,10],[11,1,11,2],[11,3,11,4],[11,5,11,7],[11,8,11,10],[10,1,10,2],[10,3,10,4],[10,5,10,7],[10,8,10,10],[15,8,15,10],[14,0,14,10],[15,1,15,2],[15,3,15,4],[15,5,15,7],[17,5,17,7],[17,8,17,10],[18,1,18,2],[18,3,18,4],[18,5,18,7],[18,8,18,10],[16,1,16,2],[16,3,16,4],[16,5,16,7],[16,8,16,10],[24,1,24,2],[24,3,24,4],[24,5,24,7],[24,8,24,10],[21,1,21,2],[21,3,21,4],[21,5,21,7],[21,8,21,10],[22,1,22,2],[22,3,22,4],[22,5,22,7],[22,8,22,10],[0,0,0,10],[13,0,13,10],[23,1,23,2],[23,3,23,4],[23,5,23,7],[23,8,23,10],[19,1,19,2],[19,3,19,4],[19,5,19,7],[19,8,19,10],[20,1,20,2],[20,3,20,4],[20,5,20,7],[20,8,20,10],[17,1,17,2],[17,3,17,4]]}
["EXISTING"]
["COORDINATION TIMING PLANS"]
["DAY(S) OF WEEK","PLAN NAME",null,"HOURS",null,"PLAN NO. OR\nCYCLE/SPLIT/OFFSET",null,null,"CYCLE LENGTH (SEC)"]
[{"$f":"'Coordination Timing - EXISTING'!A27","v":"MON-FRI"},{"$f":"'Coordination Timing - EXISTING'!B27:C27","v":"FREE"},null,{"$f":"'Coordination Timing - EXISTING'!D27:E27","v":"0000-0700"},null,{"$f":"'Coordination Timing - EXISTING'!F27:H27","v":100},null,null,{"$f":"'Coordination Timing - EXISTING'!I27:K27","v":"-"}]
[{"$f":"'Coordination Timing - EXISTING'!A28","v":"MON-FRI"},{"$f":"'Coordination Timing - EXISTING'!B28:C28","v":"AM"},null,{"$f":"'Coordination Timing - EXISTING'!D28:E28","v":"0700-1100"},null,{"$f":"'Coordination Timing - EXISTING'!F28:H28","v":"1-1"},null,null,{"$f":"'Coordination Timing - EXISTING'!I28:K28","v":90}]
["-",{"$f":"'Coordination Timing - EXISTING'!B29:C29","v":"MD"},null,{"$f":"'Coordination Timing - EXISTING'!D29:E29","v":"1100-1430"},null,{"$f":"'Coordination Timing - EXISTING'!F29:H29","v":"1-2"},null,null,{"$f":"'Coordination Timing - EXISTING'!I29:K29","v":100}]
["-",{"$f":"'Coordination Timing - EXISTING'!B30:C30","v":"PM"},null,{"$f":"'Coordination Timing - EXISTING'!D30:E30","v":"1430-2000"},null,{"$f":"'Coordination Timing - EXISTING'!F30:H30","v":"1-3"},null,null,{"$f":"'Coordination Timing - EXISTING'!I30:K30","v":100}]
["-",{"$f":"'Coordination Timing - EXISTING'!B31:C31","v":"FREE"},null,{"$f":"'Coordination Timing - EXISTING'!D31:E31","v":"2000-0000"},null,{"$f":"'Coordination Timing - EXISTING'!F31:H31","v":100},null,null,{"$f":"'Coordination Timing - EXISTING'!I31:K31","v":"-"}]
["-",{"$f":"'Coordination Timing - EXISTING'!B33:C33","v":"FREE"},null,{"$f":"'Coordination Timing - EXISTING'!D33:E33","v":"0000-0830"},null,{"$f":"'Coordination Timing - EXISTING'!F33:H33","v":100},null,null,{"$f":"'Coordination Timing - EXISTING'!I33:K33","v":"-"}]
["-",{"$f":"'Coordination Timing - EXISTING'!B34:C34","v":"Weekend"},null,{"$f":"'Coordination Timing - EXISTING'!D34:E34","v":"0830-2000"},null,{"$f":"'Coordination Timing - EXISTING'!F34:H34","v":"1-2"},null,null,{"$f":"'Coordination Timing - EXISTING'!I34:K34","v":100}]
["-",{"$f":"'Coordination Timing - EXISTING'!B60:C60","v":"FREE"},null,{"$f":"'Coordination Timing - EXISTING'!D60:E60","v":"2000-2300"},null,{"$f":"'Coordination Timing - EXISTING'!F60:H60","v":100},null,null,{"$f":"'Coordination Timing - EXISTING'!I60:K60","v":"-"}]
["-",{"$f":"'Coordination Timing - EXISTING'!B67:C67","v":"FLASH"},null,{"$f":"'Coordination Timing - EXISTING'!D67:E67","v":"2300-0000"},null,{"$f":"'Coordination Timing - EXISTING'!F67:H67","v":99},null,null,{"$f":"'Coordination Timing - EXISTING'!I67:K67","v":"-"}]
[]
["PROPOSED"]
["COORDINATION TIMING PLANS"]
["DAY(S) OF WEEK","PLAN NAME",null,"HOURS",null,"PLAN NO. OR\nCYCLE/SPLIT/OFFSET",null,null,"CYCLE LENGTH (SEC)"]
["-",{"$f":"'Coordination Timing - PROPOSED'!B16:C16","v":"AM Peak"},null,{"$f":"'Coordination Timing - PROPOSED'!D16:E16","v":"0530-0900"},null,{"$f":"'Coordination Timing - PROPOSED'!F16:H16","v":10},null,null,{"$f":"'Coordination Timing - PROPOSED'!I16:K16","v":115}]
["-",{"$f":"'Coordination Timing - PROPOSED'!B17:C17","v":"Offpeak"},null,{"$f":"'Coordination Timing - PROPOSED'!D17:E17","v":"0900-1100"},null,{"$f":"'Coordination Timing - PROPOSED'!F17:H17","v":40},null,null,{"$f":"'Coordination Timing - PROPOSED'!I17:K17","v":110}]
["-",{"$f":"'Coordination Timing - PROPOSED'!B18:C18","v":"MD Peak"},null,{"$f":"'Coordination Timing - PROPOSED'!D18:E18","v":"1100-1400"},null,{"$f":"'Coordination Timing - PROPOSED'!F18:H18","v":20},null,null,{"$f":"'Coordination Timing - PROPOSED'!I18:K18","v":120}]
["-",{"$f":"'Coordination Timing - PROPOSED'!B19:C19","v":"PM Peak"},null,{"$f":"'Coordination Timing - PROPOSED'!D19:E19","v":"1400-1830"},null,{"$f":"'Coordination Timing - PROPOSED'!F19:H19","v":30},null,null,{"$f":"'Coordination Timing - PROPOSED'!I19:K19","v":125}]
["-",{"$f":"'Coordination Timing - PROPOSED'!B21:C21","v":"FREE"},null,{"$f":"'Coordination Timing - PROPOSED'!D21:E21","v":"2100-2400"},null,{"$f":"'Coordination Timing - PROPOSED'!F21:H21","v":"-"},null,null,{"$f":"'Coordination Timing - PROPOSED'!I21:K21","v":"-"}]
["-",{"$f":"'Coordination Timing - PROPOSED'!B22:C22","v":"-"},null,{"$f":"'Coordination Timing - PROPOSED'!D22:E22","v":"-"},null,{"$f":"'Coordination Timing - PROPOSED'!F22:H22","v":"-"},null,null,{"$f":"'Coordination Timing - PROPOSED'!I22:K22","v":"-"}]
["-",{"$f":"'Coordination Timing - PROPOSED'!B25:C25","v":"Weekend Peak"},null,{"$f":"'Coordination Timing - PROPOSED'!D25:E25","v":"1000-1800"},null,{"$f":"'Coordination Timing - PROPOSED'!F25:H25","v":60},null,null,{"$f":"'Coordination Timing - PROPOSED'!I25:K25","v":120}]
["-",{"$f":"'Coordination Timing - PROPOSED'!B27:C27","v":"FREE"},null,{"$f":"'Coordination Timing - PROPOSED'!D27:E27","v":"2000-2400"},null,{"$f":"'Coordination Timing - PROPOSED'!F27:H27","v":"-"},null,null,{"$f":"'Coordination Timing - PROPOSED'!I27:K27","v":"-"}]
["-",{"$f":"_xlfn.SINGLE('Coordination Timing - PROPOSED'!#REF!)","v":{"$error":"#REF!"}},null,{"$f":"_xlfn.SINGLE('Coordination Timing - PROPOSED'!#REF!)","v":{"$error":"#REF!"}},null,{"$f":"_xlfn.SINGLE('Coordination Timing - PROPOSED'!#REF!)","v":{"$error":"#REF!"}},null,null,{"$f":"_xlfn.SINGLE('Coordination Timing - PROPOSED'!#REF!)","v":{"$error":"#REF!"}}]