Workbook
Name SheetBorder: "Group 9"

Sheet TC GEN SUM
L1: PARTICIPATION | N1: ITEM | O1: ITEM | P1: GRAND | Q1: UNIT | R1: DESCRIPTION | S1: SEE
S2: SHEET
D3: 13 | E3: 14 | F3: 15 | G3: 16 | H3: 19 | L3: 01/ENH/PV | M3: 01/SAF/PV | O3: EXT. | P3: TOTAL | S3: NO.
R6: MAINTENANCE OF TRAFFIC
H7: =MOT_SUBSUMMARY_3!G79 -> 201 | N7: =MOT_SUBSUMMARY_1!G4 -> 411 | O7: =MOT_SUBSUMMARY_1!G1 -> 10000 | P7: =SUM(B7:K7) -> 201 | Q7: =MOT_SUBSUMMARY_1!G15 -> CY | R7: =MOT_SUBSUMMARY_1!G5 -> STABILIZED CRUSHED AGGREGATE
E9: 80 | N9: 614 | O9: 11110 | P9: =SUM(B9:K9) -> 80 | Q9: HOUR | R9: LAW ENFORCEMENT OFFICER WITH PATROL CAR FOR ASSISTANCE
D10: LS | N10: 614 | O10: 12420 | P10: LS | R10: DETOUR SIGNING
E11: 20 | F11: 160 | N11: 614 | O11: 13000 | P11: =SUM(B11:K11) -> 180 | Q11: CY | R11: ASPHALT CONCRETE FOR MAINTAINING TRAFFIC
F12: 16 | N12: 614 | O12: 18601 | P12: =SUM(B12:K12) -> 16 | Q12: SNMT | R12: PORTABLE CHANGEABLE MESSAGE SIGN, AS PER PLAN | S12: 15
G13: 2.8 | N13: 614 | O13: 21000 | P13: =SUM(B13:K13) -> 2.8 | Q13: MILE | R13: WORK ZONE CENTER LINE, CLASS I
H15: =MOT_SUBSUMMARY_3!H79 -> 4.09 | N15: =MOT_SUBSUMMARY_1!I4 -> 614 | O15: =MOT_SUBSUMMARY_1!I1 -> 22000 | P15: =SUM(B15:K15) -> 4.09 | Q15: MILE | R15: WORK ZONE EDGE LINE, CLASS I, 4"
G16: 500 | N16: 614 | O16: 23000 | P16: =SUM(B16:K16) -> 500 | Q16: FET | R16: WORK ZONE CHANNELIZING LINE, CLASS I, 8"
G17: 225 | H17: =MOT_SUBSUMMARY_3!J79 -> 305 | N17: =MOT_SUBSUMMARY_1!J4 -> 614 | O17: =MOT_SUBSUMMARY_1!J1 -> 26000 | P17: =SUM(B17:K17) -> 530 | Q17: =MOT_SUBSUMMARY_1!J15 -> FT | R17: =MOT_SUBSUMMARY_1!J5 -> WORK ZONE STOP LINE, CLASS I
P18: =SUM(B18:K18) -> 0
E19: LS | N19: 615 | O19: 10001 | P19: LS | R19: ROADS FOR MAINTAINING TRAFFIC, AS PER PLAN | S19: 14
H20: =MOT_SUBSUMMARY_3!K79 -> 3462 | N20: =MOT_SUBSUMMARY_1!K4 -> 615 | O20: =MOT_SUBSUMMARY_1!K1 -> 20000 | P20: =SUM(B20:K20) -> 3462 | Q20: SY | R20: =MOT_SUBSUMMARY_1!K5 -> PAVEMENT FOR MAINTAINING TRAFFIC, CLASS A
P21: =SUM(B21:K21) -> 0
E22: 20 | N22: 616 | O22: 10000 | P22: =SUM(B22:K22) -> 20 | Q22: MGAL | R22: WATER
P23: =SUM(B23:K23) -> 0
P24: =SUM(B24:K24) -> 0
P25: =SUM(B25:K25) -> 0
P26: =SUM(B26:K26) -> 0
P27: =SUM(B27:K27) -> 0
P28: =SUM(B28:K28) -> 0
P29: =SUM(B29:K29) -> 0
P30: =SUM(B30:K30) -> 0
P31: =SUM(B31:K31) -> 0
P38: =SUM(B38:K38) -> 0
P39: =SUM(B39:K39) -> 0
P41: =SUM(B41:K41) -> 0
... P71: =SUM(B71:K71) -> 0
O72: 0 | P72: =SUM(B72:K72) -> 0
O73: 0 | P73: =SUM(B73:K73) -> 0
O74: 0 | P74: =SUM(B74:K74) -> 0
O75: 0 | P75: =SUM(B75:K75) -> 0
M76: =P76 -> 0 | O76: 0 | P76: =SUM(B76:K76) -> 0
M77: =P77 -> 0 | P77: =SUM(B77:K77) -> 0
M78: =P78 -> 0

Sheet MOT_SUBSUMMARY_1
E1: EXTENSION # | G1: 10000 | H1: 22000 | I1: 22000 | J1: 26000 | K1: 20000
G4: 411 | H4: =MOT_SUBSUMMARY_1!H4 -> 614 | I4: =MOT_SUBSUMMARY_1!I4 -> 614 | J4: =MOT_SUBSUMMARY_1!J4 -> 614 | K4: =MOT_SUBSUMMARY_1!K4 -> 615
D5: STATION | G5: STABILIZED CRUSHED AGGREGATE | H5: =MOT_SUBSUMMARY_1!H5 -> WORK ZONE EDGE LINE, CLASS I, 4" (WHITE) | I5: =MOT_SUBSUMMARY_1!I5 -> WORK ZONE EDGE LINE, CLASS I, 4" (YELLOW) | J5: =MOT_SUBSUMMARY_1!J5 -> WORK ZONE STOP LINE, CLASS I | K5: =MOT_SUBSUMMARY_1!K5 -> PAVEMENT FOR MAINTAINING TRAFFIC, CLASS A
A9: SHEET | B9: REF. | C9: LOCATION | F9: SIDE
A10: NO. | B10: NO.
D15: FROM | E15: TO | G15: CY | H15: =MOT_SUBSUMMARY_1!H15 -> FT | I15: =MOT_SUBSUMMARY_1!I15 -> FT | J15: =MOT_SUBSUMMARY_1!J15 -> FT | K15: =MOT_SUBSUMMARY_1!K15 -> SY
C17: PHASE 2
A19: 29 | B19: EY | C19: EAST AVE | D19: 15035 | E19: 15200 | F19: RT/LT | I19: =E19-D19 -> 165
A20: =A19 -> 29 | B20: EW | C20: EAST AVE | D20: 15035 | E20: 15200 | F20: RT | H20: =E20-D20 -> 165
A22: =A19+1 -> 30 | B22: EY | C22: EAST AVE | D22: 15200 | E22: 15341 | F22: LT | I22: 202
A23: =A22 -> 30 | B23: EW | C23: EAST AVE | D23: 15200 | E23: 15650 | F23: RT/LT | H23: =E23-D23 -> 450
A24: =A22 -> 30 | C24: EAST AVE | D24: 15544 | E24: 15650 | F24: LT | G24: 4 | K24: 52
A25: =A23 -> 30 | B25: EY | C25: EAST AVE | D25: 15544 | E25: 15650 | F25: LT | I25: =E25-D25 -> 106
A27: =A22+1 -> 31 | B27: EY | C27: EAST AVE | D27: 15650 | E27: 16100 | F27: LT | I27: =E27-D27 -> 450
A28: =A27 -> 31 | B28: EW | C28: EAST AVE | D28: 15650 | E28: 16100 | F28: LT | H28: =E28-D28 -> 450
A29: =A27 -> 31 | C29: EAST AVE | D29: 15650 | E29: 16100 | F29: LT | G29: 17 | K29: 306
A31: =A27+1 -> 32 | B31: EY | C31: EAST AVE | D31: 16100 | E31: 16550 | F31: LT | I31: =E31-D31 -> 450
A32: =A31 -> 32 | B32: EW | C32: EAST AVE/INDIAN HILLS DR | D32: 16100 | E32: 16448 | F32: LT/LT | H32: 374
A33: =A31 -> 32 | B33: EW | C33: INDIAN HILLS DR/EAST AVE | D33: 16452 | E33: 16550 | F33: RT/LT | H33: 124
A34: =A31 -> 32 | B34: SL | C34: INDIAN HILLS DR | D34: 5996 | F34: RT | J34: 28
A35: =A31 -> 32 | C35: EAST AVE | D35: 16100 | E35: 16550 | F35: LT | G35: 17 | K35: 293
A37: =A35+1 -> 33 | B37: EY | C37: EAST AVE | D37: 16550 | E37: 17000 | F37: LT | I37: =E37-D37 -> 450
A38: =A37 -> 33 | B38: EW | C38: EAST AVE | D38: 16550 | E38: 17000 | F38: LT | H38: =E38-D38 -> 450
A39: =A38 -> 33 | C39: EAST AVE | D39: 16550 | E39: 16998 | F39: LT | G39: 17 | K39: 329
A41: =A39+1 -> 34 | B41: EY | C41: EAST AVE | D41: 17000 | E41: 17450 | F41: LT | I41: =E41-D41 -> 450
A42: =A41 -> 34 | B42: SL | C42: MILTON DR | D42: 7035 | F42: LT/RT | J42: 15
A43: =A42 -> 34 | B43: EW | C43: EAST AVE/ MACA DR | D43: 17000 | E43: 7922 | F43: LT/LT | H43: 448
A44: =A43 -> 34 | B44: SL | C44: MACA DR | D44: 7966 | F44: RT | J44: 16
A45: =A44 -> 34 | B45: EW | C45: MACA DR/EAST AVE | D45: 7953 | E45: 17450 | F45: RT/LT | H45: 75
A46: =A45 -> 34 | C46: EAST AVE | D46: 17225 | E46: 17450 | F46: LT | G46: 9 | K46: 166
A48: =A46+1 -> 35 | B48: EW | C48: EAST AVE | D48: 17450 | E48: 17900 | F48: LT | H48: =E48-D48 -> 450
A49: =A48 -> 35 | B49: EY | C49: EAST AVE | D49: 17450 | E49: 17900 | F49: LT | I49: =E49-D49 -> 450
A50: =A49 -> 35 | C50: EAST AVE | D50: 17525 | E50: 17900 | F50: LT | G50: 17 | K50: 336
A52: =A50+1 -> 36 | B52: EY | C52: EAST AVE | D52: 17900 | E52: 18350 | F52: LT | I52: =E52-D52 -> 450
A53: =A52 -> 36 | B53: EW | C53: EAST AVE | D53: 17900 | E53: 18350 | F53: LT | H53: =E53-D53 -> 450
A54: =A52 -> 36 | C54: EAST AVE | D54: 17900 | E54: 18350 | F54: LT | G54: 17 | K54: 318
A56: =A54+1 -> 37 | B56: EY | C56: EAST AVE | D56: 18350 | E56: 18800 | F56: LT | I56: =E56-D56 -> 450
A57: =A56 -> 37 | B57: SL | C57: ERNEST DR | D57: 9034 | F57: LT/RT | J57: 12
A58: =A56 -> 37 | B58: EW | C58: EAST AVE | D58: 18350 | E58: 18800 | F58: LT | H58: =E58-D58 -> 450
A59: =A56 -> 37 | C59: EAST AVE | D59: 18350 | E59: 18420 | F59: LT | G59: 3 | K59: 51
...

Sheet MOT_SUBSUMMARY_2
E1: EXTENSION # | G1: 10000 | H1: =MOT_SUBSUMMARY_1!H1 -> 22000 | I1: =MOT_SUBSUMMARY_1!I1 -> 22000 | J1: =MOT_SUBSUMMARY_1!J1 -> 26000 | K1: =MOT_SUBSUMMARY_1!K1 -> 20000 | L1: =MOT_SUBSUMMARY_1!L1 -> 0 | M1: =MOT_SUBSUMMARY_1!M1 -> 0 | O1: =MOT_SUBSUMMARY_1!O1 -> 0 | P1: =MOT_SUBSUMMARY_1!P1 -> 0 | Q1: =MOT_SUBSUMMARY_1!Q1 -> 0 | R1: =MOT_SUBSUMMARY_1!R1 -> 0 | S1: =MOT_SUBSUMMARY_1!S1 -> 0 | T1: =MOT_SUBSUMMARY_1!T1 -> 0 | U1: =MOT_SUBSUMMARY_1!U1 -> 0 | V1: =MOT_SUBSUMMARY_1!V1 -> 0 | ... AI1: =MOT_SUBSUMMARY_1!AI1 -> 0
G4: 411 | H4: =MOT_SUBSUMMARY_1!H4 -> 614 | I4: =MOT_SUBSUMMARY_1!I4 -> 614 | J4: =MOT_SUBSUMMARY_1!J4 -> 614 | K4: =MOT_SUBSUMMARY_1!K4 -> 615 | L4: =MOT_SUBSUMMARY_1!L4 -> 0 | M4: =MOT_SUBSUMMARY_1!M4 -> 0 | O4: =MOT_SUBSUMMARY_1!O4 -> 0 | P4: =MOT_SUBSUMMARY_1!P4 -> 0 | Q4: =MOT_SUBSUMMARY_1!Q4 -> 0 | R4: =MOT_SUBSUMMARY_1!R4 -> 0 | S4: =MOT_SUBSUMMARY_1!S4 -> 0 | T4: =MOT_SUBSUMMARY_1!T4 -> 0 | U4: =MOT_SUBSUMMARY_1!U4 -> 0 | V4: =MOT_SUBSUMMARY_1!V4 -> 0 | ... AB4: =MOT_SUBSUMMARY_1!AB4 -> 0
D5: STATION | G5: STABILIZED CRUSHED AGGREGATE | H5: =MOT_SUBSUMMARY_1!H5 -> WORK ZONE EDGE LINE, CLASS I, 4" (WHITE) | I5: =MOT_SUBSUMMARY_1!I5 -> WORK ZONE EDGE LINE, CLASS I, 4" (YELLOW) | J5: =MOT_SUBSUMMARY_1!J5 -> WORK ZONE STOP LINE, CLASS I | K5: =MOT_SUBSUMMARY_1!K5 -> PAVEMENT FOR MAINTAINING TRAFFIC, CLASS A | L5: =MOT_SUBSUMMARY_1!L5 -> 0 | M5: =MOT_SUBSUMMARY_1!M5 -> 0 | O5: =MOT_SUBSUMMARY_1!O5 -> 0 | P5: =MOT_SUBSUMMARY_1!P5 -> 0 | Q5: =MOT_SUBSUMMARY_1!Q5 -> 0 | R5: =MOT_SUBSUMMARY_1!R5 -> 0 | S5: =MOT_SUBSUMMARY_1!S5 -> 0 | T5: =MOT_SUBSUMMARY_1!T5 -> 0 | U5: =MOT_SUBSUMMARY_1!U5 -> 0 | V5: =MOT_SUBSUMMARY_1!V5 -> 0 | ... AB5: =MOT_SUBSUMMARY_1!AB5 -> 0
A9: SHEET | B9: REF. | C9: LOCATION | F9: SIDE
A10: NO. | B10: NO.
D15: FROM | E15: TO | G15: CY | H15: =MOT_SUBSUMMARY_1!H15 -> FT | I15: =MOT_SUBSUMMARY_1!I15 -> FT | J15: =MOT_SUBSUMMARY_1!J15 -> FT | K15: =MOT_SUBSUMMARY_1!K15 -> SY | L15: =MOT_SUBSUMMARY_1!L15 -> 0 | M15: =MOT_SUBSUMMARY_1!M15 -> 0 | O15: =MOT_SUBSUMMARY_1!O15 -> 0 | P15: =MOT_SUBSUMMARY_1!P15 -> 0 | Q15: =MOT_SUBSUMMARY_1!Q15 -> 0 | R15: =MOT_SUBSUMMARY_1!R15 -> 0 | S15: =MOT_SUBSUMMARY_1!S15 -> 0 | T15: =MOT_SUBSUMMARY_1!T15 -> 0 | U15: =MOT_SUBSUMMARY_1!U15 -> 0 | V15: =MOT_SUBSUMMARY_1!V15 -> 0 | ... AB15: =MOT_SUBSUMMARY_1!AB15 -> 0
A17: =MOT_SUBSUMMARY_1!A70+1 -> 40 | B17: EY | C17: EAST AVE | D17: 19700 | E17: 19851 | F17: LT | I17: =E17-D17 -> 151
A18: =A17 -> 40 | B18: SL | C18: EAST AVE | D18: 19915 | F18: LT/RT | J18: 14
A19: =A18 -> 40 | B19: EW | C19: EAST AVE/WASHBURN RD | D19: 19700 | E19: 10942 | F19: LT/RT | H19: 325
A20: =A19 -> 40 | B20: EW | C20: WASHBURN RD/EAST AVE | D20: 10936 | E20: 20115 | F20: RT/RT | H20: 175
A21: =A19 -> 40 | C21: EAST AVE | D21: 19700 | E21: 19799 | F21: LT | G21: 8 | K21: 24
A23: =A21+1 -> 41 | B23: EY | C23: EAST AVE | D23: 20206 | E23: 20600 | F23: LT | I23: =E23-D23 -> 394
A24: =A23 -> 41 | B24: EW | C24: EAST AVE/EASTPOINTE DR | D24: 20150 | E24: 11948 | F24: RT/LT | H24: 336
A25: =A24 -> 41 | B25: SL | C25: EASTPOINTE DR | D25: 11994 | F25: RT | J25: 30
A26: =A25 -> 41 | B26: EW | C26: EASTPOINTE DR/EAST AVE | D26: 11946 | E26: 20600 | F26: RT/LT | H26: 159
A27: =A26 -> 41 | C27: EAST AVE | D27: 20320 | E27: 20600 | F27: LT | G27: 11 | K27: 200
A29: =A27+1 -> 42 | B29: EY | C29: EAST AVE | D29: 20600 | E29: 21050 | F29: LT | I29: =E29-D29 -> 450
A30: =A29 -> 42 | B30: SL | C30: RESERVE DR | D30: 12035 | F30: LT | J30: 15
A31: =A29 -> 42 | B31: EW | C31: EAST AVE | D31: 20600 | E31: 21050 | F31: LT | H31: =E31-D31 -> 450
A32: =A30 -> 42 | C32: EAST AVE | D32: 20600 | E32: 20605 | F32: LT | G32: 1 | K32: 6
A33: =A29 -> 42 | C33: EAST AVE | D33: 20681 | E33: 21050 | F33: LT | G33: 14 | K33: 322
A35: =A33+1 -> 43 | B35: EY | C35: EAST AVE | D35: 21050 | E35: 21500 | F35: LT | I35: =E35-D35 -> 450
A36: =A35 -> 43 | B36: EW | C36: EAST AVE | D36: 21050 | E36: 21500 | F36: LT | H36: =E36-D36 -> 450
A37: =A35 -> 43 | C37: EAST AVE | D37: 21050 | E37: 21226 | F37: LT | G37: 20 | K37: 96
A39: =A37+1 -> 44 | B39: EY | C39: EAST AVE | D39: 21500 | E39: 21950 | F39: LT | I39: =E39-D39 -> 450
A40: =A39 -> 44 | B40: SL | C40: EAST AVE | D40: 21695 | F40: LT | J40: 11
A41: =A39 -> 44 | B41: EW | C41: EAST AVE | D41: 21500 | E41: 21950 | F41: LT | H41: =E41-D41 -> 450
A43: =A41+1 -> 45 | B43: EY | C43: EAST AVE | D43: 21950 | E43: 22441 | F43: LT/RT | I43: =E43-D43 -> 491
A44: =A43 -> 45 | B44: EW | C44: EAST AVE | D44: 21950 | E44: 22441 | F44: LT/RT | H44: =E44-D44 -> 491
C46: PHASE 3
A48: =A44+1 -> 46 | B48: EY | C48: EAST AVE | D48: 15438 | E48: 15650 | F48: LT/RT | I48: 282
A50: =A48+1 -> 47 | B50: EY | C50: EAST AVE | D50: 15650 | E50: 16100 | F50: RT | I50: =E50-D50 -> 450
A52: =A50+1 -> 48 | B52: EY | C52: EAST AVE | D52: 16100 | E52: 16550 | F52: RT | I52: =E52-D52 -> 450
A53: =A52 -> 48 | B53: SL | C53: INDIAN HILLS DR | D53: 5966 | F53: RT | J53: 19
A55: =A53+1 -> 49 | B55: EY | C55: EAST AVE | D55: 16550 | E55: 17000 | F55: RT | I55: =E55-D55 -> 450
A57: =A55+1 -> 50 | B57: EY | C57: EAST AVE/MILTON DR | D57: 17000 | E57: 7044 | F57: RT/LT | I57: 133
A58: =A57 -> 50 | B58: SL | C58: MILTON DR | D58: 7007 | F58: LT | J58: 22
A59: =A58 -> 50 | B59: SL | C59: MACA DR | D59: 7966 | F59: RT | J59: 16
A60: =A59 -> 50 | B60: EY | C60: MACA DR/EAST AVE | D60: 7953 | E60: 17450 | F60: LT/RT | I60: 365
A62: =A57+1 -> 51 | B62: EY | C62: EAST AVE | D62: 17450 | E62: 17900 | F62: RT | I62: =E62-D62 -> 450
...

Sheet MOT_SUBSUMMARY_3
E1: EXTENSION # | G1: 10000 | H1: =MOT_SUBSUMMARY_1!H1 -> 22000 | I1: =MOT_SUBSUMMARY_1!I1 -> 22000 | J1: =MOT_SUBSUMMARY_1!J1 -> 26000 | K1: =MOT_SUBSUMMARY_1!K1 -> 20000 | L1: =MOT_SUBSUMMARY_1!L1 -> 0 | M1: =MOT_SUBSUMMARY_1!M1 -> 0 | O1: =MOT_SUBSUMMARY_1!O1 -> 0 | P1: =MOT_SUBSUMMARY_1!P1 -> 0 | Q1: =MOT_SUBSUMMARY_1!Q1 -> 0 | R1: =MOT_SUBSUMMARY_1!R1 -> 0 | S1: =MOT_SUBSUMMARY_1!S1 -> 0 | T1: =MOT_SUBSUMMARY_1!T1 -> 0 | U1: =MOT_SUBSUMMARY_1!U1 -> 0 | V1: =MOT_SUBSUMMARY_1!V1 -> 0 | ... AB1: =MOT_SUBSUMMARY_1!AB1 -> 0
G4: 411 | H4: =MOT_SUBSUMMARY_1!H4 -> 614 | I4: =MOT_SUBSUMMARY_1!I4 -> 614 | J4: =MOT_SUBSUMMARY_1!J4 -> 614 | K4: =MOT_SUBSUMMARY_1!K4 -> 615 | L4: =MOT_SUBSUMMARY_1!L4 -> 0 | M4: =MOT_SUBSUMMARY_1!M4 -> 0 | O4: =MOT_SUBSUMMARY_1!O4 -> 0 | P4: =MOT_SUBSUMMARY_1!P4 -> 0 | Q4: =MOT_SUBSUMMARY_1!Q4 -> 0 | R4: =MOT_SUBSUMMARY_1!R4 -> 0 | S4: =MOT_SUBSUMMARY_1!S4 -> 0 | T4: =MOT_SUBSUMMARY_1!T4 -> 0 | U4: =MOT_SUBSUMMARY_1!U4 -> 0 | V4: =MOT_SUBSUMMARY_1!V4 -> 0 | ... AB4: =MOT_SUBSUMMARY_1!AB4 -> 0
D5: STATION | G5: STABILIZED CRUSHED AGGREGATE | H5: =MOT_SUBSUMMARY_1!H5 -> WORK ZONE EDGE LINE, CLASS I, 4" (WHITE) | I5: =MOT_SUBSUMMARY_1!I5 -> WORK ZONE EDGE LINE, CLASS I, 4" (YELLOW) | J5: =MOT_SUBSUMMARY_1!J5 -> WORK ZONE STOP LINE, CLASS I | K5: =MOT_SUBSUMMARY_1!K5 -> PAVEMENT FOR MAINTAINING TRAFFIC, CLASS A | L5: =MOT_SUBSUMMARY_1!L5 -> 0 | M5: =MOT_SUBSUMMARY_1!M5 -> 0 | O5: =MOT_SUBSUMMARY_1!O5 -> 0 | P5: =MOT_SUBSUMMARY_1!P5 -> 0 | Q5: =MOT_SUBSUMMARY_1!Q5 -> 0 | R5: =MOT_SUBSUMMARY_1!R5 -> 0 | S5: =MOT_SUBSUMMARY_1!S5 -> 0 | T5: =MOT_SUBSUMMARY_1!T5 -> 0 | U5: =MOT_SUBSUMMARY_1!U5 -> 0 | V5: =MOT_SUBSUMMARY_1!V5 -> 0 | ... AB5: =MOT_SUBSUMMARY_1!AB5 -> 0
A9: SHEET | B9: REF. | C9: LOCATION | F9: SIDE
A10: NO. | B10: NO.
D15: FROM | E15: TO | G15: CY | H15: =MOT_SUBSUMMARY_1!H15 -> FT | I15: =MOT_SUBSUMMARY_1!I15 -> FT | J15: =MOT_SUBSUMMARY_1!J15 -> FT | K15: =MOT_SUBSUMMARY_1!K15 -> SY | L15: =MOT_SUBSUMMARY_1!L15 -> 0 | M15: =MOT_SUBSUMMARY_1!M15 -> 0 | O15: =MOT_SUBSUMMARY_1!O15 -> 0 | P15: =MOT_SUBSUMMARY_1!P15 -> 0 | Q15: =MOT_SUBSUMMARY_1!Q15 -> 0 | R15: =MOT_SUBSUMMARY_1!R15 -> 0 | S15: =MOT_SUBSUMMARY_1!S15 -> 0 | T15: =MOT_SUBSUMMARY_1!T15 -> 0 | U15: =MOT_SUBSUMMARY_1!U15 -> 0 | V15: =MOT_SUBSUMMARY_1!V15 -> 0 | ... AB15: =MOT_SUBSUMMARY_1!AB15 -> 0
A17: =MOT_SUBSUMMARY_2!A64+1 -> 53 | B17: EY | C17: EAST AVE/ERNEST DR | D17: 18350 | E17: 9053 | F17: RT/LT | I17: 123
A18: =A17 -> 53 | B18: SL | C18: ERNEST DR | D18: 9006 | F18: LT | J18: 21
A19: =A17 -> 53 | B19: EY | C19: ERNEST DR/EAST AVE | D19: 9040 | E19: 18800 | F19: RT/LT | I19: 377
A21: =A17+1 -> 54 | B21: EY | C21: EAST AVE | D21: 18800 | E21: 19250 | F21: RT | I21: =E21-D21 -> 450
A23: =A21+1 -> 55 | B23: EY | C23: EAST AVE/PARKER LN | D23: 19250 | E23: 10042 | F23: RT/LT | I23: 330
A24: =A23 -> 55 | B24: SL | C24: PARKER LN | D24: 10007 | F24: LT | J24: 20
A25: =A23 -> 55 | B25: EY | C25: PARKER LN/EAST AVE | D25: 10042 | E25: 19700 | F25: RT/RT | I25: 162
A27: =A23+1 -> 56 | B27: EY | C27: EAST AVE/WASHBURN RD | D27: 19700 | E27: 10942 | F27: RT/LT | I27: 321
A28: =A27 -> 56 | B28: SL | C28: EAST AVE | D28: 19915 | F28: RT | J28: 11
A29: =A28 -> 56 | B29: EY | C29: WASHBURN RD/EAST AVE | D29: 10952 | E29: 20150 | F29: RT/RT | I29: 177
A31: =A27+1 -> 57 | B31: EY | C31: EAST AVE | D31: 20150 | E31: 20600 | F31: RT | I31: =E31-D31 -> 450
A32: =A31 -> 57 | B32: SL | C32: EASTPOINTE DR | D32: 11954 | F32: RT | J32: 22
A34: =A31+1 -> 58 | B34: SL | C34: RESERVE DR | D34: 12006 | F34: LT | J34: 22
A35: =A34 -> 58 | B35: EY | C35: EAST AVE/RESERVE DR | D35: 20600 | E35: 12045 | F35: RT/LT | I35: 66
A36: =A35 -> 58 | B36: EY | C36: RESERVE DR/EAST AVE | D36: 12043 | E36: 21050 | F36: RT/RT | I36: 427
A38: =A34+1 -> 59 | B38: EY | C38: EAST AVE | D38: 21050 | E38: 21500 | F38: RT | I38: =E38-D38 -> 450
A40: =A38+1 -> 60 | B40: EY | C40: EAST AVE/PARLIAMENT DR | D40: 21500 | E40: 13052 | F40: RT/LT | I40: 314
A41: =A40 -> 60 | B41: EY | C41: PARLIAMENT DR/EAST AVE | D41: 13095 | E41: 21950 | F41: RT/RT | I41: 227
A43: =A40+1 -> 61 | B43: EY | C43: EAST AVE | D43: 21950 | E43: 22110 | F43: RT | I43: =E43-D43 -> 160
A74: TOTALS THIS SHEET | G74: =SUM(G16:G73) -> 0 | H74: =SUM(H16:I73) -> 4034 | J74: =SUM(J16:J73) -> 96 | K74: =SUM(K16:K73) -> 0 | L74: =SUM(L16:L73) -> 0 | M74: =SUM(M16:M73) -> 0 | O74: =SUM(O16:O73) -> 0 | P74: =SUM(P16:P73) -> 0 | Q74: =SUM(Q16:Q73) -> 0 | R74: =SUM(R16:R73) -> 0 | S74: =SUM(S16:S73) -> 0 | T74: =SUM(T16:T73) -> 0 | U74: =SUM(U16:U73) -> 0 | V74: =SUM(V16:V73) -> 0 | ... AB74: =SUM(AB16:AB73) -> 0
A75: TOTALS CARRIED FROM MOT SUBSUMMARY SHEET 1 OF 3 | G75: =MOT_SUBSUMMARY_1!G79 -> 147 | H75: =MOT_SUBSUMMARY_1!H79 -> 9309 | J75: =MOT_SUBSUMMARY_1!J79 -> 82 | K75: =MOT_SUBSUMMARY_1!K79 -> 2814 | L75: =MOT_SUBSUMMARY_1!I79 -> 0 | Q75: =MOT_SUBSUMMARY_1!Q79 -> 0 | R75: =MOT_SUBSUMMARY_1!R79 -> 0 | S75: =MOT_SUBSUMMARY_1!S79 -> 0 | T75: =MOT_SUBSUMMARY_1!T79 -> 0 | U75: =MOT_SUBSUMMARY_1!U79 -> 0 | V75: =MOT_SUBSUMMARY_1!V79 -> 0 | W75: =MOT_SUBSUMMARY_1!W79 -> 0 | X75: =MOT_SUBSUMMARY_1!X79 -> 0 | ... AB75: =MOT_SUBSUMMARY_1!AB79 -> 0
A76: TOTALS CARRIED FROM MOT SUBSUMMARY SHEET 2 OF 3 | G76: =MOT_SUBSUMMARY_2!G79 -> 54 | H76: =MOT_SUBSUMMARY_2!H79 -> 8252 | J76: =MOT_SUBSUMMARY_2!J79 -> 127 | K76: =MOT_SUBSUMMARY_2!K79 -> 648 | L76: =MOT_SUBSUMMARY_2!I79 -> 0 | Q76: =MOT_SUBSUMMARY_2!Q79 -> 0 | R76: =MOT_SUBSUMMARY_2!R79 -> 0 | S76: =MOT_SUBSUMMARY_2!S79 -> 0 | T76: =MOT_SUBSUMMARY_2!T79 -> 0 | U76: =MOT_SUBSUMMARY_2!U79 -> 0 | V76: =MOT_SUBSUMMARY_2!V79 -> 0 | W76: =MOT_SUBSUMMARY_2!W79 -> 0 | X76: =MOT_SUBSUMMARY_2!X79 -> 0 | ... AB76: =MOT_SUBSUMMARY_2!AB79 -> 0
A77: TOTALS | G77: =SUM(G74:G76) -> 201 | H77: =SUM(H74:I76) -> 21595 | J77: =SUM(J74:J76) -> 305 | K77: =SUM(K74:K76) -> 3462 | L77: =SUM(L74:L76) -> 0 | Q77: =SUM(Q74:Q76) -> 0 | R77: =SUM(R74:R76) -> 0 | S77: =SUM(S74:S76) -> 0 | T77: =SUM(T74:T76) -> 0 | U77: =SUM(U74:U76) -> 0 | V77: =SUM(V74:V76) -> 0 | W77: =SUM(W74:W76) -> 0 | X77: =SUM(X74:X76) -> 0 | ... AB77: =SUM(AB74:AB76) -> 0
A78: TOTAL MILES | H78: =ROUNDUP(H77/5280,2) -> 4.09
A79: TOTALS CARRIED TO GENERAL SUMMARY | G79: =G77 -> 201 | H79: =H78 -> 4.09 | J79: =J77 -> 305 | K79: =K77 -> 3462 | L79: =L77 -> 0 | N79: =SUM(N16:N78) -> 0 | Q79: =Q77 -> 0 | R79: =R77 -> 0 | V79: =V77 -> 0 | W79: =W77 -> 0 | X79: =X77 -> 0 | Y79: =Y77 -> 0 | Z79: =Z77 -> 0 | AA79: =AA77 -> 0 | AB79: =AB77 -> 0
