Workbook

Sheet GC001
A1: STATION TO STATION | C1: SIDE | D1: LENGTH (L) | E1: AVERAGE WIDTH (W) | F1: SURFACE AREA (A=LxW) | G1: SURFACE AREA CADD | H1: AREA FOR 4" COURSE WIDENING | I1: AREA FOR 10" COURSE WIDENING | J1: AREA FOR 18" COURSE WIDENING | K1: AREA FOR 18" STABILIZATION | M1: 204 | N1: 204 | O1: 206 | P1: 206 | Q1: 206 | R1: 254 | S1: 301 | T1: 304 | U1: 407 | V1: 407 | W1: 441 | X1: 441
M2: SUBGRADE COMPACTION | N2: PROOF ROLLING | O2: CEMENT STABALIZED SUBGRADE, 14"DEEP | P2: CURING COAT | Q2: CEMENT | R2: PAVEMENT PLANNING, ASPHALT CONCRETE, (DEPTH VARIES, 3" NOMINAL) | S2: 6" ASPHALT CONCRETE BASE, PG64-22, (449) | T2: 6" AGGREGATE BASE | U2: NON-TRACKING TACK COAT (0.055 GAL/SY) | V2: NON-TRACKING TACK COAT (0.085 GAL/SY) | W2: 1.5" ASPHALT CONCRETE SURFACE COURSE, (448), TYPE 1, PG70-22M | X2: 1.75" ASPHALT CONCRETE INTERMEDIATE COURSE, (448), TYPE 2
D13: FT | E13: FT | F13: SF | G13: SF | H13: SF | I13: SF | J13: SF | K13: SF | M13: SY | N13: HOUR | O13: SY | P13: SY | Q13: TON | R13: SY | S13: CY | T13: CY | U13: GAL | V13: GAL | W13: CY | X13: CY
A14: EAST AVE | Q14: =IF($O14="","",(0.75*$Q$77*115*0.05)*$O14/$Q$78) | AA14: total area
A15: FULL DEPTH REPLACEMENT AREA | Q15: =IF($O15="","",(0.75*$Q$77*115*0.05)*$O15/$Q$78) | AA15: =SUM(G16,F18,F20,F22,G26,F30,G34,F38,G42,F46,F49,F52,F54,F56,F58,F60,F62,F64,F67,F69) -> 114139.34
A16: 15449.74 | B16: 15475 | C16: LT | D16: =B16-A16 -> 25.26 | E16: CADD | F16: CADD | G16: 34.64 | J16: =(D16*$J$78) -> 37.89 | K16: =(D16*$K$78) -> 37.89 | N16: =ROUNDUP(O16/N$77,2) -> 0.01 | O16: =(G16+K16)/9 -> 8.0588889 | P16: =O16 -> 8.0588889 | Q16: =IF($O16="","",(0.75*$Q$77*115*0.05)*$O16/$Q$78) -> 0.22069779 | S16: =((G16)*$S$77)/$S$78 -> 0.64148148 | T16: =((G16+J16)*$T$77)/$T$78 -> 1.3431481 | U16: =((G16/$U$78)*$U$77)*2 -> 0.42337778 | W16: =(G16*$W$77)/$W$78 -> 0.16037037 | X16: =(G16*$X$77)/$X$78 -> 0.18709877
Q17: =IF($O17="","",(0.75*$Q$77*115*0.05)*$O17/$Q$78) | AA17: resurfacing area
A18: 15475 | B18: 15552.26 | C18: LT | D18: =B18-A18 -> 77.26 | E18: 20.804851 | F18: =D18*E18 -> 1607.3828 | J18: =(D18*$J$78) -> 115.89 | K18: =(D18*$K$78) -> 115.89 | N18: =ROUNDUP(O18/N$77,2) -> 0.1 | O18: =(F18+K18)/9 -> 191.47476 | P18: =O18 -> 191.47476 | Q18: =IF($O18="","",(0.75*$Q$77*115*0.05)*$O18/$Q$78) -> 5.2436577 | S18: =((F18)*$S$77)/$S$78 -> 29.766348 | T18: =((F18+J18)*$T$77)/$T$78 -> 31.912459 | U18: =((F18/$U$78)*$U$77)*2 -> 19.64579 | W18: =(F18*$W$77)/$W$78 -> 7.441587 | X18: =(F18*$X$77)/$X$78 -> 8.6818515 | AA18: =SUM(F49,F67,F69) -> 8800.3538
Q19: =IF($O19="","",(0.75*$Q$77*115*0.05)*$O19/$Q$78)
A20: 15552.26 | B20: 15700 | C20: LT | D20: =B20-A20 -> 147.74 | E20: 18.211057 | F20: =D20*E20 -> 2690.5016 | J20: =(D20*$J$78) -> 221.61 | K20: =(D20*$K$78) -> 221.61 | N20: =ROUNDUP(O20/N$77,2) -> 0.17 | O20: =(F20+K20)/9 -> 323.56796 | P20: =O20 -> 323.56796 | Q20: =IF($O20="","",(0.75*$Q$77*115*0.05)*$O20/$Q$78) -> 8.8611138 | S20: =((F20)*$S$77)/$S$78 -> 49.824104 | T20: =((F20+J20)*$T$77)/$T$78 -> 53.927993 | U20: =((F20/$U$78)*$U$77)*2 -> 32.883908 | W20: =(F20*$W$77)/$W$78 -> 12.456026 | X20: =(F20*$X$77)/$X$78 -> 14.53203
Q21: =IF($O21="","",(0.75*$Q$77*115*0.05)*$O21/$Q$78)
A22: 15700 | B22: 17062.48 | C22: LT | D22: =B22-A22 -> 1362.48 | E22: 17.5 | F22: =D22*E22 -> 23843.4 | J22: =(D22*$J$78) -> 2043.72 | K22: =(D22*$K$78) -> 2043.72 | N22: =ROUNDUP(O22/N$77,2) -> 1.44 | O22: =(F22+K22)/9 -> 2876.3467 | P22: =O22 -> 2876.3467 | Q22: =IF($O22="","",(0.75*$Q$77*115*0.05)*$O22/$Q$78) -> 78.770579 | S22: =((F22)*$S$77)/$S$78 -> 441.54444 | T22: =((F22+J22)*$T$77)/$T$78 -> 479.39111 | U22: =((F22/$U$78)*$U$77)*2 -> 291.41933 | W22: =(F22*$W$77)/$W$78 -> 110.38611 | X22: =(F22*$X$77)/$X$78 -> 128.7838
Q23: =IF($O23="","",(0.75*$Q$77*115*0.05)*$O23/$Q$78)
A24: EAST AVE & MILTON DR INT. | Q24: =IF($O24="","",(0.75*$Q$77*115*0.05)*$O24/$Q$78)
A25: FULL DEPTH REPLACEMENT AREA | Q25: =IF($O25="","",(0.75*$Q$77*115*0.05)*$O25/$Q$78)
A26: 17062.48 | B26: 17160.48 | C26: LT | D26: =B26-A26 -> 98 | E26: CADD | F26: CADD | G26: 3220.8736 | J26: =(D26*$J$78) -> 147 | K26: =(D26*$K$78) -> 147 | N26: =ROUNDUP(O26/N$77,2) -> 0.19 | O26: =(G26+K26)/9 -> 374.20818 | P26: =O26 -> 374.20818 | Q26: =IF($O26="","",(0.75*$Q$77*115*0.05)*$O26/$Q$78) -> 10.247928 | S26: =((G26)*$S$77)/$S$78 -> 59.645807 | T26: =((G26+J26)*$T$77)/$T$78 -> 62.36803 | U26: =((G26/$U$78)*$U$77)*2 -> 39.366233 | W26: =(G26*$W$77)/$W$78 -> 14.911452 | X26: =(G26*$X$77)/$X$78 -> 17.396694
Q27: =IF($O27="","",(0.75*$Q$77*115*0.05)*$O27/$Q$78)
A28: EAST AVE | Q28: =IF($O28="","",(0.75*$Q$77*115*0.05)*$O28/$Q$78)
A29: FULL DEPTH REPLACEMENT AREA | Q29: =IF($O29="","",(0.75*$Q$77*115*0.05)*$O29/$Q$78)
A30: 17160.48 | B30: 18402.59 | C30: LT | D30: =B30-A30 -> 1242.11 | E30: 17.5 | F30: =D30*E30 -> 21736.925 | J30: =(D30*$J$78) -> 1863.165 | K30: =(D30*$K$78) -> 1863.165 | N30: =ROUNDUP(O30/N$77,2) -> 1.32 | O30: =(F30+K30)/9 -> 2622.2322 | P30: =O30 -> 2622.2322 | Q30: =IF($O30="","",(0.75*$Q$77*115*0.05)*$O30/$Q$78) -> 71.811494 | S30: =((F30)*$S$77)/$S$78 -> 402.53565 | T30: =((F30+J30)*$T$77)/$T$78 -> 437.0387 | U30: =((F30/$U$78)*$U$77)*2 -> 265.67353 | W30: =(F30*$W$77)/$W$78 -> 100.63391 | X30: =(F30*$X$77)/$X$78 -> 117.40623
Q31: =IF($O31="","",(0.75*$Q$77*115*0.05)*$O31/$Q$78)
A32: EAST AVE & ERNEST DR INT. | Q32: =IF($O32="","",(0.75*$Q$77*115*0.05)*$O32/$Q$78)
A33: FULL DEPTH REPLACEMENT AREA | Q33: =IF($O33="","",(0.75*$Q$77*115*0.05)*$O33/$Q$78)
A34: 18402.59 | B34: 18480.59 | C34: LT | D34: =B34-A34 -> 78 | E34: CADD | F34: CADD | G34: 2342.2248 | J34: =(D34*$J$78) -> 117 | K34: =(D34*$K$78) -> 117 | N34: =ROUNDUP(O34/N$77,2) -> 0.14 | O34: =(G34+K34)/9 -> 273.2472 | P34: =O34 -> 273.2472 | Q34: =IF($O34="","",(0.75*$Q$77*115*0.05)*$O34/$Q$78) -> 7.483048 | S34: =((G34)*$S$77)/$S$78 -> 43.374533 | T34: =((G34+J34)*$T$77)/$T$78 -> 45.5412 | U34: =((G34/$U$78)*$U$77)*2 -> 28.627192 | W34: =(G34*$W$77)/$W$78 -> 10.843633 | X34: =(G34*$X$77)/$X$78 -> 12.650906
Q35: =IF($O35="","",(0.75*$Q$77*115*0.05)*$O35/$Q$78)
A36: EAST AVE | Q36: =IF($O36="","",(0.75*$Q$77*115*0.05)*$O36/$Q$78)
A37: FULL DEPTH REPLACEMENT AREA | Q37: =IF($O37="","",(0.75*$Q$77*115*0.05)*$O37/$Q$78)
A38: 18480.59 | B38: 19500.31 | C38: LT | D38: =B38-A38 -> 1019.72 | E38: 17.5 | F38: =D38*E38 -> 17845.1 | J38: =(D38*$J$78) -> 1529.58 | K38: =(D38*$K$78) -> 1529.58 | N38: =ROUNDUP(O38/N$77,2) -> 1.08 | O38: =(F38+K38)/9 -> 2152.7422 | P38: =O38 -> 2152.7422 | Q38: =IF($O38="","",(0.75*$Q$77*115*0.05)*$O38/$Q$78) -> 58.954212 | S38: =((F38)*$S$77)/$S$78 -> 330.46481 | T38: =((F38+J38)*$T$77)/$T$78 -> 358.79037 | U38: =((F38/$U$78)*$U$77)*2 -> 218.10678 | W38: =(F38*$W$77)/$W$78 -> 82.616204 | X38: =(F38*$X$77)/$X$78 -> 96.385571
Q39: =IF($O39="","",(0.75*$Q$77*115*0.05)*$O39/$Q$78)
A40: EAST AVE & PARKER LN INT. | Q40: =IF($O40="","",(0.75*$Q$77*115*0.05)*$O40/$Q$78)
A41: FULL DEPTH REPLACEMENT AREA | Q41: =IF($O41="","",(0.75*$Q$77*115*0.05)*$O41/$Q$78)
A42: 19500.31 | B42: 19606.06 | C42: LT | D42: =B42-A42 -> 105.75 | E42: CADD | F42: CADD | G42: 3282.5704 | J42: =(D42*$J$78) -> 158.625 | K42: =(D42*$K$78) -> 158.625 | N42: =ROUNDUP(O42/N$77,2) -> 0.2 | O42: =(G42+K42)/9 -> 382.35504 | P42: =O42 -> 382.35504 | Q42: =IF($O42="","",(0.75*$Q$77*115*0.05)*$O42/$Q$78) -> 10.471036 | S42: =((G42)*$S$77)/$S$78 -> 60.788341 | T42: =((G42+J42)*$T$77)/$T$78 -> 63.725841 | U42: =((G42/$U$78)*$U$77)*2 -> 40.120305 | W42: =(G42*$W$77)/$W$78 -> 15.197085 | X42: =(G42*$X$77)/$X$78 -> 17.729933
Q43: =IF($O43="","",(0.75*$Q$77*115*0.05)*$O43/$Q$78)
A44: EAST AVE | Q44: =IF($O44="","",(0.75*$Q$77*115*0.05)*$O44/$Q$78)
A45: FULL DEPTH REPLACEMENT AREA | Q45: =IF($O45="","",(0.75*$Q$77*115*0.05)*$O45/$Q$78)
A46: 19606.06 | B46: 19801.2 | C46: LT | D46: =B46-A46 -> 195.14 | E46: 13.670952 | F46: =D46*E46 -> 2667.7496 | J46: =(D46*$J$78) -> 292.71 | K46: =(D46*$K$78) -> 292.71 | N46: =ROUNDUP(O46/N$77,2) -> 0.17 | O46: =(F46+K46)/9 -> 328.93996 | P46: =O46 -> 328.93996 | Q46: =IF($O46="","",(0.75*$Q$77*115*0.05)*$O46/$Q$78) -> 9.0082294 | S46: =((F46)*$S$77)/$S$78 -> 49.40277 | T46: =((F46+J46)*$T$77)/$T$78 -> 54.823326 | U46: =((F46/$U$78)*$U$77)*2 -> 32.605828 | W46: =(F46*$W$77)/$W$78 -> 12.350693 | X46: =(F46*$X$77)/$X$78 -> 14.409141
Q47: =IF($O47="","",(0.75*$Q$77*115*0.05)*$O47/$Q$78)
A48: RESURFACING AREA | Q48: =IF($O48="","",(0.75*$Q$77*115*0.05)*$O48/$Q$78)
A49: 19801.2 | B49: 20205.91 | C49: LT | D49: =B49-A49 -> 404.71 | E49: CADD | F49: CADD | G49: 4644.28 | Q49: =IF($O49="","",(0.75*$Q$77*115*0.05)*$O49/$Q$78) | R49: =G49/9 -> 516.03111 | U49: =(G49/$U$78)*$U$77 -> 28.381711 | V49: =(G49/$V$78)*$V$77 -> 43.862644 | W49: =(G49*$W$77)/$W$78 -> 21.501296 | X49: =(G49*$X$77)/$X$78 -> 25.084846
Q50: =IF($O50="","",(0.75*$Q$77*115*0.05)*$O50/$Q$78)
A51: FULL DEPTH REPLACEMENT AREA | Q51: =IF($O51="","",(0.75*$Q$77*115*0.05)*$O51/$Q$78)
A52: 20205.91 | B52: 20505.89 | C52: LT | D52: =B52-A52 -> 299.98 | E52: 14.61501 | F52: =D52*E52 -> 4384.2106 | J52: =(D52*$J$78) -> 449.97 | K52: =(D52*$K$78) -> 449.97 | N52: =ROUNDUP(O52/N$77,2) -> 0.27 | O52: =(F52+K52)/9 -> 537.13118 | P52: =O52 -> 537.13118 | Q52: =IF($O52="","",(0.75*$Q$77*115*0.05)*$O52/$Q$78) -> 14.709678 | S52: =((F52)*$S$77)/$S$78 -> 81.189085 | T52: =((F52+J52)*$T$77)/$T$78 -> 89.521863 | U52: =((F52/$U$78)*$U$77)*2 -> 53.584796 | W52: =(F52*$W$77)/$W$78 -> 20.297271 | X52: =(F52*$X$77)/$X$78 -> 23.68015
Q53: =IF($O53="","",(0.75*$Q$77*115*0.05)*$O53/$Q$78)
A54: 20505.89 | B54: 20555.48 | C54: LT | D54: =B54-A54 -> 49.59 | E54: 17.5 | F54: =D54*E54 -> 867.825 | J54: =(D54*$J$78) -> 74.385 | K54: =(D54*$K$78) -> 74.385 | N54: =ROUNDUP(O54/N$77,2) -> 0.06 | O54: =(F54+K54)/9 -> 104.69 | P54: =O54 -> 104.69 | Q54: =IF($O54="","",(0.75*$Q$77*115*0.05)*$O54/$Q$78) -> 2.8670021 | S54: =((F54)*$S$77)/$S$78 -> 16.070833 | T54: =((F54+J54)*$T$77)/$T$78 -> 17.448333 | U54: =((F54/$U$78)*$U$77)*2 -> 10.60675 | W54: =(F54*$W$77)/$W$78 -> 4.0177083 | X54: =(F54*$X$77)/$X$78 -> 4.6873264
Q55: =IF($O55="","",(0.75*$Q$77*115*0.05)*$O55/$Q$78)
A56: 20555.48 | B56: 20605.44 | C56: LT | D56: =B56-A56 -> 49.96 | E56: 19.658761 | F56: =D56*E56 -> 982.1517 | J56: =(D56*$J$78) -> 74.94 | K56: =(D56*$K$78) -> 74.94 | N56: =ROUNDUP(O56/N$77,2) -> 0.06 | O56: =(F56+K56)/9 -> 117.45463 | P56: =O56 -> 117.45463 | Q56: =IF($O56="","",(0.75*$Q$77*115*0.05)*$O56/$Q$78) -> 3.2165697 | S56: =((F56)*$S$77)/$S$78 -> 18.187994 | T56: =((F56+J56)*$T$77)/$T$78 -> 19.575772 | U56: =((F56/$U$78)*$U$77)*2 -> 12.004076 | W56: =(F56*$W$77)/$W$78 -> 4.5469986 | X56: =(F56*$X$77)/$X$78 -> 5.3048317
Q57: =IF($O57="","",(0.75*$Q$77*115*0.05)*$O57/$Q$78)
A58: 20605.44 | B58: 20680.63 | C58: LT | D58: =B58-A58 -> 75.19 | E58: =((19.83+20)/2) -> 19.915 | F58: =D58*E58 -> 1497.4089 | J58: =(D58*$J$78) -> 112.785 | K58: =(D58*$K$78) -> 112.785 | N58: =ROUNDUP(O58/N$77,2) -> 0.09 | O58: =(F58+K58)/9 -> 178.91043 | P58: =O58 -> 178.91043 | Q58: =IF($O58="","",(0.75*$Q$77*115*0.05)*$O58/$Q$78) -> 4.8995756 | S58: =((F58)*$S$77)/$S$78 -> 27.729794 | T58: =((F58+J58)*$T$77)/$T$78 -> 29.818405 | U58: =((F58/$U$78)*$U$77)*2 -> 18.301664 | W58: =(F58*$W$77)/$W$78 -> 6.9324484 | X58: =(F58*$X$77)/$X$78 -> 8.0878564
Q59: =IF($O59="","",(0.75*$Q$77*115*0.05)*$O59/$Q$78)
A60: 20680.63 | B60: 20730.89 | C60: LT | D60: =B60-A60 -> 50.26 | E60: 19.722555 | F60: =D60*E60 -> 991.2556 | J60: =(D60*$J$78) -> 75.39 | K60: =(D60*$K$78) -> 75.39 | N60: =ROUNDUP(O60/N$77,2) -> 0.06 | O60: =(F60+K60)/9 -> 118.51618 | P60: =O60 -> 118.51618 | Q60: =IF($O60="","",(0.75*$Q$77*115*0.05)*$O60/$Q$78) -> 3.2456407 | S60: =((F60)*$S$77)/$S$78 -> 18.356585 | T60: =((F60+J60)*$T$77)/$T$78 -> 19.752696 | U60: =((F60/$U$78)*$U$77)*2 -> 12.115346 | W60: =(F60*$W$77)/$W$78 -> 4.5891463 | X60: =(F60*$X$77)/$X$78 -> 5.354004
Q61: =IF($O61="","",(0.75*$Q$77*115*0.05)*$O61/$Q$78)
A62: 20730.89 | B62: 21600 | C62: LT | D62: =B62-A62 -> 869.11 | E62: 17.5 | F62: =D62*E62 -> 15209.425 | J62: =(D62*$J$78) -> 1303.665 | K62: =(D62*$K$78) -> 1303.665 | N62: =ROUNDUP(O62/N$77,2) -> 0.92 | O62: =(F62+K62)/9 -> 1834.7878 | P62: =O62 -> 1834.7878 | Q62: =IF($O62="","",(0.75*$Q$77*115*0.05)*$O62/$Q$78) -> 50.246828 | S62: =((F62)*$S$77)/$S$78 -> 281.65602 | T62: =((F62+J62)*$T$77)/$T$78 -> 305.79796 | U62: =((F62/$U$78)*$U$77)*2 -> 185.89297 | W62: =(F62*$W$77)/$W$78 -> 70.414005 | X62: =(F62*$X$77)/$X$78 -> 82.149672
Q63: =IF($O63="","",(0.75*$Q$77*115*0.05)*$O63/$Q$78)
A64: 21600 | B64: 21700 | C64: LT | D64: =B64-A64 -> 100 | E64: =F64/D64 -> 21.3534 | F64: 2135.34 | J64: =(D64*$J$78) -> 150 | K64: =(D64*$K$78) -> 150 | N64: =ROUNDUP(O64/N$77,2) -> 0.13 | O64: =(F64+K64)/9 -> 253.92667 | P64: =O64 -> 253.92667 | Q64: =IF($O64="","",(0.75*$Q$77*115*0.05)*$O64/$Q$78) -> 6.9539429 | S64: =((F64)*$S$77)/$S$78 -> 39.543333 | T64: =((F64+J64)*$T$77)/$T$78 -> 42.321111 | U64: =((F64/$U$78)*$U$77)*2 -> 26.0986 | W64: =(F64*$W$77)/$W$78 -> 9.8858333 | X64: =(F64*$X$77)/$X$78 -> 11.533472
Q65: =IF($O65="","",(0.75*$Q$77*115*0.05)*$O65/$Q$78)
A66: RESURFACING AREA | Q66: =IF($O66="","",(0.75*$Q$77*115*0.05)*$O66/$Q$78)
A67: 21700 | B67: 21873.59 | C67: LT | D67: =B67-A67 -> 173.59 | E67: =ROUND(F67/D67,2) -> 22.71 | F67: 3941.847 | Q67: =IF($O67="","",(0.75*$Q$77*115*0.05)*$O67/$Q$78) | R67: =F67/9 -> 437.983 | U67: =(F67/$U$78)*$U$77 -> 24.089065 | V67: =(F67/$V$78)*$V$77 -> 37.228555 | W67: =(F67*$W$77)/$W$78 -> 18.249292 | X67: =(F67*$X$77)/$X$78 -> 21.29084
Q68: =IF($O68="","",(0.75*$Q$77*115*0.05)*$O68/$Q$78)
A69: 21873.59 | B69: 22110 | C69: LT | D69: =B69-A69 -> 236.41 | E69: 20.55119 | F69: =D69*E69 -> 4858.5068 | Q69: =IF($O69="","",(0.75*$Q$77*115*0.05)*$O69/$Q$78) | R69: =F69/9 -> 539.83409 | U69: =(F69/$U$78)*$U$77 -> 29.690875 | V69: =(F69/$V$78)*$V$77 -> 45.885898 | W69: =(F69*$W$77)/$W$78 -> 22.493087 | X69: =(F69*$X$77)/$X$78 -> 26.241935
Q70: =IF($O70="","",(0.75*$Q$77*115*0.05)*$O70/$Q$78)
Q71: =IF($O71="","",(0.75*$Q$77*115*0.05)*$O71/$Q$78)
Q72: =IF($O72="","",(0.75*$Q$77*115*0.05)*$O72/$Q$78)
Q73: =IF($O73="","",(0.75*$Q$77*115*0.05)*$O73/$Q$78)
A74: TOTALS CARRIED TO SHEET 124 | M74: =IF(SUM(M14:M73)>0,(ROUNDUP(SUM(M14:M73),0)),"") | N74: =IF(SUM(N14:N73)>0,(ROUNDUP(SUM(N14:N73),1)),"") -> 6.5 | O74: =IF(SUM(O14:O73)>0,(ROUNDUP(SUM(O14:O73),0)),"") -> 12679 | P74: =IF(SUM(P14:P73)>0,(ROUNDUP(SUM(P14:P73),0)),"") -> 12679 | Q74: =IF(SUM(Q14:Q73)>0,(ROUNDUP(SUM(Q14:Q73),0)),"") -> 348 | R74: =IF(SUM(R14:R73)>0,(ROUNDUP(SUM(R14:R73),0)),"") -> 1494 | S74: =IF(SUM(S14:S73)>0,(ROUNDUP(SUM(S14:S73),0)),"") -> 1951 | T74: =IF(SUM(T14:T73)>0,(ROUNDUP(SUM(T14:T73),0)),"") -> 2114 | U74: =IF(SUM(U14:U73)>0,(ROUNDUP(SUM(U14:U73),0)),"") -> 1370 | V74: =IF(SUM(V14:V73)>0,(ROUNDUP(SUM(V14:V73),0)),"") -> 127 | ... X74: =IF(SUM(X14:X73)>0,(ROUNDUP(SUM(X14:X73),0)),"") -> 642 | Y74: =IF(SUM(Y14:Y73)>0,(ROUNDUP(SUM(Y14:Y73),1)),"")
G77: FACTOR | N77: 2000 | O77: =14/12 -> 1.1666667 | Q77: 14 | S77: 0.5 | T77: 0.5 | U77: 0.055 | V77: 0.085 | W77: =1.5/12 -> 0.125 | X77: =1.75/12 -> 0.14583333 | Y77: 2000 | AD77: 0.25
G78: UNITS | H78: =4/12 -> 0.33333333 | I78: =10/12 -> 0.83333333 | J78: =18/12 -> 1.5 | K78: 1.5 | M78: 9 | O78: 27 | Q78: 2204.623 | R78: 9 | S78: 27 | T78: 27 | U78: 9 | V78: 9 | W78: 27 | X78: 27
G79: EXT | M79: 10000 | N79: 45000 | O79: 15020 | P79: 1500 | Q79: 10500 | R79: 1000 | S79: 46020 | T79: 20000 | U79: 10000 | V79: 10000 | W79: 50100 | X79: 50300 | AD79: 10000

Sheet GC002
A1: STATION TO STATION | C1: SIDE | D1: LENGTH (L) | E1: AVERAGE WIDTH (W) | F1: SURFACE AREA (A=LxW) | G1: SURFACE AREA CADD | H1: AREA FOR 4" COURSE WIDENING | I1: AREA FOR 10" COURSE WIDENING | J1: AREA FOR 18" COURSE WIDENING | K1: AREA FOR 18" STABILIZATION | M1: 204 | N1: 206 | O1: 206 | P1: 206 | Q1: 206 | R1: 254 | S1: 301 | T1: 304 | U1: 407 | V1: 407 | W1: 441 | X1: 441
M2: SUBGRADE COMPACTION | N2: PROOF ROLLING | O2: CEMENT STABALIZED SUBGRADE, 14"DEEP | P2: CURING COAT | Q2: CEMENT | R2: PAVEMENT PLANNING, ASPHALT CONCRETE, (DEPTH VARIES, 3" NOMINAL) | S2: 6" ASPHALT CONCRETE BASE, PG64-22, (449) | T2: 6" AGGREGATE BASE | U2: NON-TRACKING TACK COAT (0.055 GAL/SY) | V2: NON-TRACKING TACK COAT (0.085 GAL/SY) | W2: 1.5" ASPHALT CONCRETE SURFACE COURSE, (448), TYPE 1, PG70-22M | X2: 1.75" ASPHALT CONCRETE INTERMEDIATE COURSE, (448), TYPE 2
D13: FT | E13: FT | F13: SF | G13: SF | H13: SF | I13: SF | J13: SF | K13: SF | M13: SY | N13: HOUR | O13: SY | P13: SY | Q13: TON | R13: SY | S13: CY | T13: CY | U13: GAL | V13: GAL | W13: CY | X13: CY
A14: EAST AVE | Q14: =IF($O14="","",(0.75*$Q$77*115*0.05)*$O14/$Q$78)
A15: FULL DEPTH REPLACEMENT AREA | Q15: =IF($O15="","",(0.75*$Q$77*115*0.05)*$O15/$Q$78) | AA15: total area
A16: 15475 | B16: 15700 | C16: RT | D16: =B16-A16 -> 225 | E16: 16.416053 | F16: =D16*E16 -> 3693.6119 | J16: =(D16*$J$78) -> 337.5 | K16: =(D16*$K$78) -> 337.5 | N16: =ROUNDUP(O16/N$77,2) -> 0.23 | O16: =(F16+K16)/9 -> 447.90132 | P16: =O16 -> 447.90132 | Q16: =IF($O16="","",(0.75*$Q$77*115*0.05)*$O16/$Q$78) -> 12.266062 | S16: =(SUM(F16:G16)*$S$77)/$S$78 -> 68.40022 | T16: =((F16+J16)*$T$77)/$T$78 -> 74.65022 | U16: =((F16/$U$78)*$U$77)*2 -> 45.144145 | W16: =(F16*$W$77)/$W$78 -> 17.100055 | X16: =(F16*$X$77)/$X$78 -> 19.950064 | AA16: =SUM(F16,F18,G22,F26,G30,F34,F36,F39,F42,G46,F50,F53,F54,F56,F57) -> 115227.54
Q17: =IF($O17="","",(0.75*$Q$77*115*0.05)*$O17/$Q$78)
A18: 15700 | B18: 16399.98 | C18: RT | D18: =B18-A18 -> 699.98 | E18: 17.5 | F18: =D18*E18 -> 12249.65 | J18: =(D18*$J$78) -> 1049.97 | K18: =(D18*$K$78) -> 1049.97 | N18: =ROUNDUP(O18/N$77,2) -> 0.74 | O18: =(F18+K18)/9 -> 1477.7356 | P18: =O18 -> 1477.7356 | Q18: =IF($O18="","",(0.75*$Q$77*115*0.05)*$O18/$Q$78) -> 40.468726 | S18: =(SUM(F18:G18)*$S$77)/$S$78 -> 226.84537 | T18: =((F18+J18)*$T$77)/$T$78 -> 246.28926 | U18: =((F18/$U$78)*$U$77)*2 -> 149.71794 | W18: =(F18*$W$77)/$W$78 -> 56.711343 | X18: =(F18*$X$77)/$X$78 -> 66.163233 | AA18: resurfacing area
Q19: =IF($O19="","",(0.75*$Q$77*115*0.05)*$O19/$Q$78) | AA19: =SUM(F39,F53,F56) -> 6436.9465
A20: EAST AVE & INDIAN HILLS DR INT. | Q20: =IF($O20="","",(0.75*$Q$77*115*0.05)*$O20/$Q$78)
A21: FULL DEPTH REPLACEMENT AREA | Q21: =IF($O21="","",(0.75*$Q$77*115*0.05)*$O21/$Q$78)
A22: 16399.98 | B22: 16497.98 | C22: RT | D22: =B22-A22 -> 98 | E22: CADD | F22: CADD | G22: 3220.8182 | J22: =(D22*$J$78) -> 147 | K22: =(D22*$K$78) -> 147 | N22: =ROUNDUP(O22/N$77,2) -> 0.19 | O22: =(G22+K22)/9 -> 374.20202 | P22: =O22 -> 374.20202 | Q22: =IF($O22="","",(0.75*$Q$77*115*0.05)*$O22/$Q$78) -> 10.24776 | S22: =(SUM(F22:G22)*$S$77)/$S$78 -> 59.644781 | T22: =((G22+J22)*$T$77)/$T$78 -> 62.367004 | U22: =((G22/$U$78)*$U$77)*2 -> 39.365556 | W22: =(G22*$W$77)/$W$78 -> 14.911195 | X22: =(G22*$X$77)/$X$78 -> 17.396395
Q23: =IF($O23="","",(0.75*$Q$77*115*0.05)*$O23/$Q$78)
A24: EAST AVE | Q24: =IF($O24="","",(0.75*$Q$77*115*0.05)*$O24/$Q$78)
A25: FULL DEPTH REPLACEMENT AREA | Q25: =IF($O25="","",(0.75*$Q$77*115*0.05)*$O25/$Q$78)
A26: 16497.98 | B26: 17343.96 | C26: RT | D26: =B26-A26 -> 845.98 | E26: 17.5 | F26: =D26*E26 -> 14804.65 | J26: =(D26*$J$78) -> 1268.97 | K26: =(D26*$K$78) -> 1268.97 | N26: =ROUNDUP(O26/N$77,2) -> 0.9 | O26: =(F26+K26)/9 -> 1785.9578 | P26: =O26 -> 1785.9578 | Q26: =IF($O26="","",(0.75*$Q$77*115*0.05)*$O26/$Q$78) -> 48.909587 | S26: =(SUM(F26:G26)*$S$77)/$S$78 -> 274.16019 | T26: =((F26+J26)*$T$77)/$T$78 -> 297.65963 | U26: =((F26/$U$78)*$U$77)*2 -> 180.94572 | W26: =(F26*$W$77)/$W$78 -> 68.540046 | X26: =(F26*$X$77)/$X$78 -> 79.963387
Q27: =IF($O27="","",(0.75*$Q$77*115*0.05)*$O27/$Q$78)
A28: EAST AVE & MACA DR INT. | Q28: =IF($O28="","",(0.75*$Q$77*115*0.05)*$O28/$Q$78)
A29: FULL DEPTH REPLACEMENT AREA | Q29: =IF($O29="","",(0.75*$Q$77*115*0.05)*$O29/$Q$78)
A30: 17343.96 | B30: 17438.94 | C30: RT | D30: =B30-A30 -> 94.98 | E30: CADD | F30: CADD | G30: 3018.7034 | J30: =(D30*$J$78) -> 142.47 | K30: =(D30*$K$78) -> 142.47 | N30: =ROUNDUP(O30/N$77,2) -> 0.18 | O30: =(G30+K30)/9 -> 351.24149 | P30: =O30 -> 351.24149 | Q30: =IF($O30="","",(0.75*$Q$77*115*0.05)*$O30/$Q$78) -> 9.6189711 | S30: =(SUM(F30:G30)*$S$77)/$S$78 -> 55.901915 | T30: =((G30+J30)*$T$77)/$T$78 -> 58.540248 | U30: =((G30/$U$78)*$U$77)*2 -> 36.895264 | W30: =(G30*$W$77)/$W$78 -> 13.975479 | X30: =(G30*$X$77)/$X$78 -> 16.304725
Q31: =IF($O31="","",(0.75*$Q$77*115*0.05)*$O31/$Q$78)
A32: EAST AVE | Q32: =IF($O32="","",(0.75*$Q$77*115*0.05)*$O32/$Q$78)
A33: FULL DEPTH REPLACEMENT AREA | Q33: =IF($O33="","",(0.75*$Q$77*115*0.05)*$O33/$Q$78)
A34: 17438.94 | B34: 19499.69 | C34: RT | D34: =B34-A34 -> 2060.75 | E34: 17.5 | F34: =D34*E34 -> 36063.125 | J34: =(D34*$J$78) -> 3091.125 | K34: =(D34*$K$78) -> 3091.125 | N34: =ROUNDUP(O34/N$77,2) -> 2.18 | O34: =(F34+K34)/9 -> 4350.4722 | P34: =O34 -> 4350.4722 | Q34: =IF($O34="","",(0.75*$Q$77*115*0.05)*$O34/$Q$78) -> 119.14044 | S34: =(SUM(F34:G34)*$S$77)/$S$78 -> 667.83565 | T34: =((F34+J34)*$T$77)/$T$78 -> 725.0787 | U34: =((F34/$U$78)*$U$77)*2 -> 440.77153 | W34: =(F34*$W$77)/$W$78 -> 166.95891 | X34: =(F34*$X$77)/$X$78 -> 194.7854
Q35: =IF($O35="","",(0.75*$Q$77*115*0.05)*$O35/$Q$78)
A36: 19499.69 | B36: 19801.2 | C36: RT | D36: =B36-A36 -> 301.51 | E36: 20.341917 | F36: =D36*E36 -> 6133.2915 | J36: =(D36*$J$78) -> 452.265 | K36: =(D36*$K$78) -> 452.265 | N36: =ROUNDUP(O36/N$77,2) -> 0.37 | O36: =(F36+K36)/9 -> 731.7285 | P36: =O36 -> 731.7285 | Q36: =IF($O36="","",(0.75*$Q$77*115*0.05)*$O36/$Q$78) -> 20.038849 | S36: =(SUM(F36:G36)*$S$77)/$S$78 -> 113.57947 | T36: =((F36+J36)*$T$77)/$T$78 -> 121.95475 | U36: =((F36/$U$78)*$U$77)*2 -> 74.962452 | W36: =(F36*$W$77)/$W$78 -> 28.394868 | X36: =(F36*$X$77)/$X$78 -> 33.127346
Q37: =IF($O37="","",(0.75*$Q$77*115*0.05)*$O37/$Q$78)
A38: RESURFACING AREA | Q38: =IF($O38="","",(0.75*$Q$77*115*0.05)*$O38/$Q$78)
A39: =+B36 -> 19801.2 | B39: 20206.06 | C39: RT | D39: =B39-A39 -> 404.86 | E39: CADD | F39: CADD | G39: 9498.98 | Q39: =IF($O39="","",(0.75*$Q$77*115*0.05)*$O39/$Q$78) | R39: =G39/9 -> 1055.4422 | U39: =(G39/$U$78)*$U$77 -> 58.049322 | V39: =(G39/$V$78)*$V$77 -> 89.712589 | W39: =(G39*$W$77)/$W$78 -> 43.976759 | X39: =(G39*$X$77)/$X$78 -> 51.306219
Q40: =IF($O40="","",(0.75*$Q$77*115*0.05)*$O40/$Q$78)
A41: FULL DEPTH REPLACEMENT AREA | Q41: =IF($O41="","",(0.75*$Q$77*115*0.05)*$O41/$Q$78)
A42: 20206.06 | B42: 20413.09 | C42: RT | D42: =B42-A42 -> 207.03 | E42: 21.356731 | F42: =D42*E42 -> 4421.4841 | J42: =(D42*$J$78) -> 310.545 | K42: =(D42*$K$78) -> 310.545 | N42: =ROUNDUP(O42/N$77,2) -> 0.27 | O42: =(F42+K42)/9 -> 525.78101 | P42: =O42 -> 525.78101 | Q42: =IF($O42="","",(0.75*$Q$77*115*0.05)*$O42/$Q$78) -> 14.398847 | S42: =(SUM(F42:G42)*$S$77)/$S$78 -> 81.879335 | T42: =((F42+J42)*$T$77)/$T$78 -> 87.630169 | U42: =((F42/$U$78)*$U$77)*2 -> 54.040361 | W42: =(F42*$W$77)/$W$78 -> 20.469834 | X42: =(F42*$X$77)/$X$78 -> 23.881473
Q43: =IF($O43="","",(0.75*$Q$77*115*0.05)*$O43/$Q$78)
A44: EAST AVE & EASTPOINT DR INT. | Q44: =IF($O44="","",(0.75*$Q$77*115*0.05)*$O44/$Q$78)
A45: FULL DEPTH REPLACEMENT AREA | Q45: =IF($O45="","",(0.75*$Q$77*115*0.05)*$O45/$Q$78)
A46: 20413.09 | B46: 20518.76 | C46: RT | D46: =B46-A46 -> 105.67 | E46: CADD | F46: CADD | G46: 3693.5553 | J46: =(D46*$J$78) -> 158.505 | K46: =(D46*$K$78) -> 158.505 | N46: =ROUNDUP(O46/N$77,2) -> 0.22 | O46: =(G46+K46)/9 -> 428.0067 | P46: =O46 -> 428.0067 | Q46: =IF($O46="","",(0.75*$Q$77*115*0.05)*$O46/$Q$78) -> 11.721235 | S46: =(SUM(F46:G46)*$S$77)/$S$78 -> 68.399172 | T46: =((G46+J46)*$T$77)/$T$78 -> 71.33445 | U46: =((G46/$U$78)*$U$77)*2 -> 45.143454 | W46: =(G46*$W$77)/$W$78 -> 17.099793 | X46: =(G46*$X$77)/$X$78 -> 19.949759
Q47: =IF($O47="","",(0.75*$Q$77*115*0.05)*$O47/$Q$78)
A48: EAST AVE | Q48: =IF($O48="","",(0.75*$Q$77*115*0.05)*$O48/$Q$78)
A49: FULL DEPTH REPLACEMENT AREA | Q49: =IF($O49="","",(0.75*$Q$77*115*0.05)*$O49/$Q$78)
A50: 20518.76 | B50: 21700 | C50: RT | D50: =B50-A50 -> 1181.24 | E50: 17.5 | F50: =D50*E50 -> 20671.7 | J50: =(D50*$J$78) -> 1771.86 | K50: =(D50*$K$78) -> 1771.86 | N50: =ROUNDUP(O50/N$77,2) -> 1.25 | O50: =(F50+K50)/9 -> 2493.7289 | P50: =O50 -> 2493.7289 | Q50: =IF($O50="","",(0.75*$Q$77*115*0.05)*$O50/$Q$78) -> 68.292348 | S50: =(SUM(F50:G50)*$S$77)/$S$78 -> 382.80926 | T50: =((F50+J50)*$T$77)/$T$78 -> 415.62148 | U50: =((F50/$U$78)*$U$77)*2 -> 252.65411 | W50: =(F50*$W$77)/$W$78 -> 95.702315 | X50: =(F50*$X$77)/$X$78 -> 111.6527
Q51: =IF($O51="","",(0.75*$Q$77*115*0.05)*$O51/$Q$78)
A52: SAWCUT AREA | Q52: =IF($O52="","",(0.75*$Q$77*115*0.05)*$O52/$Q$78)
A53: 21700 | B53: 22000.11 | C53: RT | D53: =B53-A53 -> 300.11 | E53: 15.5 | F53: =D53*E53 -> 4651.705 | Q53: =IF($O53="","",(0.75*$Q$77*115*0.05)*$O53/$Q$78) | R53: =F53/9 -> 516.85611 | U53: =(F53/$U$78)*$U$77 -> 28.427086 | V53: =(F53/$V$78)*$V$77 -> 43.932769 | W53: =(F53*$W$77)/$W$78 -> 21.535671 | X53: =(F53*$X$77)/$X$78 -> 25.12495
A54: 21700 | B54: 22000.11 | C54: RT | D54: =B54-A54 -> 300.11 | E54: 2 | F54: =D54*E54 -> 600.22 | J54: =(D54*$J$78) -> 450.165 | M54: =(F54+J54)/9 -> 116.70944 | N54: =ROUND(M54/$N$77,2) -> 0.06 | Q54: =IF($O54="","",(0.75*$Q$77*115*0.05)*$O54/$Q$78) | S54: =(SUM(F54:G54)*$S$77)/$S$78 -> 11.115185 | T54: =((F54+J54)*$T$77)/$T$78 -> 19.451574 | U54: =(F54/$U$78)*$U$77 -> 3.6680111 | V54: =(F54/$V$78)*$V$77 -> 5.6687444 | W54: =(F54*$W$77)/$W$78 -> 2.7787963 | X54: =(F54*$X$77)/$X$78 -> 3.241929
Q55: =IF($O55="","",(0.75*$Q$77*115*0.05)*$O55/$Q$78)
A56: 22000.11 | B56: 22110 | C56: RT | D56: =B56-A56 -> 109.89 | E56: 16.245714 | F56: =D56*E56 -> 1785.2415 | Q56: =IF($O56="","",(0.75*$Q$77*115*0.05)*$O56/$Q$78) | R56: =F56/9 -> 198.36017 | U56: =(F56/$U$78)*$U$77 -> 10.909809 | V56: =(F56/$V$78)*$V$77 -> 16.860614 | W56: =(F56*$W$77)/$W$78 -> 8.2650069 | X56: =(F56*$X$77)/$X$78 -> 9.6425081
A57: 22000.11 | B57: 22110 | C57: RT | D57: =B57-A57 -> 109.89 | E57: 2 | F57: =D57*E57 -> 219.78 | J57: =(D57*$J$78) -> 164.835 | M57: =(F57+J57)/9 -> 42.735 | N57: =ROUND(M57/$N$77,2) -> 0.02 | Q57: =IF($O57="","",(0.75*$Q$77*115*0.05)*$O57/$Q$78) | S57: =(SUM(F57:G57)*$S$77)/$S$78 -> 4.07 | T57: =((F57+J57)*$T$77)/$T$78 -> 7.1225 | U57: =((F57/$U$78)*$U$77)*2 -> 2.6862 | W57: =(F57*$W$77)/$W$78 -> 1.0175 | X57: =(F57*$X$77)/$X$78 -> 1.1870833
Q58: =IF($O58="","",(0.75*$Q$77*115*0.05)*$O58/$Q$78)
Q59: =IF($O59="","",(0.75*$Q$77*115*0.05)*$O59/$Q$78)
Q60: =IF($O60="","",(0.75*$Q$77*115*0.05)*$O60/$Q$78)
Q61: =IF($O61="","",(0.75*$Q$77*115*0.05)*$O61/$Q$78)
Q62: =IF($O62="","",(0.75*$Q$77*115*0.05)*$O62/$Q$78)
Q63: =IF($O63="","",(0.75*$Q$77*115*0.05)*$O63/$Q$78)
Q64: =IF($O64="","",(0.75*$Q$77*115*0.05)*$O64/$Q$78)
Q65: =IF($O65="","",(0.75*$Q$77*115*0.05)*$O65/$Q$78)
Q66: =IF($O66="","",(0.75*$Q$77*115*0.05)*$O66/$Q$78)
Q67: =IF($O67="","",(0.75*$Q$77*115*0.05)*$O67/$Q$78)
Q68: =IF($O68="","",(0.75*$Q$77*115*0.05)*$O68/$Q$78)
Q69: =IF($O69="","",(0.75*$Q$77*115*0.05)*$O69/$Q$78)
... Q73: =IF($O73="","",(0.75*$Q$77*115*0.05)*$O73/$Q$78)
A74: TOTALS CARRIED TO SHEET 124 | M74: =IF(SUM(M14:M73)>0,(ROUNDUP(SUM(M14:M73),0)),"") -> 160 | N74: =IF(SUM(N14:N73)>0,(ROUNDUP(SUM(N14:N73),1)),"") -> 6.7 | O74: =IF(SUM(O14:O73)>0,(ROUNDUP(SUM(O14:O73),0)),"") -> 12967 | P74: =IF(SUM(P14:P73)>0,(ROUNDUP(SUM(P14:P73),0)),"") -> 12967 | Q74: =IF(SUM(Q14:Q73)>0,(ROUNDUP(SUM(Q14:Q73),0)),"") -> 356 | R74: =IF(SUM(R14:R73)>0,(ROUNDUP(SUM(R14:R73),0)),"") -> 1771 | S74: =IF(SUM(S14:S73)>0,(ROUNDUP(SUM(S14:S73),0)),"") -> 2015 | T74: =IF(SUM(T14:T73)>0,(ROUNDUP(SUM(T14:T73),0)),"") -> 2188 | U74: =IF(SUM(U14:U73)>0,(ROUNDUP(SUM(U14:U73),0)),"") -> 1424 | V74: =IF(SUM(V14:V73)>0,(ROUNDUP(SUM(V14:V73),0)),"") -> 157 | ... X74: =IF(SUM(X14:X73)>0,(ROUNDUP(SUM(X14:X73),0)),"") -> 674 | Y74: =IF(SUM(Y14:Y73)>0,(ROUNDUP(SUM(Y14:Y73),1)),"")
G77: FACTOR | N77: 2000 | O77: =14/12 -> 1.1666667 | Q77: 14 | S77: 0.5 | T77: 0.5 | U77: 0.055 | V77: 0.085 | W77: =1.5/12 -> 0.125 | X77: =1.75/12 -> 0.14583333 | Y77: =N77 -> 2000 | AD77: 0.25
G78: UNITS | H78: =4/12 -> 0.33333333 | I78: =10/12 -> 0.83333333 | J78: =18/12 -> 1.5 | K78: 1.5 | M78: 9 | O78: 27 | Q78: 2204.623 | R78: 9 | S78: 27 | T78: 27 | U78: 9 | V78: 9 | W78: 27 | X78: 27
G79: EXT | M79: 10000 | N79: 45000 | O79: 15020 | P79: 1500 | Q79: 10500 | R79: 1000 | S79: 46020 | T79: 20000 | U79: 10000 | V79: 10000 | W79: 50100 | X79: 50300 | AD79: 10000

Sheet GC003
A1: STATION TO STATION | C1: SIDE | D1: LENGTH (L) | E1: AVERAGE WIDTH (W) | F1: SURFACE AREA (A=LxW) | G1: SURFACE AREA CADD | H1: AREA FOR 4" COURSE WIDENING | I1: AREA FOR 10" COURSE WIDENING | J1: AREA FOR 18" COURSE WIDENING | K1: AREA FOR 18" STABILIZATION | M1: 204 | N1: 204 | O1: 206 | P1: 206 | Q1: 206 | R1: 254 | S1: 301 | T1: 304 | U1: 407 | V1: 407 | W1: 441 | X1: 441
M2: SUBGRADE COMPACTION | N2: PROOF ROLLING | O2: CEMENT STABALIZED SUBGRADE, 14"DEEP | P2: CURING COAT | Q2: CEMENT | R2: PAVEMENT PLANNING, ASPHALT CONCRETE, (DEPTH VARIES, 3" NOMINAL) | S2: 6" ASPHALT CONCRETE BASE, PG64-22, (449) | T2: 6" AGGREGATE BASE | U2: NON-TRACKING TACK COAT (0.055 GAL/SY) | V2: NON-TRACKING TACK COAT (0.085 GAL/SY) | W2: 1.5" ASPHALT CONCRETE SURFACE COURSE, (448), TYPE 1, PG70-22M | X2: 1.75" ASPHALT CONCRETE INTERMEDIATE COURSE, (448), TYPE 2
D13: FT | E13: FT | F13: SF | G13: SF | H13: SF | J13: SF | K13: SF | M13: SY | N13: HOUR | O13: SY | P13: SY | Q13: TON | R13: SY | S13: CY | T13: CY | U13: GAL | V13: GAL | W13: CY | X13: CY
A14: INDIAN HILLS DR | Q14: =IF($O14="","",(0.75*$Q$77*115*0.05)*$O14/$Q$78)
A15: 5920 | B15: 5947.21 | C15: LT | D15: =B15-A15 -> 27.21 | E15: =((14+13.74)/2) -> 13.87 | F15: =D15*E15 -> 377.4027 | J15: =(D15*$J$78) -> 40.815 | K15: =(D15*$K$78) -> 40.815 | N15: =ROUNDUP(O15/N$77,2) -> 0.03 | O15: =(F15+K15)/9 -> 46.468633 | P15: =O15 -> 46.468633 | Q15: =IF($O15="","",(0.75*$Q$77*115*0.05)*$O15/$Q$78) -> 1.272573 | S15: =((F15)*$S$77)/$S$78 -> 6.9889389 | T15: =((F15+J15)*$T$77)/$T$78 -> 7.7447722 | U15: =((F15/$U$78)*$U$77)*2 -> 4.6126997 | W15: =(F15*$W$77)/$W$78 -> 1.7472347 | X15: =(F15*$X$77)/$X$78 -> 2.0384405
Q16: =IF($O16="","",(0.75*$Q$77*115*0.05)*$O16/$Q$78) | AB16: total area
A17: 5920 | B17: 5947.91 | C17: RT | D17: =B17-A17 -> 27.91 | E17: =((14+12.56)/2) -> 13.28 | F17: =D17*E17 -> 370.6448 | J17: =(D17*$J$78) -> 41.865 | K17: =(D17*$K$78) -> 41.865 | N17: =ROUNDUP(O17/N$77,2) -> 0.03 | O17: =(F17+K17)/9 -> 45.834422 | P17: =O17 -> 45.834422 | Q17: =IF($O17="","",(0.75*$Q$77*115*0.05)*$O17/$Q$78) -> 1.2552047 | S17: =((F17)*$S$77)/$S$78 -> 6.8637926 | T17: =((F17+J17)*$T$77)/$T$78 -> 7.6390704 | U17: =((F17/$U$78)*$U$77)*2 -> 4.5301031 | W17: =(F17*$W$77)/$W$78 -> 1.7159481 | X17: =(F17*$X$77)/$X$78 -> 2.0019395 | AB17: =SUM(F15,F17,F20,F22,F25,F27,F30,F32,F35,F37,F40,F42) -> 6446.4629
Q18: =IF($O18="","",(0.75*$Q$77*115*0.05)*$O18/$Q$78)
A19: MILTON DR | Q19: =IF($O19="","",(0.75*$Q$77*115*0.05)*$O19/$Q$78) | AB19: resurfacing area
A20: 7052.5 | B20: 7108 | C20: LT | D20: =B20-A20 -> 55.5 | E20: =((14+12.18)/2) -> 13.09 | F20: =D20*E20 -> 726.495 | J20: =(D20*$J$78) -> 83.25 | K20: =(D20*$K$78) -> 83.25 | N20: =ROUNDUP(O20/N$77,2) -> 0.05 | O20: =(F20+K20)/9 -> 89.971667 | P20: =O20 -> 89.971667 | Q20: =IF($O20="","",(0.75*$Q$77*115*0.05)*$O20/$Q$78) -> 2.4639312 | S20: =((F20)*$S$77)/$S$78 -> 13.453611 | T20: =((F20+J20)*$T$77)/$T$78 -> 14.995278 | U20: =((F20/$U$78)*$U$77)*2 -> 8.8793833 | W20: =(F20*$W$77)/$W$78 -> 3.3634028 | X20: =(F20*$X$77)/$X$78 -> 3.9239699 | AB20: 0
Q21: =IF($O21="","",(0.75*$Q$77*115*0.05)*$O21/$Q$78)
A22: 7052.5 | B22: 7108 | C22: RT | D22: =B22-A22 -> 55.5 | E22: =((14+13.76)/2) -> 13.88 | F22: =D22*E22 -> 770.34 | J22: =(D22*$J$78) -> 83.25 | K22: =(D22*$K$78) -> 83.25 | N22: =ROUNDUP(O22/N$77,2) -> 0.05 | O22: =(F22+K22)/9 -> 94.843333 | P22: =O22 -> 94.843333 | Q22: =IF($O22="","",(0.75*$Q$77*115*0.05)*$O22/$Q$78) -> 2.5973449 | S22: =((F22)*$S$77)/$S$78 -> 14.265556 | T22: =((F22+J22)*$T$77)/$T$78 -> 15.807222 | U22: =((F22/$U$78)*$U$77)*2 -> 9.4152667 | W22: =(F22*$W$77)/$W$78 -> 3.5663889 | X22: =(F22*$X$77)/$X$78 -> 4.160787
Q23: =IF($O23="","",(0.75*$Q$77*115*0.05)*$O23/$Q$78)
A24: MACA DR | Q24: =IF($O24="","",(0.75*$Q$77*115*0.05)*$O24/$Q$78)
A25: 7900 | B25: 7952.11 | C25: LT | D25: =B25-A25 -> 52.11 | E25: CADD | F25: CADD | G25: 582.24 | J25: =(D25*$J$78) -> 78.165 | K25: =(D25*$K$78) -> 78.165 | N25: =ROUNDUP(O25/N$77,2) -> 0.04 | O25: =(G25+K25)/9 -> 73.378333 | P25: =O25 -> 73.378333 | Q25: =IF($O25="","",(0.75*$Q$77*115*0.05)*$O25/$Q$78) -> 2.0095122 | S25: =((G25)*$S$77)/$S$78 -> 10.782222 | T25: =((G25+J25)*$T$77)/$T$78 -> 12.229722 | U25: =((G25/$U$78)*$U$77)*2 -> 7.1162667 | W25: =(G25*$W$77)/$W$78 -> 2.6955556 | X25: =(G25*$X$77)/$X$78 -> 3.1448148
Q26: =IF($O26="","",(0.75*$Q$77*115*0.05)*$O26/$Q$78)
A27: 7900 | B27: 7952.76 | C27: RT | D27: =B27-A27 -> 52.76 | E27: CAAD | F27: CAAD | G27: 840.2 | J27: =(D27*$J$78) -> 79.14 | K27: =(D27*$K$78) -> 79.14 | N27: =ROUNDUP(O27/N$77,2) -> 0.06 | O27: =(G27+K27)/9 -> 102.14889 | P27: =O27 -> 102.14889 | Q27: =IF($O27="","",(0.75*$Q$77*115*0.05)*$O27/$Q$78) -> 2.7974122 | S27: =((G27)*$S$77)/$S$78 -> 15.559259 | T27: =((G27+J27)*$T$77)/$T$78 -> 17.024815 | U27: =((G27/$U$78)*$U$77)*2 -> 10.269111 | W27: =(G27*$W$77)/$W$78 -> 3.8898148 | X27: =(G27*$X$77)/$X$78 -> 4.5381173
Q28: =IF($O28="","",(0.75*$Q$77*115*0.05)*$O28/$Q$78)
A29: ERNEST DR | Q29: =IF($O29="","",(0.75*$Q$77*115*0.05)*$O29/$Q$78)
A30: 9042.82 | B30: 9100 | C30: LT | D30: =B30-A30 -> 57.18 | E30: =((14+10.21)/2) -> 12.105 | F30: =D30*E30 -> 692.1639 | H30: =(D30*$H$78) -> 19.06 | I30: =(D30*$J$78) -> 85.77 | K30: =(D30*$K$78) -> 85.77 | N30: =ROUNDUP(O30/N$77,2) -> 0.05 | O30: =(F30+K30)/9 -> 86.4371 | P30: =O30 -> 86.4371 | Q30: =IF($O30="","",(0.75*$Q$77*115*0.05)*$O30/$Q$78) -> 2.3671348 | S30: =((F30+H30)*$S$77)/$S$78 -> 13.170813 | T30: =((F30+I30)*$T$77)/$T$78 -> 14.406183 | U30: =((F30/$U$78)*$U$77)*2 -> 8.459781 | W30: =(F30*$W$77)/$W$78 -> 3.2044625 | X30: =(F30*$X$77)/$X$78 -> 3.7385396
Q31: =IF($O31="","",(0.75*$Q$77*115*0.05)*$O31/$Q$78)
A32: 9042.82 | B32: 9100 | C32: RT | D32: =B32-A32 -> 57.18 | E32: =((14+10.68)/2) -> 12.34 | F32: =D32*E32 -> 705.6012 | H32: =(D32*$H$78) -> 19.06 | I32: =(D32*$J$78) -> 85.77 | K32: =(D32*$K$78) -> 85.77 | N32: =ROUNDUP(O32/N$77,2) -> 0.05 | O32: =(F32+K32)/9 -> 87.930133 | P32: =O32 -> 87.930133 | Q32: =IF($O32="","",(0.75*$Q$77*115*0.05)*$O32/$Q$78) -> 2.4080225 | S32: =((F32+H32)*$S$77)/$S$78 -> 13.419652 | T32: =((F32+I32)*$T$77)/$T$78 -> 14.655022 | U32: =((F32/$U$78)*$U$77)*2 -> 8.6240147 | W32: =(F32*$W$77)/$W$78 -> 3.2666722 | X32: =(F32*$X$77)/$X$78 -> 3.8111176
Q33: =IF($O33="","",(0.75*$Q$77*115*0.05)*$O33/$Q$78)
A34: PARKER LN | Q34: =IF($O34="","",(0.75*$Q$77*115*0.05)*$O34/$Q$78)
A35: 10052.54 | B35: 10100 | C35: LT | D35: =B35-A35 -> 47.46 | E35: =((14+9.28)/2) -> 11.64 | F35: =D35*E35 -> 552.4344 | H35: =(D35*$H$78) -> 15.82 | I35: =(D35*$J$78) -> 71.19 | K35: =(D35*$K$78) -> 71.19 | N35: =ROUNDUP(O35/N$77,2) -> 0.04 | O35: =(F35+K35)/9 -> 69.2916 | P35: =O35 -> 69.2916 | Q35: =IF($O35="","",(0.75*$Q$77*115*0.05)*$O35/$Q$78) -> 1.8975944 | S35: =((F35+H35)*$S$77)/$S$78 -> 10.52323 | T35: =((F35+I35)*$T$77)/$T$78 -> 11.5486 | U35: =((F35/$U$78)*$U$77)*2 -> 6.751976 | W35: =(F35*$W$77)/$W$78 -> 2.5575667 | X35: =(F35*$X$77)/$X$78 -> 2.9838278
Q36: =IF($O36="","",(0.75*$Q$77*115*0.05)*$O36/$Q$78)
A37: 10052.54 | B37: 10100 | C37: RT | D37: =B37-A37 -> 47.46 | E37: =((14+12.87)/2) -> 13.435 | F37: =D37*E37 -> 637.6251 | H37: =(D37*$H$78) -> 15.82 | I37: =(D37*$J$78) -> 71.19 | K37: =(D37*$K$78) -> 71.19 | N37: =ROUNDUP(O37/N$77,2) -> 0.04 | O37: =(F37+K37)/9 -> 78.757233 | P37: =O37 -> 78.757233 | Q37: =IF($O37="","",(0.75*$Q$77*115*0.05)*$O37/$Q$78) -> 2.1568168 | S37: =((F37+H37)*$S$77)/$S$78 -> 12.100835 | T37: =((F37+I37)*$T$77)/$T$78 -> 13.126206 | U37: =((F37/$U$78)*$U$77)*2 -> 7.7931957 | W37: =(F37*$W$77)/$W$78 -> 2.9519681 | X37: =(F37*$X$77)/$X$78 -> 3.4439627
Q38: =IF($O38="","",(0.75*$Q$77*115*0.05)*$O38/$Q$78)
A39: EASTPOINT DR | Q39: =IF($O39="","",(0.75*$Q$77*115*0.05)*$O39/$Q$78)
A40: 11900 | B40: 11947.59 | C40: LT | D40: =B40-A40 -> 47.59 | E40: =((17.49+17.94)/2) -> 17.715 | F40: =D40*E40 -> 843.05685 | J40: =(D40*$J$78) -> 71.385 | K40: =(D40*$K$78) -> 71.385 | N40: =ROUNDUP(O40/N$77,2) -> 0.06 | O40: =(F40+K40)/9 -> 101.60465 | P40: =O40 -> 101.60465 | Q40: =IF($O40="","",(0.75*$Q$77*115*0.05)*$O40/$Q$78) -> 2.7825078 | S40: =((F40)*$S$77)/$S$78 -> 15.612164 | T40: =((F40+J40)*$T$77)/$T$78 -> 16.934108 | U40: =((F40/$U$78)*$U$77)*2 -> 10.304028 | W40: =(F40*$W$77)/$W$78 -> 3.903041 | X40: =(F40*$X$77)/$X$78 -> 4.5535478
Q41: =IF($O41="","",(0.75*$Q$77*115*0.05)*$O41/$Q$78)
A42: 11900 | B42: 11945.59 | C42: RT | D42: =B42-A42 -> 45.59 | E42: =((16.76+17.05)/2) -> 16.905 | F42: =D42*E42 -> 770.69895 | J42: =(D42*$J$78) -> 68.385 | K42: =(D42*$K$78) -> 68.385 | N42: =ROUNDUP(O42/N$77,2) -> 0.05 | O42: =(F42+K42)/9 -> 93.23155 | P42: =O42 -> 93.23155 | Q42: =IF($O42="","",(0.75*$Q$77*115*0.05)*$O42/$Q$78) -> 2.5532052 | S42: =((F42)*$S$77)/$S$78 -> 14.272203 | T42: =((F42+J42)*$T$77)/$T$78 -> 15.538592 | U42: =((F42/$U$78)*$U$77)*2 -> 9.4196538 | W42: =(F42*$W$77)/$W$78 -> 3.5680507 | X42: =(F42*$X$77)/$X$78 -> 4.1627258
Q43: =IF($O43="","",(0.75*$Q$77*115*0.05)*$O43/$Q$78)
Q44: =IF($O44="","",(0.75*$Q$77*115*0.05)*$O44/$Q$78)
Q45: =IF($O45="","",(0.75*$Q$77*115*0.05)*$O45/$Q$78)
Q46: =IF($O46="","",(0.75*$Q$77*115*0.05)*$O46/$Q$78)
Q47: =IF($O47="","",(0.75*$Q$77*115*0.05)*$O47/$Q$78)
Q48: =IF($O48="","",(0.75*$Q$77*115*0.05)*$O48/$Q$78)
Q49: =IF($O49="","",(0.75*$Q$77*115*0.05)*$O49/$Q$78)
Q50: =IF($O50="","",(0.75*$Q$77*115*0.05)*$O50/$Q$78)
Q51: =IF($O51="","",(0.75*$Q$77*115*0.05)*$O51/$Q$78)
Q52: =IF($O52="","",(0.75*$Q$77*115*0.05)*$O52/$Q$78)
Q53: =IF($O53="","",(0.75*$Q$77*115*0.05)*$O53/$Q$78)
Q54: =IF($O54="","",(0.75*$Q$77*115*0.05)*$O54/$Q$78)
... Q67: =IF($O67="","",(0.75*$Q$77*115*0.05)*$O67/$Q$78)
A68: TOTALS THIS SHEET | N68: =ROUNDUP(SUM(N14:N67),1) -> 0.6 | O68: =ROUNDUP(SUM(O14:O67),0) -> 970 | P68: =ROUNDUP(SUM(P14:P67),0) -> 970 | Q68: =ROUNDUP(SUM(Q14:Q67),0) -> 27 | R68: =ROUNDUP(SUM(R14:R67),0) -> 0 | S68: =ROUNDUP(SUM(S14:S67),0) -> 148 | T68: =ROUNDUP(SUM(T14:T67),0) -> 162 | U68: =ROUNDUP(SUM(U14:U67),0) -> 97 | V68: =ROUNDUP(SUM(V14:V67),0) -> 0 | ... X68: =ROUNDUP(SUM(X14:X67),0) -> 43
A70: TOTALS CARRIED FROM SHEET 122 | M70: ='GC001'!M74 | N70: ='GC001'!N74 -> 6.5 | O70: =SUM('GC001'!O74:O75) -> 12679 | P70: =SUM('GC001'!P74:P75) -> 12679 | Q70: =SUM('GC001'!Q74:Q75) -> 348 | R70: =SUM('GC001'!R74:R75) -> 1494 | S70: =SUM('GC001'!S74:S75) -> 1951 | T70: =SUM('GC001'!T74:T75) -> 2114 | U70: =SUM('GC001'!U74:U75) -> 1370 | V70: =SUM('GC001'!V74:V75) -> 127 | ... X70: =SUM('GC001'!X74:X75) -> 642
A72: TOTALS CARRIED FROM SHEET 123 | M72: ='GC002'!M74 -> 160 | N72: ='GC002'!N74 -> 6.7 | O72: =SUM('GC002'!O74:O75) -> 12967 | P72: =SUM('GC002'!P74:P75) -> 12967 | Q72: =SUM('GC002'!Q74:Q75) -> 356 | R72: =SUM('GC002'!R74:R75) -> 1771 | S72: =SUM('GC002'!S74:S75) -> 2015 | T72: =SUM('GC002'!T74:T75) -> 2188 | U72: =SUM('GC002'!U74:U75) -> 1424 | V72: =SUM('GC002'!V74:V75) -> 157 | ... X72: =SUM('GC002'!X74:X75) -> 674
A74: TOTALS CARRIED TO GENERAL SUMMARY | M74: =SUM(M68:M73) -> 160 | N74: =ROUNDUP(SUM(N68:N73),0) -> 14 | O74: =SUM(O68:O73) -> 26616 | P74: =SUM(P68:P73) -> 26616 | Q74: =ROUNDUP(SUM(Q68:Q73),0) -> 731 | R74: =SUM(R68:R73) -> 3265 | S74: =SUM(S68:S73) -> 4114 | T74: =SUM(T68:T73) -> 4464 | U74: =SUM(U68:U73) -> 2891 | V74: =SUM(V68:V73) -> 284 | W74: =SUM(W68:W73) -> 1165 | X74: =SUM(X68:X73) -> 1359
G77: FACTOR | N77: 2000 | O77: =14/12 -> 1.1666667 | Q77: 14 | S77: 0.5 | T77: 0.5 | U77: 0.055 | V77: 0.085 | W77: =1.5/12 -> 0.125 | X77: =1.75/12 -> 0.14583333 | Y77: =N77 -> 2000 | AD77: 0.25
G78: UNITS | H78: =4/12 -> 0.33333333 | I78: =10/12 -> 0.83333333 | J78: =18/12 -> 1.5 | K78: 1.5 | M78: 9 | O78: 27 | Q78: 2204.623 | R78: 9 | S78: 27 | T78: 27 | U78: 9 | V78: 9 | W78: 27 | X78: 27
G79: EXT | M79: 10000 | N79: 45000 | O79: 15020 | P79: 1500 | Q79: 10500 | R79: 1000 | S79: 46020 | T79: 20000 | U79: 10000 | V79: 10000 | W79: 50100 | X79: 50300 | AD79: 10000
D89: TOTAL AREAS | H89: RESURFACING AREAS
D90: =SUM('GC001'!AA15) -> 114139.34 | E90: =SUM('GC002'!AA16) -> 115227.54 | F90: =SUM(AB17) -> 6446.4629 | H90: =SUM('GC001'!AA18:AB18) -> 8800.3538 | I90: =SUM('GC002'!AA19:AB19) -> 6436.9465 | J90: =AB20 -> 0
E92: =SUM(D90:F90) -> 235813.34 | F92: SF | I92: =SUM(H90:J90) -> 15237.3 | J92: SF
C93: SUM AREA | E93: =ROUNDUP(E92,0) -> 235814 | F93: SF | G93: SUM RESURF AREA | I93: =ROUNDUP(I92,0) -> 15238 | J93: SF
C95: 10% PARTIAL DEPTH PVMT REPAIR | E95: =ROUNDUP(E93*0.1,0) -> 23582 | F95: SF | G95: 10% PVMT REPAIR | I95: =ROUNDUP(I93*0.1,0) -> 1524 | J95: SF
E96: =ROUNDUP(E95/9,0) -> 2621 | F96: SY | I96: =ROUNDUP(I95/9,0) -> 170 | J96: SY
