Workbook
Name SheetBorder: "Group 9"

Sheet TC GEN SUM
L1: PARTICIPATION | N1: ITEM | O1: ITEM | P1: GRAND | Q1: UNIT | R1: DESCRIPTION | S1: SEE
S2: SHEET
D3: P.257 | E3: P.261 | G3: P.265 | L3: 01/ENH/PV | M3: 01/SAF/PV | O3: EXT. | P3: TOTAL | S3: NO.
R6: TRAFFIC CONTROL
G7: ='SIGN 4'!I84 -> 245 | N7: ='SIGN 1'!I4 -> 630 | O7: ='SIGN 1'!I1 -> 2100 | P7: =SUM(B7:K7) -> 245 | Q7: ='SIGN 1'!I15 -> FT | R7: ='SIGN 1'!I5 -> GROUND MOUNTED SUPPORT, NO. 2 POST
G8: ='SIGN 4'!J84 -> 566.4 | N8: ='SIGN 1'!J4 -> 630 | O8: ='SIGN 1'!J1 -> 3100 | P8: =SUM(B8:K8) -> 566.4 | Q8: ='SIGN 1'!J15 -> FT | R8: ='SIGN 1'!J5 -> GROUND MOUNTED SUPPORT, NO. 3 POST
G9: ='SIGN 4'!K84 -> 60.5 | N9: ='SIGN 1'!K4 -> 630 | O9: ='SIGN 1'!K1 -> 8520 | P9: =SUM(B9:K9) -> 60.5 | Q9: ='SIGN 1'!K15 -> FT | R9: ='SIGN 1'!K5 -> STREET NAME SIGN SUPPORT, NO. 3 POST
G10: ='SIGN 4'!L84 -> 6 | N10: ='SIGN 1'!L4 -> 630 | O10: ='SIGN 1'!L1 -> 8600 | P10: =SUM(B10:K10) -> 6 | Q10: ='SIGN 1'!L15 -> EACH | R10: ='SIGN 1'!L5 -> SIGN POST REFLECTOR
G11: {='SIGN 4'!M84:M85} -> 386.4 | N11: ='SIGN 1'!M4 -> 630 | O11: ='SIGN 1'!M1 -> 80100 | P11: =SUM(B11:K11) -> 386.4 | Q11: ='SIGN 1'!M15 -> SF | R11: ='SIGN 1'!M5 -> SIGN, FLAT SHEET
G12: 0 | P12: =SUM(B12:K12) -> 0
G13: ='SIGN 4'!N84 -> 20 | N13: ='SIGN 1'!N4 -> 630 | O13: ='SIGN 1'!N1 -> 80511 | P13: =SUM(B13:K13) -> 20 | Q13: ='SIGN 1'!N15 -> EACH | R13: ='SIGN 1'!N5 -> SIGN, STREET NAME, AS PER PLAN | S13: P.257
G14: ='SIGN 4'!O84 -> 42 | N14: ='SIGN 1'!O4 -> 630 | O14: ='SIGN 1'!O1 -> 84900 | P14: =SUM(B14:K14) -> 42 | Q14: ='SIGN 1'!O15 -> EACH | R14: ='SIGN 1'!O5 -> REMOVAL OF GROUND MOUNTED SIGN, DISPOSE
G15: ='SIGN 4'!P84 -> 0 | N15: ='SIGN 1'!P4 -> 630 | O15: ='SIGN 1'!P1 -> 84900 | P15: =SUM(B15:K15) -> 0 | Q15: ='SIGN 1'!P15 -> EACH | R15: ='SIGN 1'!P5 -> REMOVAL OF GROUND MOUNTED SIGN, STORE
G16: ='SIGN 4'!Q84 -> 0 | N16: ='SIGN 1'!Q4 -> 630 | O16: ='SIGN 1'!Q1 -> 84900 | P16: =SUM(B16:K16) -> 0 | Q16: ='SIGN 1'!Q15 -> EACH | R16: ='SIGN 1'!Q5 -> REMOVAL OF GROUND MOUNTED SIGN, REERECT
G17: ='SIGN 4'!R84 -> 28 | N17: ='SIGN 1'!R4 -> 630 | O17: ='SIGN 1'!R1 -> 86002 | P17: =SUM(B17:K17) -> 28 | Q17: ='SIGN 1'!R15 -> EACH | R17: ='SIGN 1'!R5 -> REMOVAL OF GROUND MOUNTED POST SUPPORT, DISPOSE
G19: 1 | N19: ='SIGN 1'!S4 -> 630 | O19: ='SIGN 1'!S1 -> 86002 | P19: 1 | Q19: ='SIGN 1'!S15 -> EACH | R19: ='SIGN 1'!S5 -> REMOVAL OF GROUND MOUNTED POST SUPPORT, REERECT
P20: =SUM(B20:K20) -> 0
D21: 0.63 | E21: ='PAVT MARK 4'!G76 -> 2.139 | F21: 0 | G21: 0 | N21: ='PAVT MARK 1'!G4 -> 644 | O21: ='PAVT MARK 1'!G1 -> 300 | P21: =SUM(B21:K21) -> 2.769 | Q21: MILE | R21: CENTER LINE
E22: ='PAVT MARK 4'!I76 -> 506 | N22: ='PAVT MARK 1'!I4 -> 644 | O22: ='PAVT MARK 1'!I1 -> 400 | P22: =SUM(B22:K22) -> 506 | Q22: ='PAVT MARK 1'!I15 -> FT | R22: ='PAVT MARK 1'!I5 -> CHANNELIZING LINE, 8"
E23: ='PAVT MARK 4'!J76 -> 213 | N23: ='PAVT MARK 1'!J4 -> 644 | O23: ='PAVT MARK 1'!J1 -> 500 | P23: =SUM(B23:K23) -> 213 | Q23: ='PAVT MARK 1'!J15 -> FT | R23: ='PAVT MARK 1'!J5 -> STOP LINE
E24: ='PAVT MARK 4'!K76 -> 1006 | N24: ='PAVT MARK 1'!K4 -> 644 | O24: ='PAVT MARK 1'!K1 -> 620 | P24: =SUM(B24:K24) -> 1006 | Q24: ='PAVT MARK 1'!K15 -> FT | R24: ='PAVT MARK 1'!K5 -> CROSSWALK LINE, 12"
D25: 112 | E25: {='PAVT MARK 4'!L76:L77} -> 257 | N25: ='PAVT MARK 1'!L4 -> 644 | O25: ='PAVT MARK 1'!L1 -> 700 | P25: =SUM(B25:K25) -> 369 | Q25: ='PAVT MARK 1'!L15 -> FT | R25: TRANSVERSE/DIAGONAL LINE
E26: 0 | P26: =SUM(B26:K26) -> 0
E27: ='PAVT MARK 4'!M76 -> 477 | N27: ='PAVT MARK 1'!M4 -> 644 | O27: ='PAVT MARK 1'!M1 -> 900 | P27: =SUM(B27:K27) -> 477 | Q27: ='PAVT MARK 1'!M15 -> SF | R27: ISLAND MARKING
E28: ='PAVT MARK 4'!N76 -> 1 | N28: ='PAVT MARK 1'!N4 -> 644 | O28: ='PAVT MARK 1'!N1 -> 1100 | P28: =SUM(B28:K28) -> 1 | Q28: ='PAVT MARK 1'!N15 -> EACH | R28: ='PAVT MARK 1'!N5 -> SCHOOL SYMBOL MARKING, 72"
D29: 2 | E29: ='PAVT MARK 4'!O76 -> 42 | N29: ='PAVT MARK 1'!O4 -> 644 | O29: ='PAVT MARK 1'!O1 -> 1300 | P29: =SUM(B29:K29) -> 44 | Q29: ='PAVT MARK 1'!O15 -> EACH | R29: ='PAVT MARK 1'!O5 -> LANE ARROW
O73: 0 | P73: =SUM(B73:K73) -> 0
M74: =P74 -> 0 | O74: 0 | P74: =SUM(B74:K74) -> 0
M75: =P75 -> 0 | P75: =SUM(B75:K75) -> 0
M76: =P76 -> 0

Sheet PAVT MARK 1
E1: EXTENSION # | G1: 300 | H1: 300 | I1: 400 | J1: 500 | K1: 620 | L1: 700 | M1: 900 | N1: 1100 | O1: 1300
G4: 644 | H4: 644 | I4: 644 | J4: 644 | K4: 644 | L4: 644 | M4: 644 | N4: 644 | O4: 644
D5: STATION | G5: CENTER LINE, DOUBLE SOLID | H5: CENTER LINE, SOLID/BROKEN | I5: CHANNELIZING LINE, 8" | J5: STOP LINE | K5: CROSSWALK LINE, 12" | L5: TRANSVERSE/DIAGONAL LINE, YELLOW | M5: ISLAND MARKING, YELLOW | N5: SCHOOL SYMBOL MARKING, 72" | O5: LANE ARROW
A9: SHEET | B9: REF. | C9: LOCATION | F9: SIDE
A10: NO. | B10: NO.
D15: FROM | E15: TO | G15: FT | H15: FT | I15: FT | J15: FT | K15: FT | L15: FT | M15: SF | N15: EACH | O15: EACH
A17: P.266 | B17: CSB | C17: EAST AVE | D17: 15475 | E17: 15650 | F17: LT | H17: =E17-D17 -> 175
A18: =A17 -> P.266 | B18: LA | C18: EAST AVE | D18: 15515 | F18: LT | O18: 2
A19: =A17 -> P.266 | B19: CSB | C19: EAST AVE | D19: 15475 | E19: 15650 | F19: RT | H19: =E19-D19 -> 175
A21: P.267 | B21: LA | C21: EAST AVE | D21: 15823 | F21: CEN | O21: 2
A22: =A21 -> P.267 | B22: CSB | C22: EAST AVE | D22: 15650 | E22: 16100 | F22: LT | H22: =E22-D22 -> 450
A23: =A22 -> P.267 | B23: CSB | C23: EAST AVE | D23: 15650 | E23: 16100 | F23: RT | H23: =E23-D23 -> 450
A25: P.268 | B25: SC | C25: EAST AVE | D25: 16339 | F25: LT | N25: 1
A26: =A25 -> P.268 | B26: IY | C26: EAST AVE | D26: 16412 | F26: CEN | M26: 53
A27: =A26 -> P.268 | B27: CSB | C27: EAST AVE | D27: 16100 | E27: 16406 | F27: LT | H27: =E27-D27 -> 306
A28: =A27 -> P.268 | B28: CSB | C28: EAST AVE | D28: 16100 | E28: 16406 | F28: RT | H28: =E28-D28 -> 306
A29: =A28 -> P.268 | B29: LA | C29: EAST AVE | D29: 16301 | F29: CEN | O29: 2
A30: =A29 -> P.268 | B30: LA | C30: EAST AVE | D30: 16502 | F30: CEN | O30: 1
A31: =A30 -> P.268 | B31: CH | C31: EAST AVE | D31: 16492 | E31: 16532 | F31: LT | I31: =E31-D31 -> 40
A32: =A31 -> P.268 | B32: CDS | C32: EAST AVE | D32: 16492 | E32: 16550 | F32: RT | G32: =E32-D32 -> 58
A33: =A32 -> P.268 | B33: CDS | C33: EAST AVE | D33: 16542 | E33: 16550 | F33: RT | G33: =E33-D33 -> 8
A34: =A33 -> P.268 | B34: CW | C34: INDIAN HILLS DR | D34: 5979 | F34: LT/RT | K34: 110
A35: =A34 -> P.268 | B35: SL | C35: INDIAN HILLS DR | D35: 5966 | F35: RT | J35: 20
A37: P.269 | B37: CDS | C37: EAST AVE | D37: 16550 | E37: 16592 | F37: RT/LT | G37: =E37-D37 -> 42
A38: =A37 -> P.269 | B38: CDS | C38: EAST AVE | D38: 16550 | E38: 16592 | F38: RT | G38: =E38-D38 -> 42
A39: =A38 -> P.269 | B39: TY | C39: EAST AVE | D39: 16550 | E39: 16592 | F39: LT/RT | L39: 31
A40: =A39 -> P.269 | B40: LA | C40: EAST AVE | D40: 16642 | F40: CEN | O40: 2
A41: =A40 -> P.269 | B41: CSB | C41: EAST AVE | D41: 16592 | E41: 16930 | F41: RT | H41: =E41-D41 -> 338
A42: =A41 -> P.269 | B42: CSB | C42: EAST AVE | D42: 16592 | E42: 16930 | F42: LT | H42: =E42-D42 -> 338
A43: =A42 -> P.269 | B43: LA | C43: EAST AVE | D43: 16880 | F43: CEN | O43: 2
A44: =A43 -> P.269 | B44: CDS | C44: EAST AVE | D44: 16930 | E44: 16980 | F44: RT/LT | G44: =E44-D44 -> 50
A45: =A44 -> P.269 | B45: CDS | C45: EAST AVE | D45: 16930 | E45: 17000 | F45: LT | G45: =E45-D45 -> 70
A46: =A45 -> P.269 | B46: TY | C46: EAST AVE | D46: 16930 | E46: 16980 | F46: LT/RT | L46: 28
A47: =A46 -> P.269 | B47: CH | C47: EAST AVE | D47: 16990 | E47: 17000 | F47: RT | I47: =E47-D47 -> 10
A49: P.270 | B49: LA | C49: EAST AVE | D49: 17004 | F49: CEN | O49: 1
A50: =A49 -> P.270 | B50: CDS | C50: EAST AVE | D50: 17000 | E50: 17080 | F50: LT | G50: =E50-D50 -> 80
A51: =A49 -> P.270 | B51: CH | C51: EAST AVE | D51: 17000 | E51: 17080 | F51: RT | I51: =E51-D51 -> 80
A52: =A49 -> P.270 | B52: LA | C52: EAST AVE | D52: 17070 | F52: CEN | O52: 1
A53: =A49 -> P.270 | B53: CW | C53: MILTON DR | D53: 7022 | F53: LT/RT | K53: 109
A54: =A49 -> P.270 | B54: SL | C54: MILTON DR | D54: 7035 | F54: LT/RT | J54: 20
...

Sheet PAVT MARK 2
E1: EXTENSION # | G1: ='PAVT MARK 1'!G1 -> 300 | H1: ='PAVT MARK 1'!H1 -> 300 | I1: ='PAVT MARK 1'!I1 -> 400 | J1: ='PAVT MARK 1'!J1 -> 500 | K1: ='PAVT MARK 1'!K1 -> 620 | L1: ='PAVT MARK 1'!L1 -> 700 | M1: ='PAVT MARK 1'!M1 -> 900 | N1: ='PAVT MARK 1'!N1 -> 1100 | ... AB1: ='PAVT MARK 1'!AB1 -> 0
G4: ='PAVT MARK 1'!G4 -> 644 | H4: ='PAVT MARK 1'!H4 -> 644 | I4: ='PAVT MARK 1'!I4 -> 644 | J4: ='PAVT MARK 1'!J4 -> 644 | K4: ='PAVT MARK 1'!K4 -> 644 | L4: ='PAVT MARK 1'!L4 -> 644 | M4: ='PAVT MARK 1'!M4 -> 644 | N4: ='PAVT MARK 1'!N4 -> 644 | ... AB4: ='PAVT MARK 1'!AB4 -> 0
D5: STATION | G5: ='PAVT MARK 1'!G5 -> CENTER LINE, DOUBLE SOLID | H5: ='PAVT MARK 1'!H5 -> CENTER LINE, SOLID/BROKEN | I5: ='PAVT MARK 1'!I5 -> CHANNELIZING LINE, 8" | J5: ='PAVT MARK 1'!J5 -> STOP LINE | K5: ='PAVT MARK 1'!K5 -> CROSSWALK LINE, 12" | L5: ='PAVT MARK 1'!L5 -> TRANSVERSE/DIAGONAL LINE, YELLOW | M5: ='PAVT MARK 1'!M5 -> ISLAND MARKING, YELLOW | N5: ='PAVT MARK 1'!N5 -> SCHOOL SYMBOL MARKING, 72" | O5: ='PAVT MARK 1'!O5 -> LANE ARROW
A9: SHEET | B9: REF. | C9: LOCATION | F9: SIDE
A10: NO. | B10: NO.
D15: FROM | E15: TO | G15: ='PAVT MARK 1'!G15 -> FT | H15: ='PAVT MARK 1'!H15 -> FT | I15: ='PAVT MARK 1'!I15 -> FT | J15: ='PAVT MARK 1'!J15 -> FT | K15: ='PAVT MARK 1'!K15 -> FT | L15: ='PAVT MARK 1'!L15 -> FT | M15: ='PAVT MARK 1'!M15 -> SF | N15: ='PAVT MARK 1'!N15 -> EACH | O15: ='PAVT MARK 1'!O15 -> EACH
A17: P.271 | B17: CH | C17: EAST AVE | D17: 17450 | E17: 17465 | F17: LT | I17: =E17-D17 -> 15
A18: =A17 -> P.271 | B18: CDS | C18: EAST AVE | D18: 17450 | E18: 17525 | F18: RT | G18: =E18-D18 -> 75
A19: =A17 -> P.271 | B19: TY | C19: EAST AVE | D19: 17475 | E19: 17525 | F19: LT/RT | L19: 28
A20: =A17 -> P.271 | B20: CDS | C20: EAST AVE | D20: 17475 | E20: 17525 | F20: RT/LT | G20: =E20-D20 -> 50
A21: =A17 -> P.271 | B21: LA | C21: EAST AVE | D21: 17575 | F21: CEN | O21: 2
A22: =A17 -> P.271 | B22: CSB | C22: EAST AVE | D22: 17525 | E22: 17900 | F22: RT | H22: =E22-D22 -> 375
A23: =A17 -> P.271 | B23: CSB | C23: EAST AVE | D23: 17525 | E23: 17900 | F23: LT | H23: =E23-D23 -> 375
A25: P.272 | B25: CSB | C25: EAST AVE | D25: 17900 | E25: 18315 | F25: LT | H25: =E25-D25 -> 415
A26: =A25 -> P.272 | B26: CSB | C26: EAST AVE | D26: 17900 | E26: 18315 | F26: RT | H26: =E26-D26 -> 415
A27: =A25 -> P.272 | B27: LA | C27: EAST AVE | D27: 18265 | F27: CEN | O27: 2
A28: =A25 -> P.272 | B28: TY | C28: EAST AVE | D28: 18315 | E28: 18350 | F28: LT/RT | L28: 26
A29: =A25 -> P.272 | B29: CDS | C29: EAST AVE | D29: 18315 | E29: 18350 | F29: LT | G29: =E29-D29 -> 35
A30: =A25 -> P.272 | B30: CDS | C30: EAST AVE | D30: 18315 | E30: 18350 | F30: RT/LT | G30: =E30-D30 -> 35
A32: P.273 | B32: TY | C32: EAST AVE | D32: 18350 | E32: 18365 | F32: LT | L32: 3
A33: =A32 -> P.273 | B33: CDS | C33: EAST AVE | D33: 18350 | E33: 18365 | F33: LT | G33: =E33-D33 -> 15
A34: =A32 -> P.273 | B34: CDS | C34: EAST AVE | D34: 18350 | E34: 18415 | F34: LT | G34: =E34-D34 -> 65
A35: =A32 -> P.273 | B35: CH | C35: EAST AVE | D35: 18375 | E35: 18415 | F35: RT | I35: =E35-D35 -> 40
A36: =A32 -> P.273 | B36: LA | C36: EAST AVE | D36: 18405 | F36: CEN | O36: 1
A37: =A32 -> P.273 | B37: SL | C37: ERNEST DR | D37: 9034 | F37: LT/RT | J37: 16
A38: =A32 -> P.273 | B38: CW | C38: ERNEST DR | D38: 9021 | F38: LT/RT | K38: 89
A39: =A32 -> P.273 | B39: IY | C39: EAST AVE | D39: 18462 | F39: CEN | M39: 53
A40: =A32 -> P.273 | B40: LA | C40: EAST AVE | D40: 18518 | F40: CEN | O40: 2
A41: =A32 -> P.273 | B41: CSB | C41: EAST AVE | D41: 18468 | E41: 18800 | F41: LT | H41: =E41-D41 -> 332
A42: =A32 -> P.273 | B42: CSB | C42: EAST AVE | D42: 18468 | E42: 18800 | F42: RT | H42: =E42-D42 -> 332
A44: P.274 | B44: CSB | C44: EAST AVE | D44: 18800 | E44: 19250 | F44: RT | H44: =E44-D44 -> 450
A45: =A44 -> P.274 | B45: CSB | C45: EAST AVE | D45: 18800 | E45: 19250 | F45: LT | H45: =E45-D45 -> 450
A47: P.275 | B47: CSB | C47: EAST AVE | D47: 19250 | E47: 19423 | F47: LT | H47: =E47-D47 -> 173
A48: =A47 -> P.275 | B48: CSB | C48: EAST AVE | D48: 19250 | E48: 19423 | F48: RT | H48: =E48-D48 -> 173
A49: =A47 -> P.275 | B49: LA | C49: EAST AVE | D49: 19373 | F49: CEN | O49: 2
A50: =A47 -> P.275 | B50: TY | C50: EAST AVE | D50: 19423 | E50: 19473 | F50: LT/RT | L50: 28
A51: =A47 -> P.275 | B51: CDS | C51: EAST AVE | D51: 19423 | E51: 19523 | F51: LT | G51: =E51-D51 -> 100
A52: =A47 -> P.275 | B52: CDS | C52: EAST AVE | D52: 19423 | E52: 19473 | F52: RT/LT | G52: =E52-D52 -> 50
A53: =A47 -> P.275 | B53: CH | C53: EAST AVE | D53: 19483 | E53: 19523 | F53: RT | I53: =E53-D53 -> 40
A54: =A47 -> P.275 | B54: LA | C54: EAST AVE | D54: 19513 | F54: CEN | O54: 1
...

Sheet PAVT MARK 3
E1: EXTENSION # | G1: ='PAVT MARK 1'!G1 -> 300 | H1: ='PAVT MARK 1'!H1 -> 300 | I1: ='PAVT MARK 1'!I1 -> 400 | J1: ='PAVT MARK 1'!J1 -> 500 | K1: ='PAVT MARK 1'!K1 -> 620 | L1: ='PAVT MARK 1'!L1 -> 700 | M1: ='PAVT MARK 1'!M1 -> 900 | N1: ='PAVT MARK 1'!N1 -> 1100 | ... AB1: ='PAVT MARK 1'!AB1 -> 0
G4: ='PAVT MARK 1'!G4 -> 644 | H4: ='PAVT MARK 1'!H4 -> 644 | I4: ='PAVT MARK 1'!I4 -> 644 | J4: ='PAVT MARK 1'!J4 -> 644 | K4: ='PAVT MARK 1'!K4 -> 644 | L4: ='PAVT MARK 1'!L4 -> 644 | M4: ='PAVT MARK 1'!M4 -> 644 | N4: ='PAVT MARK 1'!N4 -> 644 | ... AB4: ='PAVT MARK 1'!AB4 -> 0
D5: STATION | G5: ='PAVT MARK 1'!G5 -> CENTER LINE, DOUBLE SOLID | H5: ='PAVT MARK 1'!H5 -> CENTER LINE, SOLID/BROKEN | I5: ='PAVT MARK 1'!I5 -> CHANNELIZING LINE, 8" | J5: ='PAVT MARK 1'!J5 -> STOP LINE | K5: ='PAVT MARK 1'!K5 -> CROSSWALK LINE, 12" | L5: ='PAVT MARK 1'!L5 -> TRANSVERSE/DIAGONAL LINE, YELLOW | M5: ='PAVT MARK 1'!M5 -> ISLAND MARKING, YELLOW | N5: ='PAVT MARK 1'!N5 -> SCHOOL SYMBOL MARKING, 72" | O5: ='PAVT MARK 1'!O5 -> LANE ARROW
A9: SHEET | B9: REF. | C9: LOCATION | F9: SIDE
A10: NO. | B10: NO.
D15: FROM | E15: TO | G15: ='PAVT MARK 1'!G15 -> FT | H15: ='PAVT MARK 1'!H15 -> FT | I15: ='PAVT MARK 1'!I15 -> FT | J15: ='PAVT MARK 1'!J15 -> FT | K15: ='PAVT MARK 1'!K15 -> FT | L15: ='PAVT MARK 1'!L15 -> FT | M15: ='PAVT MARK 1'!M15 -> SF | N15: ='PAVT MARK 1'!N15 -> EACH | O15: ='PAVT MARK 1'!O15 -> EACH
A17: P.276 | B17: CSB | C17: EAST AVE | D17: 19700 | E17: 19800 | F17: LT/CEN | H17: =E17-D17 -> 100
A18: =A17 -> P.276 | B18: CSB | C18: EAST AVE | D18: 19700 | E18: 19800 | F18: RT | H18: =E18-D18 -> 100
A19: =A17 -> P.276 | B19: CDS | C19: EAST AVE | D19: 19800 | E19: 20150 | F19: CEN/RT | G19: =E19-D19 -> 350
A20: =A17 -> P.276 | B20: CDS | C20: EAST AVE | D20: 19800 | E20: 19850 | F20: RT | G20: =E20-D20 -> 50
A21: =A17 -> P.276 | B21: TY | C21: EAST AVE | D21: 19800 | E21: 19850 | F21: RT | L21: 30
A22: =A17 -> P.276 | B22: LA | C22: EAST AVE | D22: 19874 | F22: RT | O22: 1
A23: =A17 -> P.276 | B23: CH | C23: EAST AVE | D23: 19860 | E23: 19948 | F23: RT | I23: =E23-D23 -> 88
A24: =A17 -> P.276 | B24: LA | C24: EAST AVE | D24: 19940 | F24: RT | O24: 1
A25: =A17 -> P.276 | B25: SL | C25: EAST AVE | D25: 19950 | F25: RT | J25: 23
A26: =A17 -> P.276 | B26: CW | C26: EAST AVE | D26: 19962 | F26: RT/LT | K26: 77
A27: =A17 -> P.276 | B27: CW | C27: EAST AVE | D27: 200+43 | F27: RT/LT | K27: 74
A28: =A17 -> P.276 | B28: SL | C28: EAST AVE | D28: 200+57 | F28: RT/LT | J28: 23
A29: =A17 -> P.276 | B29: LA | C29: EAST AVE | D29: 20067 | F29: RT | O29: 1
A30: =A17 -> P.276 | B30: CH | C30: EAST AVE | D30: 20059 | E30: 20147 | F30: CEN | I30: =E30-D30 -> 88
A31: =A17 -> P.276 | B31: LA | C31: EAST AVE | D31: 20133 | F31: RT | O31: 1
A33: P.277 | B33: CDS | C33: EAST AVE | D33: 20150 | E33: 20207 | F33: RT | G33: =E33-D33 -> 57
A34: =A33 -> P.277 | B34: CDS | C34: EAST AVE | D34: 20157 | E34: 20207 | F34: RT/CEN | G34: =E34-D34 -> 50
A35: =A33 -> P.277 | B35: TY | C35: EAST AVE | D35: 20157 | E35: 20207 | F35: CEN/RT | L35: 26
A36: =A33 -> P.277 | B36: CSB | C36: EAST AVE | D36: 20207 | E36: 20428 | F36: RT | H36: =E36-D36 -> 221
A37: =A33 -> P.277 | B37: CSB | C37: EAST AVE | D37: 20207 | E37: 20428 | F37: CEN/LT | H37: =E37-D37 -> 221
A38: =A33 -> P.277 | B38: LA | C38: EAST AVE | D38: 20317 | F38: RT | O38: 2
A39: =A33 -> P.277 | B39: IY | C39: EAST AVE | D39: 20434 | F39: CEN | M39: 53
A40: =A33 -> P.277 | B40: CW | C40: EASTPOINT DR | D40: 11978 | F40: LT/RT | K40: 123
A41: =A33 -> P.277 | B41: SL | C41: EASTPOINT DR | D41: 11965 | F41: RT | J41: 22
A42: =A33 -> P.277 | B42: LA | C42: EAST AVE | D42: 20516 | F42: CEN | O42: 1
A43: =A33 -> P.277 | B43: CH | C43: EAST AVE | D43: 20506 | E43: 20546 | F43: LT | I43: =E43-D43 -> 40
A44: =A33 -> P.277 | B44: CDS | C44: EAST AVE | D44: 20506 | E44: 20600 | F44: RT | G44: =E44-D44 -> 94
A45: =A33 -> P.277 | B45: CDS | C45: EAST AVE | D45: 20556 | E45: 20600 | F45: RT/LT | G45: =E45-D45 -> 44
A46: =A33 -> P.277 | B46: TY | C46: EAST AVE | D46: 20556 | E46: 20600 | F46: RT/LT | L46: 17
A48: P.278 | B48: CDS | C48: EAST AVE | D48: 20600 | E48: 20606 | F48: LT | G48: =E48-D48 -> 6
A49: =A48 -> P.278 | B49: CDS | C49: EAST AVE | D49: 20600 | E49: 20606 | F49: RT | G49: =E49-D49 -> 6
A50: =A48 -> P.278 | B50: TY | C50: EAST AVE | D50: 20600 | E50: 20606 | F50: LT/RT | L50: 12
A51: =A48 -> P.278 | B51: IY | C51: EAST AVE | D51: 20612 | F51: CEN | M51: 53
A52: =A48 -> P.278 | B52: CW | C52: RESERVE DR | D52: 12020 | F52: LT/RT | K52: 97
...

Sheet PAVT MARK 4
E1: EXTENSION # | G1: ='PAVT MARK 1'!G1 -> 300 | H1: ='PAVT MARK 1'!H1 -> 300 | I1: ='PAVT MARK 1'!I1 -> 400 | J1: ='PAVT MARK 1'!J1 -> 500 | K1: ='PAVT MARK 1'!K1 -> 620 | L1: ='PAVT MARK 1'!L1 -> 700 | M1: ='PAVT MARK 1'!M1 -> 900 | N1: ='PAVT MARK 1'!N1 -> 1100 | ... AB1: ='PAVT MARK 1'!AB1 -> 0
G4: ='PAVT MARK 1'!G4 -> 644 | H4: ='PAVT MARK 1'!H4 -> 644 | I4: ='PAVT MARK 1'!I4 -> 644 | J4: ='PAVT MARK 1'!J4 -> 644 | K4: ='PAVT MARK 1'!K4 -> 644 | L4: ='PAVT MARK 1'!L4 -> 644 | M4: ='PAVT MARK 1'!M4 -> 644 | N4: ='PAVT MARK 1'!N4 -> 644 | ... AB4: ='PAVT MARK 1'!AB4 -> 0
D5: STATION | G5: ='PAVT MARK 1'!G5 -> CENTER LINE, DOUBLE SOLID | H5: ='PAVT MARK 1'!H5 -> CENTER LINE, SOLID/BROKEN | I5: ='PAVT MARK 1'!I5 -> CHANNELIZING LINE, 8" | J5: ='PAVT MARK 1'!J5 -> STOP LINE | K5: ='PAVT MARK 1'!K5 -> CROSSWALK LINE, 12" | L5: ='PAVT MARK 1'!L5 -> TRANSVERSE/DIAGONAL LINE, YELLOW | M5: ='PAVT MARK 1'!M5 -> ISLAND MARKING, YELLOW | N5: ='PAVT MARK 1'!N5 -> SCHOOL SYMBOL MARKING, 72" | O5: ='PAVT MARK 1'!O5 -> LANE ARROW
A9: SHEET | B9: REF. | C9: LOCATION | F9: SIDE
A10: NO. | B10: NO.
D15: FROM | E15: TO | G15: ='PAVT MARK 1'!G15 -> FT | H15: ='PAVT MARK 1'!H15 -> FT | I15: ='PAVT MARK 1'!I15 -> FT | J15: ='PAVT MARK 1'!J15 -> FT | K15: ='PAVT MARK 1'!K15 -> FT | L15: ='PAVT MARK 1'!L15 -> FT | M15: ='PAVT MARK 1'!M15 -> SF | N15: ='PAVT MARK 1'!N15 -> EACH | O15: ='PAVT MARK 1'!O15 -> EACH
A17: P.280 | B17: CSB | C17: EAST AVE | D17: 21500 | E17: 21614 | F17: LT | H17: =E17-D17 -> 114
A18: =A17 -> P.280 | B18: CSB | C18: EAST AVE | D18: 21500 | E18: 21614 | F18: RT | H18: =E18-D18 -> 114
A19: =A18 -> P.280 | B19: LA | C19: EAST AVE | D19: 21564 | F19: CEN | O19: 2
A20: =A19 -> P.280 | B20: TY | C20: EAST AVE | D20: 21614 | E20: 21664 | F20: LT/RT | L20: 28
A21: =A20 -> P.280 | B21: CDS | C21: EAST AVE | D21: 21614 | E21: 21664 | F21: RT/LT | G21: =E21-D21 -> 50
A22: =A21 -> P.280 | B22: CDS | C22: EAST AVE | D22: 21614 | E22: 21714 | F22: LT | G22: =E22-D22 -> 100
A23: =A22 -> P.280 | B23: CH | C23: EAST AVE | D23: 21674 | E23: 21714 | F23: RT | I23: =E23-D23 -> 40
A24: =A23 -> P.280 | B24: LA | C24: EAST AVE | D24: 21704 | F24: CEN | O24: 1
A25: =A24 -> P.280 | B25: SL | C25: EAST AVE | D25: 217+16 | F25: LT/RT | J25: 23
A26: =A25 -> P.280 | B26: IY | C26: EAST AVE | D26: 218+60 | F26: LT | M26: 53
A27: =A26 -> P.280 | B27: LA | C27: EAST AVE | D27: 219+16 | F27: LT | O27: 2
A28: =A27 -> P.280 | B28: CSB | C28: EAST AVE | D28: 21866 | E28: 21950 | F28: LT | H28: =E28-D28 -> 84
A29: =A28 -> P.280 | B29: CSB | C29: EAST AVE | D29: 21866 | E29: 21950 | F29: RT | H29: =E29-D29 -> 84
A30: =A29 -> P.280 | B30: SL | C30: EAST AVE | D30: 218+66 | F30: LT | J30: 15
A31: =A30 -> P.280 | B31: CW | C31: EAST AVE | D31: 218+28 | F31: LT/RT | K31: 101
A33: P.281 | B33: CSB | C33: EAST AVE | D33: 21950 | E33: 22110 | F33: LT | H33: =E33-D33 -> 160
A34: =A33 -> P.281 | B34: CSB | C34: EAST AVE | D34: 21950 | E34: 22110 | F34: RT | H34: =E34-D34 -> 160
A70: TOTALS FROM THIS SHEET | G70: =SUM('PAVT MARK 4'!G16:H69) -> 866 | I70: =SUM(I16:I69) -> 40 | J70: =SUM(J16:J69) -> 38 | K70: =SUM(K16:K69) -> 101 | L70: 28 | M70: =SUM(M16:M69) -> 53 | O70: =SUM(O16:O69) -> 5
A71: TOTALS FROM PAVEMENT MARKING SUBSUMMARY SHEET 1 OF 4 | G71: ='PAVT MARK 1'!G76 -> 3351 | I71: ='PAVT MARK 1'!I76 -> 155 | J71: ='PAVT MARK 1'!J76 -> 56 | K71: ='PAVT MARK 1'!K76 -> 331 | L71: ='PAVT MARK 1'!L76 -> 59 | M71: ='PAVT MARK 1'!M76 -> 159 | N71: ='PAVT MARK 1'!N76 -> 1 | O71: ='PAVT MARK 1'!O76 -> 16
A72: TOTALS FROM PAVEMENT MARKING SUBSUMMARY SHEET 2 OF 4 | G72: ='PAVT MARK 2'!G76 -> 4135 | I72: ='PAVT MARK 2'!I76 -> 95 | J72: ='PAVT MARK 2'!J76 -> 37 | K72: ='PAVT MARK 2'!K76 -> 203 | L72: ='PAVT MARK 2'!L76 -> 85 | M72: ='PAVT MARK 2'!M76 -> 106 | O72: ='PAVT MARK 2'!O76 -> 12
A73: TOTALS FROM PAVEMENT MARKING SUBSUMMARY SHEET 3 OF 4 | G73: ='PAVT MARK 3'!G76 -> 2937 | I73: ='PAVT MARK 3'!I76 -> 216 | J73: ='PAVT MARK 3'!J76 -> 82 | K73: ='PAVT MARK 3'!K76 -> 371 | L73: ='PAVT MARK 3'!L76 -> 85 | M73: ='PAVT MARK 3'!M76 -> 159 | O73: ='PAVT MARK 3'!O76 -> 9
A74: TOTALS | G74: =SUM(G70:H73) -> 11289 | I74: =SUM(I70:I73) -> 506 | J74: =SUM(J70:J73) -> 213 | K74: =SUM(K70:K73) -> 1006 | L74: =SUM(L70:L73) -> 257 | M74: =SUM(M70:M73) -> 477 | N74: =SUM(N70:N73) -> 1 | O74: =SUM(O70:O73) -> 42
A75: MILES | G75: =ROUNDUP(G74/5280,3) -> 2.139
A76: TOTALS CARRIED TO GENERAL SUMMARY | G76: =G75 -> 2.139 | I76: =I74 -> 506 | J76: =J74 -> 213 | K76: =K74 -> 1006 | L76: =L74 -> 257 | M76: =M74 -> 477 | N76: =N74 -> 1 | O76: =O74 -> 42 | P76: =SUM(P16:P75) -> 0 | Q76: =SUM(Q16:Q75) -> 0 | R76: =SUM(R16:R75) -> 0 | S76: =SUM(S16:S75) -> 0 | T76: =SUM(T16:T75) -> 0 | U76: =SUM(U16:U75) -> 0 | V76: =SUM(V16:V75) -> 0 | W76: =SUM(W16:W75) -> 0 | ... AB76: =SUM(AB16:AB75) -> 0

Sheet SIGN 1
H1: EXTENSION | I1: 2100 | J1: 3100 | K1: 8520 | L1: 8600 | M1: 80100 | N1: 80511 | O1: 84900 | P1: 84900 | Q1: 84900 | R1: 86002 | S1: 86002
B4: SHEET NO. | C4: REFERENCE NO. | E4: STATION | H4: SIZE (INCHES) | I4: 630 | J4: 630 | K4: 630 | L4: 630 | M4: 630 | N4: 630 | O4: 630 | P4: 630 | Q4: 630 | R4: 630 | S4: 630
I5: GROUND MOUNTED SUPPORT, NO. 2 POST | J5: GROUND MOUNTED SUPPORT, NO. 3 POST | K5: STREET NAME SIGN SUPPORT, NO. 3 POST | L5: SIGN POST REFLECTOR | M5: SIGN, FLAT SHEET | N5: SIGN, STREET NAME, AS PER PLAN | O5: REMOVAL OF GROUND MOUNTED SIGN, DISPOSE | P5: REMOVAL OF GROUND MOUNTED SIGN, STORE | Q5: REMOVAL OF GROUND MOUNTED SIGN, REERECT | R5: REMOVAL OF GROUND MOUNTED POST SUPPORT, DISPOSE | S5: REMOVAL OF GROUND MOUNTED POST SUPPORT, REERECT
D9: LOCATION | F9: SIDE | G9: CODE
I15: FT | J15: FT | K15: FT | L15: EACH | M15: SF | N15: EACH | O15: EACH | P15: EACH | Q15: EACH | R15: EACH | S15: EACH
B17: P.266 | C17: R-1 | D17: EAST AVE | F17: LT | G17: R3-9cP | O17: 1 | R17: 1
G18: R3-9a | O18: 1
B19: =B17 -> P.266 | C19: R-2 | D19: EAST AVE | F19: RT | G19: R3-9cP | O19: 1 | R19: 1
G20: R3-9a | O20: 1
B22: P.266 | C22: S-1 | D22: EAST AVE | E22: 15475 | F22: LT | G22: R3-9b-24 | H22: 24 X 36 | I22: 13.5 | M22: 6
B23: =B22 -> P.266 | C23: S-2 | D23: EAST AVE | E23: 15475 | F23: RT | G23: R3-9b-24 | H23: 24 X 36 | I23: 13.5 | M23: 6
B25: P.267 | C25: R-3 | D25: EAST AVE | F25: LT | G25: SPECIAL | O25: 1 | R25: 1
B27: =B25 -> P.267 | C27: S-3 | D27: EAST AVE | E27: 15775 | F27: LT | G27: SPECIAL | H27: 12 X 18 | I27: 12 | M27: 1.5
B29: P.268 | C29: R-4 | D29: EAST AVE | F29: LT | G29: S4-3P | O29: 1 | R29: 1
G30: R2-1 | O30: 1
G31: S4-H8P | O31: 1
G32: S4-1P | O32: 1
B33: P.268 | C33: R-5 | D33: EAST AVE | F33: LT | G33: S1-1 | O33: 1 | R33: 1
G34: W16-9P | O34: 1
B35: =B33 -> P.268 | C35: R-6 | D35: EAST AVE | F35: RT | G35: S5-3 | O35: 1 | R35: 1
B36: =B33 -> P.268 | C36: R-7 | D36: EAST AVE | F36: RT | G36: SPECIAL | O36: 1 | R36: 1
G37: SPECIAL | O37: 1
B38: =B33 -> P.268 | C38: R-8 | D38: INDIAN HILLS DR | F38: RT | G38: R1-1 | O38: 1 | R38: 1
B40: =B33 -> P.268 | C40: S-4 | D40: EAST AVE | E40: 16207 | F40: LT | G40: S5-H1-30 | H40: 30 X 60 | J40: 16.6/16.6 | M40: 12.5 | AC40: =16.6+16.6 -> 33.2
G41: S4-1P-24 | H41: 24 X 12 | M41: 2
B42: =B33 -> P.268 | C42: S-5 | D42: EAST AVE | E42: 16350 | F42: LT | G42: S1-1-36 | H42: 36 X 36 | J42: 13.5 | M42: 9 | AC42: 13.5
G43: W16-9P-24 | H43: 24 x 12 | M43: 2
B44: =B33 -> P.268 | C44: S-6 | D44: EAST AVE | E44: 16406 | F44: LT | G44: R3-9cP-24 | H44: 24 X 6 | J44: 14.1 | M44: 1 | AC44: 14.1
G45: R3-9b-24 | H45: 24 X 36 | M45: 6
B46: =B33 -> P.268 | C46: S-7 | D46: EAST AVE | E46: 16175 | F46: RT | G46: S5-3-30 | H46: 30 X 60 | J46: 15.5/15.5 | M46: 12.5 | AC46: =15.5+15.5 -> 31
B47: =B33 -> P.268 | C47: S-8 | D47: EAST AVE | E47: 16406 | F47: RT | G47: R3-9dP-24 | H47: 24 X 6 | J47: 14.1 | M47: 1 | AC47: 14.1
G48: R3-9b-24 | H48: 24 X 36 | M48: 6
B49: =B33 -> P.268 | C49: S-9 | D49: EAST AVE | E49: 16420 | F49: RT | G49: SPECIAL | K49: 12.1 | N49: 1
G50: SPECIAL | N50: 1
G51: SPECIAL | N51: 1
G52: SPECIAL | N52: 1
B53: =B33 -> P.268 | C53: S-10 | D53: INDIAN HILLS DR | E53: 5964 | F53: RT | G53: R1-1-30 | H53: 30 X 30 | I53: 13 | L53: 1 | M53: 6.3
B55: P.269 | C55: R-9 | D55: EAST AVE | F55: LT | G55: R2-1 | O55: 1 | R55: 1
B57: =B55 -> P.269 | C57: S-11 | D57: EAST AVE | E57: 16592 | F57: LT | G57: R3-H8ba-30 | H57: 30 X 30 | I57: 13 | M57: 6.3
B58: =B55 -> P.269 | C58: S-12 | D58: EAST AVE | E58: 16692 | F58: LT | G58: R2-1-30 | H58: 30 X 36 | J58: 13.5 | M58: 7.5 | AC58: 13.5
...

Sheet SIGN 2
H1: EXTENSION | I1: ='SIGN 1'!I1 -> 2100 | J1: ='SIGN 1'!J1 -> 3100 | K1: ='SIGN 1'!K1 -> 8520 | L1: ='SIGN 1'!L1 -> 8600 | M1: ='SIGN 1'!M1 -> 80100 | N1: ='SIGN 1'!N1 -> 80511 | O1: 84900 | P1: 84900 | Q1: 84900 | R1: 86002 | S1: 86002 | T1: ='SIGN 1'!T1 -> 0 | U1: ='SIGN 1'!U1 -> 0 | V1: ='SIGN 1'!V1 -> 0 | W1: ='SIGN 1'!W1 -> 0 | X1: ='SIGN 1'!X1 -> 0
B4: SHEET NO. | C4: REFERENCE NO. | E4: STATION | H4: SIZE (INCHES) | I4: ='SIGN 1'!I4 -> 630 | J4: ='SIGN 1'!J4 -> 630 | K4: ='SIGN 1'!K4 -> 630 | L4: ='SIGN 1'!L4 -> 630 | M4: ='SIGN 1'!M4 -> 630 | N4: ='SIGN 1'!N4 -> 630 | O4: 630 | P4: 630 | Q4: 630 | R4: 630 | S4: 630 | T4: ='SIGN 1'!T4 -> 0 | U4: ='SIGN 1'!U4 -> 0 | V4: ='SIGN 1'!V4 -> 0 | W4: ='SIGN 1'!W4 -> 0
I5: ='SIGN 1'!I5 -> GROUND MOUNTED SUPPORT, NO. 2 POST | J5: ='SIGN 1'!J5 -> GROUND MOUNTED SUPPORT, NO. 3 POST | K5: ='SIGN 1'!K5 -> STREET NAME SIGN SUPPORT, NO. 3 POST | L5: ='SIGN 1'!L5 -> SIGN POST REFLECTOR | M5: ='SIGN 1'!M5 -> SIGN, FLAT SHEET | N5: ='SIGN 1'!N5 -> SIGN, STREET NAME, AS PER PLAN | O5: REMOVAL OF GROUND MOUNTED SIGN, DISPOSE | P5: REMOVAL OF GROUND MOUNTED SIGN, STORE | Q5: REMOVAL OF GROUND MOUNTED SIGN, REERECT | R5: REMOVAL OF GROUND MOUNTED POST SUPPORT, DISPOSE | S5: REMOVAL OF GROUND MOUNTED POST SUPPORT, REERECT | T5: ='SIGN 1'!T5 -> 0 | U5: ='SIGN 1'!U5 -> 0 | V5: ='SIGN 1'!V5 -> 0 | W5: ='SIGN 1'!W5 -> 0 | X5: ='SIGN 1'!X5 -> 0
D9: LOCATION | F9: SIDE | G9: CODE
I15: ='SIGN 1'!I15 -> FT | J15: ='SIGN 1'!J15 -> FT | K15: ='SIGN 1'!K15 -> FT | L15: ='SIGN 1'!L15 -> EACH | M15: ='SIGN 1'!M15 -> SF | N15: ='SIGN 1'!N15 -> EACH | O15: ='SIGN 1'!O15 -> EACH | P15: ='SIGN 1'!P15 -> EACH | ... R15: ='SIGN 1'!R15 -> EACH | S15: EACH | T15: ='SIGN 1'!T15 -> 0 | U15: ='SIGN 1'!U15 -> 0 | V15: ='SIGN 1'!V15 -> 0 | W15: ='SIGN 1'!W15 -> 0 | X15: ='SIGN 1'!X15 -> 0
B17: P.270 | C17: R-10 | D17: MILTON DR | F17: LT | G17: R1-1 | O17: 1 | R17: 1
B18: =B17 -> P.270 | C18: R-11 | D18: MILTON DR | F18: LT | G18: SPECIAL | O18: 1 | R18: 1
G19: SPECIAL | O19: 1
B20: =B17 -> P.270 | C20: R-12 | D20: EAST AVE | F20: RT | G20: R2-1 | O20: 1 | R20: 1
B21: =B17 -> P.270 | C21: R-13 | D21: MACA DR | F21: LT | G21: R7-1 | O21: 1 | R21: 1
G22: SPECIAL | O22: 1
B23: =B17 -> P.270 | C23: R-14 | D23: MACA DR | F23: RT | G23: R1-1 | O23: 1 | R23: 1
B24: =B17 -> P.270 | C24: R-15 | D24: MACA DR | F24: RT | G24: SPECIAL | O24: 1 | R24: 1
G25: SPECIAL | O25: 1
B27: =B17 -> P.270 | C27: S-16 | D27: MILTON DR | E27: 70+37 | F27: LT | G27: R1-1-30 | H27: 30 X 30 | I27: 13 | L27: 1 | M27: 6.3
B28: =B17 -> P.270 | C28: S-17 | D28: MILTON DR | E28: 7030 | F28: LT | G28: SPECIAL | K28: 12.1 | N28: 1
G29: SPECIAL | N29: 1
G30: SPECIAL | N30: 1
G31: SPECIAL | N31: 1
B32: =B17 -> P.270 | C32: S-18 | D32: EAST AVE | E32: 17162 | F32: LT | G32: R3-9dP-24 | H32: 24 X 6 | J32: 14.1 | M32: 1
G33: R3-9b-24 | H33: 24 X 36 | M33: 6
B34: =B17 -> P.270 | C34: S-19 | D34: EAST AVE | E34: 17362 | F34: LT | G34: R3-9cP-24 | H34: 24 X 6 | J34: 14.1 | M34: 1
G35: R3-9b-24 | H35: 24 X 36 | M35: 6
B36: =B17 -> P.270 | C36: S-20 | D36: EAST AVE | E36: 17010 | F36: RT | G36: R2-1-30 | H36: 30 X 36 | J36: 13.5 | M36: 7.5
B37: =B17 -> P.270 | C37: S-21 | D37: EAST AVE | E37: 17143 | F37: RT | G37: R3-9cP-24 | H37: 24 X 6 | J37: 14.1 | M37: 1
G38: R3-9b-24 | H38: 24 X 36 | M38: 6
B39: =B17 -> P.270 | C39: S-22 | D39: EAST AVE | E39: 17340 | F39: RT | G39: R3-9dP-24 | H39: 24 X 6 | J39: 14.1 | M39: 1
G40: R3-9b-24 | H40: 24 X 36 | M40: 6
B41: =B17 -> P.270 | C41: S-23 | D41: MACA DR | E41: 7914 | F41: LT | G41: R7-1-12 | H41: 12 X 18 | I41: 12 | M41: 1.5
B42: =B17 -> P.270 | C42: S-24 | D42: MACA DR | E42: 7964 | F42: RT | G42: R1-1-30 | H42: 30 X 30 | I42: 13 | L42: 1 | M42: 6.3
B43: =B17 -> P.270 | C43: S-25 | D43: MACA DR | E43: 7971 | F43: RT | G43: SPECIAL | K43: 12.1 | N43: 1
G44: SPECIAL | N44: 1
G45: SPECIAL | N45: 1
G46: SPECIAL | N46: 1
B48: P.271 | C48: S-26 | D48: EAST AVE | E48: 17540 | F48: LT | G48: R3-H8ba-30 | H48: 30 X 30 | I48: 13 | M48: 6.3
B49: =B48 -> P.271 | C49: S-27 | D49: EAST AVE | E49: 17515 | F49: RT | G49: R3-9cP-24 | H49: 24 X 6 | J49: 14.1 | M49: 1
G50: R3-9b-24 | H50: 24 X 36 | M50: 6
B52: P.272 | C52: S-28 | D52: EAST AVE | E52: 18315 | F52: LT | G52: R3-9cP-24 | H52: 24 X 6 | J52: 14.1 | M52: 1
G53: R3-9b-24 | H53: 24 X 36 | M53: 6
B54: =B52 -> P.272 | C54: S-29 | D54: EAST AVE | E54: 18305 | F54: RT | G54: R3-H8ba-30 | H54: 30 X 30 | I54: 13 | M54: 6.3
...

Sheet SIGN 3
H1: EXTENSION | I1: ='SIGN 1'!I1 -> 2100 | J1: ='SIGN 1'!J1 -> 3100 | K1: ='SIGN 1'!K1 -> 8520 | L1: ='SIGN 1'!L1 -> 8600 | M1: ='SIGN 1'!M1 -> 80100 | N1: ='SIGN 1'!N1 -> 80511 | O1: 84900 | P1: 84900 | Q1: 84900 | R1: 86002 | S1: 86002 | T1: ='SIGN 1'!T1 -> 0 | U1: ='SIGN 1'!U1 -> 0 | V1: ='SIGN 1'!V1 -> 0 | W1: ='SIGN 1'!W1 -> 0 | X1: ='SIGN 1'!X1 -> 0
B4: SHEET NO. | C4: REFERENCE NO. | E4: STATION | H4: SIZE (INCHES) | I4: ='SIGN 1'!I4 -> 630 | J4: ='SIGN 1'!J4 -> 630 | K4: ='SIGN 1'!K4 -> 630 | L4: ='SIGN 1'!L4 -> 630 | M4: ='SIGN 1'!M4 -> 630 | N4: ='SIGN 1'!N4 -> 630 | O4: 630 | P4: 630 | Q4: 630 | R4: 630 | S4: 630 | T4: ='SIGN 1'!T4 -> 0 | U4: ='SIGN 1'!U4 -> 0 | V4: ='SIGN 1'!V4 -> 0 | W4: ='SIGN 1'!W4 -> 0
I5: ='SIGN 1'!I5 -> GROUND MOUNTED SUPPORT, NO. 2 POST | J5: ='SIGN 1'!J5 -> GROUND MOUNTED SUPPORT, NO. 3 POST | K5: ='SIGN 1'!K5 -> STREET NAME SIGN SUPPORT, NO. 3 POST | L5: ='SIGN 1'!L5 -> SIGN POST REFLECTOR | M5: ='SIGN 1'!M5 -> SIGN, FLAT SHEET | N5: ='SIGN 1'!N5 -> SIGN, STREET NAME, AS PER PLAN | O5: REMOVAL OF GROUND MOUNTED SIGN, DISPOSE | P5: REMOVAL OF GROUND MOUNTED SIGN, STORE | Q5: REMOVAL OF GROUND MOUNTED SIGN, REERECT | R5: REMOVAL OF GROUND MOUNTED POST SUPPORT, DISPOSE | S5: REMOVAL OF GROUND MOUNTED POST SUPPORT, REERECT | T5: ='SIGN 1'!T5 -> 0 | U5: ='SIGN 1'!U5 -> 0 | V5: ='SIGN 1'!V5 -> 0 | W5: ='SIGN 1'!W5 -> 0 | X5: ='SIGN 1'!X5 -> 0
D9: LOCATION | F9: SIDE | G9: CODE
I15: ='SIGN 1'!I15 -> FT | J15: ='SIGN 1'!J15 -> FT | K15: ='SIGN 1'!K15 -> FT | L15: ='SIGN 1'!L15 -> EACH | M15: ='SIGN 1'!M15 -> SF | N15: ='SIGN 1'!N15 -> EACH | O15: ='SIGN 1'!O15 -> EACH | P15: ='SIGN 1'!P15 -> EACH | ... R15: ='SIGN 1'!R15 -> EACH | S15: EACH | T15: ='SIGN 1'!T15 -> 0 | U15: ='SIGN 1'!U15 -> 0 | V15: ='SIGN 1'!V15 -> 0 | W15: ='SIGN 1'!W15 -> 0 | X15: ='SIGN 1'!X15 -> 0
B17: P.273 | C17: R-16 | D17: ERNEST DR | F17: LT | G17: R1-1 | O17: 1 | R17: 1
B18: =B17 -> P.273 | C18: R-17 | D18: ERNEST DR | F18: RT | G18: R5-2 | O18: 1 | R18: 1
B19: =B17 -> P.273 | C19: R-18 | D19: ERNEST DR | F19: RT | G19: SPECIAL | O19: 1 | R19: 1
G20: SPECIAL | O20: 1
B21: =B17 -> P.273 | C21: R-19 | D21: EAST AVE | F21: LT | G21: R2-1 | O21: 1 | R21: 1
B23: =B17 -> P.273 | C23: S-30 | D23: ERNEST DR | E23: 9034 | F23: LT | G23: R1-1-30 | H23: 30 X 30 | I23: 13 | L23: 1 | M23: 6.3
B24: =B17 -> P.273 | C24: S-31 | D24: ERNEST DR | E24: 9069 | F24: RT | G24: R5-2-24 | H24: 24 X 24 | I24: 12.5 | M24: 4
B25: =B17 -> P.273 | C25: S-32 | D25: ERNEST DR | E25: 9031 | F25: RT | G25: SPECIAL | K25: 12.1 | N25: 1
G26: SPECIAL | N26: 1
G27: SPECIAL | N27: 1
G28: SPECIAL | N28: 1
B29: =B17 -> P.273 | C29: S-33 | D29: EAST AVE | E29: 18480 | F29: LT | G29: R3-9dP-24 | H29: 24 X 6 | J29: 14.1 | M29: 1
G30: R3-9b-24 | H30: 24 X 36 | M30: 6
B31: =B17 -> P.273 | C31: S-34 | D31: EAST AVE | E31: 18590 | F31: LT | G31: R2-1-30 | H31: 30 X 36 | J31: 13.5 | M31: 7.5
B32: =B17 -> P.273 | C32: S-35 | D32: EAST AVE | E32: 18468 | F32: RT | G32: R3-9cP-24 | H32: 24 X 6 | J32: 14.1 | M32: 1
G33: R3-9b-24 | H33: 24 X 36 | M33: 6
B35: P.275 | C35: R-20 | D35: PARKER LN | F35: LT | G35: SPECIAL | O35: 1 | R35: 1
G36: SPECIAL | O36: 1
B37: =B35 -> P.275 | C37: R-21 | D37: PARKER LN | F37: LT | G37: R1-1 | O37: 1 | R37: 1
B38: =B35 -> P.275 | C38: R-22 | D38: PARKER LN | F38: RT | G38: R5-2 | O38: 1 | R38: 1
B40: =B35 -> P.275 | C40: S-36 | D40: EAST AVE | E40: 19423 | F40: LT | G40: R3-9cP-24 | H40: 24 X 6 | J40: 14.1 | M40: 1
G41: R3-9b-24 | H41: 24 X 36 | M41: 6
B42: =B35 -> P.275 | C42: S-37 | D42: PARKER LN | E42: 10028 | F42: LT | G42: SPECIAL | K42: 12.1 | N42: 1
G43: SPECIAL | N43: 1
G44: SPECIAL | N44: 1
G45: SPECIAL | N45: 1
B46: =B35 -> P.275 | C46: S-38 | D46: PARKER LN | E46: 10039 | F46: LT | G46: R1-1-30 | H46: 30 X 30 | I46: 13 | L46: 1 | M46: 6.3
B47: =B35 -> P.275 | C47: S-39 | D47: PARKER LN | E47: 10075 | F47: RT | G47: R5-2-24 | H47: 24 X 24 | I47: 12.5 | M47: 4
B48: =B35 -> P.275 | C48: S-40 | D48: EAST AVE | E48: 19600 | F48: LT | G48: R3-9dP-24 | H48: 24 X 6 | J48: 14.1 | M48: 1
G49: R3-9b-24 | H49: 24 X 36 | M49: 6
B50: =B35 -> P.275 | C50: S-41 | D50: EAST AVE | E50: 19423 | F50: RT | G50: R3-H8ba-30 | H50: 30 X 30 | I50: 13 | M50: 6.3
B51: =B35 -> P.275 | C51: S-42 | D51: EAST AVE | E51: 19590 | F51: RT | G51: R3-9cP-24 | H51: 24 X 6 | J51: 14.1 | M51: 1
G52: R3-9b-24 | H52: 24 X 36 | M52: 6
B54: P.276 | C54: S-43 | D54: EAST AVE | E54: 19800 | F54: LT | G54: R3-9cP-24 | H54: 24 X 6 | J54: 14.1 | M54: 1
G55: R3-9b-24 | H55: 24 X 36 | M55: 6
...

Sheet SIGN 4
H1: EXTENSION | I1: ='SIGN 1'!I1 -> 2100 | J1: ='SIGN 1'!J1 -> 3100 | K1: ='SIGN 1'!K1 -> 8520 | L1: ='SIGN 1'!L1 -> 8600 | M1: ='SIGN 1'!M1 -> 80100 | N1: ='SIGN 1'!N1 -> 80511 | O1: 84900 | P1: 84900 | Q1: 84900 | R1: 86002 | S1: 86002 | T1: ='SIGN 1'!T1 -> 0 | U1: ='SIGN 1'!U1 -> 0 | V1: ='SIGN 1'!V1 -> 0 | W1: ='SIGN 1'!W1 -> 0 | X1: ='SIGN 1'!X1 -> 0 | Y1: ='SIGN 1'!X1 -> 0
B4: SHEET NO. | C4: REFERENCE NO. | E4: STATION | H4: SIZE (INCHES) | I4: ='SIGN 1'!I4 -> 630 | J4: ='SIGN 1'!J4 -> 630 | K4: ='SIGN 1'!K4 -> 630 | L4: ='SIGN 1'!L4 -> 630 | M4: ='SIGN 1'!M4 -> 630 | N4: ='SIGN 1'!N4 -> 630 | O4: 630 | P4: 630 | Q4: 630 | R4: 630 | S4: 630 | T4: ='SIGN 1'!T4 -> 0 | U4: ='SIGN 1'!U4 -> 0 | V4: ='SIGN 1'!V4 -> 0 | W4: ='SIGN 1'!W4 -> 0 | Y4: ='SIGN 1'!X4 -> 0
I5: ='SIGN 1'!I5 -> GROUND MOUNTED SUPPORT, NO. 2 POST | J5: ='SIGN 1'!J5 -> GROUND MOUNTED SUPPORT, NO. 3 POST | K5: ='SIGN 1'!K5 -> STREET NAME SIGN SUPPORT, NO. 3 POST | L5: ='SIGN 1'!L5 -> SIGN POST REFLECTOR | M5: ='SIGN 1'!M5 -> SIGN, FLAT SHEET | N5: ='SIGN 1'!N5 -> SIGN, STREET NAME, AS PER PLAN | O5: REMOVAL OF GROUND MOUNTED SIGN, DISPOSE | P5: REMOVAL OF GROUND MOUNTED SIGN, STORE | Q5: REMOVAL OF GROUND MOUNTED SIGN, REERECT | R5: REMOVAL OF GROUND MOUNTED POST SUPPORT, DISPOSE | S5: REMOVAL OF GROUND MOUNTED POST SUPPORT, REERECT | T5: ='SIGN 1'!T5 -> 0 | U5: ='SIGN 1'!U5 -> 0 | V5: ='SIGN 1'!V5 -> 0 | W5: ='SIGN 1'!W5 -> 0 | X5: ='SIGN 1'!X5 -> 0 | Y5: ='SIGN 1'!X5 -> 0
D9: LOCATION | F9: SIDE | G9: CODE
I15: ='SIGN 1'!I15 -> FT | J15: ='SIGN 1'!J15 -> FT | K15: ='SIGN 1'!K15 -> FT | L15: ='SIGN 1'!L15 -> EACH | M15: ='SIGN 1'!M15 -> SF | N15: ='SIGN 1'!N15 -> EACH | O15: ='SIGN 1'!O15 -> EACH | P15: ='SIGN 1'!P15 -> EACH | ... R15: ='SIGN 1'!R15 -> EACH | S15: EACH | T15: ='SIGN 1'!T15 -> 0 | U15: ='SIGN 1'!U15 -> 0 | V15: ='SIGN 1'!V15 -> 0 | W15: ='SIGN 1'!W15 -> 0 | X15: ='SIGN 1'!X15 -> 0 | Y15: ='SIGN 1'!X15 -> 0
B17: P.278 | C17: R-25 | D17: EAST AVE | F17: LT | G17: R2-1 | O17: 1 | R17: 1
B18: =B17 -> P.278 | C18: R-26 | D18: EAST AVE | F18: LT | G18: SPECIAL | P18: 1
B20: =B17 -> P.278 | C20: S-52 | D20: EAST AVE | E20: 20731 | F20: LT | G20: R3-9dP-24 | H20: 24 X 6 | J20: 14.1 | M20: 1
G21: R3-9b-24 | H21: 24 X 36 | M21: 6
B22: =B17 -> P.278 | C22: S-53 | D22: EAST AVE | E22: 20888 | F22: LT | G22: R2-1-30 | H22: 30 X 36 | J22: 13.5 | M22: 7.5
B23: =B17 -> P.278 | C23: S-54 | D23: EAST AVE | E23: 20688 | F23: RT | G23: R3-9cP-24 | H23: 24 X 6 | J23: 14.1 | M23: 1
G24: R3-9b-24 | H24: 24 X 36 | M24: 6
B26: P.279 | C26: R-27 | D26: EAST AVE | F26: RT | G26: R2-1 | O26: 1 | R26: 1
B27: =B26 -> P.279 | C27: R-28 | D27: EAST AVE | F27: RT | G27: I-H2g | Q27: 1 | R27: 1
G28: SPECIAL | Q28: 1
B30: =B26 -> P.279 | C30: S-55 | D30: EAST AVE | E30: 21250 | F30: RT | G30: R2-1-30 | H30: 30 X 36 | J30: 13.5 | M30: 7.5
B31: =B26 -> P.279 | C31: S-56 | D31: EAST AVE | E31: 21405 | F31: RT | G31: I-H2g | J31: 15.1
G32: SPECIAL
B34: P.280 | C34: S-57 | D34: EAST AVE | E34: 21614 | F34: LT | G34: R3-9cP-24 | H34: 24 X 6 | J34: 14.1 | M34: 1
G35: R3-9b-24 | H35: 24 X 36 | M35: 6
B36: =B34 -> P.280 | C36: S-58 | D36: EAST AVE | E36: 21866 | F36: LT | G36: R3-9dP-24 | H36: 24 X 6 | J36: 14.1 | M36: 1
G37: R3-9b-24 | H37: 24 X 36 | M37: 6
B38: =B34 -> P.280 | C38: S-59 | D38: EAST AVE | E38: 21614 | F38: RT | G38: R3-H8ba-30 | H38: 30 X 30 | I38: 13 | M38: 6.3
B39: =B34 -> P.280 | C39: S-60 | D39: EAST AVE | E39: 21866 | F39: RT | G39: R3-9cP-24 | H39: 24 X 6 | J39: 14.1 | M39: 1
G40: R3-9b-24 | H40: 24 X 36 | M40: 6
B43: P.281 | C43: R-29 | D43: EAST AVE | F43: RT | G43: R3-2 | O43: 1 | R43: 1
B45: =B43 -> P.281 | C45: S-61 | D45: EAST AVE | E45: 22100 | F45: LT | G45: R3-9cP-24 | H45: 24 X 6 | J45: 14.1 | M45: 1
G46: R3-9b-24 | H46: 24 X 36 | M46: 6
B47: =B43 -> P.281 | C47: S-62 | D47: EAST AVE | E47: 22110 | F47: RT | G47: R3-9dP-24 | H47: 24 X 6 | J47: 14.1 | M47: 1
G48: R3-9b-24 | H48: 24 X 36 | M48: 6
B49: =B43 -> P.281 | C49: S-63 | D49: EAST AVE | E49: 22160 | F49: RT | G49: R3-2-36 | H49: 36 X 36 | J49: 13.5 | M49: 9
B80: TOTALS FROM THIS SHEET | I80: =SUM(I16:I79) -> 13 | J80: =SUM(J16:J79) -> 154.3 | K80: =SUM(K16:K79) -> 0 | L80: =SUM(L16:L79) -> 0 | M80: =SUM(M16:M79) -> 79.3 | N80: =SUM(N16:N79) -> 0 | O80: =SUM(O16:O79) -> 3 | P80: =SUM(P16:P79) -> 1 | ... R80: =SUM(R16:R79) -> 4
B81: TOTALS CARRIED FROM SIGNING SUBSUMMARY SHEET 1 OF 4 | I81: ='SIGN 1'!I84 -> 78 | J81: ='SIGN 1'!J84 -> 147.6 | K81: ='SIGN 1'!K84 -> 12.1 | L81: ='SIGN 1'!L84 -> 1 | M81: ='SIGN 1'!M84 -> 105.9 | N81: ='SIGN 1'!N84 -> 4 | O81: ='SIGN 1'!O84 -> 16 | P81: ='SIGN 1'!P84 -> 0 | ... R81: ='SIGN 1'!R84 -> 9
B82: TOTALS CARRIED FROM SIGNING SUBSUMMARY SHEET 2 OF 4 | I82: ='SIGN 2'!I84 -> 64 | J82: ='SIGN 2'!J84 -> 98.1 | K82: ='SIGN 2'!K84 -> 24.2 | L82: ='SIGN 2'!L84 -> 2 | M82: ='SIGN 2'!M84 -> 76.2 | N82: ='SIGN 2'!N84 -> 8 | O82: ='SIGN 2'!O84 -> 9 | P82: ='SIGN 2'!P84 -> 0 | ... R82: ='SIGN 2'!R84 -> 6
B83: TOTALS CARRIED FROM SIGNING SUBSUMMARY SHEET 3 OF 4 | I83: ='SIGN 3'!I84 -> 90 | J83: ='SIGN 3'!J84 -> 166.4 | K83: ='SIGN 3'!K84 -> 24.2 | L83: ='SIGN 3'!L84 -> 3 | M83: ='SIGN 3'!M84 -> 125 | N83: ='SIGN 3'!N84 -> 8 | O83: ='SIGN 3'!O84 -> 10 | P83: ='SIGN 3'!P84 -> 0 | ... S83: ='SIGN 3'!S84 -> 1
B84: TOTALS CARRIED TO GENERAL SUMMARY | I84: =SUM(I80:I83) -> 245 | J84: =SUM(J80:J83) -> 566.4 | K84: =SUM(K80:K83) -> 60.5 | L84: =SUM(L80:L83) -> 6 | M84: =SUM(M80:M83) -> 386.4 | N84: =SUM(N80:N83) -> 20 | O84: =SUM(O80:Q83) -> 42 | R84: =SUM(R80:S83) -> 28 | T84: =SUM(T16:T83) -> 0 | U84: =SUM(U16:U83) -> 0 | V84: =SUM(V16:V83) -> 0 | W84: =SUM(W16:W83) -> 0 | X84: =SUM(X16:X83) -> 0 | Y84: =SUM(Y16:Y83) -> 0
