{"text_format":"1","workbook":"xlsx","n_sheets":5,"sheets":["Traffic Count","HCS+ for N-S Mainline","HCS+ for E-W Mainline","Main Line Reduction Table","Sheet1"],"not_rendered":{"charts":0,"images":5,"macros":1,"external_links":1,"defined_names":0,"comments":1,"pivot_tables":0},"unopened":[],"bounds":{"document_bytes":16777216,"sheet_cells":100000,"rows_first":2000,"rows_last":500,"rows_between":2000,"halvings":0,"cell_chars":16384,"cell_head_chars":4096},"cells_cut":0,"cells_raw":0,"read":"whole","date_system":"1900"}

{"sheet":"Traffic Count","index":0,"n_rows":437,"n_cols":47,"rows_kept":437,"cut":false,"hidden":false,"merged":[[30,23,30,25],[30,31,30,33],[30,20,30,21],[30,28,30,29],[18,23,18,25],[18,31,18,33],[18,20,18,21],[18,28,18,29],[54,23,54,25],[54,31,54,33],[54,20,54,21],[54,28,54,29],[42,23,42,25],[42,31,42,33],[42,20,42,21],[42,28,42,29],[78,23,78,25],[78,31,78,33],[78,20,78,21],[78,28,78,29],[66,23,66,25],[66,31,66,33],[66,20,66,21],[66,28,66,29],[102,23,102,25],[102,31,102,33],[102,20,102,21],[102,28,102,29],[90,23,90,25],[90,31,90,33],[90,20,90,21],[90,28,90,29],[126,23,126,25],[126,31,126,33],[126,20,126,21],[126,28,126,29],[114,23,114,25],[114,31,114,33],[114,20,114,21],[114,28,114,29],[150,23,150,25],[150,31,150,33],[150,20,150,21],[150,28,150,29],[138,23,138,25],[138,31,138,33],[138,20,138,21],[138,28,138,29]]}
["Start Date","2004-10-26",null,null,null,null,null,null,null,null,null,null,null,null,null,null,null,null,null,null,null,null,null,null,null,null,null,null,null,null,null,null,null,null,null,null,"Do Not Modify",null,"Do Not Modify"]
["Start Time","06:00:00",null,null,null,null,null,null,null,null,null,null,null,null,null,null,null,null,null,null,null,null,null,false,null,null,null,null,null,null,null,false,null,null,null,null,1,null,1]
["Site Code",6466,null,null,null,null,null,null,null,null,null,null,null,null,null,null,null,null,null,"#1",null,null,null,"#2",null,null,null,"#3",null,null,null,"#4",null,null,null,null,null,null,"Number of Through Lanes",null,null,null,null,null,"Number of Through lanes"]
[{"$f":"'[1]SR 32 & Shuster Rd.'!A4","v":"Street Name"},{"$f":"'[1]SR 32 & Shuster Rd.'!B4","v":"SchusterRd--Southbound"},null,null,null,{"$f":"'[1]SR 32 & Shuster Rd.'!F4","v":"S.R. 32--Westbound"},null,null,null,{"$f":"'[1]SR 32 & Shuster Rd.'!J4","v":"SchusterRd--Northbound"},null,null,null,{"$f":"'[1]SR 32 & Shuster Rd.'!N4","v":"S.R. 32--Eastbound"},null,null,null,null,null,{"$f":"B4","v":"SchusterRd--Southbound"},null,null,null,{"$f":"F4","v":"S.R. 32--Westbound"},null,null,null,{"$f":"J4","v":"SchusterRd--Northbound"},null,null,null,{"$f":"N4","v":"S.R. 32--Eastbound"},null,null,null,null,null,null,2,null,null,null,null,null,2]
[{"$f":"'[1]SR 32 & Shuster Rd.'!A5","v":"Start Time"},{"$f":"'[1]SR 32 & Shuster Rd.'!B5","v":"Right "},{"$f":"'[1]SR 32 & Shuster Rd.'!C5","v":"Thru "},{"$f":"'[1]SR 32 & Shuster Rd.'!D5","v":"Left "},{"$f":"'[1]SR 32 & Shuster Rd.'!E5","v":"Peds "},{"$f":"'[1]SR 32 & Shuster Rd.'!F5","v":"Right "},{"$f":"'[1]SR 32 & Shuster Rd.'!G5","v":"Thru "},{"$f":"'[1]SR 32 & Shuster Rd.'!H5","v":"Left "},{"$f":"'[1]SR 32 & Shuster Rd.'!I5","v":"Peds "},{"$f":"'[1]SR 32 & Shuster Rd.'!J5","v":"Right "},{"$f":"'[1]SR 32 & Shuster Rd.'!K5","v":"Thru "},{"$f":"'[1]SR 32 & Shuster Rd.'!L5","v":"Left "},{"$f":"'[1]SR 32 & Shuster Rd.'!M5","v":"Peds "},{"$f":"'[1]SR 32 & Shuster Rd.'!N5","v":"Right "},{"$f":"'[1]SR 32 & Shuster Rd.'!O5","v":"Thru "},{"$f":"'[1]SR 32 & Shuster Rd.'!P5","v":"Left "},{"$f":"'[1]SR 32 & Shuster Rd.'!Q5","v":"Peds "},null,null,"Right ","Thru ","Left ","Peds ","Right ","Thru ","Left ","Peds ","Right ","Thru ","Left ","Peds ","Right ","Thru ","Left ","Peds ",null,"#1 Minor Leg Lane Configurations and Right Turn Reductions","-","#2 Mainline Congestion Factors for Limiting Right Turn Reductions","=","Minor Street Right Turn Reduction",null,"#3 Minor Leg Lane Configurations and Right Turn Reductions","-","#4 Mainline Congestion Factors for Limiting Right Turn Reductions","=","Minor Street Right Turn Reduction"]
[{"$f":"'[1]SR 32 & Shuster Rd.'!A6","v":"06:00:00"},{"$f":"'[1]SR 32 & Shuster Rd.'!B6","v":3},{"$f":"'[1]SR 32 & Shuster Rd.'!C6","v":1},{"$f":"'[1]SR 32 & Shuster Rd.'!D6+'[1]SR 32 & Germany Rd.'!C6+'[1]SR 32 & Germany Rd.'!D6","v":16},{"$f":"'[1]SR 32 & Shuster Rd.'!E6","v":0},{"$f":"'[1]SR 32 & Shuster Rd.'!F6","v":5},{"$f":"'[1]SR 32 & Shuster Rd.'!G6","v":46},{"$f":"'[1]SR 32 & Shuster Rd.'!H6","v":0},{"$f":"'[1]SR 32 & Shuster Rd.'!I6","v":0},{"$f":"'[1]SR 32 & Shuster Rd.'!J6","v":1},{"$f":"'[1]SR 32 & Shuster Rd.'!K6","v":9},{"$f":"'[1]SR 32 & Shuster Rd.'!L6","v":1},{"$f":"'[1]SR 32 & Shuster Rd.'!M6","v":0},{"$f":"'[1]SR 32 & Shuster Rd.'!N6","v":0},{"$f":"'[1]SR 32 & Shuster Rd.'!O6","v":18},{"$f":"'[1]SR 32 & Shuster Rd.'!P6+'[1]SR 32 & Germany Rd.'!P6","v":5},{"$f":"'[1]SR 32 & Shuster Rd.'!Q6","v":0}]
[{"$f":"'[1]SR 32 & Shuster Rd.'!A7","v":"06:00:00"},{"$f":"'[1]SR 32 & Shuster Rd.'!B7","v":0},{"$f":"'[1]SR 32 & Shuster Rd.'!C7","v":0},{"$f":"'[1]SR 32 & Shuster Rd.'!D7+'[1]SR 32 & Germany Rd.'!C7+'[1]SR 32 & Germany Rd.'!D7","v":0},{"$f":"'[1]SR 32 & Shuster Rd.'!E7","v":0},{"$f":"'[1]SR 32 & Shuster Rd.'!F7","v":0},{"$f":"'[1]SR 32 & Shuster Rd.'!G7","v":6},{"$f":"'[1]SR 32 & Shuster Rd.'!H7","v":0},{"$f":"'[1]SR 32 & Shuster Rd.'!I7","v":0},{"$f":"'[1]SR 32 & Shuster Rd.'!J7","v":0},{"$f":"'[1]SR 32 & Shuster Rd.'!K7","v":0},{"$f":"'[1]SR 32 & Shuster Rd.'!L7","v":0},{"$f":"'[1]SR 32 & Shuster Rd.'!M7","v":0},{"$f":"'[1]SR 32 & Shuster Rd.'!N7","v":0},{"$f":"'[1]SR 32 & Shuster Rd.'!O7","v":7},{"$f":"'[1]SR 32 & Shuster Rd.'!P7+'[1]SR 32 & Germany Rd.'!P7","v":1},{"$f":"'[1]SR 32 & Shuster Rd.'!Q7","v":0}]
[{"$f":"'[1]SR 32 & Shuster Rd.'!A8","v":"06:00:00"},{"$f":"'[1]SR 32 & Shuster Rd.'!B8","v":0},{"$f":"'[1]SR 32 & Shuster Rd.'!C8","v":0},{"$f":"'[1]SR 32 & Shuster Rd.'!D8+'[1]SR 32 & Germany Rd.'!C8+'[1]SR 32 & Germany Rd.'!D8","v":0},{"$f":"'[1]SR 32 & Shuster Rd.'!E8","v":0},{"$f":"'[1]SR 32 & Shuster Rd.'!F8","v":0},{"$f":"'[1]SR 32 & Shuster Rd.'!G8","v":0},{"$f":"'[1]SR 32 & Shuster Rd.'!H8","v":0},{"$f":"'[1]SR 32 & Shuster Rd.'!I8","v":0},{"$f":"'[1]SR 32 & Shuster Rd.'!J8","v":0},{"$f":"'[1]SR 32 & Shuster Rd.'!K8","v":0},{"$f":"'[1]SR 32 & Shuster Rd.'!L8","v":0},{"$f":"'[1]SR 32 & Shuster Rd.'!M8","v":0},{"$f":"'[1]SR 32 & Shuster Rd.'!N8","v":0},{"$f":"'[1]SR 32 & Shuster Rd.'!O8","v":0},{"$f":"'[1]SR 32 & Shuster Rd.'!P8+'[1]SR 32 & Germany Rd.'!P8","v":0},{"$f":"'[1]SR 32 & Shuster Rd.'!Q8","v":0},null,"06:00:00",{"$f":"SUM(B6:B8)","v":3},1,16,0,5,52,0,0,1,9,1,0,0,25,6,0]
[{"$f":"'[1]SR 32 & Shuster Rd.'!A9","v":"06:15:00"},{"$f":"'[1]SR 32 & Shuster Rd.'!B9","v":2},{"$f":"'[1]SR 32 & Shuster Rd.'!C9","v":1},{"$f":"'[1]SR 32 & Shuster Rd.'!D9+'[1]SR 32 & Germany Rd.'!C9+'[1]SR 32 & Germany Rd.'!D9","v":18},{"$f":"'[1]SR 32 & Shuster Rd.'!E9","v":0},{"$f":"'[1]SR 32 & Shuster Rd.'!F9","v":10},{"$f":"'[1]SR 32 & Shuster Rd.'!G9","v":62},{"$f":"'[1]SR 32 & Shuster Rd.'!H9","v":0},{"$f":"'[1]SR 32 & Shuster Rd.'!I9","v":0},{"$f":"'[1]SR 32 & Shuster Rd.'!J9","v":1},{"$f":"'[1]SR 32 & Shuster Rd.'!K9","v":0},{"$f":"'[1]SR 32 & Shuster Rd.'!L9","v":2},{"$f":"'[1]SR 32 & Shuster Rd.'!M9","v":0},{"$f":"'[1]SR 32 & Shuster Rd.'!N9","v":0},{"$f":"'[1]SR 32 & Shuster Rd.'!O9","v":33},{"$f":"'[1]SR 32 & Shuster Rd.'!P9+'[1]SR 32 & Germany Rd.'!P9","v":12},{"$f":"'[1]SR 32 & Shuster Rd.'!Q9","v":0}]
[{"$f":"'[1]SR 32 & Shuster Rd.'!A10","v":"06:15:00"},{"$f":"'[1]SR 32 & Shuster Rd.'!B10","v":1},{"$f":"'[1]SR 32 & Shuster Rd.'!C10","v":0},{"$f":"'[1]SR 32 & Shuster Rd.'!D10+'[1]SR 32 & Germany Rd.'!C10+'[1]SR 32 & Germany Rd.'!D10","v":0},{"$f":"'[1]SR 32 & Shuster Rd.'!E10","v":0},{"$f":"'[1]SR 32 & Shuster Rd.'!F10","v":0},{"$f":"'[1]SR 32 & Shuster Rd.'!G10","v":10},{"$f":"'[1]SR 32 & Shuster Rd.'!H10","v":0},{"$f":"'[1]SR 32 & Shuster Rd.'!I10","v":0},{"$f":"'[1]SR 32 & Shuster Rd.'!J10","v":0},{"$f":"'[1]SR 32 & Shuster Rd.'!K10","v":0},{"$f":"'[1]SR 32 & Shuster Rd.'!L10","v":0},{"$f":"'[1]SR 32 & Shuster Rd.'!M10","v":0},{"$f":"'[1]SR 32 & Shuster Rd.'!N10","v":0},{"$f":"'[1]SR 32 & Shuster Rd.'!O10","v":2},{"$f":"'[1]SR 32 & Shuster Rd.'!P10+'[1]SR 32 & Germany Rd.'!P10","v":0},{"$f":"'[1]SR 32 & Shuster Rd.'!Q10","v":0}]
[{"$f":"'[1]SR 32 & Shuster Rd.'!A11","v":"06:15:00"},{"$f":"'[1]SR 32 & Shuster Rd.'!B11","v":0},{"$f":"'[1]SR 32 & Shuster Rd.'!C11","v":0},{"$f":"'[1]SR 32 & Shuster Rd.'!D11+'[1]SR 32 & Germany Rd.'!C11+'[1]SR 32 & Germany Rd.'!D11","v":0},{"$f":"'[1]SR 32 & Shuster Rd.'!E11","v":0},{"$f":"'[1]SR 32 & Shuster Rd.'!F11","v":0},{"$f":"'[1]SR 32 & Shuster Rd.'!G11","v":0},{"$f":"'[1]SR 32 & Shuster Rd.'!H11","v":0},{"$f":"'[1]SR 32 & Shuster Rd.'!I11","v":0},{"$f":"'[1]SR 32 & Shuster Rd.'!J11","v":0},{"$f":"'[1]SR 32 & Shuster Rd.'!K11","v":0},{"$f":"'[1]SR 32 & Shuster Rd.'!L11","v":0},{"$f":"'[1]SR 32 & Shuster Rd.'!M11","v":0},{"$f":"'[1]SR 32 & Shuster Rd.'!N11","v":0},{"$f":"'[1]SR 32 & Shuster Rd.'!O11","v":0},{"$f":"'[1]SR 32 & Shuster Rd.'!P11+'[1]SR 32 & Germany Rd.'!P11","v":0},{"$f":"'[1]SR 32 & Shuster Rd.'!Q11","v":0},null,"06:15:00",{"$f":"SUM(B9:B11)","v":3},1,18,0,10,72,0,0,1,0,2,0,0,35,12,0]
[{"$f":"'[1]SR 32 & Shuster Rd.'!A12","v":"06:30:00"},{"$f":"'[1]SR 32 & Shuster Rd.'!B12","v":5},{"$f":"'[1]SR 32 & Shuster Rd.'!C12","v":1},{"$f":"'[1]SR 32 & Shuster Rd.'!D12+'[1]SR 32 & Germany Rd.'!C12+'[1]SR 32 & Germany Rd.'!D12","v":23},{"$f":"'[1]SR 32 & Shuster Rd.'!E12","v":0},{"$f":"'[1]SR 32 & Shuster Rd.'!F12","v":12},{"$f":"'[1]SR 32 & Shuster Rd.'!G12","v":74},{"$f":"'[1]SR 32 & Shuster Rd.'!H12","v":0},{"$f":"'[1]SR 32 & Shuster Rd.'!I12","v":1},{"$f":"'[1]SR 32 & Shuster Rd.'!J12","v":0},{"$f":"'[1]SR 32 & Shuster Rd.'!K12","v":7},{"$f":"'[1]SR 32 & Shuster Rd.'!L12","v":5},{"$f":"'[1]SR 32 & Shuster Rd.'!M12","v":0},{"$f":"'[1]SR 32 & Shuster Rd.'!N12","v":1},{"$f":"'[1]SR 32 & Shuster Rd.'!O12","v":20},{"$f":"'[1]SR 32 & Shuster Rd.'!P12+'[1]SR 32 & Germany Rd.'!P12","v":22},{"$f":"'[1]SR 32 & Shuster Rd.'!Q12","v":0}]
[{"$f":"'[1]SR 32 & Shuster Rd.'!A13","v":"06:30:00"},{"$f":"'[1]SR 32 & Shuster Rd.'!B13","v":1},{"$f":"'[1]SR 32 & Shuster Rd.'!C13","v":0},{"$f":"'[1]SR 32 & Shuster Rd.'!D13+'[1]SR 32 & Germany Rd.'!C13+'[1]SR 32 & Germany Rd.'!D13","v":2},{"$f":"'[1]SR 32 & Shuster Rd.'!E13","v":0},{"$f":"'[1]SR 32 & Shuster Rd.'!F13","v":0},{"$f":"'[1]SR 32 & Shuster Rd.'!G13","v":6},{"$f":"'[1]SR 32 & Shuster Rd.'!H13","v":0},{"$f":"'[1]SR 32 & Shuster Rd.'!I13","v":0},{"$f":"'[1]SR 32 & Shuster Rd.'!J13","v":0},{"$f":"'[1]SR 32 & Shuster Rd.'!K13","v":0},{"$f":"'[1]SR 32 & Shuster Rd.'!L13","v":0},{"$f":"'[1]SR 32 & Shuster Rd.'!M13","v":0},{"$f":"'[1]SR 32 & Shuster Rd.'!N13","v":0},{"$f":"'[1]SR 32 & Shuster Rd.'!O13","v":8},{"$f":"'[1]SR 32 & Shuster Rd.'!P13+'[1]SR 32 & Germany Rd.'!P13","v":0},{"$f":"'[1]SR 32 & Shuster Rd.'!Q13","v":0}]
[{"$f":"'[1]SR 32 & Shuster Rd.'!A14","v":"06:30:00"},{"$f":"'[1]SR 32 & Shuster Rd.'!B14","v":0},{"$f":"'[1]SR 32 & Shuster Rd.'!C14","v":0},{"$f":"'[1]SR 32 & Shuster Rd.'!D14+'[1]SR 32 & Germany Rd.'!C14+'[1]SR 32 & Germany Rd.'!D14","v":0},{"$f":"'[1]SR 32 & Shuster Rd.'!E14","v":0},{"$f":"'[1]SR 32 & Shuster Rd.'!F14","v":0},{"$f":"'[1]SR 32 & Shuster Rd.'!G14","v":0},{"$f":"'[1]SR 32 & Shuster Rd.'!H14","v":0},{"$f":"'[1]SR 32 & Shuster Rd.'!I14","v":0},{"$f":"'[1]SR 32 & Shuster Rd.'!J14","v":0},{"$f":"'[1]SR 32 & Shuster Rd.'!K14","v":0},{"$f":"'[1]SR 32 & Shuster Rd.'!L14","v":0},{"$f":"'[1]SR 32 & Shuster Rd.'!M14","v":0},{"$f":"'[1]SR 32 & Shuster Rd.'!N14","v":0},{"$f":"'[1]SR 32 & Shuster Rd.'!O14","v":0},{"$f":"'[1]SR 32 & Shuster Rd.'!P14+'[1]SR 32 & Germany Rd.'!P14","v":0},{"$f":"'[1]SR 32 & Shuster Rd.'!Q14","v":0},null,"06:30:00",{"$f":"SUM(B12:B14)","v":6},1,25,0,12,80,0,1,0,7,5,0,1,28,22,0]
[{"$f":"'[1]SR 32 & Shuster Rd.'!A15","v":"06:45:00"},{"$f":"'[1]SR 32 & Shuster Rd.'!B15","v":4},{"$f":"'[1]SR 32 & Shuster Rd.'!C15","v":3},{"$f":"'[1]SR 32 & Shuster Rd.'!D15+'[1]SR 32 & Germany Rd.'!C15+'[1]SR 32 & Germany Rd.'!D15","v":11},{"$f":"'[1]SR 32 & Shuster Rd.'!E15","v":0},{"$f":"'[1]SR 32 & Shuster Rd.'!F15","v":4},{"$f":"'[1]SR 32 & Shuster Rd.'!G15","v":65},{"$f":"'[1]SR 32 & Shuster Rd.'!H15","v":0},{"$f":"'[1]SR 32 & Shuster Rd.'!I15","v":0},{"$f":"'[1]SR 32 & Shuster Rd.'!J15","v":0},{"$f":"'[1]SR 32 & Shuster Rd.'!K15","v":3},{"$f":"'[1]SR 32 & Shuster Rd.'!L15","v":3},{"$f":"'[1]SR 32 & Shuster Rd.'!M15","v":0},{"$f":"'[1]SR 32 & Shuster Rd.'!N15","v":1},{"$f":"'[1]SR 32 & Shuster Rd.'!O15","v":36},{"$f":"'[1]SR 32 & Shuster Rd.'!P15+'[1]SR 32 & Germany Rd.'!P15","v":20},{"$f":"'[1]SR 32 & Shuster Rd.'!Q15","v":0}]
[{"$f":"'[1]SR 32 & Shuster Rd.'!A16","v":"06:45:00"},{"$f":"'[1]SR 32 & Shuster Rd.'!B16","v":2},{"$f":"'[1]SR 32 & Shuster Rd.'!C16","v":0},{"$f":"'[1]SR 32 & Shuster Rd.'!D16+'[1]SR 32 & Germany Rd.'!C16+'[1]SR 32 & Germany Rd.'!D16","v":1},{"$f":"'[1]SR 32 & Shuster Rd.'!E16","v":0},{"$f":"'[1]SR 32 & Shuster Rd.'!F16","v":0},{"$f":"'[1]SR 32 & Shuster Rd.'!G16","v":6},{"$f":"'[1]SR 32 & Shuster Rd.'!H16","v":0},{"$f":"'[1]SR 32 & Shuster Rd.'!I16","v":0},{"$f":"'[1]SR 32 & Shuster Rd.'!J16","v":0},{"$f":"'[1]SR 32 & Shuster Rd.'!K16","v":0},{"$f":"'[1]SR 32 & Shuster Rd.'!L16","v":0},{"$f":"'[1]SR 32 & Shuster Rd.'!M16","v":0},{"$f":"'[1]SR 32 & Shuster Rd.'!N16","v":0},{"$f":"'[1]SR 32 & Shuster Rd.'!O16","v":4},{"$f":"'[1]SR 32 & Shuster Rd.'!P16+'[1]SR 32 & Germany Rd.'!P16","v":0},{"$f":"'[1]SR 32 & Shuster Rd.'!Q16","v":0}]
[{"$f":"'[1]SR 32 & Shuster Rd.'!A17","v":"06:45:00"},{"$f":"'[1]SR 32 & Shuster Rd.'!B17","v":0},{"$f":"'[1]SR 32 & Shuster Rd.'!C17","v":0},{"$f":"'[1]SR 32 & Shuster Rd.'!D17+'[1]SR 32 & Germany Rd.'!C17+'[1]SR 32 & Germany Rd.'!D17","v":0},{"$f":"'[1]SR 32 & Shuster Rd.'!E17","v":0},{"$f":"'[1]SR 32 & Shuster Rd.'!F17","v":0},{"$f":"'[1]SR 32 & Shuster Rd.'!G17","v":0},{"$f":"'[1]SR 32 & Shuster Rd.'!H17","v":0},{"$f":"'[1]SR 32 & Shuster Rd.'!I17","v":0},{"$f":"'[1]SR 32 & Shuster Rd.'!J17","v":0},{"$f":"'[1]SR 32 & Shuster Rd.'!K17","v":0},{"$f":"'[1]SR 32 & Shuster Rd.'!L17","v":0},{"$f":"'[1]SR 32 & Shuster Rd.'!M17","v":0},{"$f":"'[1]SR 32 & Shuster Rd.'!N17","v":0},{"$f":"'[1]SR 32 & Shuster Rd.'!O17","v":0},{"$f":"'[1]SR 32 & Shuster Rd.'!P17+'[1]SR 32 & Germany Rd.'!P17","v":0},{"$f":"'[1]SR 32 & Shuster Rd.'!Q17","v":0},null,"06:45:00",{"$f":"SUM(B15:B17)","v":6},3,12,0,4,71,0,0,0,3,3,0,1,40,20,0]
[{"$f":"'[1]SR 32 & Shuster Rd.'!A18","v":"07:00:00"},{"$f":"'[1]SR 32 & Shuster Rd.'!B18","v":8},{"$f":"'[1]SR 32 & Shuster Rd.'!C18","v":3},{"$f":"'[1]SR 32 & Shuster Rd.'!D18+'[1]SR 32 & Germany Rd.'!C18+'[1]SR 32 & Germany Rd.'!D18","v":24},{"$f":"'[1]SR 32 & Shuster Rd.'!E18","v":0},{"$f":"'[1]SR 32 & Shuster Rd.'!F18","v":5},{"$f":"'[1]SR 32 & Shuster Rd.'!G18","v":57},{"$f":"'[1]SR 32 & Shuster Rd.'!H18","v":0},{"$f":"'[1]SR 32 & Shuster Rd.'!I18","v":0},{"$f":"'[1]SR 32 & Shuster Rd.'!J18","v":1},{"$f":"'[1]SR 32 & Shuster Rd.'!K18","v":7},{"$f":"'[1]SR 32 & Shuster Rd.'!L18","v":3},{"$f":"'[1]SR 32 & Shuster Rd.'!M18","v":0},{"$f":"'[1]SR 32 & Shuster Rd.'!N18","v":4},{"$f":"'[1]SR 32 & Shuster Rd.'!O18","v":29},{"$f":"'[1]SR 32 & Shuster Rd.'!P18+'[1]SR 32 & Germany Rd.'!P18","v":6},{"$f":"'[1]SR 32 & Shuster Rd.'!Q18","v":0},null,"Movement Total",{"$f":"SUM(T8,T11,T14,T17)","v":18},6,71,0,31,275,0,1,2,19,11,0,2,128,60,0,null,0.2,"-",{"$f":"IF(X$2=FALSE,LOOKUP((Y18+X18)/$AM$4,'Main Line Reduction Table'!$A$1:$B$21,'Main Line Reduction Table'!$C$1:$C$21),LOOKUP(Y18/$AM$4,'Main Line Reduction Table'!$A$1:$B$21,'Main Line Reduction Table'!$C$1:$C$21))","v":0},"=",{"$f":"AK18-AM18","v":0.2},null,0.2,"-",{"$f":"IF(AF$2=FALSE,LOOKUP((AG18+AF18)/$AS$4,'Main Line Reduction Table'!$A$1:$B$21,'Main Line Reduction Table'!$C$1:$C$21),LOOKUP(AG18/$AS$4,'Main Line Reduction Table'!$A$1:$B$21,'Main Line Reduction Table'!$C$1:$C$21))","v":0},"=",{"$f":"AQ18-AS18","v":0.2}]
[{"$f":"'[1]SR 32 & Shuster Rd.'!A19","v":"07:00:00"},{"$f":"'[1]SR 32 & Shuster Rd.'!B19","v":1},{"$f":"'[1]SR 32 & Shuster Rd.'!C19","v":0},{"$f":"'[1]SR 32 & Shuster Rd.'!D19+'[1]SR 32 & Germany Rd.'!C19+'[1]SR 32 & Germany Rd.'!D19","v":0},{"$f":"'[1]SR 32 & Shuster Rd.'!E19","v":0},{"$f":"'[1]SR 32 & Shuster Rd.'!F19","v":0},{"$f":"'[1]SR 32 & Shuster Rd.'!G19","v":8},{"$f":"'[1]SR 32 & Shuster Rd.'!H19","v":0},{"$f":"'[1]SR 32 & Shuster Rd.'!I19","v":0},{"$f":"'[1]SR 32 & Shuster Rd.'!J19","v":0},{"$f":"'[1]SR 32 & Shuster Rd.'!K19","v":0},{"$f":"'[1]SR 32 & Shuster Rd.'!L19","v":0},{"$f":"'[1]SR 32 & Shuster Rd.'!M19","v":0},{"$f":"'[1]SR 32 & Shuster Rd.'!N19","v":0},{"$f":"'[1]SR 32 & Shuster Rd.'!O19","v":9},{"$f":"'[1]SR 32 & Shuster Rd.'!P19+'[1]SR 32 & Germany Rd.'!P19","v":1},{"$f":"'[1]SR 32 & Shuster Rd.'!Q19","v":0},null,"Reduced Movement Total",{"$f":"T18*(1-AO18)","v":14.4},{"$f":"(T18*(1-$AO18))+U18+V18","v":91.4},null,null,{"$f":"X18+Y18+Z18","v":306},null,null,null,{"$f":"AB18*(1-AU18)","v":1.6},{"$f":"(AB18*(1-$AO18))+AC18+AD18","v":31.6},null,null,{"$f":"AF18+AG18+AH18","v":190}]
[{"$f":"'[1]SR 32 & Shuster Rd.'!A20","v":"07:00:00"},{"$f":"'[1]SR 32 & Shuster Rd.'!B20","v":0},{"$f":"'[1]SR 32 & Shuster Rd.'!C20","v":0},{"$f":"'[1]SR 32 & Shuster Rd.'!D20+'[1]SR 32 & Germany Rd.'!C20+'[1]SR 32 & Germany Rd.'!D20","v":0},{"$f":"'[1]SR 32 & Shuster Rd.'!E20","v":0},{"$f":"'[1]SR 32 & Shuster Rd.'!F20","v":0},{"$f":"'[1]SR 32 & Shuster Rd.'!G20","v":0},{"$f":"'[1]SR 32 & Shuster Rd.'!H20","v":0},{"$f":"'[1]SR 32 & Shuster Rd.'!I20","v":0},{"$f":"'[1]SR 32 & Shuster Rd.'!J20","v":0},{"$f":"'[1]SR 32 & Shuster Rd.'!K20","v":0},{"$f":"'[1]SR 32 & Shuster Rd.'!L20","v":0},{"$f":"'[1]SR 32 & Shuster Rd.'!M20","v":0},{"$f":"'[1]SR 32 & Shuster Rd.'!N20","v":0},{"$f":"'[1]SR 32 & Shuster Rd.'!O20","v":0},{"$f":"'[1]SR 32 & Shuster Rd.'!P20+'[1]SR 32 & Germany Rd.'!P20","v":0},{"$f":"'[1]SR 32 & Shuster Rd.'!Q20","v":0},null,"07:00:00",{"$f":"SUM(B18:B20)","v":9},3,24,0,5,65,0,0,1,7,3,0,4,38,7,0]
[{"$f":"'[1]SR 32 & Shuster Rd.'!A21","v":"07:15:00"},{"$f":"'[1]SR 32 & Shuster Rd.'!B21","v":14},{"$f":"'[1]SR 32 & Shuster Rd.'!C21","v":0},{"$f":"'[1]SR 32 & Shuster Rd.'!D21+'[1]SR 32 & Germany Rd.'!C21+'[1]SR 32 & Germany Rd.'!D21","v":27},{"$f":"'[1]SR 32 & Shuster Rd.'!E21","v":1},{"$f":"'[1]SR 32 & Shuster Rd.'!F21","v":9},{"$f":"'[1]SR 32 & Shuster Rd.'!G21","v":72},{"$f":"'[1]SR 32 & Shuster Rd.'!H21","v":1},{"$f":"'[1]SR 32 & Shuster Rd.'!I21","v":0},{"$f":"'[1]SR 32 & Shuster Rd.'!J21","v":0},{"$f":"'[1]SR 32 & Shuster Rd.'!K21","v":9},{"$f":"'[1]SR 32 & Shuster Rd.'!L21","v":3},{"$f":"'[1]SR 32 & Shuster Rd.'!M21","v":0},{"$f":"'[1]SR 32 & Shuster Rd.'!N21","v":4},{"$f":"'[1]SR 32 & Shuster Rd.'!O21","v":43},{"$f":"'[1]SR 32 & Shuster Rd.'!P21+'[1]SR 32 & Germany Rd.'!P21","v":32},{"$f":"'[1]SR 32 & Shuster Rd.'!Q21","v":0}]
[{"$f":"'[1]SR 32 & Shuster Rd.'!A22","v":"07:15:00"},{"$f":"'[1]SR 32 & Shuster Rd.'!B22","v":1},{"$f":"'[1]SR 32 & Shuster Rd.'!C22","v":0},{"$f":"'[1]SR 32 & Shuster Rd.'!D22+'[1]SR 32 & Germany Rd.'!C22+'[1]SR 32 & Germany Rd.'!D22","v":0},{"$f":"'[1]SR 32 & Shuster Rd.'!E22","v":0},{"$f":"'[1]SR 32 & Shuster Rd.'!F22","v":0},{"$f":"'[1]SR 32 & Shuster Rd.'!G22","v":5},{"$f":"'[1]SR 32 & Shuster Rd.'!H22","v":0},{"$f":"'[1]SR 32 & Shuster Rd.'!I22","v":0},{"$f":"'[1]SR 32 & Shuster Rd.'!J22","v":0},{"$f":"'[1]SR 32 & Shuster Rd.'!K22","v":0},{"$f":"'[1]SR 32 & Shuster Rd.'!L22","v":0},{"$f":"'[1]SR 32 & Shuster Rd.'!M22","v":0},{"$f":"'[1]SR 32 & Shuster Rd.'!N22","v":0},{"$f":"'[1]SR 32 & Shuster Rd.'!O22","v":13},{"$f":"'[1]SR 32 & Shuster Rd.'!P22+'[1]SR 32 & Germany Rd.'!P22","v":0},{"$f":"'[1]SR 32 & Shuster Rd.'!Q22","v":0}]
[{"$f":"'[1]SR 32 & Shuster Rd.'!A23","v":"07:15:00"},{"$f":"'[1]SR 32 & Shuster Rd.'!B23","v":0},{"$f":"'[1]SR 32 & Shuster Rd.'!C23","v":0},{"$f":"'[1]SR 32 & Shuster Rd.'!D23+'[1]SR 32 & Germany Rd.'!C23+'[1]SR 32 & Germany Rd.'!D23","v":0},{"$f":"'[1]SR 32 & Shuster Rd.'!E23","v":0},{"$f":"'[1]SR 32 & Shuster Rd.'!F23","v":0},{"$f":"'[1]SR 32 & Shuster Rd.'!G23","v":0},{"$f":"'[1]SR 32 & Shuster Rd.'!H23","v":0},{"$f":"'[1]SR 32 & Shuster Rd.'!I23","v":0},{"$f":"'[1]SR 32 & Shuster Rd.'!J23","v":0},{"$f":"'[1]SR 32 & Shuster Rd.'!K23","v":0},{"$f":"'[1]SR 32 & Shuster Rd.'!L23","v":0},{"$f":"'[1]SR 32 & Shuster Rd.'!M23","v":0},{"$f":"'[1]SR 32 & Shuster Rd.'!N23","v":0},{"$f":"'[1]SR 32 & Shuster Rd.'!O23","v":0},{"$f":"'[1]SR 32 & Shuster Rd.'!P23+'[1]SR 32 & Germany Rd.'!P23","v":0},{"$f":"'[1]SR 32 & Shuster Rd.'!Q23","v":0},null,"07:15:00",{"$f":"SUM(B21:B23)","v":15},0,27,1,9,77,1,0,0,9,3,0,4,56,32,0]
[{"$f":"'[1]SR 32 & Shuster Rd.'!A24","v":"07:30:00"},{"$f":"'[1]SR 32 & Shuster Rd.'!B24","v":57},{"$f":"'[1]SR 32 & Shuster Rd.'!C24","v":3},{"$f":"'[1]SR 32 & Shuster Rd.'!D24+'[1]SR 32 & Germany Rd.'!C24+'[1]SR 32 & Germany Rd.'!D24","v":12},{"$f":"'[1]SR 32 & Shuster Rd.'!E24","v":0},{"$f":"'[1]SR 32 & Shuster Rd.'!F24","v":8},{"$f":"'[1]SR 32 & Shuster Rd.'!G24","v":76},{"$f":"'[1]SR 32 & Shuster Rd.'!H24","v":0},{"$f":"'[1]SR 32 & Shuster Rd.'!I24","v":0},{"$f":"'[1]SR 32 & Shuster Rd.'!J24","v":0},{"$f":"'[1]SR 32 & Shuster Rd.'!K24","v":10},{"$f":"'[1]SR 32 & Shuster Rd.'!L24","v":2},{"$f":"'[1]SR 32 & Shuster Rd.'!M24","v":0},{"$f":"'[1]SR 32 & Shuster Rd.'!N24","v":2},{"$f":"'[1]SR 32 & Shuster Rd.'!O24","v":40},{"$f":"'[1]SR 32 & Shuster Rd.'!P24+'[1]SR 32 & Germany Rd.'!P24","v":32},{"$f":"'[1]SR 32 & Shuster Rd.'!Q24","v":0}]
[{"$f":"'[1]SR 32 & Shuster Rd.'!A25","v":"07:30:00"},{"$f":"'[1]SR 32 & Shuster Rd.'!B25","v":1},{"$f":"'[1]SR 32 & Shuster Rd.'!C25","v":0},{"$f":"'[1]SR 32 & Shuster Rd.'!D25+'[1]SR 32 & Germany Rd.'!C25+'[1]SR 32 & Germany Rd.'!D25","v":1},{"$f":"'[1]SR 32 & Shuster Rd.'!E25","v":0},{"$f":"'[1]SR 32 & Shuster Rd.'!F25","v":0},{"$f":"'[1]SR 32 & Shuster Rd.'!G25","v":8},{"$f":"'[1]SR 32 & Shuster Rd.'!H25","v":0},{"$f":"'[1]SR 32 & Shuster Rd.'!I25","v":0},{"$f":"'[1]SR 32 & Shuster Rd.'!J25","v":0},{"$f":"'[1]SR 32 & Shuster Rd.'!K25","v":0},{"$f":"'[1]SR 32 & Shuster Rd.'!L25","v":0},{"$f":"'[1]SR 32 & Shuster Rd.'!M25","v":0},{"$f":"'[1]SR 32 & Shuster Rd.'!N25","v":0},{"$f":"'[1]SR 32 & Shuster Rd.'!O25","v":15},{"$f":"'[1]SR 32 & Shuster Rd.'!P25+'[1]SR 32 & Germany Rd.'!P25","v":1},{"$f":"'[1]SR 32 & Shuster Rd.'!Q25","v":0}]
[{"$f":"'[1]SR 32 & Shuster Rd.'!A26","v":"07:30:00"},{"$f":"'[1]SR 32 & Shuster Rd.'!B26","v":0},{"$f":"'[1]SR 32 & Shuster Rd.'!C26","v":0},{"$f":"'[1]SR 32 & Shuster Rd.'!D26+'[1]SR 32 & Germany Rd.'!C26+'[1]SR 32 & Germany Rd.'!D26","v":0},{"$f":"'[1]SR 32 & Shuster Rd.'!E26","v":0},{"$f":"'[1]SR 32 & Shuster Rd.'!F26","v":0},{"$f":"'[1]SR 32 & Shuster Rd.'!G26","v":0},{"$f":"'[1]SR 32 & Shuster Rd.'!H26","v":0},{"$f":"'[1]SR 32 & Shuster Rd.'!I26","v":0},{"$f":"'[1]SR 32 & Shuster Rd.'!J26","v":0},{"$f":"'[1]SR 32 & Shuster Rd.'!K26","v":0},{"$f":"'[1]SR 32 & Shuster Rd.'!L26","v":0},{"$f":"'[1]SR 32 & Shuster Rd.'!M26","v":0},{"$f":"'[1]SR 32 & Shuster Rd.'!N26","v":0},{"$f":"'[1]SR 32 & Shuster Rd.'!O26","v":0},{"$f":"'[1]SR 32 & Shuster Rd.'!P26+'[1]SR 32 & Germany Rd.'!P26","v":0},{"$f":"'[1]SR 32 & Shuster Rd.'!Q26","v":0},null,"07:30:00",{"$f":"SUM(B24:B26)","v":58},3,13,0,8,84,0,0,0,10,2,0,2,55,33,0]
[{"$f":"'[1]SR 32 & Shuster Rd.'!A27","v":"07:45:00"},{"$f":"'[1]SR 32 & Shuster Rd.'!B27","v":19},{"$f":"'[1]SR 32 & Shuster Rd.'!C27","v":4},{"$f":"'[1]SR 32 & Shuster Rd.'!D27+'[1]SR 32 & Germany Rd.'!C27+'[1]SR 32 & Germany Rd.'!D27","v":11},{"$f":"'[1]SR 32 & Shuster Rd.'!E27","v":0},{"$f":"'[1]SR 32 & Shuster Rd.'!F27","v":8},{"$f":"'[1]SR 32 & Shuster Rd.'!G27","v":74},{"$f":"'[1]SR 32 & Shuster Rd.'!H27","v":1},{"$f":"'[1]SR 32 & Shuster Rd.'!I27","v":0},{"$f":"'[1]SR 32 & Shuster Rd.'!J27","v":1},{"$f":"'[1]SR 32 & Shuster Rd.'!K27","v":7},{"$f":"'[1]SR 32 & Shuster Rd.'!L27","v":8},{"$f":"'[1]SR 32 & Shuster Rd.'!M27","v":0},{"$f":"'[1]SR 32 & Shuster Rd.'!N27","v":1},{"$f":"'[1]SR 32 & Shuster Rd.'!O27","v":43},{"$f":"'[1]SR 32 & Shuster Rd.'!P27+'[1]SR 32 & Germany Rd.'!P27","v":18},{"$f":"'[1]SR 32 & Shuster Rd.'!Q27","v":0}]
[{"$f":"'[1]SR 32 & Shuster Rd.'!A28","v":"07:45:00"},{"$f":"'[1]SR 32 & Shuster Rd.'!B28","v":0},{"$f":"'[1]SR 32 & Shuster Rd.'!C28","v":0},{"$f":"'[1]SR 32 & Shuster Rd.'!D28+'[1]SR 32 & Germany Rd.'!C28+'[1]SR 32 & Germany Rd.'!D28","v":1},{"$f":"'[1]SR 32 & Shuster Rd.'!E28","v":0},{"$f":"'[1]SR 32 & Shuster Rd.'!F28","v":0},{"$f":"'[1]SR 32 & Shuster Rd.'!G28","v":11},{"$f":"'[1]SR 32 & Shuster Rd.'!H28","v":0},{"$f":"'[1]SR 32 & Shuster Rd.'!I28","v":0},{"$f":"'[1]SR 32 & Shuster Rd.'!J28","v":0},{"$f":"'[1]SR 32 & Shuster Rd.'!K28","v":0},{"$f":"'[1]SR 32 & Shuster Rd.'!L28","v":0},{"$f":"'[1]SR 32 & Shuster Rd.'!M28","v":0},{"$f":"'[1]SR 32 & Shuster Rd.'!N28","v":0},{"$f":"'[1]SR 32 & Shuster Rd.'!O28","v":6},{"$f":"'[1]SR 32 & Shuster Rd.'!P28+'[1]SR 32 & Germany Rd.'!P28","v":0},{"$f":"'[1]SR 32 & Shuster Rd.'!Q28","v":0}]
[{"$f":"'[1]SR 32 & Shuster Rd.'!A29","v":"07:45:00"},{"$f":"'[1]SR 32 & Shuster Rd.'!B29","v":0},{"$f":"'[1]SR 32 & Shuster Rd.'!C29","v":0},{"$f":"'[1]SR 32 & Shuster Rd.'!D29+'[1]SR 32 & Germany Rd.'!C29+'[1]SR 32 & Germany Rd.'!D29","v":0},{"$f":"'[1]SR 32 & Shuster Rd.'!E29","v":0},{"$f":"'[1]SR 32 & Shuster Rd.'!F29","v":0},{"$f":"'[1]SR 32 & Shuster Rd.'!G29","v":0},{"$f":"'[1]SR 32 & Shuster Rd.'!H29","v":0},{"$f":"'[1]SR 32 & Shuster Rd.'!I29","v":0},{"$f":"'[1]SR 32 & Shuster Rd.'!J29","v":0},{"$f":"'[1]SR 32 & Shuster Rd.'!K29","v":0},{"$f":"'[1]SR 32 & Shuster Rd.'!L29","v":0},{"$f":"'[1]SR 32 & Shuster Rd.'!M29","v":0},{"$f":"'[1]SR 32 & Shuster Rd.'!N29","v":0},{"$f":"'[1]SR 32 & Shuster Rd.'!O29","v":0},{"$f":"'[1]SR 32 & Shuster Rd.'!P29+'[1]SR 32 & Germany Rd.'!P29","v":0},{"$f":"'[1]SR 32 & Shuster Rd.'!Q29","v":0},null,"07:45:00",{"$f":"SUM(B27:B29)","v":19},4,12,0,8,85,1,0,1,7,8,0,1,49,18,0]
[{"$f":"'[1]SR 32 & Shuster Rd.'!A30","v":"08:00:00"},{"$f":"'[1]SR 32 & Shuster Rd.'!B30","v":3},{"$f":"'[1]SR 32 & Shuster Rd.'!C30","v":0},{"$f":"'[1]SR 32 & Shuster Rd.'!D30+'[1]SR 32 & Germany Rd.'!C30+'[1]SR 32 & Germany Rd.'!D30","v":9},{"$f":"'[1]SR 32 & Shuster Rd.'!E30","v":0},{"$f":"'[1]SR 32 & Shuster Rd.'!F30","v":2},{"$f":"'[1]SR 32 & Shuster Rd.'!G30","v":57},{"$f":"'[1]SR 32 & Shuster Rd.'!H30","v":0},{"$f":"'[1]SR 32 & Shuster Rd.'!I30","v":0},{"$f":"'[1]SR 32 & Shuster Rd.'!J30","v":0},{"$f":"'[1]SR 32 & Shuster Rd.'!K30","v":3},{"$f":"'[1]SR 32 & Shuster Rd.'!L30","v":6},{"$f":"'[1]SR 32 & Shuster Rd.'!M30","v":0},{"$f":"'[1]SR 32 & Shuster Rd.'!N30","v":3},{"$f":"'[1]SR 32 & Shuster Rd.'!O30","v":37},{"$f":"'[1]SR 32 & Shuster Rd.'!P30+'[1]SR 32 & Germany Rd.'!P30","v":9},{"$f":"'[1]SR 32 & Shuster Rd.'!Q30","v":0},null,"Movement Total",{"$f":"SUM(T20,T23,T26,T29)","v":101},10,76,1,30,311,2,0,2,33,16,0,11,198,90,0,null,0.4,"-",{"$f":"IF(X$2=FALSE,LOOKUP((Y30+X30)/$AM$4,'Main Line Reduction Table'!$A$1:$B$21,'Main Line Reduction Table'!$C$1:$C$21),LOOKUP(Y30/$AM$4,'Main Line Reduction Table'!$A$1:$B$21,'Main Line Reduction Table'!$C$1:$C$21))","v":0},"=",{"$f":"AK30-AM30","v":0.4},null,0.2,"-",{"$f":"IF(AF$2=FALSE,LOOKUP((AG30+AF30)/$AS$4,'Main Line Reduction Table'!$A$1:$B$21,'Main Line Reduction Table'!$C$1:$C$21),LOOKUP(AG30/$AS$4,'Main Line Reduction Table'!$A$1:$B$21,'Main Line Reduction Table'!$C$1:$C$21))","v":0},"=",{"$f":"AQ30-AS30","v":0.2}]
[{"$f":"'[1]SR 32 & Shuster Rd.'!A31","v":"08:00:00"},{"$f":"'[1]SR 32 & Shuster Rd.'!B31","v":3},{"$f":"'[1]SR 32 & Shuster Rd.'!C31","v":0},{"$f":"'[1]SR 32 & Shuster Rd.'!D31+'[1]SR 32 & Germany Rd.'!C31+'[1]SR 32 & Germany Rd.'!D31","v":2},{"$f":"'[1]SR 32 & Shuster Rd.'!E31","v":0},{"$f":"'[1]SR 32 & Shuster Rd.'!F31","v":0},{"$f":"'[1]SR 32 & Shuster Rd.'!G31","v":8},{"$f":"'[1]SR 32 & Shuster Rd.'!H31","v":0},{"$f":"'[1]SR 32 & Shuster Rd.'!I31","v":0},{"$f":"'[1]SR 32 & Shuster Rd.'!J31","v":0},{"$f":"'[1]SR 32 & Shuster Rd.'!K31","v":0},{"$f":"'[1]SR 32 & Shuster Rd.'!L31","v":0},{"$f":"'[1]SR 32 & Shuster Rd.'!M31","v":0},{"$f":"'[1]SR 32 & Shuster Rd.'!N31","v":0},{"$f":"'[1]SR 32 & Shuster Rd.'!O31","v":16},{"$f":"'[1]SR 32 & Shuster Rd.'!P31+'[1]SR 32 & Germany Rd.'!P31","v":1},{"$f":"'[1]SR 32 & Shuster Rd.'!Q31","v":0},null,"Reduced Movement Total",{"$f":"T30*(1-AO30)","v":60.599999999999994},{"$f":"(T30*(1-$AO30))+U30+V30","v":146.6},null,null,{"$f":"X30+Y30+Z30","v":343},null,null,null,{"$f":"AB30*(1-AU30)","v":1.6},{"$f":"(AB30*(1-$AO30))+AC30+AD30","v":50.2},null,null,{"$f":"AF30+AG30+AH30","v":299}]
[{"$f":"'[1]SR 32 & Shuster Rd.'!A32","v":"08:00:00"},{"$f":"'[1]SR 32 & Shuster Rd.'!B32","v":0},{"$f":"'[1]SR 32 & Shuster Rd.'!C32","v":0},{"$f":"'[1]SR 32 & Shuster Rd.'!D32+'[1]SR 32 & Germany Rd.'!C32+'[1]SR 32 & Germany Rd.'!D32","v":0},{"$f":"'[1]SR 32 & Shuster Rd.'!E32","v":0},{"$f":"'[1]SR 32 & Shuster Rd.'!F32","v":0},{"$f":"'[1]SR 32 & Shuster Rd.'!G32","v":0},{"$f":"'[1]SR 32 & Shuster Rd.'!H32","v":0},{"$f":"'[1]SR 32 & Shuster Rd.'!I32","v":0},{"$f":"'[1]SR 32 & Shuster Rd.'!J32","v":0},{"$f":"'[1]SR 32 & Shuster Rd.'!K32","v":0},{"$f":"'[1]SR 32 & Shuster Rd.'!L32","v":0},{"$f":"'[1]SR 32 & Shuster Rd.'!M32","v":0},{"$f":"'[1]SR 32 & Shuster Rd.'!N32","v":0},{"$f":"'[1]SR 32 & Shuster Rd.'!O32","v":0},{"$f":"'[1]SR 32 & Shuster Rd.'!P32+'[1]SR 32 & Germany Rd.'!P32","v":0},{"$f":"'[1]SR 32 & Shuster Rd.'!Q32","v":0},null,"08:00:00",{"$f":"SUM(B30:B32)","v":6},0,11,0,2,65,0,0,0,3,6,0,3,53,10,0]
[{"$f":"'[1]SR 32 & Shuster Rd.'!A33","v":"08:15:00"},{"$f":"'[1]SR 32 & Shuster Rd.'!B33","v":1},{"$f":"'[1]SR 32 & Shuster Rd.'!C33","v":0},{"$f":"'[1]SR 32 & Shuster Rd.'!D33+'[1]SR 32 & Germany Rd.'!C33+'[1]SR 32 & Germany Rd.'!D33","v":13},{"$f":"'[1]SR 32 & Shuster Rd.'!E33","v":0},{"$f":"'[1]SR 32 & Shuster Rd.'!F33","v":3},{"$f":"'[1]SR 32 & Shuster Rd.'!G33","v":41},{"$f":"'[1]SR 32 & Shuster Rd.'!H33","v":0},{"$f":"'[1]SR 32 & Shuster Rd.'!I33","v":0},{"$f":"'[1]SR 32 & Shuster Rd.'!J33","v":1},{"$f":"'[1]SR 32 & Shuster Rd.'!K33","v":5},{"$f":"'[1]SR 32 & Shuster Rd.'!L33","v":0},{"$f":"'[1]SR 32 & Shuster Rd.'!M33","v":0},{"$f":"'[1]SR 32 & Shuster Rd.'!N33","v":1},{"$f":"'[1]SR 32 & Shuster Rd.'!O33","v":27},{"$f":"'[1]SR 32 & Shuster Rd.'!P33+'[1]SR 32 & Germany Rd.'!P33","v":10},{"$f":"'[1]SR 32 & Shuster Rd.'!Q33","v":0}]
[{"$f":"'[1]SR 32 & Shuster Rd.'!A34","v":"08:15:00"},{"$f":"'[1]SR 32 & Shuster Rd.'!B34","v":2},{"$f":"'[1]SR 32 & Shuster Rd.'!C34","v":0},{"$f":"'[1]SR 32 & Shuster Rd.'!D34+'[1]SR 32 & Germany Rd.'!C34+'[1]SR 32 & Germany Rd.'!D34","v":2},{"$f":"'[1]SR 32 & Shuster Rd.'!E34","v":0},{"$f":"'[1]SR 32 & Shuster Rd.'!F34","v":0},{"$f":"'[1]SR 32 & Shuster Rd.'!G34","v":12},{"$f":"'[1]SR 32 & Shuster Rd.'!H34","v":0},{"$f":"'[1]SR 32 & Shuster Rd.'!I34","v":0},{"$f":"'[1]SR 32 & Shuster Rd.'!J34","v":0},{"$f":"'[1]SR 32 & Shuster Rd.'!K34","v":0},{"$f":"'[1]SR 32 & Shuster Rd.'!L34","v":0},{"$f":"'[1]SR 32 & Shuster Rd.'!M34","v":0},{"$f":"'[1]SR 32 & Shuster Rd.'!N34","v":0},{"$f":"'[1]SR 32 & Shuster Rd.'!O34","v":8},{"$f":"'[1]SR 32 & Shuster Rd.'!P34+'[1]SR 32 & Germany Rd.'!P34","v":1},{"$f":"'[1]SR 32 & Shuster Rd.'!Q34","v":0}]
[{"$f":"'[1]SR 32 & Shuster Rd.'!A35","v":"08:15:00"},{"$f":"'[1]SR 32 & Shuster Rd.'!B35","v":0},{"$f":"'[1]SR 32 & Shuster Rd.'!C35","v":0},{"$f":"'[1]SR 32 & Shuster Rd.'!D35+'[1]SR 32 & Germany Rd.'!C35+'[1]SR 32 & Germany Rd.'!D35","v":0},{"$f":"'[1]SR 32 & Shuster Rd.'!E35","v":0},{"$f":"'[1]SR 32 & Shuster Rd.'!F35","v":0},{"$f":"'[1]SR 32 & Shuster Rd.'!G35","v":0},{"$f":"'[1]SR 32 & Shuster Rd.'!H35","v":0},{"$f":"'[1]SR 32 & Shuster Rd.'!I35","v":0},{"$f":"'[1]SR 32 & Shuster Rd.'!J35","v":0},{"$f":"'[1]SR 32 & Shuster Rd.'!K35","v":0},{"$f":"'[1]SR 32 & Shuster Rd.'!L35","v":0},{"$f":"'[1]SR 32 & Shuster Rd.'!M35","v":0},{"$f":"'[1]SR 32 & Shuster Rd.'!N35","v":0},{"$f":"'[1]SR 32 & Shuster Rd.'!O35","v":0},{"$f":"'[1]SR 32 & Shuster Rd.'!P35+'[1]SR 32 & Germany Rd.'!P35","v":0},{"$f":"'[1]SR 32 & Shuster Rd.'!Q35","v":0},null,"08:15:00",{"$f":"SUM(B33:B35)","v":3},0,15,0,3,53,0,0,1,5,0,0,1,35,11,0]
[{"$f":"'[1]SR 32 & Shuster Rd.'!A36","v":"08:30:00"},{"$f":"'[1]SR 32 & Shuster Rd.'!B36","v":9},{"$f":"'[1]SR 32 & Shuster Rd.'!C36","v":2},{"$f":"'[1]SR 32 & Shuster Rd.'!D36+'[1]SR 32 & Germany Rd.'!C36+'[1]SR 32 & Germany Rd.'!D36","v":18},{"$f":"'[1]SR 32 & Shuster Rd.'!E36","v":0},{"$f":"'[1]SR 32 & Shuster Rd.'!F36","v":1},{"$f":"'[1]SR 32 & Shuster Rd.'!G36","v":36},{"$f":"'[1]SR 32 & Shuster Rd.'!H36","v":0},{"$f":"'[1]SR 32 & Shuster Rd.'!I36","v":0},{"$f":"'[1]SR 32 & Shuster Rd.'!J36","v":1},{"$f":"'[1]SR 32 & Shuster Rd.'!K36","v":3},{"$f":"'[1]SR 32 & Shuster Rd.'!L36","v":1},{"$f":"'[1]SR 32 & Shuster Rd.'!M36","v":0},{"$f":"'[1]SR 32 & Shuster Rd.'!N36","v":1},{"$f":"'[1]SR 32 & Shuster Rd.'!O36","v":32},{"$f":"'[1]SR 32 & Shuster Rd.'!P36+'[1]SR 32 & Germany Rd.'!P36","v":1},{"$f":"'[1]SR 32 & Shuster Rd.'!Q36","v":0}]
[{"$f":"'[1]SR 32 & Shuster Rd.'!A37","v":"08:30:00"},{"$f":"'[1]SR 32 & Shuster Rd.'!B37","v":1},{"$f":"'[1]SR 32 & Shuster Rd.'!C37","v":0},{"$f":"'[1]SR 32 & Shuster Rd.'!D37+'[1]SR 32 & Germany Rd.'!C37+'[1]SR 32 & Germany Rd.'!D37","v":1},{"$f":"'[1]SR 32 & Shuster Rd.'!E37","v":0},{"$f":"'[1]SR 32 & Shuster Rd.'!F37","v":2},{"$f":"'[1]SR 32 & Shuster Rd.'!G37","v":9},{"$f":"'[1]SR 32 & Shuster Rd.'!H37","v":0},{"$f":"'[1]SR 32 & Shuster Rd.'!I37","v":0},{"$f":"'[1]SR 32 & Shuster Rd.'!J37","v":0},{"$f":"'[1]SR 32 & Shuster Rd.'!K37","v":0},{"$f":"'[1]SR 32 & Shuster Rd.'!L37","v":0},{"$f":"'[1]SR 32 & Shuster Rd.'!M37","v":0},{"$f":"'[1]SR 32 & Shuster Rd.'!N37","v":0},{"$f":"'[1]SR 32 & Shuster Rd.'!O37","v":8},{"$f":"'[1]SR 32 & Shuster Rd.'!P37+'[1]SR 32 & Germany Rd.'!P37","v":0},{"$f":"'[1]SR 32 & Shuster Rd.'!Q37","v":0}]
[{"$f":"'[1]SR 32 & Shuster Rd.'!A38","v":"08:30:00"},{"$f":"'[1]SR 32 & Shuster Rd.'!B38","v":0},{"$f":"'[1]SR 32 & Shuster Rd.'!C38","v":0},{"$f":"'[1]SR 32 & Shuster Rd.'!D38+'[1]SR 32 & Germany Rd.'!C38+'[1]SR 32 & Germany Rd.'!D38","v":0},{"$f":"'[1]SR 32 & Shuster Rd.'!E38","v":0},{"$f":"'[1]SR 32 & Shuster Rd.'!F38","v":0},{"$f":"'[1]SR 32 & Shuster Rd.'!G38","v":0},{"$f":"'[1]SR 32 & Shuster Rd.'!H38","v":0},{"$f":"'[1]SR 32 & Shuster Rd.'!I38","v":0},{"$f":"'[1]SR 32 & Shuster Rd.'!J38","v":0},{"$f":"'[1]SR 32 & Shuster Rd.'!K38","v":0},{"$f":"'[1]SR 32 & Shuster Rd.'!L38","v":0},{"$f":"'[1]SR 32 & Shuster Rd.'!M38","v":0},{"$f":"'[1]SR 32 & Shuster Rd.'!N38","v":0},{"$f":"'[1]SR 32 & Shuster Rd.'!O38","v":0},{"$f":"'[1]SR 32 & Shuster Rd.'!P38+'[1]SR 32 & Germany Rd.'!P38","v":0},{"$f":"'[1]SR 32 & Shuster Rd.'!Q38","v":0},null,"08:30:00",{"$f":"SUM(B36:B38)","v":10},2,19,0,3,45,0,0,1,3,1,0,1,40,1,0]
[{"$f":"'[1]SR 32 & Shuster Rd.'!A39","v":"08:45:00"},{"$f":"'[1]SR 32 & Shuster Rd.'!B39","v":2},{"$f":"'[1]SR 32 & Shuster Rd.'!C39","v":4},{"$f":"'[1]SR 32 & Shuster Rd.'!D39+'[1]SR 32 & Germany Rd.'!C39+'[1]SR 32 & Germany Rd.'!D39","v":8},{"$f":"'[1]SR 32 & Shuster Rd.'!E39","v":0},{"$f":"'[1]SR 32 & Shuster Rd.'!F39","v":0},{"$f":"'[1]SR 32 & Shuster Rd.'!G39","v":26},{"$f":"'[1]SR 32 & Shuster Rd.'!H39","v":0},{"$f":"'[1]SR 32 & Shuster Rd.'!I39","v":0},{"$f":"'[1]SR 32 & Shuster Rd.'!J39","v":0},{"$f":"'[1]SR 32 & Shuster Rd.'!K39","v":2},{"$f":"'[1]SR 32 & Shuster Rd.'!L39","v":3},{"$f":"'[1]SR 32 & Shuster Rd.'!M39","v":0},{"$f":"'[1]SR 32 & Shuster Rd.'!N39","v":1},{"$f":"'[1]SR 32 & Shuster Rd.'!O39","v":35},{"$f":"'[1]SR 32 & Shuster Rd.'!P39+'[1]SR 32 & Germany Rd.'!P39","v":6},{"$f":"'[1]SR 32 & Shuster Rd.'!Q39","v":0}]
[{"$f":"'[1]SR 32 & Shuster Rd.'!A40","v":"08:45:00"},{"$f":"'[1]SR 32 & Shuster Rd.'!B40","v":1},{"$f":"'[1]SR 32 & Shuster Rd.'!C40","v":0},{"$f":"'[1]SR 32 & Shuster Rd.'!D40+'[1]SR 32 & Germany Rd.'!C40+'[1]SR 32 & Germany Rd.'!D40","v":2},{"$f":"'[1]SR 32 & Shuster Rd.'!E40","v":0},{"$f":"'[1]SR 32 & Shuster Rd.'!F40","v":0},{"$f":"'[1]SR 32 & Shuster Rd.'!G40","v":13},{"$f":"'[1]SR 32 & Shuster Rd.'!H40","v":0},{"$f":"'[1]SR 32 & Shuster Rd.'!I40","v":0},{"$f":"'[1]SR 32 & Shuster Rd.'!J40","v":0},{"$f":"'[1]SR 32 & Shuster Rd.'!K40","v":0},{"$f":"'[1]SR 32 & Shuster Rd.'!L40","v":0},{"$f":"'[1]SR 32 & Shuster Rd.'!M40","v":0},{"$f":"'[1]SR 32 & Shuster Rd.'!N40","v":0},{"$f":"'[1]SR 32 & Shuster Rd.'!O40","v":11},{"$f":"'[1]SR 32 & Shuster Rd.'!P40+'[1]SR 32 & Germany Rd.'!P40","v":1},{"$f":"'[1]SR 32 & Shuster Rd.'!Q40","v":0}]
[{"$f":"'[1]SR 32 & Shuster Rd.'!A41","v":"08:45:00"},{"$f":"'[1]SR 32 & Shuster Rd.'!B41","v":0},{"$f":"'[1]SR 32 & Shuster Rd.'!C41","v":0},{"$f":"'[1]SR 32 & Shuster Rd.'!D41+'[1]SR 32 & Germany Rd.'!C41+'[1]SR 32 & Germany Rd.'!D41","v":0},{"$f":"'[1]SR 32 & Shuster Rd.'!E41","v":0},{"$f":"'[1]SR 32 & Shuster Rd.'!F41","v":0},{"$f":"'[1]SR 32 & Shuster Rd.'!G41","v":0},{"$f":"'[1]SR 32 & Shuster Rd.'!H41","v":0},{"$f":"'[1]SR 32 & Shuster Rd.'!I41","v":0},{"$f":"'[1]SR 32 & Shuster Rd.'!J41","v":0},{"$f":"'[1]SR 32 & Shuster Rd.'!K41","v":0},{"$f":"'[1]SR 32 & Shuster Rd.'!L41","v":0},{"$f":"'[1]SR 32 & Shuster Rd.'!M41","v":0},{"$f":"'[1]SR 32 & Shuster Rd.'!N41","v":0},{"$f":"'[1]SR 32 & Shuster Rd.'!O41","v":0},{"$f":"'[1]SR 32 & Shuster Rd.'!P41+'[1]SR 32 & Germany Rd.'!P41","v":0},{"$f":"'[1]SR 32 & Shuster Rd.'!Q41","v":0},null,"08:45:00",{"$f":"SUM(B39:B41)","v":3},4,10,0,0,39,0,0,0,2,3,0,1,46,7,0]
[{"$f":"'[1]SR 32 & Shuster Rd.'!A42","v":"09:00:00"},{"$f":"'[1]SR 32 & Shuster Rd.'!B42","v":2},{"$f":"'[1]SR 32 & Shuster Rd.'!C42","v":0},{"$f":"'[1]SR 32 & Shuster Rd.'!D42+'[1]SR 32 & Germany Rd.'!C42+'[1]SR 32 & Germany Rd.'!D42","v":14},{"$f":"'[1]SR 32 & Shuster Rd.'!E42","v":2},{"$f":"'[1]SR 32 & Shuster Rd.'!F42","v":3},{"$f":"'[1]SR 32 & Shuster Rd.'!G42","v":28},{"$f":"'[1]SR 32 & Shuster Rd.'!H42","v":1},{"$f":"'[1]SR 32 & Shuster Rd.'!I42","v":0},{"$f":"'[1]SR 32 & Shuster Rd.'!J42","v":0},{"$f":"'[1]SR 32 & Shuster Rd.'!K42","v":6},{"$f":"'[1]SR 32 & Shuster Rd.'!L42","v":0},{"$f":"'[1]SR 32 & Shuster Rd.'!M42","v":0},{"$f":"'[1]SR 32 & Shuster Rd.'!N42","v":0},{"$f":"'[1]SR 32 & Shuster Rd.'!O42","v":35},{"$f":"'[1]SR 32 & Shuster Rd.'!P42+'[1]SR 32 & Germany Rd.'!P42","v":4},{"$f":"'[1]SR 32 & Shuster Rd.'!Q42","v":0},null,"Movement Total",{"$f":"SUM(T32,T35,T38,T41)","v":22},6,55,0,8,202,0,0,2,13,10,0,6,174,29,0,null,0.4,"-",{"$f":"IF(X$2=FALSE,LOOKUP((Y42+X42)/$AM$4,'Main Line Reduction Table'!$A$1:$B$21,'Main Line Reduction Table'!$C$1:$C$21),LOOKUP(Y42/$AM$4,'Main Line Reduction Table'!$A$1:$B$21,'Main Line Reduction Table'!$C$1:$C$21))","v":0},"=",{"$f":"AK42-AM42","v":0.4},null,0.2,"-",{"$f":"IF(AF$2=FALSE,LOOKUP((AG42+AF42)/$AS$4,'Main Line Reduction Table'!$A$1:$B$21,'Main Line Reduction Table'!$C$1:$C$21),LOOKUP(AG42/$AS$4,'Main Line Reduction Table'!$A$1:$B$21,'Main Line Reduction Table'!$C$1:$C$21))","v":0},"=",{"$f":"AQ42-AS42","v":0.2}]
[{"$f":"'[1]SR 32 & Shuster Rd.'!A43","v":"09:00:00"},{"$f":"'[1]SR 32 & Shuster Rd.'!B43","v":1},{"$f":"'[1]SR 32 & Shuster Rd.'!C43","v":0},{"$f":"'[1]SR 32 & Shuster Rd.'!D43+'[1]SR 32 & Germany Rd.'!C43+'[1]SR 32 & Germany Rd.'!D43","v":1},{"$f":"'[1]SR 32 & Shuster Rd.'!E43","v":0},{"$f":"'[1]SR 32 & Shuster Rd.'!F43","v":0},{"$f":"'[1]SR 32 & Shuster Rd.'!G43","v":8},{"$f":"'[1]SR 32 & Shuster Rd.'!H43","v":0},{"$f":"'[1]SR 32 & Shuster Rd.'!I43","v":0},{"$f":"'[1]SR 32 & Shuster Rd.'!J43","v":0},{"$f":"'[1]SR 32 & Shuster Rd.'!K43","v":0},{"$f":"'[1]SR 32 & Shuster Rd.'!L43","v":0},{"$f":"'[1]SR 32 & Shuster Rd.'!M43","v":0},{"$f":"'[1]SR 32 & Shuster Rd.'!N43","v":0},{"$f":"'[1]SR 32 & Shuster Rd.'!O43","v":9},{"$f":"'[1]SR 32 & Shuster Rd.'!P43+'[1]SR 32 & Germany Rd.'!P43","v":3},{"$f":"'[1]SR 32 & Shuster Rd.'!Q43","v":0},null,"Reduced Movement Total",{"$f":"T42*(1-AO42)","v":13.2},{"$f":"(T42*(1-$AO42))+U42+V42","v":74.2},null,null,{"$f":"X42+Y42+Z42","v":210},null,null,null,{"$f":"AB42*(1-AU42)","v":1.6},{"$f":"(AB42*(1-$AO42))+AC42+AD42","v":24.2},null,null,{"$f":"AF42+AG42+AH42","v":209}]
[{"$f":"'[1]SR 32 & Shuster Rd.'!A44","v":"09:00:00"},{"$f":"'[1]SR 32 & Shuster Rd.'!B44","v":0},{"$f":"'[1]SR 32 & Shuster Rd.'!C44","v":0},{"$f":"'[1]SR 32 & Shuster Rd.'!D44+'[1]SR 32 & Germany Rd.'!C44+'[1]SR 32 & Germany Rd.'!D44","v":0},{"$f":"'[1]SR 32 & Shuster Rd.'!E44","v":0},{"$f":"'[1]SR 32 & Shuster Rd.'!F44","v":0},{"$f":"'[1]SR 32 & Shuster Rd.'!G44","v":0},{"$f":"'[1]SR 32 & Shuster Rd.'!H44","v":0},{"$f":"'[1]SR 32 & Shuster Rd.'!I44","v":0},{"$f":"'[1]SR 32 & Shuster Rd.'!J44","v":0},{"$f":"'[1]SR 32 & Shuster Rd.'!K44","v":0},{"$f":"'[1]SR 32 & Shuster Rd.'!L44","v":0},{"$f":"'[1]SR 32 & Shuster Rd.'!M44","v":0},{"$f":"'[1]SR 32 & Shuster Rd.'!N44","v":0},{"$f":"'[1]SR 32 & Shuster Rd.'!O44","v":0},{"$f":"'[1]SR 32 & Shuster Rd.'!P44+'[1]SR 32 & Germany Rd.'!P44","v":0},{"$f":"'[1]SR 32 & Shuster Rd.'!Q44","v":0},null,"09:00:00",{"$f":"SUM(B42:B44)","v":3},0,15,2,3,36,1,0,0,6,0,0,0,44,7,0]
[{"$f":"'[1]SR 32 & Shuster Rd.'!A45","v":"09:15:00"},{"$f":"'[1]SR 32 & Shuster Rd.'!B45","v":6},{"$f":"'[1]SR 32 & Shuster Rd.'!C45","v":3},{"$f":"'[1]SR 32 & Shuster Rd.'!D45+'[1]SR 32 & Germany Rd.'!C45+'[1]SR 32 & Germany Rd.'!D45","v":8},{"$f":"'[1]SR 32 & Shuster Rd.'!E45","v":0},{"$f":"'[1]SR 32 & Shuster Rd.'!F45","v":1},{"$f":"'[1]SR 32 & Shuster Rd.'!G45","v":17},{"$f":"'[1]SR 32 & Shuster Rd.'!H45","v":1},{"$f":"'[1]SR 32 & Shuster Rd.'!I45","v":0},{"$f":"'[1]SR 32 & Shuster Rd.'!J45","v":0},{"$f":"'[1]SR 32 & Shuster Rd.'!K45","v":3},{"$f":"'[1]SR 32 & Shuster Rd.'!L45","v":3},{"$f":"'[1]SR 32 & Shuster Rd.'!M45","v":0},{"$f":"'[1]SR 32 & Shuster Rd.'!N45","v":2},{"$f":"'[1]SR 32 & Shuster Rd.'!O45","v":28},{"$f":"'[1]SR 32 & Shuster Rd.'!P45+'[1]SR 32 & Germany Rd.'!P45","v":1},{"$f":"'[1]SR 32 & Shuster Rd.'!Q45","v":0}]
[{"$f":"'[1]SR 32 & Shuster Rd.'!A46","v":"09:15:00"},{"$f":"'[1]SR 32 & Shuster Rd.'!B46","v":0},{"$f":"'[1]SR 32 & Shuster Rd.'!C46","v":0},{"$f":"'[1]SR 32 & Shuster Rd.'!D46+'[1]SR 32 & Germany Rd.'!C46+'[1]SR 32 & Germany Rd.'!D46","v":1},{"$f":"'[1]SR 32 & Shuster Rd.'!E46","v":0},{"$f":"'[1]SR 32 & Shuster Rd.'!F46","v":0},{"$f":"'[1]SR 32 & Shuster Rd.'!G46","v":11},{"$f":"'[1]SR 32 & Shuster Rd.'!H46","v":0},{"$f":"'[1]SR 32 & Shuster Rd.'!I46","v":0},{"$f":"'[1]SR 32 & Shuster Rd.'!J46","v":0},{"$f":"'[1]SR 32 & Shuster Rd.'!K46","v":0},{"$f":"'[1]SR 32 & Shuster Rd.'!L46","v":0},{"$f":"'[1]SR 32 & Shuster Rd.'!M46","v":0},{"$f":"'[1]SR 32 & Shuster Rd.'!N46","v":0},{"$f":"'[1]SR 32 & Shuster Rd.'!O46","v":16},{"$f":"'[1]SR 32 & Shuster Rd.'!P46+'[1]SR 32 & Germany Rd.'!P46","v":1},{"$f":"'[1]SR 32 & Shuster Rd.'!Q46","v":0}]
[{"$f":"'[1]SR 32 & Shuster Rd.'!A47","v":"09:15:00"},{"$f":"'[1]SR 32 & Shuster Rd.'!B47","v":0},{"$f":"'[1]SR 32 & Shuster Rd.'!C47","v":0},{"$f":"'[1]SR 32 & Shuster Rd.'!D47+'[1]SR 32 & Germany Rd.'!C47+'[1]SR 32 & Germany Rd.'!D47","v":0},{"$f":"'[1]SR 32 & Shuster Rd.'!E47","v":0},{"$f":"'[1]SR 32 & Shuster Rd.'!F47","v":0},{"$f":"'[1]SR 32 & Shuster Rd.'!G47","v":0},{"$f":"'[1]SR 32 & Shuster Rd.'!H47","v":0},{"$f":"'[1]SR 32 & Shuster Rd.'!I47","v":0},{"$f":"'[1]SR 32 & Shuster Rd.'!J47","v":0},{"$f":"'[1]SR 32 & Shuster Rd.'!K47","v":0},{"$f":"'[1]SR 32 & Shuster Rd.'!L47","v":0},{"$f":"'[1]SR 32 & Shuster Rd.'!M47","v":0},{"$f":"'[1]SR 32 & Shuster Rd.'!N47","v":0},{"$f":"'[1]SR 32 & Shuster Rd.'!O47","v":0},{"$f":"'[1]SR 32 & Shuster Rd.'!P47+'[1]SR 32 & Germany Rd.'!P47","v":0},{"$f":"'[1]SR 32 & Shuster Rd.'!Q47","v":0},null,"09:15:00",{"$f":"SUM(B45:B47)","v":6},3,9,0,1,28,1,0,0,3,3,0,2,44,2,0]
[{"$f":"'[1]SR 32 & Shuster Rd.'!A48","v":"09:30:00"},{"$f":"'[1]SR 32 & Shuster Rd.'!B48","v":0},{"$f":"'[1]SR 32 & Shuster Rd.'!C48","v":0},{"$f":"'[1]SR 32 & Shuster Rd.'!D48+'[1]SR 32 & Germany Rd.'!C48+'[1]SR 32 & Germany Rd.'!D48","v":9},{"$f":"'[1]SR 32 & Shuster Rd.'!E48","v":0},{"$f":"'[1]SR 32 & Shuster Rd.'!F48","v":1},{"$f":"'[1]SR 32 & Shuster Rd.'!G48","v":28},{"$f":"'[1]SR 32 & Shuster Rd.'!H48","v":0},{"$f":"'[1]SR 32 & Shuster Rd.'!I48","v":0},{"$f":"'[1]SR 32 & Shuster Rd.'!J48","v":1},{"$f":"'[1]SR 32 & Shuster Rd.'!K48","v":7},{"$f":"'[1]SR 32 & Shuster Rd.'!L48","v":1},{"$f":"'[1]SR 32 & Shuster Rd.'!M48","v":0},{"$f":"'[1]SR 32 & Shuster Rd.'!N48","v":1},{"$f":"'[1]SR 32 & Shuster Rd.'!O48","v":35},{"$f":"'[1]SR 32 & Shuster Rd.'!P48+'[1]SR 32 & Germany Rd.'!P48","v":1},{"$f":"'[1]SR 32 & Shuster Rd.'!Q48","v":0}]
[{"$f":"'[1]SR 32 & Shuster Rd.'!A49","v":"09:30:00"},{"$f":"'[1]SR 32 & Shuster Rd.'!B49","v":1},{"$f":"'[1]SR 32 & Shuster Rd.'!C49","v":0},{"$f":"'[1]SR 32 & Shuster Rd.'!D49+'[1]SR 32 & Germany Rd.'!C49+'[1]SR 32 & Germany Rd.'!D49","v":1},{"$f":"'[1]SR 32 & Shuster Rd.'!E49","v":0},{"$f":"'[1]SR 32 & Shuster Rd.'!F49","v":0},{"$f":"'[1]SR 32 & Shuster Rd.'!G49","v":17},{"$f":"'[1]SR 32 & Shuster Rd.'!H49","v":0},{"$f":"'[1]SR 32 & Shuster Rd.'!I49","v":0},{"$f":"'[1]SR 32 & Shuster Rd.'!J49","v":0},{"$f":"'[1]SR 32 & Shuster Rd.'!K49","v":0},{"$f":"'[1]SR 32 & Shuster Rd.'!L49","v":0},{"$f":"'[1]SR 32 & Shuster Rd.'!M49","v":0},{"$f":"'[1]SR 32 & Shuster Rd.'!N49","v":0},{"$f":"'[1]SR 32 & Shuster Rd.'!O49","v":8},{"$f":"'[1]SR 32 & Shuster Rd.'!P49+'[1]SR 32 & Germany Rd.'!P49","v":1},{"$f":"'[1]SR 32 & Shuster Rd.'!Q49","v":0}]
[{"$f":"'[1]SR 32 & Shuster Rd.'!A50","v":"09:30:00"},{"$f":"'[1]SR 32 & Shuster Rd.'!B50","v":0},{"$f":"'[1]SR 32 & Shuster Rd.'!C50","v":0},{"$f":"'[1]SR 32 & Shuster Rd.'!D50+'[1]SR 32 & Germany Rd.'!C50+'[1]SR 32 & Germany Rd.'!D50","v":0},{"$f":"'[1]SR 32 & Shuster Rd.'!E50","v":0},{"$f":"'[1]SR 32 & Shuster Rd.'!F50","v":0},{"$f":"'[1]SR 32 & Shuster Rd.'!G50","v":0},{"$f":"'[1]SR 32 & Shuster Rd.'!H50","v":0},{"$f":"'[1]SR 32 & Shuster Rd.'!I50","v":0},{"$f":"'[1]SR 32 & Shuster Rd.'!J50","v":0},{"$f":"'[1]SR 32 & Shuster Rd.'!K50","v":0},{"$f":"'[1]SR 32 & Shuster Rd.'!L50","v":0},{"$f":"'[1]SR 32 & Shuster Rd.'!M50","v":0},{"$f":"'[1]SR 32 & Shuster Rd.'!N50","v":0},{"$f":"'[1]SR 32 & Shuster Rd.'!O50","v":0},{"$f":"'[1]SR 32 & Shuster Rd.'!P50+'[1]SR 32 & Germany Rd.'!P50","v":0},{"$f":"'[1]SR 32 & Shuster Rd.'!Q50","v":0},null,"09:30:00",{"$f":"SUM(B48:B50)","v":1},0,10,0,1,45,0,0,1,7,1,0,1,43,2,0]
[{"$f":"'[1]SR 32 & Shuster Rd.'!A51","v":"09:45:00"},{"$f":"'[1]SR 32 & Shuster Rd.'!B51","v":3},{"$f":"'[1]SR 32 & Shuster Rd.'!C51","v":2},{"$f":"'[1]SR 32 & Shuster Rd.'!D51+'[1]SR 32 & Germany Rd.'!C51+'[1]SR 32 & Germany Rd.'!D51","v":10},{"$f":"'[1]SR 32 & Shuster Rd.'!E51","v":0},{"$f":"'[1]SR 32 & Shuster Rd.'!F51","v":1},{"$f":"'[1]SR 32 & Shuster Rd.'!G51","v":27},{"$f":"'[1]SR 32 & Shuster Rd.'!H51","v":1},{"$f":"'[1]SR 32 & Shuster Rd.'!I51","v":0},{"$f":"'[1]SR 32 & Shuster Rd.'!J51","v":1},{"$f":"'[1]SR 32 & Shuster Rd.'!K51","v":4},{"$f":"'[1]SR 32 & Shuster Rd.'!L51","v":1},{"$f":"'[1]SR 32 & Shuster Rd.'!M51","v":0},{"$f":"'[1]SR 32 & Shuster Rd.'!N51","v":1},{"$f":"'[1]SR 32 & Shuster Rd.'!O51","v":39},{"$f":"'[1]SR 32 & Shuster Rd.'!P51+'[1]SR 32 & Germany Rd.'!P51","v":3},{"$f":"'[1]SR 32 & Shuster Rd.'!Q51","v":0}]
[{"$f":"'[1]SR 32 & Shuster Rd.'!A52","v":"09:45:00"},{"$f":"'[1]SR 32 & Shuster Rd.'!B52","v":1},{"$f":"'[1]SR 32 & Shuster Rd.'!C52","v":1},{"$f":"'[1]SR 32 & Shuster Rd.'!D52+'[1]SR 32 & Germany Rd.'!C52+'[1]SR 32 & Germany Rd.'!D52","v":0},{"$f":"'[1]SR 32 & Shuster Rd.'!E52","v":0},{"$f":"'[1]SR 32 & Shuster Rd.'!F52","v":1},{"$f":"'[1]SR 32 & Shuster Rd.'!G52","v":14},{"$f":"'[1]SR 32 & Shuster Rd.'!H52","v":0},{"$f":"'[1]SR 32 & Shuster Rd.'!I52","v":0},{"$f":"'[1]SR 32 & Shuster Rd.'!J52","v":0},{"$f":"'[1]SR 32 & Shuster Rd.'!K52","v":0},{"$f":"'[1]SR 32 & Shuster Rd.'!L52","v":0},{"$f":"'[1]SR 32 & Shuster Rd.'!M52","v":0},{"$f":"'[1]SR 32 & Shuster Rd.'!N52","v":0},{"$f":"'[1]SR 32 & Shuster Rd.'!O52","v":4},{"$f":"'[1]SR 32 & Shuster Rd.'!P52+'[1]SR 32 & Germany Rd.'!P52","v":0},{"$f":"'[1]SR 32 & Shuster Rd.'!Q52","v":0}]
[{"$f":"'[1]SR 32 & Shuster Rd.'!A53","v":"09:45:00"},{"$f":"'[1]SR 32 & Shuster Rd.'!B53","v":0},{"$f":"'[1]SR 32 & Shuster Rd.'!C53","v":0},{"$f":"'[1]SR 32 & Shuster Rd.'!D53+'[1]SR 32 & Germany Rd.'!C53+'[1]SR 32 & Germany Rd.'!D53","v":0},{"$f":"'[1]SR 32 & Shuster Rd.'!E53","v":0},{"$f":"'[1]SR 32 & Shuster Rd.'!F53","v":0},{"$f":"'[1]SR 32 & Shuster Rd.'!G53","v":0},{"$f":"'[1]SR 32 & Shuster Rd.'!H53","v":0},{"$f":"'[1]SR 32 & Shuster Rd.'!I53","v":0},{"$f":"'[1]SR 32 & Shuster Rd.'!J53","v":0},{"$f":"'[1]SR 32 & Shuster Rd.'!K53","v":0},{"$f":"'[1]SR 32 & Shuster Rd.'!L53","v":0},{"$f":"'[1]SR 32 & Shuster Rd.'!M53","v":0},{"$f":"'[1]SR 32 & Shuster Rd.'!N53","v":0},{"$f":"'[1]SR 32 & Shuster Rd.'!O53","v":0},{"$f":"'[1]SR 32 & Shuster Rd.'!P53+'[1]SR 32 & Germany Rd.'!P53","v":0},{"$f":"'[1]SR 32 & Shuster Rd.'!Q53","v":0},null,"09:45:00",{"$f":"SUM(B51:B53)","v":4},3,10,0,2,41,1,0,1,4,1,0,1,43,3,0]
[{"$f":"'[1]SR 32 & Shuster Rd.'!A54","v":"10:00:00"},{"$f":"'[1]SR 32 & Shuster Rd.'!B54","v":2},{"$f":"'[1]SR 32 & Shuster Rd.'!C54","v":2},{"$f":"'[1]SR 32 & Shuster Rd.'!D54+'[1]SR 32 & Germany Rd.'!C54+'[1]SR 32 & Germany Rd.'!D54","v":14},{"$f":"'[1]SR 32 & Shuster Rd.'!E54","v":0},{"$f":"'[1]SR 32 & Shuster Rd.'!F54","v":1},{"$f":"'[1]SR 32 & Shuster Rd.'!G54","v":28},{"$f":"'[1]SR 32 & Shuster Rd.'!H54","v":0},{"$f":"'[1]SR 32 & Shuster Rd.'!I54","v":0},{"$f":"'[1]SR 32 & Shuster Rd.'!J54","v":0},{"$f":"'[1]SR 32 & Shuster Rd.'!K54","v":5},{"$f":"'[1]SR 32 & Shuster Rd.'!L54","v":1},{"$f":"'[1]SR 32 & Shuster Rd.'!M54","v":0},{"$f":"'[1]SR 32 & Shuster Rd.'!N54","v":0},{"$f":"'[1]SR 32 & Shuster Rd.'!O54","v":20},{"$f":"'[1]SR 32 & Shuster Rd.'!P54+'[1]SR 32 & Germany Rd.'!P54","v":2},{"$f":"'[1]SR 32 & Shuster Rd.'!Q54","v":0},null,"Movement Total",{"$f":"SUM(T44,T47,T50,T53)","v":14},6,44,2,7,150,3,0,2,20,5,0,4,174,14,0,null,0.2,"-",{"$f":"IF(X$2=FALSE,LOOKUP((Y54+X54)/$AM$4,'Main Line Reduction Table'!$A$1:$B$21,'Main Line Reduction Table'!$C$1:$C$21),LOOKUP(Y54/$AM$4,'Main Line Reduction Table'!$A$1:$B$21,'Main Line Reduction Table'!$C$1:$C$21))","v":0},"=",{"$f":"AK54-AM54","v":0.2},null,0.2,"-",{"$f":"IF(AF$2=FALSE,LOOKUP((AG54+AF54)/$AS$4,'Main Line Reduction Table'!$A$1:$B$21,'Main Line Reduction Table'!$C$1:$C$21),LOOKUP(AG54/$AS$4,'Main Line Reduction Table'!$A$1:$B$21,'Main Line Reduction Table'!$C$1:$C$21))","v":0},"=",{"$f":"AQ54-AS54","v":0.2}]
[{"$f":"'[1]SR 32 & Shuster Rd.'!A55","v":"10:00:00"},{"$f":"'[1]SR 32 & Shuster Rd.'!B55","v":3},{"$f":"'[1]SR 32 & Shuster Rd.'!C55","v":0},{"$f":"'[1]SR 32 & Shuster Rd.'!D55+'[1]SR 32 & Germany Rd.'!C55+'[1]SR 32 & Germany Rd.'!D55","v":0},{"$f":"'[1]SR 32 & Shuster Rd.'!E55","v":0},{"$f":"'[1]SR 32 & Shuster Rd.'!F55","v":0},{"$f":"'[1]SR 32 & Shuster Rd.'!G55","v":10},{"$f":"'[1]SR 32 & Shuster Rd.'!H55","v":1},{"$f":"'[1]SR 32 & Shuster Rd.'!I55","v":0},{"$f":"'[1]SR 32 & Shuster Rd.'!J55","v":0},{"$f":"'[1]SR 32 & Shuster Rd.'!K55","v":0},{"$f":"'[1]SR 32 & Shuster Rd.'!L55","v":0},{"$f":"'[1]SR 32 & Shuster Rd.'!M55","v":0},{"$f":"'[1]SR 32 & Shuster Rd.'!N55","v":0},{"$f":"'[1]SR 32 & Shuster Rd.'!O55","v":7},{"$f":"'[1]SR 32 & Shuster Rd.'!P55+'[1]SR 32 & Germany Rd.'!P55","v":3},{"$f":"'[1]SR 32 & Shuster Rd.'!Q55","v":0},null,"Reduced Movement Total",{"$f":"T54*(1-AO54)","v":11.200000000000001},{"$f":"(T54*(1-$AO54))+U54+V54","v":61.2},null,null,{"$f":"X54+Y54+Z54","v":160},null,null,null,{"$f":"AB54*(1-AU54)","v":1.6},{"$f":"(AB54*(1-$AO54))+AC54+AD54","v":26.6},null,null,{"$f":"AF54+AG54+AH54","v":192}]
[{"$f":"'[1]SR 32 & Shuster Rd.'!A56","v":"10:00:00"},{"$f":"'[1]SR 32 & Shuster Rd.'!B56","v":0},{"$f":"'[1]SR 32 & Shuster Rd.'!C56","v":0},{"$f":"'[1]SR 32 & Shuster Rd.'!D56+'[1]SR 32 & Germany Rd.'!C56+'[1]SR 32 & Germany Rd.'!D56","v":0},{"$f":"'[1]SR 32 & Shuster Rd.'!E56","v":0},{"$f":"'[1]SR 32 & Shuster Rd.'!F56","v":0},{"$f":"'[1]SR 32 & Shuster Rd.'!G56","v":0},{"$f":"'[1]SR 32 & Shuster Rd.'!H56","v":0},{"$f":"'[1]SR 32 & Shuster Rd.'!I56","v":0},{"$f":"'[1]SR 32 & Shuster Rd.'!J56","v":0},{"$f":"'[1]SR 32 & Shuster Rd.'!K56","v":0},{"$f":"'[1]SR 32 & Shuster Rd.'!L56","v":0},{"$f":"'[1]SR 32 & Shuster Rd.'!M56","v":0},{"$f":"'[1]SR 32 & Shuster Rd.'!N56","v":0},{"$f":"'[1]SR 32 & Shuster Rd.'!O56","v":0},{"$f":"'[1]SR 32 & Shuster Rd.'!P56+'[1]SR 32 & Germany Rd.'!P56","v":0},{"$f":"'[1]SR 32 & Shuster Rd.'!Q56","v":0},null,"10:00:00",{"$f":"SUM(B54:B56)","v":5},2,14,0,1,38,1,0,0,5,1,0,0,27,5,0]
[{"$f":"'[1]SR 32 & Shuster Rd.'!A57","v":"10:15:00"},{"$f":"'[1]SR 32 & Shuster Rd.'!B57","v":0},{"$f":"'[1]SR 32 & Shuster Rd.'!C57","v":3},{"$f":"'[1]SR 32 & Shuster Rd.'!D57+'[1]SR 32 & Germany Rd.'!C57+'[1]SR 32 & Germany Rd.'!D57","v":22},{"$f":"'[1]SR 32 & Shuster Rd.'!E57","v":0},{"$f":"'[1]SR 32 & Shuster Rd.'!F57","v":1},{"$f":"'[1]SR 32 & Shuster Rd.'!G57","v":22},{"$f":"'[1]SR 32 & Shuster Rd.'!H57","v":0},{"$f":"'[1]SR 32 & Shuster Rd.'!I57","v":0},{"$f":"'[1]SR 32 & Shuster Rd.'!J57","v":0},{"$f":"'[1]SR 32 & Shuster Rd.'!K57","v":2},{"$f":"'[1]SR 32 & Shuster Rd.'!L57","v":2},{"$f":"'[1]SR 32 & Shuster Rd.'!M57","v":0},{"$f":"'[1]SR 32 & Shuster Rd.'!N57","v":1},{"$f":"'[1]SR 32 & Shuster Rd.'!O57","v":26},{"$f":"'[1]SR 32 & Shuster Rd.'!P57+'[1]SR 32 & Germany Rd.'!P57","v":3},{"$f":"'[1]SR 32 & Shuster Rd.'!Q57","v":0}]
[{"$f":"'[1]SR 32 & Shuster Rd.'!A58","v":"10:15:00"},{"$f":"'[1]SR 32 & Shuster Rd.'!B58","v":0},{"$f":"'[1]SR 32 & Shuster Rd.'!C58","v":0},{"$f":"'[1]SR 32 & Shuster Rd.'!D58+'[1]SR 32 & Germany Rd.'!C58+'[1]SR 32 & Germany Rd.'!D58","v":1},{"$f":"'[1]SR 32 & Shuster Rd.'!E58","v":0},{"$f":"'[1]SR 32 & Shuster Rd.'!F58","v":0},{"$f":"'[1]SR 32 & Shuster Rd.'!G58","v":5},{"$f":"'[1]SR 32 & Shuster Rd.'!H58","v":0},{"$f":"'[1]SR 32 & Shuster Rd.'!I58","v":0},{"$f":"'[1]SR 32 & Shuster Rd.'!J58","v":0},{"$f":"'[1]SR 32 & Shuster Rd.'!K58","v":1},{"$f":"'[1]SR 32 & Shuster Rd.'!L58","v":0},{"$f":"'[1]SR 32 & Shuster Rd.'!M58","v":0},{"$f":"'[1]SR 32 & Shuster Rd.'!N58","v":0},{"$f":"'[1]SR 32 & Shuster Rd.'!O58","v":10},{"$f":"'[1]SR 32 & Shuster Rd.'!P58+'[1]SR 32 & Germany Rd.'!P58","v":1},{"$f":"'[1]SR 32 & Shuster Rd.'!Q58","v":0}]
[{"$f":"'[1]SR 32 & Shuster Rd.'!A59","v":"10:15:00"},{"$f":"'[1]SR 32 & Shuster Rd.'!B59","v":0},{"$f":"'[1]SR 32 & Shuster Rd.'!C59","v":0},{"$f":"'[1]SR 32 & Shuster Rd.'!D59+'[1]SR 32 & Germany Rd.'!C59+'[1]SR 32 & Germany Rd.'!D59","v":0},{"$f":"'[1]SR 32 & Shuster Rd.'!E59","v":0},{"$f":"'[1]SR 32 & Shuster Rd.'!F59","v":0},{"$f":"'[1]SR 32 & Shuster Rd.'!G59","v":0},{"$f":"'[1]SR 32 & Shuster Rd.'!H59","v":0},{"$f":"'[1]SR 32 & Shuster Rd.'!I59","v":0},{"$f":"'[1]SR 32 & Shuster Rd.'!J59","v":0},{"$f":"'[1]SR 32 & Shuster Rd.'!K59","v":0},{"$f":"'[1]SR 32 & Shuster Rd.'!L59","v":0},{"$f":"'[1]SR 32 & Shuster Rd.'!M59","v":0},{"$f":"'[1]SR 32 & Shuster Rd.'!N59","v":0},{"$f":"'[1]SR 32 & Shuster Rd.'!O59","v":0},{"$f":"'[1]SR 32 & Shuster Rd.'!P59+'[1]SR 32 & Germany Rd.'!P59","v":0},{"$f":"'[1]SR 32 & Shuster Rd.'!Q59","v":0},null,"10:15:00",{"$f":"SUM(B57:B59)","v":0},3,23,0,1,27,0,0,0,3,2,0,1,36,4,0]
[{"$f":"'[1]SR 32 & Shuster Rd.'!A60","v":"10:30:00"},{"$f":"'[1]SR 32 & Shuster Rd.'!B60","v":1},{"$f":"'[1]SR 32 & Shuster Rd.'!C60","v":3},{"$f":"'[1]SR 32 & Shuster Rd.'!D60+'[1]SR 32 & Germany Rd.'!C60+'[1]SR 32 & Germany Rd.'!D60","v":14},{"$f":"'[1]SR 32 & Shuster Rd.'!E60","v":0},{"$f":"'[1]SR 32 & Shuster Rd.'!F60","v":2},{"$f":"'[1]SR 32 & Shuster Rd.'!G60","v":32},{"$f":"'[1]SR 32 & Shuster Rd.'!H60","v":0},{"$f":"'[1]SR 32 & Shuster Rd.'!I60","v":0},{"$f":"'[1]SR 32 & Shuster Rd.'!J60","v":1},{"$f":"'[1]SR 32 & Shuster Rd.'!K60","v":5},{"$f":"'[1]SR 32 & Shuster Rd.'!L60","v":0},{"$f":"'[1]SR 32 & Shuster Rd.'!M60","v":0},{"$f":"'[1]SR 32 & Shuster Rd.'!N60","v":3},{"$f":"'[1]SR 32 & Shuster Rd.'!O60","v":37},{"$f":"'[1]SR 32 & Shuster Rd.'!P60+'[1]SR 32 & Germany Rd.'!P60","v":3},{"$f":"'[1]SR 32 & Shuster Rd.'!Q60","v":0}]
[{"$f":"'[1]SR 32 & Shuster Rd.'!A61","v":"10:30:00"},{"$f":"'[1]SR 32 & Shuster Rd.'!B61","v":2},{"$f":"'[1]SR 32 & Shuster Rd.'!C61","v":0},{"$f":"'[1]SR 32 & Shuster Rd.'!D61+'[1]SR 32 & Germany Rd.'!C61+'[1]SR 32 & Germany Rd.'!D61","v":1},{"$f":"'[1]SR 32 & Shuster Rd.'!E61","v":0},{"$f":"'[1]SR 32 & Shuster Rd.'!F61","v":0},{"$f":"'[1]SR 32 & Shuster Rd.'!G61","v":12},{"$f":"'[1]SR 32 & Shuster Rd.'!H61","v":0},{"$f":"'[1]SR 32 & Shuster Rd.'!I61","v":0},{"$f":"'[1]SR 32 & Shuster Rd.'!J61","v":0},{"$f":"'[1]SR 32 & Shuster Rd.'!K61","v":0},{"$f":"'[1]SR 32 & Shuster Rd.'!L61","v":0},{"$f":"'[1]SR 32 & Shuster Rd.'!M61","v":0},{"$f":"'[1]SR 32 & Shuster Rd.'!N61","v":0},{"$f":"'[1]SR 32 & Shuster Rd.'!O61","v":16},{"$f":"'[1]SR 32 & Shuster Rd.'!P61+'[1]SR 32 & Germany Rd.'!P61","v":3},{"$f":"'[1]SR 32 & Shuster Rd.'!Q61","v":0}]
[{"$f":"'[1]SR 32 & Shuster Rd.'!A62","v":"10:30:00"},{"$f":"'[1]SR 32 & Shuster Rd.'!B62","v":0},{"$f":"'[1]SR 32 & Shuster Rd.'!C62","v":0},{"$f":"'[1]SR 32 & Shuster Rd.'!D62+'[1]SR 32 & Germany Rd.'!C62+'[1]SR 32 & Germany Rd.'!D62","v":0},{"$f":"'[1]SR 32 & Shuster Rd.'!E62","v":0},{"$f":"'[1]SR 32 & Shuster Rd.'!F62","v":0},{"$f":"'[1]SR 32 & Shuster Rd.'!G62","v":0},{"$f":"'[1]SR 32 & Shuster Rd.'!H62","v":0},{"$f":"'[1]SR 32 & Shuster Rd.'!I62","v":0},{"$f":"'[1]SR 32 & Shuster Rd.'!J62","v":0},{"$f":"'[1]SR 32 & Shuster Rd.'!K62","v":0},{"$f":"'[1]SR 32 & Shuster Rd.'!L62","v":0},{"$f":"'[1]SR 32 & Shuster Rd.'!M62","v":0},{"$f":"'[1]SR 32 & Shuster Rd.'!N62","v":0},{"$f":"'[1]SR 32 & Shuster Rd.'!O62","v":0},{"$f":"'[1]SR 32 & Shuster Rd.'!P62+'[1]SR 32 & Germany Rd.'!P62","v":0},{"$f":"'[1]SR 32 & Shuster Rd.'!Q62","v":0},null,"10:30:00",{"$f":"SUM(B60:B62)","v":3},3,15,0,2,44,0,0,1,5,0,0,3,53,6,0]
[{"$f":"'[1]SR 32 & Shuster Rd.'!A63","v":"10:45:00"},{"$f":"'[1]SR 32 & Shuster Rd.'!B63","v":5},{"$f":"'[1]SR 32 & Shuster Rd.'!C63","v":1},{"$f":"'[1]SR 32 & Shuster Rd.'!D63+'[1]SR 32 & Germany Rd.'!C63+'[1]SR 32 & Germany Rd.'!D63","v":15},{"$f":"'[1]SR 32 & Shuster Rd.'!E63","v":0},{"$f":"'[1]SR 32 & Shuster Rd.'!F63","v":1},{"$f":"'[1]SR 32 & Shuster Rd.'!G63","v":40},{"$f":"'[1]SR 32 & Shuster Rd.'!H63","v":0},{"$f":"'[1]SR 32 & Shuster Rd.'!I63","v":0},{"$f":"'[1]SR 32 & Shuster Rd.'!J63","v":1},{"$f":"'[1]SR 32 & Shuster Rd.'!K63","v":2},{"$f":"'[1]SR 32 & Shuster Rd.'!L63","v":3},{"$f":"'[1]SR 32 & Shuster Rd.'!M63","v":0},{"$f":"'[1]SR 32 & Shuster Rd.'!N63","v":0},{"$f":"'[1]SR 32 & Shuster Rd.'!O63","v":38},{"$f":"'[1]SR 32 & Shuster Rd.'!P63+'[1]SR 32 & Germany Rd.'!P63","v":2},{"$f":"'[1]SR 32 & Shuster Rd.'!Q63","v":0}]
[{"$f":"'[1]SR 32 & Shuster Rd.'!A64","v":"10:45:00"},{"$f":"'[1]SR 32 & Shuster Rd.'!B64","v":4},{"$f":"'[1]SR 32 & Shuster Rd.'!C64","v":0},{"$f":"'[1]SR 32 & Shuster Rd.'!D64+'[1]SR 32 & Germany Rd.'!C64+'[1]SR 32 & Germany Rd.'!D64","v":0},{"$f":"'[1]SR 32 & Shuster Rd.'!E64","v":0},{"$f":"'[1]SR 32 & Shuster Rd.'!F64","v":0},{"$f":"'[1]SR 32 & Shuster Rd.'!G64","v":6},{"$f":"'[1]SR 32 & Shuster Rd.'!H64","v":0},{"$f":"'[1]SR 32 & Shuster Rd.'!I64","v":0},{"$f":"'[1]SR 32 & Shuster Rd.'!J64","v":0},{"$f":"'[1]SR 32 & Shuster Rd.'!K64","v":0},{"$f":"'[1]SR 32 & Shuster Rd.'!L64","v":0},{"$f":"'[1]SR 32 & Shuster Rd.'!M64","v":0},{"$f":"'[1]SR 32 & Shuster Rd.'!N64","v":0},{"$f":"'[1]SR 32 & Shuster Rd.'!O64","v":17},{"$f":"'[1]SR 32 & Shuster Rd.'!P64+'[1]SR 32 & Germany Rd.'!P64","v":3},{"$f":"'[1]SR 32 & Shuster Rd.'!Q64","v":0}]
[{"$f":"'[1]SR 32 & Shuster Rd.'!A65","v":"10:45:00"},{"$f":"'[1]SR 32 & Shuster Rd.'!B65","v":0},{"$f":"'[1]SR 32 & Shuster Rd.'!C65","v":0},{"$f":"'[1]SR 32 & Shuster Rd.'!D65+'[1]SR 32 & Germany Rd.'!C65+'[1]SR 32 & Germany Rd.'!D65","v":0},{"$f":"'[1]SR 32 & Shuster Rd.'!E65","v":0},{"$f":"'[1]SR 32 & Shuster Rd.'!F65","v":0},{"$f":"'[1]SR 32 & Shuster Rd.'!G65","v":0},{"$f":"'[1]SR 32 & Shuster Rd.'!H65","v":0},{"$f":"'[1]SR 32 & Shuster Rd.'!I65","v":0},{"$f":"'[1]SR 32 & Shuster Rd.'!J65","v":0},{"$f":"'[1]SR 32 & Shuster Rd.'!K65","v":0},{"$f":"'[1]SR 32 & Shuster Rd.'!L65","v":0},{"$f":"'[1]SR 32 & Shuster Rd.'!M65","v":0},{"$f":"'[1]SR 32 & Shuster Rd.'!N65","v":0},{"$f":"'[1]SR 32 & Shuster Rd.'!O65","v":0},{"$f":"'[1]SR 32 & Shuster Rd.'!P65+'[1]SR 32 & Germany Rd.'!P65","v":0},{"$f":"'[1]SR 32 & Shuster Rd.'!Q65","v":0},null,"10:45:00",{"$f":"SUM(B63:B65)","v":9},1,15,0,1,46,0,0,1,2,3,0,0,55,5,0]
[{"$f":"'[1]SR 32 & Shuster Rd.'!A66","v":"11:00:00"},{"$f":"'[1]SR 32 & Shuster Rd.'!B66","v":1},{"$f":"'[1]SR 32 & Shuster Rd.'!C66","v":1},{"$f":"'[1]SR 32 & Shuster Rd.'!D66+'[1]SR 32 & Germany Rd.'!C66+'[1]SR 32 & Germany Rd.'!D66","v":16},{"$f":"'[1]SR 32 & Shuster Rd.'!E66","v":0},{"$f":"'[1]SR 32 & Shuster Rd.'!F66","v":0},{"$f":"'[1]SR 32 & Shuster Rd.'!G66","v":28},{"$f":"'[1]SR 32 & Shuster Rd.'!H66","v":0},{"$f":"'[1]SR 32 & Shuster Rd.'!I66","v":0},{"$f":"'[1]SR 32 & Shuster Rd.'!J66","v":0},{"$f":"'[1]SR 32 & Shuster Rd.'!K66","v":3},{"$f":"'[1]SR 32 & Shuster Rd.'!L66","v":0},{"$f":"'[1]SR 32 & Shuster Rd.'!M66","v":0},{"$f":"'[1]SR 32 & Shuster Rd.'!N66","v":1},{"$f":"'[1]SR 32 & Shuster Rd.'!O66","v":37},{"$f":"'[1]SR 32 & Shuster Rd.'!P66+'[1]SR 32 & Germany Rd.'!P66","v":2},{"$f":"'[1]SR 32 & Shuster Rd.'!Q66","v":0},null,"Movement Total",{"$f":"SUM(T56,T59,T62,T65)","v":17},9,67,0,5,155,1,0,2,15,6,0,4,171,20,0,null,0.2,"-",{"$f":"IF(X$2=FALSE,LOOKUP((Y66+X66)/$AM$4,'Main Line Reduction Table'!$A$1:$B$21,'Main Line Reduction Table'!$C$1:$C$21),LOOKUP(Y66/$AM$4,'Main Line Reduction Table'!$A$1:$B$21,'Main Line Reduction Table'!$C$1:$C$21))","v":0},"=",{"$f":"AK66-AM66","v":0.2},null,0.2,"-",{"$f":"IF(AF$2=FALSE,LOOKUP((AG66+AF66)/$AS$4,'Main Line Reduction Table'!$A$1:$B$21,'Main Line Reduction Table'!$C$1:$C$21),LOOKUP(AG66/$AS$4,'Main Line Reduction Table'!$A$1:$B$21,'Main Line Reduction Table'!$C$1:$C$21))","v":0},"=",{"$f":"AQ66-AS66","v":0.2}]
[{"$f":"'[1]SR 32 & Shuster Rd.'!A67","v":"11:00:00"},{"$f":"'[1]SR 32 & Shuster Rd.'!B67","v":1},{"$f":"'[1]SR 32 & Shuster Rd.'!C67","v":0},{"$f":"'[1]SR 32 & Shuster Rd.'!D67+'[1]SR 32 & Germany Rd.'!C67+'[1]SR 32 & Germany Rd.'!D67","v":2},{"$f":"'[1]SR 32 & Shuster Rd.'!E67","v":0},{"$f":"'[1]SR 32 & Shuster Rd.'!F67","v":0},{"$f":"'[1]SR 32 & Shuster Rd.'!G67","v":8},{"$f":"'[1]SR 32 & Shuster Rd.'!H67","v":0},{"$f":"'[1]SR 32 & Shuster Rd.'!I67","v":0},{"$f":"'[1]SR 32 & Shuster Rd.'!J67","v":0},{"$f":"'[1]SR 32 & Shuster Rd.'!K67","v":0},{"$f":"'[1]SR 32 & Shuster Rd.'!L67","v":0},{"$f":"'[1]SR 32 & Shuster Rd.'!M67","v":0},{"$f":"'[1]SR 32 & Shuster Rd.'!N67","v":0},{"$f":"'[1]SR 32 & Shuster Rd.'!O67","v":10},{"$f":"'[1]SR 32 & Shuster Rd.'!P67+'[1]SR 32 & Germany Rd.'!P67","v":2},{"$f":"'[1]SR 32 & Shuster Rd.'!Q67","v":0},null,"Reduced Movement Total",{"$f":"T66*(1-AO66)","v":13.600000000000001},{"$f":"(T66*(1-$AO66))+U66+V66","v":89.6},null,null,{"$f":"X66+Y66+Z66","v":161},null,null,null,{"$f":"AB66*(1-AU66)","v":1.6},{"$f":"(AB66*(1-$AO66))+AC66+AD66","v":22.6},null,null,{"$f":"AF66+AG66+AH66","v":195}]
[{"$f":"'[1]SR 32 & Shuster Rd.'!A68","v":"11:00:00"},{"$f":"'[1]SR 32 & Shuster Rd.'!B68","v":0},{"$f":"'[1]SR 32 & Shuster Rd.'!C68","v":0},{"$f":"'[1]SR 32 & Shuster Rd.'!D68+'[1]SR 32 & Germany Rd.'!C68+'[1]SR 32 & Germany Rd.'!D68","v":0},{"$f":"'[1]SR 32 & Shuster Rd.'!E68","v":0},{"$f":"'[1]SR 32 & Shuster Rd.'!F68","v":0},{"$f":"'[1]SR 32 & Shuster Rd.'!G68","v":0},{"$f":"'[1]SR 32 & Shuster Rd.'!H68","v":0},{"$f":"'[1]SR 32 & Shuster Rd.'!I68","v":0},{"$f":"'[1]SR 32 & Shuster Rd.'!J68","v":0},{"$f":"'[1]SR 32 & Shuster Rd.'!K68","v":0},{"$f":"'[1]SR 32 & Shuster Rd.'!L68","v":0},{"$f":"'[1]SR 32 & Shuster Rd.'!M68","v":0},{"$f":"'[1]SR 32 & Shuster Rd.'!N68","v":0},{"$f":"'[1]SR 32 & Shuster Rd.'!O68","v":0},{"$f":"'[1]SR 32 & Shuster Rd.'!P68+'[1]SR 32 & Germany Rd.'!P68","v":0},{"$f":"'[1]SR 32 & Shuster Rd.'!Q68","v":0},null,"11:00:00",{"$f":"SUM(B66:B68)","v":2},1,18,0,0,36,0,0,0,3,0,0,1,47,4,0]
[{"$f":"'[1]SR 32 & Shuster Rd.'!A69","v":"11:15:00"},{"$f":"'[1]SR 32 & Shuster Rd.'!B69","v":2},{"$f":"'[1]SR 32 & Shuster Rd.'!C69","v":2},{"$f":"'[1]SR 32 & Shuster Rd.'!D69+'[1]SR 32 & Germany Rd.'!C69+'[1]SR 32 & Germany Rd.'!D69","v":10},{"$f":"'[1]SR 32 & Shuster Rd.'!E69","v":0},{"$f":"'[1]SR 32 & Shuster Rd.'!F69","v":3},{"$f":"'[1]SR 32 & Shuster Rd.'!G69","v":39},{"$f":"'[1]SR 32 & Shuster Rd.'!H69","v":0},{"$f":"'[1]SR 32 & Shuster Rd.'!I69","v":0},{"$f":"'[1]SR 32 & Shuster Rd.'!J69","v":0},{"$f":"'[1]SR 32 & Shuster Rd.'!K69","v":4},{"$f":"'[1]SR 32 & Shuster Rd.'!L69","v":1},{"$f":"'[1]SR 32 & Shuster Rd.'!M69","v":0},{"$f":"'[1]SR 32 & Shuster Rd.'!N69","v":1},{"$f":"'[1]SR 32 & Shuster Rd.'!O69","v":32},{"$f":"'[1]SR 32 & Shuster Rd.'!P69+'[1]SR 32 & Germany Rd.'!P69","v":5},{"$f":"'[1]SR 32 & Shuster Rd.'!Q69","v":0}]
[{"$f":"'[1]SR 32 & Shuster Rd.'!A70","v":"11:15:00"},{"$f":"'[1]SR 32 & Shuster Rd.'!B70","v":4},{"$f":"'[1]SR 32 & Shuster Rd.'!C70","v":0},{"$f":"'[1]SR 32 & Shuster Rd.'!D70+'[1]SR 32 & Germany Rd.'!C70+'[1]SR 32 & Germany Rd.'!D70","v":0},{"$f":"'[1]SR 32 & Shuster Rd.'!E70","v":0},{"$f":"'[1]SR 32 & Shuster Rd.'!F70","v":0},{"$f":"'[1]SR 32 & Shuster Rd.'!G70","v":5},{"$f":"'[1]SR 32 & Shuster Rd.'!H70","v":0},{"$f":"'[1]SR 32 & Shuster Rd.'!I70","v":0},{"$f":"'[1]SR 32 & Shuster Rd.'!J70","v":0},{"$f":"'[1]SR 32 & Shuster Rd.'!K70","v":0},{"$f":"'[1]SR 32 & Shuster Rd.'!L70","v":0},{"$f":"'[1]SR 32 & Shuster Rd.'!M70","v":0},{"$f":"'[1]SR 32 & Shuster Rd.'!N70","v":0},{"$f":"'[1]SR 32 & Shuster Rd.'!O70","v":12},{"$f":"'[1]SR 32 & Shuster Rd.'!P70+'[1]SR 32 & Germany Rd.'!P70","v":1},{"$f":"'[1]SR 32 & Shuster Rd.'!Q70","v":0}]
[{"$f":"'[1]SR 32 & Shuster Rd.'!A71","v":"11:15:00"},{"$f":"'[1]SR 32 & Shuster Rd.'!B71","v":0},{"$f":"'[1]SR 32 & Shuster Rd.'!C71","v":0},{"$f":"'[1]SR 32 & Shuster Rd.'!D71+'[1]SR 32 & Germany Rd.'!C71+'[1]SR 32 & Germany Rd.'!D71","v":0},{"$f":"'[1]SR 32 & Shuster Rd.'!E71","v":0},{"$f":"'[1]SR 32 & Shuster Rd.'!F71","v":0},{"$f":"'[1]SR 32 & Shuster Rd.'!G71","v":0},{"$f":"'[1]SR 32 & Shuster Rd.'!H71","v":0},{"$f":"'[1]SR 32 & Shuster Rd.'!I71","v":0},{"$f":"'[1]SR 32 & Shuster Rd.'!J71","v":0},{"$f":"'[1]SR 32 & Shuster Rd.'!K71","v":0},{"$f":"'[1]SR 32 & Shuster Rd.'!L71","v":0},{"$f":"'[1]SR 32 & Shuster Rd.'!M71","v":0},{"$f":"'[1]SR 32 & Shuster Rd.'!N71","v":0},{"$f":"'[1]SR 32 & Shuster Rd.'!O71","v":0},{"$f":"'[1]SR 32 & Shuster Rd.'!P71+'[1]SR 32 & Germany Rd.'!P71","v":0},{"$f":"'[1]SR 32 & Shuster Rd.'!Q71","v":0},null,"11:15:00",{"$f":"SUM(B69:B71)","v":6},2,10,0,3,44,0,0,0,4,1,0,1,44,6,0]
[{"$f":"'[1]SR 32 & Shuster Rd.'!A72","v":"11:30:00"},{"$f":"'[1]SR 32 & Shuster Rd.'!B72","v":3},{"$f":"'[1]SR 32 & Shuster Rd.'!C72","v":1},{"$f":"'[1]SR 32 & Shuster Rd.'!D72+'[1]SR 32 & Germany Rd.'!C72+'[1]SR 32 & Germany Rd.'!D72","v":12},{"$f":"'[1]SR 32 & Shuster Rd.'!E72","v":0},{"$f":"'[1]SR 32 & Shuster Rd.'!F72","v":3},{"$f":"'[1]SR 32 & Shuster Rd.'!G72","v":29},{"$f":"'[1]SR 32 & Shuster Rd.'!H72","v":0},{"$f":"'[1]SR 32 & Shuster Rd.'!I72","v":0},{"$f":"'[1]SR 32 & Shuster Rd.'!J72","v":0},{"$f":"'[1]SR 32 & Shuster Rd.'!K72","v":0},{"$f":"'[1]SR 32 & Shuster Rd.'!L72","v":0},{"$f":"'[1]SR 32 & Shuster Rd.'!M72","v":0},{"$f":"'[1]SR 32 & Shuster Rd.'!N72","v":1},{"$f":"'[1]SR 32 & Shuster Rd.'!O72","v":39},{"$f":"'[1]SR 32 & Shuster Rd.'!P72+'[1]SR 32 & Germany Rd.'!P72","v":4},{"$f":"'[1]SR 32 & Shuster Rd.'!Q72","v":0}]
[{"$f":"'[1]SR 32 & Shuster Rd.'!A73","v":"11:30:00"},{"$f":"'[1]SR 32 & Shuster Rd.'!B73","v":2},{"$f":"'[1]SR 32 & Shuster Rd.'!C73","v":0},{"$f":"'[1]SR 32 & Shuster Rd.'!D73+'[1]SR 32 & Germany Rd.'!C73+'[1]SR 32 & Germany Rd.'!D73","v":1},{"$f":"'[1]SR 32 & Shuster Rd.'!E73","v":0},{"$f":"'[1]SR 32 & Shuster Rd.'!F73","v":1},{"$f":"'[1]SR 32 & Shuster Rd.'!G73","v":4},{"$f":"'[1]SR 32 & Shuster Rd.'!H73","v":1},{"$f":"'[1]SR 32 & Shuster Rd.'!I73","v":0},{"$f":"'[1]SR 32 & Shuster Rd.'!J73","v":0},{"$f":"'[1]SR 32 & Shuster Rd.'!K73","v":0},{"$f":"'[1]SR 32 & Shuster Rd.'!L73","v":0},{"$f":"'[1]SR 32 & Shuster Rd.'!M73","v":0},{"$f":"'[1]SR 32 & Shuster Rd.'!N73","v":0},{"$f":"'[1]SR 32 & Shuster Rd.'!O73","v":11},{"$f":"'[1]SR 32 & Shuster Rd.'!P73+'[1]SR 32 & Germany Rd.'!P73","v":0},{"$f":"'[1]SR 32 & Shuster Rd.'!Q73","v":0}]
[{"$f":"'[1]SR 32 & Shuster Rd.'!A74","v":"11:30:00"},{"$f":"'[1]SR 32 & Shuster Rd.'!B74","v":0},{"$f":"'[1]SR 32 & Shuster Rd.'!C74","v":0},{"$f":"'[1]SR 32 & Shuster Rd.'!D74+'[1]SR 32 & Germany Rd.'!C74+'[1]SR 32 & Germany Rd.'!D74","v":0},{"$f":"'[1]SR 32 & Shuster Rd.'!E74","v":0},{"$f":"'[1]SR 32 & Shuster Rd.'!F74","v":0},{"$f":"'[1]SR 32 & Shuster Rd.'!G74","v":0},{"$f":"'[1]SR 32 & Shuster Rd.'!H74","v":0},{"$f":"'[1]SR 32 & Shuster Rd.'!I74","v":0},{"$f":"'[1]SR 32 & Shuster Rd.'!J74","v":0},{"$f":"'[1]SR 32 & Shuster Rd.'!K74","v":0},{"$f":"'[1]SR 32 & Shuster Rd.'!L74","v":0},{"$f":"'[1]SR 32 & Shuster Rd.'!M74","v":0},{"$f":"'[1]SR 32 & Shuster Rd.'!N74","v":0},{"$f":"'[1]SR 32 & Shuster Rd.'!O74","v":0},{"$f":"'[1]SR 32 & Shuster Rd.'!P74+'[1]SR 32 & Germany Rd.'!P74","v":0},{"$f":"'[1]SR 32 & Shuster Rd.'!Q74","v":0},null,"11:30:00",{"$f":"SUM(B72:B74)","v":5},1,13,0,4,33,1,0,0,0,0,0,1,50,4,0]
[{"$f":"'[1]SR 32 & Shuster Rd.'!A75","v":"11:45:00"},{"$f":"'[1]SR 32 & Shuster Rd.'!B75","v":3},{"$f":"'[1]SR 32 & Shuster Rd.'!C75","v":4},{"$f":"'[1]SR 32 & Shuster Rd.'!D75+'[1]SR 32 & Germany Rd.'!C75+'[1]SR 32 & Germany Rd.'!D75","v":15},{"$f":"'[1]SR 32 & Shuster Rd.'!E75","v":0},{"$f":"'[1]SR 32 & Shuster Rd.'!F75","v":2},{"$f":"'[1]SR 32 & Shuster Rd.'!G75","v":26},{"$f":"'[1]SR 32 & Shuster Rd.'!H75","v":0},{"$f":"'[1]SR 32 & Shuster Rd.'!I75","v":0},{"$f":"'[1]SR 32 & Shuster Rd.'!J75","v":0},{"$f":"'[1]SR 32 & Shuster Rd.'!K75","v":8},{"$f":"'[1]SR 32 & Shuster Rd.'!L75","v":1},{"$f":"'[1]SR 32 & Shuster Rd.'!M75","v":0},{"$f":"'[1]SR 32 & Shuster Rd.'!N75","v":2},{"$f":"'[1]SR 32 & Shuster Rd.'!O75","v":33},{"$f":"'[1]SR 32 & Shuster Rd.'!P75+'[1]SR 32 & Germany Rd.'!P75","v":5},{"$f":"'[1]SR 32 & Shuster Rd.'!Q75","v":0}]
[{"$f":"'[1]SR 32 & Shuster Rd.'!A76","v":"11:45:00"},{"$f":"'[1]SR 32 & Shuster Rd.'!B76","v":2},{"$f":"'[1]SR 32 & Shuster Rd.'!C76","v":0},{"$f":"'[1]SR 32 & Shuster Rd.'!D76+'[1]SR 32 & Germany Rd.'!C76+'[1]SR 32 & Germany Rd.'!D76","v":2},{"$f":"'[1]SR 32 & Shuster Rd.'!E76","v":0},{"$f":"'[1]SR 32 & Shuster Rd.'!F76","v":0},{"$f":"'[1]SR 32 & Shuster Rd.'!G76","v":10},{"$f":"'[1]SR 32 & Shuster Rd.'!H76","v":0},{"$f":"'[1]SR 32 & Shuster Rd.'!I76","v":0},{"$f":"'[1]SR 32 & Shuster Rd.'!J76","v":0},{"$f":"'[1]SR 32 & Shuster Rd.'!K76","v":0},{"$f":"'[1]SR 32 & Shuster Rd.'!L76","v":0},{"$f":"'[1]SR 32 & Shuster Rd.'!M76","v":0},{"$f":"'[1]SR 32 & Shuster Rd.'!N76","v":0},{"$f":"'[1]SR 32 & Shuster Rd.'!O76","v":3},{"$f":"'[1]SR 32 & Shuster Rd.'!P76+'[1]SR 32 & Germany Rd.'!P76","v":0},{"$f":"'[1]SR 32 & Shuster Rd.'!Q76","v":0}]
[{"$f":"'[1]SR 32 & Shuster Rd.'!A77","v":"11:45:00"},{"$f":"'[1]SR 32 & Shuster Rd.'!B77","v":0},{"$f":"'[1]SR 32 & Shuster Rd.'!C77","v":0},{"$f":"'[1]SR 32 & Shuster Rd.'!D77+'[1]SR 32 & Germany Rd.'!C77+'[1]SR 32 & Germany Rd.'!D77","v":0},{"$f":"'[1]SR 32 & Shuster Rd.'!E77","v":0},{"$f":"'[1]SR 32 & Shuster Rd.'!F77","v":0},{"$f":"'[1]SR 32 & Shuster Rd.'!G77","v":0},{"$f":"'[1]SR 32 & Shuster Rd.'!H77","v":0},{"$f":"'[1]SR 32 & Shuster Rd.'!I77","v":0},{"$f":"'[1]SR 32 & Shuster Rd.'!J77","v":0},{"$f":"'[1]SR 32 & Shuster Rd.'!K77","v":0},{"$f":"'[1]SR 32 & Shuster Rd.'!L77","v":0},{"$f":"'[1]SR 32 & Shuster Rd.'!M77","v":0},{"$f":"'[1]SR 32 & Shuster Rd.'!N77","v":0},{"$f":"'[1]SR 32 & Shuster Rd.'!O77","v":0},{"$f":"'[1]SR 32 & Shuster Rd.'!P77+'[1]SR 32 & Germany Rd.'!P77","v":0},{"$f":"'[1]SR 32 & Shuster Rd.'!Q77","v":0},null,"11:45:00",{"$f":"SUM(B75:B77)","v":5},4,17,0,2,36,0,0,0,8,1,0,2,36,5,0]
[{"$f":"'[1]SR 32 & Shuster Rd.'!A78","v":"12:00:00"},{"$f":"'[1]SR 32 & Shuster Rd.'!B78","v":5},{"$f":"'[1]SR 32 & Shuster Rd.'!C78","v":4},{"$f":"'[1]SR 32 & Shuster Rd.'!D78+'[1]SR 32 & Germany Rd.'!C78+'[1]SR 32 & Germany Rd.'!D78","v":22},{"$f":"'[1]SR 32 & Shuster Rd.'!E78","v":0},{"$f":"'[1]SR 32 & Shuster Rd.'!F78","v":1},{"$f":"'[1]SR 32 & Shuster Rd.'!G78","v":32},{"$f":"'[1]SR 32 & Shuster Rd.'!H78","v":0},{"$f":"'[1]SR 32 & Shuster Rd.'!I78","v":0},{"$f":"'[1]SR 32 & Shuster Rd.'!J78","v":0},{"$f":"'[1]SR 32 & Shuster Rd.'!K78","v":2},{"$f":"'[1]SR 32 & Shuster Rd.'!L78","v":2},{"$f":"'[1]SR 32 & Shuster Rd.'!M78","v":0},{"$f":"'[1]SR 32 & Shuster Rd.'!N78","v":1},{"$f":"'[1]SR 32 & Shuster Rd.'!O78","v":42},{"$f":"'[1]SR 32 & Shuster Rd.'!P78+'[1]SR 32 & Germany Rd.'!P78","v":5},{"$f":"'[1]SR 32 & Shuster Rd.'!Q78","v":0},null,"Movement Total",{"$f":"SUM(T68,T71,T74,T77)","v":18},8,58,0,9,149,1,0,0,15,2,0,5,177,19,0,null,0.4,"-",{"$f":"IF(X$2=FALSE,LOOKUP((Y78+X78)/$AM$4,'Main Line Reduction Table'!$A$1:$B$21,'Main Line Reduction Table'!$C$1:$C$21),LOOKUP(Y78/$AM$4,'Main Line Reduction Table'!$A$1:$B$21,'Main Line Reduction Table'!$C$1:$C$21))","v":0},"=",{"$f":"AK78-AM78","v":0.4},null,0.2,"-",{"$f":"IF(AF$2=FALSE,LOOKUP((AG78+AF78)/$AS$4,'Main Line Reduction Table'!$A$1:$B$21,'Main Line Reduction Table'!$C$1:$C$21),LOOKUP(AG78/$AS$4,'Main Line Reduction Table'!$A$1:$B$21,'Main Line Reduction Table'!$C$1:$C$21))","v":0},"=",{"$f":"AQ78-AS78","v":0.2}]
[{"$f":"'[1]SR 32 & Shuster Rd.'!A79","v":"12:00:00"},{"$f":"'[1]SR 32 & Shuster Rd.'!B79","v":2},{"$f":"'[1]SR 32 & Shuster Rd.'!C79","v":0},{"$f":"'[1]SR 32 & Shuster Rd.'!D79+'[1]SR 32 & Germany Rd.'!C79+'[1]SR 32 & Germany Rd.'!D79","v":0},{"$f":"'[1]SR 32 & Shuster Rd.'!E79","v":0},{"$f":"'[1]SR 32 & Shuster Rd.'!F79","v":0},{"$f":"'[1]SR 32 & Shuster Rd.'!G79","v":11},{"$f":"'[1]SR 32 & Shuster Rd.'!H79","v":0},{"$f":"'[1]SR 32 & Shuster Rd.'!I79","v":0},{"$f":"'[1]SR 32 & Shuster Rd.'!J79","v":0},{"$f":"'[1]SR 32 & Shuster Rd.'!K79","v":0},{"$f":"'[1]SR 32 & Shuster Rd.'!L79","v":0},{"$f":"'[1]SR 32 & Shuster Rd.'!M79","v":0},{"$f":"'[1]SR 32 & Shuster Rd.'!N79","v":0},{"$f":"'[1]SR 32 & Shuster Rd.'!O79","v":9},{"$f":"'[1]SR 32 & Shuster Rd.'!P79+'[1]SR 32 & Germany Rd.'!P79","v":0},{"$f":"'[1]SR 32 & Shuster Rd.'!Q79","v":0},null,"Reduced Movement Total",{"$f":"T78*(1-AO78)","v":10.799999999999999},{"$f":"(T78*(1-$AO78))+U78+V78","v":76.8},null,null,{"$f":"X78+Y78+Z78","v":159},null,null,null,{"$f":"AB78*(1-AU78)","v":0},{"$f":"(AB78*(1-$AO78))+AC78+AD78","v":17},null,null,{"$f":"AF78+AG78+AH78","v":201}]
[{"$f":"'[1]SR 32 & Shuster Rd.'!A80","v":"12:00:00"},{"$f":"'[1]SR 32 & Shuster Rd.'!B80","v":0},{"$f":"'[1]SR 32 & Shuster Rd.'!C80","v":0},{"$f":"'[1]SR 32 & Shuster Rd.'!D80+'[1]SR 32 & Germany Rd.'!C80+'[1]SR 32 & Germany Rd.'!D80","v":0},{"$f":"'[1]SR 32 & Shuster Rd.'!E80","v":0},{"$f":"'[1]SR 32 & Shuster Rd.'!F80","v":0},{"$f":"'[1]SR 32 & Shuster Rd.'!G80","v":0},{"$f":"'[1]SR 32 & Shuster Rd.'!H80","v":0},{"$f":"'[1]SR 32 & Shuster Rd.'!I80","v":0},{"$f":"'[1]SR 32 & Shuster Rd.'!J80","v":0},{"$f":"'[1]SR 32 & Shuster Rd.'!K80","v":0},{"$f":"'[1]SR 32 & Shuster Rd.'!L80","v":0},{"$f":"'[1]SR 32 & Shuster Rd.'!M80","v":0},{"$f":"'[1]SR 32 & Shuster Rd.'!N80","v":0},{"$f":"'[1]SR 32 & Shuster Rd.'!O80","v":0},{"$f":"'[1]SR 32 & Shuster Rd.'!P80+'[1]SR 32 & Germany Rd.'!P80","v":0},{"$f":"'[1]SR 32 & Shuster Rd.'!Q80","v":0},null,"12:00:00",{"$f":"SUM(B78:B80)","v":7},4,22,0,1,43,0,0,0,2,2,0,1,51,5,0]
[{"$f":"'[1]SR 32 & Shuster Rd.'!A81","v":"12:15:00"},{"$f":"'[1]SR 32 & Shuster Rd.'!B81","v":2},{"$f":"'[1]SR 32 & Shuster Rd.'!C81","v":2},{"$f":"'[1]SR 32 & Shuster Rd.'!D81+'[1]SR 32 & Germany Rd.'!C81+'[1]SR 32 & Germany Rd.'!D81","v":20},{"$f":"'[1]SR 32 & Shuster Rd.'!E81","v":0},{"$f":"'[1]SR 32 & Shuster Rd.'!F81","v":1},{"$f":"'[1]SR 32 & Shuster Rd.'!G81","v":32},{"$f":"'[1]SR 32 & Shuster Rd.'!H81","v":1},{"$f":"'[1]SR 32 & Shuster Rd.'!I81","v":0},{"$f":"'[1]SR 32 & Shuster Rd.'!J81","v":0},{"$f":"'[1]SR 32 & Shuster Rd.'!K81","v":3},{"$f":"'[1]SR 32 & Shuster Rd.'!L81","v":0},{"$f":"'[1]SR 32 & Shuster Rd.'!M81","v":0},{"$f":"'[1]SR 32 & Shuster Rd.'!N81","v":6},{"$f":"'[1]SR 32 & Shuster Rd.'!O81","v":29},{"$f":"'[1]SR 32 & Shuster Rd.'!P81+'[1]SR 32 & Germany Rd.'!P81","v":4},{"$f":"'[1]SR 32 & Shuster Rd.'!Q81","v":0}]
[{"$f":"'[1]SR 32 & Shuster Rd.'!A82","v":"12:15:00"},{"$f":"'[1]SR 32 & Shuster Rd.'!B82","v":1},{"$f":"'[1]SR 32 & Shuster Rd.'!C82","v":0},{"$f":"'[1]SR 32 & Shuster Rd.'!D82+'[1]SR 32 & Germany Rd.'!C82+'[1]SR 32 & Germany Rd.'!D82","v":0},{"$f":"'[1]SR 32 & Shuster Rd.'!E82","v":0},{"$f":"'[1]SR 32 & Shuster Rd.'!F82","v":0},{"$f":"'[1]SR 32 & Shuster Rd.'!G82","v":7},{"$f":"'[1]SR 32 & Shuster Rd.'!H82","v":0},{"$f":"'[1]SR 32 & Shuster Rd.'!I82","v":0},{"$f":"'[1]SR 32 & Shuster Rd.'!J82","v":0},{"$f":"'[1]SR 32 & Shuster Rd.'!K82","v":0},{"$f":"'[1]SR 32 & Shuster Rd.'!L82","v":0},{"$f":"'[1]SR 32 & Shuster Rd.'!M82","v":0},{"$f":"'[1]SR 32 & Shuster Rd.'!N82","v":0},{"$f":"'[1]SR 32 & Shuster Rd.'!O82","v":12},{"$f":"'[1]SR 32 & Shuster Rd.'!P82+'[1]SR 32 & Germany Rd.'!P82","v":1},{"$f":"'[1]SR 32 & Shuster Rd.'!Q82","v":0}]
[{"$f":"'[1]SR 32 & Shuster Rd.'!A83","v":"12:15:00"},{"$f":"'[1]SR 32 & Shuster Rd.'!B83","v":0},{"$f":"'[1]SR 32 & Shuster Rd.'!C83","v":0},{"$f":"'[1]SR 32 & Shuster Rd.'!D83+'[1]SR 32 & Germany Rd.'!C83+'[1]SR 32 & Germany Rd.'!D83","v":0},{"$f":"'[1]SR 32 & Shuster Rd.'!E83","v":0},{"$f":"'[1]SR 32 & Shuster Rd.'!F83","v":0},{"$f":"'[1]SR 32 & Shuster Rd.'!G83","v":0},{"$f":"'[1]SR 32 & Shuster Rd.'!H83","v":0},{"$f":"'[1]SR 32 & Shuster Rd.'!I83","v":0},{"$f":"'[1]SR 32 & Shuster Rd.'!J83","v":0},{"$f":"'[1]SR 32 & Shuster Rd.'!K83","v":0},{"$f":"'[1]SR 32 & Shuster Rd.'!L83","v":0},{"$f":"'[1]SR 32 & Shuster Rd.'!M83","v":0},{"$f":"'[1]SR 32 & Shuster Rd.'!N83","v":0},{"$f":"'[1]SR 32 & Shuster Rd.'!O83","v":0},{"$f":"'[1]SR 32 & Shuster Rd.'!P83+'[1]SR 32 & Germany Rd.'!P83","v":0},{"$f":"'[1]SR 32 & Shuster Rd.'!Q83","v":0},null,"12:15:00",{"$f":"SUM(B81:B83)","v":3},2,20,0,1,39,1,0,0,3,0,0,6,41,5,0]
[{"$f":"'[1]SR 32 & Shuster Rd.'!A84","v":"12:30:00"},{"$f":"'[1]SR 32 & Shuster Rd.'!B84","v":4},{"$f":"'[1]SR 32 & Shuster Rd.'!C84","v":6},{"$f":"'[1]SR 32 & Shuster Rd.'!D84+'[1]SR 32 & Germany Rd.'!C84+'[1]SR 32 & Germany Rd.'!D84","v":21},{"$f":"'[1]SR 32 & Shuster Rd.'!E84","v":0},{"$f":"'[1]SR 32 & Shuster Rd.'!F84","v":1},{"$f":"'[1]SR 32 & Shuster Rd.'!G84","v":30},{"$f":"'[1]SR 32 & Shuster Rd.'!H84","v":1},{"$f":"'[1]SR 32 & Shuster Rd.'!I84","v":0},{"$f":"'[1]SR 32 & Shuster Rd.'!J84","v":0},{"$f":"'[1]SR 32 & Shuster Rd.'!K84","v":3},{"$f":"'[1]SR 32 & Shuster Rd.'!L84","v":3},{"$f":"'[1]SR 32 & Shuster Rd.'!M84","v":0},{"$f":"'[1]SR 32 & Shuster Rd.'!N84","v":2},{"$f":"'[1]SR 32 & Shuster Rd.'!O84","v":16},{"$f":"'[1]SR 32 & Shuster Rd.'!P84+'[1]SR 32 & Germany Rd.'!P84","v":3},{"$f":"'[1]SR 32 & Shuster Rd.'!Q84","v":0}]
[{"$f":"'[1]SR 32 & Shuster Rd.'!A85","v":"12:30:00"},{"$f":"'[1]SR 32 & Shuster Rd.'!B85","v":0},{"$f":"'[1]SR 32 & Shuster Rd.'!C85","v":0},{"$f":"'[1]SR 32 & Shuster Rd.'!D85+'[1]SR 32 & Germany Rd.'!C85+'[1]SR 32 & Germany Rd.'!D85","v":0},{"$f":"'[1]SR 32 & Shuster Rd.'!E85","v":0},{"$f":"'[1]SR 32 & Shuster Rd.'!F85","v":2},{"$f":"'[1]SR 32 & Shuster Rd.'!G85","v":9},{"$f":"'[1]SR 32 & Shuster Rd.'!H85","v":0},{"$f":"'[1]SR 32 & Shuster Rd.'!I85","v":0},{"$f":"'[1]SR 32 & Shuster Rd.'!J85","v":0},{"$f":"'[1]SR 32 & Shuster Rd.'!K85","v":0},{"$f":"'[1]SR 32 & Shuster Rd.'!L85","v":0},{"$f":"'[1]SR 32 & Shuster Rd.'!M85","v":0},{"$f":"'[1]SR 32 & Shuster Rd.'!N85","v":0},{"$f":"'[1]SR 32 & Shuster Rd.'!O85","v":7},{"$f":"'[1]SR 32 & Shuster Rd.'!P85+'[1]SR 32 & Germany Rd.'!P85","v":0},{"$f":"'[1]SR 32 & Shuster Rd.'!Q85","v":0}]
[{"$f":"'[1]SR 32 & Shuster Rd.'!A86","v":"12:30:00"},{"$f":"'[1]SR 32 & Shuster Rd.'!B86","v":0},{"$f":"'[1]SR 32 & Shuster Rd.'!C86","v":0},{"$f":"'[1]SR 32 & Shuster Rd.'!D86+'[1]SR 32 & Germany Rd.'!C86+'[1]SR 32 & Germany Rd.'!D86","v":0},{"$f":"'[1]SR 32 & Shuster Rd.'!E86","v":0},{"$f":"'[1]SR 32 & Shuster Rd.'!F86","v":0},{"$f":"'[1]SR 32 & Shuster Rd.'!G86","v":0},{"$f":"'[1]SR 32 & Shuster Rd.'!H86","v":0},{"$f":"'[1]SR 32 & Shuster Rd.'!I86","v":0},{"$f":"'[1]SR 32 & Shuster Rd.'!J86","v":0},{"$f":"'[1]SR 32 & Shuster Rd.'!K86","v":0},{"$f":"'[1]SR 32 & Shuster Rd.'!L86","v":0},{"$f":"'[1]SR 32 & Shuster Rd.'!M86","v":0},{"$f":"'[1]SR 32 & Shuster Rd.'!N86","v":0},{"$f":"'[1]SR 32 & Shuster Rd.'!O86","v":0},{"$f":"'[1]SR 32 & Shuster Rd.'!P86+'[1]SR 32 & Germany Rd.'!P86","v":0},{"$f":"'[1]SR 32 & Shuster Rd.'!Q86","v":0},null,"12:30:00",{"$f":"SUM(B84:B86)","v":4},6,21,0,3,39,1,0,0,3,3,0,2,23,3,0]
[{"$f":"'[1]SR 32 & Shuster Rd.'!A87","v":"12:45:00"},{"$f":"'[1]SR 32 & Shuster Rd.'!B87","v":3},{"$f":"'[1]SR 32 & Shuster Rd.'!C87","v":3},{"$f":"'[1]SR 32 & Shuster Rd.'!D87+'[1]SR 32 & Germany Rd.'!C87+'[1]SR 32 & Germany Rd.'!D87","v":14},{"$f":"'[1]SR 32 & Shuster Rd.'!E87","v":0},{"$f":"'[1]SR 32 & Shuster Rd.'!F87","v":2},{"$f":"'[1]SR 32 & Shuster Rd.'!G87","v":29},{"$f":"'[1]SR 32 & Shuster Rd.'!H87","v":0},{"$f":"'[1]SR 32 & Shuster Rd.'!I87","v":0},{"$f":"'[1]SR 32 & Shuster Rd.'!J87","v":0},{"$f":"'[1]SR 32 & Shuster Rd.'!K87","v":2},{"$f":"'[1]SR 32 & Shuster Rd.'!L87","v":2},{"$f":"'[1]SR 32 & Shuster Rd.'!M87","v":0},{"$f":"'[1]SR 32 & Shuster Rd.'!N87","v":4},{"$f":"'[1]SR 32 & Shuster Rd.'!O87","v":19},{"$f":"'[1]SR 32 & Shuster Rd.'!P87+'[1]SR 32 & Germany Rd.'!P87","v":3},{"$f":"'[1]SR 32 & Shuster Rd.'!Q87","v":0}]
[{"$f":"'[1]SR 32 & Shuster Rd.'!A88","v":"12:45:00"},{"$f":"'[1]SR 32 & Shuster Rd.'!B88","v":0},{"$f":"'[1]SR 32 & Shuster Rd.'!C88","v":0},{"$f":"'[1]SR 32 & Shuster Rd.'!D88+'[1]SR 32 & Germany Rd.'!C88+'[1]SR 32 & Germany Rd.'!D88","v":2},{"$f":"'[1]SR 32 & Shuster Rd.'!E88","v":0},{"$f":"'[1]SR 32 & Shuster Rd.'!F88","v":0},{"$f":"'[1]SR 32 & Shuster Rd.'!G88","v":4},{"$f":"'[1]SR 32 & Shuster Rd.'!H88","v":0},{"$f":"'[1]SR 32 & Shuster Rd.'!I88","v":0},{"$f":"'[1]SR 32 & Shuster Rd.'!J88","v":0},{"$f":"'[1]SR 32 & Shuster Rd.'!K88","v":0},{"$f":"'[1]SR 32 & Shuster Rd.'!L88","v":0},{"$f":"'[1]SR 32 & Shuster Rd.'!M88","v":0},{"$f":"'[1]SR 32 & Shuster Rd.'!N88","v":0},{"$f":"'[1]SR 32 & Shuster Rd.'!O88","v":7},{"$f":"'[1]SR 32 & Shuster Rd.'!P88+'[1]SR 32 & Germany Rd.'!P88","v":1},{"$f":"'[1]SR 32 & Shuster Rd.'!Q88","v":0}]
[{"$f":"'[1]SR 32 & Shuster Rd.'!A89","v":"12:45:00"},{"$f":"'[1]SR 32 & Shuster Rd.'!B89","v":0},{"$f":"'[1]SR 32 & Shuster Rd.'!C89","v":0},{"$f":"'[1]SR 32 & Shuster Rd.'!D89+'[1]SR 32 & Germany Rd.'!C89+'[1]SR 32 & Germany Rd.'!D89","v":0},{"$f":"'[1]SR 32 & Shuster Rd.'!E89","v":0},{"$f":"'[1]SR 32 & Shuster Rd.'!F89","v":0},{"$f":"'[1]SR 32 & Shuster Rd.'!G89","v":0},{"$f":"'[1]SR 32 & Shuster Rd.'!H89","v":0},{"$f":"'[1]SR 32 & Shuster Rd.'!I89","v":0},{"$f":"'[1]SR 32 & Shuster Rd.'!J89","v":0},{"$f":"'[1]SR 32 & Shuster Rd.'!K89","v":0},{"$f":"'[1]SR 32 & Shuster Rd.'!L89","v":0},{"$f":"'[1]SR 32 & Shuster Rd.'!M89","v":0},{"$f":"'[1]SR 32 & Shuster Rd.'!N89","v":0},{"$f":"'[1]SR 32 & Shuster Rd.'!O89","v":0},{"$f":"'[1]SR 32 & Shuster Rd.'!P89+'[1]SR 32 & Germany Rd.'!P89","v":0},{"$f":"'[1]SR 32 & Shuster Rd.'!Q89","v":0},null,"12:45:00",{"$f":"SUM(B87:B89)","v":3},3,16,0,2,33,0,0,0,2,2,0,4,26,4,0]
[{"$f":"'[1]SR 32 & Shuster Rd.'!A90","v":"13:00:00"},{"$f":"'[1]SR 32 & Shuster Rd.'!B90","v":4},{"$f":"'[1]SR 32 & Shuster Rd.'!C90","v":2},{"$f":"'[1]SR 32 & Shuster Rd.'!D90+'[1]SR 32 & Germany Rd.'!C90+'[1]SR 32 & Germany Rd.'!D90","v":22},{"$f":"'[1]SR 32 & Shuster Rd.'!E90","v":0},{"$f":"'[1]SR 32 & Shuster Rd.'!F90","v":4},{"$f":"'[1]SR 32 & Shuster Rd.'!G90","v":28},{"$f":"'[1]SR 32 & Shuster Rd.'!H90","v":0},{"$f":"'[1]SR 32 & Shuster Rd.'!I90","v":0},{"$f":"'[1]SR 32 & Shuster Rd.'!J90","v":3},{"$f":"'[1]SR 32 & Shuster Rd.'!K90","v":1},{"$f":"'[1]SR 32 & Shuster Rd.'!L90","v":3},{"$f":"'[1]SR 32 & Shuster Rd.'!M90","v":0},{"$f":"'[1]SR 32 & Shuster Rd.'!N90","v":4},{"$f":"'[1]SR 32 & Shuster Rd.'!O90","v":27},{"$f":"'[1]SR 32 & Shuster Rd.'!P90+'[1]SR 32 & Germany Rd.'!P90","v":4},{"$f":"'[1]SR 32 & Shuster Rd.'!Q90","v":0},null,"Movement Total",{"$f":"SUM(T80,T83,T86,T89)","v":17},15,79,0,7,154,2,0,0,10,7,0,13,141,17,0,null,0.2,"-",{"$f":"IF(X$2=FALSE,LOOKUP((Y90+X90)/$AM$4,'Main Line Reduction Table'!$A$1:$B$21,'Main Line Reduction Table'!$C$1:$C$21),LOOKUP(Y90/$AM$4,'Main Line Reduction Table'!$A$1:$B$21,'Main Line Reduction Table'!$C$1:$C$21))","v":0},"=",{"$f":"AK90-AM90","v":0.2},null,0.2,"-",{"$f":"IF(AF$2=FALSE,LOOKUP((AG90+AF90)/$AS$4,'Main Line Reduction Table'!$A$1:$B$21,'Main Line Reduction Table'!$C$1:$C$21),LOOKUP(AG90/$AS$4,'Main Line Reduction Table'!$A$1:$B$21,'Main Line Reduction Table'!$C$1:$C$21))","v":0},"=",{"$f":"AQ90-AS90","v":0.2}]
[{"$f":"'[1]SR 32 & Shuster Rd.'!A91","v":"13:00:00"},{"$f":"'[1]SR 32 & Shuster Rd.'!B91","v":0},{"$f":"'[1]SR 32 & Shuster Rd.'!C91","v":1},{"$f":"'[1]SR 32 & Shuster Rd.'!D91+'[1]SR 32 & Germany Rd.'!C91+'[1]SR 32 & Germany Rd.'!D91","v":0},{"$f":"'[1]SR 32 & Shuster Rd.'!E91","v":0},{"$f":"'[1]SR 32 & Shuster Rd.'!F91","v":0},{"$f":"'[1]SR 32 & Shuster Rd.'!G91","v":12},{"$f":"'[1]SR 32 & Shuster Rd.'!H91","v":0},{"$f":"'[1]SR 32 & Shuster Rd.'!I91","v":0},{"$f":"'[1]SR 32 & Shuster Rd.'!J91","v":0},{"$f":"'[1]SR 32 & Shuster Rd.'!K91","v":0},{"$f":"'[1]SR 32 & Shuster Rd.'!L91","v":0},{"$f":"'[1]SR 32 & Shuster Rd.'!M91","v":0},{"$f":"'[1]SR 32 & Shuster Rd.'!N91","v":0},{"$f":"'[1]SR 32 & Shuster Rd.'!O91","v":12},{"$f":"'[1]SR 32 & Shuster Rd.'!P91+'[1]SR 32 & Germany Rd.'!P91","v":3},{"$f":"'[1]SR 32 & Shuster Rd.'!Q91","v":0},null,"Reduced Movement Total",{"$f":"T90*(1-AO90)","v":13.600000000000001},{"$f":"(T90*(1-$AO90))+U90+V90","v":107.6},null,null,{"$f":"X90+Y90+Z90","v":163},null,null,null,{"$f":"AB90*(1-AU90)","v":0},{"$f":"(AB90*(1-$AO90))+AC90+AD90","v":17},null,null,{"$f":"AF90+AG90+AH90","v":171}]
[{"$f":"'[1]SR 32 & Shuster Rd.'!A92","v":"13:00:00"},{"$f":"'[1]SR 32 & Shuster Rd.'!B92","v":0},{"$f":"'[1]SR 32 & Shuster Rd.'!C92","v":0},{"$f":"'[1]SR 32 & Shuster Rd.'!D92+'[1]SR 32 & Germany Rd.'!C92+'[1]SR 32 & Germany Rd.'!D92","v":0},{"$f":"'[1]SR 32 & Shuster Rd.'!E92","v":0},{"$f":"'[1]SR 32 & Shuster Rd.'!F92","v":0},{"$f":"'[1]SR 32 & Shuster Rd.'!G92","v":0},{"$f":"'[1]SR 32 & Shuster Rd.'!H92","v":0},{"$f":"'[1]SR 32 & Shuster Rd.'!I92","v":0},{"$f":"'[1]SR 32 & Shuster Rd.'!J92","v":0},{"$f":"'[1]SR 32 & Shuster Rd.'!K92","v":0},{"$f":"'[1]SR 32 & Shuster Rd.'!L92","v":0},{"$f":"'[1]SR 32 & Shuster Rd.'!M92","v":0},{"$f":"'[1]SR 32 & Shuster Rd.'!N92","v":0},{"$f":"'[1]SR 32 & Shuster Rd.'!O92","v":0},{"$f":"'[1]SR 32 & Shuster Rd.'!P92+'[1]SR 32 & Germany Rd.'!P92","v":0},{"$f":"'[1]SR 32 & Shuster Rd.'!Q92","v":0},null,"13:00:00",{"$f":"SUM(B90:B92)","v":4},3,22,0,4,40,0,0,3,1,3,0,4,39,7,0]
[{"$f":"'[1]SR 32 & Shuster Rd.'!A93","v":"13:15:00"},{"$f":"'[1]SR 32 & Shuster Rd.'!B93","v":2},{"$f":"'[1]SR 32 & Shuster Rd.'!C93","v":3},{"$f":"'[1]SR 32 & Shuster Rd.'!D93+'[1]SR 32 & Germany Rd.'!C93+'[1]SR 32 & Germany Rd.'!D93","v":19},{"$f":"'[1]SR 32 & Shuster Rd.'!E93","v":0},{"$f":"'[1]SR 32 & Shuster Rd.'!F93","v":2},{"$f":"'[1]SR 32 & Shuster Rd.'!G93","v":28},{"$f":"'[1]SR 32 & Shuster Rd.'!H93","v":0},{"$f":"'[1]SR 32 & Shuster Rd.'!I93","v":0},{"$f":"'[1]SR 32 & Shuster Rd.'!J93","v":0},{"$f":"'[1]SR 32 & Shuster Rd.'!K93","v":4},{"$f":"'[1]SR 32 & Shuster Rd.'!L93","v":1},{"$f":"'[1]SR 32 & Shuster Rd.'!M93","v":0},{"$f":"'[1]SR 32 & Shuster Rd.'!N93","v":3},{"$f":"'[1]SR 32 & Shuster Rd.'!O93","v":39},{"$f":"'[1]SR 32 & Shuster Rd.'!P93+'[1]SR 32 & Germany Rd.'!P93","v":5},{"$f":"'[1]SR 32 & Shuster Rd.'!Q93","v":0}]
[{"$f":"'[1]SR 32 & Shuster Rd.'!A94","v":"13:15:00"},{"$f":"'[1]SR 32 & Shuster Rd.'!B94","v":0},{"$f":"'[1]SR 32 & Shuster Rd.'!C94","v":0},{"$f":"'[1]SR 32 & Shuster Rd.'!D94+'[1]SR 32 & Germany Rd.'!C94+'[1]SR 32 & Germany Rd.'!D94","v":0},{"$f":"'[1]SR 32 & Shuster Rd.'!E94","v":0},{"$f":"'[1]SR 32 & Shuster Rd.'!F94","v":0},{"$f":"'[1]SR 32 & Shuster Rd.'!G94","v":7},{"$f":"'[1]SR 32 & Shuster Rd.'!H94","v":0},{"$f":"'[1]SR 32 & Shuster Rd.'!I94","v":0},{"$f":"'[1]SR 32 & Shuster Rd.'!J94","v":0},{"$f":"'[1]SR 32 & Shuster Rd.'!K94","v":0},{"$f":"'[1]SR 32 & Shuster Rd.'!L94","v":0},{"$f":"'[1]SR 32 & Shuster Rd.'!M94","v":0},{"$f":"'[1]SR 32 & Shuster Rd.'!N94","v":0},{"$f":"'[1]SR 32 & Shuster Rd.'!O94","v":6},{"$f":"'[1]SR 32 & Shuster Rd.'!P94+'[1]SR 32 & Germany Rd.'!P94","v":1},{"$f":"'[1]SR 32 & Shuster Rd.'!Q94","v":0}]
[{"$f":"'[1]SR 32 & Shuster Rd.'!A95","v":"13:15:00"},{"$f":"'[1]SR 32 & Shuster Rd.'!B95","v":0},{"$f":"'[1]SR 32 & Shuster Rd.'!C95","v":0},{"$f":"'[1]SR 32 & Shuster Rd.'!D95+'[1]SR 32 & Germany Rd.'!C95+'[1]SR 32 & Germany Rd.'!D95","v":0},{"$f":"'[1]SR 32 & Shuster Rd.'!E95","v":0},{"$f":"'[1]SR 32 & Shuster Rd.'!F95","v":0},{"$f":"'[1]SR 32 & Shuster Rd.'!G95","v":0},{"$f":"'[1]SR 32 & Shuster Rd.'!H95","v":0},{"$f":"'[1]SR 32 & Shuster Rd.'!I95","v":0},{"$f":"'[1]SR 32 & Shuster Rd.'!J95","v":0},{"$f":"'[1]SR 32 & Shuster Rd.'!K95","v":0},{"$f":"'[1]SR 32 & Shuster Rd.'!L95","v":0},{"$f":"'[1]SR 32 & Shuster Rd.'!M95","v":0},{"$f":"'[1]SR 32 & Shuster Rd.'!N95","v":0},{"$f":"'[1]SR 32 & Shuster Rd.'!O95","v":0},{"$f":"'[1]SR 32 & Shuster Rd.'!P95+'[1]SR 32 & Germany Rd.'!P95","v":0},{"$f":"'[1]SR 32 & Shuster Rd.'!Q95","v":0},null,"13:15:00",{"$f":"SUM(B93:B95)","v":2},3,19,0,2,35,0,0,0,4,1,0,3,45,6,0]
[{"$f":"'[1]SR 32 & Shuster Rd.'!A96","v":"13:30:00"},{"$f":"'[1]SR 32 & Shuster Rd.'!B96","v":1},{"$f":"'[1]SR 32 & Shuster Rd.'!C96","v":1},{"$f":"'[1]SR 32 & Shuster Rd.'!D96+'[1]SR 32 & Germany Rd.'!C96+'[1]SR 32 & Germany Rd.'!D96","v":23},{"$f":"'[1]SR 32 & Shuster Rd.'!E96","v":0},{"$f":"'[1]SR 32 & Shuster Rd.'!F96","v":3},{"$f":"'[1]SR 32 & Shuster Rd.'!G96","v":41},{"$f":"'[1]SR 32 & Shuster Rd.'!H96","v":2},{"$f":"'[1]SR 32 & Shuster Rd.'!I96","v":0},{"$f":"'[1]SR 32 & Shuster Rd.'!J96","v":0},{"$f":"'[1]SR 32 & Shuster Rd.'!K96","v":3},{"$f":"'[1]SR 32 & Shuster Rd.'!L96","v":2},{"$f":"'[1]SR 32 & Shuster Rd.'!M96","v":0},{"$f":"'[1]SR 32 & Shuster Rd.'!N96","v":3},{"$f":"'[1]SR 32 & Shuster Rd.'!O96","v":33},{"$f":"'[1]SR 32 & Shuster Rd.'!P96+'[1]SR 32 & Germany Rd.'!P96","v":12},{"$f":"'[1]SR 32 & Shuster Rd.'!Q96","v":0}]
[{"$f":"'[1]SR 32 & Shuster Rd.'!A97","v":"13:30:00"},{"$f":"'[1]SR 32 & Shuster Rd.'!B97","v":1},{"$f":"'[1]SR 32 & Shuster Rd.'!C97","v":0},{"$f":"'[1]SR 32 & Shuster Rd.'!D97+'[1]SR 32 & Germany Rd.'!C97+'[1]SR 32 & Germany Rd.'!D97","v":1},{"$f":"'[1]SR 32 & Shuster Rd.'!E97","v":0},{"$f":"'[1]SR 32 & Shuster Rd.'!F97","v":0},{"$f":"'[1]SR 32 & Shuster Rd.'!G97","v":10},{"$f":"'[1]SR 32 & Shuster Rd.'!H97","v":0},{"$f":"'[1]SR 32 & Shuster Rd.'!I97","v":0},{"$f":"'[1]SR 32 & Shuster Rd.'!J97","v":0},{"$f":"'[1]SR 32 & Shuster Rd.'!K97","v":1},{"$f":"'[1]SR 32 & Shuster Rd.'!L97","v":0},{"$f":"'[1]SR 32 & Shuster Rd.'!M97","v":0},{"$f":"'[1]SR 32 & Shuster Rd.'!N97","v":0},{"$f":"'[1]SR 32 & Shuster Rd.'!O97","v":10},{"$f":"'[1]SR 32 & Shuster Rd.'!P97+'[1]SR 32 & Germany Rd.'!P97","v":1},{"$f":"'[1]SR 32 & Shuster Rd.'!Q97","v":0}]
[{"$f":"'[1]SR 32 & Shuster Rd.'!A98","v":"13:30:00"},{"$f":"'[1]SR 32 & Shuster Rd.'!B98","v":0},{"$f":"'[1]SR 32 & Shuster Rd.'!C98","v":0},{"$f":"'[1]SR 32 & Shuster Rd.'!D98+'[1]SR 32 & Germany Rd.'!C98+'[1]SR 32 & Germany Rd.'!D98","v":0},{"$f":"'[1]SR 32 & Shuster Rd.'!E98","v":0},{"$f":"'[1]SR 32 & Shuster Rd.'!F98","v":0},{"$f":"'[1]SR 32 & Shuster Rd.'!G98","v":0},{"$f":"'[1]SR 32 & Shuster Rd.'!H98","v":0},{"$f":"'[1]SR 32 & Shuster Rd.'!I98","v":0},{"$f":"'[1]SR 32 & Shuster Rd.'!J98","v":0},{"$f":"'[1]SR 32 & Shuster Rd.'!K98","v":0},{"$f":"'[1]SR 32 & Shuster Rd.'!L98","v":0},{"$f":"'[1]SR 32 & Shuster Rd.'!M98","v":0},{"$f":"'[1]SR 32 & Shuster Rd.'!N98","v":0},{"$f":"'[1]SR 32 & Shuster Rd.'!O98","v":0},{"$f":"'[1]SR 32 & Shuster Rd.'!P98+'[1]SR 32 & Germany Rd.'!P98","v":0},{"$f":"'[1]SR 32 & Shuster Rd.'!Q98","v":0},null,"13:30:00",{"$f":"SUM(B96:B98)","v":2},1,24,0,3,51,2,0,0,4,2,0,3,43,13,0]
[{"$f":"'[1]SR 32 & Shuster Rd.'!A99","v":"13:45:00"},{"$f":"'[1]SR 32 & Shuster Rd.'!B99","v":2},{"$f":"'[1]SR 32 & Shuster Rd.'!C99","v":4},{"$f":"'[1]SR 32 & Shuster Rd.'!D99+'[1]SR 32 & Germany Rd.'!C99+'[1]SR 32 & Germany Rd.'!D99","v":28},{"$f":"'[1]SR 32 & Shuster Rd.'!E99","v":0},{"$f":"'[1]SR 32 & Shuster Rd.'!F99","v":8},{"$f":"'[1]SR 32 & Shuster Rd.'!G99","v":37},{"$f":"'[1]SR 32 & Shuster Rd.'!H99","v":0},{"$f":"'[1]SR 32 & Shuster Rd.'!I99","v":0},{"$f":"'[1]SR 32 & Shuster Rd.'!J99","v":0},{"$f":"'[1]SR 32 & Shuster Rd.'!K99","v":4},{"$f":"'[1]SR 32 & Shuster Rd.'!L99","v":3},{"$f":"'[1]SR 32 & Shuster Rd.'!M99","v":0},{"$f":"'[1]SR 32 & Shuster Rd.'!N99","v":1},{"$f":"'[1]SR 32 & Shuster Rd.'!O99","v":28},{"$f":"'[1]SR 32 & Shuster Rd.'!P99+'[1]SR 32 & Germany Rd.'!P99","v":17},{"$f":"'[1]SR 32 & Shuster Rd.'!Q99","v":0}]
[{"$f":"'[1]SR 32 & Shuster Rd.'!A100","v":"13:45:00"},{"$f":"'[1]SR 32 & Shuster Rd.'!B100","v":4},{"$f":"'[1]SR 32 & Shuster Rd.'!C100","v":0},{"$f":"'[1]SR 32 & Shuster Rd.'!D100+'[1]SR 32 & Germany Rd.'!C100+'[1]SR 32 & Germany Rd.'!D100","v":0},{"$f":"'[1]SR 32 & Shuster Rd.'!E100","v":0},{"$f":"'[1]SR 32 & Shuster Rd.'!F100","v":0},{"$f":"'[1]SR 32 & Shuster Rd.'!G100","v":14},{"$f":"'[1]SR 32 & Shuster Rd.'!H100","v":0},{"$f":"'[1]SR 32 & Shuster Rd.'!I100","v":0},{"$f":"'[1]SR 32 & Shuster Rd.'!J100","v":0},{"$f":"'[1]SR 32 & Shuster Rd.'!K100","v":0},{"$f":"'[1]SR 32 & Shuster Rd.'!L100","v":0},{"$f":"'[1]SR 32 & Shuster Rd.'!M100","v":0},{"$f":"'[1]SR 32 & Shuster Rd.'!N100","v":0},{"$f":"'[1]SR 32 & Shuster Rd.'!O100","v":13},{"$f":"'[1]SR 32 & Shuster Rd.'!P100+'[1]SR 32 & Germany Rd.'!P100","v":2},{"$f":"'[1]SR 32 & Shuster Rd.'!Q100","v":0}]
[{"$f":"'[1]SR 32 & Shuster Rd.'!A101","v":"13:45:00"},{"$f":"'[1]SR 32 & Shuster Rd.'!B101","v":0},{"$f":"'[1]SR 32 & Shuster Rd.'!C101","v":0},{"$f":"'[1]SR 32 & Shuster Rd.'!D101+'[1]SR 32 & Germany Rd.'!C101+'[1]SR 32 & Germany Rd.'!D101","v":0},{"$f":"'[1]SR 32 & Shuster Rd.'!E101","v":0},{"$f":"'[1]SR 32 & Shuster Rd.'!F101","v":0},{"$f":"'[1]SR 32 & Shuster Rd.'!G101","v":0},{"$f":"'[1]SR 32 & Shuster Rd.'!H101","v":0},{"$f":"'[1]SR 32 & Shuster Rd.'!I101","v":0},{"$f":"'[1]SR 32 & Shuster Rd.'!J101","v":0},{"$f":"'[1]SR 32 & Shuster Rd.'!K101","v":0},{"$f":"'[1]SR 32 & Shuster Rd.'!L101","v":0},{"$f":"'[1]SR 32 & Shuster Rd.'!M101","v":0},{"$f":"'[1]SR 32 & Shuster Rd.'!N101","v":0},{"$f":"'[1]SR 32 & Shuster Rd.'!O101","v":0},{"$f":"'[1]SR 32 & Shuster Rd.'!P101+'[1]SR 32 & Germany Rd.'!P101","v":0},{"$f":"'[1]SR 32 & Shuster Rd.'!Q101","v":0},null,"13:45:00",{"$f":"SUM(B99:B101)","v":6},4,28,0,8,51,0,0,0,4,3,0,1,41,19,0]
[{"$f":"'[1]SR 32 & Shuster Rd.'!A102","v":"14:00:00"},{"$f":"'[1]SR 32 & Shuster Rd.'!B102","v":22},{"$f":"'[1]SR 32 & Shuster Rd.'!C102","v":3},{"$f":"'[1]SR 32 & Shuster Rd.'!D102+'[1]SR 32 & Germany Rd.'!C102+'[1]SR 32 & Germany Rd.'!D102","v":35},{"$f":"'[1]SR 32 & Shuster Rd.'!E102","v":0},{"$f":"'[1]SR 32 & Shuster Rd.'!F102","v":3},{"$f":"'[1]SR 32 & Shuster Rd.'!G102","v":38},{"$f":"'[1]SR 32 & Shuster Rd.'!H102","v":1},{"$f":"'[1]SR 32 & Shuster Rd.'!I102","v":0},{"$f":"'[1]SR 32 & Shuster Rd.'!J102","v":1},{"$f":"'[1]SR 32 & Shuster Rd.'!K102","v":2},{"$f":"'[1]SR 32 & Shuster Rd.'!L102","v":6},{"$f":"'[1]SR 32 & Shuster Rd.'!M102","v":0},{"$f":"'[1]SR 32 & Shuster Rd.'!N102","v":5},{"$f":"'[1]SR 32 & Shuster Rd.'!O102","v":29},{"$f":"'[1]SR 32 & Shuster Rd.'!P102+'[1]SR 32 & Germany Rd.'!P102","v":7},{"$f":"'[1]SR 32 & Shuster Rd.'!Q102","v":0},null,"Movement Total",{"$f":"SUM(T92,T95,T98,T101)","v":14},11,93,0,17,177,2,0,3,13,9,0,11,168,45,0,null,0.2,"-",{"$f":"IF(X$2=FALSE,LOOKUP((Y102+X102)/$AM$4,'Main Line Reduction Table'!$A$1:$B$21,'Main Line Reduction Table'!$C$1:$C$21),LOOKUP(Y102/$AM$4,'Main Line Reduction Table'!$A$1:$B$21,'Main Line Reduction Table'!$C$1:$C$21))","v":0},"=",{"$f":"AK102-AM102","v":0.2},null,0.2,"-",{"$f":"IF(AF$2=FALSE,LOOKUP((AG102+AF102)/$AS$4,'Main Line Reduction Table'!$A$1:$B$21,'Main Line Reduction Table'!$C$1:$C$21),LOOKUP(AG102/$AS$4,'Main Line Reduction Table'!$A$1:$B$21,'Main Line Reduction Table'!$C$1:$C$21))","v":0},"=",{"$f":"AQ102-AS102","v":0.2}]
[{"$f":"'[1]SR 32 & Shuster Rd.'!A103","v":"14:00:00"},{"$f":"'[1]SR 32 & Shuster Rd.'!B103","v":0},{"$f":"'[1]SR 32 & Shuster Rd.'!C103","v":0},{"$f":"'[1]SR 32 & Shuster Rd.'!D103+'[1]SR 32 & Germany Rd.'!C103+'[1]SR 32 & Germany Rd.'!D103","v":1},{"$f":"'[1]SR 32 & Shuster Rd.'!E103","v":0},{"$f":"'[1]SR 32 & Shuster Rd.'!F103","v":0},{"$f":"'[1]SR 32 & Shuster Rd.'!G103","v":11},{"$f":"'[1]SR 32 & Shuster Rd.'!H103","v":0},{"$f":"'[1]SR 32 & Shuster Rd.'!I103","v":0},{"$f":"'[1]SR 32 & Shuster Rd.'!J103","v":0},{"$f":"'[1]SR 32 & Shuster Rd.'!K103","v":0},{"$f":"'[1]SR 32 & Shuster Rd.'!L103","v":0},{"$f":"'[1]SR 32 & Shuster Rd.'!M103","v":0},{"$f":"'[1]SR 32 & Shuster Rd.'!N103","v":0},{"$f":"'[1]SR 32 & Shuster Rd.'!O103","v":10},{"$f":"'[1]SR 32 & Shuster Rd.'!P103+'[1]SR 32 & Germany Rd.'!P103","v":2},{"$f":"'[1]SR 32 & Shuster Rd.'!Q103","v":0},null,"Reduced Movement Total",{"$f":"T102*(1-AO102)","v":11.200000000000001},{"$f":"(T102*(1-$AO102))+U102+V102","v":115.2},null,null,{"$f":"X102+Y102+Z102","v":196},null,null,null,{"$f":"AB102*(1-AU102)","v":2.4000000000000004},{"$f":"(AB102*(1-$AO102))+AC102+AD102","v":24.4},null,null,{"$f":"AF102+AG102+AH102","v":224}]
[{"$f":"'[1]SR 32 & Shuster Rd.'!A104","v":"14:00:00"},{"$f":"'[1]SR 32 & Shuster Rd.'!B104","v":0},{"$f":"'[1]SR 32 & Shuster Rd.'!C104","v":0},{"$f":"'[1]SR 32 & Shuster Rd.'!D104+'[1]SR 32 & Germany Rd.'!C104+'[1]SR 32 & Germany Rd.'!D104","v":0},{"$f":"'[1]SR 32 & Shuster Rd.'!E104","v":0},{"$f":"'[1]SR 32 & Shuster Rd.'!F104","v":0},{"$f":"'[1]SR 32 & Shuster Rd.'!G104","v":0},{"$f":"'[1]SR 32 & Shuster Rd.'!H104","v":0},{"$f":"'[1]SR 32 & Shuster Rd.'!I104","v":0},{"$f":"'[1]SR 32 & Shuster Rd.'!J104","v":0},{"$f":"'[1]SR 32 & Shuster Rd.'!K104","v":0},{"$f":"'[1]SR 32 & Shuster Rd.'!L104","v":0},{"$f":"'[1]SR 32 & Shuster Rd.'!M104","v":0},{"$f":"'[1]SR 32 & Shuster Rd.'!N104","v":0},{"$f":"'[1]SR 32 & Shuster Rd.'!O104","v":0},{"$f":"'[1]SR 32 & Shuster Rd.'!P104+'[1]SR 32 & Germany Rd.'!P104","v":0},{"$f":"'[1]SR 32 & Shuster Rd.'!Q104","v":0},null,"14:00:00",{"$f":"SUM(B102:B104)","v":22},3,36,0,3,49,1,0,1,2,6,0,5,39,9,0]
[{"$f":"'[1]SR 32 & Shuster Rd.'!A105","v":"14:15:00"},{"$f":"'[1]SR 32 & Shuster Rd.'!B105","v":10},{"$f":"'[1]SR 32 & Shuster Rd.'!C105","v":1},{"$f":"'[1]SR 32 & Shuster Rd.'!D105+'[1]SR 32 & Germany Rd.'!C105+'[1]SR 32 & Germany Rd.'!D105","v":42},{"$f":"'[1]SR 32 & Shuster Rd.'!E105","v":0},{"$f":"'[1]SR 32 & Shuster Rd.'!F105","v":2},{"$f":"'[1]SR 32 & Shuster Rd.'!G105","v":54},{"$f":"'[1]SR 32 & Shuster Rd.'!H105","v":0},{"$f":"'[1]SR 32 & Shuster Rd.'!I105","v":0},{"$f":"'[1]SR 32 & Shuster Rd.'!J105","v":0},{"$f":"'[1]SR 32 & Shuster Rd.'!K105","v":3},{"$f":"'[1]SR 32 & Shuster Rd.'!L105","v":3},{"$f":"'[1]SR 32 & Shuster Rd.'!M105","v":0},{"$f":"'[1]SR 32 & Shuster Rd.'!N105","v":4},{"$f":"'[1]SR 32 & Shuster Rd.'!O105","v":52},{"$f":"'[1]SR 32 & Shuster Rd.'!P105+'[1]SR 32 & Germany Rd.'!P105","v":2},{"$f":"'[1]SR 32 & Shuster Rd.'!Q105","v":0}]
[{"$f":"'[1]SR 32 & Shuster Rd.'!A106","v":"14:15:00"},{"$f":"'[1]SR 32 & Shuster Rd.'!B106","v":0},{"$f":"'[1]SR 32 & Shuster Rd.'!C106","v":0},{"$f":"'[1]SR 32 & Shuster Rd.'!D106+'[1]SR 32 & Germany Rd.'!C106+'[1]SR 32 & Germany Rd.'!D106","v":0},{"$f":"'[1]SR 32 & Shuster Rd.'!E106","v":0},{"$f":"'[1]SR 32 & Shuster Rd.'!F106","v":0},{"$f":"'[1]SR 32 & Shuster Rd.'!G106","v":6},{"$f":"'[1]SR 32 & Shuster Rd.'!H106","v":0},{"$f":"'[1]SR 32 & Shuster Rd.'!I106","v":0},{"$f":"'[1]SR 32 & Shuster Rd.'!J106","v":0},{"$f":"'[1]SR 32 & Shuster Rd.'!K106","v":1},{"$f":"'[1]SR 32 & Shuster Rd.'!L106","v":0},{"$f":"'[1]SR 32 & Shuster Rd.'!M106","v":0},{"$f":"'[1]SR 32 & Shuster Rd.'!N106","v":0},{"$f":"'[1]SR 32 & Shuster Rd.'!O106","v":12},{"$f":"'[1]SR 32 & Shuster Rd.'!P106+'[1]SR 32 & Germany Rd.'!P106","v":0},{"$f":"'[1]SR 32 & Shuster Rd.'!Q106","v":0}]
[{"$f":"'[1]SR 32 & Shuster Rd.'!A107","v":"14:15:00"},{"$f":"'[1]SR 32 & Shuster Rd.'!B107","v":0},{"$f":"'[1]SR 32 & Shuster Rd.'!C107","v":0},{"$f":"'[1]SR 32 & Shuster Rd.'!D107+'[1]SR 32 & Germany Rd.'!C107+'[1]SR 32 & Germany Rd.'!D107","v":0},{"$f":"'[1]SR 32 & Shuster Rd.'!E107","v":0},{"$f":"'[1]SR 32 & Shuster Rd.'!F107","v":0},{"$f":"'[1]SR 32 & Shuster Rd.'!G107","v":0},{"$f":"'[1]SR 32 & Shuster Rd.'!H107","v":0},{"$f":"'[1]SR 32 & Shuster Rd.'!I107","v":0},{"$f":"'[1]SR 32 & Shuster Rd.'!J107","v":0},{"$f":"'[1]SR 32 & Shuster Rd.'!K107","v":0},{"$f":"'[1]SR 32 & Shuster Rd.'!L107","v":0},{"$f":"'[1]SR 32 & Shuster Rd.'!M107","v":0},{"$f":"'[1]SR 32 & Shuster Rd.'!N107","v":0},{"$f":"'[1]SR 32 & Shuster Rd.'!O107","v":0},{"$f":"'[1]SR 32 & Shuster Rd.'!P107+'[1]SR 32 & Germany Rd.'!P107","v":0},{"$f":"'[1]SR 32 & Shuster Rd.'!Q107","v":0},null,"14:15:00",{"$f":"SUM(B105:B107)","v":10},1,42,0,2,60,0,0,0,4,3,0,4,64,2,0]
[{"$f":"'[1]SR 32 & Shuster Rd.'!A108","v":"14:30:00"},{"$f":"'[1]SR 32 & Shuster Rd.'!B108","v":11},{"$f":"'[1]SR 32 & Shuster Rd.'!C108","v":3},{"$f":"'[1]SR 32 & Shuster Rd.'!D108+'[1]SR 32 & Germany Rd.'!C108+'[1]SR 32 & Germany Rd.'!D108","v":34},{"$f":"'[1]SR 32 & Shuster Rd.'!E108","v":0},{"$f":"'[1]SR 32 & Shuster Rd.'!F108","v":3},{"$f":"'[1]SR 32 & Shuster Rd.'!G108","v":46},{"$f":"'[1]SR 32 & Shuster Rd.'!H108","v":1},{"$f":"'[1]SR 32 & Shuster Rd.'!I108","v":0},{"$f":"'[1]SR 32 & Shuster Rd.'!J108","v":0},{"$f":"'[1]SR 32 & Shuster Rd.'!K108","v":6},{"$f":"'[1]SR 32 & Shuster Rd.'!L108","v":3},{"$f":"'[1]SR 32 & Shuster Rd.'!M108","v":0},{"$f":"'[1]SR 32 & Shuster Rd.'!N108","v":4},{"$f":"'[1]SR 32 & Shuster Rd.'!O108","v":54},{"$f":"'[1]SR 32 & Shuster Rd.'!P108+'[1]SR 32 & Germany Rd.'!P108","v":4},{"$f":"'[1]SR 32 & Shuster Rd.'!Q108","v":0}]
[{"$f":"'[1]SR 32 & Shuster Rd.'!A109","v":"14:30:00"},{"$f":"'[1]SR 32 & Shuster Rd.'!B109","v":1},{"$f":"'[1]SR 32 & Shuster Rd.'!C109","v":0},{"$f":"'[1]SR 32 & Shuster Rd.'!D109+'[1]SR 32 & Germany Rd.'!C109+'[1]SR 32 & Germany Rd.'!D109","v":2},{"$f":"'[1]SR 32 & Shuster Rd.'!E109","v":0},{"$f":"'[1]SR 32 & Shuster Rd.'!F109","v":2},{"$f":"'[1]SR 32 & Shuster Rd.'!G109","v":10},{"$f":"'[1]SR 32 & Shuster Rd.'!H109","v":0},{"$f":"'[1]SR 32 & Shuster Rd.'!I109","v":0},{"$f":"'[1]SR 32 & Shuster Rd.'!J109","v":0},{"$f":"'[1]SR 32 & Shuster Rd.'!K109","v":0},{"$f":"'[1]SR 32 & Shuster Rd.'!L109","v":0},{"$f":"'[1]SR 32 & Shuster Rd.'!M109","v":0},{"$f":"'[1]SR 32 & Shuster Rd.'!N109","v":0},{"$f":"'[1]SR 32 & Shuster Rd.'!O109","v":17},{"$f":"'[1]SR 32 & Shuster Rd.'!P109+'[1]SR 32 & Germany Rd.'!P109","v":2},{"$f":"'[1]SR 32 & Shuster Rd.'!Q109","v":0}]
[{"$f":"'[1]SR 32 & Shuster Rd.'!A110","v":"14:30:00"},{"$f":"'[1]SR 32 & Shuster Rd.'!B110","v":0},{"$f":"'[1]SR 32 & Shuster Rd.'!C110","v":0},{"$f":"'[1]SR 32 & Shuster Rd.'!D110+'[1]SR 32 & Germany Rd.'!C110+'[1]SR 32 & Germany Rd.'!D110","v":0},{"$f":"'[1]SR 32 & Shuster Rd.'!E110","v":0},{"$f":"'[1]SR 32 & Shuster Rd.'!F110","v":0},{"$f":"'[1]SR 32 & Shuster Rd.'!G110","v":0},{"$f":"'[1]SR 32 & Shuster Rd.'!H110","v":0},{"$f":"'[1]SR 32 & Shuster Rd.'!I110","v":0},{"$f":"'[1]SR 32 & Shuster Rd.'!J110","v":0},{"$f":"'[1]SR 32 & Shuster Rd.'!K110","v":0},{"$f":"'[1]SR 32 & Shuster Rd.'!L110","v":0},{"$f":"'[1]SR 32 & Shuster Rd.'!M110","v":0},{"$f":"'[1]SR 32 & Shuster Rd.'!N110","v":0},{"$f":"'[1]SR 32 & Shuster Rd.'!O110","v":0},{"$f":"'[1]SR 32 & Shuster Rd.'!P110+'[1]SR 32 & Germany Rd.'!P110","v":0},{"$f":"'[1]SR 32 & Shuster Rd.'!Q110","v":0},null,"14:30:00",{"$f":"SUM(B108:B110)","v":12},3,36,0,5,56,1,0,0,6,3,0,4,71,6,0]
[{"$f":"'[1]SR 32 & Shuster Rd.'!A111","v":"14:45:00"},{"$f":"'[1]SR 32 & Shuster Rd.'!B111","v":7},{"$f":"'[1]SR 32 & Shuster Rd.'!C111","v":5},{"$f":"'[1]SR 32 & Shuster Rd.'!D111+'[1]SR 32 & Germany Rd.'!C111+'[1]SR 32 & Germany Rd.'!D111","v":47},{"$f":"'[1]SR 32 & Shuster Rd.'!E111","v":0},{"$f":"'[1]SR 32 & Shuster Rd.'!F111","v":1},{"$f":"'[1]SR 32 & Shuster Rd.'!G111","v":48},{"$f":"'[1]SR 32 & Shuster Rd.'!H111","v":1},{"$f":"'[1]SR 32 & Shuster Rd.'!I111","v":0},{"$f":"'[1]SR 32 & Shuster Rd.'!J111","v":1},{"$f":"'[1]SR 32 & Shuster Rd.'!K111","v":4},{"$f":"'[1]SR 32 & Shuster Rd.'!L111","v":3},{"$f":"'[1]SR 32 & Shuster Rd.'!M111","v":0},{"$f":"'[1]SR 32 & Shuster Rd.'!N111","v":3},{"$f":"'[1]SR 32 & Shuster Rd.'!O111","v":35},{"$f":"'[1]SR 32 & Shuster Rd.'!P111+'[1]SR 32 & Germany Rd.'!P111","v":9},{"$f":"'[1]SR 32 & Shuster Rd.'!Q111","v":0}]
[{"$f":"'[1]SR 32 & Shuster Rd.'!A112","v":"14:45:00"},{"$f":"'[1]SR 32 & Shuster Rd.'!B112","v":1},{"$f":"'[1]SR 32 & Shuster Rd.'!C112","v":0},{"$f":"'[1]SR 32 & Shuster Rd.'!D112+'[1]SR 32 & Germany Rd.'!C112+'[1]SR 32 & Germany Rd.'!D112","v":0},{"$f":"'[1]SR 32 & Shuster Rd.'!E112","v":0},{"$f":"'[1]SR 32 & Shuster Rd.'!F112","v":1},{"$f":"'[1]SR 32 & Shuster Rd.'!G112","v":6},{"$f":"'[1]SR 32 & Shuster Rd.'!H112","v":0},{"$f":"'[1]SR 32 & Shuster Rd.'!I112","v":0},{"$f":"'[1]SR 32 & Shuster Rd.'!J112","v":0},{"$f":"'[1]SR 32 & Shuster Rd.'!K112","v":0},{"$f":"'[1]SR 32 & Shuster Rd.'!L112","v":0},{"$f":"'[1]SR 32 & Shuster Rd.'!M112","v":0},{"$f":"'[1]SR 32 & Shuster Rd.'!N112","v":0},{"$f":"'[1]SR 32 & Shuster Rd.'!O112","v":9},{"$f":"'[1]SR 32 & Shuster Rd.'!P112+'[1]SR 32 & Germany Rd.'!P112","v":1},{"$f":"'[1]SR 32 & Shuster Rd.'!Q112","v":0}]
[{"$f":"'[1]SR 32 & Shuster Rd.'!A113","v":"14:45:00"},{"$f":"'[1]SR 32 & Shuster Rd.'!B113","v":0},{"$f":"'[1]SR 32 & Shuster Rd.'!C113","v":0},{"$f":"'[1]SR 32 & Shuster Rd.'!D113+'[1]SR 32 & Germany Rd.'!C113+'[1]SR 32 & Germany Rd.'!D113","v":0},{"$f":"'[1]SR 32 & Shuster Rd.'!E113","v":0},{"$f":"'[1]SR 32 & Shuster Rd.'!F113","v":0},{"$f":"'[1]SR 32 & Shuster Rd.'!G113","v":0},{"$f":"'[1]SR 32 & Shuster Rd.'!H113","v":0},{"$f":"'[1]SR 32 & Shuster Rd.'!I113","v":0},{"$f":"'[1]SR 32 & Shuster Rd.'!J113","v":0},{"$f":"'[1]SR 32 & Shuster Rd.'!K113","v":0},{"$f":"'[1]SR 32 & Shuster Rd.'!L113","v":0},{"$f":"'[1]SR 32 & Shuster Rd.'!M113","v":0},{"$f":"'[1]SR 32 & Shuster Rd.'!N113","v":0},{"$f":"'[1]SR 32 & Shuster Rd.'!O113","v":0},{"$f":"'[1]SR 32 & Shuster Rd.'!P113+'[1]SR 32 & Germany Rd.'!P113","v":0},{"$f":"'[1]SR 32 & Shuster Rd.'!Q113","v":0},null,"14:45:00",{"$f":"SUM(B111:B113)","v":8},5,47,0,2,54,1,0,1,4,3,0,3,44,10,0]
[{"$f":"'[1]SR 32 & Shuster Rd.'!A114","v":"15:00:00"},{"$f":"'[1]SR 32 & Shuster Rd.'!B114","v":11},{"$f":"'[1]SR 32 & Shuster Rd.'!C114","v":9},{"$f":"'[1]SR 32 & Shuster Rd.'!D114+'[1]SR 32 & Germany Rd.'!C114+'[1]SR 32 & Germany Rd.'!D114","v":71},{"$f":"'[1]SR 32 & Shuster Rd.'!E114","v":0},{"$f":"'[1]SR 32 & Shuster Rd.'!F114","v":2},{"$f":"'[1]SR 32 & Shuster Rd.'!G114","v":32},{"$f":"'[1]SR 32 & Shuster Rd.'!H114","v":0},{"$f":"'[1]SR 32 & Shuster Rd.'!I114","v":0},{"$f":"'[1]SR 32 & Shuster Rd.'!J114","v":0},{"$f":"'[1]SR 32 & Shuster Rd.'!K114","v":2},{"$f":"'[1]SR 32 & Shuster Rd.'!L114","v":2},{"$f":"'[1]SR 32 & Shuster Rd.'!M114","v":0},{"$f":"'[1]SR 32 & Shuster Rd.'!N114","v":6},{"$f":"'[1]SR 32 & Shuster Rd.'!O114","v":43},{"$f":"'[1]SR 32 & Shuster Rd.'!P114+'[1]SR 32 & Germany Rd.'!P114","v":9},{"$f":"'[1]SR 32 & Shuster Rd.'!Q114","v":0},null,"Movement Total",{"$f":"SUM(T104,T107,T110,T113)","v":52},12,161,0,12,219,3,0,2,16,15,0,16,218,27,0,null,0.4,"-",{"$f":"IF(X$2=FALSE,LOOKUP((Y114+X114)/$AM$4,'Main Line Reduction Table'!$A$1:$B$21,'Main Line Reduction Table'!$C$1:$C$21),LOOKUP(Y114/$AM$4,'Main Line Reduction Table'!$A$1:$B$21,'Main Line Reduction Table'!$C$1:$C$21))","v":0},"=",{"$f":"AK114-AM114","v":0.4},null,0.2,"-",{"$f":"IF(AF$2=FALSE,LOOKUP((AG114+AF114)/$AS$4,'Main Line Reduction Table'!$A$1:$B$21,'Main Line Reduction Table'!$C$1:$C$21),LOOKUP(AG114/$AS$4,'Main Line Reduction Table'!$A$1:$B$21,'Main Line Reduction Table'!$C$1:$C$21))","v":0},"=",{"$f":"AQ114-AS114","v":0.2}]
[{"$f":"'[1]SR 32 & Shuster Rd.'!A115","v":"15:00:00"},{"$f":"'[1]SR 32 & Shuster Rd.'!B115","v":0},{"$f":"'[1]SR 32 & Shuster Rd.'!C115","v":0},{"$f":"'[1]SR 32 & Shuster Rd.'!D115+'[1]SR 32 & Germany Rd.'!C115+'[1]SR 32 & Germany Rd.'!D115","v":1},{"$f":"'[1]SR 32 & Shuster Rd.'!E115","v":0},{"$f":"'[1]SR 32 & Shuster Rd.'!F115","v":0},{"$f":"'[1]SR 32 & Shuster Rd.'!G115","v":4},{"$f":"'[1]SR 32 & Shuster Rd.'!H115","v":0},{"$f":"'[1]SR 32 & Shuster Rd.'!I115","v":0},{"$f":"'[1]SR 32 & Shuster Rd.'!J115","v":0},{"$f":"'[1]SR 32 & Shuster Rd.'!K115","v":0},{"$f":"'[1]SR 32 & Shuster Rd.'!L115","v":0},{"$f":"'[1]SR 32 & Shuster Rd.'!M115","v":0},{"$f":"'[1]SR 32 & Shuster Rd.'!N115","v":0},{"$f":"'[1]SR 32 & Shuster Rd.'!O115","v":6},{"$f":"'[1]SR 32 & Shuster Rd.'!P115+'[1]SR 32 & Germany Rd.'!P115","v":1},{"$f":"'[1]SR 32 & Shuster Rd.'!Q115","v":0},null,"Reduced Movement Total",{"$f":"T114*(1-AO114)","v":31.2},{"$f":"(T114*(1-$AO114))+U114+V114","v":204.2},null,null,{"$f":"X114+Y114+Z114","v":234},null,null,null,{"$f":"AB114*(1-AU114)","v":1.6},{"$f":"(AB114*(1-$AO114))+AC114+AD114","v":32.200000000000003},null,null,{"$f":"AF114+AG114+AH114","v":261}]
[{"$f":"'[1]SR 32 & Shuster Rd.'!A116","v":"15:00:00"},{"$f":"'[1]SR 32 & Shuster Rd.'!B116","v":0},{"$f":"'[1]SR 32 & Shuster Rd.'!C116","v":0},{"$f":"'[1]SR 32 & Shuster Rd.'!D116+'[1]SR 32 & Germany Rd.'!C116+'[1]SR 32 & Germany Rd.'!D116","v":0},{"$f":"'[1]SR 32 & Shuster Rd.'!E116","v":0},{"$f":"'[1]SR 32 & Shuster Rd.'!F116","v":0},{"$f":"'[1]SR 32 & Shuster Rd.'!G116","v":0},{"$f":"'[1]SR 32 & Shuster Rd.'!H116","v":0},{"$f":"'[1]SR 32 & Shuster Rd.'!I116","v":0},{"$f":"'[1]SR 32 & Shuster Rd.'!J116","v":0},{"$f":"'[1]SR 32 & Shuster Rd.'!K116","v":0},{"$f":"'[1]SR 32 & Shuster Rd.'!L116","v":0},{"$f":"'[1]SR 32 & Shuster Rd.'!M116","v":0},{"$f":"'[1]SR 32 & Shuster Rd.'!N116","v":0},{"$f":"'[1]SR 32 & Shuster Rd.'!O116","v":0},{"$f":"'[1]SR 32 & Shuster Rd.'!P116+'[1]SR 32 & Germany Rd.'!P116","v":0},{"$f":"'[1]SR 32 & Shuster Rd.'!Q116","v":0},null,"15:00:00",{"$f":"SUM(B114:B116)","v":11},9,72,0,2,36,0,0,0,2,2,0,6,49,10,0]
[{"$f":"'[1]SR 32 & Shuster Rd.'!A117","v":"15:15:00"},{"$f":"'[1]SR 32 & Shuster Rd.'!B117","v":7},{"$f":"'[1]SR 32 & Shuster Rd.'!C117","v":5},{"$f":"'[1]SR 32 & Shuster Rd.'!D117+'[1]SR 32 & Germany Rd.'!C117+'[1]SR 32 & Germany Rd.'!D117","v":55},{"$f":"'[1]SR 32 & Shuster Rd.'!E117","v":0},{"$f":"'[1]SR 32 & Shuster Rd.'!F117","v":1},{"$f":"'[1]SR 32 & Shuster Rd.'!G117","v":44},{"$f":"'[1]SR 32 & Shuster Rd.'!H117","v":3},{"$f":"'[1]SR 32 & Shuster Rd.'!I117","v":0},{"$f":"'[1]SR 32 & Shuster Rd.'!J117","v":1},{"$f":"'[1]SR 32 & Shuster Rd.'!K117","v":6},{"$f":"'[1]SR 32 & Shuster Rd.'!L117","v":1},{"$f":"'[1]SR 32 & Shuster Rd.'!M117","v":0},{"$f":"'[1]SR 32 & Shuster Rd.'!N117","v":2},{"$f":"'[1]SR 32 & Shuster Rd.'!O117","v":52},{"$f":"'[1]SR 32 & Shuster Rd.'!P117+'[1]SR 32 & Germany Rd.'!P117","v":2},{"$f":"'[1]SR 32 & Shuster Rd.'!Q117","v":0}]
[{"$f":"'[1]SR 32 & Shuster Rd.'!A118","v":"15:15:00"},{"$f":"'[1]SR 32 & Shuster Rd.'!B118","v":1},{"$f":"'[1]SR 32 & Shuster Rd.'!C118","v":0},{"$f":"'[1]SR 32 & Shuster Rd.'!D118+'[1]SR 32 & Germany Rd.'!C118+'[1]SR 32 & Germany Rd.'!D118","v":1},{"$f":"'[1]SR 32 & Shuster Rd.'!E118","v":0},{"$f":"'[1]SR 32 & Shuster Rd.'!F118","v":1},{"$f":"'[1]SR 32 & Shuster Rd.'!G118","v":8},{"$f":"'[1]SR 32 & Shuster Rd.'!H118","v":0},{"$f":"'[1]SR 32 & Shuster Rd.'!I118","v":0},{"$f":"'[1]SR 32 & Shuster Rd.'!J118","v":0},{"$f":"'[1]SR 32 & Shuster Rd.'!K118","v":0},{"$f":"'[1]SR 32 & Shuster Rd.'!L118","v":0},{"$f":"'[1]SR 32 & Shuster Rd.'!M118","v":0},{"$f":"'[1]SR 32 & Shuster Rd.'!N118","v":0},{"$f":"'[1]SR 32 & Shuster Rd.'!O118","v":4},{"$f":"'[1]SR 32 & Shuster Rd.'!P118+'[1]SR 32 & Germany Rd.'!P118","v":1},{"$f":"'[1]SR 32 & Shuster Rd.'!Q118","v":0}]
[{"$f":"'[1]SR 32 & Shuster Rd.'!A119","v":"15:15:00"},{"$f":"'[1]SR 32 & Shuster Rd.'!B119","v":0},{"$f":"'[1]SR 32 & Shuster Rd.'!C119","v":0},{"$f":"'[1]SR 32 & Shuster Rd.'!D119+'[1]SR 32 & Germany Rd.'!C119+'[1]SR 32 & Germany Rd.'!D119","v":0},{"$f":"'[1]SR 32 & Shuster Rd.'!E119","v":0},{"$f":"'[1]SR 32 & Shuster Rd.'!F119","v":0},{"$f":"'[1]SR 32 & Shuster Rd.'!G119","v":0},{"$f":"'[1]SR 32 & Shuster Rd.'!H119","v":0},{"$f":"'[1]SR 32 & Shuster Rd.'!I119","v":0},{"$f":"'[1]SR 32 & Shuster Rd.'!J119","v":0},{"$f":"'[1]SR 32 & Shuster Rd.'!K119","v":0},{"$f":"'[1]SR 32 & Shuster Rd.'!L119","v":0},{"$f":"'[1]SR 32 & Shuster Rd.'!M119","v":0},{"$f":"'[1]SR 32 & Shuster Rd.'!N119","v":0},{"$f":"'[1]SR 32 & Shuster Rd.'!O119","v":0},{"$f":"'[1]SR 32 & Shuster Rd.'!P119+'[1]SR 32 & Germany Rd.'!P119","v":0},{"$f":"'[1]SR 32 & Shuster Rd.'!Q119","v":0},null,"15:15:00",{"$f":"SUM(B117:B119)","v":8},5,56,0,2,52,3,0,1,6,1,0,2,56,3,0]
[{"$f":"'[1]SR 32 & Shuster Rd.'!A120","v":"15:30:00"},{"$f":"'[1]SR 32 & Shuster Rd.'!B120","v":11},{"$f":"'[1]SR 32 & Shuster Rd.'!C120","v":4},{"$f":"'[1]SR 32 & Shuster Rd.'!D120+'[1]SR 32 & Germany Rd.'!C120+'[1]SR 32 & Germany Rd.'!D120","v":53},{"$f":"'[1]SR 32 & Shuster Rd.'!E120","v":0},{"$f":"'[1]SR 32 & Shuster Rd.'!F120","v":2},{"$f":"'[1]SR 32 & Shuster Rd.'!G120","v":43},{"$f":"'[1]SR 32 & Shuster Rd.'!H120","v":1},{"$f":"'[1]SR 32 & Shuster Rd.'!I120","v":0},{"$f":"'[1]SR 32 & Shuster Rd.'!J120","v":3},{"$f":"'[1]SR 32 & Shuster Rd.'!K120","v":5},{"$f":"'[1]SR 32 & Shuster Rd.'!L120","v":4},{"$f":"'[1]SR 32 & Shuster Rd.'!M120","v":0},{"$f":"'[1]SR 32 & Shuster Rd.'!N120","v":4},{"$f":"'[1]SR 32 & Shuster Rd.'!O120","v":59},{"$f":"'[1]SR 32 & Shuster Rd.'!P120+'[1]SR 32 & Germany Rd.'!P120","v":14},{"$f":"'[1]SR 32 & Shuster Rd.'!Q120","v":0}]
[{"$f":"'[1]SR 32 & Shuster Rd.'!A121","v":"15:30:00"},{"$f":"'[1]SR 32 & Shuster Rd.'!B121","v":0},{"$f":"'[1]SR 32 & Shuster Rd.'!C121","v":0},{"$f":"'[1]SR 32 & Shuster Rd.'!D121+'[1]SR 32 & Germany Rd.'!C121+'[1]SR 32 & Germany Rd.'!D121","v":0},{"$f":"'[1]SR 32 & Shuster Rd.'!E121","v":0},{"$f":"'[1]SR 32 & Shuster Rd.'!F121","v":0},{"$f":"'[1]SR 32 & Shuster Rd.'!G121","v":4},{"$f":"'[1]SR 32 & Shuster Rd.'!H121","v":0},{"$f":"'[1]SR 32 & Shuster Rd.'!I121","v":0},{"$f":"'[1]SR 32 & Shuster Rd.'!J121","v":0},{"$f":"'[1]SR 32 & Shuster Rd.'!K121","v":0},{"$f":"'[1]SR 32 & Shuster Rd.'!L121","v":0},{"$f":"'[1]SR 32 & Shuster Rd.'!M121","v":0},{"$f":"'[1]SR 32 & Shuster Rd.'!N121","v":1},{"$f":"'[1]SR 32 & Shuster Rd.'!O121","v":6},{"$f":"'[1]SR 32 & Shuster Rd.'!P121+'[1]SR 32 & Germany Rd.'!P121","v":0},{"$f":"'[1]SR 32 & Shuster Rd.'!Q121","v":0}]
[{"$f":"'[1]SR 32 & Shuster Rd.'!A122","v":"15:30:00"},{"$f":"'[1]SR 32 & Shuster Rd.'!B122","v":0},{"$f":"'[1]SR 32 & Shuster Rd.'!C122","v":0},{"$f":"'[1]SR 32 & Shuster Rd.'!D122+'[1]SR 32 & Germany Rd.'!C122+'[1]SR 32 & Germany Rd.'!D122","v":0},{"$f":"'[1]SR 32 & Shuster Rd.'!E122","v":0},{"$f":"'[1]SR 32 & Shuster Rd.'!F122","v":0},{"$f":"'[1]SR 32 & Shuster Rd.'!G122","v":0},{"$f":"'[1]SR 32 & Shuster Rd.'!H122","v":0},{"$f":"'[1]SR 32 & Shuster Rd.'!I122","v":0},{"$f":"'[1]SR 32 & Shuster Rd.'!J122","v":0},{"$f":"'[1]SR 32 & Shuster Rd.'!K122","v":0},{"$f":"'[1]SR 32 & Shuster Rd.'!L122","v":0},{"$f":"'[1]SR 32 & Shuster Rd.'!M122","v":0},{"$f":"'[1]SR 32 & Shuster Rd.'!N122","v":0},{"$f":"'[1]SR 32 & Shuster Rd.'!O122","v":0},{"$f":"'[1]SR 32 & Shuster Rd.'!P122+'[1]SR 32 & Germany Rd.'!P122","v":0},{"$f":"'[1]SR 32 & Shuster Rd.'!Q122","v":0},null,"15:30:00",{"$f":"SUM(B120:B122)","v":11},4,53,0,2,47,1,0,3,5,4,0,5,65,14,0]
[{"$f":"'[1]SR 32 & Shuster Rd.'!A123","v":"15:45:00"},{"$f":"'[1]SR 32 & Shuster Rd.'!B123","v":3},{"$f":"'[1]SR 32 & Shuster Rd.'!C123","v":6},{"$f":"'[1]SR 32 & Shuster Rd.'!D123+'[1]SR 32 & Germany Rd.'!C123+'[1]SR 32 & Germany Rd.'!D123","v":35},{"$f":"'[1]SR 32 & Shuster Rd.'!E123","v":0},{"$f":"'[1]SR 32 & Shuster Rd.'!F123","v":2},{"$f":"'[1]SR 32 & Shuster Rd.'!G123","v":48},{"$f":"'[1]SR 32 & Shuster Rd.'!H123","v":1},{"$f":"'[1]SR 32 & Shuster Rd.'!I123","v":0},{"$f":"'[1]SR 32 & Shuster Rd.'!J123","v":0},{"$f":"'[1]SR 32 & Shuster Rd.'!K123","v":4},{"$f":"'[1]SR 32 & Shuster Rd.'!L123","v":1},{"$f":"'[1]SR 32 & Shuster Rd.'!M123","v":0},{"$f":"'[1]SR 32 & Shuster Rd.'!N123","v":2},{"$f":"'[1]SR 32 & Shuster Rd.'!O123","v":65},{"$f":"'[1]SR 32 & Shuster Rd.'!P123+'[1]SR 32 & Germany Rd.'!P123","v":10},{"$f":"'[1]SR 32 & Shuster Rd.'!Q123","v":0}]
[{"$f":"'[1]SR 32 & Shuster Rd.'!A124","v":"15:45:00"},{"$f":"'[1]SR 32 & Shuster Rd.'!B124","v":0},{"$f":"'[1]SR 32 & Shuster Rd.'!C124","v":0},{"$f":"'[1]SR 32 & Shuster Rd.'!D124+'[1]SR 32 & Germany Rd.'!C124+'[1]SR 32 & Germany Rd.'!D124","v":1},{"$f":"'[1]SR 32 & Shuster Rd.'!E124","v":0},{"$f":"'[1]SR 32 & Shuster Rd.'!F124","v":0},{"$f":"'[1]SR 32 & Shuster Rd.'!G124","v":13},{"$f":"'[1]SR 32 & Shuster Rd.'!H124","v":0},{"$f":"'[1]SR 32 & Shuster Rd.'!I124","v":0},{"$f":"'[1]SR 32 & Shuster Rd.'!J124","v":0},{"$f":"'[1]SR 32 & Shuster Rd.'!K124","v":0},{"$f":"'[1]SR 32 & Shuster Rd.'!L124","v":0},{"$f":"'[1]SR 32 & Shuster Rd.'!M124","v":0},{"$f":"'[1]SR 32 & Shuster Rd.'!N124","v":1},{"$f":"'[1]SR 32 & Shuster Rd.'!O124","v":6},{"$f":"'[1]SR 32 & Shuster Rd.'!P124+'[1]SR 32 & Germany Rd.'!P124","v":2},{"$f":"'[1]SR 32 & Shuster Rd.'!Q124","v":0}]
[{"$f":"'[1]SR 32 & Shuster Rd.'!A125","v":"15:45:00"},{"$f":"'[1]SR 32 & Shuster Rd.'!B125","v":0},{"$f":"'[1]SR 32 & Shuster Rd.'!C125","v":0},{"$f":"'[1]SR 32 & Shuster Rd.'!D125+'[1]SR 32 & Germany Rd.'!C125+'[1]SR 32 & Germany Rd.'!D125","v":0},{"$f":"'[1]SR 32 & Shuster Rd.'!E125","v":0},{"$f":"'[1]SR 32 & Shuster Rd.'!F125","v":0},{"$f":"'[1]SR 32 & Shuster Rd.'!G125","v":0},{"$f":"'[1]SR 32 & Shuster Rd.'!H125","v":0},{"$f":"'[1]SR 32 & Shuster Rd.'!I125","v":0},{"$f":"'[1]SR 32 & Shuster Rd.'!J125","v":0},{"$f":"'[1]SR 32 & Shuster Rd.'!K125","v":0},{"$f":"'[1]SR 32 & Shuster Rd.'!L125","v":0},{"$f":"'[1]SR 32 & Shuster Rd.'!M125","v":0},{"$f":"'[1]SR 32 & Shuster Rd.'!N125","v":0},{"$f":"'[1]SR 32 & Shuster Rd.'!O125","v":0},{"$f":"'[1]SR 32 & Shuster Rd.'!P125+'[1]SR 32 & Germany Rd.'!P125","v":0},{"$f":"'[1]SR 32 & Shuster Rd.'!Q125","v":0},null,"15:45:00",{"$f":"SUM(B123:B125)","v":3},6,36,0,2,61,1,0,0,4,1,0,3,71,12,0]
[{"$f":"'[1]SR 32 & Shuster Rd.'!A126","v":"16:00:00"},{"$f":"'[1]SR 32 & Shuster Rd.'!B126","v":6},{"$f":"'[1]SR 32 & Shuster Rd.'!C126","v":14},{"$f":"'[1]SR 32 & Shuster Rd.'!D126+'[1]SR 32 & Germany Rd.'!C126+'[1]SR 32 & Germany Rd.'!D126","v":54},{"$f":"'[1]SR 32 & Shuster Rd.'!E126","v":0},{"$f":"'[1]SR 32 & Shuster Rd.'!F126","v":2},{"$f":"'[1]SR 32 & Shuster Rd.'!G126","v":45},{"$f":"'[1]SR 32 & Shuster Rd.'!H126","v":1},{"$f":"'[1]SR 32 & Shuster Rd.'!I126","v":0},{"$f":"'[1]SR 32 & Shuster Rd.'!J126","v":0},{"$f":"'[1]SR 32 & Shuster Rd.'!K126","v":2},{"$f":"'[1]SR 32 & Shuster Rd.'!L126","v":2},{"$f":"'[1]SR 32 & Shuster Rd.'!M126","v":0},{"$f":"'[1]SR 32 & Shuster Rd.'!N126","v":2},{"$f":"'[1]SR 32 & Shuster Rd.'!O126","v":85},{"$f":"'[1]SR 32 & Shuster Rd.'!P126+'[1]SR 32 & Germany Rd.'!P126","v":7},{"$f":"'[1]SR 32 & Shuster Rd.'!Q126","v":0},null,"Movement Total",{"$f":"SUM(T116,T119,T122,T125)","v":33},24,217,0,8,196,5,0,4,17,8,0,16,241,39,0,null,0.2,"-",{"$f":"IF(X$2=FALSE,LOOKUP((Y126+X126)/$AM$4,'Main Line Reduction Table'!$A$1:$B$21,'Main Line Reduction Table'!$C$1:$C$21),LOOKUP(Y126/$AM$4,'Main Line Reduction Table'!$A$1:$B$21,'Main Line Reduction Table'!$C$1:$C$21))","v":0},"=",{"$f":"AK126-AM126","v":0.2},null,0.2,"-",{"$f":"IF(AF$2=FALSE,LOOKUP((AG126+AF126)/$AS$4,'Main Line Reduction Table'!$A$1:$B$21,'Main Line Reduction Table'!$C$1:$C$21),LOOKUP(AG126/$AS$4,'Main Line Reduction Table'!$A$1:$B$21,'Main Line Reduction Table'!$C$1:$C$21))","v":0},"=",{"$f":"AQ126-AS126","v":0.2}]
[{"$f":"'[1]SR 32 & Shuster Rd.'!A127","v":"16:00:00"},{"$f":"'[1]SR 32 & Shuster Rd.'!B127","v":0},{"$f":"'[1]SR 32 & Shuster Rd.'!C127","v":0},{"$f":"'[1]SR 32 & Shuster Rd.'!D127+'[1]SR 32 & Germany Rd.'!C127+'[1]SR 32 & Germany Rd.'!D127","v":2},{"$f":"'[1]SR 32 & Shuster Rd.'!E127","v":0},{"$f":"'[1]SR 32 & Shuster Rd.'!F127","v":0},{"$f":"'[1]SR 32 & Shuster Rd.'!G127","v":5},{"$f":"'[1]SR 32 & Shuster Rd.'!H127","v":0},{"$f":"'[1]SR 32 & Shuster Rd.'!I127","v":0},{"$f":"'[1]SR 32 & Shuster Rd.'!J127","v":0},{"$f":"'[1]SR 32 & Shuster Rd.'!K127","v":0},{"$f":"'[1]SR 32 & Shuster Rd.'!L127","v":0},{"$f":"'[1]SR 32 & Shuster Rd.'!M127","v":0},{"$f":"'[1]SR 32 & Shuster Rd.'!N127","v":0},{"$f":"'[1]SR 32 & Shuster Rd.'!O127","v":8},{"$f":"'[1]SR 32 & Shuster Rd.'!P127+'[1]SR 32 & Germany Rd.'!P127","v":0},{"$f":"'[1]SR 32 & Shuster Rd.'!Q127","v":0},null,"Reduced Movement Total",{"$f":"T126*(1-AO126)","v":26.400000000000002},{"$f":"(T126*(1-$AO126))+U126+V126","v":267.39999999999998},null,null,{"$f":"X126+Y126+Z126","v":209},null,null,null,{"$f":"AB126*(1-AU126)","v":3.2},{"$f":"(AB126*(1-$AO126))+AC126+AD126","v":28.2},null,null,{"$f":"AF126+AG126+AH126","v":296}]
[{"$f":"'[1]SR 32 & Shuster Rd.'!A128","v":"16:00:00"},{"$f":"'[1]SR 32 & Shuster Rd.'!B128","v":0},{"$f":"'[1]SR 32 & Shuster Rd.'!C128","v":0},{"$f":"'[1]SR 32 & Shuster Rd.'!D128+'[1]SR 32 & Germany Rd.'!C128+'[1]SR 32 & Germany Rd.'!D128","v":0},{"$f":"'[1]SR 32 & Shuster Rd.'!E128","v":0},{"$f":"'[1]SR 32 & Shuster Rd.'!F128","v":0},{"$f":"'[1]SR 32 & Shuster Rd.'!G128","v":0},{"$f":"'[1]SR 32 & Shuster Rd.'!H128","v":0},{"$f":"'[1]SR 32 & Shuster Rd.'!I128","v":0},{"$f":"'[1]SR 32 & Shuster Rd.'!J128","v":0},{"$f":"'[1]SR 32 & Shuster Rd.'!K128","v":0},{"$f":"'[1]SR 32 & Shuster Rd.'!L128","v":0},{"$f":"'[1]SR 32 & Shuster Rd.'!M128","v":0},{"$f":"'[1]SR 32 & Shuster Rd.'!N128","v":0},{"$f":"'[1]SR 32 & Shuster Rd.'!O128","v":0},{"$f":"'[1]SR 32 & Shuster Rd.'!P128+'[1]SR 32 & Germany Rd.'!P128","v":0},{"$f":"'[1]SR 32 & Shuster Rd.'!Q128","v":0},null,"16:00:00",{"$f":"SUM(B126:B128)","v":6},14,56,0,2,50,1,0,0,2,2,0,2,93,7,0]
[{"$f":"'[1]SR 32 & Shuster Rd.'!A129","v":"16:15:00"},{"$f":"'[1]SR 32 & Shuster Rd.'!B129","v":9},{"$f":"'[1]SR 32 & Shuster Rd.'!C129","v":12},{"$f":"'[1]SR 32 & Shuster Rd.'!D129+'[1]SR 32 & Germany Rd.'!C129+'[1]SR 32 & Germany Rd.'!D129","v":55},{"$f":"'[1]SR 32 & Shuster Rd.'!E129","v":0},{"$f":"'[1]SR 32 & Shuster Rd.'!F129","v":2},{"$f":"'[1]SR 32 & Shuster Rd.'!G129","v":38},{"$f":"'[1]SR 32 & Shuster Rd.'!H129","v":0},{"$f":"'[1]SR 32 & Shuster Rd.'!I129","v":0},{"$f":"'[1]SR 32 & Shuster Rd.'!J129","v":2},{"$f":"'[1]SR 32 & Shuster Rd.'!K129","v":7},{"$f":"'[1]SR 32 & Shuster Rd.'!L129","v":2},{"$f":"'[1]SR 32 & Shuster Rd.'!M129","v":0},{"$f":"'[1]SR 32 & Shuster Rd.'!N129","v":0},{"$f":"'[1]SR 32 & Shuster Rd.'!O129","v":77},{"$f":"'[1]SR 32 & Shuster Rd.'!P129+'[1]SR 32 & Germany Rd.'!P129","v":7},{"$f":"'[1]SR 32 & Shuster Rd.'!Q129","v":0}]
[{"$f":"'[1]SR 32 & Shuster Rd.'!A130","v":"16:15:00"},{"$f":"'[1]SR 32 & Shuster Rd.'!B130","v":0},{"$f":"'[1]SR 32 & Shuster Rd.'!C130","v":1},{"$f":"'[1]SR 32 & Shuster Rd.'!D130+'[1]SR 32 & Germany Rd.'!C130+'[1]SR 32 & Germany Rd.'!D130","v":1},{"$f":"'[1]SR 32 & Shuster Rd.'!E130","v":0},{"$f":"'[1]SR 32 & Shuster Rd.'!F130","v":1},{"$f":"'[1]SR 32 & Shuster Rd.'!G130","v":7},{"$f":"'[1]SR 32 & Shuster Rd.'!H130","v":0},{"$f":"'[1]SR 32 & Shuster Rd.'!I130","v":0},{"$f":"'[1]SR 32 & Shuster Rd.'!J130","v":0},{"$f":"'[1]SR 32 & Shuster Rd.'!K130","v":0},{"$f":"'[1]SR 32 & Shuster Rd.'!L130","v":0},{"$f":"'[1]SR 32 & Shuster Rd.'!M130","v":0},{"$f":"'[1]SR 32 & Shuster Rd.'!N130","v":0},{"$f":"'[1]SR 32 & Shuster Rd.'!O130","v":4},{"$f":"'[1]SR 32 & Shuster Rd.'!P130+'[1]SR 32 & Germany Rd.'!P130","v":0},{"$f":"'[1]SR 32 & Shuster Rd.'!Q130","v":0}]
[{"$f":"'[1]SR 32 & Shuster Rd.'!A131","v":"16:15:00"},{"$f":"'[1]SR 32 & Shuster Rd.'!B131","v":0},{"$f":"'[1]SR 32 & Shuster Rd.'!C131","v":0},{"$f":"'[1]SR 32 & Shuster Rd.'!D131+'[1]SR 32 & Germany Rd.'!C131+'[1]SR 32 & Germany Rd.'!D131","v":0},{"$f":"'[1]SR 32 & Shuster Rd.'!E131","v":0},{"$f":"'[1]SR 32 & Shuster Rd.'!F131","v":0},{"$f":"'[1]SR 32 & Shuster Rd.'!G131","v":0},{"$f":"'[1]SR 32 & Shuster Rd.'!H131","v":0},{"$f":"'[1]SR 32 & Shuster Rd.'!I131","v":0},{"$f":"'[1]SR 32 & Shuster Rd.'!J131","v":0},{"$f":"'[1]SR 32 & Shuster Rd.'!K131","v":0},{"$f":"'[1]SR 32 & Shuster Rd.'!L131","v":0},{"$f":"'[1]SR 32 & Shuster Rd.'!M131","v":0},{"$f":"'[1]SR 32 & Shuster Rd.'!N131","v":0},{"$f":"'[1]SR 32 & Shuster Rd.'!O131","v":0},{"$f":"'[1]SR 32 & Shuster Rd.'!P131+'[1]SR 32 & Germany Rd.'!P131","v":0},{"$f":"'[1]SR 32 & Shuster Rd.'!Q131","v":0},null,"16:15:00",{"$f":"SUM(B129:B131)","v":9},13,56,0,3,45,0,0,2,7,2,0,0,81,7,0]
[{"$f":"'[1]SR 32 & Shuster Rd.'!A132","v":"16:30:00"},{"$f":"'[1]SR 32 & Shuster Rd.'!B132","v":16},{"$f":"'[1]SR 32 & Shuster Rd.'!C132","v":5},{"$f":"'[1]SR 32 & Shuster Rd.'!D132+'[1]SR 32 & Germany Rd.'!C132+'[1]SR 32 & Germany Rd.'!D132","v":68},{"$f":"'[1]SR 32 & Shuster Rd.'!E132","v":0},{"$f":"'[1]SR 32 & Shuster Rd.'!F132","v":1},{"$f":"'[1]SR 32 & Shuster Rd.'!G132","v":45},{"$f":"'[1]SR 32 & Shuster Rd.'!H132","v":0},{"$f":"'[1]SR 32 & Shuster Rd.'!I132","v":0},{"$f":"'[1]SR 32 & Shuster Rd.'!J132","v":0},{"$f":"'[1]SR 32 & Shuster Rd.'!K132","v":3},{"$f":"'[1]SR 32 & Shuster Rd.'!L132","v":3},{"$f":"'[1]SR 32 & Shuster Rd.'!M132","v":0},{"$f":"'[1]SR 32 & Shuster Rd.'!N132","v":2},{"$f":"'[1]SR 32 & Shuster Rd.'!O132","v":70},{"$f":"'[1]SR 32 & Shuster Rd.'!P132+'[1]SR 32 & Germany Rd.'!P132","v":7},{"$f":"'[1]SR 32 & Shuster Rd.'!Q132","v":0}]
[{"$f":"'[1]SR 32 & Shuster Rd.'!A133","v":"16:30:00"},{"$f":"'[1]SR 32 & Shuster Rd.'!B133","v":1},{"$f":"'[1]SR 32 & Shuster Rd.'!C133","v":0},{"$f":"'[1]SR 32 & Shuster Rd.'!D133+'[1]SR 32 & Germany Rd.'!C133+'[1]SR 32 & Germany Rd.'!D133","v":2},{"$f":"'[1]SR 32 & Shuster Rd.'!E133","v":0},{"$f":"'[1]SR 32 & Shuster Rd.'!F133","v":0},{"$f":"'[1]SR 32 & Shuster Rd.'!G133","v":6},{"$f":"'[1]SR 32 & Shuster Rd.'!H133","v":0},{"$f":"'[1]SR 32 & Shuster Rd.'!I133","v":0},{"$f":"'[1]SR 32 & Shuster Rd.'!J133","v":0},{"$f":"'[1]SR 32 & Shuster Rd.'!K133","v":0},{"$f":"'[1]SR 32 & Shuster Rd.'!L133","v":0},{"$f":"'[1]SR 32 & Shuster Rd.'!M133","v":0},{"$f":"'[1]SR 32 & Shuster Rd.'!N133","v":0},{"$f":"'[1]SR 32 & Shuster Rd.'!O133","v":3},{"$f":"'[1]SR 32 & Shuster Rd.'!P133+'[1]SR 32 & Germany Rd.'!P133","v":0},{"$f":"'[1]SR 32 & Shuster Rd.'!Q133","v":0}]
[{"$f":"'[1]SR 32 & Shuster Rd.'!A134","v":"16:30:00"},{"$f":"'[1]SR 32 & Shuster Rd.'!B134","v":0},{"$f":"'[1]SR 32 & Shuster Rd.'!C134","v":0},{"$f":"'[1]SR 32 & Shuster Rd.'!D134+'[1]SR 32 & Germany Rd.'!C134+'[1]SR 32 & Germany Rd.'!D134","v":0},{"$f":"'[1]SR 32 & Shuster Rd.'!E134","v":0},{"$f":"'[1]SR 32 & Shuster Rd.'!F134","v":0},{"$f":"'[1]SR 32 & Shuster Rd.'!G134","v":0},{"$f":"'[1]SR 32 & Shuster Rd.'!H134","v":0},{"$f":"'[1]SR 32 & Shuster Rd.'!I134","v":0},{"$f":"'[1]SR 32 & Shuster Rd.'!J134","v":0},{"$f":"'[1]SR 32 & Shuster Rd.'!K134","v":0},{"$f":"'[1]SR 32 & Shuster Rd.'!L134","v":0},{"$f":"'[1]SR 32 & Shuster Rd.'!M134","v":0},{"$f":"'[1]SR 32 & Shuster Rd.'!N134","v":0},{"$f":"'[1]SR 32 & Shuster Rd.'!O134","v":0},{"$f":"'[1]SR 32 & Shuster Rd.'!P134+'[1]SR 32 & Germany Rd.'!P134","v":0},{"$f":"'[1]SR 32 & Shuster Rd.'!Q134","v":0},null,"16:30:00",{"$f":"SUM(B132:B134)","v":17},5,70,0,1,51,0,0,0,3,3,0,2,73,7,0]
[{"$f":"'[1]SR 32 & Shuster Rd.'!A135","v":"16:45:00"},{"$f":"'[1]SR 32 & Shuster Rd.'!B135","v":5},{"$f":"'[1]SR 32 & Shuster Rd.'!C135","v":6},{"$f":"'[1]SR 32 & Shuster Rd.'!D135+'[1]SR 32 & Germany Rd.'!C135+'[1]SR 32 & Germany Rd.'!D135","v":57},{"$f":"'[1]SR 32 & Shuster Rd.'!E135","v":0},{"$f":"'[1]SR 32 & Shuster Rd.'!F135","v":1},{"$f":"'[1]SR 32 & Shuster Rd.'!G135","v":34},{"$f":"'[1]SR 32 & Shuster Rd.'!H135","v":0},{"$f":"'[1]SR 32 & Shuster Rd.'!I135","v":0},{"$f":"'[1]SR 32 & Shuster Rd.'!J135","v":0},{"$f":"'[1]SR 32 & Shuster Rd.'!K135","v":6},{"$f":"'[1]SR 32 & Shuster Rd.'!L135","v":1},{"$f":"'[1]SR 32 & Shuster Rd.'!M135","v":0},{"$f":"'[1]SR 32 & Shuster Rd.'!N135","v":4},{"$f":"'[1]SR 32 & Shuster Rd.'!O135","v":76},{"$f":"'[1]SR 32 & Shuster Rd.'!P135+'[1]SR 32 & Germany Rd.'!P135","v":4},{"$f":"'[1]SR 32 & Shuster Rd.'!Q135","v":0}]
[{"$f":"'[1]SR 32 & Shuster Rd.'!A136","v":"16:45:00"},{"$f":"'[1]SR 32 & Shuster Rd.'!B136","v":0},{"$f":"'[1]SR 32 & Shuster Rd.'!C136","v":0},{"$f":"'[1]SR 32 & Shuster Rd.'!D136+'[1]SR 32 & Germany Rd.'!C136+'[1]SR 32 & Germany Rd.'!D136","v":0},{"$f":"'[1]SR 32 & Shuster Rd.'!E136","v":0},{"$f":"'[1]SR 32 & Shuster Rd.'!F136","v":0},{"$f":"'[1]SR 32 & Shuster Rd.'!G136","v":5},{"$f":"'[1]SR 32 & Shuster Rd.'!H136","v":0},{"$f":"'[1]SR 32 & Shuster Rd.'!I136","v":0},{"$f":"'[1]SR 32 & Shuster Rd.'!J136","v":0},{"$f":"'[1]SR 32 & Shuster Rd.'!K136","v":1},{"$f":"'[1]SR 32 & Shuster Rd.'!L136","v":0},{"$f":"'[1]SR 32 & Shuster Rd.'!M136","v":0},{"$f":"'[1]SR 32 & Shuster Rd.'!N136","v":0},{"$f":"'[1]SR 32 & Shuster Rd.'!O136","v":18},{"$f":"'[1]SR 32 & Shuster Rd.'!P136+'[1]SR 32 & Germany Rd.'!P136","v":1},{"$f":"'[1]SR 32 & Shuster Rd.'!Q136","v":0}]
[{"$f":"'[1]SR 32 & Shuster Rd.'!A137","v":"16:45:00"},{"$f":"'[1]SR 32 & Shuster Rd.'!B137","v":0},{"$f":"'[1]SR 32 & Shuster Rd.'!C137","v":0},{"$f":"'[1]SR 32 & Shuster Rd.'!D137+'[1]SR 32 & Germany Rd.'!C137+'[1]SR 32 & Germany Rd.'!D137","v":0},{"$f":"'[1]SR 32 & Shuster Rd.'!E137","v":0},{"$f":"'[1]SR 32 & Shuster Rd.'!F137","v":0},{"$f":"'[1]SR 32 & Shuster Rd.'!G137","v":0},{"$f":"'[1]SR 32 & Shuster Rd.'!H137","v":0},{"$f":"'[1]SR 32 & Shuster Rd.'!I137","v":0},{"$f":"'[1]SR 32 & Shuster Rd.'!J137","v":0},{"$f":"'[1]SR 32 & Shuster Rd.'!K137","v":0},{"$f":"'[1]SR 32 & Shuster Rd.'!L137","v":0},{"$f":"'[1]SR 32 & Shuster Rd.'!M137","v":0},{"$f":"'[1]SR 32 & Shuster Rd.'!N137","v":0},{"$f":"'[1]SR 32 & Shuster Rd.'!O137","v":0},{"$f":"'[1]SR 32 & Shuster Rd.'!P137+'[1]SR 32 & Germany Rd.'!P137","v":0},{"$f":"'[1]SR 32 & Shuster Rd.'!Q137","v":0},null,"16:45:00",{"$f":"SUM(B135:B137)","v":5},6,57,0,1,39,0,0,0,7,1,0,4,94,5,0]
[{"$f":"'[1]SR 32 & Shuster Rd.'!A138","v":"17:00:00"},{"$f":"'[1]SR 32 & Shuster Rd.'!B138","v":4},{"$f":"'[1]SR 32 & Shuster Rd.'!C138","v":3},{"$f":"'[1]SR 32 & Shuster Rd.'!D138+'[1]SR 32 & Germany Rd.'!C138+'[1]SR 32 & Germany Rd.'!D138","v":61},{"$f":"'[1]SR 32 & Shuster Rd.'!E138","v":0},{"$f":"'[1]SR 32 & Shuster Rd.'!F138","v":2},{"$f":"'[1]SR 32 & Shuster Rd.'!G138","v":47},{"$f":"'[1]SR 32 & Shuster Rd.'!H138","v":2},{"$f":"'[1]SR 32 & Shuster Rd.'!I138","v":0},{"$f":"'[1]SR 32 & Shuster Rd.'!J138","v":2},{"$f":"'[1]SR 32 & Shuster Rd.'!K138","v":5},{"$f":"'[1]SR 32 & Shuster Rd.'!L138","v":1},{"$f":"'[1]SR 32 & Shuster Rd.'!M138","v":0},{"$f":"'[1]SR 32 & Shuster Rd.'!N138","v":4},{"$f":"'[1]SR 32 & Shuster Rd.'!O138","v":54},{"$f":"'[1]SR 32 & Shuster Rd.'!P138+'[1]SR 32 & Germany Rd.'!P138","v":11},{"$f":"'[1]SR 32 & Shuster Rd.'!Q138","v":0},null,"Movement Total",{"$f":"SUM(T128,T131,T134,T137)","v":37},38,239,0,7,185,1,0,2,19,8,0,8,341,26,0,null,0.2,"-",{"$f":"IF(X$2=FALSE,LOOKUP((Y138+X138)/$AM$4,'Main Line Reduction Table'!$A$1:$B$21,'Main Line Reduction Table'!$C$1:$C$21),LOOKUP(Y138/$AM$4,'Main Line Reduction Table'!$A$1:$B$21,'Main Line Reduction Table'!$C$1:$C$21))","v":0},"=",{"$f":"AK138-AM138","v":0.2},null,0.2,"-",{"$f":"IF(AF$2=FALSE,LOOKUP((AG138+AF138)/$AS$4,'Main Line Reduction Table'!$A$1:$B$21,'Main Line Reduction Table'!$C$1:$C$21),LOOKUP(AG138/$AS$4,'Main Line Reduction Table'!$A$1:$B$21,'Main Line Reduction Table'!$C$1:$C$21))","v":0},"=",{"$f":"AQ138-AS138","v":0.2}]
[{"$f":"'[1]SR 32 & Shuster Rd.'!A139","v":"17:00:00"},{"$f":"'[1]SR 32 & Shuster Rd.'!B139","v":0},{"$f":"'[1]SR 32 & Shuster Rd.'!C139","v":0},{"$f":"'[1]SR 32 & Shuster Rd.'!D139+'[1]SR 32 & Germany Rd.'!C139+'[1]SR 32 & Germany Rd.'!D139","v":2},{"$f":"'[1]SR 32 & Shuster Rd.'!E139","v":0},{"$f":"'[1]SR 32 & Shuster Rd.'!F139","v":0},{"$f":"'[1]SR 32 & Shuster Rd.'!G139","v":5},{"$f":"'[1]SR 32 & Shuster Rd.'!H139","v":0},{"$f":"'[1]SR 32 & Shuster Rd.'!I139","v":0},{"$f":"'[1]SR 32 & Shuster Rd.'!J139","v":0},{"$f":"'[1]SR 32 & Shuster Rd.'!K139","v":0},{"$f":"'[1]SR 32 & Shuster Rd.'!L139","v":0},{"$f":"'[1]SR 32 & Shuster Rd.'!M139","v":0},{"$f":"'[1]SR 32 & Shuster Rd.'!N139","v":0},{"$f":"'[1]SR 32 & Shuster Rd.'!O139","v":7},{"$f":"'[1]SR 32 & Shuster Rd.'!P139+'[1]SR 32 & Germany Rd.'!P139","v":0},{"$f":"'[1]SR 32 & Shuster Rd.'!Q139","v":0},null,"Reduced Movement Total",{"$f":"T138*(1-AO138)","v":29.6},{"$f":"(T138*(1-$AO138))+U138+V138","v":306.60000000000002},null,null,{"$f":"X138+Y138+Z138","v":193},null,null,null,{"$f":"AB138*(1-AU138)","v":1.6},{"$f":"(AB138*(1-$AO138))+AC138+AD138","v":28.6},null,null,{"$f":"AF138+AG138+AH138","v":375}]
[{"$f":"'[1]SR 32 & Shuster Rd.'!A140","v":"17:00:00"},{"$f":"'[1]SR 32 & Shuster Rd.'!B140","v":0},{"$f":"'[1]SR 32 & Shuster Rd.'!C140","v":0},{"$f":"'[1]SR 32 & Shuster Rd.'!D140+'[1]SR 32 & Germany Rd.'!C140+'[1]SR 32 & Germany Rd.'!D140","v":0},{"$f":"'[1]SR 32 & Shuster Rd.'!E140","v":0},{"$f":"'[1]SR 32 & Shuster Rd.'!F140","v":0},{"$f":"'[1]SR 32 & Shuster Rd.'!G140","v":0},{"$f":"'[1]SR 32 & Shuster Rd.'!H140","v":0},{"$f":"'[1]SR 32 & Shuster Rd.'!I140","v":0},{"$f":"'[1]SR 32 & Shuster Rd.'!J140","v":0},{"$f":"'[1]SR 32 & Shuster Rd.'!K140","v":0},{"$f":"'[1]SR 32 & Shuster Rd.'!L140","v":0},{"$f":"'[1]SR 32 & Shuster Rd.'!M140","v":0},{"$f":"'[1]SR 32 & Shuster Rd.'!N140","v":0},{"$f":"'[1]SR 32 & Shuster Rd.'!O140","v":0},{"$f":"'[1]SR 32 & Shuster Rd.'!P140+'[1]SR 32 & Germany Rd.'!P140","v":0},{"$f":"'[1]SR 32 & Shuster Rd.'!Q140","v":0},null,"17:00:00",{"$f":"SUM(B138:B140)","v":4},3,63,0,2,52,2,0,2,5,1,0,4,61,11,0]
[{"$f":"'[1]SR 32 & Shuster Rd.'!A141","v":"17:15:00"},{"$f":"'[1]SR 32 & Shuster Rd.'!B141","v":4},{"$f":"'[1]SR 32 & Shuster Rd.'!C141","v":9},{"$f":"'[1]SR 32 & Shuster Rd.'!D141+'[1]SR 32 & Germany Rd.'!C141+'[1]SR 32 & Germany Rd.'!D141","v":57},{"$f":"'[1]SR 32 & Shuster Rd.'!E141","v":0},{"$f":"'[1]SR 32 & Shuster Rd.'!F141","v":2},{"$f":"'[1]SR 32 & Shuster Rd.'!G141","v":50},{"$f":"'[1]SR 32 & Shuster Rd.'!H141","v":0},{"$f":"'[1]SR 32 & Shuster Rd.'!I141","v":0},{"$f":"'[1]SR 32 & Shuster Rd.'!J141","v":0},{"$f":"'[1]SR 32 & Shuster Rd.'!K141","v":2},{"$f":"'[1]SR 32 & Shuster Rd.'!L141","v":1},{"$f":"'[1]SR 32 & Shuster Rd.'!M141","v":0},{"$f":"'[1]SR 32 & Shuster Rd.'!N141","v":4},{"$f":"'[1]SR 32 & Shuster Rd.'!O141","v":61},{"$f":"'[1]SR 32 & Shuster Rd.'!P141+'[1]SR 32 & Germany Rd.'!P141","v":5},{"$f":"'[1]SR 32 & Shuster Rd.'!Q141","v":0}]
[{"$f":"'[1]SR 32 & Shuster Rd.'!A142","v":"17:15:00"},{"$f":"'[1]SR 32 & Shuster Rd.'!B142","v":2},{"$f":"'[1]SR 32 & Shuster Rd.'!C142","v":0},{"$f":"'[1]SR 32 & Shuster Rd.'!D142+'[1]SR 32 & Germany Rd.'!C142+'[1]SR 32 & Germany Rd.'!D142","v":1},{"$f":"'[1]SR 32 & Shuster Rd.'!E142","v":0},{"$f":"'[1]SR 32 & Shuster Rd.'!F142","v":0},{"$f":"'[1]SR 32 & Shuster Rd.'!G142","v":2},{"$f":"'[1]SR 32 & Shuster Rd.'!H142","v":0},{"$f":"'[1]SR 32 & Shuster Rd.'!I142","v":0},{"$f":"'[1]SR 32 & Shuster Rd.'!J142","v":0},{"$f":"'[1]SR 32 & Shuster Rd.'!K142","v":0},{"$f":"'[1]SR 32 & Shuster Rd.'!L142","v":0},{"$f":"'[1]SR 32 & Shuster Rd.'!M142","v":0},{"$f":"'[1]SR 32 & Shuster Rd.'!N142","v":0},{"$f":"'[1]SR 32 & Shuster Rd.'!O142","v":5},{"$f":"'[1]SR 32 & Shuster Rd.'!P142+'[1]SR 32 & Germany Rd.'!P142","v":2},{"$f":"'[1]SR 32 & Shuster Rd.'!Q142","v":0}]
[{"$f":"'[1]SR 32 & Shuster Rd.'!A143","v":"17:15:00"},{"$f":"'[1]SR 32 & Shuster Rd.'!B143","v":0},{"$f":"'[1]SR 32 & Shuster Rd.'!C143","v":0},{"$f":"'[1]SR 32 & Shuster Rd.'!D143+'[1]SR 32 & Germany Rd.'!C143+'[1]SR 32 & Germany Rd.'!D143","v":0},{"$f":"'[1]SR 32 & Shuster Rd.'!E143","v":0},{"$f":"'[1]SR 32 & Shuster Rd.'!F143","v":0},{"$f":"'[1]SR 32 & Shuster Rd.'!G143","v":0},{"$f":"'[1]SR 32 & Shuster Rd.'!H143","v":0},{"$f":"'[1]SR 32 & Shuster Rd.'!I143","v":0},{"$f":"'[1]SR 32 & Shuster Rd.'!J143","v":0},{"$f":"'[1]SR 32 & Shuster Rd.'!K143","v":0},{"$f":"'[1]SR 32 & Shuster Rd.'!L143","v":0},{"$f":"'[1]SR 32 & Shuster Rd.'!M143","v":0},{"$f":"'[1]SR 32 & Shuster Rd.'!N143","v":0},{"$f":"'[1]SR 32 & Shuster Rd.'!O143","v":0},{"$f":"'[1]SR 32 & Shuster Rd.'!P143+'[1]SR 32 & Germany Rd.'!P143","v":0},{"$f":"'[1]SR 32 & Shuster Rd.'!Q143","v":0},null,"17:15:00",{"$f":"SUM(B141:B143)","v":6},9,58,0,2,52,0,0,0,2,1,0,4,66,7,0]
[{"$f":"'[1]SR 32 & Shuster Rd.'!A144","v":"17:30:00"},{"$f":"'[1]SR 32 & Shuster Rd.'!B144","v":25},{"$f":"'[1]SR 32 & Shuster Rd.'!C144","v":3},{"$f":"'[1]SR 32 & Shuster Rd.'!D144+'[1]SR 32 & Germany Rd.'!C144+'[1]SR 32 & Germany Rd.'!D144","v":67},{"$f":"'[1]SR 32 & Shuster Rd.'!E144","v":0},{"$f":"'[1]SR 32 & Shuster Rd.'!F144","v":1},{"$f":"'[1]SR 32 & Shuster Rd.'!G144","v":47},{"$f":"'[1]SR 32 & Shuster Rd.'!H144","v":0},{"$f":"'[1]SR 32 & Shuster Rd.'!I144","v":1},{"$f":"'[1]SR 32 & Shuster Rd.'!J144","v":0},{"$f":"'[1]SR 32 & Shuster Rd.'!K144","v":3},{"$f":"'[1]SR 32 & Shuster Rd.'!L144","v":3},{"$f":"'[1]SR 32 & Shuster Rd.'!M144","v":0},{"$f":"'[1]SR 32 & Shuster Rd.'!N144","v":7},{"$f":"'[1]SR 32 & Shuster Rd.'!O144","v":51},{"$f":"'[1]SR 32 & Shuster Rd.'!P144+'[1]SR 32 & Germany Rd.'!P144","v":4},{"$f":"'[1]SR 32 & Shuster Rd.'!Q144","v":0}]
[{"$f":"'[1]SR 32 & Shuster Rd.'!A145","v":"17:30:00"},{"$f":"'[1]SR 32 & Shuster Rd.'!B145","v":1},{"$f":"'[1]SR 32 & Shuster Rd.'!C145","v":0},{"$f":"'[1]SR 32 & Shuster Rd.'!D145+'[1]SR 32 & Germany Rd.'!C145+'[1]SR 32 & Germany Rd.'!D145","v":1},{"$f":"'[1]SR 32 & Shuster Rd.'!E145","v":0},{"$f":"'[1]SR 32 & Shuster Rd.'!F145","v":0},{"$f":"'[1]SR 32 & Shuster Rd.'!G145","v":6},{"$f":"'[1]SR 32 & Shuster Rd.'!H145","v":0},{"$f":"'[1]SR 32 & Shuster Rd.'!I145","v":0},{"$f":"'[1]SR 32 & Shuster Rd.'!J145","v":0},{"$f":"'[1]SR 32 & Shuster Rd.'!K145","v":0},{"$f":"'[1]SR 32 & Shuster Rd.'!L145","v":0},{"$f":"'[1]SR 32 & Shuster Rd.'!M145","v":0},{"$f":"'[1]SR 32 & Shuster Rd.'!N145","v":0},{"$f":"'[1]SR 32 & Shuster Rd.'!O145","v":2},{"$f":"'[1]SR 32 & Shuster Rd.'!P145+'[1]SR 32 & Germany Rd.'!P145","v":1},{"$f":"'[1]SR 32 & Shuster Rd.'!Q145","v":0}]
[{"$f":"'[1]SR 32 & Shuster Rd.'!A146","v":"17:30:00"},{"$f":"'[1]SR 32 & Shuster Rd.'!B146","v":0},{"$f":"'[1]SR 32 & Shuster Rd.'!C146","v":0},{"$f":"'[1]SR 32 & Shuster Rd.'!D146+'[1]SR 32 & Germany Rd.'!C146+'[1]SR 32 & Germany Rd.'!D146","v":0},{"$f":"'[1]SR 32 & Shuster Rd.'!E146","v":0},{"$f":"'[1]SR 32 & Shuster Rd.'!F146","v":0},{"$f":"'[1]SR 32 & Shuster Rd.'!G146","v":0},{"$f":"'[1]SR 32 & Shuster Rd.'!H146","v":0},{"$f":"'[1]SR 32 & Shuster Rd.'!I146","v":0},{"$f":"'[1]SR 32 & Shuster Rd.'!J146","v":0},{"$f":"'[1]SR 32 & Shuster Rd.'!K146","v":0},{"$f":"'[1]SR 32 & Shuster Rd.'!L146","v":0},{"$f":"'[1]SR 32 & Shuster Rd.'!M146","v":0},{"$f":"'[1]SR 32 & Shuster Rd.'!N146","v":0},{"$f":"'[1]SR 32 & Shuster Rd.'!O146","v":0},{"$f":"'[1]SR 32 & Shuster Rd.'!P146+'[1]SR 32 & Germany Rd.'!P146","v":0},{"$f":"'[1]SR 32 & Shuster Rd.'!Q146","v":0},null,"17:30:00",{"$f":"SUM(B144:B146)","v":26},3,68,0,1,53,0,1,0,3,3,0,7,53,5,0]
[{"$f":"'[1]SR 32 & Shuster Rd.'!A147","v":"17:45:00"},{"$f":"'[1]SR 32 & Shuster Rd.'!B147","v":6},{"$f":"'[1]SR 32 & Shuster Rd.'!C147","v":4},{"$f":"'[1]SR 32 & Shuster Rd.'!D147+'[1]SR 32 & Germany Rd.'!C147+'[1]SR 32 & Germany Rd.'!D147","v":39},{"$f":"'[1]SR 32 & Shuster Rd.'!E147","v":0},{"$f":"'[1]SR 32 & Shuster Rd.'!F147","v":0},{"$f":"'[1]SR 32 & Shuster Rd.'!G147","v":55},{"$f":"'[1]SR 32 & Shuster Rd.'!H147","v":0},{"$f":"'[1]SR 32 & Shuster Rd.'!I147","v":0},{"$f":"'[1]SR 32 & Shuster Rd.'!J147","v":1},{"$f":"'[1]SR 32 & Shuster Rd.'!K147","v":3},{"$f":"'[1]SR 32 & Shuster Rd.'!L147","v":1},{"$f":"'[1]SR 32 & Shuster Rd.'!M147","v":0},{"$f":"'[1]SR 32 & Shuster Rd.'!N147","v":6},{"$f":"'[1]SR 32 & Shuster Rd.'!O147","v":42},{"$f":"'[1]SR 32 & Shuster Rd.'!P147+'[1]SR 32 & Germany Rd.'!P147","v":0},{"$f":"'[1]SR 32 & Shuster Rd.'!Q147","v":0}]
[{"$f":"'[1]SR 32 & Shuster Rd.'!A148","v":"17:45:00"},{"$f":"'[1]SR 32 & Shuster Rd.'!B148","v":0},{"$f":"'[1]SR 32 & Shuster Rd.'!C148","v":0},{"$f":"'[1]SR 32 & Shuster Rd.'!D148+'[1]SR 32 & Germany Rd.'!C148+'[1]SR 32 & Germany Rd.'!D148","v":1},{"$f":"'[1]SR 32 & Shuster Rd.'!E148","v":0},{"$f":"'[1]SR 32 & Shuster Rd.'!F148","v":0},{"$f":"'[1]SR 32 & Shuster Rd.'!G148","v":10},{"$f":"'[1]SR 32 & Shuster Rd.'!H148","v":0},{"$f":"'[1]SR 32 & Shuster Rd.'!I148","v":0},{"$f":"'[1]SR 32 & Shuster Rd.'!J148","v":0},{"$f":"'[1]SR 32 & Shuster Rd.'!K148","v":0},{"$f":"'[1]SR 32 & Shuster Rd.'!L148","v":0},{"$f":"'[1]SR 32 & Shuster Rd.'!M148","v":0},{"$f":"'[1]SR 32 & Shuster Rd.'!N148","v":0},{"$f":"'[1]SR 32 & Shuster Rd.'!O148","v":3},{"$f":"'[1]SR 32 & Shuster Rd.'!P148+'[1]SR 32 & Germany Rd.'!P148","v":0},{"$f":"'[1]SR 32 & Shuster Rd.'!Q148","v":0}]
[{"$f":"'[1]SR 32 & Shuster Rd.'!A149","v":"17:45:00"},{"$f":"'[1]SR 32 & Shuster Rd.'!B149","v":0},{"$f":"'[1]SR 32 & Shuster Rd.'!C149","v":0},{"$f":"'[1]SR 32 & Shuster Rd.'!D149+'[1]SR 32 & Germany Rd.'!C149+'[1]SR 32 & Germany Rd.'!D149","v":0},{"$f":"'[1]SR 32 & Shuster Rd.'!E149","v":0},{"$f":"'[1]SR 32 & Shuster Rd.'!F149","v":0},{"$f":"'[1]SR 32 & Shuster Rd.'!G149","v":0},{"$f":"'[1]SR 32 & Shuster Rd.'!H149","v":0},{"$f":"'[1]SR 32 & Shuster Rd.'!I149","v":0},{"$f":"'[1]SR 32 & Shuster Rd.'!J149","v":0},{"$f":"'[1]SR 32 & Shuster Rd.'!K149","v":0},{"$f":"'[1]SR 32 & Shuster Rd.'!L149","v":0},{"$f":"'[1]SR 32 & Shuster Rd.'!M149","v":0},{"$f":"'[1]SR 32 & Shuster Rd.'!N149","v":0},{"$f":"'[1]SR 32 & Shuster Rd.'!O149","v":0},{"$f":"'[1]SR 32 & Shuster Rd.'!P149+'[1]SR 32 & Germany Rd.'!P149","v":0},{"$f":"'[1]SR 32 & Shuster Rd.'!Q149","v":0},null,"17:45:00",{"$f":"SUM(B147:B149)","v":6},4,40,0,0,65,0,0,1,3,1,0,6,45,0,0]
[null,null,null,null,null,null,null,null,null,null,null,null,null,null,null,null,null,null,"Movement Total",{"$f":"SUM(T140,T143,T146,T149)","v":42},19,229,0,5,222,2,1,3,13,6,0,21,225,23,0,null,0.2,"-",{"$f":"IF(X$2=FALSE,LOOKUP((Y150+X150)/$AM$4,'Main Line Reduction Table'!$A$1:$B$21,'Main Line Reduction Table'!$C$1:$C$21),LOOKUP(Y150/$AM$4,'Main Line Reduction Table'!$A$1:$B$21,'Main Line Reduction Table'!$C$1:$C$21))","v":0},"=",{"$f":"AK150-AM150","v":0.2},null,0.2,"-",{"$f":"IF(AF$2=FALSE,LOOKUP((AG150+AF150)/$AS$4,'Main Line Reduction Table'!$A$1:$B$21,'Main Line Reduction Table'!$C$1:$C$21),LOOKUP(AG150/$AS$4,'Main Line Reduction Table'!$A$1:$B$21,'Main Line Reduction Table'!$C$1:$C$21))","v":0},"=",{"$f":"AQ150-AS150","v":0.2}]
[null,null,null,null,null,null,null,null,null,null,null,null,null,null,null,null,null,null,"Reduced Movement Total",{"$f":"T150*(1-AO150)","v":33.6},{"$f":"(T150*(1-$AO150))+U150+V150","v":281.60000000000002},null,null,{"$f":"X150+Y150+Z150","v":229},null,null,null,{"$f":"AB150*(1-AU150)","v":2.4000000000000004},{"$f":"(AB150*(1-$AO150))+AC150+AD150","v":21.4},null,null,{"$f":"AF150+AG150+AH150","v":269}]
[]
[]
[]
[]
[]
[]
[]
[]
[]
[]
[]
[]
[]
[]
[]
[]
[]
[]
[]
[]
[]
[]
[]
[]
[]
[]
[]
[]
[]
[]
[]
[]
[]
[]
[]
[]
[]
[]
[]
[]
[]
[]
[]
[]
[]
[]
[]
[]
[]
[]
[]
[]
[]
[]
[]
[]
[]
[]
[]
[]
[]
[]
[]
[]
[]
[]
[]
[]
[]
[]
[]
[]
[]
[]
[]
[]
[]
[]
[]
[]
[]
[]
[]
[]
[]
[]
[]
[]
[]
[]
[]
[]
[]
[]
[]
[]
[]
[]
[]
[]
[]
[]
[]
[]
[]
[]
[]
[]
[]
[]
[]
[]
[]
[]
[]
[]
[]
[]
[]
[]
[]
[]
[]
[]
[]
[]
[]
[]
[]
[]
[]
[]
[]
[]
[]
[]
[]
[]
[]
[]
[]
[]
[]
[]
[]
[]
[]
[]
[]
[]
[]
[]
[]
[]
[]
[]
[]
[]
[]
[]
[]
[]
[]
[]
[]
[]
[]
[]
[]
[]
[]
[]
[]
[]
[]
[]
[]
[]
[]
[]
[]
[]
[]
[]
[]
[]
[]
[]
[]
[]
[]
[]
[]
[]
[]
[]
[]
[]
[]
[]
[]
[]
[]
[]
[]
[]
[]
[]
[]
[]
[]
[]
[]
[]
["12:00:00",8,1,26,0,31,48,2,0,2,0,0,0,1,60,9,0]
["12:00:00",0,0,1,0,0,0,0,0,0,1,0,0,0,2,0,0]
["12:00:00",0,0,0,0,0,0,0,0,0,0,0,0,0,0,0,0]
["12:15:00",10,0,28,0,33,45,1,0,5,1,0,0,0,41,12,0]
["12:15:00",0,0,0,0,0,1,0,0,0,1,0,0,0,1,0,0]
["12:15:00",0,0,0,0,0,0,0,0,0,0,0,0,0,0,0,0]
["12:30:00",5,0,29,0,26,41,4,0,6,0,0,0,0,44,6,0]
["12:30:00",2,0,1,0,2,0,0,0,0,0,0,0,0,3,0,0]
["12:30:00",0,0,0,0,0,0,0,0,0,0,0,0,0,0,0,0]
["12:45:00",6,0,36,0,33,42,6,0,1,2,1,0,3,53,13,0]
["12:45:00",0,0,2,0,0,2,0,0,0,0,0,0,0,0,0,0]
["12:45:00",0,0,0,0,0,0,0,0,0,0,0,0,0,0,0,0]
["13:00:00",9,2,27,0,32,37,1,0,2,3,0,0,0,56,11,0]
["13:00:00",1,0,0,0,2,0,0,0,0,0,0,0,0,2,0,0]
["13:00:00",0,0,0,0,0,0,0,0,0,0,0,0,0,0,0,0]
["13:15:00",7,1,25,0,44,44,4,0,0,1,1,0,0,53,6,0]
["13:15:00",0,0,0,0,1,1,0,0,0,0,0,0,0,2,0,0]
["13:15:00",0,0,0,0,0,0,0,0,0,0,0,0,0,0,0,0]
["13:30:00",12,3,36,0,30,41,0,0,5,1,0,0,0,43,12,0]
["13:30:00",0,0,1,0,1,1,0,0,0,1,0,0,1,2,0,0]
["13:30:00",0,0,0,0,0,0,0,0,0,0,0,0,0,0,0,0]
["13:45:00",9,1,30,0,23,55,1,0,1,0,0,0,0,52,10,0]
["13:45:00",0,0,0,0,1,4,0,0,0,0,0,0,0,0,0,0]
["13:45:00",0,0,0,0,0,0,0,0,0,0,0,0,0,0,0,0]
["14:00:00",12,1,27,0,50,68,1,0,5,1,0,0,0,64,4,0]
["14:00:00",0,0,1,0,1,2,0,0,0,0,0,0,0,2,1,0]
["14:00:00",0,0,0,0,0,0,0,0,0,0,0,0,0,0,0,0]
["14:15:00",8,1,28,0,41,65,0,0,5,2,1,0,0,50,7,0]
["14:15:00",0,0,0,0,1,1,0,0,0,2,0,0,0,1,1,0]
["14:15:00",0,0,0,0,0,0,0,0,0,0,0,0,0,0,0,0]
["14:30:00",16,3,31,0,45,48,4,0,0,2,0,0,0,67,10,0]
["14:30:00",1,0,0,0,0,1,0,0,0,0,0,0,0,2,0,0]
["14:30:00",0,0,0,0,0,0,0,0,0,0,0,0,0,0,0,0]
["14:45:00",16,1,30,0,56,62,3,0,2,1,1,0,0,52,12,0]
["14:45:00",1,2,2,0,1,1,1,0,1,0,0,0,0,0,0,0]
["14:45:00",0,0,0,0,0,0,0,0,0,0,0,0,0,0,0,0]
["15:00:00",18,1,43,0,73,94,3,0,6,1,0,0,1,38,9,0]
["15:00:00",1,0,2,0,1,1,0,0,0,1,0,0,0,4,1,0]
["15:00:00",0,0,0,0,0,0,0,0,0,0,0,0,0,0,0,0]
["15:15:00",14,1,30,0,61,79,5,0,2,0,0,0,0,52,7,0]
["15:15:00",0,0,2,0,0,2,1,0,0,1,0,0,0,3,0,0]
["15:15:00",0,0,0,0,0,0,0,0,0,0,0,0,0,0,0,0]
["15:30:00",16,1,32,0,64,107,1,0,1,0,0,0,0,54,10,0]
["15:30:00",0,0,4,0,1,3,0,0,0,0,0,0,0,1,3,0]
["15:30:00",0,0,0,0,0,0,0,0,0,0,0,0,0,0,0,0]
["15:45:00",12,1,32,0,65,94,8,0,4,1,1,0,0,47,17,0]
["15:45:00",0,0,0,0,1,1,0,0,0,0,0,0,0,2,1,0]
["15:45:00",0,0,0,0,0,0,0,0,0,0,0,0,0,0,0,0]
["16:00:00",19,2,49,0,66,104,2,0,5,1,0,0,0,55,15,0]
["16:00:00",0,0,1,0,0,3,0,0,0,0,0,0,0,5,1,0]
["16:00:00",0,0,0,0,0,0,0,0,0,0,0,0,0,0,0,0]
["16:15:00",16,2,31,0,70,101,9,0,3,3,0,0,0,44,8,0]
["16:15:00",0,0,1,0,0,1,0,0,0,0,0,0,0,3,0,0]
["16:15:00",0,0,0,0,0,0,0,0,0,0,0,0,0,0,0,0]
["16:30:00",13,2,43,0,78,116,5,0,5,1,1,0,0,71,9,0]
["16:30:00",1,0,0,0,0,3,0,0,0,0,0,0,0,2,0,0]
["16:30:00",0,0,0,0,0,0,0,0,0,0,0,0,0,0,0,0]
["16:45:00",11,2,51,0,111,134,7,0,0,3,0,0,0,68,14,0]
["16:45:00",0,0,0,0,0,1,0,0,0,0,0,0,0,3,0,0]
["16:45:00",0,0,0,0,0,0,0,0,0,0,0,0,0,0,0,0]
["17:00:00",20,1,44,0,98,133,1,0,3,2,0,0,0,73,12,0]
["17:00:00",0,0,1,0,2,3,0,0,0,0,0,0,0,1,0,0]
["17:00:00",0,0,0,0,0,0,0,0,0,0,0,0,0,0,0,0]
["17:15:00",18,1,28,0,104,147,6,0,2,0,0,0,0,65,9,0]
["17:15:00",0,0,3,0,0,2,0,0,0,0,0,0,0,2,0,0]
["17:15:00",0,0,0,0,0,0,0,0,0,0,0,0,0,0,0,0]
["17:30:00",10,2,44,0,104,109,3,0,4,0,1,0,0,68,9,0]
["17:30:00",0,0,0,0,0,0,0,0,0,0,0,0,1,4,0,0]
["17:30:00",0,0,0,0,0,0,0,0,0,0,0,0,0,0,0,0]
["17:45:00",12,2,36,0,90,97,3,0,7,0,1,0,0,62,10,0]
["17:45:00",0,0,0,0,1,0,1,0,0,1,0,0,0,2,0,0]
["17:45:00",0,0,0,0,0,0,0,0,0,0,0,0,0,0,0,0]

{"sheet":"HCS+ for N-S Mainline","index":1,"n_rows":16,"n_cols":15,"rows_kept":16,"cut":false,"hidden":false,"merged":[[0,0,0,14],[1,3,1,5],[2,3,2,5],[1,6,1,8],[2,6,2,8],[1,9,1,11],[2,9,2,11],[1,12,1,14],[2,12,2,14]]}
["Data Formatted for HCS+ Warrants for a North/South Major Street"]
[null,null,null,{"$f":"'Traffic Count'!T3","v":"#1"},null,null,{"$f":"'Traffic Count'!AB3","v":"#3"},null,null,{"$f":"'Traffic Count'!AF3","v":"#4"},null,null,{"$f":"'Traffic Count'!X3","v":"#2"}]
[null,null,null,{"$f":"'Traffic Count'!T4","v":"SchusterRd--Southbound"},null,null,{"$f":"'Traffic Count'!AB4","v":"SchusterRd--Northbound"},null,null,{"$f":"'Traffic Count'!AF4","v":"S.R. 32--Eastbound"},null,null,{"$f":"'Traffic Count'!X4","v":"S.R. 32--Westbound"}]
[null,null,null,"Left","Thru","Right","Left","Thru","Right","Left","Thru","Right","Left","Thru","Right"]
[{"$f":"'Traffic Count'!S8","v":"06:00:00"},"-",{"$f":"A5+TIME(1,0,0)","v":"07:00:00"},{"$f":"'Traffic Count'!V18","v":71},{"$f":"'Traffic Count'!U18","v":6},{"$f":"'Traffic Count'!T19","v":14.4},{"$f":"'Traffic Count'!AD18","v":11},{"$f":"'Traffic Count'!AC18","v":19},{"$f":"'Traffic Count'!AB19","v":1.6},{"$f":"'Traffic Count'!AH18","v":60},{"$f":"'Traffic Count'!AG18","v":128},{"$f":"'Traffic Count'!AF18","v":2},{"$f":"'Traffic Count'!Z18","v":0},{"$f":"'Traffic Count'!Y18","v":275},{"$f":"'Traffic Count'!X18","v":31}]
[{"$f":"'Traffic Count'!S20","v":"07:00:00"},"-",{"$f":"A6+TIME(1,0,0)","v":"08:00:00"},{"$f":"'Traffic Count'!V30","v":76},{"$f":"'Traffic Count'!U30","v":10},{"$f":"'Traffic Count'!T31","v":60.599999999999994},{"$f":"'Traffic Count'!AD30","v":16},{"$f":"'Traffic Count'!AC30","v":33},{"$f":"'Traffic Count'!AB31","v":1.6},{"$f":"'Traffic Count'!AH30","v":90},{"$f":"'Traffic Count'!AG30","v":198},{"$f":"'Traffic Count'!AF30","v":11},{"$f":"'Traffic Count'!Z30","v":2},{"$f":"'Traffic Count'!Y30","v":311},{"$f":"'Traffic Count'!X30","v":30}]
[{"$f":"'Traffic Count'!S32","v":"08:00:00"},"-",{"$f":"A7+TIME(1,0,0)","v":"09:00:00"},{"$f":"'Traffic Count'!V42","v":55},{"$f":"'Traffic Count'!U42","v":6},{"$f":"'Traffic Count'!T43","v":13.2},{"$f":"'Traffic Count'!AD42","v":10},{"$f":"'Traffic Count'!AC42","v":13},{"$f":"'Traffic Count'!AB43","v":1.6},{"$f":"'Traffic Count'!AH42","v":29},{"$f":"'Traffic Count'!AG42","v":174},{"$f":"'Traffic Count'!AF42","v":6},{"$f":"'Traffic Count'!Z42","v":0},{"$f":"'Traffic Count'!Y42","v":202},{"$f":"'Traffic Count'!X42","v":8}]
[{"$f":"'Traffic Count'!S44","v":"09:00:00"},"-","10:00:00",{"$f":"'Traffic Count'!V54","v":44},{"$f":"'Traffic Count'!U54","v":6},{"$f":"'Traffic Count'!T55","v":11.200000000000001},{"$f":"'Traffic Count'!AD54","v":5},{"$f":"'Traffic Count'!AC54","v":20},{"$f":"'Traffic Count'!AB55","v":1.6},{"$f":"'Traffic Count'!AH54","v":14},{"$f":"'Traffic Count'!AG54","v":174},{"$f":"'Traffic Count'!AF54","v":4},{"$f":"'Traffic Count'!Z54","v":3},{"$f":"'Traffic Count'!Y54","v":150},{"$f":"'Traffic Count'!X54","v":7}]
[{"$f":"'Traffic Count'!S56","v":"10:00:00"},"-","11:00:00",{"$f":"'Traffic Count'!V66","v":67},{"$f":"'Traffic Count'!U66","v":9},{"$f":"'Traffic Count'!T67","v":13.600000000000001},{"$f":"'Traffic Count'!AD66","v":6},{"$f":"'Traffic Count'!AC66","v":15},{"$f":"'Traffic Count'!AB67","v":1.6},{"$f":"'Traffic Count'!AH66","v":20},{"$f":"'Traffic Count'!AG66","v":171},{"$f":"'Traffic Count'!AF66","v":4},{"$f":"'Traffic Count'!Z66","v":1},{"$f":"'Traffic Count'!Y66","v":155},{"$f":"'Traffic Count'!X66","v":5}]
[{"$f":"'Traffic Count'!S68","v":"11:00:00"},"-","12:00:00",{"$f":"'Traffic Count'!V78","v":58},{"$f":"'Traffic Count'!U78","v":8},{"$f":"'Traffic Count'!T79","v":10.799999999999999},{"$f":"'Traffic Count'!AD78","v":2},{"$f":"'Traffic Count'!AC78","v":15},{"$f":"'Traffic Count'!AB79","v":0},{"$f":"'Traffic Count'!AH78","v":19},{"$f":"'Traffic Count'!AG78","v":177},{"$f":"'Traffic Count'!AF78","v":5},{"$f":"'Traffic Count'!Z78","v":1},{"$f":"'Traffic Count'!Y78","v":149},{"$f":"'Traffic Count'!X78","v":9}]
[{"$f":"'Traffic Count'!S80","v":"12:00:00"},"-","13:00:00",{"$f":"'Traffic Count'!V90","v":79},{"$f":"'Traffic Count'!U90","v":15},{"$f":"'Traffic Count'!T91","v":13.600000000000001},{"$f":"'Traffic Count'!AD90","v":7},{"$f":"'Traffic Count'!AC90","v":10},{"$f":"'Traffic Count'!AB91","v":0},{"$f":"'Traffic Count'!AH90","v":17},{"$f":"'Traffic Count'!AG90","v":141},{"$f":"'Traffic Count'!AF90","v":13},{"$f":"'Traffic Count'!Z90","v":2},{"$f":"'Traffic Count'!Y90","v":154},{"$f":"'Traffic Count'!X90","v":7}]
[{"$f":"'Traffic Count'!S92","v":"13:00:00"},"-","14:00:00",{"$f":"'Traffic Count'!V102","v":93},{"$f":"'Traffic Count'!U102","v":11},{"$f":"'Traffic Count'!T103","v":11.200000000000001},{"$f":"'Traffic Count'!AD102","v":9},{"$f":"'Traffic Count'!AC102","v":13},{"$f":"'Traffic Count'!AB103","v":2.4000000000000004},{"$f":"'Traffic Count'!AH102","v":45},{"$f":"'Traffic Count'!AG102","v":168},{"$f":"'Traffic Count'!AF102","v":11},{"$f":"'Traffic Count'!Z102","v":2},{"$f":"'Traffic Count'!Y102","v":177},{"$f":"'Traffic Count'!X102","v":17}]
[{"$f":"'Traffic Count'!S104","v":"14:00:00"},"-","15:00:00",{"$f":"'Traffic Count'!V114","v":161},{"$f":"'Traffic Count'!U114","v":12},{"$f":"'Traffic Count'!T115","v":31.2},{"$f":"'Traffic Count'!AD114","v":15},{"$f":"'Traffic Count'!AC114","v":16},{"$f":"'Traffic Count'!AB115","v":1.6},{"$f":"'Traffic Count'!AH114","v":27},{"$f":"'Traffic Count'!AG114","v":218},{"$f":"'Traffic Count'!AF114","v":16},{"$f":"'Traffic Count'!Z114","v":3},{"$f":"'Traffic Count'!Y114","v":219},{"$f":"'Traffic Count'!X114","v":12}]
[{"$f":"'Traffic Count'!S116","v":"15:00:00"},"-","16:00:00",{"$f":"'Traffic Count'!V126","v":217},{"$f":"'Traffic Count'!U126","v":24},{"$f":"'Traffic Count'!T127","v":26.400000000000002},{"$f":"'Traffic Count'!AD126","v":8},{"$f":"'Traffic Count'!AC126","v":17},{"$f":"'Traffic Count'!AB127","v":3.2},{"$f":"'Traffic Count'!AH126","v":39},{"$f":"'Traffic Count'!AG126","v":241},{"$f":"'Traffic Count'!AF126","v":16},{"$f":"'Traffic Count'!Z126","v":5},{"$f":"'Traffic Count'!Y126","v":196},{"$f":"'Traffic Count'!X126","v":8}]
[{"$f":"'Traffic Count'!S128","v":"16:00:00"},"-","17:00:00",{"$f":"'Traffic Count'!V138","v":239},{"$f":"'Traffic Count'!U138","v":38},{"$f":"'Traffic Count'!T139","v":29.6},{"$f":"'Traffic Count'!AD138","v":8},{"$f":"'Traffic Count'!AC138","v":19},{"$f":"'Traffic Count'!AB139","v":1.6},{"$f":"'Traffic Count'!AH138","v":26},{"$f":"'Traffic Count'!AG138","v":341},{"$f":"'Traffic Count'!AF138","v":8},{"$f":"'Traffic Count'!Z138","v":1},{"$f":"'Traffic Count'!Y138","v":185},{"$f":"'Traffic Count'!X138","v":7}]
[{"$f":"'Traffic Count'!S140","v":"17:00:00"},"-","18:00:00",{"$f":"'Traffic Count'!V150","v":229},{"$f":"'Traffic Count'!U150","v":19},{"$f":"'Traffic Count'!T151","v":33.6},{"$f":"'Traffic Count'!AD150","v":6},{"$f":"'Traffic Count'!AC150","v":13},{"$f":"'Traffic Count'!AB151","v":2.4000000000000004},{"$f":"'Traffic Count'!AH150","v":23},{"$f":"'Traffic Count'!AG150","v":225},{"$f":"'Traffic Count'!AF150","v":21},{"$f":"'Traffic Count'!Z150","v":2},{"$f":"'Traffic Count'!Y150","v":222},{"$f":"'Traffic Count'!X150","v":5}]

{"sheet":"HCS+ for E-W Mainline","index":2,"n_rows":16,"n_cols":15,"rows_kept":16,"cut":false,"hidden":false,"merged":[[0,0,0,14],[2,3,2,5],[2,6,2,8],[2,9,2,11],[2,12,2,14],[1,3,1,5],[1,6,1,8],[1,9,1,11],[1,12,1,14]]}
["Data Formatted for HCS+ Warrants for an East/West Major Street"]
[null,null,null,{"$f":"'HCS+ for N-S Mainline'!J2","v":"#4"},null,null,{"$f":"'HCS+ for N-S Mainline'!M2","v":"#2"},null,null,{"$f":"'HCS+ for N-S Mainline'!G2","v":"#3"},null,null,{"$f":"'HCS+ for N-S Mainline'!D2","v":"#1"}]
[null,null,null,{"$f":"'Traffic Count'!AF4","v":"S.R. 32--Eastbound"},null,null,{"$f":"'HCS+ for N-S Mainline'!M3","v":"S.R. 32--Westbound"},null,null,{"$f":"'HCS+ for N-S Mainline'!G3","v":"SchusterRd--Northbound"},null,null,{"$f":"'HCS+ for N-S Mainline'!D3","v":"SchusterRd--Southbound"}]
[null,null,null,{"$f":"'HCS+ for N-S Mainline'!J4","v":"Left"},{"$f":"'HCS+ for N-S Mainline'!K4","v":"Thru"},{"$f":"'HCS+ for N-S Mainline'!L4","v":"Right"},{"$f":"'HCS+ for N-S Mainline'!M4","v":"Left"},{"$f":"'HCS+ for N-S Mainline'!N4","v":"Thru"},{"$f":"'HCS+ for N-S Mainline'!O4","v":"Right"},{"$f":"'HCS+ for N-S Mainline'!G4","v":"Left"},{"$f":"'HCS+ for N-S Mainline'!H4","v":"Thru"},{"$f":"'HCS+ for N-S Mainline'!I4","v":"Right"},{"$f":"'HCS+ for N-S Mainline'!D4","v":"Left"},{"$f":"'HCS+ for N-S Mainline'!E4","v":"Thru"},{"$f":"'HCS+ for N-S Mainline'!F4","v":"Right"}]
[{"$f":"'Traffic Count'!S8","v":"06:00:00"},"-",{"$f":"A5+TIME(1,0,0)","v":"07:00:00"},{"$f":"'HCS+ for N-S Mainline'!J5","v":60},{"$f":"'HCS+ for N-S Mainline'!K5","v":128},{"$f":"'HCS+ for N-S Mainline'!L5","v":2},{"$f":"'HCS+ for N-S Mainline'!M5","v":0},{"$f":"'HCS+ for N-S Mainline'!N5","v":275},{"$f":"'HCS+ for N-S Mainline'!O5","v":31},{"$f":"'HCS+ for N-S Mainline'!G5","v":11},{"$f":"'HCS+ for N-S Mainline'!H5","v":19},{"$f":"'HCS+ for N-S Mainline'!I5","v":1.6},{"$f":"'HCS+ for N-S Mainline'!D5","v":71},{"$f":"'HCS+ for N-S Mainline'!E5","v":6},{"$f":"'HCS+ for N-S Mainline'!F5","v":14.4}]
[{"$f":"'Traffic Count'!S20","v":"07:00:00"},"-",{"$f":"A6+TIME(1,0,0)","v":"08:00:00"},{"$f":"'HCS+ for N-S Mainline'!J6","v":90},{"$f":"'HCS+ for N-S Mainline'!K6","v":198},{"$f":"'HCS+ for N-S Mainline'!L6","v":11},{"$f":"'HCS+ for N-S Mainline'!M6","v":2},{"$f":"'HCS+ for N-S Mainline'!N6","v":311},{"$f":"'HCS+ for N-S Mainline'!O6","v":30},{"$f":"'HCS+ for N-S Mainline'!G6","v":16},{"$f":"'HCS+ for N-S Mainline'!H6","v":33},{"$f":"'HCS+ for N-S Mainline'!I6","v":1.6},{"$f":"'HCS+ for N-S Mainline'!D6","v":76},{"$f":"'HCS+ for N-S Mainline'!E6","v":10},{"$f":"'HCS+ for N-S Mainline'!F6","v":60.599999999999994}]
[{"$f":"'Traffic Count'!S32","v":"08:00:00"},"-",{"$f":"A7+TIME(1,0,0)","v":"09:00:00"},{"$f":"'HCS+ for N-S Mainline'!J7","v":29},{"$f":"'HCS+ for N-S Mainline'!K7","v":174},{"$f":"'HCS+ for N-S Mainline'!L7","v":6},{"$f":"'HCS+ for N-S Mainline'!M7","v":0},{"$f":"'HCS+ for N-S Mainline'!N7","v":202},{"$f":"'HCS+ for N-S Mainline'!O7","v":8},{"$f":"'HCS+ for N-S Mainline'!G7","v":10},{"$f":"'HCS+ for N-S Mainline'!H7","v":13},{"$f":"'HCS+ for N-S Mainline'!I7","v":1.6},{"$f":"'HCS+ for N-S Mainline'!D7","v":55},{"$f":"'HCS+ for N-S Mainline'!E7","v":6},{"$f":"'HCS+ for N-S Mainline'!F7","v":13.2}]
[{"$f":"'Traffic Count'!S44","v":"09:00:00"},"-","10:00:00",{"$f":"'HCS+ for N-S Mainline'!J8","v":14},{"$f":"'HCS+ for N-S Mainline'!K8","v":174},{"$f":"'HCS+ for N-S Mainline'!L8","v":4},{"$f":"'HCS+ for N-S Mainline'!M8","v":3},{"$f":"'HCS+ for N-S Mainline'!N8","v":150},{"$f":"'HCS+ for N-S Mainline'!O8","v":7},{"$f":"'HCS+ for N-S Mainline'!G8","v":5},{"$f":"'HCS+ for N-S Mainline'!H8","v":20},{"$f":"'HCS+ for N-S Mainline'!I8","v":1.6},{"$f":"'HCS+ for N-S Mainline'!D8","v":44},{"$f":"'HCS+ for N-S Mainline'!E8","v":6},{"$f":"'HCS+ for N-S Mainline'!F8","v":11.200000000000001}]
[{"$f":"'Traffic Count'!S56","v":"10:00:00"},"-","11:00:00",{"$f":"'HCS+ for N-S Mainline'!J9","v":20},{"$f":"'HCS+ for N-S Mainline'!K9","v":171},{"$f":"'HCS+ for N-S Mainline'!L9","v":4},{"$f":"'HCS+ for N-S Mainline'!M9","v":1},{"$f":"'HCS+ for N-S Mainline'!N9","v":155},{"$f":"'HCS+ for N-S Mainline'!O9","v":5},{"$f":"'HCS+ for N-S Mainline'!G9","v":6},{"$f":"'HCS+ for N-S Mainline'!H9","v":15},{"$f":"'HCS+ for N-S Mainline'!I9","v":1.6},{"$f":"'HCS+ for N-S Mainline'!D9","v":67},{"$f":"'HCS+ for N-S Mainline'!E9","v":9},{"$f":"'HCS+ for N-S Mainline'!F9","v":13.600000000000001}]
[{"$f":"'Traffic Count'!S68","v":"11:00:00"},"-","12:00:00",{"$f":"'HCS+ for N-S Mainline'!J10","v":19},{"$f":"'HCS+ for N-S Mainline'!K10","v":177},{"$f":"'HCS+ for N-S Mainline'!L10","v":5},{"$f":"'HCS+ for N-S Mainline'!M10","v":1},{"$f":"'HCS+ for N-S Mainline'!N10","v":149},{"$f":"'HCS+ for N-S Mainline'!O10","v":9},{"$f":"'HCS+ for N-S Mainline'!G10","v":2},{"$f":"'HCS+ for N-S Mainline'!H10","v":15},{"$f":"'HCS+ for N-S Mainline'!I10","v":0},{"$f":"'HCS+ for N-S Mainline'!D10","v":58},{"$f":"'HCS+ for N-S Mainline'!E10","v":8},{"$f":"'HCS+ for N-S Mainline'!F10","v":10.799999999999999}]
[{"$f":"'Traffic Count'!S80","v":"12:00:00"},"-","13:00:00",{"$f":"'HCS+ for N-S Mainline'!J11","v":17},{"$f":"'HCS+ for N-S Mainline'!K11","v":141},{"$f":"'HCS+ for N-S Mainline'!L11","v":13},{"$f":"'HCS+ for N-S Mainline'!M11","v":2},{"$f":"'HCS+ for N-S Mainline'!N11","v":154},{"$f":"'HCS+ for N-S Mainline'!O11","v":7},{"$f":"'HCS+ for N-S Mainline'!G11","v":7},{"$f":"'HCS+ for N-S Mainline'!H11","v":10},{"$f":"'HCS+ for N-S Mainline'!I11","v":0},{"$f":"'HCS+ for N-S Mainline'!D11","v":79},{"$f":"'HCS+ for N-S Mainline'!E11","v":15},{"$f":"'HCS+ for N-S Mainline'!F11","v":13.600000000000001}]
[{"$f":"'Traffic Count'!S92","v":"13:00:00"},"-","14:00:00",{"$f":"'HCS+ for N-S Mainline'!J12","v":45},{"$f":"'HCS+ for N-S Mainline'!K12","v":168},{"$f":"'HCS+ for N-S Mainline'!L12","v":11},{"$f":"'HCS+ for N-S Mainline'!M12","v":2},{"$f":"'HCS+ for N-S Mainline'!N12","v":177},{"$f":"'HCS+ for N-S Mainline'!O12","v":17},{"$f":"'HCS+ for N-S Mainline'!G12","v":9},{"$f":"'HCS+ for N-S Mainline'!H12","v":13},{"$f":"'HCS+ for N-S Mainline'!I12","v":2.4000000000000004},{"$f":"'HCS+ for N-S Mainline'!D12","v":93},{"$f":"'HCS+ for N-S Mainline'!E12","v":11},{"$f":"'HCS+ for N-S Mainline'!F12","v":11.200000000000001}]
[{"$f":"'Traffic Count'!S104","v":"14:00:00"},"-","15:00:00",{"$f":"'HCS+ for N-S Mainline'!J13","v":27},{"$f":"'HCS+ for N-S Mainline'!K13","v":218},{"$f":"'HCS+ for N-S Mainline'!L13","v":16},{"$f":"'HCS+ for N-S Mainline'!M13","v":3},{"$f":"'HCS+ for N-S Mainline'!N13","v":219},{"$f":"'HCS+ for N-S Mainline'!O13","v":12},{"$f":"'HCS+ for N-S Mainline'!G13","v":15},{"$f":"'HCS+ for N-S Mainline'!H13","v":16},{"$f":"'HCS+ for N-S Mainline'!I13","v":1.6},{"$f":"'HCS+ for N-S Mainline'!D13","v":161},{"$f":"'HCS+ for N-S Mainline'!E13","v":12},{"$f":"'HCS+ for N-S Mainline'!F13","v":31.2}]
[{"$f":"'Traffic Count'!S116","v":"15:00:00"},"-","16:00:00",{"$f":"'HCS+ for N-S Mainline'!J14","v":39},{"$f":"'HCS+ for N-S Mainline'!K14","v":241},{"$f":"'HCS+ for N-S Mainline'!L14","v":16},{"$f":"'HCS+ for N-S Mainline'!M14","v":5},{"$f":"'HCS+ for N-S Mainline'!N14","v":196},{"$f":"'HCS+ for N-S Mainline'!O14","v":8},{"$f":"'HCS+ for N-S Mainline'!G14","v":8},{"$f":"'HCS+ for N-S Mainline'!H14","v":17},{"$f":"'HCS+ for N-S Mainline'!I14","v":3.2},{"$f":"'HCS+ for N-S Mainline'!D14","v":217},{"$f":"'HCS+ for N-S Mainline'!E14","v":24},{"$f":"'HCS+ for N-S Mainline'!F14","v":26.400000000000002}]
[{"$f":"'Traffic Count'!S128","v":"16:00:00"},"-","17:00:00",{"$f":"'HCS+ for N-S Mainline'!J15","v":26},{"$f":"'HCS+ for N-S Mainline'!K15","v":341},{"$f":"'HCS+ for N-S Mainline'!L15","v":8},{"$f":"'HCS+ for N-S Mainline'!M15","v":1},{"$f":"'HCS+ for N-S Mainline'!N15","v":185},{"$f":"'HCS+ for N-S Mainline'!O15","v":7},{"$f":"'HCS+ for N-S Mainline'!G15","v":8},{"$f":"'HCS+ for N-S Mainline'!H15","v":19},{"$f":"'HCS+ for N-S Mainline'!I15","v":1.6},{"$f":"'HCS+ for N-S Mainline'!D15","v":239},{"$f":"'HCS+ for N-S Mainline'!E15","v":38},{"$f":"'HCS+ for N-S Mainline'!F15","v":29.6}]
[{"$f":"'Traffic Count'!S140","v":"17:00:00"},"-","18:00:00",{"$f":"'HCS+ for N-S Mainline'!J16","v":23},{"$f":"'HCS+ for N-S Mainline'!K16","v":225},{"$f":"'HCS+ for N-S Mainline'!L16","v":21},{"$f":"'HCS+ for N-S Mainline'!M16","v":2},{"$f":"'HCS+ for N-S Mainline'!N16","v":222},{"$f":"'HCS+ for N-S Mainline'!O16","v":5},{"$f":"'HCS+ for N-S Mainline'!G16","v":6},{"$f":"'HCS+ for N-S Mainline'!H16","v":13},{"$f":"'HCS+ for N-S Mainline'!I16","v":2.4000000000000004},{"$f":"'HCS+ for N-S Mainline'!D16","v":229},{"$f":"'HCS+ for N-S Mainline'!E16","v":19},{"$f":"'HCS+ for N-S Mainline'!F16","v":33.6}]

{"sheet":"Main Line Reduction Table","index":3,"n_rows":28,"n_cols":3,"rows_kept":28,"cut":false,"hidden":false,"merged":[]}
[0,399,0]
[400,499,0.05]
[500,599,0.1]
[600,699,0.15]
[700,799,0.2]
[800,899,0.25]
[900,999,0.3]
[1000,1099,0.35]
[1100,1199,0.4]
[1200,1299,0.45]
[1300,1399,0.5]
[1400,1499,0.55000000000000004]
[1500,1599,0.6]
[1600,1699,0.65]
[1700,1799,0.7]
[1800,1899,0.75]
[1900,1999,0.8]
[2000,2099,0.85]
[2100,2199,0.9]
[2200,2299,0.95]
[2300,2399,1]
[]
[]
[]
[]
[]
["North/South"]
["East/West"]

{"sheet":"Sheet1","index":4,"n_rows":0,"n_cols":0,"rows_kept":0,"cut":false,"hidden":false,"merged":[]}