{"text_format":"1","workbook":"xlsx","n_sheets":4,"sheets":["Ex. 32 & Germany Rd.","Ex. 32 & Schuster Rd.","Prop. 32 & Germany Rd.","Prop. 32 & Schuster Rd."],"not_rendered":{"charts":0,"images":0,"macros":1,"external_links":0,"defined_names":0,"comments":0,"pivot_tables":0},"unopened":[],"bounds":{"document_bytes":16777216,"sheet_cells":100000,"rows_first":2000,"rows_last":500,"rows_between":2000,"halvings":0,"cell_chars":16384,"cell_head_chars":4096},"cells_cut":0,"cells_raw":0,"read":"whole","date_system":"1900"}

{"sheet":"Ex. 32 & Germany Rd.","index":0,"n_rows":149,"n_cols":17,"rows_kept":149,"cut":false,"hidden":false,"merged":[]}
["Start Date","2010-06-21"]
["Start Time","06:00:00"]
["Site Code",5566]
["Street Name","SR 220 - GERMANY RD--Southbound",null,null,null,"SR 32--Westbound",null,null,null,"SR 220 - GERMANY RD--Northbound",null,null,null,"SR 32--Eastbound"]
["Start Time","Right ","Thru ","Left ","Peds ","Right ","Thru ","Left ","Peds ","Right ","Thru ","Left ","Peds ","Right ","Thru ","Left ","Peds "]
["06:00:00",0,0,2,0,12,44,1,1,2,4,8,0,5,19,0,0]
["06:00:00",0,0,0,0,0,9,0,0,0,0,1,0,1,3,0,0]
["06:00:00",0,0,0,0,0,0,0,0,0,0,0,0,0,0,0,0]
["06:15:00",0,2,5,0,25,73,3,0,3,9,8,0,6,34,1,0]
["06:15:00",0,0,0,0,0,5,0,0,1,0,0,0,0,6,0,0]
["06:15:00",0,0,0,0,0,0,0,0,0,0,0,0,0,0,0,0]
["06:30:00",0,3,7,0,21,66,3,0,1,9,6,0,4,20,0,0]
["06:30:00",0,0,0,0,0,5,0,0,2,0,0,0,1,6,0,0]
["06:30:00",0,0,0,0,0,0,0,0,0,0,0,0,0,0,0,0]
["06:45:00",0,0,2,0,32,42,5,0,4,7,8,0,7,16,0,0]
["06:45:00",0,0,0,0,0,3,1,0,0,0,0,0,0,3,0,0]
["06:45:00",0,0,0,0,0,0,0,0,0,0,0,0,0,0,0,0]
["07:00:00",0,3,4,0,25,52,1,0,2,10,4,0,0,11,0,0]
["07:00:00",0,0,0,0,0,5,1,0,0,0,0,0,0,3,0,0]
["07:00:00",0,0,0,0,0,0,0,0,0,0,0,0,0,0,0,0]
["07:15:00",0,3,3,0,11,32,2,0,0,2,7,0,2,27,0,0]
["07:15:00",0,0,0,0,0,2,0,0,2,0,2,0,1,6,0,0]
["07:15:00",0,0,0,0,0,0,0,0,0,0,0,0,0,0,0,0]
["07:30:00",0,2,3,0,30,34,6,0,1,6,4,0,2,36,2,0]
["07:30:00",0,0,0,0,0,10,0,0,0,0,0,0,0,9,0,0]
["07:30:00",0,0,0,0,0,0,0,0,0,0,0,0,0,0,0,0]
["07:45:00",0,3,1,0,32,44,6,0,1,9,7,0,3,39,0,0]
["07:45:00",0,0,0,0,0,4,0,0,0,1,0,0,1,6,0,0]
["07:45:00",0,0,0,0,0,0,0,0,0,0,0,0,0,0,0,0]
["08:00:00",1,4,8,0,26,41,5,0,4,8,4,0,2,24,0,0]
["08:00:00",0,0,0,0,1,5,1,0,1,0,0,0,1,9,0,0]
["08:00:00",0,0,0,0,0,0,0,0,0,0,0,0,0,0,0,0]
["08:15:00",0,2,9,0,22,40,3,0,3,8,6,0,5,22,0,0]
["08:15:00",0,0,2,0,2,1,0,0,1,0,1,0,0,6,0,0]
["08:15:00",0,0,0,0,0,0,0,0,0,0,0,0,0,0,0,0]
["08:30:00",0,4,10,0,13,37,3,0,1,8,10,0,3,28,0,0]
["08:30:00",0,0,1,0,0,11,2,0,0,0,0,0,0,8,0,0]
["08:30:00",0,0,0,0,0,0,0,0,0,0,0,0,0,0,0,0]
["08:45:00",0,0,7,0,20,25,1,0,1,3,6,0,2,32,0,0]
["08:45:00",0,1,0,0,0,8,0,0,0,0,2,0,0,7,0,0]
["08:45:00",0,0,0,0,0,0,0,0,0,0,0,0,0,0,0,0]
["09:00:00",0,7,3,0,13,27,2,0,3,6,5,0,6,19,0,0]
["09:00:00",0,1,0,0,0,1,0,0,0,0,0,0,0,4,0,0]
["09:00:00",0,0,0,0,0,0,0,0,0,0,0,0,0,0,0,0]
["09:15:00",0,3,9,0,17,17,2,0,0,7,3,0,5,26,1,0]
["09:15:00",0,0,1,0,1,5,0,0,0,0,0,0,1,6,0,0]
["09:15:00",0,0,0,0,0,0,0,0,0,0,0,0,0,0,0,0]
["09:30:00",1,2,4,0,19,27,3,0,3,5,1,0,6,30,0,0]
["09:30:00",0,0,1,0,0,4,0,0,0,0,0,0,0,3,0,0]
["09:30:00",0,0,0,0,0,0,0,0,0,0,0,0,0,0,0,0]
["09:45:00",0,1,3,0,14,25,2,0,6,4,2,0,5,28,1,0]
["09:45:00",0,1,0,0,0,3,0,0,0,0,0,0,0,4,0,0]
["09:45:00",0,0,0,0,0,0,0,0,0,0,0,0,0,0,0,0]
["10:00:00",1,3,7,0,16,26,1,0,4,2,3,0,3,34,0,0]
["10:00:00",0,0,1,0,1,9,0,0,0,0,1,0,0,2,0,0]
["10:00:00",0,0,0,0,0,0,0,0,0,0,0,0,0,0,0,0]
["10:15:00",0,6,8,0,11,21,1,0,4,6,3,0,4,38,1,0]
["10:15:00",0,0,0,0,0,9,0,0,1,0,0,0,0,3,0,0]
["10:15:00",0,0,0,0,0,0,0,0,0,0,0,0,0,0,0,0]
["10:30:00",1,3,6,0,16,31,2,0,1,10,3,0,2,35,0,0]
["10:30:00",0,1,0,0,0,10,0,0,0,0,0,0,0,6,0,0]
["10:30:00",0,0,0,0,0,0,0,0,0,0,0,0,0,0,0,0]
["10:45:00",0,6,9,0,10,34,2,0,0,4,5,0,5,36,0,0]
["10:45:00",0,0,0,0,0,7,0,0,0,0,1,0,1,6,0,0]
["10:45:00",0,0,0,0,0,0,0,0,0,0,0,0,0,0,0,0]
["11:00:00",0,3,7,0,12,34,2,0,2,3,3,0,5,38,0,0]
["11:00:00",0,0,1,0,1,2,0,0,1,0,0,0,0,4,0,0]
["11:00:00",0,0,0,0,0,0,0,0,0,0,0,0,0,0,0,0]
["11:15:00",0,4,5,0,15,33,1,0,0,4,2,0,2,34,1,0]
["11:15:00",0,1,0,0,0,3,0,0,0,0,0,0,2,3,0,0]
["11:15:00",0,0,0,0,0,0,0,0,0,0,0,0,0,0,0,0]
["11:30:00",1,8,7,0,11,38,2,0,1,8,5,0,1,36,0,0]
["11:30:00",0,0,1,0,1,1,0,0,0,0,1,0,1,4,0,0]
["11:30:00",0,0,0,0,0,0,0,0,0,0,0,0,0,0,0,0]
["11:45:00",0,6,9,0,14,32,3,0,0,6,2,0,6,39,1,0]
["11:45:00",0,1,0,0,0,5,0,0,0,0,0,0,0,0,0,0]
["11:45:00",0,0,0,0,0,0,0,0,0,0,0,0,0,0,0,0]
["12:00:00",0,8,8,0,13,22,4,0,4,3,5,0,8,44,0,0]
["12:00:00",0,1,0,0,1,8,0,0,1,0,0,0,1,10,0,0]
["12:00:00",0,0,0,0,0,0,0,0,0,0,0,0,0,0,0,0]
["12:15:00",1,6,8,0,13,40,1,0,3,8,6,0,7,37,0,0]
["12:15:00",0,0,0,0,1,5,0,0,0,0,1,0,1,9,0,0]
["12:15:00",0,0,0,0,0,0,0,0,0,0,0,0,0,0,0,0]
["12:30:00",1,6,11,0,17,33,3,0,2,3,7,0,14,31,0,0]
["12:30:00",0,0,1,0,1,6,0,0,3,0,0,0,0,7,0,0]
["12:30:00",0,0,0,0,0,0,0,0,0,0,0,0,0,0,0,0]
["12:45:00",0,7,9,0,17,24,1,0,1,6,10,0,12,38,1,0]
["12:45:00",0,0,0,0,0,18,1,0,0,0,1,0,1,11,0,0]
["12:45:00",0,0,0,0,0,0,0,0,0,0,0,0,0,0,0,0]
["13:00:00",1,5,14,0,21,34,1,0,5,8,6,0,9,46,1,0]
["13:00:00",0,0,0,0,0,8,2,0,1,0,1,0,1,10,0,0]
["13:00:00",0,0,0,0,0,0,0,0,0,0,0,0,0,0,0,0]
["13:15:00",1,15,13,0,16,24,1,0,1,11,11,0,7,31,1,0]
["13:15:00",0,1,1,0,0,7,0,0,1,0,0,0,1,2,0,0]
["13:15:00",0,0,0,0,0,0,0,0,0,0,0,0,0,0,0,0]
["13:30:00",2,13,12,0,18,35,3,0,2,9,13,0,6,35,2,0]
["13:30:00",0,1,0,0,1,8,0,0,2,0,0,0,1,1,0,0]
["13:30:00",0,0,0,0,0,0,0,0,0,0,0,0,0,0,0,0]
["13:45:00",1,14,15,0,22,39,5,0,2,7,5,0,2,31,1,0]
["13:45:00",0,0,2,0,0,9,1,0,2,0,1,0,2,6,0,0]
["13:45:00",0,0,0,0,0,0,0,0,0,0,0,0,0,0,0,0]
["14:00:00",2,10,11,0,20,44,4,0,3,3,3,0,7,36,2,0]
["14:00:00",0,0,0,0,2,8,0,0,0,0,0,0,0,7,0,0]
["14:00:00",0,0,0,0,0,0,0,0,0,0,0,0,0,0,0,0]
["14:15:00",1,12,15,0,13,25,2,0,3,8,2,0,15,33,0,0]
["14:15:00",0,0,1,0,0,5,0,0,0,0,0,0,1,5,0,0]
["14:15:00",0,0,0,0,0,0,0,0,0,0,0,0,0,0,0,0]
["14:30:00",1,4,21,0,17,29,6,0,7,12,6,0,12,56,0,0]
["14:30:00",0,0,1,0,0,9,0,0,0,0,0,0,0,11,0,0]
["14:30:00",0,0,0,0,0,0,0,0,0,0,0,0,0,0,0,0]
["14:45:00",0,4,21,0,9,35,6,0,2,8,7,0,9,47,0,0]
["14:45:00",1,0,0,0,1,11,1,0,0,0,1,0,0,4,0,0]
["14:45:00",0,0,0,0,0,0,0,0,0,0,0,0,0,0,0,0]
["15:00:00",1,15,15,0,9,30,2,0,9,1,5,0,10,63,0,0]
["15:00:00",0,0,2,0,0,9,0,0,0,0,1,0,1,11,0,0]
["15:00:00",0,0,0,0,0,0,0,0,0,0,0,0,0,0,0,0]
["15:15:00",0,11,12,0,11,29,4,0,8,6,6,0,6,41,0,0]
["15:15:00",0,0,1,0,0,4,0,0,0,0,0,0,1,8,0,0]
["15:15:00",0,0,0,0,0,0,0,0,0,0,0,0,0,0,0,0]
["15:30:00",0,6,12,0,8,37,4,0,3,3,3,0,15,65,0,0]
["15:30:00",0,0,0,0,1,5,1,0,1,0,1,0,1,9,0,0]
["15:30:00",0,0,0,0,0,0,0,0,0,0,0,0,0,0,0,0]
["15:45:00",0,7,10,0,8,40,2,0,5,4,6,0,14,62,1,0]
["15:45:00",0,0,1,0,1,5,1,0,0,0,1,0,0,4,0,0]
["15:45:00",0,0,0,0,0,0,0,0,0,0,0,0,0,0,0,0]
["16:00:00",0,10,15,0,19,57,1,0,1,6,7,0,23,78,0,0]
["16:00:00",0,0,0,0,0,7,1,0,0,0,0,0,0,9,0,0]
["16:00:00",0,0,0,0,0,0,0,0,0,0,0,0,0,0,0,0]
["16:15:00",0,11,15,0,8,35,3,0,2,11,4,0,10,58,0,0]
["16:15:00",0,0,0,0,1,7,0,0,0,0,0,0,0,6,0,0]
["16:15:00",0,0,0,0,0,0,0,0,0,0,0,0,0,0,0,0]
["16:30:00",1,12,16,0,6,22,4,0,2,6,13,0,8,69,1,0]
["16:30:00",0,0,1,0,1,4,0,0,0,0,1,0,0,6,0,0]
["16:30:00",0,0,0,0,0,0,0,0,0,0,0,0,0,0,0,0]
["16:45:00",0,10,17,0,6,34,1,0,10,11,2,0,12,73,0,0]
["16:45:00",0,0,0,0,0,5,0,0,0,0,0,0,0,8,0,0]
["16:45:00",0,0,0,0,0,0,0,0,0,0,0,0,0,0,0,0]
["17:00:00",0,16,19,0,15,41,1,0,5,7,2,0,22,66,0,0]
["17:00:00",0,0,0,0,0,7,0,0,0,0,0,0,0,6,0,0]
["17:00:00",0,0,0,0,0,0,0,0,0,0,0,0,0,0,0,0]
["17:15:00",0,12,9,0,7,29,4,0,6,6,2,0,20,63,0,0]
["17:15:00",0,0,0,0,0,2,0,0,0,0,1,0,1,5,0,0]
["17:15:00",0,0,0,0,0,0,0,0,0,0,0,0,0,0,0,0]
["17:30:00",0,10,6,0,15,34,3,0,8,7,5,0,8,71,0,0]
["17:30:00",0,0,0,0,0,1,0,0,0,0,0,0,0,6,0,0]
["17:30:00",0,0,0,0,0,0,0,0,0,0,0,0,0,0,0,0]
["17:45:00",0,14,12,0,11,31,7,0,5,7,6,0,10,31,0,0]
["17:45:00",0,0,0,0,0,5,0,0,0,0,0,0,0,4,0,0]
["17:45:00",0,0,0,0,0,0,0,0,0,0,0,0,0,0,0,0]

{"sheet":"Ex. 32 & Schuster Rd.","index":1,"n_rows":149,"n_cols":17,"rows_kept":149,"cut":false,"hidden":false,"merged":[]}
["Start Date","2010-06-21"]
["Start Time","06:00:00"]
["Site Code",6466]
["Street Name","SCHUSTER RD--Southbound",null,null,null,"SR 32--Westbound",null,null,null,"SCHUSTER RD--Northbound",null,null,null,"SR 32--Eastbound"]
["Start Time","Right ","Thru ","Left ","Peds ","Right ","Thru ","Left ","Peds ","Right ","Thru ","Left ","Peds ","Right ","Thru ","Left ","Peds "]
["06:00:00",2,1,4,0,3,25,0,0,0,2,1,0,0,14,2,0]
["06:00:00",1,0,1,0,0,4,0,0,0,0,0,0,0,3,0,0]
["06:00:00",0,0,0,0,0,0,0,0,0,0,0,0,0,0,0,0]
["06:15:00",2,1,4,0,2,67,0,0,0,2,4,0,0,27,7,0]
["06:15:00",1,0,0,0,0,8,0,0,0,0,0,0,0,4,1,0]
["06:15:00",0,0,0,0,0,0,0,0,0,0,0,0,0,0,0,0]
["06:30:00",6,2,4,0,4,69,2,0,0,4,2,0,0,26,8,0]
["06:30:00",2,0,0,0,0,5,0,0,0,0,0,0,0,8,0,0]
["06:30:00",0,0,0,0,0,0,0,0,0,0,0,0,0,0,0,0]
["06:45:00",6,1,2,0,2,49,4,0,1,6,0,0,0,18,5,0]
["06:45:00",2,0,1,0,0,6,0,0,0,0,0,0,0,4,0,0]
["06:45:00",0,0,0,0,0,0,0,0,0,0,0,0,0,0,0,0]
["07:00:00",11,5,1,0,5,45,1,0,1,4,5,0,0,15,3,0]
["07:00:00",1,0,1,0,0,4,0,0,0,0,0,0,0,2,0,0]
["07:00:00",0,0,0,0,0,0,0,0,0,0,0,0,0,0,0,0]
["07:15:00",3,0,6,0,4,50,1,0,0,1,1,0,0,21,0,0]
["07:15:00",3,0,0,0,1,4,0,0,0,1,0,0,0,7,0,0]
["07:15:00",0,0,0,0,0,0,0,0,0,0,0,0,0,0,0,0]
["07:30:00",0,2,4,0,3,38,0,0,0,3,2,0,1,26,3,0]
["07:30:00",1,0,1,0,1,6,0,0,0,0,0,0,0,10,0,0]
["07:30:00",0,0,0,0,0,0,0,0,0,0,0,0,0,0,0,0]
["07:45:00",0,1,5,0,5,46,0,0,1,11,3,0,0,30,1,0]
["07:45:00",1,0,0,0,1,7,0,0,0,0,0,0,0,5,1,0]
["07:45:00",0,0,0,0,0,0,0,0,0,0,0,0,0,0,0,0]
["08:00:00",1,1,3,2,4,48,1,0,0,4,1,0,1,28,2,0]
["08:00:00",1,0,1,0,0,4,0,0,0,1,0,0,0,4,3,0]
["08:00:00",0,0,0,0,0,0,0,0,0,0,0,0,0,0,0,0]
["08:15:00",8,1,6,0,5,38,0,0,0,8,3,0,0,24,4,0]
["08:15:00",1,1,0,0,1,3,0,0,0,0,0,0,0,8,2,0]
["08:15:00",0,0,0,0,0,0,0,0,0,0,0,0,0,0,0,0]
["08:30:00",6,3,7,0,2,37,2,0,1,2,2,0,1,29,3,0]
["08:30:00",2,0,1,0,0,2,0,0,0,0,0,0,0,2,1,0]
["08:30:00",0,0,0,0,0,0,0,0,0,0,0,0,0,0,0,0]
["08:45:00",4,1,5,0,3,32,1,0,0,1,1,0,0,22,1,0]
["08:45:00",2,1,1,0,1,4,0,0,0,1,0,0,0,1,1,0]
["08:45:00",0,0,0,0,0,0,0,0,0,0,0,0,0,0,0,0]
["09:00:00",2,0,1,0,0,26,0,0,0,1,0,0,1,23,4,0]
["09:00:00",1,0,0,0,1,7,0,0,0,0,0,0,0,4,4,0]
["09:00:00",0,0,0,0,0,0,0,0,0,0,0,0,0,0,0,0]
["09:15:00",0,3,3,0,1,34,2,0,0,3,1,0,0,26,3,0]
["09:15:00",1,0,0,0,0,2,0,0,0,0,0,0,0,7,0,0]
["09:15:00",0,0,0,0,0,0,0,0,0,0,0,0,0,0,0,0]
["09:30:00",0,2,2,0,0,22,1,0,0,1,0,0,1,28,3,0]
["09:30:00",5,1,1,0,1,6,0,0,0,0,0,0,0,2,2,0]
["09:30:00",0,0,0,0,0,0,0,0,0,0,0,0,0,0,0,0]
["09:45:00",2,5,2,0,2,29,0,0,0,4,1,0,0,33,2,0]
["09:45:00",0,0,1,0,0,6,0,0,0,0,0,0,0,8,0,0]
["09:45:00",0,0,0,0,0,0,0,0,0,0,0,0,0,0,0,0]
["10:00:00",2,1,6,0,0,37,0,0,0,2,0,0,1,24,1,0]
["10:00:00",1,0,0,0,0,6,0,0,0,0,0,0,0,8,1,0]
["10:00:00",0,0,0,0,0,0,0,0,0,0,0,0,0,0,0,0]
["10:15:00",2,1,8,0,2,21,1,0,1,2,1,0,0,37,3,0]
["10:15:00",1,0,0,0,1,9,0,0,0,0,0,0,0,2,5,0]
["10:15:00",0,0,0,0,0,0,0,0,0,0,0,0,0,0,0,0]
["10:30:00",1,4,9,0,1,23,0,0,1,1,1,0,0,25,1,0]
["10:30:00",1,0,1,0,0,10,0,0,0,0,0,0,0,6,0,0]
["10:30:00",0,0,0,0,0,0,0,0,0,0,0,0,0,0,0,0]
["10:45:00",0,4,11,0,2,37,0,0,0,2,1,0,0,31,4,0]
["10:45:00",3,0,0,0,0,8,0,0,0,0,0,0,0,6,2,0]
["10:45:00",0,0,0,0,0,0,0,0,0,0,0,0,0,0,0,0]
["11:00:00",0,3,12,0,0,37,1,0,1,2,1,0,1,29,3,0]
["11:00:00",2,0,1,0,0,9,0,0,0,0,1,0,0,5,3,0]
["11:00:00",0,0,0,0,0,0,0,0,0,0,0,0,0,0,0,0]
["11:15:00",1,4,8,0,1,42,0,0,0,4,0,0,0,24,6,0]
["11:15:00",1,1,0,0,0,4,0,0,0,1,1,0,0,1,1,0]
["11:15:00",0,0,0,0,0,0,0,0,0,0,0,0,0,0,0,0]
["11:30:00",2,3,9,0,0,29,2,0,1,3,1,0,1,26,5,0]
["11:30:00",3,0,0,0,1,5,0,0,0,1,0,0,0,3,2,0]
["11:30:00",0,0,0,0,0,0,0,0,0,0,0,0,0,0,0,0]
["11:45:00",0,1,7,0,1,36,1,0,0,2,2,0,0,32,2,0]
["11:45:00",1,1,1,0,0,8,0,0,0,0,0,0,0,1,1,0]
["11:45:00",0,0,0,0,0,0,0,0,0,0,0,0,0,0,0,0]
["12:00:00",1,2,6,0,0,22,0,0,0,0,0,0,1,27,3,0]
["12:00:00",0,0,1,0,1,7,0,0,0,0,0,0,0,2,0,0]
["12:00:00",0,0,0,0,0,0,0,0,0,0,0,0,0,0,0,0]
["12:15:00",3,2,8,0,1,29,1,0,1,4,2,0,0,28,4,0]
["12:15:00",3,0,0,0,0,8,0,0,0,1,0,0,0,4,1,0]
["12:15:00",0,0,0,0,0,0,0,0,0,0,0,0,0,0,0,0]
["12:30:00",2,5,12,0,6,34,2,0,1,3,2,0,4,34,6,0]
["12:30:00",0,0,1,0,0,5,0,0,0,0,0,0,0,9,1,0]
["12:30:00",0,0,0,0,0,0,0,0,0,0,0,0,0,0,0,0]
["12:45:00",4,3,8,0,1,35,1,0,0,0,2,0,0,43,0,0]
["12:45:00",0,0,0,0,0,16,0,0,0,0,0,0,0,8,2,0]
["12:45:00",0,0,0,0,0,0,0,0,0,0,0,0,0,0,0,0]
["13:00:00",2,4,14,0,0,38,0,0,1,3,0,0,1,35,2,0]
["13:00:00",1,2,0,0,0,12,0,0,0,0,0,0,0,11,4,0]
["13:00:00",0,0,0,0,0,0,0,0,0,0,0,0,0,0,0,0]
["13:15:00",5,6,8,0,2,36,0,0,2,3,1,0,2,40,2,0]
["13:15:00",3,0,1,0,0,5,1,0,0,0,0,0,0,6,5,0]
["13:15:00",0,0,0,0,0,0,0,0,0,0,0,0,0,0,0,0]
["13:30:00",2,3,12,0,4,33,0,0,2,4,0,0,2,43,3,0]
["13:30:00",6,0,0,0,0,9,0,0,0,0,0,0,0,5,4,0]
["13:30:00",0,0,0,0,0,0,0,0,0,0,0,0,0,0,0,0]
["13:45:00",3,5,6,0,4,37,0,0,0,5,0,0,3,36,3,0]
["13:45:00",4,0,0,0,0,5,0,0,0,0,0,0,0,5,2,0]
["13:45:00",0,0,0,0,0,0,0,0,0,0,0,0,0,0,0,0]
["14:00:00",3,2,8,0,4,29,1,0,0,4,3,0,2,36,3,0]
["14:00:00",3,0,2,0,0,12,0,0,0,0,0,0,0,5,1,0]
["14:00:00",0,0,0,0,0,0,0,0,0,0,0,0,0,0,0,0]
["14:15:00",4,1,25,0,0,42,3,0,2,2,0,0,1,30,3,0]
["14:15:00",0,0,0,0,0,5,0,0,0,0,0,0,0,8,1,0]
["14:15:00",0,0,0,0,0,0,0,0,0,0,0,0,0,0,0,0]
["14:30:00",10,9,23,0,2,26,0,0,0,4,0,0,2,54,2,0]
["14:30:00",0,0,0,0,0,6,0,0,0,0,0,0,0,10,4,0]
["14:30:00",0,0,0,0,0,0,0,0,0,0,0,0,0,0,0,0]
["14:45:00",5,1,13,0,5,46,0,0,0,2,0,0,3,47,2,0]
["14:45:00",3,0,0,0,0,12,0,0,0,0,0,0,0,6,1,0]
["14:45:00",0,0,0,0,0,0,0,0,0,0,0,0,0,0,0,0]
["15:00:00",1,3,15,0,0,39,1,0,0,3,0,0,3,53,10,0]
["15:00:00",1,0,1,0,1,10,0,0,0,0,0,0,0,8,2,0]
["15:00:00",0,0,0,0,0,0,0,0,0,0,0,0,0,0,0,0]
["15:15:00",2,7,21,0,1,30,1,0,0,1,2,0,1,35,1,0]
["15:15:00",1,0,2,0,1,6,0,0,0,0,0,0,0,10,2,0]
["15:15:00",0,0,0,0,0,0,0,0,0,0,0,0,0,0,0,0]
["15:30:00",5,2,18,0,3,37,0,0,0,3,1,0,4,52,3,0]
["15:30:00",0,0,0,0,0,3,0,0,0,0,0,0,0,10,2,0]
["15:30:00",0,0,0,0,0,0,0,0,0,0,0,0,0,0,0,0]
["15:45:00",6,4,20,0,2,39,1,0,0,4,2,0,2,49,8,0]
["15:45:00",0,0,0,0,0,4,0,0,0,0,0,0,0,1,2,0]
["15:45:00",0,0,0,0,0,0,0,0,0,0,0,0,0,0,0,0]
["16:00:00",5,7,24,0,3,60,0,0,1,2,0,0,2,68,6,0]
["16:00:00",0,0,0,0,0,11,0,0,0,0,0,0,0,7,1,0]
["16:00:00",0,0,0,0,0,0,0,0,0,0,0,0,0,0,0,0]
["16:15:00",2,2,25,0,2,42,0,0,3,1,4,0,1,55,6,0]
["16:15:00",0,0,2,0,0,5,0,0,0,0,0,0,0,8,3,0]
["16:15:00",0,0,0,0,0,0,0,0,0,0,0,0,0,0,0,0]
["16:30:00",4,2,19,0,1,37,0,0,0,4,0,0,3,67,6,0]
["16:30:00",0,0,0,0,0,5,0,0,0,0,0,0,0,5,1,0]
["16:30:00",0,0,0,0,0,0,0,0,0,0,0,0,0,0,0,0]
["16:45:00",3,3,19,0,1,35,0,0,3,2,0,0,0,79,4,0]
["16:45:00",0,0,2,0,0,5,0,0,0,0,0,0,0,5,0,0]
["16:45:00",0,0,0,0,0,0,0,0,0,0,0,0,0,0,0,0]
["17:00:00",3,6,25,0,2,39,0,0,2,3,0,0,2,53,2,0]
["17:00:00",0,0,0,0,1,8,0,0,0,2,0,0,0,6,2,0]
["17:00:00",0,0,0,0,0,0,0,0,0,0,0,0,0,0,0,0]
["17:15:00",4,6,23,0,2,35,1,0,2,0,2,0,0,70,2,0]
["17:15:00",0,0,0,0,0,4,0,0,0,0,0,0,0,7,2,0]
["17:15:00",0,0,0,0,0,0,0,0,0,0,0,0,0,0,0,0]
["17:30:00",3,4,21,0,4,39,1,0,0,7,2,0,1,67,3,0]
["17:30:00",0,0,0,0,1,1,0,0,0,0,0,0,0,5,2,0]
["17:30:00",0,0,0,0,0,0,0,0,0,0,0,0,0,0,0,0]
["17:45:00",3,2,17,0,6,40,0,0,0,6,2,0,2,40,2,0]
["17:45:00",0,0,1,0,0,3,0,0,0,0,0,0,0,3,0,0]
["17:45:00",0,0,0,0,0,0,0,0,0,0,0,0,0,0,0,0]

{"sheet":"Prop. 32 & Germany Rd.","index":2,"n_rows":149,"n_cols":17,"rows_kept":149,"cut":false,"hidden":false,"merged":[]}
["Start Date","2010-06-21"]
["Start Time","06:00:00"]
["Site Code",5566]
["Street Name","SR 220 - GERMANY RD--Southbound",null,null,null,"SR 32--Westbound",null,null,null,"SR 220 - GERMANY RD--Northbound",null,null,null,"SR 32--Eastbound"]
["Start Time","Right ","Thru ","Left ","Peds ","Right ","Thru ","Left ","Peds ","Right ","Thru ","Left ","Peds ","Right ","Thru ","Left ","Peds "]
["06:00:00",0,null,null,0,12,44,1,1,2,null,{"$f":"'Ex. 32 & Germany Rd.'!K6+'Ex. 32 & Germany Rd.'!L6","v":12},0,5,19,null,0]
["06:00:00",0,null,null,0,0,9,0,0,0,null,{"$f":"'Ex. 32 & Germany Rd.'!K7+'Ex. 32 & Germany Rd.'!L7","v":1},0,1,3,null,0]
["06:00:00",0,null,null,0,0,0,0,0,0,null,{"$f":"'Ex. 32 & Germany Rd.'!K8+'Ex. 32 & Germany Rd.'!L8","v":0},0,0,0,null,0]
["06:15:00",0,null,null,0,25,73,3,0,3,null,{"$f":"'Ex. 32 & Germany Rd.'!K9+'Ex. 32 & Germany Rd.'!L9","v":17},0,6,34,null,0]
["06:15:00",0,null,null,0,0,5,0,0,1,null,{"$f":"'Ex. 32 & Germany Rd.'!K10+'Ex. 32 & Germany Rd.'!L10","v":0},0,0,6,null,0]
["06:15:00",0,null,null,0,0,0,0,0,0,null,{"$f":"'Ex. 32 & Germany Rd.'!K11+'Ex. 32 & Germany Rd.'!L11","v":0},0,0,0,null,0]
["06:30:00",0,null,null,0,21,66,3,0,1,null,{"$f":"'Ex. 32 & Germany Rd.'!K12+'Ex. 32 & Germany Rd.'!L12","v":15},0,4,20,null,0]
["06:30:00",0,null,null,0,0,5,0,0,2,null,{"$f":"'Ex. 32 & Germany Rd.'!K13+'Ex. 32 & Germany Rd.'!L13","v":0},0,1,6,null,0]
["06:30:00",0,null,null,0,0,0,0,0,0,null,{"$f":"'Ex. 32 & Germany Rd.'!K14+'Ex. 32 & Germany Rd.'!L14","v":0},0,0,0,null,0]
["06:45:00",0,null,null,0,32,42,5,0,4,null,{"$f":"'Ex. 32 & Germany Rd.'!K15+'Ex. 32 & Germany Rd.'!L15","v":15},0,7,16,null,0]
["06:45:00",0,null,null,0,0,3,1,0,0,null,{"$f":"'Ex. 32 & Germany Rd.'!K16+'Ex. 32 & Germany Rd.'!L16","v":0},0,0,3,null,0]
["06:45:00",0,null,null,0,0,0,0,0,0,null,{"$f":"'Ex. 32 & Germany Rd.'!K17+'Ex. 32 & Germany Rd.'!L17","v":0},0,0,0,null,0]
["07:00:00",0,null,null,0,25,52,1,0,2,null,{"$f":"'Ex. 32 & Germany Rd.'!K18+'Ex. 32 & Germany Rd.'!L18","v":14},0,0,11,null,0]
["07:00:00",0,null,null,0,0,5,1,0,0,null,{"$f":"'Ex. 32 & Germany Rd.'!K19+'Ex. 32 & Germany Rd.'!L19","v":0},0,0,3,null,0]
["07:00:00",0,null,null,0,0,0,0,0,0,null,{"$f":"'Ex. 32 & Germany Rd.'!K20+'Ex. 32 & Germany Rd.'!L20","v":0},0,0,0,null,0]
["07:15:00",0,null,null,0,11,32,2,0,0,null,{"$f":"'Ex. 32 & Germany Rd.'!K21+'Ex. 32 & Germany Rd.'!L21","v":9},0,2,27,null,0]
["07:15:00",0,null,null,0,0,2,0,0,2,null,{"$f":"'Ex. 32 & Germany Rd.'!K22+'Ex. 32 & Germany Rd.'!L22","v":2},0,1,6,null,0]
["07:15:00",0,null,null,0,0,0,0,0,0,null,{"$f":"'Ex. 32 & Germany Rd.'!K23+'Ex. 32 & Germany Rd.'!L23","v":0},0,0,0,null,0]
["07:30:00",0,null,null,0,30,34,6,0,1,null,{"$f":"'Ex. 32 & Germany Rd.'!K24+'Ex. 32 & Germany Rd.'!L24","v":10},0,2,36,null,0]
["07:30:00",0,null,null,0,0,10,0,0,0,null,{"$f":"'Ex. 32 & Germany Rd.'!K25+'Ex. 32 & Germany Rd.'!L25","v":0},0,0,9,null,0]
["07:30:00",0,null,null,0,0,0,0,0,0,null,{"$f":"'Ex. 32 & Germany Rd.'!K26+'Ex. 32 & Germany Rd.'!L26","v":0},0,0,0,null,0]
["07:45:00",0,null,null,0,32,44,6,0,1,null,{"$f":"'Ex. 32 & Germany Rd.'!K27+'Ex. 32 & Germany Rd.'!L27","v":16},0,3,39,null,0]
["07:45:00",0,null,null,0,0,4,0,0,0,null,{"$f":"'Ex. 32 & Germany Rd.'!K28+'Ex. 32 & Germany Rd.'!L28","v":1},0,1,6,null,0]
["07:45:00",0,null,null,0,0,0,0,0,0,null,{"$f":"'Ex. 32 & Germany Rd.'!K29+'Ex. 32 & Germany Rd.'!L29","v":0},0,0,0,null,0]
["08:00:00",1,null,null,0,26,41,5,0,4,null,{"$f":"'Ex. 32 & Germany Rd.'!K30+'Ex. 32 & Germany Rd.'!L30","v":12},0,2,24,null,0]
["08:00:00",0,null,null,0,1,5,1,0,1,null,{"$f":"'Ex. 32 & Germany Rd.'!K31+'Ex. 32 & Germany Rd.'!L31","v":0},0,1,9,null,0]
["08:00:00",0,null,null,0,0,0,0,0,0,null,{"$f":"'Ex. 32 & Germany Rd.'!K32+'Ex. 32 & Germany Rd.'!L32","v":0},0,0,0,null,0]
["08:15:00",0,null,null,0,22,40,3,0,3,null,{"$f":"'Ex. 32 & Germany Rd.'!K33+'Ex. 32 & Germany Rd.'!L33","v":14},0,5,22,null,0]
["08:15:00",0,null,null,0,2,1,0,0,1,null,{"$f":"'Ex. 32 & Germany Rd.'!K34+'Ex. 32 & Germany Rd.'!L34","v":1},0,0,6,null,0]
["08:15:00",0,null,null,0,0,0,0,0,0,null,{"$f":"'Ex. 32 & Germany Rd.'!K35+'Ex. 32 & Germany Rd.'!L35","v":0},0,0,0,null,0]
["08:30:00",0,null,null,0,13,37,3,0,1,null,{"$f":"'Ex. 32 & Germany Rd.'!K36+'Ex. 32 & Germany Rd.'!L36","v":18},0,3,28,null,0]
["08:30:00",0,null,null,0,0,11,2,0,0,null,{"$f":"'Ex. 32 & Germany Rd.'!K37+'Ex. 32 & Germany Rd.'!L37","v":0},0,0,8,null,0]
["08:30:00",0,null,null,0,0,0,0,0,0,null,{"$f":"'Ex. 32 & Germany Rd.'!K38+'Ex. 32 & Germany Rd.'!L38","v":0},0,0,0,null,0]
["08:45:00",0,null,null,0,20,25,1,0,1,null,{"$f":"'Ex. 32 & Germany Rd.'!K39+'Ex. 32 & Germany Rd.'!L39","v":9},0,2,32,null,0]
["08:45:00",0,null,null,0,0,8,0,0,0,null,{"$f":"'Ex. 32 & Germany Rd.'!K40+'Ex. 32 & Germany Rd.'!L40","v":2},0,0,7,null,0]
["08:45:00",0,null,null,0,0,0,0,0,0,null,{"$f":"'Ex. 32 & Germany Rd.'!K41+'Ex. 32 & Germany Rd.'!L41","v":0},0,0,0,null,0]
["09:00:00",0,null,null,0,13,27,2,0,3,null,{"$f":"'Ex. 32 & Germany Rd.'!K42+'Ex. 32 & Germany Rd.'!L42","v":11},0,6,19,null,0]
["09:00:00",0,null,null,0,0,1,0,0,0,null,{"$f":"'Ex. 32 & Germany Rd.'!K43+'Ex. 32 & Germany Rd.'!L43","v":0},0,0,4,null,0]
["09:00:00",0,null,null,0,0,0,0,0,0,null,{"$f":"'Ex. 32 & Germany Rd.'!K44+'Ex. 32 & Germany Rd.'!L44","v":0},0,0,0,null,0]
["09:15:00",0,null,null,0,17,17,2,0,0,null,{"$f":"'Ex. 32 & Germany Rd.'!K45+'Ex. 32 & Germany Rd.'!L45","v":10},0,5,26,null,0]
["09:15:00",0,null,null,0,1,5,0,0,0,null,{"$f":"'Ex. 32 & Germany Rd.'!K46+'Ex. 32 & Germany Rd.'!L46","v":0},0,1,6,null,0]
["09:15:00",0,null,null,0,0,0,0,0,0,null,{"$f":"'Ex. 32 & Germany Rd.'!K47+'Ex. 32 & Germany Rd.'!L47","v":0},0,0,0,null,0]
["09:30:00",1,null,null,0,19,27,3,0,3,null,{"$f":"'Ex. 32 & Germany Rd.'!K48+'Ex. 32 & Germany Rd.'!L48","v":6},0,6,30,null,0]
["09:30:00",0,null,null,0,0,4,0,0,0,null,{"$f":"'Ex. 32 & Germany Rd.'!K49+'Ex. 32 & Germany Rd.'!L49","v":0},0,0,3,null,0]
["09:30:00",0,null,null,0,0,0,0,0,0,null,{"$f":"'Ex. 32 & Germany Rd.'!K50+'Ex. 32 & Germany Rd.'!L50","v":0},0,0,0,null,0]
["09:45:00",0,null,null,0,14,25,2,0,6,null,{"$f":"'Ex. 32 & Germany Rd.'!K51+'Ex. 32 & Germany Rd.'!L51","v":6},0,5,28,null,0]
["09:45:00",0,null,null,0,0,3,0,0,0,null,{"$f":"'Ex. 32 & Germany Rd.'!K52+'Ex. 32 & Germany Rd.'!L52","v":0},0,0,4,null,0]
["09:45:00",0,null,null,0,0,0,0,0,0,null,{"$f":"'Ex. 32 & Germany Rd.'!K53+'Ex. 32 & Germany Rd.'!L53","v":0},0,0,0,null,0]
["10:00:00",1,null,null,0,16,26,1,0,4,null,{"$f":"'Ex. 32 & Germany Rd.'!K54+'Ex. 32 & Germany Rd.'!L54","v":5},0,3,34,null,0]
["10:00:00",0,null,null,0,1,9,0,0,0,null,{"$f":"'Ex. 32 & Germany Rd.'!K55+'Ex. 32 & Germany Rd.'!L55","v":1},0,0,2,null,0]
["10:00:00",0,null,null,0,0,0,0,0,0,null,{"$f":"'Ex. 32 & Germany Rd.'!K56+'Ex. 32 & Germany Rd.'!L56","v":0},0,0,0,null,0]
["10:15:00",0,null,null,0,11,21,1,0,4,null,{"$f":"'Ex. 32 & Germany Rd.'!K57+'Ex. 32 & Germany Rd.'!L57","v":9},0,4,38,null,0]
["10:15:00",0,null,null,0,0,9,0,0,1,null,{"$f":"'Ex. 32 & Germany Rd.'!K58+'Ex. 32 & Germany Rd.'!L58","v":0},0,0,3,null,0]
["10:15:00",0,null,null,0,0,0,0,0,0,null,{"$f":"'Ex. 32 & Germany Rd.'!K59+'Ex. 32 & Germany Rd.'!L59","v":0},0,0,0,null,0]
["10:30:00",1,null,null,0,16,31,2,0,1,null,{"$f":"'Ex. 32 & Germany Rd.'!K60+'Ex. 32 & Germany Rd.'!L60","v":13},0,2,35,null,0]
["10:30:00",0,null,null,0,0,10,0,0,0,null,{"$f":"'Ex. 32 & Germany Rd.'!K61+'Ex. 32 & Germany Rd.'!L61","v":0},0,0,6,null,0]
["10:30:00",0,null,null,0,0,0,0,0,0,null,{"$f":"'Ex. 32 & Germany Rd.'!K62+'Ex. 32 & Germany Rd.'!L62","v":0},0,0,0,null,0]
["10:45:00",0,null,null,0,10,34,2,0,0,null,{"$f":"'Ex. 32 & Germany Rd.'!K63+'Ex. 32 & Germany Rd.'!L63","v":9},0,5,36,null,0]
["10:45:00",0,null,null,0,0,7,0,0,0,null,{"$f":"'Ex. 32 & Germany Rd.'!K64+'Ex. 32 & Germany Rd.'!L64","v":1},0,1,6,null,0]
["10:45:00",0,null,null,0,0,0,0,0,0,null,{"$f":"'Ex. 32 & Germany Rd.'!K65+'Ex. 32 & Germany Rd.'!L65","v":0},0,0,0,null,0]
["11:00:00",0,null,null,0,12,34,2,0,2,null,{"$f":"'Ex. 32 & Germany Rd.'!K66+'Ex. 32 & Germany Rd.'!L66","v":6},0,5,38,null,0]
["11:00:00",0,null,null,0,1,2,0,0,1,null,{"$f":"'Ex. 32 & Germany Rd.'!K67+'Ex. 32 & Germany Rd.'!L67","v":0},0,0,4,null,0]
["11:00:00",0,null,null,0,0,0,0,0,0,null,{"$f":"'Ex. 32 & Germany Rd.'!K68+'Ex. 32 & Germany Rd.'!L68","v":0},0,0,0,null,0]
["11:15:00",0,null,null,0,15,33,1,0,0,null,{"$f":"'Ex. 32 & Germany Rd.'!K69+'Ex. 32 & Germany Rd.'!L69","v":6},0,2,34,null,0]
["11:15:00",0,null,null,0,0,3,0,0,0,null,{"$f":"'Ex. 32 & Germany Rd.'!K70+'Ex. 32 & Germany Rd.'!L70","v":0},0,2,3,null,0]
["11:15:00",0,null,null,0,0,0,0,0,0,null,{"$f":"'Ex. 32 & Germany Rd.'!K71+'Ex. 32 & Germany Rd.'!L71","v":0},0,0,0,null,0]
["11:30:00",1,null,null,0,11,38,2,0,1,null,{"$f":"'Ex. 32 & Germany Rd.'!K72+'Ex. 32 & Germany Rd.'!L72","v":13},0,1,36,null,0]
["11:30:00",0,null,null,0,1,1,0,0,0,null,{"$f":"'Ex. 32 & Germany Rd.'!K73+'Ex. 32 & Germany Rd.'!L73","v":1},0,1,4,null,0]
["11:30:00",0,null,null,0,0,0,0,0,0,null,{"$f":"'Ex. 32 & Germany Rd.'!K74+'Ex. 32 & Germany Rd.'!L74","v":0},0,0,0,null,0]
["11:45:00",0,null,null,0,14,32,3,0,0,null,{"$f":"'Ex. 32 & Germany Rd.'!K75+'Ex. 32 & Germany Rd.'!L75","v":8},0,6,39,null,0]
["11:45:00",0,null,null,0,0,5,0,0,0,null,{"$f":"'Ex. 32 & Germany Rd.'!K76+'Ex. 32 & Germany Rd.'!L76","v":0},0,0,0,null,0]
["11:45:00",0,null,null,0,0,0,0,0,0,null,{"$f":"'Ex. 32 & Germany Rd.'!K77+'Ex. 32 & Germany Rd.'!L77","v":0},0,0,0,null,0]
["12:00:00",0,null,null,0,13,22,4,0,4,null,{"$f":"'Ex. 32 & Germany Rd.'!K78+'Ex. 32 & Germany Rd.'!L78","v":8},0,8,44,null,0]
["12:00:00",0,null,null,0,1,8,0,0,1,null,{"$f":"'Ex. 32 & Germany Rd.'!K79+'Ex. 32 & Germany Rd.'!L79","v":0},0,1,10,null,0]
["12:00:00",0,null,null,0,0,0,0,0,0,null,{"$f":"'Ex. 32 & Germany Rd.'!K80+'Ex. 32 & Germany Rd.'!L80","v":0},0,0,0,null,0]
["12:15:00",1,null,null,0,13,40,1,0,3,null,{"$f":"'Ex. 32 & Germany Rd.'!K81+'Ex. 32 & Germany Rd.'!L81","v":14},0,7,37,null,0]
["12:15:00",0,null,null,0,1,5,0,0,0,null,{"$f":"'Ex. 32 & Germany Rd.'!K82+'Ex. 32 & Germany Rd.'!L82","v":1},0,1,9,null,0]
["12:15:00",0,null,null,0,0,0,0,0,0,null,{"$f":"'Ex. 32 & Germany Rd.'!K83+'Ex. 32 & Germany Rd.'!L83","v":0},0,0,0,null,0]
["12:30:00",1,null,null,0,17,33,3,0,2,null,{"$f":"'Ex. 32 & Germany Rd.'!K84+'Ex. 32 & Germany Rd.'!L84","v":10},0,14,31,null,0]
["12:30:00",0,null,null,0,1,6,0,0,3,null,{"$f":"'Ex. 32 & Germany Rd.'!K85+'Ex. 32 & Germany Rd.'!L85","v":0},0,0,7,null,0]
["12:30:00",0,null,null,0,0,0,0,0,0,null,{"$f":"'Ex. 32 & Germany Rd.'!K86+'Ex. 32 & Germany Rd.'!L86","v":0},0,0,0,null,0]
["12:45:00",0,null,null,0,17,24,1,0,1,null,{"$f":"'Ex. 32 & Germany Rd.'!K87+'Ex. 32 & Germany Rd.'!L87","v":16},0,12,38,null,0]
["12:45:00",0,null,null,0,0,18,1,0,0,null,{"$f":"'Ex. 32 & Germany Rd.'!K88+'Ex. 32 & Germany Rd.'!L88","v":1},0,1,11,null,0]
["12:45:00",0,null,null,0,0,0,0,0,0,null,{"$f":"'Ex. 32 & Germany Rd.'!K89+'Ex. 32 & Germany Rd.'!L89","v":0},0,0,0,null,0]
["13:00:00",1,null,null,0,21,34,1,0,5,null,{"$f":"'Ex. 32 & Germany Rd.'!K90+'Ex. 32 & Germany Rd.'!L90","v":14},0,9,46,null,0]
["13:00:00",0,null,null,0,0,8,2,0,1,null,{"$f":"'Ex. 32 & Germany Rd.'!K91+'Ex. 32 & Germany Rd.'!L91","v":1},0,1,10,null,0]
["13:00:00",0,null,null,0,0,0,0,0,0,null,{"$f":"'Ex. 32 & Germany Rd.'!K92+'Ex. 32 & Germany Rd.'!L92","v":0},0,0,0,null,0]
["13:15:00",1,null,null,0,16,24,1,0,1,null,{"$f":"'Ex. 32 & Germany Rd.'!K93+'Ex. 32 & Germany Rd.'!L93","v":22},0,7,31,null,0]
["13:15:00",0,null,null,0,0,7,0,0,1,null,{"$f":"'Ex. 32 & Germany Rd.'!K94+'Ex. 32 & Germany Rd.'!L94","v":0},0,1,2,null,0]
["13:15:00",0,null,null,0,0,0,0,0,0,null,{"$f":"'Ex. 32 & Germany Rd.'!K95+'Ex. 32 & Germany Rd.'!L95","v":0},0,0,0,null,0]
["13:30:00",2,null,null,0,18,35,3,0,2,null,{"$f":"'Ex. 32 & Germany Rd.'!K96+'Ex. 32 & Germany Rd.'!L96","v":22},0,6,35,null,0]
["13:30:00",0,null,null,0,1,8,0,0,2,null,{"$f":"'Ex. 32 & Germany Rd.'!K97+'Ex. 32 & Germany Rd.'!L97","v":0},0,1,1,null,0]
["13:30:00",0,null,null,0,0,0,0,0,0,null,{"$f":"'Ex. 32 & Germany Rd.'!K98+'Ex. 32 & Germany Rd.'!L98","v":0},0,0,0,null,0]
["13:45:00",1,null,null,0,22,39,5,0,2,null,{"$f":"'Ex. 32 & Germany Rd.'!K99+'Ex. 32 & Germany Rd.'!L99","v":12},0,2,31,null,0]
["13:45:00",0,null,null,0,0,9,1,0,2,null,{"$f":"'Ex. 32 & Germany Rd.'!K100+'Ex. 32 & Germany Rd.'!L100","v":1},0,2,6,null,0]
["13:45:00",0,null,null,0,0,0,0,0,0,null,{"$f":"'Ex. 32 & Germany Rd.'!K101+'Ex. 32 & Germany Rd.'!L101","v":0},0,0,0,null,0]
["14:00:00",2,null,null,0,20,44,4,0,3,null,{"$f":"'Ex. 32 & Germany Rd.'!K102+'Ex. 32 & Germany Rd.'!L102","v":6},0,7,36,null,0]
["14:00:00",0,null,null,0,2,8,0,0,0,null,{"$f":"'Ex. 32 & Germany Rd.'!K103+'Ex. 32 & Germany Rd.'!L103","v":0},0,0,7,null,0]
["14:00:00",0,null,null,0,0,0,0,0,0,null,{"$f":"'Ex. 32 & Germany Rd.'!K104+'Ex. 32 & Germany Rd.'!L104","v":0},0,0,0,null,0]
["14:15:00",1,null,null,0,13,25,2,0,3,null,{"$f":"'Ex. 32 & Germany Rd.'!K105+'Ex. 32 & Germany Rd.'!L105","v":10},0,15,33,null,0]
["14:15:00",0,null,null,0,0,5,0,0,0,null,{"$f":"'Ex. 32 & Germany Rd.'!K106+'Ex. 32 & Germany Rd.'!L106","v":0},0,1,5,null,0]
["14:15:00",0,null,null,0,0,0,0,0,0,null,{"$f":"'Ex. 32 & Germany Rd.'!K107+'Ex. 32 & Germany Rd.'!L107","v":0},0,0,0,null,0]
["14:30:00",1,null,null,0,17,29,6,0,7,null,{"$f":"'Ex. 32 & Germany Rd.'!K108+'Ex. 32 & Germany Rd.'!L108","v":18},0,12,56,null,0]
["14:30:00",0,null,null,0,0,9,0,0,0,null,{"$f":"'Ex. 32 & Germany Rd.'!K109+'Ex. 32 & Germany Rd.'!L109","v":0},0,0,11,null,0]
["14:30:00",0,null,null,0,0,0,0,0,0,null,{"$f":"'Ex. 32 & Germany Rd.'!K110+'Ex. 32 & Germany Rd.'!L110","v":0},0,0,0,null,0]
["14:45:00",0,null,null,0,9,35,6,0,2,null,{"$f":"'Ex. 32 & Germany Rd.'!K111+'Ex. 32 & Germany Rd.'!L111","v":15},0,9,47,null,0]
["14:45:00",1,null,null,0,1,11,1,0,0,null,{"$f":"'Ex. 32 & Germany Rd.'!K112+'Ex. 32 & Germany Rd.'!L112","v":1},0,0,4,null,0]
["14:45:00",0,null,null,0,0,0,0,0,0,null,{"$f":"'Ex. 32 & Germany Rd.'!K113+'Ex. 32 & Germany Rd.'!L113","v":0},0,0,0,null,0]
["15:00:00",1,null,null,0,9,30,2,0,9,null,{"$f":"'Ex. 32 & Germany Rd.'!K114+'Ex. 32 & Germany Rd.'!L114","v":6},0,10,63,null,0]
["15:00:00",0,null,null,0,0,9,0,0,0,null,{"$f":"'Ex. 32 & Germany Rd.'!K115+'Ex. 32 & Germany Rd.'!L115","v":1},0,1,11,null,0]
["15:00:00",0,null,null,0,0,0,0,0,0,null,{"$f":"'Ex. 32 & Germany Rd.'!K116+'Ex. 32 & Germany Rd.'!L116","v":0},0,0,0,null,0]
["15:15:00",0,null,null,0,11,29,4,0,8,null,{"$f":"'Ex. 32 & Germany Rd.'!K117+'Ex. 32 & Germany Rd.'!L117","v":12},0,6,41,null,0]
["15:15:00",0,null,null,0,0,4,0,0,0,null,{"$f":"'Ex. 32 & Germany Rd.'!K118+'Ex. 32 & Germany Rd.'!L118","v":0},0,1,8,null,0]
["15:15:00",0,null,null,0,0,0,0,0,0,null,{"$f":"'Ex. 32 & Germany Rd.'!K119+'Ex. 32 & Germany Rd.'!L119","v":0},0,0,0,null,0]
["15:30:00",0,null,null,0,8,37,4,0,3,null,{"$f":"'Ex. 32 & Germany Rd.'!K120+'Ex. 32 & Germany Rd.'!L120","v":6},0,15,65,null,0]
["15:30:00",0,null,null,0,1,5,1,0,1,null,{"$f":"'Ex. 32 & Germany Rd.'!K121+'Ex. 32 & Germany Rd.'!L121","v":1},0,1,9,null,0]
["15:30:00",0,null,null,0,0,0,0,0,0,null,{"$f":"'Ex. 32 & Germany Rd.'!K122+'Ex. 32 & Germany Rd.'!L122","v":0},0,0,0,null,0]
["15:45:00",0,null,null,0,8,40,2,0,5,null,{"$f":"'Ex. 32 & Germany Rd.'!K123+'Ex. 32 & Germany Rd.'!L123","v":10},0,14,62,null,0]
["15:45:00",0,null,null,0,1,5,1,0,0,null,{"$f":"'Ex. 32 & Germany Rd.'!K124+'Ex. 32 & Germany Rd.'!L124","v":1},0,0,4,null,0]
["15:45:00",0,null,null,0,0,0,0,0,0,null,{"$f":"'Ex. 32 & Germany Rd.'!K125+'Ex. 32 & Germany Rd.'!L125","v":0},0,0,0,null,0]
["16:00:00",0,null,null,0,19,57,1,0,1,null,{"$f":"'Ex. 32 & Germany Rd.'!K126+'Ex. 32 & Germany Rd.'!L126","v":13},0,23,78,null,0]
["16:00:00",0,null,null,0,0,7,1,0,0,null,{"$f":"'Ex. 32 & Germany Rd.'!K127+'Ex. 32 & Germany Rd.'!L127","v":0},0,0,9,null,0]
["16:00:00",0,null,null,0,0,0,0,0,0,null,{"$f":"'Ex. 32 & Germany Rd.'!K128+'Ex. 32 & Germany Rd.'!L128","v":0},0,0,0,null,0]
["16:15:00",0,null,null,0,8,35,3,0,2,null,{"$f":"'Ex. 32 & Germany Rd.'!K129+'Ex. 32 & Germany Rd.'!L129","v":15},0,10,58,null,0]
["16:15:00",0,null,null,0,1,7,0,0,0,null,{"$f":"'Ex. 32 & Germany Rd.'!K130+'Ex. 32 & Germany Rd.'!L130","v":0},0,0,6,null,0]
["16:15:00",0,null,null,0,0,0,0,0,0,null,{"$f":"'Ex. 32 & Germany Rd.'!K131+'Ex. 32 & Germany Rd.'!L131","v":0},0,0,0,null,0]
["16:30:00",1,null,null,0,6,22,4,0,2,null,{"$f":"'Ex. 32 & Germany Rd.'!K132+'Ex. 32 & Germany Rd.'!L132","v":19},0,8,69,null,0]
["16:30:00",0,null,null,0,1,4,0,0,0,null,{"$f":"'Ex. 32 & Germany Rd.'!K133+'Ex. 32 & Germany Rd.'!L133","v":1},0,0,6,null,0]
["16:30:00",0,null,null,0,0,0,0,0,0,null,{"$f":"'Ex. 32 & Germany Rd.'!K134+'Ex. 32 & Germany Rd.'!L134","v":0},0,0,0,null,0]
["16:45:00",0,null,null,0,6,34,1,0,10,null,{"$f":"'Ex. 32 & Germany Rd.'!K135+'Ex. 32 & Germany Rd.'!L135","v":13},0,12,73,null,0]
["16:45:00",0,null,null,0,0,5,0,0,0,null,{"$f":"'Ex. 32 & Germany Rd.'!K136+'Ex. 32 & Germany Rd.'!L136","v":0},0,0,8,null,0]
["16:45:00",0,null,null,0,0,0,0,0,0,null,{"$f":"'Ex. 32 & Germany Rd.'!K137+'Ex. 32 & Germany Rd.'!L137","v":0},0,0,0,null,0]
["17:00:00",0,null,null,0,15,41,1,0,5,null,{"$f":"'Ex. 32 & Germany Rd.'!K138+'Ex. 32 & Germany Rd.'!L138","v":9},0,22,66,null,0]
["17:00:00",0,null,null,0,0,7,0,0,0,null,{"$f":"'Ex. 32 & Germany Rd.'!K139+'Ex. 32 & Germany Rd.'!L139","v":0},0,0,6,null,0]
["17:00:00",0,null,null,0,0,0,0,0,0,null,{"$f":"'Ex. 32 & Germany Rd.'!K140+'Ex. 32 & Germany Rd.'!L140","v":0},0,0,0,null,0]
["17:15:00",0,null,null,0,7,29,4,0,6,null,{"$f":"'Ex. 32 & Germany Rd.'!K141+'Ex. 32 & Germany Rd.'!L141","v":8},0,20,63,null,0]
["17:15:00",0,null,null,0,0,2,0,0,0,null,{"$f":"'Ex. 32 & Germany Rd.'!K142+'Ex. 32 & Germany Rd.'!L142","v":1},0,1,5,null,0]
["17:15:00",0,null,null,0,0,0,0,0,0,null,{"$f":"'Ex. 32 & Germany Rd.'!K143+'Ex. 32 & Germany Rd.'!L143","v":0},0,0,0,null,0]
["17:30:00",0,null,null,0,15,34,3,0,8,null,{"$f":"'Ex. 32 & Germany Rd.'!K144+'Ex. 32 & Germany Rd.'!L144","v":12},0,8,71,null,0]
["17:30:00",0,null,null,0,0,1,0,0,0,null,{"$f":"'Ex. 32 & Germany Rd.'!K145+'Ex. 32 & Germany Rd.'!L145","v":0},0,0,6,null,0]
["17:30:00",0,null,null,0,0,0,0,0,0,null,{"$f":"'Ex. 32 & Germany Rd.'!K146+'Ex. 32 & Germany Rd.'!L146","v":0},0,0,0,null,0]
["17:45:00",0,null,null,0,11,31,7,0,5,null,{"$f":"'Ex. 32 & Germany Rd.'!K147+'Ex. 32 & Germany Rd.'!L147","v":13},0,10,31,null,0]
["17:45:00",0,null,null,0,0,5,0,0,0,null,{"$f":"'Ex. 32 & Germany Rd.'!K148+'Ex. 32 & Germany Rd.'!L148","v":0},0,0,4,null,0]
["17:45:00",0,null,null,0,0,0,0,0,0,null,{"$f":"'Ex. 32 & Germany Rd.'!K149+'Ex. 32 & Germany Rd.'!L149","v":0},0,0,0,null,0]

{"sheet":"Prop. 32 & Schuster Rd.","index":3,"n_rows":149,"n_cols":17,"rows_kept":149,"cut":false,"hidden":false,"merged":[]}
["Start Date","2010-06-21"]
["Start Time","06:00:00"]
["Site Code",6466]
["Street Name","SCHUSTER RD--Southbound",null,null,null,"SR 32--Westbound",null,null,null,"SCHUSTER RD--Northbound",null,null,null,"SR 32--Eastbound"]
["Start Time","Right ","Thru ","Left ","Peds ","Right ","Thru ","Left ","Peds ","Right ","Thru ","Left ","Peds ","Right ","Thru ","Left ","Peds "]
["06:00:00",2,1,{"$f":"'Ex. 32 & Schuster Rd.'!D6+'Ex. 32 & Germany Rd.'!D6+'Ex. 32 & Germany Rd.'!C6","v":6},0,3,25,0,0,0,2,1,0,0,14,{"$f":"'Ex. 32 & Schuster Rd.'!P6+'Ex. 32 & Germany Rd.'!P6","v":2},0]
["06:00:00",1,0,{"$f":"'Ex. 32 & Schuster Rd.'!D7+'Ex. 32 & Germany Rd.'!D7+'Ex. 32 & Germany Rd.'!C7","v":1},0,0,4,0,0,0,0,0,0,0,3,{"$f":"'Ex. 32 & Schuster Rd.'!P7+'Ex. 32 & Germany Rd.'!P7","v":0},0]
["06:00:00",0,0,{"$f":"'Ex. 32 & Schuster Rd.'!D8+'Ex. 32 & Germany Rd.'!D8+'Ex. 32 & Germany Rd.'!C8","v":0},0,0,0,0,0,0,0,0,0,0,0,{"$f":"'Ex. 32 & Schuster Rd.'!P8+'Ex. 32 & Germany Rd.'!P8","v":0},0]
["06:15:00",2,1,{"$f":"'Ex. 32 & Schuster Rd.'!D9+'Ex. 32 & Germany Rd.'!D9+'Ex. 32 & Germany Rd.'!C9","v":11},0,2,67,0,0,0,2,4,0,0,27,{"$f":"'Ex. 32 & Schuster Rd.'!P9+'Ex. 32 & Germany Rd.'!P9","v":8},0]
["06:15:00",1,0,{"$f":"'Ex. 32 & Schuster Rd.'!D10+'Ex. 32 & Germany Rd.'!D10+'Ex. 32 & Germany Rd.'!C10","v":0},0,0,8,0,0,0,0,0,0,0,4,{"$f":"'Ex. 32 & Schuster Rd.'!P10+'Ex. 32 & Germany Rd.'!P10","v":1},0]
["06:15:00",0,0,{"$f":"'Ex. 32 & Schuster Rd.'!D11+'Ex. 32 & Germany Rd.'!D11+'Ex. 32 & Germany Rd.'!C11","v":0},0,0,0,0,0,0,0,0,0,0,0,{"$f":"'Ex. 32 & Schuster Rd.'!P11+'Ex. 32 & Germany Rd.'!P11","v":0},0]
["06:30:00",6,2,{"$f":"'Ex. 32 & Schuster Rd.'!D12+'Ex. 32 & Germany Rd.'!D12+'Ex. 32 & Germany Rd.'!C12","v":14},0,4,69,2,0,0,4,2,0,0,26,{"$f":"'Ex. 32 & Schuster Rd.'!P12+'Ex. 32 & Germany Rd.'!P12","v":8},0]
["06:30:00",2,0,{"$f":"'Ex. 32 & Schuster Rd.'!D13+'Ex. 32 & Germany Rd.'!D13+'Ex. 32 & Germany Rd.'!C13","v":0},0,0,5,0,0,0,0,0,0,0,8,{"$f":"'Ex. 32 & Schuster Rd.'!P13+'Ex. 32 & Germany Rd.'!P13","v":0},0]
["06:30:00",0,0,{"$f":"'Ex. 32 & Schuster Rd.'!D14+'Ex. 32 & Germany Rd.'!D14+'Ex. 32 & Germany Rd.'!C14","v":0},0,0,0,0,0,0,0,0,0,0,0,{"$f":"'Ex. 32 & Schuster Rd.'!P14+'Ex. 32 & Germany Rd.'!P14","v":0},0]
["06:45:00",6,1,{"$f":"'Ex. 32 & Schuster Rd.'!D15+'Ex. 32 & Germany Rd.'!D15+'Ex. 32 & Germany Rd.'!C15","v":4},0,2,49,4,0,1,6,0,0,0,18,{"$f":"'Ex. 32 & Schuster Rd.'!P15+'Ex. 32 & Germany Rd.'!P15","v":5},0]
["06:45:00",2,0,{"$f":"'Ex. 32 & Schuster Rd.'!D16+'Ex. 32 & Germany Rd.'!D16+'Ex. 32 & Germany Rd.'!C16","v":1},0,0,6,0,0,0,0,0,0,0,4,{"$f":"'Ex. 32 & Schuster Rd.'!P16+'Ex. 32 & Germany Rd.'!P16","v":0},0]
["06:45:00",0,0,{"$f":"'Ex. 32 & Schuster Rd.'!D17+'Ex. 32 & Germany Rd.'!D17+'Ex. 32 & Germany Rd.'!C17","v":0},0,0,0,0,0,0,0,0,0,0,0,{"$f":"'Ex. 32 & Schuster Rd.'!P17+'Ex. 32 & Germany Rd.'!P17","v":0},0]
["07:00:00",11,5,{"$f":"'Ex. 32 & Schuster Rd.'!D18+'Ex. 32 & Germany Rd.'!D18+'Ex. 32 & Germany Rd.'!C18","v":8},0,5,45,1,0,1,4,5,0,0,15,{"$f":"'Ex. 32 & Schuster Rd.'!P18+'Ex. 32 & Germany Rd.'!P18","v":3},0]
["07:00:00",1,0,{"$f":"'Ex. 32 & Schuster Rd.'!D19+'Ex. 32 & Germany Rd.'!D19+'Ex. 32 & Germany Rd.'!C19","v":1},0,0,4,0,0,0,0,0,0,0,2,{"$f":"'Ex. 32 & Schuster Rd.'!P19+'Ex. 32 & Germany Rd.'!P19","v":0},0]
["07:00:00",0,0,{"$f":"'Ex. 32 & Schuster Rd.'!D20+'Ex. 32 & Germany Rd.'!D20+'Ex. 32 & Germany Rd.'!C20","v":0},0,0,0,0,0,0,0,0,0,0,0,{"$f":"'Ex. 32 & Schuster Rd.'!P20+'Ex. 32 & Germany Rd.'!P20","v":0},0]
["07:15:00",3,0,{"$f":"'Ex. 32 & Schuster Rd.'!D21+'Ex. 32 & Germany Rd.'!D21+'Ex. 32 & Germany Rd.'!C21","v":12},0,4,50,1,0,0,1,1,0,0,21,{"$f":"'Ex. 32 & Schuster Rd.'!P21+'Ex. 32 & Germany Rd.'!P21","v":0},0]
["07:15:00",3,0,{"$f":"'Ex. 32 & Schuster Rd.'!D22+'Ex. 32 & Germany Rd.'!D22+'Ex. 32 & Germany Rd.'!C22","v":0},0,1,4,0,0,0,1,0,0,0,7,{"$f":"'Ex. 32 & Schuster Rd.'!P22+'Ex. 32 & Germany Rd.'!P22","v":0},0]
["07:15:00",0,0,{"$f":"'Ex. 32 & Schuster Rd.'!D23+'Ex. 32 & Germany Rd.'!D23+'Ex. 32 & Germany Rd.'!C23","v":0},0,0,0,0,0,0,0,0,0,0,0,{"$f":"'Ex. 32 & Schuster Rd.'!P23+'Ex. 32 & Germany Rd.'!P23","v":0},0]
["07:30:00",0,2,{"$f":"'Ex. 32 & Schuster Rd.'!D24+'Ex. 32 & Germany Rd.'!D24+'Ex. 32 & Germany Rd.'!C24","v":9},0,3,38,0,0,0,3,2,0,1,26,{"$f":"'Ex. 32 & Schuster Rd.'!P24+'Ex. 32 & Germany Rd.'!P24","v":5},0]
["07:30:00",1,0,{"$f":"'Ex. 32 & Schuster Rd.'!D25+'Ex. 32 & Germany Rd.'!D25+'Ex. 32 & Germany Rd.'!C25","v":1},0,1,6,0,0,0,0,0,0,0,10,{"$f":"'Ex. 32 & Schuster Rd.'!P25+'Ex. 32 & Germany Rd.'!P25","v":0},0]
["07:30:00",0,0,{"$f":"'Ex. 32 & Schuster Rd.'!D26+'Ex. 32 & Germany Rd.'!D26+'Ex. 32 & Germany Rd.'!C26","v":0},0,0,0,0,0,0,0,0,0,0,0,{"$f":"'Ex. 32 & Schuster Rd.'!P26+'Ex. 32 & Germany Rd.'!P26","v":0},0]
["07:45:00",0,1,{"$f":"'Ex. 32 & Schuster Rd.'!D27+'Ex. 32 & Germany Rd.'!D27+'Ex. 32 & Germany Rd.'!C27","v":9},0,5,46,0,0,1,11,3,0,0,30,{"$f":"'Ex. 32 & Schuster Rd.'!P27+'Ex. 32 & Germany Rd.'!P27","v":1},0]
["07:45:00",1,0,{"$f":"'Ex. 32 & Schuster Rd.'!D28+'Ex. 32 & Germany Rd.'!D28+'Ex. 32 & Germany Rd.'!C28","v":0},0,1,7,0,0,0,0,0,0,0,5,{"$f":"'Ex. 32 & Schuster Rd.'!P28+'Ex. 32 & Germany Rd.'!P28","v":1},0]
["07:45:00",0,0,{"$f":"'Ex. 32 & Schuster Rd.'!D29+'Ex. 32 & Germany Rd.'!D29+'Ex. 32 & Germany Rd.'!C29","v":0},0,0,0,0,0,0,0,0,0,0,0,{"$f":"'Ex. 32 & Schuster Rd.'!P29+'Ex. 32 & Germany Rd.'!P29","v":0},0]
["08:00:00",1,1,{"$f":"'Ex. 32 & Schuster Rd.'!D30+'Ex. 32 & Germany Rd.'!D30+'Ex. 32 & Germany Rd.'!C30","v":15},2,4,48,1,0,0,4,1,0,1,28,{"$f":"'Ex. 32 & Schuster Rd.'!P30+'Ex. 32 & Germany Rd.'!P30","v":2},0]
["08:00:00",1,0,{"$f":"'Ex. 32 & Schuster Rd.'!D31+'Ex. 32 & Germany Rd.'!D31+'Ex. 32 & Germany Rd.'!C31","v":1},0,0,4,0,0,0,1,0,0,0,4,{"$f":"'Ex. 32 & Schuster Rd.'!P31+'Ex. 32 & Germany Rd.'!P31","v":3},0]
["08:00:00",0,0,{"$f":"'Ex. 32 & Schuster Rd.'!D32+'Ex. 32 & Germany Rd.'!D32+'Ex. 32 & Germany Rd.'!C32","v":0},0,0,0,0,0,0,0,0,0,0,0,{"$f":"'Ex. 32 & Schuster Rd.'!P32+'Ex. 32 & Germany Rd.'!P32","v":0},0]
["08:15:00",8,1,{"$f":"'Ex. 32 & Schuster Rd.'!D33+'Ex. 32 & Germany Rd.'!D33+'Ex. 32 & Germany Rd.'!C33","v":17},0,5,38,0,0,0,8,3,0,0,24,{"$f":"'Ex. 32 & Schuster Rd.'!P33+'Ex. 32 & Germany Rd.'!P33","v":4},0]
["08:15:00",1,1,{"$f":"'Ex. 32 & Schuster Rd.'!D34+'Ex. 32 & Germany Rd.'!D34+'Ex. 32 & Germany Rd.'!C34","v":2},0,1,3,0,0,0,0,0,0,0,8,{"$f":"'Ex. 32 & Schuster Rd.'!P34+'Ex. 32 & Germany Rd.'!P34","v":2},0]
["08:15:00",0,0,{"$f":"'Ex. 32 & Schuster Rd.'!D35+'Ex. 32 & Germany Rd.'!D35+'Ex. 32 & Germany Rd.'!C35","v":0},0,0,0,0,0,0,0,0,0,0,0,{"$f":"'Ex. 32 & Schuster Rd.'!P35+'Ex. 32 & Germany Rd.'!P35","v":0},0]
["08:30:00",6,3,{"$f":"'Ex. 32 & Schuster Rd.'!D36+'Ex. 32 & Germany Rd.'!D36+'Ex. 32 & Germany Rd.'!C36","v":21},0,2,37,2,0,1,2,2,0,1,29,{"$f":"'Ex. 32 & Schuster Rd.'!P36+'Ex. 32 & Germany Rd.'!P36","v":3},0]
["08:30:00",2,0,{"$f":"'Ex. 32 & Schuster Rd.'!D37+'Ex. 32 & Germany Rd.'!D37+'Ex. 32 & Germany Rd.'!C37","v":2},0,0,2,0,0,0,0,0,0,0,2,{"$f":"'Ex. 32 & Schuster Rd.'!P37+'Ex. 32 & Germany Rd.'!P37","v":1},0]
["08:30:00",0,0,{"$f":"'Ex. 32 & Schuster Rd.'!D38+'Ex. 32 & Germany Rd.'!D38+'Ex. 32 & Germany Rd.'!C38","v":0},0,0,0,0,0,0,0,0,0,0,0,{"$f":"'Ex. 32 & Schuster Rd.'!P38+'Ex. 32 & Germany Rd.'!P38","v":0},0]
["08:45:00",4,1,{"$f":"'Ex. 32 & Schuster Rd.'!D39+'Ex. 32 & Germany Rd.'!D39+'Ex. 32 & Germany Rd.'!C39","v":12},0,3,32,1,0,0,1,1,0,0,22,{"$f":"'Ex. 32 & Schuster Rd.'!P39+'Ex. 32 & Germany Rd.'!P39","v":1},0]
["08:45:00",2,1,{"$f":"'Ex. 32 & Schuster Rd.'!D40+'Ex. 32 & Germany Rd.'!D40+'Ex. 32 & Germany Rd.'!C40","v":2},0,1,4,0,0,0,1,0,0,0,1,{"$f":"'Ex. 32 & Schuster Rd.'!P40+'Ex. 32 & Germany Rd.'!P40","v":1},0]
["08:45:00",0,0,{"$f":"'Ex. 32 & Schuster Rd.'!D41+'Ex. 32 & Germany Rd.'!D41+'Ex. 32 & Germany Rd.'!C41","v":0},0,0,0,0,0,0,0,0,0,0,0,{"$f":"'Ex. 32 & Schuster Rd.'!P41+'Ex. 32 & Germany Rd.'!P41","v":0},0]
["09:00:00",2,0,{"$f":"'Ex. 32 & Schuster Rd.'!D42+'Ex. 32 & Germany Rd.'!D42+'Ex. 32 & Germany Rd.'!C42","v":11},0,0,26,0,0,0,1,0,0,1,23,{"$f":"'Ex. 32 & Schuster Rd.'!P42+'Ex. 32 & Germany Rd.'!P42","v":4},0]
["09:00:00",1,0,{"$f":"'Ex. 32 & Schuster Rd.'!D43+'Ex. 32 & Germany Rd.'!D43+'Ex. 32 & Germany Rd.'!C43","v":1},0,1,7,0,0,0,0,0,0,0,4,{"$f":"'Ex. 32 & Schuster Rd.'!P43+'Ex. 32 & Germany Rd.'!P43","v":4},0]
["09:00:00",0,0,{"$f":"'Ex. 32 & Schuster Rd.'!D44+'Ex. 32 & Germany Rd.'!D44+'Ex. 32 & Germany Rd.'!C44","v":0},0,0,0,0,0,0,0,0,0,0,0,{"$f":"'Ex. 32 & Schuster Rd.'!P44+'Ex. 32 & Germany Rd.'!P44","v":0},0]
["09:15:00",0,3,{"$f":"'Ex. 32 & Schuster Rd.'!D45+'Ex. 32 & Germany Rd.'!D45+'Ex. 32 & Germany Rd.'!C45","v":15},0,1,34,2,0,0,3,1,0,0,26,{"$f":"'Ex. 32 & Schuster Rd.'!P45+'Ex. 32 & Germany Rd.'!P45","v":4},0]
["09:15:00",1,0,{"$f":"'Ex. 32 & Schuster Rd.'!D46+'Ex. 32 & Germany Rd.'!D46+'Ex. 32 & Germany Rd.'!C46","v":1},0,0,2,0,0,0,0,0,0,0,7,{"$f":"'Ex. 32 & Schuster Rd.'!P46+'Ex. 32 & Germany Rd.'!P46","v":0},0]
["09:15:00",0,0,{"$f":"'Ex. 32 & Schuster Rd.'!D47+'Ex. 32 & Germany Rd.'!D47+'Ex. 32 & Germany Rd.'!C47","v":0},0,0,0,0,0,0,0,0,0,0,0,{"$f":"'Ex. 32 & Schuster Rd.'!P47+'Ex. 32 & Germany Rd.'!P47","v":0},0]
["09:30:00",0,2,{"$f":"'Ex. 32 & Schuster Rd.'!D48+'Ex. 32 & Germany Rd.'!D48+'Ex. 32 & Germany Rd.'!C48","v":8},0,0,22,1,0,0,1,0,0,1,28,{"$f":"'Ex. 32 & Schuster Rd.'!P48+'Ex. 32 & Germany Rd.'!P48","v":3},0]
["09:30:00",5,1,{"$f":"'Ex. 32 & Schuster Rd.'!D49+'Ex. 32 & Germany Rd.'!D49+'Ex. 32 & Germany Rd.'!C49","v":2},0,1,6,0,0,0,0,0,0,0,2,{"$f":"'Ex. 32 & Schuster Rd.'!P49+'Ex. 32 & Germany Rd.'!P49","v":2},0]
["09:30:00",0,0,{"$f":"'Ex. 32 & Schuster Rd.'!D50+'Ex. 32 & Germany Rd.'!D50+'Ex. 32 & Germany Rd.'!C50","v":0},0,0,0,0,0,0,0,0,0,0,0,{"$f":"'Ex. 32 & Schuster Rd.'!P50+'Ex. 32 & Germany Rd.'!P50","v":0},0]
["09:45:00",2,5,{"$f":"'Ex. 32 & Schuster Rd.'!D51+'Ex. 32 & Germany Rd.'!D51+'Ex. 32 & Germany Rd.'!C51","v":6},0,2,29,0,0,0,4,1,0,0,33,{"$f":"'Ex. 32 & Schuster Rd.'!P51+'Ex. 32 & Germany Rd.'!P51","v":3},0]
["09:45:00",0,0,{"$f":"'Ex. 32 & Schuster Rd.'!D52+'Ex. 32 & Germany Rd.'!D52+'Ex. 32 & Germany Rd.'!C52","v":2},0,0,6,0,0,0,0,0,0,0,8,{"$f":"'Ex. 32 & Schuster Rd.'!P52+'Ex. 32 & Germany Rd.'!P52","v":0},0]
["09:45:00",0,0,{"$f":"'Ex. 32 & Schuster Rd.'!D53+'Ex. 32 & Germany Rd.'!D53+'Ex. 32 & Germany Rd.'!C53","v":0},0,0,0,0,0,0,0,0,0,0,0,{"$f":"'Ex. 32 & Schuster Rd.'!P53+'Ex. 32 & Germany Rd.'!P53","v":0},0]
["10:00:00",2,1,{"$f":"'Ex. 32 & Schuster Rd.'!D54+'Ex. 32 & Germany Rd.'!D54+'Ex. 32 & Germany Rd.'!C54","v":16},0,0,37,0,0,0,2,0,0,1,24,{"$f":"'Ex. 32 & Schuster Rd.'!P54+'Ex. 32 & Germany Rd.'!P54","v":1},0]
["10:00:00",1,0,{"$f":"'Ex. 32 & Schuster Rd.'!D55+'Ex. 32 & Germany Rd.'!D55+'Ex. 32 & Germany Rd.'!C55","v":1},0,0,6,0,0,0,0,0,0,0,8,{"$f":"'Ex. 32 & Schuster Rd.'!P55+'Ex. 32 & Germany Rd.'!P55","v":1},0]
["10:00:00",0,0,{"$f":"'Ex. 32 & Schuster Rd.'!D56+'Ex. 32 & Germany Rd.'!D56+'Ex. 32 & Germany Rd.'!C56","v":0},0,0,0,0,0,0,0,0,0,0,0,{"$f":"'Ex. 32 & Schuster Rd.'!P56+'Ex. 32 & Germany Rd.'!P56","v":0},0]
["10:15:00",2,1,{"$f":"'Ex. 32 & Schuster Rd.'!D57+'Ex. 32 & Germany Rd.'!D57+'Ex. 32 & Germany Rd.'!C57","v":22},0,2,21,1,0,1,2,1,0,0,37,{"$f":"'Ex. 32 & Schuster Rd.'!P57+'Ex. 32 & Germany Rd.'!P57","v":4},0]
["10:15:00",1,0,{"$f":"'Ex. 32 & Schuster Rd.'!D58+'Ex. 32 & Germany Rd.'!D58+'Ex. 32 & Germany Rd.'!C58","v":0},0,1,9,0,0,0,0,0,0,0,2,{"$f":"'Ex. 32 & Schuster Rd.'!P58+'Ex. 32 & Germany Rd.'!P58","v":5},0]
["10:15:00",0,0,{"$f":"'Ex. 32 & Schuster Rd.'!D59+'Ex. 32 & Germany Rd.'!D59+'Ex. 32 & Germany Rd.'!C59","v":0},0,0,0,0,0,0,0,0,0,0,0,{"$f":"'Ex. 32 & Schuster Rd.'!P59+'Ex. 32 & Germany Rd.'!P59","v":0},0]
["10:30:00",1,4,{"$f":"'Ex. 32 & Schuster Rd.'!D60+'Ex. 32 & Germany Rd.'!D60+'Ex. 32 & Germany Rd.'!C60","v":18},0,1,23,0,0,1,1,1,0,0,25,{"$f":"'Ex. 32 & Schuster Rd.'!P60+'Ex. 32 & Germany Rd.'!P60","v":1},0]
["10:30:00",1,0,{"$f":"'Ex. 32 & Schuster Rd.'!D61+'Ex. 32 & Germany Rd.'!D61+'Ex. 32 & Germany Rd.'!C61","v":2},0,0,10,0,0,0,0,0,0,0,6,{"$f":"'Ex. 32 & Schuster Rd.'!P61+'Ex. 32 & Germany Rd.'!P61","v":0},0]
["10:30:00",0,0,{"$f":"'Ex. 32 & Schuster Rd.'!D62+'Ex. 32 & Germany Rd.'!D62+'Ex. 32 & Germany Rd.'!C62","v":0},0,0,0,0,0,0,0,0,0,0,0,{"$f":"'Ex. 32 & Schuster Rd.'!P62+'Ex. 32 & Germany Rd.'!P62","v":0},0]
["10:45:00",0,4,{"$f":"'Ex. 32 & Schuster Rd.'!D63+'Ex. 32 & Germany Rd.'!D63+'Ex. 32 & Germany Rd.'!C63","v":26},0,2,37,0,0,0,2,1,0,0,31,{"$f":"'Ex. 32 & Schuster Rd.'!P63+'Ex. 32 & Germany Rd.'!P63","v":4},0]
["10:45:00",3,0,{"$f":"'Ex. 32 & Schuster Rd.'!D64+'Ex. 32 & Germany Rd.'!D64+'Ex. 32 & Germany Rd.'!C64","v":0},0,0,8,0,0,0,0,0,0,0,6,{"$f":"'Ex. 32 & Schuster Rd.'!P64+'Ex. 32 & Germany Rd.'!P64","v":2},0]
["10:45:00",0,0,{"$f":"'Ex. 32 & Schuster Rd.'!D65+'Ex. 32 & Germany Rd.'!D65+'Ex. 32 & Germany Rd.'!C65","v":0},0,0,0,0,0,0,0,0,0,0,0,{"$f":"'Ex. 32 & Schuster Rd.'!P65+'Ex. 32 & Germany Rd.'!P65","v":0},0]
["11:00:00",0,3,{"$f":"'Ex. 32 & Schuster Rd.'!D66+'Ex. 32 & Germany Rd.'!D66+'Ex. 32 & Germany Rd.'!C66","v":22},0,0,37,1,0,1,2,1,0,1,29,{"$f":"'Ex. 32 & Schuster Rd.'!P66+'Ex. 32 & Germany Rd.'!P66","v":3},0]
["11:00:00",2,0,{"$f":"'Ex. 32 & Schuster Rd.'!D67+'Ex. 32 & Germany Rd.'!D67+'Ex. 32 & Germany Rd.'!C67","v":2},0,0,9,0,0,0,0,1,0,0,5,{"$f":"'Ex. 32 & Schuster Rd.'!P67+'Ex. 32 & Germany Rd.'!P67","v":3},0]
["11:00:00",0,0,{"$f":"'Ex. 32 & Schuster Rd.'!D68+'Ex. 32 & Germany Rd.'!D68+'Ex. 32 & Germany Rd.'!C68","v":0},0,0,0,0,0,0,0,0,0,0,0,{"$f":"'Ex. 32 & Schuster Rd.'!P68+'Ex. 32 & Germany Rd.'!P68","v":0},0]
["11:15:00",1,4,{"$f":"'Ex. 32 & Schuster Rd.'!D69+'Ex. 32 & Germany Rd.'!D69+'Ex. 32 & Germany Rd.'!C69","v":17},0,1,42,0,0,0,4,0,0,0,24,{"$f":"'Ex. 32 & Schuster Rd.'!P69+'Ex. 32 & Germany Rd.'!P69","v":7},0]
["11:15:00",1,1,{"$f":"'Ex. 32 & Schuster Rd.'!D70+'Ex. 32 & Germany Rd.'!D70+'Ex. 32 & Germany Rd.'!C70","v":1},0,0,4,0,0,0,1,1,0,0,1,{"$f":"'Ex. 32 & Schuster Rd.'!P70+'Ex. 32 & Germany Rd.'!P70","v":1},0]
["11:15:00",0,0,{"$f":"'Ex. 32 & Schuster Rd.'!D71+'Ex. 32 & Germany Rd.'!D71+'Ex. 32 & Germany Rd.'!C71","v":0},0,0,0,0,0,0,0,0,0,0,0,{"$f":"'Ex. 32 & Schuster Rd.'!P71+'Ex. 32 & Germany Rd.'!P71","v":0},0]
["11:30:00",2,3,{"$f":"'Ex. 32 & Schuster Rd.'!D72+'Ex. 32 & Germany Rd.'!D72+'Ex. 32 & Germany Rd.'!C72","v":24},0,0,29,2,0,1,3,1,0,1,26,{"$f":"'Ex. 32 & Schuster Rd.'!P72+'Ex. 32 & Germany Rd.'!P72","v":5},0]
["11:30:00",3,0,{"$f":"'Ex. 32 & Schuster Rd.'!D73+'Ex. 32 & Germany Rd.'!D73+'Ex. 32 & Germany Rd.'!C73","v":1},0,1,5,0,0,0,1,0,0,0,3,{"$f":"'Ex. 32 & Schuster Rd.'!P73+'Ex. 32 & Germany Rd.'!P73","v":2},0]
["11:30:00",0,0,{"$f":"'Ex. 32 & Schuster Rd.'!D74+'Ex. 32 & Germany Rd.'!D74+'Ex. 32 & Germany Rd.'!C74","v":0},0,0,0,0,0,0,0,0,0,0,0,{"$f":"'Ex. 32 & Schuster Rd.'!P74+'Ex. 32 & Germany Rd.'!P74","v":0},0]
["11:45:00",0,1,{"$f":"'Ex. 32 & Schuster Rd.'!D75+'Ex. 32 & Germany Rd.'!D75+'Ex. 32 & Germany Rd.'!C75","v":22},0,1,36,1,0,0,2,2,0,0,32,{"$f":"'Ex. 32 & Schuster Rd.'!P75+'Ex. 32 & Germany Rd.'!P75","v":3},0]
["11:45:00",1,1,{"$f":"'Ex. 32 & Schuster Rd.'!D76+'Ex. 32 & Germany Rd.'!D76+'Ex. 32 & Germany Rd.'!C76","v":2},0,0,8,0,0,0,0,0,0,0,1,{"$f":"'Ex. 32 & Schuster Rd.'!P76+'Ex. 32 & Germany Rd.'!P76","v":1},0]
["11:45:00",0,0,{"$f":"'Ex. 32 & Schuster Rd.'!D77+'Ex. 32 & Germany Rd.'!D77+'Ex. 32 & Germany Rd.'!C77","v":0},0,0,0,0,0,0,0,0,0,0,0,{"$f":"'Ex. 32 & Schuster Rd.'!P77+'Ex. 32 & Germany Rd.'!P77","v":0},0]
["12:00:00",1,2,{"$f":"'Ex. 32 & Schuster Rd.'!D78+'Ex. 32 & Germany Rd.'!D78+'Ex. 32 & Germany Rd.'!C78","v":22},0,0,22,0,0,0,0,0,0,1,27,{"$f":"'Ex. 32 & Schuster Rd.'!P78+'Ex. 32 & Germany Rd.'!P78","v":3},0]
["12:00:00",0,0,{"$f":"'Ex. 32 & Schuster Rd.'!D79+'Ex. 32 & Germany Rd.'!D79+'Ex. 32 & Germany Rd.'!C79","v":2},0,1,7,0,0,0,0,0,0,0,2,{"$f":"'Ex. 32 & Schuster Rd.'!P79+'Ex. 32 & Germany Rd.'!P79","v":0},0]
["12:00:00",0,0,{"$f":"'Ex. 32 & Schuster Rd.'!D80+'Ex. 32 & Germany Rd.'!D80+'Ex. 32 & Germany Rd.'!C80","v":0},0,0,0,0,0,0,0,0,0,0,0,{"$f":"'Ex. 32 & Schuster Rd.'!P80+'Ex. 32 & Germany Rd.'!P80","v":0},0]
["12:15:00",3,2,{"$f":"'Ex. 32 & Schuster Rd.'!D81+'Ex. 32 & Germany Rd.'!D81+'Ex. 32 & Germany Rd.'!C81","v":22},0,1,29,1,0,1,4,2,0,0,28,{"$f":"'Ex. 32 & Schuster Rd.'!P81+'Ex. 32 & Germany Rd.'!P81","v":4},0]
["12:15:00",3,0,{"$f":"'Ex. 32 & Schuster Rd.'!D82+'Ex. 32 & Germany Rd.'!D82+'Ex. 32 & Germany Rd.'!C82","v":0},0,0,8,0,0,0,1,0,0,0,4,{"$f":"'Ex. 32 & Schuster Rd.'!P82+'Ex. 32 & Germany Rd.'!P82","v":1},0]
["12:15:00",0,0,{"$f":"'Ex. 32 & Schuster Rd.'!D83+'Ex. 32 & Germany Rd.'!D83+'Ex. 32 & Germany Rd.'!C83","v":0},0,0,0,0,0,0,0,0,0,0,0,{"$f":"'Ex. 32 & Schuster Rd.'!P83+'Ex. 32 & Germany Rd.'!P83","v":0},0]
["12:30:00",2,5,{"$f":"'Ex. 32 & Schuster Rd.'!D84+'Ex. 32 & Germany Rd.'!D84+'Ex. 32 & Germany Rd.'!C84","v":29},0,6,34,2,0,1,3,2,0,4,34,{"$f":"'Ex. 32 & Schuster Rd.'!P84+'Ex. 32 & Germany Rd.'!P84","v":6},0]
["12:30:00",0,0,{"$f":"'Ex. 32 & Schuster Rd.'!D85+'Ex. 32 & Germany Rd.'!D85+'Ex. 32 & Germany Rd.'!C85","v":2},0,0,5,0,0,0,0,0,0,0,9,{"$f":"'Ex. 32 & Schuster Rd.'!P85+'Ex. 32 & Germany Rd.'!P85","v":1},0]
["12:30:00",0,0,{"$f":"'Ex. 32 & Schuster Rd.'!D86+'Ex. 32 & Germany Rd.'!D86+'Ex. 32 & Germany Rd.'!C86","v":0},0,0,0,0,0,0,0,0,0,0,0,{"$f":"'Ex. 32 & Schuster Rd.'!P86+'Ex. 32 & Germany Rd.'!P86","v":0},0]
["12:45:00",4,3,{"$f":"'Ex. 32 & Schuster Rd.'!D87+'Ex. 32 & Germany Rd.'!D87+'Ex. 32 & Germany Rd.'!C87","v":24},0,1,35,1,0,0,0,2,0,0,43,{"$f":"'Ex. 32 & Schuster Rd.'!P87+'Ex. 32 & Germany Rd.'!P87","v":1},0]
["12:45:00",0,0,{"$f":"'Ex. 32 & Schuster Rd.'!D88+'Ex. 32 & Germany Rd.'!D88+'Ex. 32 & Germany Rd.'!C88","v":0},0,0,16,0,0,0,0,0,0,0,8,{"$f":"'Ex. 32 & Schuster Rd.'!P88+'Ex. 32 & Germany Rd.'!P88","v":2},0]
["12:45:00",0,0,{"$f":"'Ex. 32 & Schuster Rd.'!D89+'Ex. 32 & Germany Rd.'!D89+'Ex. 32 & Germany Rd.'!C89","v":0},0,0,0,0,0,0,0,0,0,0,0,{"$f":"'Ex. 32 & Schuster Rd.'!P89+'Ex. 32 & Germany Rd.'!P89","v":0},0]
["13:00:00",2,4,{"$f":"'Ex. 32 & Schuster Rd.'!D90+'Ex. 32 & Germany Rd.'!D90+'Ex. 32 & Germany Rd.'!C90","v":33},0,0,38,0,0,1,3,0,0,1,35,{"$f":"'Ex. 32 & Schuster Rd.'!P90+'Ex. 32 & Germany Rd.'!P90","v":3},0]
["13:00:00",1,2,{"$f":"'Ex. 32 & Schuster Rd.'!D91+'Ex. 32 & Germany Rd.'!D91+'Ex. 32 & Germany Rd.'!C91","v":0},0,0,12,0,0,0,0,0,0,0,11,{"$f":"'Ex. 32 & Schuster Rd.'!P91+'Ex. 32 & Germany Rd.'!P91","v":4},0]
["13:00:00",0,0,{"$f":"'Ex. 32 & Schuster Rd.'!D92+'Ex. 32 & Germany Rd.'!D92+'Ex. 32 & Germany Rd.'!C92","v":0},0,0,0,0,0,0,0,0,0,0,0,{"$f":"'Ex. 32 & Schuster Rd.'!P92+'Ex. 32 & Germany Rd.'!P92","v":0},0]
["13:15:00",5,6,{"$f":"'Ex. 32 & Schuster Rd.'!D93+'Ex. 32 & Germany Rd.'!D93+'Ex. 32 & Germany Rd.'!C93","v":36},0,2,36,0,0,2,3,1,0,2,40,{"$f":"'Ex. 32 & Schuster Rd.'!P93+'Ex. 32 & Germany Rd.'!P93","v":3},0]
["13:15:00",3,0,{"$f":"'Ex. 32 & Schuster Rd.'!D94+'Ex. 32 & Germany Rd.'!D94+'Ex. 32 & Germany Rd.'!C94","v":3},0,0,5,1,0,0,0,0,0,0,6,{"$f":"'Ex. 32 & Schuster Rd.'!P94+'Ex. 32 & Germany Rd.'!P94","v":5},0]
["13:15:00",0,0,{"$f":"'Ex. 32 & Schuster Rd.'!D95+'Ex. 32 & Germany Rd.'!D95+'Ex. 32 & Germany Rd.'!C95","v":0},0,0,0,0,0,0,0,0,0,0,0,{"$f":"'Ex. 32 & Schuster Rd.'!P95+'Ex. 32 & Germany Rd.'!P95","v":0},0]
["13:30:00",2,3,{"$f":"'Ex. 32 & Schuster Rd.'!D96+'Ex. 32 & Germany Rd.'!D96+'Ex. 32 & Germany Rd.'!C96","v":37},0,4,33,0,0,2,4,0,0,2,43,{"$f":"'Ex. 32 & Schuster Rd.'!P96+'Ex. 32 & Germany Rd.'!P96","v":5},0]
["13:30:00",6,0,{"$f":"'Ex. 32 & Schuster Rd.'!D97+'Ex. 32 & Germany Rd.'!D97+'Ex. 32 & Germany Rd.'!C97","v":1},0,0,9,0,0,0,0,0,0,0,5,{"$f":"'Ex. 32 & Schuster Rd.'!P97+'Ex. 32 & Germany Rd.'!P97","v":4},0]
["13:30:00",0,0,{"$f":"'Ex. 32 & Schuster Rd.'!D98+'Ex. 32 & Germany Rd.'!D98+'Ex. 32 & Germany Rd.'!C98","v":0},0,0,0,0,0,0,0,0,0,0,0,{"$f":"'Ex. 32 & Schuster Rd.'!P98+'Ex. 32 & Germany Rd.'!P98","v":0},0]
["13:45:00",3,5,{"$f":"'Ex. 32 & Schuster Rd.'!D99+'Ex. 32 & Germany Rd.'!D99+'Ex. 32 & Germany Rd.'!C99","v":35},0,4,37,0,0,0,5,0,0,3,36,{"$f":"'Ex. 32 & Schuster Rd.'!P99+'Ex. 32 & Germany Rd.'!P99","v":4},0]
["13:45:00",4,0,{"$f":"'Ex. 32 & Schuster Rd.'!D100+'Ex. 32 & Germany Rd.'!D100+'Ex. 32 & Germany Rd.'!C100","v":2},0,0,5,0,0,0,0,0,0,0,5,{"$f":"'Ex. 32 & Schuster Rd.'!P100+'Ex. 32 & Germany Rd.'!P100","v":2},0]
["13:45:00",0,0,{"$f":"'Ex. 32 & Schuster Rd.'!D101+'Ex. 32 & Germany Rd.'!D101+'Ex. 32 & Germany Rd.'!C101","v":0},0,0,0,0,0,0,0,0,0,0,0,{"$f":"'Ex. 32 & Schuster Rd.'!P101+'Ex. 32 & Germany Rd.'!P101","v":0},0]
["14:00:00",3,2,{"$f":"'Ex. 32 & Schuster Rd.'!D102+'Ex. 32 & Germany Rd.'!D102+'Ex. 32 & Germany Rd.'!C102","v":29},0,4,29,1,0,0,4,3,0,2,36,{"$f":"'Ex. 32 & Schuster Rd.'!P102+'Ex. 32 & Germany Rd.'!P102","v":5},0]
["14:00:00",3,0,{"$f":"'Ex. 32 & Schuster Rd.'!D103+'Ex. 32 & Germany Rd.'!D103+'Ex. 32 & Germany Rd.'!C103","v":2},0,0,12,0,0,0,0,0,0,0,5,{"$f":"'Ex. 32 & Schuster Rd.'!P103+'Ex. 32 & Germany Rd.'!P103","v":1},0]
["14:00:00",0,0,{"$f":"'Ex. 32 & Schuster Rd.'!D104+'Ex. 32 & Germany Rd.'!D104+'Ex. 32 & Germany Rd.'!C104","v":0},0,0,0,0,0,0,0,0,0,0,0,{"$f":"'Ex. 32 & Schuster Rd.'!P104+'Ex. 32 & Germany Rd.'!P104","v":0},0]
["14:15:00",4,1,{"$f":"'Ex. 32 & Schuster Rd.'!D105+'Ex. 32 & Germany Rd.'!D105+'Ex. 32 & Germany Rd.'!C105","v":52},0,0,42,3,0,2,2,0,0,1,30,{"$f":"'Ex. 32 & Schuster Rd.'!P105+'Ex. 32 & Germany Rd.'!P105","v":3},0]
["14:15:00",0,0,{"$f":"'Ex. 32 & Schuster Rd.'!D106+'Ex. 32 & Germany Rd.'!D106+'Ex. 32 & Germany Rd.'!C106","v":1},0,0,5,0,0,0,0,0,0,0,8,{"$f":"'Ex. 32 & Schuster Rd.'!P106+'Ex. 32 & Germany Rd.'!P106","v":1},0]
["14:15:00",0,0,{"$f":"'Ex. 32 & Schuster Rd.'!D107+'Ex. 32 & Germany Rd.'!D107+'Ex. 32 & Germany Rd.'!C107","v":0},0,0,0,0,0,0,0,0,0,0,0,{"$f":"'Ex. 32 & Schuster Rd.'!P107+'Ex. 32 & Germany Rd.'!P107","v":0},0]
["14:30:00",10,9,{"$f":"'Ex. 32 & Schuster Rd.'!D108+'Ex. 32 & Germany Rd.'!D108+'Ex. 32 & Germany Rd.'!C108","v":48},0,2,26,0,0,0,4,0,0,2,54,{"$f":"'Ex. 32 & Schuster Rd.'!P108+'Ex. 32 & Germany Rd.'!P108","v":2},0]
["14:30:00",0,0,{"$f":"'Ex. 32 & Schuster Rd.'!D109+'Ex. 32 & Germany Rd.'!D109+'Ex. 32 & Germany Rd.'!C109","v":1},0,0,6,0,0,0,0,0,0,0,10,{"$f":"'Ex. 32 & Schuster Rd.'!P109+'Ex. 32 & Germany Rd.'!P109","v":4},0]
["14:30:00",0,0,{"$f":"'Ex. 32 & Schuster Rd.'!D110+'Ex. 32 & Germany Rd.'!D110+'Ex. 32 & Germany Rd.'!C110","v":0},0,0,0,0,0,0,0,0,0,0,0,{"$f":"'Ex. 32 & Schuster Rd.'!P110+'Ex. 32 & Germany Rd.'!P110","v":0},0]
["14:45:00",5,1,{"$f":"'Ex. 32 & Schuster Rd.'!D111+'Ex. 32 & Germany Rd.'!D111+'Ex. 32 & Germany Rd.'!C111","v":38},0,5,46,0,0,0,2,0,0,3,47,{"$f":"'Ex. 32 & Schuster Rd.'!P111+'Ex. 32 & Germany Rd.'!P111","v":2},0]
["14:45:00",3,0,{"$f":"'Ex. 32 & Schuster Rd.'!D112+'Ex. 32 & Germany Rd.'!D112+'Ex. 32 & Germany Rd.'!C112","v":0},0,0,12,0,0,0,0,0,0,0,6,{"$f":"'Ex. 32 & Schuster Rd.'!P112+'Ex. 32 & Germany Rd.'!P112","v":1},0]
["14:45:00",0,0,{"$f":"'Ex. 32 & Schuster Rd.'!D113+'Ex. 32 & Germany Rd.'!D113+'Ex. 32 & Germany Rd.'!C113","v":0},0,0,0,0,0,0,0,0,0,0,0,{"$f":"'Ex. 32 & Schuster Rd.'!P113+'Ex. 32 & Germany Rd.'!P113","v":0},0]
["15:00:00",1,3,{"$f":"'Ex. 32 & Schuster Rd.'!D114+'Ex. 32 & Germany Rd.'!D114+'Ex. 32 & Germany Rd.'!C114","v":45},0,0,39,1,0,0,3,0,0,3,53,{"$f":"'Ex. 32 & Schuster Rd.'!P114+'Ex. 32 & Germany Rd.'!P114","v":10},0]
["15:00:00",1,0,{"$f":"'Ex. 32 & Schuster Rd.'!D115+'Ex. 32 & Germany Rd.'!D115+'Ex. 32 & Germany Rd.'!C115","v":3},0,1,10,0,0,0,0,0,0,0,8,{"$f":"'Ex. 32 & Schuster Rd.'!P115+'Ex. 32 & Germany Rd.'!P115","v":2},0]
["15:00:00",0,0,{"$f":"'Ex. 32 & Schuster Rd.'!D116+'Ex. 32 & Germany Rd.'!D116+'Ex. 32 & Germany Rd.'!C116","v":0},0,0,0,0,0,0,0,0,0,0,0,{"$f":"'Ex. 32 & Schuster Rd.'!P116+'Ex. 32 & Germany Rd.'!P116","v":0},0]
["15:15:00",2,7,{"$f":"'Ex. 32 & Schuster Rd.'!D117+'Ex. 32 & Germany Rd.'!D117+'Ex. 32 & Germany Rd.'!C117","v":44},0,1,30,1,0,0,1,2,0,1,35,{"$f":"'Ex. 32 & Schuster Rd.'!P117+'Ex. 32 & Germany Rd.'!P117","v":1},0]
["15:15:00",1,0,{"$f":"'Ex. 32 & Schuster Rd.'!D118+'Ex. 32 & Germany Rd.'!D118+'Ex. 32 & Germany Rd.'!C118","v":3},0,1,6,0,0,0,0,0,0,0,10,{"$f":"'Ex. 32 & Schuster Rd.'!P118+'Ex. 32 & Germany Rd.'!P118","v":2},0]
["15:15:00",0,0,{"$f":"'Ex. 32 & Schuster Rd.'!D119+'Ex. 32 & Germany Rd.'!D119+'Ex. 32 & Germany Rd.'!C119","v":0},0,0,0,0,0,0,0,0,0,0,0,{"$f":"'Ex. 32 & Schuster Rd.'!P119+'Ex. 32 & Germany Rd.'!P119","v":0},0]
["15:30:00",5,2,{"$f":"'Ex. 32 & Schuster Rd.'!D120+'Ex. 32 & Germany Rd.'!D120+'Ex. 32 & Germany Rd.'!C120","v":36},0,3,37,0,0,0,3,1,0,4,52,{"$f":"'Ex. 32 & Schuster Rd.'!P120+'Ex. 32 & Germany Rd.'!P120","v":3},0]
["15:30:00",0,0,{"$f":"'Ex. 32 & Schuster Rd.'!D121+'Ex. 32 & Germany Rd.'!D121+'Ex. 32 & Germany Rd.'!C121","v":0},0,0,3,0,0,0,0,0,0,0,10,{"$f":"'Ex. 32 & Schuster Rd.'!P121+'Ex. 32 & Germany Rd.'!P121","v":2},0]
["15:30:00",0,0,{"$f":"'Ex. 32 & Schuster Rd.'!D122+'Ex. 32 & Germany Rd.'!D122+'Ex. 32 & Germany Rd.'!C122","v":0},0,0,0,0,0,0,0,0,0,0,0,{"$f":"'Ex. 32 & Schuster Rd.'!P122+'Ex. 32 & Germany Rd.'!P122","v":0},0]
["15:45:00",6,4,{"$f":"'Ex. 32 & Schuster Rd.'!D123+'Ex. 32 & Germany Rd.'!D123+'Ex. 32 & Germany Rd.'!C123","v":37},0,2,39,1,0,0,4,2,0,2,49,{"$f":"'Ex. 32 & Schuster Rd.'!P123+'Ex. 32 & Germany Rd.'!P123","v":9},0]
["15:45:00",0,0,{"$f":"'Ex. 32 & Schuster Rd.'!D124+'Ex. 32 & Germany Rd.'!D124+'Ex. 32 & Germany Rd.'!C124","v":1},0,0,4,0,0,0,0,0,0,0,1,{"$f":"'Ex. 32 & Schuster Rd.'!P124+'Ex. 32 & Germany Rd.'!P124","v":2},0]
["15:45:00",0,0,{"$f":"'Ex. 32 & Schuster Rd.'!D125+'Ex. 32 & Germany Rd.'!D125+'Ex. 32 & Germany Rd.'!C125","v":0},0,0,0,0,0,0,0,0,0,0,0,{"$f":"'Ex. 32 & Schuster Rd.'!P125+'Ex. 32 & Germany Rd.'!P125","v":0},0]
["16:00:00",5,7,{"$f":"'Ex. 32 & Schuster Rd.'!D126+'Ex. 32 & Germany Rd.'!D126+'Ex. 32 & Germany Rd.'!C126","v":49},0,3,60,0,0,1,2,0,0,2,68,{"$f":"'Ex. 32 & Schuster Rd.'!P126+'Ex. 32 & Germany Rd.'!P126","v":6},0]
["16:00:00",0,0,{"$f":"'Ex. 32 & Schuster Rd.'!D127+'Ex. 32 & Germany Rd.'!D127+'Ex. 32 & Germany Rd.'!C127","v":0},0,0,11,0,0,0,0,0,0,0,7,{"$f":"'Ex. 32 & Schuster Rd.'!P127+'Ex. 32 & Germany Rd.'!P127","v":1},0]
["16:00:00",0,0,{"$f":"'Ex. 32 & Schuster Rd.'!D128+'Ex. 32 & Germany Rd.'!D128+'Ex. 32 & Germany Rd.'!C128","v":0},0,0,0,0,0,0,0,0,0,0,0,{"$f":"'Ex. 32 & Schuster Rd.'!P128+'Ex. 32 & Germany Rd.'!P128","v":0},0]
["16:15:00",2,2,{"$f":"'Ex. 32 & Schuster Rd.'!D129+'Ex. 32 & Germany Rd.'!D129+'Ex. 32 & Germany Rd.'!C129","v":51},0,2,42,0,0,3,1,4,0,1,55,{"$f":"'Ex. 32 & Schuster Rd.'!P129+'Ex. 32 & Germany Rd.'!P129","v":6},0]
["16:15:00",0,0,{"$f":"'Ex. 32 & Schuster Rd.'!D130+'Ex. 32 & Germany Rd.'!D130+'Ex. 32 & Germany Rd.'!C130","v":2},0,0,5,0,0,0,0,0,0,0,8,{"$f":"'Ex. 32 & Schuster Rd.'!P130+'Ex. 32 & Germany Rd.'!P130","v":3},0]
["16:15:00",0,0,{"$f":"'Ex. 32 & Schuster Rd.'!D131+'Ex. 32 & Germany Rd.'!D131+'Ex. 32 & Germany Rd.'!C131","v":0},0,0,0,0,0,0,0,0,0,0,0,{"$f":"'Ex. 32 & Schuster Rd.'!P131+'Ex. 32 & Germany Rd.'!P131","v":0},0]
["16:30:00",4,2,{"$f":"'Ex. 32 & Schuster Rd.'!D132+'Ex. 32 & Germany Rd.'!D132+'Ex. 32 & Germany Rd.'!C132","v":47},0,1,37,0,0,0,4,0,0,3,67,{"$f":"'Ex. 32 & Schuster Rd.'!P132+'Ex. 32 & Germany Rd.'!P132","v":7},0]
["16:30:00",0,0,{"$f":"'Ex. 32 & Schuster Rd.'!D133+'Ex. 32 & Germany Rd.'!D133+'Ex. 32 & Germany Rd.'!C133","v":1},0,0,5,0,0,0,0,0,0,0,5,{"$f":"'Ex. 32 & Schuster Rd.'!P133+'Ex. 32 & Germany Rd.'!P133","v":1},0]
["16:30:00",0,0,{"$f":"'Ex. 32 & Schuster Rd.'!D134+'Ex. 32 & Germany Rd.'!D134+'Ex. 32 & Germany Rd.'!C134","v":0},0,0,0,0,0,0,0,0,0,0,0,{"$f":"'Ex. 32 & Schuster Rd.'!P134+'Ex. 32 & Germany Rd.'!P134","v":0},0]
["16:45:00",3,3,{"$f":"'Ex. 32 & Schuster Rd.'!D135+'Ex. 32 & Germany Rd.'!D135+'Ex. 32 & Germany Rd.'!C135","v":46},0,1,35,0,0,3,2,0,0,0,79,{"$f":"'Ex. 32 & Schuster Rd.'!P135+'Ex. 32 & Germany Rd.'!P135","v":4},0]
["16:45:00",0,0,{"$f":"'Ex. 32 & Schuster Rd.'!D136+'Ex. 32 & Germany Rd.'!D136+'Ex. 32 & Germany Rd.'!C136","v":2},0,0,5,0,0,0,0,0,0,0,5,{"$f":"'Ex. 32 & Schuster Rd.'!P136+'Ex. 32 & Germany Rd.'!P136","v":0},0]
["16:45:00",0,0,{"$f":"'Ex. 32 & Schuster Rd.'!D137+'Ex. 32 & Germany Rd.'!D137+'Ex. 32 & Germany Rd.'!C137","v":0},0,0,0,0,0,0,0,0,0,0,0,{"$f":"'Ex. 32 & Schuster Rd.'!P137+'Ex. 32 & Germany Rd.'!P137","v":0},0]
["17:00:00",3,6,{"$f":"'Ex. 32 & Schuster Rd.'!D138+'Ex. 32 & Germany Rd.'!D138+'Ex. 32 & Germany Rd.'!C138","v":60},0,2,39,0,0,2,3,0,0,2,53,{"$f":"'Ex. 32 & Schuster Rd.'!P138+'Ex. 32 & Germany Rd.'!P138","v":2},0]
["17:00:00",0,0,{"$f":"'Ex. 32 & Schuster Rd.'!D139+'Ex. 32 & Germany Rd.'!D139+'Ex. 32 & Germany Rd.'!C139","v":0},0,1,8,0,0,0,2,0,0,0,6,{"$f":"'Ex. 32 & Schuster Rd.'!P139+'Ex. 32 & Germany Rd.'!P139","v":2},0]
["17:00:00",0,0,{"$f":"'Ex. 32 & Schuster Rd.'!D140+'Ex. 32 & Germany Rd.'!D140+'Ex. 32 & Germany Rd.'!C140","v":0},0,0,0,0,0,0,0,0,0,0,0,{"$f":"'Ex. 32 & Schuster Rd.'!P140+'Ex. 32 & Germany Rd.'!P140","v":0},0]
["17:15:00",4,6,{"$f":"'Ex. 32 & Schuster Rd.'!D141+'Ex. 32 & Germany Rd.'!D141+'Ex. 32 & Germany Rd.'!C141","v":44},0,2,35,1,0,2,0,2,0,0,70,{"$f":"'Ex. 32 & Schuster Rd.'!P141+'Ex. 32 & Germany Rd.'!P141","v":2},0]
["17:15:00",0,0,{"$f":"'Ex. 32 & Schuster Rd.'!D142+'Ex. 32 & Germany Rd.'!D142+'Ex. 32 & Germany Rd.'!C142","v":0},0,0,4,0,0,0,0,0,0,0,7,{"$f":"'Ex. 32 & Schuster Rd.'!P142+'Ex. 32 & Germany Rd.'!P142","v":2},0]
["17:15:00",0,0,{"$f":"'Ex. 32 & Schuster Rd.'!D143+'Ex. 32 & Germany Rd.'!D143+'Ex. 32 & Germany Rd.'!C143","v":0},0,0,0,0,0,0,0,0,0,0,0,{"$f":"'Ex. 32 & Schuster Rd.'!P143+'Ex. 32 & Germany Rd.'!P143","v":0},0]
["17:30:00",3,4,{"$f":"'Ex. 32 & Schuster Rd.'!D144+'Ex. 32 & Germany Rd.'!D144+'Ex. 32 & Germany Rd.'!C144","v":37},0,4,39,1,0,0,7,2,0,1,67,{"$f":"'Ex. 32 & Schuster Rd.'!P144+'Ex. 32 & Germany Rd.'!P144","v":3},0]
["17:30:00",0,0,{"$f":"'Ex. 32 & Schuster Rd.'!D145+'Ex. 32 & Germany Rd.'!D145+'Ex. 32 & Germany Rd.'!C145","v":0},0,1,1,0,0,0,0,0,0,0,5,{"$f":"'Ex. 32 & Schuster Rd.'!P145+'Ex. 32 & Germany Rd.'!P145","v":2},0]
["17:30:00",0,0,{"$f":"'Ex. 32 & Schuster Rd.'!D146+'Ex. 32 & Germany Rd.'!D146+'Ex. 32 & Germany Rd.'!C146","v":0},0,0,0,0,0,0,0,0,0,0,0,{"$f":"'Ex. 32 & Schuster Rd.'!P146+'Ex. 32 & Germany Rd.'!P146","v":0},0]
["17:45:00",3,2,{"$f":"'Ex. 32 & Schuster Rd.'!D147+'Ex. 32 & Germany Rd.'!D147+'Ex. 32 & Germany Rd.'!C147","v":43},0,6,40,0,0,0,6,2,0,2,40,{"$f":"'Ex. 32 & Schuster Rd.'!P147+'Ex. 32 & Germany Rd.'!P147","v":2},0]
["17:45:00",0,0,{"$f":"'Ex. 32 & Schuster Rd.'!D148+'Ex. 32 & Germany Rd.'!D148+'Ex. 32 & Germany Rd.'!C148","v":1},0,0,3,0,0,0,0,0,0,0,3,{"$f":"'Ex. 32 & Schuster Rd.'!P148+'Ex. 32 & Germany Rd.'!P148","v":0},0]
["17:45:00",0,0,{"$f":"'Ex. 32 & Schuster Rd.'!D149+'Ex. 32 & Germany Rd.'!D149+'Ex. 32 & Germany Rd.'!C149","v":0},0,0,0,0,0,0,0,0,0,0,0,{"$f":"'Ex. 32 & Schuster Rd.'!P149+'Ex. 32 & Germany Rd.'!P149","v":0},0]