{"text_format":"1","workbook":"xlsx","n_sheets":5,"sheets":["Notes-COPY ALL","Instructions","Catagory Codes","SUBSummary","Sub01"],"not_rendered":{"charts":0,"images":19,"macros":1,"external_links":1,"defined_names":2,"comments":0,"pivot_tables":0},"unopened":[],"bounds":{"document_bytes":16777216,"sheet_cells":100000,"rows_first":2000,"rows_last":500,"rows_between":2000,"halvings":0,"cell_chars":16384,"cell_head_chars":4096},"cells_cut":0,"cells_raw":0,"read":"whole","date_system":"1900"}

{"sheet":"Notes-COPY ALL","index":0,"n_rows":1,"n_cols":1,"rows_kept":1,"cut":false,"hidden":false,"merged":[[0,0,0,9]]}
["WORKBOOK NOTES"]

{"sheet":"Instructions","index":1,"n_rows":129,"n_cols":12,"rows_kept":129,"cut":false,"hidden":false,"merged":[[66,1,67,10],[68,2,70,10],[71,2,73,10],[49,2,50,10],[52,2,52,10],[109,0,109,10],[82,1,82,10],[97,2,98,10],[99,2,100,10],[108,1,108,10],[94,1,96,10],[104,2,107,10],[101,1,103,10],[83,2,84,10],[88,2,91,10],[93,0,93,10],[85,1,87,10],[77,2,79,10],[55,1,55,10],[0,0,0,10],[2,0,2,10],[11,0,11,10],[25,0,25,10],[10,1,10,10],[19,2,23,10],[3,1,3,10],[1,0,1,10],[12,1,12,10],[13,1,13,10],[74,2,76,10],[30,1,30,10],[31,1,31,10],[35,2,38,10],[42,2,44,10],[29,1,29,10],[65,0,65,10],[60,2,63,10],[51,1,51,10],[53,2,54,10],[32,1,34,10],[128,1,128,10],[9,1,9,10],[4,2,8,10],[14,2,15,10],[16,2,16,10],[17,1,18,10],[28,2,28,10],[26,1,27,10],[39,2,41,10],[45,2,47,10],[24,1,24,10],[56,1,59,10],[64,1,64,10],[92,1,92,10],[48,1,48,10],[80,1,81,10],[110,1,112,10],[113,1,113,10],[115,2,116,10],[114,2,114,10],[125,1,127,10],[117,1,117,10],[118,1,119,10],[124,1,124,10],[120,2,123,10]]}
[null,null,null,null,null,null,null,null,null,null,null,{"$f":"CELL(\"filename\",L3)","v":"https://gfnet.sharepoint.com/sites/CMH-63152/Shared Documents/63152/TO #12-10 GEA-422-14.90 Culvert Repl/F. Deliver/2021.04.06 Revised Tracings/[105821_OFFICE CALCS.xlsm]Instructions"}]
[{"$f":"CONCATENATE(\"HOW TO USE THIS WORKBOOK (\", L6, \")\")","v":"HOW TO USE THIS WORKBOOK (105821_OFFICE CALCS.xlsm)"},null,null,null,null,null,null,null,null,null,null,{"$f":"FIND(\"[\",L1)","v":145}]
["Opening the workbook",null,null,null,null,null,null,null,null,null,null,{"$f":"FIND(\"]\",L1)","v":170}]
[1,"Select \"Enable Macros\" when you open this workbook (if security is set to Medium)",null,null,null,null,null,null,null,null,null,{"$f":"LEN(L1)","v":182}]
[null,"a.","If you are not asked about enabling macros when you open the workbook, you either have your security set on the highest or lowest setting.  Set your security to \"Medium\" by the following steps:\nTools  >>  Macro  >>  Security….  For this workbook to function, you must have Medium (recommended), or Low selected.  If it was previously set on high, you must close this workbook and re-open it to ensure that the macros are enabled.",null,null,null,null,null,null,null,null,{"$f":"LEFT(CELL(\"filename\",L3),L3-1)","v":"https://gfnet.sharepoint.com/sites/CMH-63152/Shared Documents/63152/TO #12-10 GEA-422-14.90 Culvert Repl/F. Deliver/2021.04.06 Revised Tracings/[105821_OFFICE CALCS.xlsm"}]
[null,null,null,null,null,null,null,null,null,null,null,{"$f":"RIGHT(L5,L3-L2-1)","v":"105821_OFFICE CALCS.xlsm"}]
[]
[]
[]
[2,"Select \"Update\" when it asks about external links"]
["X","                                        Link to top"]
["Getting Started"]
[1,"Read the instructions in their entirety"]
[2,"Read the notes in their entirety"]
[null,"a.","If you do anything out of the ordinary in this workbook please note it in on the notes sheet to ensure that anyone who opens this workbook can decipher the methodology used."]
[]
[null,"b.","Create notes sorted by sheet names for quick retrieval of pertinent notes"]
[3,"BEWARE: Changing protected formulas and adding/deleting rows & columns could potentially disable the entire workbook, and therefore the entire system."]
[]
[null,"b.","Every effort has been made to make sure that all necessary privaliges to work with this workbook are already allowed.  If there is some reason to change something not allowed because of the sheet protection, you may unprotect the sheet.  You can do this by selecting \"Tools >> Protection >> Unprotect sheet\"  (there is no password.)  IF you do need to do this, make sure that the sheet is protected again before you exit the sheet (not the workbook)"]
[]
[]
[]
[]
["X","                                        Link to top"]
["Data Entry"]
[1,"All calculations and data entry is to be done solely on the \"Calc##\" sheets.  The \"Sub## sheets are a formatted copy of the \"Calc##\" sheets and are to be used for importing into Microstation"]
[]
[null,"a.","The \"Sub##\" sheets are locked because no data is to be entered / deleted.  Formating can still be done."]
[2,"To begin entering data, select a \"Calc##\" sheet"]
[3,"Enter the Item Number of the item(s)"]
[4,"Enter the Item Extension of the item(s) - This information is seen on the General Summary and Estimate"]
[5,"Enter the Category Code of the item(s).  This information is used to separate the items into their respective categories on both the General Summary and the Cost Estimate.  The actual code is never seen on a printed document, but it is absolutely essential for this system to work."]
[]
[]
[null,"a.","The \"Category Codes\" sheet has a listing of all of the necessary codes.  These are a copy of the \"official\" category codes used in compiling the General Summary.  When the General Summary is compiled, the \"Category Codes\" sheet from the \"GENERAL SUMMARY.xls\" workbook is referenced for placing titles on the General Summary sheet."]
[]
[]
[]
[null,"b.","The Category Codes are listed in the order ODOT wants to see them on the General Summary.  If ODOT were to change the categories that they want to see on the General Summary, the descriptions on the \"Category Codes\" sheet of the \"GENERAL SUMMARY.xls\" workbook would have to change to reflect these changes."]
[]
[]
[null,"c.","The \"MISCELLANEOUS\" Code (RR & RS) is used to denote Incidentals.  These are items placed at the end of both the General Summary and Estimate.  In the General Summary these items do not get a category title, but on the Estimate they get placed under the \"Incidentals\" section."]
[]
[]
[null,"d.","The second set of codes is to denote an \"Item Special\" under the given ODOT category.  Essentially, the first letter of the code denotes the category, and the second letter denotes whether or not it is an item special (although if it is not an item special, the two identical letters are still needed.)"]
[]
[]
[6,"Enter the specific details for each item (Ref, Sheet, Station, Side, ect. )"]
[null,"a.","These columns will be referred to as the INFO columns in the future….They include all columns that contain data that is not carried to the general summary"]
[]
[7,"Enter the quantities of each item."]
[null,"a.","Actual calculations can be performed in each quantity cell"]
[null,"a."," You do not need to worry about rounding, since that is automated by the \"Sub##\" sheets associated with each \"Calc ##\" sheet.  Setting the rounding amounts is further explained in the \"Formating Data\" section"]
[]
[8,"Repeat the above steps on as many \"Calc##\" sheets as it takes to facilitate the all pertinent quantities"]
[9,"To make this new information available to the Generals Summary, the \"COMPILE\" button must be pressed (upper left hand corner of the \"Calc ##\" sheets.  THIS MUST BE DONE BEFORE YOU EXIT THE WORKBOOK."]
[]
[]
[]
[null,"a.","The compile button refreshes hidden pivot tables that consolidates all of the \"Sub##\" sheets into tables used to transfer data onto the \"SUBSummary\" sheet and the \"General Summary.xls\" workbook  The button also brings you to the \"Sub##\" sheet associated with the \"Calc##\" sheet on which the button was pushed.  After updating the pivot tables, the workbook is automatically saved."]
[]
[]
[]
["X","                                        Link to top"]
["Formating Data"]
[1,"After the calculations are made, the data must be rounded consistently.  There are 4 rows at the bottom of each \"Calc##\" sheet that are used for this reason.  It is also possible to add text to the ODOT description in this section."]
[]
[null,"a.","\"Prepended Description\" will add text to the beginning of the ODOT description.\nNOTE: The modification is only good for this sheet, it is required that only the ODOT description be present on the General Summary.  This option is to be used sparingly."]
[]
[]
[null,"b.","\"Appended Description\" will add text to the end of the ODOT description.\nNOTE: The modification is only good for this sheet, it is required that only the ODOT description be present on the General Summary.  This option is to be used sparingly."]
[]
[]
[null,"c.","\"SubTotal Precision\" will round all of the calculated values UP to the nearest multiple of this number.  This will ensure that all of the calculations in the \"Calc##\" sheets are carried to the \"Sub##\" sheets with the same degree of precision, regardless of how precise they are on the \"Calc##\" sheets."]
[]
[]
[null,"d.","\"Summary Precision\" will round the TOTALS lines UP to the nearest multiple of this number.  ODOT items are to be rounded to a specific degree of precision on the General Summary.  It is this \"Summary Precision\" that does this rounding automatically for us."]
[]
[]
[2,"Any of the \"Title\" cells across the top of the \"Sub##\" sheets (with the exception of the Item No., Description, and Units) can be changed on the \"Calc##\" sheets, and the change will be reflected on the \"Sub##\" sheets."]
[]
[3,"Cells in the INFO columns may be merged to provide for section titles."]
[null,"a.","When \"Sub##\" INFO cells are merged, the data that will be brought to the merged area corresponds to the same cell on the \"Calc##\" sheets as the upper-left most cell of the merged cells."]
[]
[4,"Rows and columns may be hidden (hidden rows/columns will not show up when referenced using Axiom), but UNDER NO CIRCUMSTANCES may rows and columns be deleted or inserted.  There are many \"static\" and \"indirect\" cell references that will be lost, and therefore the system will be broken  :-("]
[]
[]
[null,"a.","One of the \"TOTAL\" lines at the bottom of the \"Sub##\" sheets needs to be hidden before importing the sheet into Microstation.  The \"TOTALS CARRIED TO GENERAL SUMMARY\" line is a total quantity from the entire workbook, and is to be shown if only one \"Sub##\" sheet is used.  The \"TOTALS CARRIED TO SUBSUMMARY\" line is to be shown when a SUBSummary sheet is used."]
[]
[]
[]
["X","                                        Link to top"]
["Using the SUBSummary"]
[1,"Since the General Summary has a limited number of possible columns for referenced SubSummaries, the \"Sub##\" sheets (calculation sheets) from this notebook need to be consolidated to a single SubSummary (if more than one \"Sub##\" sheet is used).  This sheet is created automatically, and can be seen on the \"SUBSummary\" sheet."]
[]
[]
[null,"a.","Like the \"Sub##\" sheets, the \"SUBSummary\" sheet allows for formatting (no merging of cells) and hiding of rows/columns."]
[]
[null,"b.","REMINDER: Will the \"SUBSummary\" sheet and last \"Sub##\" sheet fit on the same page of a Microstation drawing if you hide the unneccesary rows on both?"]
[]
[2,"If the \"SUBSummary\" is to be used, each column must reference a calculation sheet.  This is done on the \"Combine\" sheet.  The sheets that need a page referenced will be displayed on the top blackened rows, and the cell that needs the page number placed in it will turn yellow and display \"####\""]
[]
[]
[null,"a.","The \"####\" is displayed through a formula.  The formula can be deleted and the page number entered in the same cell.\nNOTE: DO NOTE CHANGE ANY OTHER THINGS ON THIS PAGE, AS THIS IS THE PAGE THAT MAKES THE ENTIRE SYSTEM WORK!"]
[]
[]
[]
["X","                                       Link to top"]
["Importing into Microstation"]
[1,"NOTE: HAVE THE SHEET READY TO GO IF USING THE SHARED RESOURCE PC.  The shared resource PC is too slow to do all of the calculations and external links.  When it asks, say \"Disable Macros\", and \"Don't Update\".  If the button was pushed last time you left the workbook, the workbook should be up to date when you re-open it."]
[]
[]
[2,"Load Axiom into Microstation (office.mdl)"]
[null,"a.","Select…Utilies >> MDL Applications from the Microstation menue"]
[null,"b.","Select \"Browse\"  and load \"S:\\BENTLEY\\Axiom\\office\\office.ma\" - NOTE: this can only be loaded on the computer that has Axiom installed on it (Typicaly the Shared Resource PC.)"]
[]
[2,"Load the \"S:\\BENTLEY\\Axiom\\office\\QUANTITIES.ini\" file to use for importing these spreadsheets."]
[3,"Select the area of the sheet (in Excel) you wish to import to Microstation.  Now envoke the copy command (in Excel) by either   Edit >> Copy, or by holding the \"Ctrl\" key and pressing the \"C\" button"]
[]
[null,"a.","NOTE/TIP: Include some extra \"blank\" area such that if more data is added to the Excel sheet it will automatically be placed on the sheet with an \"Update\", as opposed to having to completely re-insert the Excel Sheet.  Rows/Columns that are hidden when the sheet is imported into Microstation will remain hidden in Microstation even if they are unhidden in Excel."]
[]
[]
[]
[4,"Paste the data into Microstation using the paste button on the Axiom toolbar."]
[5,"Once all of the sheets are referenced into Microstation, they will remain the same size upon updates.  The updates need to be done manually on the shared resources PC …by loading Axiom each time and selecting each item to be updated."]
[]
[]
["X","                                        Link to top"]

{"sheet":"Catagory Codes","index":2,"n_rows":39,"n_cols":3,"rows_kept":39,"cut":false,"hidden":false,"merged":[[0,0,0,2]]}
["CODES FOR USE WITH EXCEL QUANTITIES\n(Used to sort items on General Summary Sheets)"]
[]
["AA","ROADWAY",{"$f":"A3","v":"AA"}]
["BB","EROSION CONTROL","BB"]
["CC","DRAINAGE","CC"]
["DD","PAVEMENT","DD"]
["EE","WATER WORK","EE"]
["FF","SANITARY SEWER","FF"]
["GG","LIGHTING","GG"]
["HH","TRAFFIC SURVEILLANCE","HH"]
["II","TRAFFIC CONTROL","II"]
["JJ","TRAFFIC SIGNALS","JJ"]
["KK","LANDSCAPING","KK"]
["LL","RETAINING WALLS","LL"]
["MM","BUILDING DEMOLITION","MM"]
["NN","NOISE BARRIERS","NN"]
["OO","STRUCTURES (20' AND UNDER)","OO"]
["PP","STRUCTURES (OVER 20')","PP"]
["QQ","MAINTENANCE OF TRAFFIC","QQ"]
["RR","MISCELLANEOUS","RR"]
[]
[{"$f":"CONCATENATE(LEFT(A3,1),\"S\")","v":"AS"},{"$f":"CONCATENATE(B3,\" - SPECIAL\")","v":"ROADWAY - SPECIAL"},{"$f":"A22","v":"AS"}]
["BS","EROSION CONTROL - SPECIAL","BS"]
["CS","DRAINAGE - SPECIAL","CS"]
["DS","PAVEMENT - SPECIAL","DS"]
["ES","WATER WORK - SPECIAL","ES"]
["FS","SANITARY SEWER - SPECIAL","FS"]
["GS","LIGHTING - SPECIAL","GS"]
["HS","TRAFFIC SURVEILLANCE - SPECIAL","HS"]
["IS","TRAFFIC CONTROL - SPECIAL","IS"]
["JS","TRAFFIC SIGNALS - SPECIAL","JS"]
["KS","LANDSCAPING - SPECIAL","KS"]
["LS","RETAINING WALLS - SPECIAL","LS"]
["MS","BUILDING DEMOLITION - SPECIAL","MS"]
["NS","NOISE BARRIERS - SPECIAL","NS"]
["OS","STRUCTURES (20' AND UNDER) - SPECIAL","OS"]
["PS","STRUCTURES (OVER 20') - SPECIAL","PS"]
["QS","MAINTENANCE OF TRAFFIC - SPECIAL","QS"]
["RS","MISCELLANEOUS - SPECIAL","RS"]

{"sheet":"SUBSummary","index":3,"n_rows":75,"n_cols":30,"rows_kept":75,"cut":false,"hidden":false,"merged":[[0,24,1,24],[0,25,1,25],[0,0,0,19],[0,20,1,20],[0,21,1,21],[0,22,1,22],[0,23,1,23]]}
["SHEET NUMBER",null,null,null,null,null,null,null,null,null,null,null,null,null,null,null,null,null,null,null,"ITEM","ITEM\nEXT.","TOTAL","UNIT","DESCRIPTION","SEE SHEET NO."]
[{"$f":"IF(#REF!<>\"\",#REF!,\"\")","v":{"$error":"#REF!"}},{"$f":"IF(#REF!<>\"\",#REF!,\"\")","v":{"$error":"#REF!"}},{"$f":"IF(#REF!<>\"\",#REF!,\"\")","v":{"$error":"#REF!"}},{"$f":"IF(#REF!<>\"\",#REF!,\"\")","v":{"$error":"#REF!"}},{"$f":"IF(#REF!<>\"\",#REF!,\"\")","v":{"$error":"#REF!"}},{"$f":"IF(#REF!<>\"\",#REF!,\"\")","v":{"$error":"#REF!"}},{"$f":"IF(#REF!<>\"\",#REF!,\"\")","v":{"$error":"#REF!"}},{"$f":"IF(#REF!<>\"\",#REF!,\"\")","v":{"$error":"#REF!"}},{"$f":"IF(#REF!<>\"\",#REF!,\"\")","v":{"$error":"#REF!"}},{"$f":"IF(#REF!<>\"\",#REF!,\"\")","v":{"$error":"#REF!"}},{"$f":"IF(#REF!<>\"\",#REF!,\"\")","v":{"$error":"#REF!"}},{"$f":"IF(#REF!<>\"\",#REF!,\"\")","v":{"$error":"#REF!"}},{"$f":"IF(#REF!<>\"\",#REF!,\"\")","v":{"$error":"#REF!"}},{"$f":"IF(#REF!<>\"\",#REF!,\"\")","v":{"$error":"#REF!"}},{"$f":"IF(#REF!<>\"\",#REF!,\"\")","v":{"$error":"#REF!"}},{"$f":"IF(#REF!<>\"\",#REF!,\"\")","v":{"$error":"#REF!"}},{"$f":"IF(#REF!<>\"\",#REF!,\"\")","v":{"$error":"#REF!"}},{"$f":"IF(#REF!<>\"\",#REF!,\"\")","v":{"$error":"#REF!"}},{"$f":"IF(#REF!<>\"\",#REF!,\"\")","v":{"$error":"#REF!"}},{"$f":"IF(#REF!<>\"\",#REF!,\"\")","v":{"$error":"#REF!"}},null,null,null,null,null,null,"line","remain","offset","UNIT"]
[{"$f":"IF( $AC3 = 0, \"\", IF( OFFSET(#REF!, $AC3 - 1,0,1,1)<>0, IF(OR($AD3=\"LUMP\", $AD3=\"LS\"), \"LUMP\", OFFSET(#REF!, $AC3 - 1,0,1,1)),\"\"))","v":{"$error":"#REF!"}},{"$f":"IF( $AC3 = 0, \"\", IF( OFFSET(#REF!, $AC3 - 1,0,1,1)<>0, IF(OR($AD3=\"LUMP\", $AD3=\"LS\"), \"LUMP\", OFFSET(#REF!, $AC3 - 1,0,1,1)),\"\"))","v":{"$error":"#REF!"}},{"$f":"IF( $AC3 = 0, \"\", IF( OFFSET(#REF!, $AC3 - 1,0,1,1)<>0, IF(OR($AD3=\"LUMP\", $AD3=\"LS\"), \"LUMP\", OFFSET(#REF!, $AC3 - 1,0,1,1)),\"\"))","v":{"$error":"#REF!"}},{"$f":"IF( $AC3 = 0, \"\", IF( OFFSET(#REF!, $AC3 - 1,0,1,1)<>0, IF(OR($AD3=\"LUMP\", $AD3=\"LS\"), \"LUMP\", OFFSET(#REF!, $AC3 - 1,0,1,1)),\"\"))","v":{"$error":"#REF!"}},{"$f":"IF( $AC3 = 0, \"\", IF( OFFSET(#REF!, $AC3 - 1,0,1,1)<>0, IF(OR($AD3=\"LUMP\", $AD3=\"LS\"), \"LUMP\", OFFSET(#REF!, $AC3 - 1,0,1,1)),\"\"))","v":{"$error":"#REF!"}},{"$f":"IF( $AC3 = 0, \"\", IF( OFFSET(#REF!, $AC3 - 1,0,1,1)<>0, IF(OR($AD3=\"LUMP\", $AD3=\"LS\"), \"LUMP\", OFFSET(#REF!, $AC3 - 1,0,1,1)),\"\"))","v":{"$error":"#REF!"}},{"$f":"IF( $AC3 = 0, \"\", IF( OFFSET(#REF!, $AC3 - 1,0,1,1)<>0, IF(OR($AD3=\"LUMP\", $AD3=\"LS\"), \"LUMP\", OFFSET(#REF!, $AC3 - 1,0,1,1)),\"\"))","v":{"$error":"#REF!"}},{"$f":"IF( $AC3 = 0, \"\", IF( OFFSET(#REF!, $AC3 - 1,0,1,1)<>0, IF(OR($AD3=\"LUMP\", $AD3=\"LS\"), \"LUMP\", OFFSET(#REF!, $AC3 - 1,0,1,1)),\"\"))","v":{"$error":"#REF!"}},{"$f":"IF( $AC3 = 0, \"\", IF( OFFSET(#REF!, $AC3 - 1,0,1,1)<>0, IF(OR($AD3=\"LUMP\", $AD3=\"LS\"), \"LUMP\", OFFSET(#REF!, $AC3 - 1,0,1,1)),\"\"))","v":{"$error":"#REF!"}},{"$f":"IF( $AC3 = 0, \"\", IF( OFFSET(#REF!, $AC3 - 1,0,1,1)<>0, IF(OR($AD3=\"LUMP\", $AD3=\"LS\"), \"LUMP\", OFFSET(#REF!, $AC3 - 1,0,1,1)),\"\"))","v":{"$error":"#REF!"}},{"$f":"IF( $AC3 = 0, \"\", IF( OFFSET(#REF!, $AC3 - 1,0,1,1)<>0, IF(OR($AD3=\"LUMP\", $AD3=\"LS\"), \"LUMP\", OFFSET(#REF!, $AC3 - 1,0,1,1)),\"\"))","v":{"$error":"#REF!"}},{"$f":"IF( $AC3 = 0, \"\", IF( OFFSET(#REF!, $AC3 - 1,0,1,1)<>0, IF(OR($AD3=\"LUMP\", $AD3=\"LS\"), \"LUMP\", OFFSET(#REF!, $AC3 - 1,0,1,1)),\"\"))","v":{"$error":"#REF!"}},{"$f":"IF( $AC3 = 0, \"\", IF( OFFSET(#REF!, $AC3 - 1,0,1,1)<>0, IF(OR($AD3=\"LUMP\", $AD3=\"LS\"), \"LUMP\", OFFSET(#REF!, $AC3 - 1,0,1,1)),\"\"))","v":{"$error":"#REF!"}},{"$f":"IF( $AC3 = 0, \"\", IF( OFFSET(#REF!, $AC3 - 1,0,1,1)<>0, IF(OR($AD3=\"LUMP\", $AD3=\"LS\"), \"LUMP\", OFFSET(#REF!, $AC3 - 1,0,1,1)),\"\"))","v":{"$error":"#REF!"}},{"$f":"IF( $AC3 = 0, \"\", IF( OFFSET(#REF!, $AC3 - 1,0,1,1)<>0, IF(OR($AD3=\"LUMP\", $AD3=\"LS\"), \"LUMP\", OFFSET(#REF!, $AC3 - 1,0,1,1)),\"\"))","v":{"$error":"#REF!"}},{"$f":"IF( $AC3 = 0, \"\", IF( OFFSET(#REF!, $AC3 - 1,0,1,1)<>0, IF(OR($AD3=\"LUMP\", $AD3=\"LS\"), \"LUMP\", OFFSET(#REF!, $AC3 - 1,0,1,1)),\"\"))","v":{"$error":"#REF!"}},{"$f":"IF( $AC3 = 0, \"\", IF( OFFSET(#REF!, $AC3 - 1,0,1,1)<>0, IF(OR($AD3=\"LUMP\", $AD3=\"LS\"), \"LUMP\", OFFSET(#REF!, $AC3 - 1,0,1,1)),\"\"))","v":{"$error":"#REF!"}},{"$f":"IF( $AC3 = 0, \"\", IF( OFFSET(#REF!, $AC3 - 1,0,1,1)<>0, IF(OR($AD3=\"LUMP\", $AD3=\"LS\"), \"LUMP\", OFFSET(#REF!, $AC3 - 1,0,1,1)),\"\"))","v":{"$error":"#REF!"}},{"$f":"IF( $AC3 = 0, \"\", IF( OFFSET(#REF!, $AC3 - 1,0,1,1)<>0, IF(OR($AD3=\"LUMP\", $AD3=\"LS\"), \"LUMP\", OFFSET(#REF!, $AC3 - 1,0,1,1)),\"\"))","v":{"$error":"#REF!"}},{"$f":"IF( $AC3 = 0, \"\", IF( OFFSET(#REF!, $AC3 - 1,0,1,1)<>0, IF(OR($AD3=\"LUMP\", $AD3=\"LS\"), \"LUMP\", OFFSET(#REF!, $AC3 - 1,0,1,1)),\"\"))","v":{"$error":"#REF!"}},{"$f":"IF( $AC3 = 0, \"\", IF( OFFSET(#REF!, $AC3 - 1,0,1,1)<>0, LEFT(OFFSET(#REF!, $AC3 - 1,0,1,1),3),\"\"))","v":{"$error":"#REF!"}},{"$f":"IF( $AC3 = 0, \"\", IF( OFFSET(#REF!, $AC3 - 1,0,1,1)<>0, IF(LEN(OFFSET(#REF!, $AC3 - 1,0,1,1))=9,   RIGHT(OFFSET(#REF!, $AC3 - 1,0,1,1),5),    LEFT(RIGHT(OFFSET(#REF!, $AC3 - 1,0,1,1),6), 5)      ),\"\"))","v":{"$error":"#REF!"}},{"$f":"IF(SUM(A3:T3)<>0,SUM(A3:T3),IF(OR(AD3=\"LUMP\", AD3=\"LS\"), \"LUMP\", \"\"))","v":{"$error":"#REF!"}},{"$f":"IF( $AC3 = 0, \"\", IF( OFFSET(#REF!, $AC3 - 1,0,1,1)<>0,IF(OR(AD3=\"LUMP\", AD3=\"LS\"), \"\", AD3),\"\"))","v":{"$error":"#REF!"}},{"$f":"IF( $AC3 = 0, \"\", IF( OFFSET(#REF!, $AC3 - 1,0,1,1)<>0, VLOOKUP( OFFSET(#REF!, $AC3 - 1,0,1,1),[1]Items!$A$2:$E$10001,4,0),\"\"))","v":{"$error":"#REF!"}},null,1,{"$f":"INT(AA3/6)","v":0},{"$f":"IF(  (AA3 - 6*AB3) = 0, 0, AA3 - AB3 )","v":1},{"$f":"IF( $AC3 = 0, \"\", IF( OFFSET(#REF!, $AC3 - 1,0,1,1)<>0, VLOOKUP( OFFSET(#REF!, $AC3 - 1,0,1,1),[1]Items!$A$2:$E$10001,3,0),\"\"))","v":{"$error":"#REF!"}}]
[{"$f":"IF( $AC4 = 0, \"\", IF( OFFSET(#REF!, $AC4 - 1,0,1,1)<>0, IF(OR($AD4=\"LUMP\", $AD4=\"LS\"), \"LUMP\", OFFSET(#REF!, $AC4 - 1,0,1,1)),\"\"))","v":{"$error":"#REF!"}},{"$f":"IF( $AC4 = 0, \"\", IF( OFFSET(#REF!, $AC4 - 1,0,1,1)<>0, IF(OR($AD4=\"LUMP\", $AD4=\"LS\"), \"LUMP\", OFFSET(#REF!, $AC4 - 1,0,1,1)),\"\"))","v":{"$error":"#REF!"}},{"$f":"IF( $AC4 = 0, \"\", IF( OFFSET(#REF!, $AC4 - 1,0,1,1)<>0, IF(OR($AD4=\"LUMP\", $AD4=\"LS\"), \"LUMP\", OFFSET(#REF!, $AC4 - 1,0,1,1)),\"\"))","v":{"$error":"#REF!"}},{"$f":"IF( $AC4 = 0, \"\", IF( OFFSET(#REF!, $AC4 - 1,0,1,1)<>0, IF(OR($AD4=\"LUMP\", $AD4=\"LS\"), \"LUMP\", OFFSET(#REF!, $AC4 - 1,0,1,1)),\"\"))","v":{"$error":"#REF!"}},{"$f":"IF( $AC4 = 0, \"\", IF( OFFSET(#REF!, $AC4 - 1,0,1,1)<>0, IF(OR($AD4=\"LUMP\", $AD4=\"LS\"), \"LUMP\", OFFSET(#REF!, $AC4 - 1,0,1,1)),\"\"))","v":{"$error":"#REF!"}},{"$f":"IF( $AC4 = 0, \"\", IF( OFFSET(#REF!, $AC4 - 1,0,1,1)<>0, IF(OR($AD4=\"LUMP\", $AD4=\"LS\"), \"LUMP\", OFFSET(#REF!, $AC4 - 1,0,1,1)),\"\"))","v":{"$error":"#REF!"}},{"$f":"IF( $AC4 = 0, \"\", IF( OFFSET(#REF!, $AC4 - 1,0,1,1)<>0, IF(OR($AD4=\"LUMP\", $AD4=\"LS\"), \"LUMP\", OFFSET(#REF!, $AC4 - 1,0,1,1)),\"\"))","v":{"$error":"#REF!"}},{"$f":"IF( $AC4 = 0, \"\", IF( OFFSET(#REF!, $AC4 - 1,0,1,1)<>0, IF(OR($AD4=\"LUMP\", $AD4=\"LS\"), \"LUMP\", OFFSET(#REF!, $AC4 - 1,0,1,1)),\"\"))","v":{"$error":"#REF!"}},{"$f":"IF( $AC4 = 0, \"\", IF( OFFSET(#REF!, $AC4 - 1,0,1,1)<>0, IF(OR($AD4=\"LUMP\", $AD4=\"LS\"), \"LUMP\", OFFSET(#REF!, $AC4 - 1,0,1,1)),\"\"))","v":{"$error":"#REF!"}},{"$f":"IF( $AC4 = 0, \"\", IF( OFFSET(#REF!, $AC4 - 1,0,1,1)<>0, IF(OR($AD4=\"LUMP\", $AD4=\"LS\"), \"LUMP\", OFFSET(#REF!, $AC4 - 1,0,1,1)),\"\"))","v":{"$error":"#REF!"}},{"$f":"IF( $AC4 = 0, \"\", IF( OFFSET(#REF!, $AC4 - 1,0,1,1)<>0, IF(OR($AD4=\"LUMP\", $AD4=\"LS\"), \"LUMP\", OFFSET(#REF!, $AC4 - 1,0,1,1)),\"\"))","v":{"$error":"#REF!"}},{"$f":"IF( $AC4 = 0, \"\", IF( OFFSET(#REF!, $AC4 - 1,0,1,1)<>0, IF(OR($AD4=\"LUMP\", $AD4=\"LS\"), \"LUMP\", OFFSET(#REF!, $AC4 - 1,0,1,1)),\"\"))","v":{"$error":"#REF!"}},{"$f":"IF( $AC4 = 0, \"\", IF( OFFSET(#REF!, $AC4 - 1,0,1,1)<>0, IF(OR($AD4=\"LUMP\", $AD4=\"LS\"), \"LUMP\", OFFSET(#REF!, $AC4 - 1,0,1,1)),\"\"))","v":{"$error":"#REF!"}},{"$f":"IF( $AC4 = 0, \"\", IF( OFFSET(#REF!, $AC4 - 1,0,1,1)<>0, IF(OR($AD4=\"LUMP\", $AD4=\"LS\"), \"LUMP\", OFFSET(#REF!, $AC4 - 1,0,1,1)),\"\"))","v":{"$error":"#REF!"}},{"$f":"IF( $AC4 = 0, \"\", IF( OFFSET(#REF!, $AC4 - 1,0,1,1)<>0, IF(OR($AD4=\"LUMP\", $AD4=\"LS\"), \"LUMP\", OFFSET(#REF!, $AC4 - 1,0,1,1)),\"\"))","v":{"$error":"#REF!"}},{"$f":"IF( $AC4 = 0, \"\", IF( OFFSET(#REF!, $AC4 - 1,0,1,1)<>0, IF(OR($AD4=\"LUMP\", $AD4=\"LS\"), \"LUMP\", OFFSET(#REF!, $AC4 - 1,0,1,1)),\"\"))","v":{"$error":"#REF!"}},{"$f":"IF( $AC4 = 0, \"\", IF( OFFSET(#REF!, $AC4 - 1,0,1,1)<>0, IF(OR($AD4=\"LUMP\", $AD4=\"LS\"), \"LUMP\", OFFSET(#REF!, $AC4 - 1,0,1,1)),\"\"))","v":{"$error":"#REF!"}},{"$f":"IF( $AC4 = 0, \"\", IF( OFFSET(#REF!, $AC4 - 1,0,1,1)<>0, IF(OR($AD4=\"LUMP\", $AD4=\"LS\"), \"LUMP\", OFFSET(#REF!, $AC4 - 1,0,1,1)),\"\"))","v":{"$error":"#REF!"}},{"$f":"IF( $AC4 = 0, \"\", IF( OFFSET(#REF!, $AC4 - 1,0,1,1)<>0, IF(OR($AD4=\"LUMP\", $AD4=\"LS\"), \"LUMP\", OFFSET(#REF!, $AC4 - 1,0,1,1)),\"\"))","v":{"$error":"#REF!"}},{"$f":"IF( $AC4 = 0, \"\", IF( OFFSET(#REF!, $AC4 - 1,0,1,1)<>0, IF(OR($AD4=\"LUMP\", $AD4=\"LS\"), \"LUMP\", OFFSET(#REF!, $AC4 - 1,0,1,1)),\"\"))","v":{"$error":"#REF!"}},{"$f":"IF( $AC4 = 0, \"\", IF( OFFSET(#REF!, $AC4 - 1,0,1,1)<>0, LEFT(OFFSET(#REF!, $AC4 - 1,0,1,1),3),\"\"))","v":{"$error":"#REF!"}},{"$f":"IF( $AC4 = 0, \"\", IF( OFFSET(#REF!, $AC4 - 1,0,1,1)<>0, IF(LEN(OFFSET(#REF!, $AC4 - 1,0,1,1))=9,   RIGHT(OFFSET(#REF!, $AC4 - 1,0,1,1),5),    LEFT(RIGHT(OFFSET(#REF!, $AC4 - 1,0,1,1),6), 5)      ),\"\"))","v":{"$error":"#REF!"}},{"$f":"IF(SUM(A4:T4)<>0,SUM(A4:T4),IF(OR(AD4=\"LUMP\", AD4=\"LS\"), \"LUMP\", \"\"))","v":{"$error":"#REF!"}},{"$f":"IF( $AC4 = 0, \"\", IF( OFFSET(#REF!, $AC4 - 1,0,1,1)<>0,IF(OR(AD4=\"LUMP\", AD4=\"LS\"), \"\", AD4),\"\"))","v":{"$error":"#REF!"}},{"$f":"IF( $AC4 = 0, \"\", IF( OFFSET(#REF!, $AC4 - 1,0,1,1)<>0, VLOOKUP( OFFSET(#REF!, $AC4 - 1,0,1,1),[1]Items!$A$2:$E$10001,4,0),\"\"))","v":{"$error":"#REF!"}},null,{"$f":"AA3+1","v":2},0,2,{"$f":"IF( $AC4 = 0, \"\", IF( OFFSET(#REF!, $AC4 - 1,0,1,1)<>0, VLOOKUP( OFFSET(#REF!, $AC4 - 1,0,1,1),[1]Items!$A$2:$E$10001,3,0),\"\"))","v":{"$error":"#REF!"}}]
[{"$f":"IF( $AC5 = 0, \"\", IF( OFFSET(#REF!, $AC5 - 1,0,1,1)<>0, IF(OR($AD5=\"LUMP\", $AD5=\"LS\"), \"LUMP\", OFFSET(#REF!, $AC5 - 1,0,1,1)),\"\"))","v":{"$error":"#REF!"}},{"$f":"IF( $AC5 = 0, \"\", IF( OFFSET(#REF!, $AC5 - 1,0,1,1)<>0, IF(OR($AD5=\"LUMP\", $AD5=\"LS\"), \"LUMP\", OFFSET(#REF!, $AC5 - 1,0,1,1)),\"\"))","v":{"$error":"#REF!"}},{"$f":"IF( $AC5 = 0, \"\", IF( OFFSET(#REF!, $AC5 - 1,0,1,1)<>0, IF(OR($AD5=\"LUMP\", $AD5=\"LS\"), \"LUMP\", OFFSET(#REF!, $AC5 - 1,0,1,1)),\"\"))","v":{"$error":"#REF!"}},{"$f":"IF( $AC5 = 0, \"\", IF( OFFSET(#REF!, $AC5 - 1,0,1,1)<>0, IF(OR($AD5=\"LUMP\", $AD5=\"LS\"), \"LUMP\", OFFSET(#REF!, $AC5 - 1,0,1,1)),\"\"))","v":{"$error":"#REF!"}},{"$f":"IF( $AC5 = 0, \"\", IF( OFFSET(#REF!, $AC5 - 1,0,1,1)<>0, IF(OR($AD5=\"LUMP\", $AD5=\"LS\"), \"LUMP\", OFFSET(#REF!, $AC5 - 1,0,1,1)),\"\"))","v":{"$error":"#REF!"}},{"$f":"IF( $AC5 = 0, \"\", IF( OFFSET(#REF!, $AC5 - 1,0,1,1)<>0, IF(OR($AD5=\"LUMP\", $AD5=\"LS\"), \"LUMP\", OFFSET(#REF!, $AC5 - 1,0,1,1)),\"\"))","v":{"$error":"#REF!"}},{"$f":"IF( $AC5 = 0, \"\", IF( OFFSET(#REF!, $AC5 - 1,0,1,1)<>0, IF(OR($AD5=\"LUMP\", $AD5=\"LS\"), \"LUMP\", OFFSET(#REF!, $AC5 - 1,0,1,1)),\"\"))","v":{"$error":"#REF!"}},{"$f":"IF( $AC5 = 0, \"\", IF( OFFSET(#REF!, $AC5 - 1,0,1,1)<>0, IF(OR($AD5=\"LUMP\", $AD5=\"LS\"), \"LUMP\", OFFSET(#REF!, $AC5 - 1,0,1,1)),\"\"))","v":{"$error":"#REF!"}},{"$f":"IF( $AC5 = 0, \"\", IF( OFFSET(#REF!, $AC5 - 1,0,1,1)<>0, IF(OR($AD5=\"LUMP\", $AD5=\"LS\"), \"LUMP\", OFFSET(#REF!, $AC5 - 1,0,1,1)),\"\"))","v":{"$error":"#REF!"}},{"$f":"IF( $AC5 = 0, \"\", IF( OFFSET(#REF!, $AC5 - 1,0,1,1)<>0, IF(OR($AD5=\"LUMP\", $AD5=\"LS\"), \"LUMP\", OFFSET(#REF!, $AC5 - 1,0,1,1)),\"\"))","v":{"$error":"#REF!"}},{"$f":"IF( $AC5 = 0, \"\", IF( OFFSET(#REF!, $AC5 - 1,0,1,1)<>0, IF(OR($AD5=\"LUMP\", $AD5=\"LS\"), \"LUMP\", OFFSET(#REF!, $AC5 - 1,0,1,1)),\"\"))","v":{"$error":"#REF!"}},{"$f":"IF( $AC5 = 0, \"\", IF( OFFSET(#REF!, $AC5 - 1,0,1,1)<>0, IF(OR($AD5=\"LUMP\", $AD5=\"LS\"), \"LUMP\", OFFSET(#REF!, $AC5 - 1,0,1,1)),\"\"))","v":{"$error":"#REF!"}},{"$f":"IF( $AC5 = 0, \"\", IF( OFFSET(#REF!, $AC5 - 1,0,1,1)<>0, IF(OR($AD5=\"LUMP\", $AD5=\"LS\"), \"LUMP\", OFFSET(#REF!, $AC5 - 1,0,1,1)),\"\"))","v":{"$error":"#REF!"}},{"$f":"IF( $AC5 = 0, \"\", IF( OFFSET(#REF!, $AC5 - 1,0,1,1)<>0, IF(OR($AD5=\"LUMP\", $AD5=\"LS\"), \"LUMP\", OFFSET(#REF!, $AC5 - 1,0,1,1)),\"\"))","v":{"$error":"#REF!"}},{"$f":"IF( $AC5 = 0, \"\", IF( OFFSET(#REF!, $AC5 - 1,0,1,1)<>0, IF(OR($AD5=\"LUMP\", $AD5=\"LS\"), \"LUMP\", OFFSET(#REF!, $AC5 - 1,0,1,1)),\"\"))","v":{"$error":"#REF!"}},{"$f":"IF( $AC5 = 0, \"\", IF( OFFSET(#REF!, $AC5 - 1,0,1,1)<>0, IF(OR($AD5=\"LUMP\", $AD5=\"LS\"), \"LUMP\", OFFSET(#REF!, $AC5 - 1,0,1,1)),\"\"))","v":{"$error":"#REF!"}},{"$f":"IF( $AC5 = 0, \"\", IF( OFFSET(#REF!, $AC5 - 1,0,1,1)<>0, IF(OR($AD5=\"LUMP\", $AD5=\"LS\"), \"LUMP\", OFFSET(#REF!, $AC5 - 1,0,1,1)),\"\"))","v":{"$error":"#REF!"}},{"$f":"IF( $AC5 = 0, \"\", IF( OFFSET(#REF!, $AC5 - 1,0,1,1)<>0, IF(OR($AD5=\"LUMP\", $AD5=\"LS\"), \"LUMP\", OFFSET(#REF!, $AC5 - 1,0,1,1)),\"\"))","v":{"$error":"#REF!"}},{"$f":"IF( $AC5 = 0, \"\", IF( OFFSET(#REF!, $AC5 - 1,0,1,1)<>0, IF(OR($AD5=\"LUMP\", $AD5=\"LS\"), \"LUMP\", OFFSET(#REF!, $AC5 - 1,0,1,1)),\"\"))","v":{"$error":"#REF!"}},{"$f":"IF( $AC5 = 0, \"\", IF( OFFSET(#REF!, $AC5 - 1,0,1,1)<>0, IF(OR($AD5=\"LUMP\", $AD5=\"LS\"), \"LUMP\", OFFSET(#REF!, $AC5 - 1,0,1,1)),\"\"))","v":{"$error":"#REF!"}},{"$f":"IF( $AC5 = 0, \"\", IF( OFFSET(#REF!, $AC5 - 1,0,1,1)<>0, LEFT(OFFSET(#REF!, $AC5 - 1,0,1,1),3),\"\"))","v":{"$error":"#REF!"}},{"$f":"IF( $AC5 = 0, \"\", IF( OFFSET(#REF!, $AC5 - 1,0,1,1)<>0, IF(LEN(OFFSET(#REF!, $AC5 - 1,0,1,1))=9,   RIGHT(OFFSET(#REF!, $AC5 - 1,0,1,1),5),    LEFT(RIGHT(OFFSET(#REF!, $AC5 - 1,0,1,1),6), 5)      ),\"\"))","v":{"$error":"#REF!"}},{"$f":"IF(SUM(A5:T5)<>0,SUM(A5:T5),IF(OR(AD5=\"LUMP\", AD5=\"LS\"), \"LUMP\", \"\"))","v":{"$error":"#REF!"}},{"$f":"IF( $AC5 = 0, \"\", IF( OFFSET(#REF!, $AC5 - 1,0,1,1)<>0,IF(OR(AD5=\"LUMP\", AD5=\"LS\"), \"\", AD5),\"\"))","v":{"$error":"#REF!"}},{"$f":"IF( $AC5 = 0, \"\", IF( OFFSET(#REF!, $AC5 - 1,0,1,1)<>0, VLOOKUP( OFFSET(#REF!, $AC5 - 1,0,1,1),[1]Items!$A$2:$E$10001,4,0),\"\"))","v":{"$error":"#REF!"}},null,3,0,3,{"$f":"IF( $AC5 = 0, \"\", IF( OFFSET(#REF!, $AC5 - 1,0,1,1)<>0, VLOOKUP( OFFSET(#REF!, $AC5 - 1,0,1,1),[1]Items!$A$2:$E$10001,3,0),\"\"))","v":{"$error":"#REF!"}}]
[{"$f":"IF( $AC6 = 0, \"\", IF( OFFSET(#REF!, $AC6 - 1,0,1,1)<>0, IF(OR($AD6=\"LUMP\", $AD6=\"LS\"), \"LUMP\", OFFSET(#REF!, $AC6 - 1,0,1,1)),\"\"))","v":{"$error":"#REF!"}},{"$f":"IF( $AC6 = 0, \"\", IF( OFFSET(#REF!, $AC6 - 1,0,1,1)<>0, IF(OR($AD6=\"LUMP\", $AD6=\"LS\"), \"LUMP\", OFFSET(#REF!, $AC6 - 1,0,1,1)),\"\"))","v":{"$error":"#REF!"}},{"$f":"IF( $AC6 = 0, \"\", IF( OFFSET(#REF!, $AC6 - 1,0,1,1)<>0, IF(OR($AD6=\"LUMP\", $AD6=\"LS\"), \"LUMP\", OFFSET(#REF!, $AC6 - 1,0,1,1)),\"\"))","v":{"$error":"#REF!"}},{"$f":"IF( $AC6 = 0, \"\", IF( OFFSET(#REF!, $AC6 - 1,0,1,1)<>0, IF(OR($AD6=\"LUMP\", $AD6=\"LS\"), \"LUMP\", OFFSET(#REF!, $AC6 - 1,0,1,1)),\"\"))","v":{"$error":"#REF!"}},{"$f":"IF( $AC6 = 0, \"\", IF( OFFSET(#REF!, $AC6 - 1,0,1,1)<>0, IF(OR($AD6=\"LUMP\", $AD6=\"LS\"), \"LUMP\", OFFSET(#REF!, $AC6 - 1,0,1,1)),\"\"))","v":{"$error":"#REF!"}},{"$f":"IF( $AC6 = 0, \"\", IF( OFFSET(#REF!, $AC6 - 1,0,1,1)<>0, IF(OR($AD6=\"LUMP\", $AD6=\"LS\"), \"LUMP\", OFFSET(#REF!, $AC6 - 1,0,1,1)),\"\"))","v":{"$error":"#REF!"}},{"$f":"IF( $AC6 = 0, \"\", IF( OFFSET(#REF!, $AC6 - 1,0,1,1)<>0, IF(OR($AD6=\"LUMP\", $AD6=\"LS\"), \"LUMP\", OFFSET(#REF!, $AC6 - 1,0,1,1)),\"\"))","v":{"$error":"#REF!"}},{"$f":"IF( $AC6 = 0, \"\", IF( OFFSET(#REF!, $AC6 - 1,0,1,1)<>0, IF(OR($AD6=\"LUMP\", $AD6=\"LS\"), \"LUMP\", OFFSET(#REF!, $AC6 - 1,0,1,1)),\"\"))","v":{"$error":"#REF!"}},{"$f":"IF( $AC6 = 0, \"\", IF( OFFSET(#REF!, $AC6 - 1,0,1,1)<>0, IF(OR($AD6=\"LUMP\", $AD6=\"LS\"), \"LUMP\", OFFSET(#REF!, $AC6 - 1,0,1,1)),\"\"))","v":{"$error":"#REF!"}},{"$f":"IF( $AC6 = 0, \"\", IF( OFFSET(#REF!, $AC6 - 1,0,1,1)<>0, IF(OR($AD6=\"LUMP\", $AD6=\"LS\"), \"LUMP\", OFFSET(#REF!, $AC6 - 1,0,1,1)),\"\"))","v":{"$error":"#REF!"}},{"$f":"IF( $AC6 = 0, \"\", IF( OFFSET(#REF!, $AC6 - 1,0,1,1)<>0, IF(OR($AD6=\"LUMP\", $AD6=\"LS\"), \"LUMP\", OFFSET(#REF!, $AC6 - 1,0,1,1)),\"\"))","v":{"$error":"#REF!"}},{"$f":"IF( $AC6 = 0, \"\", IF( OFFSET(#REF!, $AC6 - 1,0,1,1)<>0, IF(OR($AD6=\"LUMP\", $AD6=\"LS\"), \"LUMP\", OFFSET(#REF!, $AC6 - 1,0,1,1)),\"\"))","v":{"$error":"#REF!"}},{"$f":"IF( $AC6 = 0, \"\", IF( OFFSET(#REF!, $AC6 - 1,0,1,1)<>0, IF(OR($AD6=\"LUMP\", $AD6=\"LS\"), \"LUMP\", OFFSET(#REF!, $AC6 - 1,0,1,1)),\"\"))","v":{"$error":"#REF!"}},{"$f":"IF( $AC6 = 0, \"\", IF( OFFSET(#REF!, $AC6 - 1,0,1,1)<>0, IF(OR($AD6=\"LUMP\", $AD6=\"LS\"), \"LUMP\", OFFSET(#REF!, $AC6 - 1,0,1,1)),\"\"))","v":{"$error":"#REF!"}},{"$f":"IF( $AC6 = 0, \"\", IF( OFFSET(#REF!, $AC6 - 1,0,1,1)<>0, IF(OR($AD6=\"LUMP\", $AD6=\"LS\"), \"LUMP\", OFFSET(#REF!, $AC6 - 1,0,1,1)),\"\"))","v":{"$error":"#REF!"}},{"$f":"IF( $AC6 = 0, \"\", IF( OFFSET(#REF!, $AC6 - 1,0,1,1)<>0, IF(OR($AD6=\"LUMP\", $AD6=\"LS\"), \"LUMP\", OFFSET(#REF!, $AC6 - 1,0,1,1)),\"\"))","v":{"$error":"#REF!"}},{"$f":"IF( $AC6 = 0, \"\", IF( OFFSET(#REF!, $AC6 - 1,0,1,1)<>0, IF(OR($AD6=\"LUMP\", $AD6=\"LS\"), \"LUMP\", OFFSET(#REF!, $AC6 - 1,0,1,1)),\"\"))","v":{"$error":"#REF!"}},{"$f":"IF( $AC6 = 0, \"\", IF( OFFSET(#REF!, $AC6 - 1,0,1,1)<>0, IF(OR($AD6=\"LUMP\", $AD6=\"LS\"), \"LUMP\", OFFSET(#REF!, $AC6 - 1,0,1,1)),\"\"))","v":{"$error":"#REF!"}},{"$f":"IF( $AC6 = 0, \"\", IF( OFFSET(#REF!, $AC6 - 1,0,1,1)<>0, IF(OR($AD6=\"LUMP\", $AD6=\"LS\"), \"LUMP\", OFFSET(#REF!, $AC6 - 1,0,1,1)),\"\"))","v":{"$error":"#REF!"}},{"$f":"IF( $AC6 = 0, \"\", IF( OFFSET(#REF!, $AC6 - 1,0,1,1)<>0, IF(OR($AD6=\"LUMP\", $AD6=\"LS\"), \"LUMP\", OFFSET(#REF!, $AC6 - 1,0,1,1)),\"\"))","v":{"$error":"#REF!"}},{"$f":"IF( $AC6 = 0, \"\", IF( OFFSET(#REF!, $AC6 - 1,0,1,1)<>0, LEFT(OFFSET(#REF!, $AC6 - 1,0,1,1),3),\"\"))","v":{"$error":"#REF!"}},{"$f":"IF( $AC6 = 0, \"\", IF( OFFSET(#REF!, $AC6 - 1,0,1,1)<>0, IF(LEN(OFFSET(#REF!, $AC6 - 1,0,1,1))=9,   RIGHT(OFFSET(#REF!, $AC6 - 1,0,1,1),5),    LEFT(RIGHT(OFFSET(#REF!, $AC6 - 1,0,1,1),6), 5)      ),\"\"))","v":{"$error":"#REF!"}},{"$f":"IF(SUM(A6:T6)<>0,SUM(A6:T6),IF(OR(AD6=\"LUMP\", AD6=\"LS\"), \"LUMP\", \"\"))","v":{"$error":"#REF!"}},{"$f":"IF( $AC6 = 0, \"\", IF( OFFSET(#REF!, $AC6 - 1,0,1,1)<>0,IF(OR(AD6=\"LUMP\", AD6=\"LS\"), \"\", AD6),\"\"))","v":{"$error":"#REF!"}},{"$f":"IF( $AC6 = 0, \"\", IF( OFFSET(#REF!, $AC6 - 1,0,1,1)<>0, VLOOKUP( OFFSET(#REF!, $AC6 - 1,0,1,1),[1]Items!$A$2:$E$10001,4,0),\"\"))","v":{"$error":"#REF!"}},null,4,0,4,{"$f":"IF( $AC6 = 0, \"\", IF( OFFSET(#REF!, $AC6 - 1,0,1,1)<>0, VLOOKUP( OFFSET(#REF!, $AC6 - 1,0,1,1),[1]Items!$A$2:$E$10001,3,0),\"\"))","v":{"$error":"#REF!"}}]
[{"$f":"IF( $AC7 = 0, \"\", IF( OFFSET(#REF!, $AC7 - 1,0,1,1)<>0, IF(OR($AD7=\"LUMP\", $AD7=\"LS\"), \"LUMP\", OFFSET(#REF!, $AC7 - 1,0,1,1)),\"\"))","v":{"$error":"#REF!"}},{"$f":"IF( $AC7 = 0, \"\", IF( OFFSET(#REF!, $AC7 - 1,0,1,1)<>0, IF(OR($AD7=\"LUMP\", $AD7=\"LS\"), \"LUMP\", OFFSET(#REF!, $AC7 - 1,0,1,1)),\"\"))","v":{"$error":"#REF!"}},{"$f":"IF( $AC7 = 0, \"\", IF( OFFSET(#REF!, $AC7 - 1,0,1,1)<>0, IF(OR($AD7=\"LUMP\", $AD7=\"LS\"), \"LUMP\", OFFSET(#REF!, $AC7 - 1,0,1,1)),\"\"))","v":{"$error":"#REF!"}},{"$f":"IF( $AC7 = 0, \"\", IF( OFFSET(#REF!, $AC7 - 1,0,1,1)<>0, IF(OR($AD7=\"LUMP\", $AD7=\"LS\"), \"LUMP\", OFFSET(#REF!, $AC7 - 1,0,1,1)),\"\"))","v":{"$error":"#REF!"}},{"$f":"IF( $AC7 = 0, \"\", IF( OFFSET(#REF!, $AC7 - 1,0,1,1)<>0, IF(OR($AD7=\"LUMP\", $AD7=\"LS\"), \"LUMP\", OFFSET(#REF!, $AC7 - 1,0,1,1)),\"\"))","v":{"$error":"#REF!"}},{"$f":"IF( $AC7 = 0, \"\", IF( OFFSET(#REF!, $AC7 - 1,0,1,1)<>0, IF(OR($AD7=\"LUMP\", $AD7=\"LS\"), \"LUMP\", OFFSET(#REF!, $AC7 - 1,0,1,1)),\"\"))","v":{"$error":"#REF!"}},{"$f":"IF( $AC7 = 0, \"\", IF( OFFSET(#REF!, $AC7 - 1,0,1,1)<>0, IF(OR($AD7=\"LUMP\", $AD7=\"LS\"), \"LUMP\", OFFSET(#REF!, $AC7 - 1,0,1,1)),\"\"))","v":{"$error":"#REF!"}},{"$f":"IF( $AC7 = 0, \"\", IF( OFFSET(#REF!, $AC7 - 1,0,1,1)<>0, IF(OR($AD7=\"LUMP\", $AD7=\"LS\"), \"LUMP\", OFFSET(#REF!, $AC7 - 1,0,1,1)),\"\"))","v":{"$error":"#REF!"}},{"$f":"IF( $AC7 = 0, \"\", IF( OFFSET(#REF!, $AC7 - 1,0,1,1)<>0, IF(OR($AD7=\"LUMP\", $AD7=\"LS\"), \"LUMP\", OFFSET(#REF!, $AC7 - 1,0,1,1)),\"\"))","v":{"$error":"#REF!"}},{"$f":"IF( $AC7 = 0, \"\", IF( OFFSET(#REF!, $AC7 - 1,0,1,1)<>0, IF(OR($AD7=\"LUMP\", $AD7=\"LS\"), \"LUMP\", OFFSET(#REF!, $AC7 - 1,0,1,1)),\"\"))","v":{"$error":"#REF!"}},{"$f":"IF( $AC7 = 0, \"\", IF( OFFSET(#REF!, $AC7 - 1,0,1,1)<>0, IF(OR($AD7=\"LUMP\", $AD7=\"LS\"), \"LUMP\", OFFSET(#REF!, $AC7 - 1,0,1,1)),\"\"))","v":{"$error":"#REF!"}},{"$f":"IF( $AC7 = 0, \"\", IF( OFFSET(#REF!, $AC7 - 1,0,1,1)<>0, IF(OR($AD7=\"LUMP\", $AD7=\"LS\"), \"LUMP\", OFFSET(#REF!, $AC7 - 1,0,1,1)),\"\"))","v":{"$error":"#REF!"}},{"$f":"IF( $AC7 = 0, \"\", IF( OFFSET(#REF!, $AC7 - 1,0,1,1)<>0, IF(OR($AD7=\"LUMP\", $AD7=\"LS\"), \"LUMP\", OFFSET(#REF!, $AC7 - 1,0,1,1)),\"\"))","v":{"$error":"#REF!"}},{"$f":"IF( $AC7 = 0, \"\", IF( OFFSET(#REF!, $AC7 - 1,0,1,1)<>0, IF(OR($AD7=\"LUMP\", $AD7=\"LS\"), \"LUMP\", OFFSET(#REF!, $AC7 - 1,0,1,1)),\"\"))","v":{"$error":"#REF!"}},{"$f":"IF( $AC7 = 0, \"\", IF( OFFSET(#REF!, $AC7 - 1,0,1,1)<>0, IF(OR($AD7=\"LUMP\", $AD7=\"LS\"), \"LUMP\", OFFSET(#REF!, $AC7 - 1,0,1,1)),\"\"))","v":{"$error":"#REF!"}},{"$f":"IF( $AC7 = 0, \"\", IF( OFFSET(#REF!, $AC7 - 1,0,1,1)<>0, IF(OR($AD7=\"LUMP\", $AD7=\"LS\"), \"LUMP\", OFFSET(#REF!, $AC7 - 1,0,1,1)),\"\"))","v":{"$error":"#REF!"}},{"$f":"IF( $AC7 = 0, \"\", IF( OFFSET(#REF!, $AC7 - 1,0,1,1)<>0, IF(OR($AD7=\"LUMP\", $AD7=\"LS\"), \"LUMP\", OFFSET(#REF!, $AC7 - 1,0,1,1)),\"\"))","v":{"$error":"#REF!"}},{"$f":"IF( $AC7 = 0, \"\", IF( OFFSET(#REF!, $AC7 - 1,0,1,1)<>0, IF(OR($AD7=\"LUMP\", $AD7=\"LS\"), \"LUMP\", OFFSET(#REF!, $AC7 - 1,0,1,1)),\"\"))","v":{"$error":"#REF!"}},{"$f":"IF( $AC7 = 0, \"\", IF( OFFSET(#REF!, $AC7 - 1,0,1,1)<>0, IF(OR($AD7=\"LUMP\", $AD7=\"LS\"), \"LUMP\", OFFSET(#REF!, $AC7 - 1,0,1,1)),\"\"))","v":{"$error":"#REF!"}},{"$f":"IF( $AC7 = 0, \"\", IF( OFFSET(#REF!, $AC7 - 1,0,1,1)<>0, IF(OR($AD7=\"LUMP\", $AD7=\"LS\"), \"LUMP\", OFFSET(#REF!, $AC7 - 1,0,1,1)),\"\"))","v":{"$error":"#REF!"}},{"$f":"IF( $AC7 = 0, \"\", IF( OFFSET(#REF!, $AC7 - 1,0,1,1)<>0, LEFT(OFFSET(#REF!, $AC7 - 1,0,1,1),3),\"\"))","v":{"$error":"#REF!"}},{"$f":"IF( $AC7 = 0, \"\", IF( OFFSET(#REF!, $AC7 - 1,0,1,1)<>0, IF(LEN(OFFSET(#REF!, $AC7 - 1,0,1,1))=9,   RIGHT(OFFSET(#REF!, $AC7 - 1,0,1,1),5),    LEFT(RIGHT(OFFSET(#REF!, $AC7 - 1,0,1,1),6), 5)      ),\"\"))","v":{"$error":"#REF!"}},{"$error":"#REF!"},{"$f":"IF( $AC7 = 0, \"\", IF( OFFSET(#REF!, $AC7 - 1,0,1,1)<>0,IF(OR(AD7=\"LUMP\", AD7=\"LS\"), \"\", AD7),\"\"))","v":{"$error":"#REF!"}},{"$f":"IF( $AC7 = 0, \"\", IF( OFFSET(#REF!, $AC7 - 1,0,1,1)<>0, VLOOKUP( OFFSET(#REF!, $AC7 - 1,0,1,1),[1]Items!$A$2:$E$10001,4,0),\"\"))","v":{"$error":"#REF!"}},null,5,0,5,{"$f":"IF( $AC7 = 0, \"\", IF( OFFSET(#REF!, $AC7 - 1,0,1,1)<>0, VLOOKUP( OFFSET(#REF!, $AC7 - 1,0,1,1),[1]Items!$A$2:$E$10001,3,0),\"\"))","v":{"$error":"#REF!"}}]
[{"$f":"IF( $AC8 = 0, \"\", IF( OFFSET(#REF!, $AC8 - 1,0,1,1)<>0, IF(OR($AD8=\"LUMP\", $AD8=\"LS\"), \"LUMP\", OFFSET(#REF!, $AC8 - 1,0,1,1)),\"\"))","v":""},{"$f":"IF( $AC8 = 0, \"\", IF( OFFSET(#REF!, $AC8 - 1,0,1,1)<>0, IF(OR($AD8=\"LUMP\", $AD8=\"LS\"), \"LUMP\", OFFSET(#REF!, $AC8 - 1,0,1,1)),\"\"))","v":""},{"$f":"IF( $AC8 = 0, \"\", IF( OFFSET(#REF!, $AC8 - 1,0,1,1)<>0, IF(OR($AD8=\"LUMP\", $AD8=\"LS\"), \"LUMP\", OFFSET(#REF!, $AC8 - 1,0,1,1)),\"\"))","v":""},{"$f":"IF( $AC8 = 0, \"\", IF( OFFSET(#REF!, $AC8 - 1,0,1,1)<>0, IF(OR($AD8=\"LUMP\", $AD8=\"LS\"), \"LUMP\", OFFSET(#REF!, $AC8 - 1,0,1,1)),\"\"))","v":""},{"$f":"IF( $AC8 = 0, \"\", IF( OFFSET(#REF!, $AC8 - 1,0,1,1)<>0, IF(OR($AD8=\"LUMP\", $AD8=\"LS\"), \"LUMP\", OFFSET(#REF!, $AC8 - 1,0,1,1)),\"\"))","v":""},{"$f":"IF( $AC8 = 0, \"\", IF( OFFSET(#REF!, $AC8 - 1,0,1,1)<>0, IF(OR($AD8=\"LUMP\", $AD8=\"LS\"), \"LUMP\", OFFSET(#REF!, $AC8 - 1,0,1,1)),\"\"))","v":""},{"$f":"IF( $AC8 = 0, \"\", IF( OFFSET(#REF!, $AC8 - 1,0,1,1)<>0, IF(OR($AD8=\"LUMP\", $AD8=\"LS\"), \"LUMP\", OFFSET(#REF!, $AC8 - 1,0,1,1)),\"\"))","v":""},{"$f":"IF( $AC8 = 0, \"\", IF( OFFSET(#REF!, $AC8 - 1,0,1,1)<>0, IF(OR($AD8=\"LUMP\", $AD8=\"LS\"), \"LUMP\", OFFSET(#REF!, $AC8 - 1,0,1,1)),\"\"))","v":""},{"$f":"IF( $AC8 = 0, \"\", IF( OFFSET(#REF!, $AC8 - 1,0,1,1)<>0, IF(OR($AD8=\"LUMP\", $AD8=\"LS\"), \"LUMP\", OFFSET(#REF!, $AC8 - 1,0,1,1)),\"\"))","v":""},{"$f":"IF( $AC8 = 0, \"\", IF( OFFSET(#REF!, $AC8 - 1,0,1,1)<>0, IF(OR($AD8=\"LUMP\", $AD8=\"LS\"), \"LUMP\", OFFSET(#REF!, $AC8 - 1,0,1,1)),\"\"))","v":""},{"$f":"IF( $AC8 = 0, \"\", IF( OFFSET(#REF!, $AC8 - 1,0,1,1)<>0, IF(OR($AD8=\"LUMP\", $AD8=\"LS\"), \"LUMP\", OFFSET(#REF!, $AC8 - 1,0,1,1)),\"\"))","v":""},{"$f":"IF( $AC8 = 0, \"\", IF( OFFSET(#REF!, $AC8 - 1,0,1,1)<>0, IF(OR($AD8=\"LUMP\", $AD8=\"LS\"), \"LUMP\", OFFSET(#REF!, $AC8 - 1,0,1,1)),\"\"))","v":""},{"$f":"IF( $AC8 = 0, \"\", IF( OFFSET(#REF!, $AC8 - 1,0,1,1)<>0, IF(OR($AD8=\"LUMP\", $AD8=\"LS\"), \"LUMP\", OFFSET(#REF!, $AC8 - 1,0,1,1)),\"\"))","v":""},{"$f":"IF( $AC8 = 0, \"\", IF( OFFSET(#REF!, $AC8 - 1,0,1,1)<>0, IF(OR($AD8=\"LUMP\", $AD8=\"LS\"), \"LUMP\", OFFSET(#REF!, $AC8 - 1,0,1,1)),\"\"))","v":""},{"$f":"IF( $AC8 = 0, \"\", IF( OFFSET(#REF!, $AC8 - 1,0,1,1)<>0, IF(OR($AD8=\"LUMP\", $AD8=\"LS\"), \"LUMP\", OFFSET(#REF!, $AC8 - 1,0,1,1)),\"\"))","v":""},{"$f":"IF( $AC8 = 0, \"\", IF( OFFSET(#REF!, $AC8 - 1,0,1,1)<>0, IF(OR($AD8=\"LUMP\", $AD8=\"LS\"), \"LUMP\", OFFSET(#REF!, $AC8 - 1,0,1,1)),\"\"))","v":""},{"$f":"IF( $AC8 = 0, \"\", IF( OFFSET(#REF!, $AC8 - 1,0,1,1)<>0, IF(OR($AD8=\"LUMP\", $AD8=\"LS\"), \"LUMP\", OFFSET(#REF!, $AC8 - 1,0,1,1)),\"\"))","v":""},{"$f":"IF( $AC8 = 0, \"\", IF( OFFSET(#REF!, $AC8 - 1,0,1,1)<>0, IF(OR($AD8=\"LUMP\", $AD8=\"LS\"), \"LUMP\", OFFSET(#REF!, $AC8 - 1,0,1,1)),\"\"))","v":""},{"$f":"IF( $AC8 = 0, \"\", IF( OFFSET(#REF!, $AC8 - 1,0,1,1)<>0, IF(OR($AD8=\"LUMP\", $AD8=\"LS\"), \"LUMP\", OFFSET(#REF!, $AC8 - 1,0,1,1)),\"\"))","v":""},{"$f":"IF( $AC8 = 0, \"\", IF( OFFSET(#REF!, $AC8 - 1,0,1,1)<>0, IF(OR($AD8=\"LUMP\", $AD8=\"LS\"), \"LUMP\", OFFSET(#REF!, $AC8 - 1,0,1,1)),\"\"))","v":""},{"$f":"IF( $AC8 = 0, \"\", IF( OFFSET(#REF!, $AC8 - 1,0,1,1)<>0, LEFT(OFFSET(#REF!, $AC8 - 1,0,1,1),3),\"\"))","v":""},{"$f":"IF( $AC8 = 0, \"\", IF( OFFSET(#REF!, $AC8 - 1,0,1,1)<>0, IF(LEN(OFFSET(#REF!, $AC8 - 1,0,1,1))=9,   RIGHT(OFFSET(#REF!, $AC8 - 1,0,1,1),5),    LEFT(RIGHT(OFFSET(#REF!, $AC8 - 1,0,1,1),6), 5)      ),\"\"))","v":""},"",{"$f":"IF( $AC8 = 0, \"\", IF( OFFSET(#REF!, $AC8 - 1,0,1,1)<>0,IF(OR(AD8=\"LUMP\", AD8=\"LS\"), \"\", AD8),\"\"))","v":""},{"$f":"IF( $AC8 = 0, \"\", IF( OFFSET(#REF!, $AC8 - 1,0,1,1)<>0, VLOOKUP( OFFSET(#REF!, $AC8 - 1,0,1,1),[1]Items!$A$2:$E$10001,4,0),\"\"))","v":""},null,6,1,0,{"$f":"IF( $AC8 = 0, \"\", IF( OFFSET(#REF!, $AC8 - 1,0,1,1)<>0, VLOOKUP( OFFSET(#REF!, $AC8 - 1,0,1,1),[1]Items!$A$2:$E$10001,3,0),\"\"))","v":""}]
[{"$f":"IF( $AC9 = 0, \"\", IF( OFFSET(#REF!, $AC9 - 1,0,1,1)<>0, IF(OR($AD9=\"LUMP\", $AD9=\"LS\"), \"LUMP\", OFFSET(#REF!, $AC9 - 1,0,1,1)),\"\"))","v":{"$error":"#REF!"}},{"$f":"IF( $AC9 = 0, \"\", IF( OFFSET(#REF!, $AC9 - 1,0,1,1)<>0, IF(OR($AD9=\"LUMP\", $AD9=\"LS\"), \"LUMP\", OFFSET(#REF!, $AC9 - 1,0,1,1)),\"\"))","v":{"$error":"#REF!"}},{"$f":"IF( $AC9 = 0, \"\", IF( OFFSET(#REF!, $AC9 - 1,0,1,1)<>0, IF(OR($AD9=\"LUMP\", $AD9=\"LS\"), \"LUMP\", OFFSET(#REF!, $AC9 - 1,0,1,1)),\"\"))","v":{"$error":"#REF!"}},{"$f":"IF( $AC9 = 0, \"\", IF( OFFSET(#REF!, $AC9 - 1,0,1,1)<>0, IF(OR($AD9=\"LUMP\", $AD9=\"LS\"), \"LUMP\", OFFSET(#REF!, $AC9 - 1,0,1,1)),\"\"))","v":{"$error":"#REF!"}},{"$f":"IF( $AC9 = 0, \"\", IF( OFFSET(#REF!, $AC9 - 1,0,1,1)<>0, IF(OR($AD9=\"LUMP\", $AD9=\"LS\"), \"LUMP\", OFFSET(#REF!, $AC9 - 1,0,1,1)),\"\"))","v":{"$error":"#REF!"}},{"$f":"IF( $AC9 = 0, \"\", IF( OFFSET(#REF!, $AC9 - 1,0,1,1)<>0, IF(OR($AD9=\"LUMP\", $AD9=\"LS\"), \"LUMP\", OFFSET(#REF!, $AC9 - 1,0,1,1)),\"\"))","v":{"$error":"#REF!"}},{"$f":"IF( $AC9 = 0, \"\", IF( OFFSET(#REF!, $AC9 - 1,0,1,1)<>0, IF(OR($AD9=\"LUMP\", $AD9=\"LS\"), \"LUMP\", OFFSET(#REF!, $AC9 - 1,0,1,1)),\"\"))","v":{"$error":"#REF!"}},{"$f":"IF( $AC9 = 0, \"\", IF( OFFSET(#REF!, $AC9 - 1,0,1,1)<>0, IF(OR($AD9=\"LUMP\", $AD9=\"LS\"), \"LUMP\", OFFSET(#REF!, $AC9 - 1,0,1,1)),\"\"))","v":{"$error":"#REF!"}},{"$f":"IF( $AC9 = 0, \"\", IF( OFFSET(#REF!, $AC9 - 1,0,1,1)<>0, IF(OR($AD9=\"LUMP\", $AD9=\"LS\"), \"LUMP\", OFFSET(#REF!, $AC9 - 1,0,1,1)),\"\"))","v":{"$error":"#REF!"}},{"$f":"IF( $AC9 = 0, \"\", IF( OFFSET(#REF!, $AC9 - 1,0,1,1)<>0, IF(OR($AD9=\"LUMP\", $AD9=\"LS\"), \"LUMP\", OFFSET(#REF!, $AC9 - 1,0,1,1)),\"\"))","v":{"$error":"#REF!"}},{"$f":"IF( $AC9 = 0, \"\", IF( OFFSET(#REF!, $AC9 - 1,0,1,1)<>0, IF(OR($AD9=\"LUMP\", $AD9=\"LS\"), \"LUMP\", OFFSET(#REF!, $AC9 - 1,0,1,1)),\"\"))","v":{"$error":"#REF!"}},{"$f":"IF( $AC9 = 0, \"\", IF( OFFSET(#REF!, $AC9 - 1,0,1,1)<>0, IF(OR($AD9=\"LUMP\", $AD9=\"LS\"), \"LUMP\", OFFSET(#REF!, $AC9 - 1,0,1,1)),\"\"))","v":{"$error":"#REF!"}},{"$f":"IF( $AC9 = 0, \"\", IF( OFFSET(#REF!, $AC9 - 1,0,1,1)<>0, IF(OR($AD9=\"LUMP\", $AD9=\"LS\"), \"LUMP\", OFFSET(#REF!, $AC9 - 1,0,1,1)),\"\"))","v":{"$error":"#REF!"}},{"$f":"IF( $AC9 = 0, \"\", IF( OFFSET(#REF!, $AC9 - 1,0,1,1)<>0, IF(OR($AD9=\"LUMP\", $AD9=\"LS\"), \"LUMP\", OFFSET(#REF!, $AC9 - 1,0,1,1)),\"\"))","v":{"$error":"#REF!"}},{"$f":"IF( $AC9 = 0, \"\", IF( OFFSET(#REF!, $AC9 - 1,0,1,1)<>0, IF(OR($AD9=\"LUMP\", $AD9=\"LS\"), \"LUMP\", OFFSET(#REF!, $AC9 - 1,0,1,1)),\"\"))","v":{"$error":"#REF!"}},{"$f":"IF( $AC9 = 0, \"\", IF( OFFSET(#REF!, $AC9 - 1,0,1,1)<>0, IF(OR($AD9=\"LUMP\", $AD9=\"LS\"), \"LUMP\", OFFSET(#REF!, $AC9 - 1,0,1,1)),\"\"))","v":{"$error":"#REF!"}},{"$f":"IF( $AC9 = 0, \"\", IF( OFFSET(#REF!, $AC9 - 1,0,1,1)<>0, IF(OR($AD9=\"LUMP\", $AD9=\"LS\"), \"LUMP\", OFFSET(#REF!, $AC9 - 1,0,1,1)),\"\"))","v":{"$error":"#REF!"}},{"$f":"IF( $AC9 = 0, \"\", IF( OFFSET(#REF!, $AC9 - 1,0,1,1)<>0, IF(OR($AD9=\"LUMP\", $AD9=\"LS\"), \"LUMP\", OFFSET(#REF!, $AC9 - 1,0,1,1)),\"\"))","v":{"$error":"#REF!"}},{"$f":"IF( $AC9 = 0, \"\", IF( OFFSET(#REF!, $AC9 - 1,0,1,1)<>0, IF(OR($AD9=\"LUMP\", $AD9=\"LS\"), \"LUMP\", OFFSET(#REF!, $AC9 - 1,0,1,1)),\"\"))","v":{"$error":"#REF!"}},{"$f":"IF( $AC9 = 0, \"\", IF( OFFSET(#REF!, $AC9 - 1,0,1,1)<>0, IF(OR($AD9=\"LUMP\", $AD9=\"LS\"), \"LUMP\", OFFSET(#REF!, $AC9 - 1,0,1,1)),\"\"))","v":{"$error":"#REF!"}},{"$f":"IF( $AC9 = 0, \"\", IF( OFFSET(#REF!, $AC9 - 1,0,1,1)<>0, LEFT(OFFSET(#REF!, $AC9 - 1,0,1,1),3),\"\"))","v":{"$error":"#REF!"}},{"$f":"IF( $AC9 = 0, \"\", IF( OFFSET(#REF!, $AC9 - 1,0,1,1)<>0, IF(LEN(OFFSET(#REF!, $AC9 - 1,0,1,1))=9,   RIGHT(OFFSET(#REF!, $AC9 - 1,0,1,1),5),    LEFT(RIGHT(OFFSET(#REF!, $AC9 - 1,0,1,1),6), 5)      ),\"\"))","v":{"$error":"#REF!"}},{"$error":"#REF!"},{"$f":"IF( $AC9 = 0, \"\", IF( OFFSET(#REF!, $AC9 - 1,0,1,1)<>0,IF(OR(AD9=\"LUMP\", AD9=\"LS\"), \"\", AD9),\"\"))","v":{"$error":"#REF!"}},{"$f":"IF( $AC9 = 0, \"\", IF( OFFSET(#REF!, $AC9 - 1,0,1,1)<>0, VLOOKUP( OFFSET(#REF!, $AC9 - 1,0,1,1),[1]Items!$A$2:$E$10001,4,0),\"\"))","v":{"$error":"#REF!"}},null,7,1,6,{"$f":"IF( $AC9 = 0, \"\", IF( OFFSET(#REF!, $AC9 - 1,0,1,1)<>0, VLOOKUP( OFFSET(#REF!, $AC9 - 1,0,1,1),[1]Items!$A$2:$E$10001,3,0),\"\"))","v":{"$error":"#REF!"}}]
[{"$f":"IF( $AC10 = 0, \"\", IF( OFFSET(#REF!, $AC10 - 1,0,1,1)<>0, IF(OR($AD10=\"LUMP\", $AD10=\"LS\"), \"LUMP\", OFFSET(#REF!, $AC10 - 1,0,1,1)),\"\"))","v":{"$error":"#REF!"}},{"$f":"IF( $AC10 = 0, \"\", IF( OFFSET(#REF!, $AC10 - 1,0,1,1)<>0, IF(OR($AD10=\"LUMP\", $AD10=\"LS\"), \"LUMP\", OFFSET(#REF!, $AC10 - 1,0,1,1)),\"\"))","v":{"$error":"#REF!"}},{"$f":"IF( $AC10 = 0, \"\", IF( OFFSET(#REF!, $AC10 - 1,0,1,1)<>0, IF(OR($AD10=\"LUMP\", $AD10=\"LS\"), \"LUMP\", OFFSET(#REF!, $AC10 - 1,0,1,1)),\"\"))","v":{"$error":"#REF!"}},{"$f":"IF( $AC10 = 0, \"\", IF( OFFSET(#REF!, $AC10 - 1,0,1,1)<>0, IF(OR($AD10=\"LUMP\", $AD10=\"LS\"), \"LUMP\", OFFSET(#REF!, $AC10 - 1,0,1,1)),\"\"))","v":{"$error":"#REF!"}},{"$f":"IF( $AC10 = 0, \"\", IF( OFFSET(#REF!, $AC10 - 1,0,1,1)<>0, IF(OR($AD10=\"LUMP\", $AD10=\"LS\"), \"LUMP\", OFFSET(#REF!, $AC10 - 1,0,1,1)),\"\"))","v":{"$error":"#REF!"}},{"$f":"IF( $AC10 = 0, \"\", IF( OFFSET(#REF!, $AC10 - 1,0,1,1)<>0, IF(OR($AD10=\"LUMP\", $AD10=\"LS\"), \"LUMP\", OFFSET(#REF!, $AC10 - 1,0,1,1)),\"\"))","v":{"$error":"#REF!"}},{"$f":"IF( $AC10 = 0, \"\", IF( OFFSET(#REF!, $AC10 - 1,0,1,1)<>0, IF(OR($AD10=\"LUMP\", $AD10=\"LS\"), \"LUMP\", OFFSET(#REF!, $AC10 - 1,0,1,1)),\"\"))","v":{"$error":"#REF!"}},{"$f":"IF( $AC10 = 0, \"\", IF( OFFSET(#REF!, $AC10 - 1,0,1,1)<>0, IF(OR($AD10=\"LUMP\", $AD10=\"LS\"), \"LUMP\", OFFSET(#REF!, $AC10 - 1,0,1,1)),\"\"))","v":{"$error":"#REF!"}},{"$f":"IF( $AC10 = 0, \"\", IF( OFFSET(#REF!, $AC10 - 1,0,1,1)<>0, IF(OR($AD10=\"LUMP\", $AD10=\"LS\"), \"LUMP\", OFFSET(#REF!, $AC10 - 1,0,1,1)),\"\"))","v":{"$error":"#REF!"}},{"$f":"IF( $AC10 = 0, \"\", IF( OFFSET(#REF!, $AC10 - 1,0,1,1)<>0, IF(OR($AD10=\"LUMP\", $AD10=\"LS\"), \"LUMP\", OFFSET(#REF!, $AC10 - 1,0,1,1)),\"\"))","v":{"$error":"#REF!"}},{"$f":"IF( $AC10 = 0, \"\", IF( OFFSET(#REF!, $AC10 - 1,0,1,1)<>0, IF(OR($AD10=\"LUMP\", $AD10=\"LS\"), \"LUMP\", OFFSET(#REF!, $AC10 - 1,0,1,1)),\"\"))","v":{"$error":"#REF!"}},{"$f":"IF( $AC10 = 0, \"\", IF( OFFSET(#REF!, $AC10 - 1,0,1,1)<>0, IF(OR($AD10=\"LUMP\", $AD10=\"LS\"), \"LUMP\", OFFSET(#REF!, $AC10 - 1,0,1,1)),\"\"))","v":{"$error":"#REF!"}},{"$f":"IF( $AC10 = 0, \"\", IF( OFFSET(#REF!, $AC10 - 1,0,1,1)<>0, IF(OR($AD10=\"LUMP\", $AD10=\"LS\"), \"LUMP\", OFFSET(#REF!, $AC10 - 1,0,1,1)),\"\"))","v":{"$error":"#REF!"}},{"$f":"IF( $AC10 = 0, \"\", IF( OFFSET(#REF!, $AC10 - 1,0,1,1)<>0, IF(OR($AD10=\"LUMP\", $AD10=\"LS\"), \"LUMP\", OFFSET(#REF!, $AC10 - 1,0,1,1)),\"\"))","v":{"$error":"#REF!"}},{"$f":"IF( $AC10 = 0, \"\", IF( OFFSET(#REF!, $AC10 - 1,0,1,1)<>0, IF(OR($AD10=\"LUMP\", $AD10=\"LS\"), \"LUMP\", OFFSET(#REF!, $AC10 - 1,0,1,1)),\"\"))","v":{"$error":"#REF!"}},{"$f":"IF( $AC10 = 0, \"\", IF( OFFSET(#REF!, $AC10 - 1,0,1,1)<>0, IF(OR($AD10=\"LUMP\", $AD10=\"LS\"), \"LUMP\", OFFSET(#REF!, $AC10 - 1,0,1,1)),\"\"))","v":{"$error":"#REF!"}},{"$f":"IF( $AC10 = 0, \"\", IF( OFFSET(#REF!, $AC10 - 1,0,1,1)<>0, IF(OR($AD10=\"LUMP\", $AD10=\"LS\"), \"LUMP\", OFFSET(#REF!, $AC10 - 1,0,1,1)),\"\"))","v":{"$error":"#REF!"}},{"$f":"IF( $AC10 = 0, \"\", IF( OFFSET(#REF!, $AC10 - 1,0,1,1)<>0, IF(OR($AD10=\"LUMP\", $AD10=\"LS\"), \"LUMP\", OFFSET(#REF!, $AC10 - 1,0,1,1)),\"\"))","v":{"$error":"#REF!"}},{"$f":"IF( $AC10 = 0, \"\", IF( OFFSET(#REF!, $AC10 - 1,0,1,1)<>0, IF(OR($AD10=\"LUMP\", $AD10=\"LS\"), \"LUMP\", OFFSET(#REF!, $AC10 - 1,0,1,1)),\"\"))","v":{"$error":"#REF!"}},{"$f":"IF( $AC10 = 0, \"\", IF( OFFSET(#REF!, $AC10 - 1,0,1,1)<>0, IF(OR($AD10=\"LUMP\", $AD10=\"LS\"), \"LUMP\", OFFSET(#REF!, $AC10 - 1,0,1,1)),\"\"))","v":{"$error":"#REF!"}},{"$f":"IF( $AC10 = 0, \"\", IF( OFFSET(#REF!, $AC10 - 1,0,1,1)<>0, LEFT(OFFSET(#REF!, $AC10 - 1,0,1,1),3),\"\"))","v":{"$error":"#REF!"}},{"$f":"IF( $AC10 = 0, \"\", IF( OFFSET(#REF!, $AC10 - 1,0,1,1)<>0, IF(LEN(OFFSET(#REF!, $AC10 - 1,0,1,1))=9,   RIGHT(OFFSET(#REF!, $AC10 - 1,0,1,1),5),    LEFT(RIGHT(OFFSET(#REF!, $AC10 - 1,0,1,1),6), 5)      ),\"\"))","v":{"$error":"#REF!"}},{"$error":"#REF!"},{"$f":"IF( $AC10 = 0, \"\", IF( OFFSET(#REF!, $AC10 - 1,0,1,1)<>0,IF(OR(AD10=\"LUMP\", AD10=\"LS\"), \"\", AD10),\"\"))","v":{"$error":"#REF!"}},{"$f":"IF( $AC10 = 0, \"\", IF( OFFSET(#REF!, $AC10 - 1,0,1,1)<>0, VLOOKUP( OFFSET(#REF!, $AC10 - 1,0,1,1),[1]Items!$A$2:$E$10001,4,0),\"\"))","v":{"$error":"#REF!"}},null,8,1,7,{"$f":"IF( $AC10 = 0, \"\", IF( OFFSET(#REF!, $AC10 - 1,0,1,1)<>0, VLOOKUP( OFFSET(#REF!, $AC10 - 1,0,1,1),[1]Items!$A$2:$E$10001,3,0),\"\"))","v":{"$error":"#REF!"}}]
[{"$f":"IF( $AC11 = 0, \"\", IF( OFFSET(#REF!, $AC11 - 1,0,1,1)<>0, IF(OR($AD11=\"LUMP\", $AD11=\"LS\"), \"LUMP\", OFFSET(#REF!, $AC11 - 1,0,1,1)),\"\"))","v":{"$error":"#REF!"}},{"$f":"IF( $AC11 = 0, \"\", IF( OFFSET(#REF!, $AC11 - 1,0,1,1)<>0, IF(OR($AD11=\"LUMP\", $AD11=\"LS\"), \"LUMP\", OFFSET(#REF!, $AC11 - 1,0,1,1)),\"\"))","v":{"$error":"#REF!"}},{"$f":"IF( $AC11 = 0, \"\", IF( OFFSET(#REF!, $AC11 - 1,0,1,1)<>0, IF(OR($AD11=\"LUMP\", $AD11=\"LS\"), \"LUMP\", OFFSET(#REF!, $AC11 - 1,0,1,1)),\"\"))","v":{"$error":"#REF!"}},{"$f":"IF( $AC11 = 0, \"\", IF( OFFSET(#REF!, $AC11 - 1,0,1,1)<>0, IF(OR($AD11=\"LUMP\", $AD11=\"LS\"), \"LUMP\", OFFSET(#REF!, $AC11 - 1,0,1,1)),\"\"))","v":{"$error":"#REF!"}},{"$f":"IF( $AC11 = 0, \"\", IF( OFFSET(#REF!, $AC11 - 1,0,1,1)<>0, IF(OR($AD11=\"LUMP\", $AD11=\"LS\"), \"LUMP\", OFFSET(#REF!, $AC11 - 1,0,1,1)),\"\"))","v":{"$error":"#REF!"}},{"$f":"IF( $AC11 = 0, \"\", IF( OFFSET(#REF!, $AC11 - 1,0,1,1)<>0, IF(OR($AD11=\"LUMP\", $AD11=\"LS\"), \"LUMP\", OFFSET(#REF!, $AC11 - 1,0,1,1)),\"\"))","v":{"$error":"#REF!"}},{"$f":"IF( $AC11 = 0, \"\", IF( OFFSET(#REF!, $AC11 - 1,0,1,1)<>0, IF(OR($AD11=\"LUMP\", $AD11=\"LS\"), \"LUMP\", OFFSET(#REF!, $AC11 - 1,0,1,1)),\"\"))","v":{"$error":"#REF!"}},{"$f":"IF( $AC11 = 0, \"\", IF( OFFSET(#REF!, $AC11 - 1,0,1,1)<>0, IF(OR($AD11=\"LUMP\", $AD11=\"LS\"), \"LUMP\", OFFSET(#REF!, $AC11 - 1,0,1,1)),\"\"))","v":{"$error":"#REF!"}},{"$f":"IF( $AC11 = 0, \"\", IF( OFFSET(#REF!, $AC11 - 1,0,1,1)<>0, IF(OR($AD11=\"LUMP\", $AD11=\"LS\"), \"LUMP\", OFFSET(#REF!, $AC11 - 1,0,1,1)),\"\"))","v":{"$error":"#REF!"}},{"$f":"IF( $AC11 = 0, \"\", IF( OFFSET(#REF!, $AC11 - 1,0,1,1)<>0, IF(OR($AD11=\"LUMP\", $AD11=\"LS\"), \"LUMP\", OFFSET(#REF!, $AC11 - 1,0,1,1)),\"\"))","v":{"$error":"#REF!"}},{"$f":"IF( $AC11 = 0, \"\", IF( OFFSET(#REF!, $AC11 - 1,0,1,1)<>0, IF(OR($AD11=\"LUMP\", $AD11=\"LS\"), \"LUMP\", OFFSET(#REF!, $AC11 - 1,0,1,1)),\"\"))","v":{"$error":"#REF!"}},{"$f":"IF( $AC11 = 0, \"\", IF( OFFSET(#REF!, $AC11 - 1,0,1,1)<>0, IF(OR($AD11=\"LUMP\", $AD11=\"LS\"), \"LUMP\", OFFSET(#REF!, $AC11 - 1,0,1,1)),\"\"))","v":{"$error":"#REF!"}},{"$f":"IF( $AC11 = 0, \"\", IF( OFFSET(#REF!, $AC11 - 1,0,1,1)<>0, IF(OR($AD11=\"LUMP\", $AD11=\"LS\"), \"LUMP\", OFFSET(#REF!, $AC11 - 1,0,1,1)),\"\"))","v":{"$error":"#REF!"}},{"$f":"IF( $AC11 = 0, \"\", IF( OFFSET(#REF!, $AC11 - 1,0,1,1)<>0, IF(OR($AD11=\"LUMP\", $AD11=\"LS\"), \"LUMP\", OFFSET(#REF!, $AC11 - 1,0,1,1)),\"\"))","v":{"$error":"#REF!"}},{"$f":"IF( $AC11 = 0, \"\", IF( OFFSET(#REF!, $AC11 - 1,0,1,1)<>0, IF(OR($AD11=\"LUMP\", $AD11=\"LS\"), \"LUMP\", OFFSET(#REF!, $AC11 - 1,0,1,1)),\"\"))","v":{"$error":"#REF!"}},{"$f":"IF( $AC11 = 0, \"\", IF( OFFSET(#REF!, $AC11 - 1,0,1,1)<>0, IF(OR($AD11=\"LUMP\", $AD11=\"LS\"), \"LUMP\", OFFSET(#REF!, $AC11 - 1,0,1,1)),\"\"))","v":{"$error":"#REF!"}},{"$f":"IF( $AC11 = 0, \"\", IF( OFFSET(#REF!, $AC11 - 1,0,1,1)<>0, IF(OR($AD11=\"LUMP\", $AD11=\"LS\"), \"LUMP\", OFFSET(#REF!, $AC11 - 1,0,1,1)),\"\"))","v":{"$error":"#REF!"}},{"$f":"IF( $AC11 = 0, \"\", IF( OFFSET(#REF!, $AC11 - 1,0,1,1)<>0, IF(OR($AD11=\"LUMP\", $AD11=\"LS\"), \"LUMP\", OFFSET(#REF!, $AC11 - 1,0,1,1)),\"\"))","v":{"$error":"#REF!"}},{"$f":"IF( $AC11 = 0, \"\", IF( OFFSET(#REF!, $AC11 - 1,0,1,1)<>0, IF(OR($AD11=\"LUMP\", $AD11=\"LS\"), \"LUMP\", OFFSET(#REF!, $AC11 - 1,0,1,1)),\"\"))","v":{"$error":"#REF!"}},{"$f":"IF( $AC11 = 0, \"\", IF( OFFSET(#REF!, $AC11 - 1,0,1,1)<>0, IF(OR($AD11=\"LUMP\", $AD11=\"LS\"), \"LUMP\", OFFSET(#REF!, $AC11 - 1,0,1,1)),\"\"))","v":{"$error":"#REF!"}},{"$f":"IF( $AC11 = 0, \"\", IF( OFFSET(#REF!, $AC11 - 1,0,1,1)<>0, LEFT(OFFSET(#REF!, $AC11 - 1,0,1,1),3),\"\"))","v":{"$error":"#REF!"}},{"$f":"IF( $AC11 = 0, \"\", IF( OFFSET(#REF!, $AC11 - 1,0,1,1)<>0, IF(LEN(OFFSET(#REF!, $AC11 - 1,0,1,1))=9,   RIGHT(OFFSET(#REF!, $AC11 - 1,0,1,1),5),    LEFT(RIGHT(OFFSET(#REF!, $AC11 - 1,0,1,1),6), 5)      ),\"\"))","v":{"$error":"#REF!"}},{"$error":"#REF!"},{"$f":"IF( $AC11 = 0, \"\", IF( OFFSET(#REF!, $AC11 - 1,0,1,1)<>0,IF(OR(AD11=\"LUMP\", AD11=\"LS\"), \"\", AD11),\"\"))","v":{"$error":"#REF!"}},{"$f":"IF( $AC11 = 0, \"\", IF( OFFSET(#REF!, $AC11 - 1,0,1,1)<>0, VLOOKUP( OFFSET(#REF!, $AC11 - 1,0,1,1),[1]Items!$A$2:$E$10001,4,0),\"\"))","v":{"$error":"#REF!"}},null,9,1,8,{"$f":"IF( $AC11 = 0, \"\", IF( OFFSET(#REF!, $AC11 - 1,0,1,1)<>0, VLOOKUP( OFFSET(#REF!, $AC11 - 1,0,1,1),[1]Items!$A$2:$E$10001,3,0),\"\"))","v":{"$error":"#REF!"}}]
[{"$f":"IF( $AC12 = 0, \"\", IF( OFFSET(#REF!, $AC12 - 1,0,1,1)<>0, IF(OR($AD12=\"LUMP\", $AD12=\"LS\"), \"LUMP\", OFFSET(#REF!, $AC12 - 1,0,1,1)),\"\"))","v":{"$error":"#REF!"}},{"$f":"IF( $AC12 = 0, \"\", IF( OFFSET(#REF!, $AC12 - 1,0,1,1)<>0, IF(OR($AD12=\"LUMP\", $AD12=\"LS\"), \"LUMP\", OFFSET(#REF!, $AC12 - 1,0,1,1)),\"\"))","v":{"$error":"#REF!"}},{"$f":"IF( $AC12 = 0, \"\", IF( OFFSET(#REF!, $AC12 - 1,0,1,1)<>0, IF(OR($AD12=\"LUMP\", $AD12=\"LS\"), \"LUMP\", OFFSET(#REF!, $AC12 - 1,0,1,1)),\"\"))","v":{"$error":"#REF!"}},{"$f":"IF( $AC12 = 0, \"\", IF( OFFSET(#REF!, $AC12 - 1,0,1,1)<>0, IF(OR($AD12=\"LUMP\", $AD12=\"LS\"), \"LUMP\", OFFSET(#REF!, $AC12 - 1,0,1,1)),\"\"))","v":{"$error":"#REF!"}},{"$f":"IF( $AC12 = 0, \"\", IF( OFFSET(#REF!, $AC12 - 1,0,1,1)<>0, IF(OR($AD12=\"LUMP\", $AD12=\"LS\"), \"LUMP\", OFFSET(#REF!, $AC12 - 1,0,1,1)),\"\"))","v":{"$error":"#REF!"}},{"$f":"IF( $AC12 = 0, \"\", IF( OFFSET(#REF!, $AC12 - 1,0,1,1)<>0, IF(OR($AD12=\"LUMP\", $AD12=\"LS\"), \"LUMP\", OFFSET(#REF!, $AC12 - 1,0,1,1)),\"\"))","v":{"$error":"#REF!"}},{"$f":"IF( $AC12 = 0, \"\", IF( OFFSET(#REF!, $AC12 - 1,0,1,1)<>0, IF(OR($AD12=\"LUMP\", $AD12=\"LS\"), \"LUMP\", OFFSET(#REF!, $AC12 - 1,0,1,1)),\"\"))","v":{"$error":"#REF!"}},{"$f":"IF( $AC12 = 0, \"\", IF( OFFSET(#REF!, $AC12 - 1,0,1,1)<>0, IF(OR($AD12=\"LUMP\", $AD12=\"LS\"), \"LUMP\", OFFSET(#REF!, $AC12 - 1,0,1,1)),\"\"))","v":{"$error":"#REF!"}},{"$f":"IF( $AC12 = 0, \"\", IF( OFFSET(#REF!, $AC12 - 1,0,1,1)<>0, IF(OR($AD12=\"LUMP\", $AD12=\"LS\"), \"LUMP\", OFFSET(#REF!, $AC12 - 1,0,1,1)),\"\"))","v":{"$error":"#REF!"}},{"$f":"IF( $AC12 = 0, \"\", IF( OFFSET(#REF!, $AC12 - 1,0,1,1)<>0, IF(OR($AD12=\"LUMP\", $AD12=\"LS\"), \"LUMP\", OFFSET(#REF!, $AC12 - 1,0,1,1)),\"\"))","v":{"$error":"#REF!"}},{"$f":"IF( $AC12 = 0, \"\", IF( OFFSET(#REF!, $AC12 - 1,0,1,1)<>0, IF(OR($AD12=\"LUMP\", $AD12=\"LS\"), \"LUMP\", OFFSET(#REF!, $AC12 - 1,0,1,1)),\"\"))","v":{"$error":"#REF!"}},{"$f":"IF( $AC12 = 0, \"\", IF( OFFSET(#REF!, $AC12 - 1,0,1,1)<>0, IF(OR($AD12=\"LUMP\", $AD12=\"LS\"), \"LUMP\", OFFSET(#REF!, $AC12 - 1,0,1,1)),\"\"))","v":{"$error":"#REF!"}},{"$f":"IF( $AC12 = 0, \"\", IF( OFFSET(#REF!, $AC12 - 1,0,1,1)<>0, IF(OR($AD12=\"LUMP\", $AD12=\"LS\"), \"LUMP\", OFFSET(#REF!, $AC12 - 1,0,1,1)),\"\"))","v":{"$error":"#REF!"}},{"$f":"IF( $AC12 = 0, \"\", IF( OFFSET(#REF!, $AC12 - 1,0,1,1)<>0, IF(OR($AD12=\"LUMP\", $AD12=\"LS\"), \"LUMP\", OFFSET(#REF!, $AC12 - 1,0,1,1)),\"\"))","v":{"$error":"#REF!"}},{"$f":"IF( $AC12 = 0, \"\", IF( OFFSET(#REF!, $AC12 - 1,0,1,1)<>0, IF(OR($AD12=\"LUMP\", $AD12=\"LS\"), \"LUMP\", OFFSET(#REF!, $AC12 - 1,0,1,1)),\"\"))","v":{"$error":"#REF!"}},{"$f":"IF( $AC12 = 0, \"\", IF( OFFSET(#REF!, $AC12 - 1,0,1,1)<>0, IF(OR($AD12=\"LUMP\", $AD12=\"LS\"), \"LUMP\", OFFSET(#REF!, $AC12 - 1,0,1,1)),\"\"))","v":{"$error":"#REF!"}},{"$f":"IF( $AC12 = 0, \"\", IF( OFFSET(#REF!, $AC12 - 1,0,1,1)<>0, IF(OR($AD12=\"LUMP\", $AD12=\"LS\"), \"LUMP\", OFFSET(#REF!, $AC12 - 1,0,1,1)),\"\"))","v":{"$error":"#REF!"}},{"$f":"IF( $AC12 = 0, \"\", IF( OFFSET(#REF!, $AC12 - 1,0,1,1)<>0, IF(OR($AD12=\"LUMP\", $AD12=\"LS\"), \"LUMP\", OFFSET(#REF!, $AC12 - 1,0,1,1)),\"\"))","v":{"$error":"#REF!"}},{"$f":"IF( $AC12 = 0, \"\", IF( OFFSET(#REF!, $AC12 - 1,0,1,1)<>0, IF(OR($AD12=\"LUMP\", $AD12=\"LS\"), \"LUMP\", OFFSET(#REF!, $AC12 - 1,0,1,1)),\"\"))","v":{"$error":"#REF!"}},{"$f":"IF( $AC12 = 0, \"\", IF( OFFSET(#REF!, $AC12 - 1,0,1,1)<>0, IF(OR($AD12=\"LUMP\", $AD12=\"LS\"), \"LUMP\", OFFSET(#REF!, $AC12 - 1,0,1,1)),\"\"))","v":{"$error":"#REF!"}},{"$f":"IF( $AC12 = 0, \"\", IF( OFFSET(#REF!, $AC12 - 1,0,1,1)<>0, LEFT(OFFSET(#REF!, $AC12 - 1,0,1,1),3),\"\"))","v":{"$error":"#REF!"}},{"$f":"IF( $AC12 = 0, \"\", IF( OFFSET(#REF!, $AC12 - 1,0,1,1)<>0, IF(LEN(OFFSET(#REF!, $AC12 - 1,0,1,1))=9,   RIGHT(OFFSET(#REF!, $AC12 - 1,0,1,1),5),    LEFT(RIGHT(OFFSET(#REF!, $AC12 - 1,0,1,1),6), 5)      ),\"\"))","v":{"$error":"#REF!"}},{"$error":"#REF!"},{"$f":"IF( $AC12 = 0, \"\", IF( OFFSET(#REF!, $AC12 - 1,0,1,1)<>0,IF(OR(AD12=\"LUMP\", AD12=\"LS\"), \"\", AD12),\"\"))","v":{"$error":"#REF!"}},{"$f":"IF( $AC12 = 0, \"\", IF( OFFSET(#REF!, $AC12 - 1,0,1,1)<>0, VLOOKUP( OFFSET(#REF!, $AC12 - 1,0,1,1),[1]Items!$A$2:$E$10001,4,0),\"\"))","v":{"$error":"#REF!"}},null,10,1,9,{"$f":"IF( $AC12 = 0, \"\", IF( OFFSET(#REF!, $AC12 - 1,0,1,1)<>0, VLOOKUP( OFFSET(#REF!, $AC12 - 1,0,1,1),[1]Items!$A$2:$E$10001,3,0),\"\"))","v":{"$error":"#REF!"}}]
[{"$f":"IF( $AC13 = 0, \"\", IF( OFFSET(#REF!, $AC13 - 1,0,1,1)<>0, IF(OR($AD13=\"LUMP\", $AD13=\"LS\"), \"LUMP\", OFFSET(#REF!, $AC13 - 1,0,1,1)),\"\"))","v":{"$error":"#REF!"}},{"$f":"IF( $AC13 = 0, \"\", IF( OFFSET(#REF!, $AC13 - 1,0,1,1)<>0, IF(OR($AD13=\"LUMP\", $AD13=\"LS\"), \"LUMP\", OFFSET(#REF!, $AC13 - 1,0,1,1)),\"\"))","v":{"$error":"#REF!"}},{"$f":"IF( $AC13 = 0, \"\", IF( OFFSET(#REF!, $AC13 - 1,0,1,1)<>0, IF(OR($AD13=\"LUMP\", $AD13=\"LS\"), \"LUMP\", OFFSET(#REF!, $AC13 - 1,0,1,1)),\"\"))","v":{"$error":"#REF!"}},{"$f":"IF( $AC13 = 0, \"\", IF( OFFSET(#REF!, $AC13 - 1,0,1,1)<>0, IF(OR($AD13=\"LUMP\", $AD13=\"LS\"), \"LUMP\", OFFSET(#REF!, $AC13 - 1,0,1,1)),\"\"))","v":{"$error":"#REF!"}},{"$f":"IF( $AC13 = 0, \"\", IF( OFFSET(#REF!, $AC13 - 1,0,1,1)<>0, IF(OR($AD13=\"LUMP\", $AD13=\"LS\"), \"LUMP\", OFFSET(#REF!, $AC13 - 1,0,1,1)),\"\"))","v":{"$error":"#REF!"}},{"$f":"IF( $AC13 = 0, \"\", IF( OFFSET(#REF!, $AC13 - 1,0,1,1)<>0, IF(OR($AD13=\"LUMP\", $AD13=\"LS\"), \"LUMP\", OFFSET(#REF!, $AC13 - 1,0,1,1)),\"\"))","v":{"$error":"#REF!"}},{"$f":"IF( $AC13 = 0, \"\", IF( OFFSET(#REF!, $AC13 - 1,0,1,1)<>0, IF(OR($AD13=\"LUMP\", $AD13=\"LS\"), \"LUMP\", OFFSET(#REF!, $AC13 - 1,0,1,1)),\"\"))","v":{"$error":"#REF!"}},{"$f":"IF( $AC13 = 0, \"\", IF( OFFSET(#REF!, $AC13 - 1,0,1,1)<>0, IF(OR($AD13=\"LUMP\", $AD13=\"LS\"), \"LUMP\", OFFSET(#REF!, $AC13 - 1,0,1,1)),\"\"))","v":{"$error":"#REF!"}},{"$f":"IF( $AC13 = 0, \"\", IF( OFFSET(#REF!, $AC13 - 1,0,1,1)<>0, IF(OR($AD13=\"LUMP\", $AD13=\"LS\"), \"LUMP\", OFFSET(#REF!, $AC13 - 1,0,1,1)),\"\"))","v":{"$error":"#REF!"}},{"$f":"IF( $AC13 = 0, \"\", IF( OFFSET(#REF!, $AC13 - 1,0,1,1)<>0, IF(OR($AD13=\"LUMP\", $AD13=\"LS\"), \"LUMP\", OFFSET(#REF!, $AC13 - 1,0,1,1)),\"\"))","v":{"$error":"#REF!"}},{"$f":"IF( $AC13 = 0, \"\", IF( OFFSET(#REF!, $AC13 - 1,0,1,1)<>0, IF(OR($AD13=\"LUMP\", $AD13=\"LS\"), \"LUMP\", OFFSET(#REF!, $AC13 - 1,0,1,1)),\"\"))","v":{"$error":"#REF!"}},{"$f":"IF( $AC13 = 0, \"\", IF( OFFSET(#REF!, $AC13 - 1,0,1,1)<>0, IF(OR($AD13=\"LUMP\", $AD13=\"LS\"), \"LUMP\", OFFSET(#REF!, $AC13 - 1,0,1,1)),\"\"))","v":{"$error":"#REF!"}},{"$f":"IF( $AC13 = 0, \"\", IF( OFFSET(#REF!, $AC13 - 1,0,1,1)<>0, IF(OR($AD13=\"LUMP\", $AD13=\"LS\"), \"LUMP\", OFFSET(#REF!, $AC13 - 1,0,1,1)),\"\"))","v":{"$error":"#REF!"}},{"$f":"IF( $AC13 = 0, \"\", IF( OFFSET(#REF!, $AC13 - 1,0,1,1)<>0, IF(OR($AD13=\"LUMP\", $AD13=\"LS\"), \"LUMP\", OFFSET(#REF!, $AC13 - 1,0,1,1)),\"\"))","v":{"$error":"#REF!"}},{"$f":"IF( $AC13 = 0, \"\", IF( OFFSET(#REF!, $AC13 - 1,0,1,1)<>0, IF(OR($AD13=\"LUMP\", $AD13=\"LS\"), \"LUMP\", OFFSET(#REF!, $AC13 - 1,0,1,1)),\"\"))","v":{"$error":"#REF!"}},{"$f":"IF( $AC13 = 0, \"\", IF( OFFSET(#REF!, $AC13 - 1,0,1,1)<>0, IF(OR($AD13=\"LUMP\", $AD13=\"LS\"), \"LUMP\", OFFSET(#REF!, $AC13 - 1,0,1,1)),\"\"))","v":{"$error":"#REF!"}},{"$f":"IF( $AC13 = 0, \"\", IF( OFFSET(#REF!, $AC13 - 1,0,1,1)<>0, IF(OR($AD13=\"LUMP\", $AD13=\"LS\"), \"LUMP\", OFFSET(#REF!, $AC13 - 1,0,1,1)),\"\"))","v":{"$error":"#REF!"}},{"$f":"IF( $AC13 = 0, \"\", IF( OFFSET(#REF!, $AC13 - 1,0,1,1)<>0, IF(OR($AD13=\"LUMP\", $AD13=\"LS\"), \"LUMP\", OFFSET(#REF!, $AC13 - 1,0,1,1)),\"\"))","v":{"$error":"#REF!"}},{"$f":"IF( $AC13 = 0, \"\", IF( OFFSET(#REF!, $AC13 - 1,0,1,1)<>0, IF(OR($AD13=\"LUMP\", $AD13=\"LS\"), \"LUMP\", OFFSET(#REF!, $AC13 - 1,0,1,1)),\"\"))","v":{"$error":"#REF!"}},{"$f":"IF( $AC13 = 0, \"\", IF( OFFSET(#REF!, $AC13 - 1,0,1,1)<>0, IF(OR($AD13=\"LUMP\", $AD13=\"LS\"), \"LUMP\", OFFSET(#REF!, $AC13 - 1,0,1,1)),\"\"))","v":{"$error":"#REF!"}},{"$f":"IF( $AC13 = 0, \"\", IF( OFFSET(#REF!, $AC13 - 1,0,1,1)<>0, LEFT(OFFSET(#REF!, $AC13 - 1,0,1,1),3),\"\"))","v":{"$error":"#REF!"}},{"$f":"IF( $AC13 = 0, \"\", IF( OFFSET(#REF!, $AC13 - 1,0,1,1)<>0, IF(LEN(OFFSET(#REF!, $AC13 - 1,0,1,1))=9,   RIGHT(OFFSET(#REF!, $AC13 - 1,0,1,1),5),    LEFT(RIGHT(OFFSET(#REF!, $AC13 - 1,0,1,1),6), 5)      ),\"\"))","v":{"$error":"#REF!"}},{"$error":"#REF!"},{"$f":"IF( $AC13 = 0, \"\", IF( OFFSET(#REF!, $AC13 - 1,0,1,1)<>0,IF(OR(AD13=\"LUMP\", AD13=\"LS\"), \"\", AD13),\"\"))","v":{"$error":"#REF!"}},{"$f":"IF( $AC13 = 0, \"\", IF( OFFSET(#REF!, $AC13 - 1,0,1,1)<>0, VLOOKUP( OFFSET(#REF!, $AC13 - 1,0,1,1),[1]Items!$A$2:$E$10001,4,0),\"\"))","v":{"$error":"#REF!"}},null,11,1,10,{"$f":"IF( $AC13 = 0, \"\", IF( OFFSET(#REF!, $AC13 - 1,0,1,1)<>0, VLOOKUP( OFFSET(#REF!, $AC13 - 1,0,1,1),[1]Items!$A$2:$E$10001,3,0),\"\"))","v":{"$error":"#REF!"}}]
[{"$f":"IF( $AC14 = 0, \"\", IF( OFFSET(#REF!, $AC14 - 1,0,1,1)<>0, IF(OR($AD14=\"LUMP\", $AD14=\"LS\"), \"LUMP\", OFFSET(#REF!, $AC14 - 1,0,1,1)),\"\"))","v":""},{"$f":"IF( $AC14 = 0, \"\", IF( OFFSET(#REF!, $AC14 - 1,0,1,1)<>0, IF(OR($AD14=\"LUMP\", $AD14=\"LS\"), \"LUMP\", OFFSET(#REF!, $AC14 - 1,0,1,1)),\"\"))","v":""},{"$f":"IF( $AC14 = 0, \"\", IF( OFFSET(#REF!, $AC14 - 1,0,1,1)<>0, IF(OR($AD14=\"LUMP\", $AD14=\"LS\"), \"LUMP\", OFFSET(#REF!, $AC14 - 1,0,1,1)),\"\"))","v":""},{"$f":"IF( $AC14 = 0, \"\", IF( OFFSET(#REF!, $AC14 - 1,0,1,1)<>0, IF(OR($AD14=\"LUMP\", $AD14=\"LS\"), \"LUMP\", OFFSET(#REF!, $AC14 - 1,0,1,1)),\"\"))","v":""},{"$f":"IF( $AC14 = 0, \"\", IF( OFFSET(#REF!, $AC14 - 1,0,1,1)<>0, IF(OR($AD14=\"LUMP\", $AD14=\"LS\"), \"LUMP\", OFFSET(#REF!, $AC14 - 1,0,1,1)),\"\"))","v":""},{"$f":"IF( $AC14 = 0, \"\", IF( OFFSET(#REF!, $AC14 - 1,0,1,1)<>0, IF(OR($AD14=\"LUMP\", $AD14=\"LS\"), \"LUMP\", OFFSET(#REF!, $AC14 - 1,0,1,1)),\"\"))","v":""},{"$f":"IF( $AC14 = 0, \"\", IF( OFFSET(#REF!, $AC14 - 1,0,1,1)<>0, IF(OR($AD14=\"LUMP\", $AD14=\"LS\"), \"LUMP\", OFFSET(#REF!, $AC14 - 1,0,1,1)),\"\"))","v":""},{"$f":"IF( $AC14 = 0, \"\", IF( OFFSET(#REF!, $AC14 - 1,0,1,1)<>0, IF(OR($AD14=\"LUMP\", $AD14=\"LS\"), \"LUMP\", OFFSET(#REF!, $AC14 - 1,0,1,1)),\"\"))","v":""},{"$f":"IF( $AC14 = 0, \"\", IF( OFFSET(#REF!, $AC14 - 1,0,1,1)<>0, IF(OR($AD14=\"LUMP\", $AD14=\"LS\"), \"LUMP\", OFFSET(#REF!, $AC14 - 1,0,1,1)),\"\"))","v":""},{"$f":"IF( $AC14 = 0, \"\", IF( OFFSET(#REF!, $AC14 - 1,0,1,1)<>0, IF(OR($AD14=\"LUMP\", $AD14=\"LS\"), \"LUMP\", OFFSET(#REF!, $AC14 - 1,0,1,1)),\"\"))","v":""},{"$f":"IF( $AC14 = 0, \"\", IF( OFFSET(#REF!, $AC14 - 1,0,1,1)<>0, IF(OR($AD14=\"LUMP\", $AD14=\"LS\"), \"LUMP\", OFFSET(#REF!, $AC14 - 1,0,1,1)),\"\"))","v":""},{"$f":"IF( $AC14 = 0, \"\", IF( OFFSET(#REF!, $AC14 - 1,0,1,1)<>0, IF(OR($AD14=\"LUMP\", $AD14=\"LS\"), \"LUMP\", OFFSET(#REF!, $AC14 - 1,0,1,1)),\"\"))","v":""},{"$f":"IF( $AC14 = 0, \"\", IF( OFFSET(#REF!, $AC14 - 1,0,1,1)<>0, IF(OR($AD14=\"LUMP\", $AD14=\"LS\"), \"LUMP\", OFFSET(#REF!, $AC14 - 1,0,1,1)),\"\"))","v":""},{"$f":"IF( $AC14 = 0, \"\", IF( OFFSET(#REF!, $AC14 - 1,0,1,1)<>0, IF(OR($AD14=\"LUMP\", $AD14=\"LS\"), \"LUMP\", OFFSET(#REF!, $AC14 - 1,0,1,1)),\"\"))","v":""},{"$f":"IF( $AC14 = 0, \"\", IF( OFFSET(#REF!, $AC14 - 1,0,1,1)<>0, IF(OR($AD14=\"LUMP\", $AD14=\"LS\"), \"LUMP\", OFFSET(#REF!, $AC14 - 1,0,1,1)),\"\"))","v":""},{"$f":"IF( $AC14 = 0, \"\", IF( OFFSET(#REF!, $AC14 - 1,0,1,1)<>0, IF(OR($AD14=\"LUMP\", $AD14=\"LS\"), \"LUMP\", OFFSET(#REF!, $AC14 - 1,0,1,1)),\"\"))","v":""},{"$f":"IF( $AC14 = 0, \"\", IF( OFFSET(#REF!, $AC14 - 1,0,1,1)<>0, IF(OR($AD14=\"LUMP\", $AD14=\"LS\"), \"LUMP\", OFFSET(#REF!, $AC14 - 1,0,1,1)),\"\"))","v":""},{"$f":"IF( $AC14 = 0, \"\", IF( OFFSET(#REF!, $AC14 - 1,0,1,1)<>0, IF(OR($AD14=\"LUMP\", $AD14=\"LS\"), \"LUMP\", OFFSET(#REF!, $AC14 - 1,0,1,1)),\"\"))","v":""},{"$f":"IF( $AC14 = 0, \"\", IF( OFFSET(#REF!, $AC14 - 1,0,1,1)<>0, IF(OR($AD14=\"LUMP\", $AD14=\"LS\"), \"LUMP\", OFFSET(#REF!, $AC14 - 1,0,1,1)),\"\"))","v":""},{"$f":"IF( $AC14 = 0, \"\", IF( OFFSET(#REF!, $AC14 - 1,0,1,1)<>0, IF(OR($AD14=\"LUMP\", $AD14=\"LS\"), \"LUMP\", OFFSET(#REF!, $AC14 - 1,0,1,1)),\"\"))","v":""},{"$f":"IF( $AC14 = 0, \"\", IF( OFFSET(#REF!, $AC14 - 1,0,1,1)<>0, LEFT(OFFSET(#REF!, $AC14 - 1,0,1,1),3),\"\"))","v":""},{"$f":"IF( $AC14 = 0, \"\", IF( OFFSET(#REF!, $AC14 - 1,0,1,1)<>0, IF(LEN(OFFSET(#REF!, $AC14 - 1,0,1,1))=9,   RIGHT(OFFSET(#REF!, $AC14 - 1,0,1,1),5),    LEFT(RIGHT(OFFSET(#REF!, $AC14 - 1,0,1,1),6), 5)      ),\"\"))","v":""},"",{"$f":"IF( $AC14 = 0, \"\", IF( OFFSET(#REF!, $AC14 - 1,0,1,1)<>0,IF(OR(AD14=\"LUMP\", AD14=\"LS\"), \"\", AD14),\"\"))","v":""},{"$f":"IF( $AC14 = 0, \"\", IF( OFFSET(#REF!, $AC14 - 1,0,1,1)<>0, VLOOKUP( OFFSET(#REF!, $AC14 - 1,0,1,1),[1]Items!$A$2:$E$10001,4,0),\"\"))","v":""},null,12,2,0,{"$f":"IF( $AC14 = 0, \"\", IF( OFFSET(#REF!, $AC14 - 1,0,1,1)<>0, VLOOKUP( OFFSET(#REF!, $AC14 - 1,0,1,1),[1]Items!$A$2:$E$10001,3,0),\"\"))","v":""}]
[{"$f":"IF( $AC15 = 0, \"\", IF( OFFSET(#REF!, $AC15 - 1,0,1,1)<>0, IF(OR($AD15=\"LUMP\", $AD15=\"LS\"), \"LUMP\", OFFSET(#REF!, $AC15 - 1,0,1,1)),\"\"))","v":{"$error":"#REF!"}},{"$f":"IF( $AC15 = 0, \"\", IF( OFFSET(#REF!, $AC15 - 1,0,1,1)<>0, IF(OR($AD15=\"LUMP\", $AD15=\"LS\"), \"LUMP\", OFFSET(#REF!, $AC15 - 1,0,1,1)),\"\"))","v":{"$error":"#REF!"}},{"$f":"IF( $AC15 = 0, \"\", IF( OFFSET(#REF!, $AC15 - 1,0,1,1)<>0, IF(OR($AD15=\"LUMP\", $AD15=\"LS\"), \"LUMP\", OFFSET(#REF!, $AC15 - 1,0,1,1)),\"\"))","v":{"$error":"#REF!"}},{"$f":"IF( $AC15 = 0, \"\", IF( OFFSET(#REF!, $AC15 - 1,0,1,1)<>0, IF(OR($AD15=\"LUMP\", $AD15=\"LS\"), \"LUMP\", OFFSET(#REF!, $AC15 - 1,0,1,1)),\"\"))","v":{"$error":"#REF!"}},{"$f":"IF( $AC15 = 0, \"\", IF( OFFSET(#REF!, $AC15 - 1,0,1,1)<>0, IF(OR($AD15=\"LUMP\", $AD15=\"LS\"), \"LUMP\", OFFSET(#REF!, $AC15 - 1,0,1,1)),\"\"))","v":{"$error":"#REF!"}},{"$f":"IF( $AC15 = 0, \"\", IF( OFFSET(#REF!, $AC15 - 1,0,1,1)<>0, IF(OR($AD15=\"LUMP\", $AD15=\"LS\"), \"LUMP\", OFFSET(#REF!, $AC15 - 1,0,1,1)),\"\"))","v":{"$error":"#REF!"}},{"$f":"IF( $AC15 = 0, \"\", IF( OFFSET(#REF!, $AC15 - 1,0,1,1)<>0, IF(OR($AD15=\"LUMP\", $AD15=\"LS\"), \"LUMP\", OFFSET(#REF!, $AC15 - 1,0,1,1)),\"\"))","v":{"$error":"#REF!"}},{"$f":"IF( $AC15 = 0, \"\", IF( OFFSET(#REF!, $AC15 - 1,0,1,1)<>0, IF(OR($AD15=\"LUMP\", $AD15=\"LS\"), \"LUMP\", OFFSET(#REF!, $AC15 - 1,0,1,1)),\"\"))","v":{"$error":"#REF!"}},{"$f":"IF( $AC15 = 0, \"\", IF( OFFSET(#REF!, $AC15 - 1,0,1,1)<>0, IF(OR($AD15=\"LUMP\", $AD15=\"LS\"), \"LUMP\", OFFSET(#REF!, $AC15 - 1,0,1,1)),\"\"))","v":{"$error":"#REF!"}},{"$f":"IF( $AC15 = 0, \"\", IF( OFFSET(#REF!, $AC15 - 1,0,1,1)<>0, IF(OR($AD15=\"LUMP\", $AD15=\"LS\"), \"LUMP\", OFFSET(#REF!, $AC15 - 1,0,1,1)),\"\"))","v":{"$error":"#REF!"}},{"$f":"IF( $AC15 = 0, \"\", IF( OFFSET(#REF!, $AC15 - 1,0,1,1)<>0, IF(OR($AD15=\"LUMP\", $AD15=\"LS\"), \"LUMP\", OFFSET(#REF!, $AC15 - 1,0,1,1)),\"\"))","v":{"$error":"#REF!"}},{"$f":"IF( $AC15 = 0, \"\", IF( OFFSET(#REF!, $AC15 - 1,0,1,1)<>0, IF(OR($AD15=\"LUMP\", $AD15=\"LS\"), \"LUMP\", OFFSET(#REF!, $AC15 - 1,0,1,1)),\"\"))","v":{"$error":"#REF!"}},{"$f":"IF( $AC15 = 0, \"\", IF( OFFSET(#REF!, $AC15 - 1,0,1,1)<>0, IF(OR($AD15=\"LUMP\", $AD15=\"LS\"), \"LUMP\", OFFSET(#REF!, $AC15 - 1,0,1,1)),\"\"))","v":{"$error":"#REF!"}},{"$f":"IF( $AC15 = 0, \"\", IF( OFFSET(#REF!, $AC15 - 1,0,1,1)<>0, IF(OR($AD15=\"LUMP\", $AD15=\"LS\"), \"LUMP\", OFFSET(#REF!, $AC15 - 1,0,1,1)),\"\"))","v":{"$error":"#REF!"}},{"$f":"IF( $AC15 = 0, \"\", IF( OFFSET(#REF!, $AC15 - 1,0,1,1)<>0, IF(OR($AD15=\"LUMP\", $AD15=\"LS\"), \"LUMP\", OFFSET(#REF!, $AC15 - 1,0,1,1)),\"\"))","v":{"$error":"#REF!"}},{"$f":"IF( $AC15 = 0, \"\", IF( OFFSET(#REF!, $AC15 - 1,0,1,1)<>0, IF(OR($AD15=\"LUMP\", $AD15=\"LS\"), \"LUMP\", OFFSET(#REF!, $AC15 - 1,0,1,1)),\"\"))","v":{"$error":"#REF!"}},{"$f":"IF( $AC15 = 0, \"\", IF( OFFSET(#REF!, $AC15 - 1,0,1,1)<>0, IF(OR($AD15=\"LUMP\", $AD15=\"LS\"), \"LUMP\", OFFSET(#REF!, $AC15 - 1,0,1,1)),\"\"))","v":{"$error":"#REF!"}},{"$f":"IF( $AC15 = 0, \"\", IF( OFFSET(#REF!, $AC15 - 1,0,1,1)<>0, IF(OR($AD15=\"LUMP\", $AD15=\"LS\"), \"LUMP\", OFFSET(#REF!, $AC15 - 1,0,1,1)),\"\"))","v":{"$error":"#REF!"}},{"$f":"IF( $AC15 = 0, \"\", IF( OFFSET(#REF!, $AC15 - 1,0,1,1)<>0, IF(OR($AD15=\"LUMP\", $AD15=\"LS\"), \"LUMP\", OFFSET(#REF!, $AC15 - 1,0,1,1)),\"\"))","v":{"$error":"#REF!"}},{"$f":"IF( $AC15 = 0, \"\", IF( OFFSET(#REF!, $AC15 - 1,0,1,1)<>0, IF(OR($AD15=\"LUMP\", $AD15=\"LS\"), \"LUMP\", OFFSET(#REF!, $AC15 - 1,0,1,1)),\"\"))","v":{"$error":"#REF!"}},{"$f":"IF( $AC15 = 0, \"\", IF( OFFSET(#REF!, $AC15 - 1,0,1,1)<>0, LEFT(OFFSET(#REF!, $AC15 - 1,0,1,1),3),\"\"))","v":{"$error":"#REF!"}},{"$f":"IF( $AC15 = 0, \"\", IF( OFFSET(#REF!, $AC15 - 1,0,1,1)<>0, IF(LEN(OFFSET(#REF!, $AC15 - 1,0,1,1))=9,   RIGHT(OFFSET(#REF!, $AC15 - 1,0,1,1),5),    LEFT(RIGHT(OFFSET(#REF!, $AC15 - 1,0,1,1),6), 5)      ),\"\"))","v":{"$error":"#REF!"}},{"$error":"#REF!"},{"$f":"IF( $AC15 = 0, \"\", IF( OFFSET(#REF!, $AC15 - 1,0,1,1)<>0,IF(OR(AD15=\"LUMP\", AD15=\"LS\"), \"\", AD15),\"\"))","v":{"$error":"#REF!"}},{"$f":"IF( $AC15 = 0, \"\", IF( OFFSET(#REF!, $AC15 - 1,0,1,1)<>0, VLOOKUP( OFFSET(#REF!, $AC15 - 1,0,1,1),[1]Items!$A$2:$E$10001,4,0),\"\"))","v":{"$error":"#REF!"}},null,13,2,11,{"$f":"IF( $AC15 = 0, \"\", IF( OFFSET(#REF!, $AC15 - 1,0,1,1)<>0, VLOOKUP( OFFSET(#REF!, $AC15 - 1,0,1,1),[1]Items!$A$2:$E$10001,3,0),\"\"))","v":{"$error":"#REF!"}}]
[{"$f":"IF( $AC16 = 0, \"\", IF( OFFSET(#REF!, $AC16 - 1,0,1,1)<>0, IF(OR($AD16=\"LUMP\", $AD16=\"LS\"), \"LUMP\", OFFSET(#REF!, $AC16 - 1,0,1,1)),\"\"))","v":{"$error":"#REF!"}},{"$f":"IF( $AC16 = 0, \"\", IF( OFFSET(#REF!, $AC16 - 1,0,1,1)<>0, IF(OR($AD16=\"LUMP\", $AD16=\"LS\"), \"LUMP\", OFFSET(#REF!, $AC16 - 1,0,1,1)),\"\"))","v":{"$error":"#REF!"}},{"$f":"IF( $AC16 = 0, \"\", IF( OFFSET(#REF!, $AC16 - 1,0,1,1)<>0, IF(OR($AD16=\"LUMP\", $AD16=\"LS\"), \"LUMP\", OFFSET(#REF!, $AC16 - 1,0,1,1)),\"\"))","v":{"$error":"#REF!"}},{"$f":"IF( $AC16 = 0, \"\", IF( OFFSET(#REF!, $AC16 - 1,0,1,1)<>0, IF(OR($AD16=\"LUMP\", $AD16=\"LS\"), \"LUMP\", OFFSET(#REF!, $AC16 - 1,0,1,1)),\"\"))","v":{"$error":"#REF!"}},{"$f":"IF( $AC16 = 0, \"\", IF( OFFSET(#REF!, $AC16 - 1,0,1,1)<>0, IF(OR($AD16=\"LUMP\", $AD16=\"LS\"), \"LUMP\", OFFSET(#REF!, $AC16 - 1,0,1,1)),\"\"))","v":{"$error":"#REF!"}},{"$f":"IF( $AC16 = 0, \"\", IF( OFFSET(#REF!, $AC16 - 1,0,1,1)<>0, IF(OR($AD16=\"LUMP\", $AD16=\"LS\"), \"LUMP\", OFFSET(#REF!, $AC16 - 1,0,1,1)),\"\"))","v":{"$error":"#REF!"}},{"$f":"IF( $AC16 = 0, \"\", IF( OFFSET(#REF!, $AC16 - 1,0,1,1)<>0, IF(OR($AD16=\"LUMP\", $AD16=\"LS\"), \"LUMP\", OFFSET(#REF!, $AC16 - 1,0,1,1)),\"\"))","v":{"$error":"#REF!"}},{"$f":"IF( $AC16 = 0, \"\", IF( OFFSET(#REF!, $AC16 - 1,0,1,1)<>0, IF(OR($AD16=\"LUMP\", $AD16=\"LS\"), \"LUMP\", OFFSET(#REF!, $AC16 - 1,0,1,1)),\"\"))","v":{"$error":"#REF!"}},{"$f":"IF( $AC16 = 0, \"\", IF( OFFSET(#REF!, $AC16 - 1,0,1,1)<>0, IF(OR($AD16=\"LUMP\", $AD16=\"LS\"), \"LUMP\", OFFSET(#REF!, $AC16 - 1,0,1,1)),\"\"))","v":{"$error":"#REF!"}},{"$f":"IF( $AC16 = 0, \"\", IF( OFFSET(#REF!, $AC16 - 1,0,1,1)<>0, IF(OR($AD16=\"LUMP\", $AD16=\"LS\"), \"LUMP\", OFFSET(#REF!, $AC16 - 1,0,1,1)),\"\"))","v":{"$error":"#REF!"}},{"$f":"IF( $AC16 = 0, \"\", IF( OFFSET(#REF!, $AC16 - 1,0,1,1)<>0, IF(OR($AD16=\"LUMP\", $AD16=\"LS\"), \"LUMP\", OFFSET(#REF!, $AC16 - 1,0,1,1)),\"\"))","v":{"$error":"#REF!"}},{"$f":"IF( $AC16 = 0, \"\", IF( OFFSET(#REF!, $AC16 - 1,0,1,1)<>0, IF(OR($AD16=\"LUMP\", $AD16=\"LS\"), \"LUMP\", OFFSET(#REF!, $AC16 - 1,0,1,1)),\"\"))","v":{"$error":"#REF!"}},{"$f":"IF( $AC16 = 0, \"\", IF( OFFSET(#REF!, $AC16 - 1,0,1,1)<>0, IF(OR($AD16=\"LUMP\", $AD16=\"LS\"), \"LUMP\", OFFSET(#REF!, $AC16 - 1,0,1,1)),\"\"))","v":{"$error":"#REF!"}},{"$f":"IF( $AC16 = 0, \"\", IF( OFFSET(#REF!, $AC16 - 1,0,1,1)<>0, IF(OR($AD16=\"LUMP\", $AD16=\"LS\"), \"LUMP\", OFFSET(#REF!, $AC16 - 1,0,1,1)),\"\"))","v":{"$error":"#REF!"}},{"$f":"IF( $AC16 = 0, \"\", IF( OFFSET(#REF!, $AC16 - 1,0,1,1)<>0, IF(OR($AD16=\"LUMP\", $AD16=\"LS\"), \"LUMP\", OFFSET(#REF!, $AC16 - 1,0,1,1)),\"\"))","v":{"$error":"#REF!"}},{"$f":"IF( $AC16 = 0, \"\", IF( OFFSET(#REF!, $AC16 - 1,0,1,1)<>0, IF(OR($AD16=\"LUMP\", $AD16=\"LS\"), \"LUMP\", OFFSET(#REF!, $AC16 - 1,0,1,1)),\"\"))","v":{"$error":"#REF!"}},{"$f":"IF( $AC16 = 0, \"\", IF( OFFSET(#REF!, $AC16 - 1,0,1,1)<>0, IF(OR($AD16=\"LUMP\", $AD16=\"LS\"), \"LUMP\", OFFSET(#REF!, $AC16 - 1,0,1,1)),\"\"))","v":{"$error":"#REF!"}},{"$f":"IF( $AC16 = 0, \"\", IF( OFFSET(#REF!, $AC16 - 1,0,1,1)<>0, IF(OR($AD16=\"LUMP\", $AD16=\"LS\"), \"LUMP\", OFFSET(#REF!, $AC16 - 1,0,1,1)),\"\"))","v":{"$error":"#REF!"}},{"$f":"IF( $AC16 = 0, \"\", IF( OFFSET(#REF!, $AC16 - 1,0,1,1)<>0, IF(OR($AD16=\"LUMP\", $AD16=\"LS\"), \"LUMP\", OFFSET(#REF!, $AC16 - 1,0,1,1)),\"\"))","v":{"$error":"#REF!"}},{"$f":"IF( $AC16 = 0, \"\", IF( OFFSET(#REF!, $AC16 - 1,0,1,1)<>0, IF(OR($AD16=\"LUMP\", $AD16=\"LS\"), \"LUMP\", OFFSET(#REF!, $AC16 - 1,0,1,1)),\"\"))","v":{"$error":"#REF!"}},{"$f":"IF( $AC16 = 0, \"\", IF( OFFSET(#REF!, $AC16 - 1,0,1,1)<>0, LEFT(OFFSET(#REF!, $AC16 - 1,0,1,1),3),\"\"))","v":{"$error":"#REF!"}},{"$f":"IF( $AC16 = 0, \"\", IF( OFFSET(#REF!, $AC16 - 1,0,1,1)<>0, IF(LEN(OFFSET(#REF!, $AC16 - 1,0,1,1))=9,   RIGHT(OFFSET(#REF!, $AC16 - 1,0,1,1),5),    LEFT(RIGHT(OFFSET(#REF!, $AC16 - 1,0,1,1),6), 5)      ),\"\"))","v":{"$error":"#REF!"}},{"$error":"#REF!"},{"$f":"IF( $AC16 = 0, \"\", IF( OFFSET(#REF!, $AC16 - 1,0,1,1)<>0,IF(OR(AD16=\"LUMP\", AD16=\"LS\"), \"\", AD16),\"\"))","v":{"$error":"#REF!"}},{"$f":"IF( $AC16 = 0, \"\", IF( OFFSET(#REF!, $AC16 - 1,0,1,1)<>0, VLOOKUP( OFFSET(#REF!, $AC16 - 1,0,1,1),[1]Items!$A$2:$E$10001,4,0),\"\"))","v":{"$error":"#REF!"}},null,14,2,12,{"$f":"IF( $AC16 = 0, \"\", IF( OFFSET(#REF!, $AC16 - 1,0,1,1)<>0, VLOOKUP( OFFSET(#REF!, $AC16 - 1,0,1,1),[1]Items!$A$2:$E$10001,3,0),\"\"))","v":{"$error":"#REF!"}}]
[{"$f":"IF( $AC17 = 0, \"\", IF( OFFSET(#REF!, $AC17 - 1,0,1,1)<>0, IF(OR($AD17=\"LUMP\", $AD17=\"LS\"), \"LUMP\", OFFSET(#REF!, $AC17 - 1,0,1,1)),\"\"))","v":{"$error":"#REF!"}},{"$f":"IF( $AC17 = 0, \"\", IF( OFFSET(#REF!, $AC17 - 1,0,1,1)<>0, IF(OR($AD17=\"LUMP\", $AD17=\"LS\"), \"LUMP\", OFFSET(#REF!, $AC17 - 1,0,1,1)),\"\"))","v":{"$error":"#REF!"}},{"$f":"IF( $AC17 = 0, \"\", IF( OFFSET(#REF!, $AC17 - 1,0,1,1)<>0, IF(OR($AD17=\"LUMP\", $AD17=\"LS\"), \"LUMP\", OFFSET(#REF!, $AC17 - 1,0,1,1)),\"\"))","v":{"$error":"#REF!"}},{"$f":"IF( $AC17 = 0, \"\", IF( OFFSET(#REF!, $AC17 - 1,0,1,1)<>0, IF(OR($AD17=\"LUMP\", $AD17=\"LS\"), \"LUMP\", OFFSET(#REF!, $AC17 - 1,0,1,1)),\"\"))","v":{"$error":"#REF!"}},{"$f":"IF( $AC17 = 0, \"\", IF( OFFSET(#REF!, $AC17 - 1,0,1,1)<>0, IF(OR($AD17=\"LUMP\", $AD17=\"LS\"), \"LUMP\", OFFSET(#REF!, $AC17 - 1,0,1,1)),\"\"))","v":{"$error":"#REF!"}},{"$f":"IF( $AC17 = 0, \"\", IF( OFFSET(#REF!, $AC17 - 1,0,1,1)<>0, IF(OR($AD17=\"LUMP\", $AD17=\"LS\"), \"LUMP\", OFFSET(#REF!, $AC17 - 1,0,1,1)),\"\"))","v":{"$error":"#REF!"}},{"$f":"IF( $AC17 = 0, \"\", IF( OFFSET(#REF!, $AC17 - 1,0,1,1)<>0, IF(OR($AD17=\"LUMP\", $AD17=\"LS\"), \"LUMP\", OFFSET(#REF!, $AC17 - 1,0,1,1)),\"\"))","v":{"$error":"#REF!"}},{"$f":"IF( $AC17 = 0, \"\", IF( OFFSET(#REF!, $AC17 - 1,0,1,1)<>0, IF(OR($AD17=\"LUMP\", $AD17=\"LS\"), \"LUMP\", OFFSET(#REF!, $AC17 - 1,0,1,1)),\"\"))","v":{"$error":"#REF!"}},{"$f":"IF( $AC17 = 0, \"\", IF( OFFSET(#REF!, $AC17 - 1,0,1,1)<>0, IF(OR($AD17=\"LUMP\", $AD17=\"LS\"), \"LUMP\", OFFSET(#REF!, $AC17 - 1,0,1,1)),\"\"))","v":{"$error":"#REF!"}},{"$f":"IF( $AC17 = 0, \"\", IF( OFFSET(#REF!, $AC17 - 1,0,1,1)<>0, IF(OR($AD17=\"LUMP\", $AD17=\"LS\"), \"LUMP\", OFFSET(#REF!, $AC17 - 1,0,1,1)),\"\"))","v":{"$error":"#REF!"}},{"$f":"IF( $AC17 = 0, \"\", IF( OFFSET(#REF!, $AC17 - 1,0,1,1)<>0, IF(OR($AD17=\"LUMP\", $AD17=\"LS\"), \"LUMP\", OFFSET(#REF!, $AC17 - 1,0,1,1)),\"\"))","v":{"$error":"#REF!"}},{"$f":"IF( $AC17 = 0, \"\", IF( OFFSET(#REF!, $AC17 - 1,0,1,1)<>0, IF(OR($AD17=\"LUMP\", $AD17=\"LS\"), \"LUMP\", OFFSET(#REF!, $AC17 - 1,0,1,1)),\"\"))","v":{"$error":"#REF!"}},{"$f":"IF( $AC17 = 0, \"\", IF( OFFSET(#REF!, $AC17 - 1,0,1,1)<>0, IF(OR($AD17=\"LUMP\", $AD17=\"LS\"), \"LUMP\", OFFSET(#REF!, $AC17 - 1,0,1,1)),\"\"))","v":{"$error":"#REF!"}},{"$f":"IF( $AC17 = 0, \"\", IF( OFFSET(#REF!, $AC17 - 1,0,1,1)<>0, IF(OR($AD17=\"LUMP\", $AD17=\"LS\"), \"LUMP\", OFFSET(#REF!, $AC17 - 1,0,1,1)),\"\"))","v":{"$error":"#REF!"}},{"$f":"IF( $AC17 = 0, \"\", IF( OFFSET(#REF!, $AC17 - 1,0,1,1)<>0, IF(OR($AD17=\"LUMP\", $AD17=\"LS\"), \"LUMP\", OFFSET(#REF!, $AC17 - 1,0,1,1)),\"\"))","v":{"$error":"#REF!"}},{"$f":"IF( $AC17 = 0, \"\", IF( OFFSET(#REF!, $AC17 - 1,0,1,1)<>0, IF(OR($AD17=\"LUMP\", $AD17=\"LS\"), \"LUMP\", OFFSET(#REF!, $AC17 - 1,0,1,1)),\"\"))","v":{"$error":"#REF!"}},{"$f":"IF( $AC17 = 0, \"\", IF( OFFSET(#REF!, $AC17 - 1,0,1,1)<>0, IF(OR($AD17=\"LUMP\", $AD17=\"LS\"), \"LUMP\", OFFSET(#REF!, $AC17 - 1,0,1,1)),\"\"))","v":{"$error":"#REF!"}},{"$f":"IF( $AC17 = 0, \"\", IF( OFFSET(#REF!, $AC17 - 1,0,1,1)<>0, IF(OR($AD17=\"LUMP\", $AD17=\"LS\"), \"LUMP\", OFFSET(#REF!, $AC17 - 1,0,1,1)),\"\"))","v":{"$error":"#REF!"}},{"$f":"IF( $AC17 = 0, \"\", IF( OFFSET(#REF!, $AC17 - 1,0,1,1)<>0, IF(OR($AD17=\"LUMP\", $AD17=\"LS\"), \"LUMP\", OFFSET(#REF!, $AC17 - 1,0,1,1)),\"\"))","v":{"$error":"#REF!"}},{"$f":"IF( $AC17 = 0, \"\", IF( OFFSET(#REF!, $AC17 - 1,0,1,1)<>0, IF(OR($AD17=\"LUMP\", $AD17=\"LS\"), \"LUMP\", OFFSET(#REF!, $AC17 - 1,0,1,1)),\"\"))","v":{"$error":"#REF!"}},{"$f":"IF( $AC17 = 0, \"\", IF( OFFSET(#REF!, $AC17 - 1,0,1,1)<>0, LEFT(OFFSET(#REF!, $AC17 - 1,0,1,1),3),\"\"))","v":{"$error":"#REF!"}},{"$f":"IF( $AC17 = 0, \"\", IF( OFFSET(#REF!, $AC17 - 1,0,1,1)<>0, IF(LEN(OFFSET(#REF!, $AC17 - 1,0,1,1))=9,   RIGHT(OFFSET(#REF!, $AC17 - 1,0,1,1),5),    LEFT(RIGHT(OFFSET(#REF!, $AC17 - 1,0,1,1),6), 5)      ),\"\"))","v":{"$error":"#REF!"}},{"$error":"#REF!"},{"$f":"IF( $AC17 = 0, \"\", IF( OFFSET(#REF!, $AC17 - 1,0,1,1)<>0,IF(OR(AD17=\"LUMP\", AD17=\"LS\"), \"\", AD17),\"\"))","v":{"$error":"#REF!"}},{"$f":"IF( $AC17 = 0, \"\", IF( OFFSET(#REF!, $AC17 - 1,0,1,1)<>0, VLOOKUP( OFFSET(#REF!, $AC17 - 1,0,1,1),[1]Items!$A$2:$E$10001,4,0),\"\"))","v":{"$error":"#REF!"}},null,15,2,13,{"$f":"IF( $AC17 = 0, \"\", IF( OFFSET(#REF!, $AC17 - 1,0,1,1)<>0, VLOOKUP( OFFSET(#REF!, $AC17 - 1,0,1,1),[1]Items!$A$2:$E$10001,3,0),\"\"))","v":{"$error":"#REF!"}}]
[{"$f":"IF( $AC18 = 0, \"\", IF( OFFSET(#REF!, $AC18 - 1,0,1,1)<>0, IF(OR($AD18=\"LUMP\", $AD18=\"LS\"), \"LUMP\", OFFSET(#REF!, $AC18 - 1,0,1,1)),\"\"))","v":{"$error":"#REF!"}},{"$f":"IF( $AC18 = 0, \"\", IF( OFFSET(#REF!, $AC18 - 1,0,1,1)<>0, IF(OR($AD18=\"LUMP\", $AD18=\"LS\"), \"LUMP\", OFFSET(#REF!, $AC18 - 1,0,1,1)),\"\"))","v":{"$error":"#REF!"}},{"$f":"IF( $AC18 = 0, \"\", IF( OFFSET(#REF!, $AC18 - 1,0,1,1)<>0, IF(OR($AD18=\"LUMP\", $AD18=\"LS\"), \"LUMP\", OFFSET(#REF!, $AC18 - 1,0,1,1)),\"\"))","v":{"$error":"#REF!"}},{"$f":"IF( $AC18 = 0, \"\", IF( OFFSET(#REF!, $AC18 - 1,0,1,1)<>0, IF(OR($AD18=\"LUMP\", $AD18=\"LS\"), \"LUMP\", OFFSET(#REF!, $AC18 - 1,0,1,1)),\"\"))","v":{"$error":"#REF!"}},{"$f":"IF( $AC18 = 0, \"\", IF( OFFSET(#REF!, $AC18 - 1,0,1,1)<>0, IF(OR($AD18=\"LUMP\", $AD18=\"LS\"), \"LUMP\", OFFSET(#REF!, $AC18 - 1,0,1,1)),\"\"))","v":{"$error":"#REF!"}},{"$f":"IF( $AC18 = 0, \"\", IF( OFFSET(#REF!, $AC18 - 1,0,1,1)<>0, IF(OR($AD18=\"LUMP\", $AD18=\"LS\"), \"LUMP\", OFFSET(#REF!, $AC18 - 1,0,1,1)),\"\"))","v":{"$error":"#REF!"}},{"$f":"IF( $AC18 = 0, \"\", IF( OFFSET(#REF!, $AC18 - 1,0,1,1)<>0, IF(OR($AD18=\"LUMP\", $AD18=\"LS\"), \"LUMP\", OFFSET(#REF!, $AC18 - 1,0,1,1)),\"\"))","v":{"$error":"#REF!"}},{"$f":"IF( $AC18 = 0, \"\", IF( OFFSET(#REF!, $AC18 - 1,0,1,1)<>0, IF(OR($AD18=\"LUMP\", $AD18=\"LS\"), \"LUMP\", OFFSET(#REF!, $AC18 - 1,0,1,1)),\"\"))","v":{"$error":"#REF!"}},{"$f":"IF( $AC18 = 0, \"\", IF( OFFSET(#REF!, $AC18 - 1,0,1,1)<>0, IF(OR($AD18=\"LUMP\", $AD18=\"LS\"), \"LUMP\", OFFSET(#REF!, $AC18 - 1,0,1,1)),\"\"))","v":{"$error":"#REF!"}},{"$f":"IF( $AC18 = 0, \"\", IF( OFFSET(#REF!, $AC18 - 1,0,1,1)<>0, IF(OR($AD18=\"LUMP\", $AD18=\"LS\"), \"LUMP\", OFFSET(#REF!, $AC18 - 1,0,1,1)),\"\"))","v":{"$error":"#REF!"}},{"$f":"IF( $AC18 = 0, \"\", IF( OFFSET(#REF!, $AC18 - 1,0,1,1)<>0, IF(OR($AD18=\"LUMP\", $AD18=\"LS\"), \"LUMP\", OFFSET(#REF!, $AC18 - 1,0,1,1)),\"\"))","v":{"$error":"#REF!"}},{"$f":"IF( $AC18 = 0, \"\", IF( OFFSET(#REF!, $AC18 - 1,0,1,1)<>0, IF(OR($AD18=\"LUMP\", $AD18=\"LS\"), \"LUMP\", OFFSET(#REF!, $AC18 - 1,0,1,1)),\"\"))","v":{"$error":"#REF!"}},{"$f":"IF( $AC18 = 0, \"\", IF( OFFSET(#REF!, $AC18 - 1,0,1,1)<>0, IF(OR($AD18=\"LUMP\", $AD18=\"LS\"), \"LUMP\", OFFSET(#REF!, $AC18 - 1,0,1,1)),\"\"))","v":{"$error":"#REF!"}},{"$f":"IF( $AC18 = 0, \"\", IF( OFFSET(#REF!, $AC18 - 1,0,1,1)<>0, IF(OR($AD18=\"LUMP\", $AD18=\"LS\"), \"LUMP\", OFFSET(#REF!, $AC18 - 1,0,1,1)),\"\"))","v":{"$error":"#REF!"}},{"$f":"IF( $AC18 = 0, \"\", IF( OFFSET(#REF!, $AC18 - 1,0,1,1)<>0, IF(OR($AD18=\"LUMP\", $AD18=\"LS\"), \"LUMP\", OFFSET(#REF!, $AC18 - 1,0,1,1)),\"\"))","v":{"$error":"#REF!"}},{"$f":"IF( $AC18 = 0, \"\", IF( OFFSET(#REF!, $AC18 - 1,0,1,1)<>0, IF(OR($AD18=\"LUMP\", $AD18=\"LS\"), \"LUMP\", OFFSET(#REF!, $AC18 - 1,0,1,1)),\"\"))","v":{"$error":"#REF!"}},{"$f":"IF( $AC18 = 0, \"\", IF( OFFSET(#REF!, $AC18 - 1,0,1,1)<>0, IF(OR($AD18=\"LUMP\", $AD18=\"LS\"), \"LUMP\", OFFSET(#REF!, $AC18 - 1,0,1,1)),\"\"))","v":{"$error":"#REF!"}},{"$f":"IF( $AC18 = 0, \"\", IF( OFFSET(#REF!, $AC18 - 1,0,1,1)<>0, IF(OR($AD18=\"LUMP\", $AD18=\"LS\"), \"LUMP\", OFFSET(#REF!, $AC18 - 1,0,1,1)),\"\"))","v":{"$error":"#REF!"}},{"$f":"IF( $AC18 = 0, \"\", IF( OFFSET(#REF!, $AC18 - 1,0,1,1)<>0, IF(OR($AD18=\"LUMP\", $AD18=\"LS\"), \"LUMP\", OFFSET(#REF!, $AC18 - 1,0,1,1)),\"\"))","v":{"$error":"#REF!"}},{"$f":"IF( $AC18 = 0, \"\", IF( OFFSET(#REF!, $AC18 - 1,0,1,1)<>0, IF(OR($AD18=\"LUMP\", $AD18=\"LS\"), \"LUMP\", OFFSET(#REF!, $AC18 - 1,0,1,1)),\"\"))","v":{"$error":"#REF!"}},{"$f":"IF( $AC18 = 0, \"\", IF( OFFSET(#REF!, $AC18 - 1,0,1,1)<>0, LEFT(OFFSET(#REF!, $AC18 - 1,0,1,1),3),\"\"))","v":{"$error":"#REF!"}},{"$f":"IF( $AC18 = 0, \"\", IF( OFFSET(#REF!, $AC18 - 1,0,1,1)<>0, IF(LEN(OFFSET(#REF!, $AC18 - 1,0,1,1))=9,   RIGHT(OFFSET(#REF!, $AC18 - 1,0,1,1),5),    LEFT(RIGHT(OFFSET(#REF!, $AC18 - 1,0,1,1),6), 5)      ),\"\"))","v":{"$error":"#REF!"}},{"$error":"#REF!"},{"$f":"IF( $AC18 = 0, \"\", IF( OFFSET(#REF!, $AC18 - 1,0,1,1)<>0,IF(OR(AD18=\"LUMP\", AD18=\"LS\"), \"\", AD18),\"\"))","v":{"$error":"#REF!"}},{"$f":"IF( $AC18 = 0, \"\", IF( OFFSET(#REF!, $AC18 - 1,0,1,1)<>0, VLOOKUP( OFFSET(#REF!, $AC18 - 1,0,1,1),[1]Items!$A$2:$E$10001,4,0),\"\"))","v":{"$error":"#REF!"}},null,16,2,14,{"$f":"IF( $AC18 = 0, \"\", IF( OFFSET(#REF!, $AC18 - 1,0,1,1)<>0, VLOOKUP( OFFSET(#REF!, $AC18 - 1,0,1,1),[1]Items!$A$2:$E$10001,3,0),\"\"))","v":{"$error":"#REF!"}}]
[{"$f":"IF( $AC19 = 0, \"\", IF( OFFSET(#REF!, $AC19 - 1,0,1,1)<>0, IF(OR($AD19=\"LUMP\", $AD19=\"LS\"), \"LUMP\", OFFSET(#REF!, $AC19 - 1,0,1,1)),\"\"))","v":{"$error":"#REF!"}},{"$f":"IF( $AC19 = 0, \"\", IF( OFFSET(#REF!, $AC19 - 1,0,1,1)<>0, IF(OR($AD19=\"LUMP\", $AD19=\"LS\"), \"LUMP\", OFFSET(#REF!, $AC19 - 1,0,1,1)),\"\"))","v":{"$error":"#REF!"}},{"$f":"IF( $AC19 = 0, \"\", IF( OFFSET(#REF!, $AC19 - 1,0,1,1)<>0, IF(OR($AD19=\"LUMP\", $AD19=\"LS\"), \"LUMP\", OFFSET(#REF!, $AC19 - 1,0,1,1)),\"\"))","v":{"$error":"#REF!"}},{"$f":"IF( $AC19 = 0, \"\", IF( OFFSET(#REF!, $AC19 - 1,0,1,1)<>0, IF(OR($AD19=\"LUMP\", $AD19=\"LS\"), \"LUMP\", OFFSET(#REF!, $AC19 - 1,0,1,1)),\"\"))","v":{"$error":"#REF!"}},{"$f":"IF( $AC19 = 0, \"\", IF( OFFSET(#REF!, $AC19 - 1,0,1,1)<>0, IF(OR($AD19=\"LUMP\", $AD19=\"LS\"), \"LUMP\", OFFSET(#REF!, $AC19 - 1,0,1,1)),\"\"))","v":{"$error":"#REF!"}},{"$f":"IF( $AC19 = 0, \"\", IF( OFFSET(#REF!, $AC19 - 1,0,1,1)<>0, IF(OR($AD19=\"LUMP\", $AD19=\"LS\"), \"LUMP\", OFFSET(#REF!, $AC19 - 1,0,1,1)),\"\"))","v":{"$error":"#REF!"}},{"$f":"IF( $AC19 = 0, \"\", IF( OFFSET(#REF!, $AC19 - 1,0,1,1)<>0, IF(OR($AD19=\"LUMP\", $AD19=\"LS\"), \"LUMP\", OFFSET(#REF!, $AC19 - 1,0,1,1)),\"\"))","v":{"$error":"#REF!"}},{"$f":"IF( $AC19 = 0, \"\", IF( OFFSET(#REF!, $AC19 - 1,0,1,1)<>0, IF(OR($AD19=\"LUMP\", $AD19=\"LS\"), \"LUMP\", OFFSET(#REF!, $AC19 - 1,0,1,1)),\"\"))","v":{"$error":"#REF!"}},{"$f":"IF( $AC19 = 0, \"\", IF( OFFSET(#REF!, $AC19 - 1,0,1,1)<>0, IF(OR($AD19=\"LUMP\", $AD19=\"LS\"), \"LUMP\", OFFSET(#REF!, $AC19 - 1,0,1,1)),\"\"))","v":{"$error":"#REF!"}},{"$f":"IF( $AC19 = 0, \"\", IF( OFFSET(#REF!, $AC19 - 1,0,1,1)<>0, IF(OR($AD19=\"LUMP\", $AD19=\"LS\"), \"LUMP\", OFFSET(#REF!, $AC19 - 1,0,1,1)),\"\"))","v":{"$error":"#REF!"}},{"$f":"IF( $AC19 = 0, \"\", IF( OFFSET(#REF!, $AC19 - 1,0,1,1)<>0, IF(OR($AD19=\"LUMP\", $AD19=\"LS\"), \"LUMP\", OFFSET(#REF!, $AC19 - 1,0,1,1)),\"\"))","v":{"$error":"#REF!"}},{"$f":"IF( $AC19 = 0, \"\", IF( OFFSET(#REF!, $AC19 - 1,0,1,1)<>0, IF(OR($AD19=\"LUMP\", $AD19=\"LS\"), \"LUMP\", OFFSET(#REF!, $AC19 - 1,0,1,1)),\"\"))","v":{"$error":"#REF!"}},{"$f":"IF( $AC19 = 0, \"\", IF( OFFSET(#REF!, $AC19 - 1,0,1,1)<>0, IF(OR($AD19=\"LUMP\", $AD19=\"LS\"), \"LUMP\", OFFSET(#REF!, $AC19 - 1,0,1,1)),\"\"))","v":{"$error":"#REF!"}},{"$f":"IF( $AC19 = 0, \"\", IF( OFFSET(#REF!, $AC19 - 1,0,1,1)<>0, IF(OR($AD19=\"LUMP\", $AD19=\"LS\"), \"LUMP\", OFFSET(#REF!, $AC19 - 1,0,1,1)),\"\"))","v":{"$error":"#REF!"}},{"$f":"IF( $AC19 = 0, \"\", IF( OFFSET(#REF!, $AC19 - 1,0,1,1)<>0, IF(OR($AD19=\"LUMP\", $AD19=\"LS\"), \"LUMP\", OFFSET(#REF!, $AC19 - 1,0,1,1)),\"\"))","v":{"$error":"#REF!"}},{"$f":"IF( $AC19 = 0, \"\", IF( OFFSET(#REF!, $AC19 - 1,0,1,1)<>0, IF(OR($AD19=\"LUMP\", $AD19=\"LS\"), \"LUMP\", OFFSET(#REF!, $AC19 - 1,0,1,1)),\"\"))","v":{"$error":"#REF!"}},{"$f":"IF( $AC19 = 0, \"\", IF( OFFSET(#REF!, $AC19 - 1,0,1,1)<>0, IF(OR($AD19=\"LUMP\", $AD19=\"LS\"), \"LUMP\", OFFSET(#REF!, $AC19 - 1,0,1,1)),\"\"))","v":{"$error":"#REF!"}},{"$f":"IF( $AC19 = 0, \"\", IF( OFFSET(#REF!, $AC19 - 1,0,1,1)<>0, IF(OR($AD19=\"LUMP\", $AD19=\"LS\"), \"LUMP\", OFFSET(#REF!, $AC19 - 1,0,1,1)),\"\"))","v":{"$error":"#REF!"}},{"$f":"IF( $AC19 = 0, \"\", IF( OFFSET(#REF!, $AC19 - 1,0,1,1)<>0, IF(OR($AD19=\"LUMP\", $AD19=\"LS\"), \"LUMP\", OFFSET(#REF!, $AC19 - 1,0,1,1)),\"\"))","v":{"$error":"#REF!"}},{"$f":"IF( $AC19 = 0, \"\", IF( OFFSET(#REF!, $AC19 - 1,0,1,1)<>0, IF(OR($AD19=\"LUMP\", $AD19=\"LS\"), \"LUMP\", OFFSET(#REF!, $AC19 - 1,0,1,1)),\"\"))","v":{"$error":"#REF!"}},{"$f":"IF( $AC19 = 0, \"\", IF( OFFSET(#REF!, $AC19 - 1,0,1,1)<>0, LEFT(OFFSET(#REF!, $AC19 - 1,0,1,1),3),\"\"))","v":{"$error":"#REF!"}},{"$f":"IF( $AC19 = 0, \"\", IF( OFFSET(#REF!, $AC19 - 1,0,1,1)<>0, IF(LEN(OFFSET(#REF!, $AC19 - 1,0,1,1))=9,   RIGHT(OFFSET(#REF!, $AC19 - 1,0,1,1),5),    LEFT(RIGHT(OFFSET(#REF!, $AC19 - 1,0,1,1),6), 5)      ),\"\"))","v":{"$error":"#REF!"}},{"$error":"#REF!"},{"$f":"IF( $AC19 = 0, \"\", IF( OFFSET(#REF!, $AC19 - 1,0,1,1)<>0,IF(OR(AD19=\"LUMP\", AD19=\"LS\"), \"\", AD19),\"\"))","v":{"$error":"#REF!"}},{"$f":"IF( $AC19 = 0, \"\", IF( OFFSET(#REF!, $AC19 - 1,0,1,1)<>0, VLOOKUP( OFFSET(#REF!, $AC19 - 1,0,1,1),[1]Items!$A$2:$E$10001,4,0),\"\"))","v":{"$error":"#REF!"}},null,17,2,15,{"$f":"IF( $AC19 = 0, \"\", IF( OFFSET(#REF!, $AC19 - 1,0,1,1)<>0, VLOOKUP( OFFSET(#REF!, $AC19 - 1,0,1,1),[1]Items!$A$2:$E$10001,3,0),\"\"))","v":{"$error":"#REF!"}}]
[{"$f":"IF( $AC20 = 0, \"\", IF( OFFSET(#REF!, $AC20 - 1,0,1,1)<>0, IF(OR($AD20=\"LUMP\", $AD20=\"LS\"), \"LUMP\", OFFSET(#REF!, $AC20 - 1,0,1,1)),\"\"))","v":""},{"$f":"IF( $AC20 = 0, \"\", IF( OFFSET(#REF!, $AC20 - 1,0,1,1)<>0, IF(OR($AD20=\"LUMP\", $AD20=\"LS\"), \"LUMP\", OFFSET(#REF!, $AC20 - 1,0,1,1)),\"\"))","v":""},{"$f":"IF( $AC20 = 0, \"\", IF( OFFSET(#REF!, $AC20 - 1,0,1,1)<>0, IF(OR($AD20=\"LUMP\", $AD20=\"LS\"), \"LUMP\", OFFSET(#REF!, $AC20 - 1,0,1,1)),\"\"))","v":""},{"$f":"IF( $AC20 = 0, \"\", IF( OFFSET(#REF!, $AC20 - 1,0,1,1)<>0, IF(OR($AD20=\"LUMP\", $AD20=\"LS\"), \"LUMP\", OFFSET(#REF!, $AC20 - 1,0,1,1)),\"\"))","v":""},{"$f":"IF( $AC20 = 0, \"\", IF( OFFSET(#REF!, $AC20 - 1,0,1,1)<>0, IF(OR($AD20=\"LUMP\", $AD20=\"LS\"), \"LUMP\", OFFSET(#REF!, $AC20 - 1,0,1,1)),\"\"))","v":""},{"$f":"IF( $AC20 = 0, \"\", IF( OFFSET(#REF!, $AC20 - 1,0,1,1)<>0, IF(OR($AD20=\"LUMP\", $AD20=\"LS\"), \"LUMP\", OFFSET(#REF!, $AC20 - 1,0,1,1)),\"\"))","v":""},{"$f":"IF( $AC20 = 0, \"\", IF( OFFSET(#REF!, $AC20 - 1,0,1,1)<>0, IF(OR($AD20=\"LUMP\", $AD20=\"LS\"), \"LUMP\", OFFSET(#REF!, $AC20 - 1,0,1,1)),\"\"))","v":""},{"$f":"IF( $AC20 = 0, \"\", IF( OFFSET(#REF!, $AC20 - 1,0,1,1)<>0, IF(OR($AD20=\"LUMP\", $AD20=\"LS\"), \"LUMP\", OFFSET(#REF!, $AC20 - 1,0,1,1)),\"\"))","v":""},{"$f":"IF( $AC20 = 0, \"\", IF( OFFSET(#REF!, $AC20 - 1,0,1,1)<>0, IF(OR($AD20=\"LUMP\", $AD20=\"LS\"), \"LUMP\", OFFSET(#REF!, $AC20 - 1,0,1,1)),\"\"))","v":""},{"$f":"IF( $AC20 = 0, \"\", IF( OFFSET(#REF!, $AC20 - 1,0,1,1)<>0, IF(OR($AD20=\"LUMP\", $AD20=\"LS\"), \"LUMP\", OFFSET(#REF!, $AC20 - 1,0,1,1)),\"\"))","v":""},{"$f":"IF( $AC20 = 0, \"\", IF( OFFSET(#REF!, $AC20 - 1,0,1,1)<>0, IF(OR($AD20=\"LUMP\", $AD20=\"LS\"), \"LUMP\", OFFSET(#REF!, $AC20 - 1,0,1,1)),\"\"))","v":""},{"$f":"IF( $AC20 = 0, \"\", IF( OFFSET(#REF!, $AC20 - 1,0,1,1)<>0, IF(OR($AD20=\"LUMP\", $AD20=\"LS\"), \"LUMP\", OFFSET(#REF!, $AC20 - 1,0,1,1)),\"\"))","v":""},{"$f":"IF( $AC20 = 0, \"\", IF( OFFSET(#REF!, $AC20 - 1,0,1,1)<>0, IF(OR($AD20=\"LUMP\", $AD20=\"LS\"), \"LUMP\", OFFSET(#REF!, $AC20 - 1,0,1,1)),\"\"))","v":""},{"$f":"IF( $AC20 = 0, \"\", IF( OFFSET(#REF!, $AC20 - 1,0,1,1)<>0, IF(OR($AD20=\"LUMP\", $AD20=\"LS\"), \"LUMP\", OFFSET(#REF!, $AC20 - 1,0,1,1)),\"\"))","v":""},{"$f":"IF( $AC20 = 0, \"\", IF( OFFSET(#REF!, $AC20 - 1,0,1,1)<>0, IF(OR($AD20=\"LUMP\", $AD20=\"LS\"), \"LUMP\", OFFSET(#REF!, $AC20 - 1,0,1,1)),\"\"))","v":""},{"$f":"IF( $AC20 = 0, \"\", IF( OFFSET(#REF!, $AC20 - 1,0,1,1)<>0, IF(OR($AD20=\"LUMP\", $AD20=\"LS\"), \"LUMP\", OFFSET(#REF!, $AC20 - 1,0,1,1)),\"\"))","v":""},{"$f":"IF( $AC20 = 0, \"\", IF( OFFSET(#REF!, $AC20 - 1,0,1,1)<>0, IF(OR($AD20=\"LUMP\", $AD20=\"LS\"), \"LUMP\", OFFSET(#REF!, $AC20 - 1,0,1,1)),\"\"))","v":""},{"$f":"IF( $AC20 = 0, \"\", IF( OFFSET(#REF!, $AC20 - 1,0,1,1)<>0, IF(OR($AD20=\"LUMP\", $AD20=\"LS\"), \"LUMP\", OFFSET(#REF!, $AC20 - 1,0,1,1)),\"\"))","v":""},{"$f":"IF( $AC20 = 0, \"\", IF( OFFSET(#REF!, $AC20 - 1,0,1,1)<>0, IF(OR($AD20=\"LUMP\", $AD20=\"LS\"), \"LUMP\", OFFSET(#REF!, $AC20 - 1,0,1,1)),\"\"))","v":""},{"$f":"IF( $AC20 = 0, \"\", IF( OFFSET(#REF!, $AC20 - 1,0,1,1)<>0, IF(OR($AD20=\"LUMP\", $AD20=\"LS\"), \"LUMP\", OFFSET(#REF!, $AC20 - 1,0,1,1)),\"\"))","v":""},{"$f":"IF( $AC20 = 0, \"\", IF( OFFSET(#REF!, $AC20 - 1,0,1,1)<>0, LEFT(OFFSET(#REF!, $AC20 - 1,0,1,1),3),\"\"))","v":""},{"$f":"IF( $AC20 = 0, \"\", IF( OFFSET(#REF!, $AC20 - 1,0,1,1)<>0, IF(LEN(OFFSET(#REF!, $AC20 - 1,0,1,1))=9,   RIGHT(OFFSET(#REF!, $AC20 - 1,0,1,1),5),    LEFT(RIGHT(OFFSET(#REF!, $AC20 - 1,0,1,1),6), 5)      ),\"\"))","v":""},"",{"$f":"IF( $AC20 = 0, \"\", IF( OFFSET(#REF!, $AC20 - 1,0,1,1)<>0,IF(OR(AD20=\"LUMP\", AD20=\"LS\"), \"\", AD20),\"\"))","v":""},{"$f":"IF( $AC20 = 0, \"\", IF( OFFSET(#REF!, $AC20 - 1,0,1,1)<>0, VLOOKUP( OFFSET(#REF!, $AC20 - 1,0,1,1),[1]Items!$A$2:$E$10001,4,0),\"\"))","v":""},null,18,3,0,{"$f":"IF( $AC20 = 0, \"\", IF( OFFSET(#REF!, $AC20 - 1,0,1,1)<>0, VLOOKUP( OFFSET(#REF!, $AC20 - 1,0,1,1),[1]Items!$A$2:$E$10001,3,0),\"\"))","v":""}]
[{"$f":"IF( $AC21 = 0, \"\", IF( OFFSET(#REF!, $AC21 - 1,0,1,1)<>0, IF(OR($AD21=\"LUMP\", $AD21=\"LS\"), \"LUMP\", OFFSET(#REF!, $AC21 - 1,0,1,1)),\"\"))","v":{"$error":"#REF!"}},{"$f":"IF( $AC21 = 0, \"\", IF( OFFSET(#REF!, $AC21 - 1,0,1,1)<>0, IF(OR($AD21=\"LUMP\", $AD21=\"LS\"), \"LUMP\", OFFSET(#REF!, $AC21 - 1,0,1,1)),\"\"))","v":{"$error":"#REF!"}},{"$f":"IF( $AC21 = 0, \"\", IF( OFFSET(#REF!, $AC21 - 1,0,1,1)<>0, IF(OR($AD21=\"LUMP\", $AD21=\"LS\"), \"LUMP\", OFFSET(#REF!, $AC21 - 1,0,1,1)),\"\"))","v":{"$error":"#REF!"}},{"$f":"IF( $AC21 = 0, \"\", IF( OFFSET(#REF!, $AC21 - 1,0,1,1)<>0, IF(OR($AD21=\"LUMP\", $AD21=\"LS\"), \"LUMP\", OFFSET(#REF!, $AC21 - 1,0,1,1)),\"\"))","v":{"$error":"#REF!"}},{"$f":"IF( $AC21 = 0, \"\", IF( OFFSET(#REF!, $AC21 - 1,0,1,1)<>0, IF(OR($AD21=\"LUMP\", $AD21=\"LS\"), \"LUMP\", OFFSET(#REF!, $AC21 - 1,0,1,1)),\"\"))","v":{"$error":"#REF!"}},{"$f":"IF( $AC21 = 0, \"\", IF( OFFSET(#REF!, $AC21 - 1,0,1,1)<>0, IF(OR($AD21=\"LUMP\", $AD21=\"LS\"), \"LUMP\", OFFSET(#REF!, $AC21 - 1,0,1,1)),\"\"))","v":{"$error":"#REF!"}},{"$f":"IF( $AC21 = 0, \"\", IF( OFFSET(#REF!, $AC21 - 1,0,1,1)<>0, IF(OR($AD21=\"LUMP\", $AD21=\"LS\"), \"LUMP\", OFFSET(#REF!, $AC21 - 1,0,1,1)),\"\"))","v":{"$error":"#REF!"}},{"$f":"IF( $AC21 = 0, \"\", IF( OFFSET(#REF!, $AC21 - 1,0,1,1)<>0, IF(OR($AD21=\"LUMP\", $AD21=\"LS\"), \"LUMP\", OFFSET(#REF!, $AC21 - 1,0,1,1)),\"\"))","v":{"$error":"#REF!"}},{"$f":"IF( $AC21 = 0, \"\", IF( OFFSET(#REF!, $AC21 - 1,0,1,1)<>0, IF(OR($AD21=\"LUMP\", $AD21=\"LS\"), \"LUMP\", OFFSET(#REF!, $AC21 - 1,0,1,1)),\"\"))","v":{"$error":"#REF!"}},{"$f":"IF( $AC21 = 0, \"\", IF( OFFSET(#REF!, $AC21 - 1,0,1,1)<>0, IF(OR($AD21=\"LUMP\", $AD21=\"LS\"), \"LUMP\", OFFSET(#REF!, $AC21 - 1,0,1,1)),\"\"))","v":{"$error":"#REF!"}},{"$f":"IF( $AC21 = 0, \"\", IF( OFFSET(#REF!, $AC21 - 1,0,1,1)<>0, IF(OR($AD21=\"LUMP\", $AD21=\"LS\"), \"LUMP\", OFFSET(#REF!, $AC21 - 1,0,1,1)),\"\"))","v":{"$error":"#REF!"}},{"$f":"IF( $AC21 = 0, \"\", IF( OFFSET(#REF!, $AC21 - 1,0,1,1)<>0, IF(OR($AD21=\"LUMP\", $AD21=\"LS\"), \"LUMP\", OFFSET(#REF!, $AC21 - 1,0,1,1)),\"\"))","v":{"$error":"#REF!"}},{"$f":"IF( $AC21 = 0, \"\", IF( OFFSET(#REF!, $AC21 - 1,0,1,1)<>0, IF(OR($AD21=\"LUMP\", $AD21=\"LS\"), \"LUMP\", OFFSET(#REF!, $AC21 - 1,0,1,1)),\"\"))","v":{"$error":"#REF!"}},{"$f":"IF( $AC21 = 0, \"\", IF( OFFSET(#REF!, $AC21 - 1,0,1,1)<>0, IF(OR($AD21=\"LUMP\", $AD21=\"LS\"), \"LUMP\", OFFSET(#REF!, $AC21 - 1,0,1,1)),\"\"))","v":{"$error":"#REF!"}},{"$f":"IF( $AC21 = 0, \"\", IF( OFFSET(#REF!, $AC21 - 1,0,1,1)<>0, IF(OR($AD21=\"LUMP\", $AD21=\"LS\"), \"LUMP\", OFFSET(#REF!, $AC21 - 1,0,1,1)),\"\"))","v":{"$error":"#REF!"}},{"$f":"IF( $AC21 = 0, \"\", IF( OFFSET(#REF!, $AC21 - 1,0,1,1)<>0, IF(OR($AD21=\"LUMP\", $AD21=\"LS\"), \"LUMP\", OFFSET(#REF!, $AC21 - 1,0,1,1)),\"\"))","v":{"$error":"#REF!"}},{"$f":"IF( $AC21 = 0, \"\", IF( OFFSET(#REF!, $AC21 - 1,0,1,1)<>0, IF(OR($AD21=\"LUMP\", $AD21=\"LS\"), \"LUMP\", OFFSET(#REF!, $AC21 - 1,0,1,1)),\"\"))","v":{"$error":"#REF!"}},{"$f":"IF( $AC21 = 0, \"\", IF( OFFSET(#REF!, $AC21 - 1,0,1,1)<>0, IF(OR($AD21=\"LUMP\", $AD21=\"LS\"), \"LUMP\", OFFSET(#REF!, $AC21 - 1,0,1,1)),\"\"))","v":{"$error":"#REF!"}},{"$f":"IF( $AC21 = 0, \"\", IF( OFFSET(#REF!, $AC21 - 1,0,1,1)<>0, IF(OR($AD21=\"LUMP\", $AD21=\"LS\"), \"LUMP\", OFFSET(#REF!, $AC21 - 1,0,1,1)),\"\"))","v":{"$error":"#REF!"}},{"$f":"IF( $AC21 = 0, \"\", IF( OFFSET(#REF!, $AC21 - 1,0,1,1)<>0, IF(OR($AD21=\"LUMP\", $AD21=\"LS\"), \"LUMP\", OFFSET(#REF!, $AC21 - 1,0,1,1)),\"\"))","v":{"$error":"#REF!"}},{"$f":"IF( $AC21 = 0, \"\", IF( OFFSET(#REF!, $AC21 - 1,0,1,1)<>0, LEFT(OFFSET(#REF!, $AC21 - 1,0,1,1),3),\"\"))","v":{"$error":"#REF!"}},{"$f":"IF( $AC21 = 0, \"\", IF( OFFSET(#REF!, $AC21 - 1,0,1,1)<>0, IF(LEN(OFFSET(#REF!, $AC21 - 1,0,1,1))=9,   RIGHT(OFFSET(#REF!, $AC21 - 1,0,1,1),5),    LEFT(RIGHT(OFFSET(#REF!, $AC21 - 1,0,1,1),6), 5)      ),\"\"))","v":{"$error":"#REF!"}},{"$error":"#REF!"},{"$f":"IF( $AC21 = 0, \"\", IF( OFFSET(#REF!, $AC21 - 1,0,1,1)<>0,IF(OR(AD21=\"LUMP\", AD21=\"LS\"), \"\", AD21),\"\"))","v":{"$error":"#REF!"}},{"$f":"IF( $AC21 = 0, \"\", IF( OFFSET(#REF!, $AC21 - 1,0,1,1)<>0, VLOOKUP( OFFSET(#REF!, $AC21 - 1,0,1,1),[1]Items!$A$2:$E$10001,4,0),\"\"))","v":{"$error":"#REF!"}},null,19,3,16,{"$f":"IF( $AC21 = 0, \"\", IF( OFFSET(#REF!, $AC21 - 1,0,1,1)<>0, VLOOKUP( OFFSET(#REF!, $AC21 - 1,0,1,1),[1]Items!$A$2:$E$10001,3,0),\"\"))","v":{"$error":"#REF!"}}]
[{"$f":"IF( $AC22 = 0, \"\", IF( OFFSET(#REF!, $AC22 - 1,0,1,1)<>0, IF(OR($AD22=\"LUMP\", $AD22=\"LS\"), \"LUMP\", OFFSET(#REF!, $AC22 - 1,0,1,1)),\"\"))","v":{"$error":"#REF!"}},{"$f":"IF( $AC22 = 0, \"\", IF( OFFSET(#REF!, $AC22 - 1,0,1,1)<>0, IF(OR($AD22=\"LUMP\", $AD22=\"LS\"), \"LUMP\", OFFSET(#REF!, $AC22 - 1,0,1,1)),\"\"))","v":{"$error":"#REF!"}},{"$f":"IF( $AC22 = 0, \"\", IF( OFFSET(#REF!, $AC22 - 1,0,1,1)<>0, IF(OR($AD22=\"LUMP\", $AD22=\"LS\"), \"LUMP\", OFFSET(#REF!, $AC22 - 1,0,1,1)),\"\"))","v":{"$error":"#REF!"}},{"$f":"IF( $AC22 = 0, \"\", IF( OFFSET(#REF!, $AC22 - 1,0,1,1)<>0, IF(OR($AD22=\"LUMP\", $AD22=\"LS\"), \"LUMP\", OFFSET(#REF!, $AC22 - 1,0,1,1)),\"\"))","v":{"$error":"#REF!"}},{"$f":"IF( $AC22 = 0, \"\", IF( OFFSET(#REF!, $AC22 - 1,0,1,1)<>0, IF(OR($AD22=\"LUMP\", $AD22=\"LS\"), \"LUMP\", OFFSET(#REF!, $AC22 - 1,0,1,1)),\"\"))","v":{"$error":"#REF!"}},{"$f":"IF( $AC22 = 0, \"\", IF( OFFSET(#REF!, $AC22 - 1,0,1,1)<>0, IF(OR($AD22=\"LUMP\", $AD22=\"LS\"), \"LUMP\", OFFSET(#REF!, $AC22 - 1,0,1,1)),\"\"))","v":{"$error":"#REF!"}},{"$f":"IF( $AC22 = 0, \"\", IF( OFFSET(#REF!, $AC22 - 1,0,1,1)<>0, IF(OR($AD22=\"LUMP\", $AD22=\"LS\"), \"LUMP\", OFFSET(#REF!, $AC22 - 1,0,1,1)),\"\"))","v":{"$error":"#REF!"}},{"$f":"IF( $AC22 = 0, \"\", IF( OFFSET(#REF!, $AC22 - 1,0,1,1)<>0, IF(OR($AD22=\"LUMP\", $AD22=\"LS\"), \"LUMP\", OFFSET(#REF!, $AC22 - 1,0,1,1)),\"\"))","v":{"$error":"#REF!"}},{"$f":"IF( $AC22 = 0, \"\", IF( OFFSET(#REF!, $AC22 - 1,0,1,1)<>0, IF(OR($AD22=\"LUMP\", $AD22=\"LS\"), \"LUMP\", OFFSET(#REF!, $AC22 - 1,0,1,1)),\"\"))","v":{"$error":"#REF!"}},{"$f":"IF( $AC22 = 0, \"\", IF( OFFSET(#REF!, $AC22 - 1,0,1,1)<>0, IF(OR($AD22=\"LUMP\", $AD22=\"LS\"), \"LUMP\", OFFSET(#REF!, $AC22 - 1,0,1,1)),\"\"))","v":{"$error":"#REF!"}},{"$f":"IF( $AC22 = 0, \"\", IF( OFFSET(#REF!, $AC22 - 1,0,1,1)<>0, IF(OR($AD22=\"LUMP\", $AD22=\"LS\"), \"LUMP\", OFFSET(#REF!, $AC22 - 1,0,1,1)),\"\"))","v":{"$error":"#REF!"}},{"$f":"IF( $AC22 = 0, \"\", IF( OFFSET(#REF!, $AC22 - 1,0,1,1)<>0, IF(OR($AD22=\"LUMP\", $AD22=\"LS\"), \"LUMP\", OFFSET(#REF!, $AC22 - 1,0,1,1)),\"\"))","v":{"$error":"#REF!"}},{"$f":"IF( $AC22 = 0, \"\", IF( OFFSET(#REF!, $AC22 - 1,0,1,1)<>0, IF(OR($AD22=\"LUMP\", $AD22=\"LS\"), \"LUMP\", OFFSET(#REF!, $AC22 - 1,0,1,1)),\"\"))","v":{"$error":"#REF!"}},{"$f":"IF( $AC22 = 0, \"\", IF( OFFSET(#REF!, $AC22 - 1,0,1,1)<>0, IF(OR($AD22=\"LUMP\", $AD22=\"LS\"), \"LUMP\", OFFSET(#REF!, $AC22 - 1,0,1,1)),\"\"))","v":{"$error":"#REF!"}},{"$f":"IF( $AC22 = 0, \"\", IF( OFFSET(#REF!, $AC22 - 1,0,1,1)<>0, IF(OR($AD22=\"LUMP\", $AD22=\"LS\"), \"LUMP\", OFFSET(#REF!, $AC22 - 1,0,1,1)),\"\"))","v":{"$error":"#REF!"}},{"$f":"IF( $AC22 = 0, \"\", IF( OFFSET(#REF!, $AC22 - 1,0,1,1)<>0, IF(OR($AD22=\"LUMP\", $AD22=\"LS\"), \"LUMP\", OFFSET(#REF!, $AC22 - 1,0,1,1)),\"\"))","v":{"$error":"#REF!"}},{"$f":"IF( $AC22 = 0, \"\", IF( OFFSET(#REF!, $AC22 - 1,0,1,1)<>0, IF(OR($AD22=\"LUMP\", $AD22=\"LS\"), \"LUMP\", OFFSET(#REF!, $AC22 - 1,0,1,1)),\"\"))","v":{"$error":"#REF!"}},{"$f":"IF( $AC22 = 0, \"\", IF( OFFSET(#REF!, $AC22 - 1,0,1,1)<>0, IF(OR($AD22=\"LUMP\", $AD22=\"LS\"), \"LUMP\", OFFSET(#REF!, $AC22 - 1,0,1,1)),\"\"))","v":{"$error":"#REF!"}},{"$f":"IF( $AC22 = 0, \"\", IF( OFFSET(#REF!, $AC22 - 1,0,1,1)<>0, IF(OR($AD22=\"LUMP\", $AD22=\"LS\"), \"LUMP\", OFFSET(#REF!, $AC22 - 1,0,1,1)),\"\"))","v":{"$error":"#REF!"}},{"$f":"IF( $AC22 = 0, \"\", IF( OFFSET(#REF!, $AC22 - 1,0,1,1)<>0, IF(OR($AD22=\"LUMP\", $AD22=\"LS\"), \"LUMP\", OFFSET(#REF!, $AC22 - 1,0,1,1)),\"\"))","v":{"$error":"#REF!"}},{"$f":"IF( $AC22 = 0, \"\", IF( OFFSET(#REF!, $AC22 - 1,0,1,1)<>0, LEFT(OFFSET(#REF!, $AC22 - 1,0,1,1),3),\"\"))","v":{"$error":"#REF!"}},{"$f":"IF( $AC22 = 0, \"\", IF( OFFSET(#REF!, $AC22 - 1,0,1,1)<>0, IF(LEN(OFFSET(#REF!, $AC22 - 1,0,1,1))=9,   RIGHT(OFFSET(#REF!, $AC22 - 1,0,1,1),5),    LEFT(RIGHT(OFFSET(#REF!, $AC22 - 1,0,1,1),6), 5)      ),\"\"))","v":{"$error":"#REF!"}},{"$error":"#REF!"},{"$f":"IF( $AC22 = 0, \"\", IF( OFFSET(#REF!, $AC22 - 1,0,1,1)<>0,IF(OR(AD22=\"LUMP\", AD22=\"LS\"), \"\", AD22),\"\"))","v":{"$error":"#REF!"}},{"$f":"IF( $AC22 = 0, \"\", IF( OFFSET(#REF!, $AC22 - 1,0,1,1)<>0, VLOOKUP( OFFSET(#REF!, $AC22 - 1,0,1,1),[1]Items!$A$2:$E$10001,4,0),\"\"))","v":{"$error":"#REF!"}},null,20,3,17,{"$f":"IF( $AC22 = 0, \"\", IF( OFFSET(#REF!, $AC22 - 1,0,1,1)<>0, VLOOKUP( OFFSET(#REF!, $AC22 - 1,0,1,1),[1]Items!$A$2:$E$10001,3,0),\"\"))","v":{"$error":"#REF!"}}]
[{"$f":"IF( $AC23 = 0, \"\", IF( OFFSET(#REF!, $AC23 - 1,0,1,1)<>0, IF(OR($AD23=\"LUMP\", $AD23=\"LS\"), \"LUMP\", OFFSET(#REF!, $AC23 - 1,0,1,1)),\"\"))","v":{"$error":"#REF!"}},{"$f":"IF( $AC23 = 0, \"\", IF( OFFSET(#REF!, $AC23 - 1,0,1,1)<>0, IF(OR($AD23=\"LUMP\", $AD23=\"LS\"), \"LUMP\", OFFSET(#REF!, $AC23 - 1,0,1,1)),\"\"))","v":{"$error":"#REF!"}},{"$f":"IF( $AC23 = 0, \"\", IF( OFFSET(#REF!, $AC23 - 1,0,1,1)<>0, IF(OR($AD23=\"LUMP\", $AD23=\"LS\"), \"LUMP\", OFFSET(#REF!, $AC23 - 1,0,1,1)),\"\"))","v":{"$error":"#REF!"}},{"$f":"IF( $AC23 = 0, \"\", IF( OFFSET(#REF!, $AC23 - 1,0,1,1)<>0, IF(OR($AD23=\"LUMP\", $AD23=\"LS\"), \"LUMP\", OFFSET(#REF!, $AC23 - 1,0,1,1)),\"\"))","v":{"$error":"#REF!"}},{"$f":"IF( $AC23 = 0, \"\", IF( OFFSET(#REF!, $AC23 - 1,0,1,1)<>0, IF(OR($AD23=\"LUMP\", $AD23=\"LS\"), \"LUMP\", OFFSET(#REF!, $AC23 - 1,0,1,1)),\"\"))","v":{"$error":"#REF!"}},{"$f":"IF( $AC23 = 0, \"\", IF( OFFSET(#REF!, $AC23 - 1,0,1,1)<>0, IF(OR($AD23=\"LUMP\", $AD23=\"LS\"), \"LUMP\", OFFSET(#REF!, $AC23 - 1,0,1,1)),\"\"))","v":{"$error":"#REF!"}},{"$f":"IF( $AC23 = 0, \"\", IF( OFFSET(#REF!, $AC23 - 1,0,1,1)<>0, IF(OR($AD23=\"LUMP\", $AD23=\"LS\"), \"LUMP\", OFFSET(#REF!, $AC23 - 1,0,1,1)),\"\"))","v":{"$error":"#REF!"}},{"$f":"IF( $AC23 = 0, \"\", IF( OFFSET(#REF!, $AC23 - 1,0,1,1)<>0, IF(OR($AD23=\"LUMP\", $AD23=\"LS\"), \"LUMP\", OFFSET(#REF!, $AC23 - 1,0,1,1)),\"\"))","v":{"$error":"#REF!"}},{"$f":"IF( $AC23 = 0, \"\", IF( OFFSET(#REF!, $AC23 - 1,0,1,1)<>0, IF(OR($AD23=\"LUMP\", $AD23=\"LS\"), \"LUMP\", OFFSET(#REF!, $AC23 - 1,0,1,1)),\"\"))","v":{"$error":"#REF!"}},{"$f":"IF( $AC23 = 0, \"\", IF( OFFSET(#REF!, $AC23 - 1,0,1,1)<>0, IF(OR($AD23=\"LUMP\", $AD23=\"LS\"), \"LUMP\", OFFSET(#REF!, $AC23 - 1,0,1,1)),\"\"))","v":{"$error":"#REF!"}},{"$f":"IF( $AC23 = 0, \"\", IF( OFFSET(#REF!, $AC23 - 1,0,1,1)<>0, IF(OR($AD23=\"LUMP\", $AD23=\"LS\"), \"LUMP\", OFFSET(#REF!, $AC23 - 1,0,1,1)),\"\"))","v":{"$error":"#REF!"}},{"$f":"IF( $AC23 = 0, \"\", IF( OFFSET(#REF!, $AC23 - 1,0,1,1)<>0, IF(OR($AD23=\"LUMP\", $AD23=\"LS\"), \"LUMP\", OFFSET(#REF!, $AC23 - 1,0,1,1)),\"\"))","v":{"$error":"#REF!"}},{"$f":"IF( $AC23 = 0, \"\", IF( OFFSET(#REF!, $AC23 - 1,0,1,1)<>0, IF(OR($AD23=\"LUMP\", $AD23=\"LS\"), \"LUMP\", OFFSET(#REF!, $AC23 - 1,0,1,1)),\"\"))","v":{"$error":"#REF!"}},{"$f":"IF( $AC23 = 0, \"\", IF( OFFSET(#REF!, $AC23 - 1,0,1,1)<>0, IF(OR($AD23=\"LUMP\", $AD23=\"LS\"), \"LUMP\", OFFSET(#REF!, $AC23 - 1,0,1,1)),\"\"))","v":{"$error":"#REF!"}},{"$f":"IF( $AC23 = 0, \"\", IF( OFFSET(#REF!, $AC23 - 1,0,1,1)<>0, IF(OR($AD23=\"LUMP\", $AD23=\"LS\"), \"LUMP\", OFFSET(#REF!, $AC23 - 1,0,1,1)),\"\"))","v":{"$error":"#REF!"}},{"$f":"IF( $AC23 = 0, \"\", IF( OFFSET(#REF!, $AC23 - 1,0,1,1)<>0, IF(OR($AD23=\"LUMP\", $AD23=\"LS\"), \"LUMP\", OFFSET(#REF!, $AC23 - 1,0,1,1)),\"\"))","v":{"$error":"#REF!"}},{"$f":"IF( $AC23 = 0, \"\", IF( OFFSET(#REF!, $AC23 - 1,0,1,1)<>0, IF(OR($AD23=\"LUMP\", $AD23=\"LS\"), \"LUMP\", OFFSET(#REF!, $AC23 - 1,0,1,1)),\"\"))","v":{"$error":"#REF!"}},{"$f":"IF( $AC23 = 0, \"\", IF( OFFSET(#REF!, $AC23 - 1,0,1,1)<>0, IF(OR($AD23=\"LUMP\", $AD23=\"LS\"), \"LUMP\", OFFSET(#REF!, $AC23 - 1,0,1,1)),\"\"))","v":{"$error":"#REF!"}},{"$f":"IF( $AC23 = 0, \"\", IF( OFFSET(#REF!, $AC23 - 1,0,1,1)<>0, IF(OR($AD23=\"LUMP\", $AD23=\"LS\"), \"LUMP\", OFFSET(#REF!, $AC23 - 1,0,1,1)),\"\"))","v":{"$error":"#REF!"}},{"$f":"IF( $AC23 = 0, \"\", IF( OFFSET(#REF!, $AC23 - 1,0,1,1)<>0, IF(OR($AD23=\"LUMP\", $AD23=\"LS\"), \"LUMP\", OFFSET(#REF!, $AC23 - 1,0,1,1)),\"\"))","v":{"$error":"#REF!"}},{"$f":"IF( $AC23 = 0, \"\", IF( OFFSET(#REF!, $AC23 - 1,0,1,1)<>0, LEFT(OFFSET(#REF!, $AC23 - 1,0,1,1),3),\"\"))","v":{"$error":"#REF!"}},{"$f":"IF( $AC23 = 0, \"\", IF( OFFSET(#REF!, $AC23 - 1,0,1,1)<>0, IF(LEN(OFFSET(#REF!, $AC23 - 1,0,1,1))=9,   RIGHT(OFFSET(#REF!, $AC23 - 1,0,1,1),5),    LEFT(RIGHT(OFFSET(#REF!, $AC23 - 1,0,1,1),6), 5)      ),\"\"))","v":{"$error":"#REF!"}},{"$error":"#REF!"},{"$f":"IF( $AC23 = 0, \"\", IF( OFFSET(#REF!, $AC23 - 1,0,1,1)<>0,IF(OR(AD23=\"LUMP\", AD23=\"LS\"), \"\", AD23),\"\"))","v":{"$error":"#REF!"}},{"$f":"IF( $AC23 = 0, \"\", IF( OFFSET(#REF!, $AC23 - 1,0,1,1)<>0, VLOOKUP( OFFSET(#REF!, $AC23 - 1,0,1,1),[1]Items!$A$2:$E$10001,4,0),\"\"))","v":{"$error":"#REF!"}},null,21,3,18,{"$f":"IF( $AC23 = 0, \"\", IF( OFFSET(#REF!, $AC23 - 1,0,1,1)<>0, VLOOKUP( OFFSET(#REF!, $AC23 - 1,0,1,1),[1]Items!$A$2:$E$10001,3,0),\"\"))","v":{"$error":"#REF!"}}]
[{"$f":"IF( $AC24 = 0, \"\", IF( OFFSET(#REF!, $AC24 - 1,0,1,1)<>0, IF(OR($AD24=\"LUMP\", $AD24=\"LS\"), \"LUMP\", OFFSET(#REF!, $AC24 - 1,0,1,1)),\"\"))","v":{"$error":"#REF!"}},{"$f":"IF( $AC24 = 0, \"\", IF( OFFSET(#REF!, $AC24 - 1,0,1,1)<>0, IF(OR($AD24=\"LUMP\", $AD24=\"LS\"), \"LUMP\", OFFSET(#REF!, $AC24 - 1,0,1,1)),\"\"))","v":{"$error":"#REF!"}},{"$f":"IF( $AC24 = 0, \"\", IF( OFFSET(#REF!, $AC24 - 1,0,1,1)<>0, IF(OR($AD24=\"LUMP\", $AD24=\"LS\"), \"LUMP\", OFFSET(#REF!, $AC24 - 1,0,1,1)),\"\"))","v":{"$error":"#REF!"}},{"$f":"IF( $AC24 = 0, \"\", IF( OFFSET(#REF!, $AC24 - 1,0,1,1)<>0, IF(OR($AD24=\"LUMP\", $AD24=\"LS\"), \"LUMP\", OFFSET(#REF!, $AC24 - 1,0,1,1)),\"\"))","v":{"$error":"#REF!"}},{"$f":"IF( $AC24 = 0, \"\", IF( OFFSET(#REF!, $AC24 - 1,0,1,1)<>0, IF(OR($AD24=\"LUMP\", $AD24=\"LS\"), \"LUMP\", OFFSET(#REF!, $AC24 - 1,0,1,1)),\"\"))","v":{"$error":"#REF!"}},{"$f":"IF( $AC24 = 0, \"\", IF( OFFSET(#REF!, $AC24 - 1,0,1,1)<>0, IF(OR($AD24=\"LUMP\", $AD24=\"LS\"), \"LUMP\", OFFSET(#REF!, $AC24 - 1,0,1,1)),\"\"))","v":{"$error":"#REF!"}},{"$f":"IF( $AC24 = 0, \"\", IF( OFFSET(#REF!, $AC24 - 1,0,1,1)<>0, IF(OR($AD24=\"LUMP\", $AD24=\"LS\"), \"LUMP\", OFFSET(#REF!, $AC24 - 1,0,1,1)),\"\"))","v":{"$error":"#REF!"}},{"$f":"IF( $AC24 = 0, \"\", IF( OFFSET(#REF!, $AC24 - 1,0,1,1)<>0, IF(OR($AD24=\"LUMP\", $AD24=\"LS\"), \"LUMP\", OFFSET(#REF!, $AC24 - 1,0,1,1)),\"\"))","v":{"$error":"#REF!"}},{"$f":"IF( $AC24 = 0, \"\", IF( OFFSET(#REF!, $AC24 - 1,0,1,1)<>0, IF(OR($AD24=\"LUMP\", $AD24=\"LS\"), \"LUMP\", OFFSET(#REF!, $AC24 - 1,0,1,1)),\"\"))","v":{"$error":"#REF!"}},{"$f":"IF( $AC24 = 0, \"\", IF( OFFSET(#REF!, $AC24 - 1,0,1,1)<>0, IF(OR($AD24=\"LUMP\", $AD24=\"LS\"), \"LUMP\", OFFSET(#REF!, $AC24 - 1,0,1,1)),\"\"))","v":{"$error":"#REF!"}},{"$f":"IF( $AC24 = 0, \"\", IF( OFFSET(#REF!, $AC24 - 1,0,1,1)<>0, IF(OR($AD24=\"LUMP\", $AD24=\"LS\"), \"LUMP\", OFFSET(#REF!, $AC24 - 1,0,1,1)),\"\"))","v":{"$error":"#REF!"}},{"$f":"IF( $AC24 = 0, \"\", IF( OFFSET(#REF!, $AC24 - 1,0,1,1)<>0, IF(OR($AD24=\"LUMP\", $AD24=\"LS\"), \"LUMP\", OFFSET(#REF!, $AC24 - 1,0,1,1)),\"\"))","v":{"$error":"#REF!"}},{"$f":"IF( $AC24 = 0, \"\", IF( OFFSET(#REF!, $AC24 - 1,0,1,1)<>0, IF(OR($AD24=\"LUMP\", $AD24=\"LS\"), \"LUMP\", OFFSET(#REF!, $AC24 - 1,0,1,1)),\"\"))","v":{"$error":"#REF!"}},{"$f":"IF( $AC24 = 0, \"\", IF( OFFSET(#REF!, $AC24 - 1,0,1,1)<>0, IF(OR($AD24=\"LUMP\", $AD24=\"LS\"), \"LUMP\", OFFSET(#REF!, $AC24 - 1,0,1,1)),\"\"))","v":{"$error":"#REF!"}},{"$f":"IF( $AC24 = 0, \"\", IF( OFFSET(#REF!, $AC24 - 1,0,1,1)<>0, IF(OR($AD24=\"LUMP\", $AD24=\"LS\"), \"LUMP\", OFFSET(#REF!, $AC24 - 1,0,1,1)),\"\"))","v":{"$error":"#REF!"}},{"$f":"IF( $AC24 = 0, \"\", IF( OFFSET(#REF!, $AC24 - 1,0,1,1)<>0, IF(OR($AD24=\"LUMP\", $AD24=\"LS\"), \"LUMP\", OFFSET(#REF!, $AC24 - 1,0,1,1)),\"\"))","v":{"$error":"#REF!"}},{"$f":"IF( $AC24 = 0, \"\", IF( OFFSET(#REF!, $AC24 - 1,0,1,1)<>0, IF(OR($AD24=\"LUMP\", $AD24=\"LS\"), \"LUMP\", OFFSET(#REF!, $AC24 - 1,0,1,1)),\"\"))","v":{"$error":"#REF!"}},{"$f":"IF( $AC24 = 0, \"\", IF( OFFSET(#REF!, $AC24 - 1,0,1,1)<>0, IF(OR($AD24=\"LUMP\", $AD24=\"LS\"), \"LUMP\", OFFSET(#REF!, $AC24 - 1,0,1,1)),\"\"))","v":{"$error":"#REF!"}},{"$f":"IF( $AC24 = 0, \"\", IF( OFFSET(#REF!, $AC24 - 1,0,1,1)<>0, IF(OR($AD24=\"LUMP\", $AD24=\"LS\"), \"LUMP\", OFFSET(#REF!, $AC24 - 1,0,1,1)),\"\"))","v":{"$error":"#REF!"}},{"$f":"IF( $AC24 = 0, \"\", IF( OFFSET(#REF!, $AC24 - 1,0,1,1)<>0, IF(OR($AD24=\"LUMP\", $AD24=\"LS\"), \"LUMP\", OFFSET(#REF!, $AC24 - 1,0,1,1)),\"\"))","v":{"$error":"#REF!"}},{"$f":"IF( $AC24 = 0, \"\", IF( OFFSET(#REF!, $AC24 - 1,0,1,1)<>0, LEFT(OFFSET(#REF!, $AC24 - 1,0,1,1),3),\"\"))","v":{"$error":"#REF!"}},{"$f":"IF( $AC24 = 0, \"\", IF( OFFSET(#REF!, $AC24 - 1,0,1,1)<>0, IF(LEN(OFFSET(#REF!, $AC24 - 1,0,1,1))=9,   RIGHT(OFFSET(#REF!, $AC24 - 1,0,1,1),5),    LEFT(RIGHT(OFFSET(#REF!, $AC24 - 1,0,1,1),6), 5)      ),\"\"))","v":{"$error":"#REF!"}},{"$error":"#REF!"},{"$f":"IF( $AC24 = 0, \"\", IF( OFFSET(#REF!, $AC24 - 1,0,1,1)<>0,IF(OR(AD24=\"LUMP\", AD24=\"LS\"), \"\", AD24),\"\"))","v":{"$error":"#REF!"}},{"$f":"IF( $AC24 = 0, \"\", IF( OFFSET(#REF!, $AC24 - 1,0,1,1)<>0, VLOOKUP( OFFSET(#REF!, $AC24 - 1,0,1,1),[1]Items!$A$2:$E$10001,4,0),\"\"))","v":{"$error":"#REF!"}},null,22,3,19,{"$f":"IF( $AC24 = 0, \"\", IF( OFFSET(#REF!, $AC24 - 1,0,1,1)<>0, VLOOKUP( OFFSET(#REF!, $AC24 - 1,0,1,1),[1]Items!$A$2:$E$10001,3,0),\"\"))","v":{"$error":"#REF!"}}]
[{"$f":"IF( $AC25 = 0, \"\", IF( OFFSET(#REF!, $AC25 - 1,0,1,1)<>0, IF(OR($AD25=\"LUMP\", $AD25=\"LS\"), \"LUMP\", OFFSET(#REF!, $AC25 - 1,0,1,1)),\"\"))","v":{"$error":"#REF!"}},{"$f":"IF( $AC25 = 0, \"\", IF( OFFSET(#REF!, $AC25 - 1,0,1,1)<>0, IF(OR($AD25=\"LUMP\", $AD25=\"LS\"), \"LUMP\", OFFSET(#REF!, $AC25 - 1,0,1,1)),\"\"))","v":{"$error":"#REF!"}},{"$f":"IF( $AC25 = 0, \"\", IF( OFFSET(#REF!, $AC25 - 1,0,1,1)<>0, IF(OR($AD25=\"LUMP\", $AD25=\"LS\"), \"LUMP\", OFFSET(#REF!, $AC25 - 1,0,1,1)),\"\"))","v":{"$error":"#REF!"}},{"$f":"IF( $AC25 = 0, \"\", IF( OFFSET(#REF!, $AC25 - 1,0,1,1)<>0, IF(OR($AD25=\"LUMP\", $AD25=\"LS\"), \"LUMP\", OFFSET(#REF!, $AC25 - 1,0,1,1)),\"\"))","v":{"$error":"#REF!"}},{"$f":"IF( $AC25 = 0, \"\", IF( OFFSET(#REF!, $AC25 - 1,0,1,1)<>0, IF(OR($AD25=\"LUMP\", $AD25=\"LS\"), \"LUMP\", OFFSET(#REF!, $AC25 - 1,0,1,1)),\"\"))","v":{"$error":"#REF!"}},{"$f":"IF( $AC25 = 0, \"\", IF( OFFSET(#REF!, $AC25 - 1,0,1,1)<>0, IF(OR($AD25=\"LUMP\", $AD25=\"LS\"), \"LUMP\", OFFSET(#REF!, $AC25 - 1,0,1,1)),\"\"))","v":{"$error":"#REF!"}},{"$f":"IF( $AC25 = 0, \"\", IF( OFFSET(#REF!, $AC25 - 1,0,1,1)<>0, IF(OR($AD25=\"LUMP\", $AD25=\"LS\"), \"LUMP\", OFFSET(#REF!, $AC25 - 1,0,1,1)),\"\"))","v":{"$error":"#REF!"}},{"$f":"IF( $AC25 = 0, \"\", IF( OFFSET(#REF!, $AC25 - 1,0,1,1)<>0, IF(OR($AD25=\"LUMP\", $AD25=\"LS\"), \"LUMP\", OFFSET(#REF!, $AC25 - 1,0,1,1)),\"\"))","v":{"$error":"#REF!"}},{"$f":"IF( $AC25 = 0, \"\", IF( OFFSET(#REF!, $AC25 - 1,0,1,1)<>0, IF(OR($AD25=\"LUMP\", $AD25=\"LS\"), \"LUMP\", OFFSET(#REF!, $AC25 - 1,0,1,1)),\"\"))","v":{"$error":"#REF!"}},{"$f":"IF( $AC25 = 0, \"\", IF( OFFSET(#REF!, $AC25 - 1,0,1,1)<>0, IF(OR($AD25=\"LUMP\", $AD25=\"LS\"), \"LUMP\", OFFSET(#REF!, $AC25 - 1,0,1,1)),\"\"))","v":{"$error":"#REF!"}},{"$f":"IF( $AC25 = 0, \"\", IF( OFFSET(#REF!, $AC25 - 1,0,1,1)<>0, IF(OR($AD25=\"LUMP\", $AD25=\"LS\"), \"LUMP\", OFFSET(#REF!, $AC25 - 1,0,1,1)),\"\"))","v":{"$error":"#REF!"}},{"$f":"IF( $AC25 = 0, \"\", IF( OFFSET(#REF!, $AC25 - 1,0,1,1)<>0, IF(OR($AD25=\"LUMP\", $AD25=\"LS\"), \"LUMP\", OFFSET(#REF!, $AC25 - 1,0,1,1)),\"\"))","v":{"$error":"#REF!"}},{"$f":"IF( $AC25 = 0, \"\", IF( OFFSET(#REF!, $AC25 - 1,0,1,1)<>0, IF(OR($AD25=\"LUMP\", $AD25=\"LS\"), \"LUMP\", OFFSET(#REF!, $AC25 - 1,0,1,1)),\"\"))","v":{"$error":"#REF!"}},{"$f":"IF( $AC25 = 0, \"\", IF( OFFSET(#REF!, $AC25 - 1,0,1,1)<>0, IF(OR($AD25=\"LUMP\", $AD25=\"LS\"), \"LUMP\", OFFSET(#REF!, $AC25 - 1,0,1,1)),\"\"))","v":{"$error":"#REF!"}},{"$f":"IF( $AC25 = 0, \"\", IF( OFFSET(#REF!, $AC25 - 1,0,1,1)<>0, IF(OR($AD25=\"LUMP\", $AD25=\"LS\"), \"LUMP\", OFFSET(#REF!, $AC25 - 1,0,1,1)),\"\"))","v":{"$error":"#REF!"}},{"$f":"IF( $AC25 = 0, \"\", IF( OFFSET(#REF!, $AC25 - 1,0,1,1)<>0, IF(OR($AD25=\"LUMP\", $AD25=\"LS\"), \"LUMP\", OFFSET(#REF!, $AC25 - 1,0,1,1)),\"\"))","v":{"$error":"#REF!"}},{"$f":"IF( $AC25 = 0, \"\", IF( OFFSET(#REF!, $AC25 - 1,0,1,1)<>0, IF(OR($AD25=\"LUMP\", $AD25=\"LS\"), \"LUMP\", OFFSET(#REF!, $AC25 - 1,0,1,1)),\"\"))","v":{"$error":"#REF!"}},{"$f":"IF( $AC25 = 0, \"\", IF( OFFSET(#REF!, $AC25 - 1,0,1,1)<>0, IF(OR($AD25=\"LUMP\", $AD25=\"LS\"), \"LUMP\", OFFSET(#REF!, $AC25 - 1,0,1,1)),\"\"))","v":{"$error":"#REF!"}},{"$f":"IF( $AC25 = 0, \"\", IF( OFFSET(#REF!, $AC25 - 1,0,1,1)<>0, IF(OR($AD25=\"LUMP\", $AD25=\"LS\"), \"LUMP\", OFFSET(#REF!, $AC25 - 1,0,1,1)),\"\"))","v":{"$error":"#REF!"}},{"$f":"IF( $AC25 = 0, \"\", IF( OFFSET(#REF!, $AC25 - 1,0,1,1)<>0, IF(OR($AD25=\"LUMP\", $AD25=\"LS\"), \"LUMP\", OFFSET(#REF!, $AC25 - 1,0,1,1)),\"\"))","v":{"$error":"#REF!"}},{"$f":"IF( $AC25 = 0, \"\", IF( OFFSET(#REF!, $AC25 - 1,0,1,1)<>0, LEFT(OFFSET(#REF!, $AC25 - 1,0,1,1),3),\"\"))","v":{"$error":"#REF!"}},{"$f":"IF( $AC25 = 0, \"\", IF( OFFSET(#REF!, $AC25 - 1,0,1,1)<>0, IF(LEN(OFFSET(#REF!, $AC25 - 1,0,1,1))=9,   RIGHT(OFFSET(#REF!, $AC25 - 1,0,1,1),5),    LEFT(RIGHT(OFFSET(#REF!, $AC25 - 1,0,1,1),6), 5)      ),\"\"))","v":{"$error":"#REF!"}},{"$error":"#REF!"},{"$f":"IF( $AC25 = 0, \"\", IF( OFFSET(#REF!, $AC25 - 1,0,1,1)<>0,IF(OR(AD25=\"LUMP\", AD25=\"LS\"), \"\", AD25),\"\"))","v":{"$error":"#REF!"}},{"$f":"IF( $AC25 = 0, \"\", IF( OFFSET(#REF!, $AC25 - 1,0,1,1)<>0, VLOOKUP( OFFSET(#REF!, $AC25 - 1,0,1,1),[1]Items!$A$2:$E$10001,4,0),\"\"))","v":{"$error":"#REF!"}},null,23,3,20,{"$f":"IF( $AC25 = 0, \"\", IF( OFFSET(#REF!, $AC25 - 1,0,1,1)<>0, VLOOKUP( OFFSET(#REF!, $AC25 - 1,0,1,1),[1]Items!$A$2:$E$10001,3,0),\"\"))","v":{"$error":"#REF!"}}]
[{"$f":"IF( $AC26 = 0, \"\", IF( OFFSET(#REF!, $AC26 - 1,0,1,1)<>0, IF(OR($AD26=\"LUMP\", $AD26=\"LS\"), \"LUMP\", OFFSET(#REF!, $AC26 - 1,0,1,1)),\"\"))","v":""},{"$f":"IF( $AC26 = 0, \"\", IF( OFFSET(#REF!, $AC26 - 1,0,1,1)<>0, IF(OR($AD26=\"LUMP\", $AD26=\"LS\"), \"LUMP\", OFFSET(#REF!, $AC26 - 1,0,1,1)),\"\"))","v":""},{"$f":"IF( $AC26 = 0, \"\", IF( OFFSET(#REF!, $AC26 - 1,0,1,1)<>0, IF(OR($AD26=\"LUMP\", $AD26=\"LS\"), \"LUMP\", OFFSET(#REF!, $AC26 - 1,0,1,1)),\"\"))","v":""},{"$f":"IF( $AC26 = 0, \"\", IF( OFFSET(#REF!, $AC26 - 1,0,1,1)<>0, IF(OR($AD26=\"LUMP\", $AD26=\"LS\"), \"LUMP\", OFFSET(#REF!, $AC26 - 1,0,1,1)),\"\"))","v":""},{"$f":"IF( $AC26 = 0, \"\", IF( OFFSET(#REF!, $AC26 - 1,0,1,1)<>0, IF(OR($AD26=\"LUMP\", $AD26=\"LS\"), \"LUMP\", OFFSET(#REF!, $AC26 - 1,0,1,1)),\"\"))","v":""},{"$f":"IF( $AC26 = 0, \"\", IF( OFFSET(#REF!, $AC26 - 1,0,1,1)<>0, IF(OR($AD26=\"LUMP\", $AD26=\"LS\"), \"LUMP\", OFFSET(#REF!, $AC26 - 1,0,1,1)),\"\"))","v":""},{"$f":"IF( $AC26 = 0, \"\", IF( OFFSET(#REF!, $AC26 - 1,0,1,1)<>0, IF(OR($AD26=\"LUMP\", $AD26=\"LS\"), \"LUMP\", OFFSET(#REF!, $AC26 - 1,0,1,1)),\"\"))","v":""},{"$f":"IF( $AC26 = 0, \"\", IF( OFFSET(#REF!, $AC26 - 1,0,1,1)<>0, IF(OR($AD26=\"LUMP\", $AD26=\"LS\"), \"LUMP\", OFFSET(#REF!, $AC26 - 1,0,1,1)),\"\"))","v":""},{"$f":"IF( $AC26 = 0, \"\", IF( OFFSET(#REF!, $AC26 - 1,0,1,1)<>0, IF(OR($AD26=\"LUMP\", $AD26=\"LS\"), \"LUMP\", OFFSET(#REF!, $AC26 - 1,0,1,1)),\"\"))","v":""},{"$f":"IF( $AC26 = 0, \"\", IF( OFFSET(#REF!, $AC26 - 1,0,1,1)<>0, IF(OR($AD26=\"LUMP\", $AD26=\"LS\"), \"LUMP\", OFFSET(#REF!, $AC26 - 1,0,1,1)),\"\"))","v":""},{"$f":"IF( $AC26 = 0, \"\", IF( OFFSET(#REF!, $AC26 - 1,0,1,1)<>0, IF(OR($AD26=\"LUMP\", $AD26=\"LS\"), \"LUMP\", OFFSET(#REF!, $AC26 - 1,0,1,1)),\"\"))","v":""},{"$f":"IF( $AC26 = 0, \"\", IF( OFFSET(#REF!, $AC26 - 1,0,1,1)<>0, IF(OR($AD26=\"LUMP\", $AD26=\"LS\"), \"LUMP\", OFFSET(#REF!, $AC26 - 1,0,1,1)),\"\"))","v":""},{"$f":"IF( $AC26 = 0, \"\", IF( OFFSET(#REF!, $AC26 - 1,0,1,1)<>0, IF(OR($AD26=\"LUMP\", $AD26=\"LS\"), \"LUMP\", OFFSET(#REF!, $AC26 - 1,0,1,1)),\"\"))","v":""},{"$f":"IF( $AC26 = 0, \"\", IF( OFFSET(#REF!, $AC26 - 1,0,1,1)<>0, IF(OR($AD26=\"LUMP\", $AD26=\"LS\"), \"LUMP\", OFFSET(#REF!, $AC26 - 1,0,1,1)),\"\"))","v":""},{"$f":"IF( $AC26 = 0, \"\", IF( OFFSET(#REF!, $AC26 - 1,0,1,1)<>0, IF(OR($AD26=\"LUMP\", $AD26=\"LS\"), \"LUMP\", OFFSET(#REF!, $AC26 - 1,0,1,1)),\"\"))","v":""},{"$f":"IF( $AC26 = 0, \"\", IF( OFFSET(#REF!, $AC26 - 1,0,1,1)<>0, IF(OR($AD26=\"LUMP\", $AD26=\"LS\"), \"LUMP\", OFFSET(#REF!, $AC26 - 1,0,1,1)),\"\"))","v":""},{"$f":"IF( $AC26 = 0, \"\", IF( OFFSET(#REF!, $AC26 - 1,0,1,1)<>0, IF(OR($AD26=\"LUMP\", $AD26=\"LS\"), \"LUMP\", OFFSET(#REF!, $AC26 - 1,0,1,1)),\"\"))","v":""},{"$f":"IF( $AC26 = 0, \"\", IF( OFFSET(#REF!, $AC26 - 1,0,1,1)<>0, IF(OR($AD26=\"LUMP\", $AD26=\"LS\"), \"LUMP\", OFFSET(#REF!, $AC26 - 1,0,1,1)),\"\"))","v":""},{"$f":"IF( $AC26 = 0, \"\", IF( OFFSET(#REF!, $AC26 - 1,0,1,1)<>0, IF(OR($AD26=\"LUMP\", $AD26=\"LS\"), \"LUMP\", OFFSET(#REF!, $AC26 - 1,0,1,1)),\"\"))","v":""},{"$f":"IF( $AC26 = 0, \"\", IF( OFFSET(#REF!, $AC26 - 1,0,1,1)<>0, IF(OR($AD26=\"LUMP\", $AD26=\"LS\"), \"LUMP\", OFFSET(#REF!, $AC26 - 1,0,1,1)),\"\"))","v":""},{"$f":"IF( $AC26 = 0, \"\", IF( OFFSET(#REF!, $AC26 - 1,0,1,1)<>0, LEFT(OFFSET(#REF!, $AC26 - 1,0,1,1),3),\"\"))","v":""},{"$f":"IF( $AC26 = 0, \"\", IF( OFFSET(#REF!, $AC26 - 1,0,1,1)<>0, IF(LEN(OFFSET(#REF!, $AC26 - 1,0,1,1))=9,   RIGHT(OFFSET(#REF!, $AC26 - 1,0,1,1),5),    LEFT(RIGHT(OFFSET(#REF!, $AC26 - 1,0,1,1),6), 5)      ),\"\"))","v":""},"",{"$f":"IF( $AC26 = 0, \"\", IF( OFFSET(#REF!, $AC26 - 1,0,1,1)<>0,IF(OR(AD26=\"LUMP\", AD26=\"LS\"), \"\", AD26),\"\"))","v":""},{"$f":"IF( $AC26 = 0, \"\", IF( OFFSET(#REF!, $AC26 - 1,0,1,1)<>0, VLOOKUP( OFFSET(#REF!, $AC26 - 1,0,1,1),[1]Items!$A$2:$E$10001,4,0),\"\"))","v":""},null,24,4,0,{"$f":"IF( $AC26 = 0, \"\", IF( OFFSET(#REF!, $AC26 - 1,0,1,1)<>0, VLOOKUP( OFFSET(#REF!, $AC26 - 1,0,1,1),[1]Items!$A$2:$E$10001,3,0),\"\"))","v":""}]
[{"$f":"IF( $AC27 = 0, \"\", IF( OFFSET(#REF!, $AC27 - 1,0,1,1)<>0, IF(OR($AD27=\"LUMP\", $AD27=\"LS\"), \"LUMP\", OFFSET(#REF!, $AC27 - 1,0,1,1)),\"\"))","v":{"$error":"#REF!"}},{"$f":"IF( $AC27 = 0, \"\", IF( OFFSET(#REF!, $AC27 - 1,0,1,1)<>0, IF(OR($AD27=\"LUMP\", $AD27=\"LS\"), \"LUMP\", OFFSET(#REF!, $AC27 - 1,0,1,1)),\"\"))","v":{"$error":"#REF!"}},{"$f":"IF( $AC27 = 0, \"\", IF( OFFSET(#REF!, $AC27 - 1,0,1,1)<>0, IF(OR($AD27=\"LUMP\", $AD27=\"LS\"), \"LUMP\", OFFSET(#REF!, $AC27 - 1,0,1,1)),\"\"))","v":{"$error":"#REF!"}},{"$f":"IF( $AC27 = 0, \"\", IF( OFFSET(#REF!, $AC27 - 1,0,1,1)<>0, IF(OR($AD27=\"LUMP\", $AD27=\"LS\"), \"LUMP\", OFFSET(#REF!, $AC27 - 1,0,1,1)),\"\"))","v":{"$error":"#REF!"}},{"$f":"IF( $AC27 = 0, \"\", IF( OFFSET(#REF!, $AC27 - 1,0,1,1)<>0, IF(OR($AD27=\"LUMP\", $AD27=\"LS\"), \"LUMP\", OFFSET(#REF!, $AC27 - 1,0,1,1)),\"\"))","v":{"$error":"#REF!"}},{"$f":"IF( $AC27 = 0, \"\", IF( OFFSET(#REF!, $AC27 - 1,0,1,1)<>0, IF(OR($AD27=\"LUMP\", $AD27=\"LS\"), \"LUMP\", OFFSET(#REF!, $AC27 - 1,0,1,1)),\"\"))","v":{"$error":"#REF!"}},{"$f":"IF( $AC27 = 0, \"\", IF( OFFSET(#REF!, $AC27 - 1,0,1,1)<>0, IF(OR($AD27=\"LUMP\", $AD27=\"LS\"), \"LUMP\", OFFSET(#REF!, $AC27 - 1,0,1,1)),\"\"))","v":{"$error":"#REF!"}},{"$f":"IF( $AC27 = 0, \"\", IF( OFFSET(#REF!, $AC27 - 1,0,1,1)<>0, IF(OR($AD27=\"LUMP\", $AD27=\"LS\"), \"LUMP\", OFFSET(#REF!, $AC27 - 1,0,1,1)),\"\"))","v":{"$error":"#REF!"}},{"$f":"IF( $AC27 = 0, \"\", IF( OFFSET(#REF!, $AC27 - 1,0,1,1)<>0, IF(OR($AD27=\"LUMP\", $AD27=\"LS\"), \"LUMP\", OFFSET(#REF!, $AC27 - 1,0,1,1)),\"\"))","v":{"$error":"#REF!"}},{"$f":"IF( $AC27 = 0, \"\", IF( OFFSET(#REF!, $AC27 - 1,0,1,1)<>0, IF(OR($AD27=\"LUMP\", $AD27=\"LS\"), \"LUMP\", OFFSET(#REF!, $AC27 - 1,0,1,1)),\"\"))","v":{"$error":"#REF!"}},{"$f":"IF( $AC27 = 0, \"\", IF( OFFSET(#REF!, $AC27 - 1,0,1,1)<>0, IF(OR($AD27=\"LUMP\", $AD27=\"LS\"), \"LUMP\", OFFSET(#REF!, $AC27 - 1,0,1,1)),\"\"))","v":{"$error":"#REF!"}},{"$f":"IF( $AC27 = 0, \"\", IF( OFFSET(#REF!, $AC27 - 1,0,1,1)<>0, IF(OR($AD27=\"LUMP\", $AD27=\"LS\"), \"LUMP\", OFFSET(#REF!, $AC27 - 1,0,1,1)),\"\"))","v":{"$error":"#REF!"}},{"$f":"IF( $AC27 = 0, \"\", IF( OFFSET(#REF!, $AC27 - 1,0,1,1)<>0, IF(OR($AD27=\"LUMP\", $AD27=\"LS\"), \"LUMP\", OFFSET(#REF!, $AC27 - 1,0,1,1)),\"\"))","v":{"$error":"#REF!"}},{"$f":"IF( $AC27 = 0, \"\", IF( OFFSET(#REF!, $AC27 - 1,0,1,1)<>0, IF(OR($AD27=\"LUMP\", $AD27=\"LS\"), \"LUMP\", OFFSET(#REF!, $AC27 - 1,0,1,1)),\"\"))","v":{"$error":"#REF!"}},{"$f":"IF( $AC27 = 0, \"\", IF( OFFSET(#REF!, $AC27 - 1,0,1,1)<>0, IF(OR($AD27=\"LUMP\", $AD27=\"LS\"), \"LUMP\", OFFSET(#REF!, $AC27 - 1,0,1,1)),\"\"))","v":{"$error":"#REF!"}},{"$f":"IF( $AC27 = 0, \"\", IF( OFFSET(#REF!, $AC27 - 1,0,1,1)<>0, IF(OR($AD27=\"LUMP\", $AD27=\"LS\"), \"LUMP\", OFFSET(#REF!, $AC27 - 1,0,1,1)),\"\"))","v":{"$error":"#REF!"}},{"$f":"IF( $AC27 = 0, \"\", IF( OFFSET(#REF!, $AC27 - 1,0,1,1)<>0, IF(OR($AD27=\"LUMP\", $AD27=\"LS\"), \"LUMP\", OFFSET(#REF!, $AC27 - 1,0,1,1)),\"\"))","v":{"$error":"#REF!"}},{"$f":"IF( $AC27 = 0, \"\", IF( OFFSET(#REF!, $AC27 - 1,0,1,1)<>0, IF(OR($AD27=\"LUMP\", $AD27=\"LS\"), \"LUMP\", OFFSET(#REF!, $AC27 - 1,0,1,1)),\"\"))","v":{"$error":"#REF!"}},{"$f":"IF( $AC27 = 0, \"\", IF( OFFSET(#REF!, $AC27 - 1,0,1,1)<>0, IF(OR($AD27=\"LUMP\", $AD27=\"LS\"), \"LUMP\", OFFSET(#REF!, $AC27 - 1,0,1,1)),\"\"))","v":{"$error":"#REF!"}},{"$f":"IF( $AC27 = 0, \"\", IF( OFFSET(#REF!, $AC27 - 1,0,1,1)<>0, IF(OR($AD27=\"LUMP\", $AD27=\"LS\"), \"LUMP\", OFFSET(#REF!, $AC27 - 1,0,1,1)),\"\"))","v":{"$error":"#REF!"}},{"$f":"IF( $AC27 = 0, \"\", IF( OFFSET(#REF!, $AC27 - 1,0,1,1)<>0, LEFT(OFFSET(#REF!, $AC27 - 1,0,1,1),3),\"\"))","v":{"$error":"#REF!"}},{"$f":"IF( $AC27 = 0, \"\", IF( OFFSET(#REF!, $AC27 - 1,0,1,1)<>0, IF(LEN(OFFSET(#REF!, $AC27 - 1,0,1,1))=9,   RIGHT(OFFSET(#REF!, $AC27 - 1,0,1,1),5),    LEFT(RIGHT(OFFSET(#REF!, $AC27 - 1,0,1,1),6), 5)      ),\"\"))","v":{"$error":"#REF!"}},{"$error":"#REF!"},{"$f":"IF( $AC27 = 0, \"\", IF( OFFSET(#REF!, $AC27 - 1,0,1,1)<>0,IF(OR(AD27=\"LUMP\", AD27=\"LS\"), \"\", AD27),\"\"))","v":{"$error":"#REF!"}},{"$f":"IF( $AC27 = 0, \"\", IF( OFFSET(#REF!, $AC27 - 1,0,1,1)<>0, VLOOKUP( OFFSET(#REF!, $AC27 - 1,0,1,1),[1]Items!$A$2:$E$10001,4,0),\"\"))","v":{"$error":"#REF!"}},null,25,4,21,{"$f":"IF( $AC27 = 0, \"\", IF( OFFSET(#REF!, $AC27 - 1,0,1,1)<>0, VLOOKUP( OFFSET(#REF!, $AC27 - 1,0,1,1),[1]Items!$A$2:$E$10001,3,0),\"\"))","v":{"$error":"#REF!"}}]
[{"$f":"IF( $AC28 = 0, \"\", IF( OFFSET(#REF!, $AC28 - 1,0,1,1)<>0, IF(OR($AD28=\"LUMP\", $AD28=\"LS\"), \"LUMP\", OFFSET(#REF!, $AC28 - 1,0,1,1)),\"\"))","v":{"$error":"#REF!"}},{"$f":"IF( $AC28 = 0, \"\", IF( OFFSET(#REF!, $AC28 - 1,0,1,1)<>0, IF(OR($AD28=\"LUMP\", $AD28=\"LS\"), \"LUMP\", OFFSET(#REF!, $AC28 - 1,0,1,1)),\"\"))","v":{"$error":"#REF!"}},{"$f":"IF( $AC28 = 0, \"\", IF( OFFSET(#REF!, $AC28 - 1,0,1,1)<>0, IF(OR($AD28=\"LUMP\", $AD28=\"LS\"), \"LUMP\", OFFSET(#REF!, $AC28 - 1,0,1,1)),\"\"))","v":{"$error":"#REF!"}},{"$f":"IF( $AC28 = 0, \"\", IF( OFFSET(#REF!, $AC28 - 1,0,1,1)<>0, IF(OR($AD28=\"LUMP\", $AD28=\"LS\"), \"LUMP\", OFFSET(#REF!, $AC28 - 1,0,1,1)),\"\"))","v":{"$error":"#REF!"}},{"$f":"IF( $AC28 = 0, \"\", IF( OFFSET(#REF!, $AC28 - 1,0,1,1)<>0, IF(OR($AD28=\"LUMP\", $AD28=\"LS\"), \"LUMP\", OFFSET(#REF!, $AC28 - 1,0,1,1)),\"\"))","v":{"$error":"#REF!"}},{"$f":"IF( $AC28 = 0, \"\", IF( OFFSET(#REF!, $AC28 - 1,0,1,1)<>0, IF(OR($AD28=\"LUMP\", $AD28=\"LS\"), \"LUMP\", OFFSET(#REF!, $AC28 - 1,0,1,1)),\"\"))","v":{"$error":"#REF!"}},{"$f":"IF( $AC28 = 0, \"\", IF( OFFSET(#REF!, $AC28 - 1,0,1,1)<>0, IF(OR($AD28=\"LUMP\", $AD28=\"LS\"), \"LUMP\", OFFSET(#REF!, $AC28 - 1,0,1,1)),\"\"))","v":{"$error":"#REF!"}},{"$f":"IF( $AC28 = 0, \"\", IF( OFFSET(#REF!, $AC28 - 1,0,1,1)<>0, IF(OR($AD28=\"LUMP\", $AD28=\"LS\"), \"LUMP\", OFFSET(#REF!, $AC28 - 1,0,1,1)),\"\"))","v":{"$error":"#REF!"}},{"$f":"IF( $AC28 = 0, \"\", IF( OFFSET(#REF!, $AC28 - 1,0,1,1)<>0, IF(OR($AD28=\"LUMP\", $AD28=\"LS\"), \"LUMP\", OFFSET(#REF!, $AC28 - 1,0,1,1)),\"\"))","v":{"$error":"#REF!"}},{"$f":"IF( $AC28 = 0, \"\", IF( OFFSET(#REF!, $AC28 - 1,0,1,1)<>0, IF(OR($AD28=\"LUMP\", $AD28=\"LS\"), \"LUMP\", OFFSET(#REF!, $AC28 - 1,0,1,1)),\"\"))","v":{"$error":"#REF!"}},{"$f":"IF( $AC28 = 0, \"\", IF( OFFSET(#REF!, $AC28 - 1,0,1,1)<>0, IF(OR($AD28=\"LUMP\", $AD28=\"LS\"), \"LUMP\", OFFSET(#REF!, $AC28 - 1,0,1,1)),\"\"))","v":{"$error":"#REF!"}},{"$f":"IF( $AC28 = 0, \"\", IF( OFFSET(#REF!, $AC28 - 1,0,1,1)<>0, IF(OR($AD28=\"LUMP\", $AD28=\"LS\"), \"LUMP\", OFFSET(#REF!, $AC28 - 1,0,1,1)),\"\"))","v":{"$error":"#REF!"}},{"$f":"IF( $AC28 = 0, \"\", IF( OFFSET(#REF!, $AC28 - 1,0,1,1)<>0, IF(OR($AD28=\"LUMP\", $AD28=\"LS\"), \"LUMP\", OFFSET(#REF!, $AC28 - 1,0,1,1)),\"\"))","v":{"$error":"#REF!"}},{"$f":"IF( $AC28 = 0, \"\", IF( OFFSET(#REF!, $AC28 - 1,0,1,1)<>0, IF(OR($AD28=\"LUMP\", $AD28=\"LS\"), \"LUMP\", OFFSET(#REF!, $AC28 - 1,0,1,1)),\"\"))","v":{"$error":"#REF!"}},{"$f":"IF( $AC28 = 0, \"\", IF( OFFSET(#REF!, $AC28 - 1,0,1,1)<>0, IF(OR($AD28=\"LUMP\", $AD28=\"LS\"), \"LUMP\", OFFSET(#REF!, $AC28 - 1,0,1,1)),\"\"))","v":{"$error":"#REF!"}},{"$f":"IF( $AC28 = 0, \"\", IF( OFFSET(#REF!, $AC28 - 1,0,1,1)<>0, IF(OR($AD28=\"LUMP\", $AD28=\"LS\"), \"LUMP\", OFFSET(#REF!, $AC28 - 1,0,1,1)),\"\"))","v":{"$error":"#REF!"}},{"$f":"IF( $AC28 = 0, \"\", IF( OFFSET(#REF!, $AC28 - 1,0,1,1)<>0, IF(OR($AD28=\"LUMP\", $AD28=\"LS\"), \"LUMP\", OFFSET(#REF!, $AC28 - 1,0,1,1)),\"\"))","v":{"$error":"#REF!"}},{"$f":"IF( $AC28 = 0, \"\", IF( OFFSET(#REF!, $AC28 - 1,0,1,1)<>0, IF(OR($AD28=\"LUMP\", $AD28=\"LS\"), \"LUMP\", OFFSET(#REF!, $AC28 - 1,0,1,1)),\"\"))","v":{"$error":"#REF!"}},{"$f":"IF( $AC28 = 0, \"\", IF( OFFSET(#REF!, $AC28 - 1,0,1,1)<>0, IF(OR($AD28=\"LUMP\", $AD28=\"LS\"), \"LUMP\", OFFSET(#REF!, $AC28 - 1,0,1,1)),\"\"))","v":{"$error":"#REF!"}},{"$f":"IF( $AC28 = 0, \"\", IF( OFFSET(#REF!, $AC28 - 1,0,1,1)<>0, IF(OR($AD28=\"LUMP\", $AD28=\"LS\"), \"LUMP\", OFFSET(#REF!, $AC28 - 1,0,1,1)),\"\"))","v":{"$error":"#REF!"}},{"$f":"IF( $AC28 = 0, \"\", IF( OFFSET(#REF!, $AC28 - 1,0,1,1)<>0, LEFT(OFFSET(#REF!, $AC28 - 1,0,1,1),3),\"\"))","v":{"$error":"#REF!"}},{"$f":"IF( $AC28 = 0, \"\", IF( OFFSET(#REF!, $AC28 - 1,0,1,1)<>0, IF(LEN(OFFSET(#REF!, $AC28 - 1,0,1,1))=9,   RIGHT(OFFSET(#REF!, $AC28 - 1,0,1,1),5),    LEFT(RIGHT(OFFSET(#REF!, $AC28 - 1,0,1,1),6), 5)      ),\"\"))","v":{"$error":"#REF!"}},{"$error":"#REF!"},{"$f":"IF( $AC28 = 0, \"\", IF( OFFSET(#REF!, $AC28 - 1,0,1,1)<>0,IF(OR(AD28=\"LUMP\", AD28=\"LS\"), \"\", AD28),\"\"))","v":{"$error":"#REF!"}},{"$f":"IF( $AC28 = 0, \"\", IF( OFFSET(#REF!, $AC28 - 1,0,1,1)<>0, VLOOKUP( OFFSET(#REF!, $AC28 - 1,0,1,1),[1]Items!$A$2:$E$10001,4,0),\"\"))","v":{"$error":"#REF!"}},null,26,4,22,{"$f":"IF( $AC28 = 0, \"\", IF( OFFSET(#REF!, $AC28 - 1,0,1,1)<>0, VLOOKUP( OFFSET(#REF!, $AC28 - 1,0,1,1),[1]Items!$A$2:$E$10001,3,0),\"\"))","v":{"$error":"#REF!"}}]
[{"$f":"IF( $AC29 = 0, \"\", IF( OFFSET(#REF!, $AC29 - 1,0,1,1)<>0, IF(OR($AD29=\"LUMP\", $AD29=\"LS\"), \"LUMP\", OFFSET(#REF!, $AC29 - 1,0,1,1)),\"\"))","v":{"$error":"#REF!"}},{"$f":"IF( $AC29 = 0, \"\", IF( OFFSET(#REF!, $AC29 - 1,0,1,1)<>0, IF(OR($AD29=\"LUMP\", $AD29=\"LS\"), \"LUMP\", OFFSET(#REF!, $AC29 - 1,0,1,1)),\"\"))","v":{"$error":"#REF!"}},{"$f":"IF( $AC29 = 0, \"\", IF( OFFSET(#REF!, $AC29 - 1,0,1,1)<>0, IF(OR($AD29=\"LUMP\", $AD29=\"LS\"), \"LUMP\", OFFSET(#REF!, $AC29 - 1,0,1,1)),\"\"))","v":{"$error":"#REF!"}},{"$f":"IF( $AC29 = 0, \"\", IF( OFFSET(#REF!, $AC29 - 1,0,1,1)<>0, IF(OR($AD29=\"LUMP\", $AD29=\"LS\"), \"LUMP\", OFFSET(#REF!, $AC29 - 1,0,1,1)),\"\"))","v":{"$error":"#REF!"}},{"$f":"IF( $AC29 = 0, \"\", IF( OFFSET(#REF!, $AC29 - 1,0,1,1)<>0, IF(OR($AD29=\"LUMP\", $AD29=\"LS\"), \"LUMP\", OFFSET(#REF!, $AC29 - 1,0,1,1)),\"\"))","v":{"$error":"#REF!"}},{"$f":"IF( $AC29 = 0, \"\", IF( OFFSET(#REF!, $AC29 - 1,0,1,1)<>0, IF(OR($AD29=\"LUMP\", $AD29=\"LS\"), \"LUMP\", OFFSET(#REF!, $AC29 - 1,0,1,1)),\"\"))","v":{"$error":"#REF!"}},{"$f":"IF( $AC29 = 0, \"\", IF( OFFSET(#REF!, $AC29 - 1,0,1,1)<>0, IF(OR($AD29=\"LUMP\", $AD29=\"LS\"), \"LUMP\", OFFSET(#REF!, $AC29 - 1,0,1,1)),\"\"))","v":{"$error":"#REF!"}},{"$f":"IF( $AC29 = 0, \"\", IF( OFFSET(#REF!, $AC29 - 1,0,1,1)<>0, IF(OR($AD29=\"LUMP\", $AD29=\"LS\"), \"LUMP\", OFFSET(#REF!, $AC29 - 1,0,1,1)),\"\"))","v":{"$error":"#REF!"}},{"$f":"IF( $AC29 = 0, \"\", IF( OFFSET(#REF!, $AC29 - 1,0,1,1)<>0, IF(OR($AD29=\"LUMP\", $AD29=\"LS\"), \"LUMP\", OFFSET(#REF!, $AC29 - 1,0,1,1)),\"\"))","v":{"$error":"#REF!"}},{"$f":"IF( $AC29 = 0, \"\", IF( OFFSET(#REF!, $AC29 - 1,0,1,1)<>0, IF(OR($AD29=\"LUMP\", $AD29=\"LS\"), \"LUMP\", OFFSET(#REF!, $AC29 - 1,0,1,1)),\"\"))","v":{"$error":"#REF!"}},{"$f":"IF( $AC29 = 0, \"\", IF( OFFSET(#REF!, $AC29 - 1,0,1,1)<>0, IF(OR($AD29=\"LUMP\", $AD29=\"LS\"), \"LUMP\", OFFSET(#REF!, $AC29 - 1,0,1,1)),\"\"))","v":{"$error":"#REF!"}},{"$f":"IF( $AC29 = 0, \"\", IF( OFFSET(#REF!, $AC29 - 1,0,1,1)<>0, IF(OR($AD29=\"LUMP\", $AD29=\"LS\"), \"LUMP\", OFFSET(#REF!, $AC29 - 1,0,1,1)),\"\"))","v":{"$error":"#REF!"}},{"$f":"IF( $AC29 = 0, \"\", IF( OFFSET(#REF!, $AC29 - 1,0,1,1)<>0, IF(OR($AD29=\"LUMP\", $AD29=\"LS\"), \"LUMP\", OFFSET(#REF!, $AC29 - 1,0,1,1)),\"\"))","v":{"$error":"#REF!"}},{"$f":"IF( $AC29 = 0, \"\", IF( OFFSET(#REF!, $AC29 - 1,0,1,1)<>0, IF(OR($AD29=\"LUMP\", $AD29=\"LS\"), \"LUMP\", OFFSET(#REF!, $AC29 - 1,0,1,1)),\"\"))","v":{"$error":"#REF!"}},{"$f":"IF( $AC29 = 0, \"\", IF( OFFSET(#REF!, $AC29 - 1,0,1,1)<>0, IF(OR($AD29=\"LUMP\", $AD29=\"LS\"), \"LUMP\", OFFSET(#REF!, $AC29 - 1,0,1,1)),\"\"))","v":{"$error":"#REF!"}},{"$f":"IF( $AC29 = 0, \"\", IF( OFFSET(#REF!, $AC29 - 1,0,1,1)<>0, IF(OR($AD29=\"LUMP\", $AD29=\"LS\"), \"LUMP\", OFFSET(#REF!, $AC29 - 1,0,1,1)),\"\"))","v":{"$error":"#REF!"}},{"$f":"IF( $AC29 = 0, \"\", IF( OFFSET(#REF!, $AC29 - 1,0,1,1)<>0, IF(OR($AD29=\"LUMP\", $AD29=\"LS\"), \"LUMP\", OFFSET(#REF!, $AC29 - 1,0,1,1)),\"\"))","v":{"$error":"#REF!"}},{"$f":"IF( $AC29 = 0, \"\", IF( OFFSET(#REF!, $AC29 - 1,0,1,1)<>0, IF(OR($AD29=\"LUMP\", $AD29=\"LS\"), \"LUMP\", OFFSET(#REF!, $AC29 - 1,0,1,1)),\"\"))","v":{"$error":"#REF!"}},{"$f":"IF( $AC29 = 0, \"\", IF( OFFSET(#REF!, $AC29 - 1,0,1,1)<>0, IF(OR($AD29=\"LUMP\", $AD29=\"LS\"), \"LUMP\", OFFSET(#REF!, $AC29 - 1,0,1,1)),\"\"))","v":{"$error":"#REF!"}},{"$f":"IF( $AC29 = 0, \"\", IF( OFFSET(#REF!, $AC29 - 1,0,1,1)<>0, IF(OR($AD29=\"LUMP\", $AD29=\"LS\"), \"LUMP\", OFFSET(#REF!, $AC29 - 1,0,1,1)),\"\"))","v":{"$error":"#REF!"}},{"$f":"IF( $AC29 = 0, \"\", IF( OFFSET(#REF!, $AC29 - 1,0,1,1)<>0, LEFT(OFFSET(#REF!, $AC29 - 1,0,1,1),3),\"\"))","v":{"$error":"#REF!"}},{"$f":"IF( $AC29 = 0, \"\", IF( OFFSET(#REF!, $AC29 - 1,0,1,1)<>0, IF(LEN(OFFSET(#REF!, $AC29 - 1,0,1,1))=9,   RIGHT(OFFSET(#REF!, $AC29 - 1,0,1,1),5),    LEFT(RIGHT(OFFSET(#REF!, $AC29 - 1,0,1,1),6), 5)      ),\"\"))","v":{"$error":"#REF!"}},{"$error":"#REF!"},{"$f":"IF( $AC29 = 0, \"\", IF( OFFSET(#REF!, $AC29 - 1,0,1,1)<>0,IF(OR(AD29=\"LUMP\", AD29=\"LS\"), \"\", AD29),\"\"))","v":{"$error":"#REF!"}},{"$f":"IF( $AC29 = 0, \"\", IF( OFFSET(#REF!, $AC29 - 1,0,1,1)<>0, VLOOKUP( OFFSET(#REF!, $AC29 - 1,0,1,1),[1]Items!$A$2:$E$10001,4,0),\"\"))","v":{"$error":"#REF!"}},null,27,4,23,{"$f":"IF( $AC29 = 0, \"\", IF( OFFSET(#REF!, $AC29 - 1,0,1,1)<>0, VLOOKUP( OFFSET(#REF!, $AC29 - 1,0,1,1),[1]Items!$A$2:$E$10001,3,0),\"\"))","v":{"$error":"#REF!"}}]
[{"$f":"IF( $AC30 = 0, \"\", IF( OFFSET(#REF!, $AC30 - 1,0,1,1)<>0, IF(OR($AD30=\"LUMP\", $AD30=\"LS\"), \"LUMP\", OFFSET(#REF!, $AC30 - 1,0,1,1)),\"\"))","v":{"$error":"#REF!"}},{"$f":"IF( $AC30 = 0, \"\", IF( OFFSET(#REF!, $AC30 - 1,0,1,1)<>0, IF(OR($AD30=\"LUMP\", $AD30=\"LS\"), \"LUMP\", OFFSET(#REF!, $AC30 - 1,0,1,1)),\"\"))","v":{"$error":"#REF!"}},{"$f":"IF( $AC30 = 0, \"\", IF( OFFSET(#REF!, $AC30 - 1,0,1,1)<>0, IF(OR($AD30=\"LUMP\", $AD30=\"LS\"), \"LUMP\", OFFSET(#REF!, $AC30 - 1,0,1,1)),\"\"))","v":{"$error":"#REF!"}},{"$f":"IF( $AC30 = 0, \"\", IF( OFFSET(#REF!, $AC30 - 1,0,1,1)<>0, IF(OR($AD30=\"LUMP\", $AD30=\"LS\"), \"LUMP\", OFFSET(#REF!, $AC30 - 1,0,1,1)),\"\"))","v":{"$error":"#REF!"}},{"$f":"IF( $AC30 = 0, \"\", IF( OFFSET(#REF!, $AC30 - 1,0,1,1)<>0, IF(OR($AD30=\"LUMP\", $AD30=\"LS\"), \"LUMP\", OFFSET(#REF!, $AC30 - 1,0,1,1)),\"\"))","v":{"$error":"#REF!"}},{"$f":"IF( $AC30 = 0, \"\", IF( OFFSET(#REF!, $AC30 - 1,0,1,1)<>0, IF(OR($AD30=\"LUMP\", $AD30=\"LS\"), \"LUMP\", OFFSET(#REF!, $AC30 - 1,0,1,1)),\"\"))","v":{"$error":"#REF!"}},{"$f":"IF( $AC30 = 0, \"\", IF( OFFSET(#REF!, $AC30 - 1,0,1,1)<>0, IF(OR($AD30=\"LUMP\", $AD30=\"LS\"), \"LUMP\", OFFSET(#REF!, $AC30 - 1,0,1,1)),\"\"))","v":{"$error":"#REF!"}},{"$f":"IF( $AC30 = 0, \"\", IF( OFFSET(#REF!, $AC30 - 1,0,1,1)<>0, IF(OR($AD30=\"LUMP\", $AD30=\"LS\"), \"LUMP\", OFFSET(#REF!, $AC30 - 1,0,1,1)),\"\"))","v":{"$error":"#REF!"}},{"$f":"IF( $AC30 = 0, \"\", IF( OFFSET(#REF!, $AC30 - 1,0,1,1)<>0, IF(OR($AD30=\"LUMP\", $AD30=\"LS\"), \"LUMP\", OFFSET(#REF!, $AC30 - 1,0,1,1)),\"\"))","v":{"$error":"#REF!"}},{"$f":"IF( $AC30 = 0, \"\", IF( OFFSET(#REF!, $AC30 - 1,0,1,1)<>0, IF(OR($AD30=\"LUMP\", $AD30=\"LS\"), \"LUMP\", OFFSET(#REF!, $AC30 - 1,0,1,1)),\"\"))","v":{"$error":"#REF!"}},{"$f":"IF( $AC30 = 0, \"\", IF( OFFSET(#REF!, $AC30 - 1,0,1,1)<>0, IF(OR($AD30=\"LUMP\", $AD30=\"LS\"), \"LUMP\", OFFSET(#REF!, $AC30 - 1,0,1,1)),\"\"))","v":{"$error":"#REF!"}},{"$f":"IF( $AC30 = 0, \"\", IF( OFFSET(#REF!, $AC30 - 1,0,1,1)<>0, IF(OR($AD30=\"LUMP\", $AD30=\"LS\"), \"LUMP\", OFFSET(#REF!, $AC30 - 1,0,1,1)),\"\"))","v":{"$error":"#REF!"}},{"$f":"IF( $AC30 = 0, \"\", IF( OFFSET(#REF!, $AC30 - 1,0,1,1)<>0, IF(OR($AD30=\"LUMP\", $AD30=\"LS\"), \"LUMP\", OFFSET(#REF!, $AC30 - 1,0,1,1)),\"\"))","v":{"$error":"#REF!"}},{"$f":"IF( $AC30 = 0, \"\", IF( OFFSET(#REF!, $AC30 - 1,0,1,1)<>0, IF(OR($AD30=\"LUMP\", $AD30=\"LS\"), \"LUMP\", OFFSET(#REF!, $AC30 - 1,0,1,1)),\"\"))","v":{"$error":"#REF!"}},{"$f":"IF( $AC30 = 0, \"\", IF( OFFSET(#REF!, $AC30 - 1,0,1,1)<>0, IF(OR($AD30=\"LUMP\", $AD30=\"LS\"), \"LUMP\", OFFSET(#REF!, $AC30 - 1,0,1,1)),\"\"))","v":{"$error":"#REF!"}},{"$f":"IF( $AC30 = 0, \"\", IF( OFFSET(#REF!, $AC30 - 1,0,1,1)<>0, IF(OR($AD30=\"LUMP\", $AD30=\"LS\"), \"LUMP\", OFFSET(#REF!, $AC30 - 1,0,1,1)),\"\"))","v":{"$error":"#REF!"}},{"$f":"IF( $AC30 = 0, \"\", IF( OFFSET(#REF!, $AC30 - 1,0,1,1)<>0, IF(OR($AD30=\"LUMP\", $AD30=\"LS\"), \"LUMP\", OFFSET(#REF!, $AC30 - 1,0,1,1)),\"\"))","v":{"$error":"#REF!"}},{"$f":"IF( $AC30 = 0, \"\", IF( OFFSET(#REF!, $AC30 - 1,0,1,1)<>0, IF(OR($AD30=\"LUMP\", $AD30=\"LS\"), \"LUMP\", OFFSET(#REF!, $AC30 - 1,0,1,1)),\"\"))","v":{"$error":"#REF!"}},{"$f":"IF( $AC30 = 0, \"\", IF( OFFSET(#REF!, $AC30 - 1,0,1,1)<>0, IF(OR($AD30=\"LUMP\", $AD30=\"LS\"), \"LUMP\", OFFSET(#REF!, $AC30 - 1,0,1,1)),\"\"))","v":{"$error":"#REF!"}},{"$f":"IF( $AC30 = 0, \"\", IF( OFFSET(#REF!, $AC30 - 1,0,1,1)<>0, IF(OR($AD30=\"LUMP\", $AD30=\"LS\"), \"LUMP\", OFFSET(#REF!, $AC30 - 1,0,1,1)),\"\"))","v":{"$error":"#REF!"}},{"$f":"IF( $AC30 = 0, \"\", IF( OFFSET(#REF!, $AC30 - 1,0,1,1)<>0, LEFT(OFFSET(#REF!, $AC30 - 1,0,1,1),3),\"\"))","v":{"$error":"#REF!"}},{"$f":"IF( $AC30 = 0, \"\", IF( OFFSET(#REF!, $AC30 - 1,0,1,1)<>0, IF(LEN(OFFSET(#REF!, $AC30 - 1,0,1,1))=9,   RIGHT(OFFSET(#REF!, $AC30 - 1,0,1,1),5),    LEFT(RIGHT(OFFSET(#REF!, $AC30 - 1,0,1,1),6), 5)      ),\"\"))","v":{"$error":"#REF!"}},{"$error":"#REF!"},{"$f":"IF( $AC30 = 0, \"\", IF( OFFSET(#REF!, $AC30 - 1,0,1,1)<>0,IF(OR(AD30=\"LUMP\", AD30=\"LS\"), \"\", AD30),\"\"))","v":{"$error":"#REF!"}},{"$f":"IF( $AC30 = 0, \"\", IF( OFFSET(#REF!, $AC30 - 1,0,1,1)<>0, VLOOKUP( OFFSET(#REF!, $AC30 - 1,0,1,1),[1]Items!$A$2:$E$10001,4,0),\"\"))","v":{"$error":"#REF!"}},null,28,4,24,{"$f":"IF( $AC30 = 0, \"\", IF( OFFSET(#REF!, $AC30 - 1,0,1,1)<>0, VLOOKUP( OFFSET(#REF!, $AC30 - 1,0,1,1),[1]Items!$A$2:$E$10001,3,0),\"\"))","v":{"$error":"#REF!"}}]
[{"$f":"IF( $AC31 = 0, \"\", IF( OFFSET(#REF!, $AC31 - 1,0,1,1)<>0, IF(OR($AD31=\"LUMP\", $AD31=\"LS\"), \"LUMP\", OFFSET(#REF!, $AC31 - 1,0,1,1)),\"\"))","v":{"$error":"#REF!"}},{"$f":"IF( $AC31 = 0, \"\", IF( OFFSET(#REF!, $AC31 - 1,0,1,1)<>0, IF(OR($AD31=\"LUMP\", $AD31=\"LS\"), \"LUMP\", OFFSET(#REF!, $AC31 - 1,0,1,1)),\"\"))","v":{"$error":"#REF!"}},{"$f":"IF( $AC31 = 0, \"\", IF( OFFSET(#REF!, $AC31 - 1,0,1,1)<>0, IF(OR($AD31=\"LUMP\", $AD31=\"LS\"), \"LUMP\", OFFSET(#REF!, $AC31 - 1,0,1,1)),\"\"))","v":{"$error":"#REF!"}},{"$f":"IF( $AC31 = 0, \"\", IF( OFFSET(#REF!, $AC31 - 1,0,1,1)<>0, IF(OR($AD31=\"LUMP\", $AD31=\"LS\"), \"LUMP\", OFFSET(#REF!, $AC31 - 1,0,1,1)),\"\"))","v":{"$error":"#REF!"}},{"$f":"IF( $AC31 = 0, \"\", IF( OFFSET(#REF!, $AC31 - 1,0,1,1)<>0, IF(OR($AD31=\"LUMP\", $AD31=\"LS\"), \"LUMP\", OFFSET(#REF!, $AC31 - 1,0,1,1)),\"\"))","v":{"$error":"#REF!"}},{"$f":"IF( $AC31 = 0, \"\", IF( OFFSET(#REF!, $AC31 - 1,0,1,1)<>0, IF(OR($AD31=\"LUMP\", $AD31=\"LS\"), \"LUMP\", OFFSET(#REF!, $AC31 - 1,0,1,1)),\"\"))","v":{"$error":"#REF!"}},{"$f":"IF( $AC31 = 0, \"\", IF( OFFSET(#REF!, $AC31 - 1,0,1,1)<>0, IF(OR($AD31=\"LUMP\", $AD31=\"LS\"), \"LUMP\", OFFSET(#REF!, $AC31 - 1,0,1,1)),\"\"))","v":{"$error":"#REF!"}},{"$f":"IF( $AC31 = 0, \"\", IF( OFFSET(#REF!, $AC31 - 1,0,1,1)<>0, IF(OR($AD31=\"LUMP\", $AD31=\"LS\"), \"LUMP\", OFFSET(#REF!, $AC31 - 1,0,1,1)),\"\"))","v":{"$error":"#REF!"}},{"$f":"IF( $AC31 = 0, \"\", IF( OFFSET(#REF!, $AC31 - 1,0,1,1)<>0, IF(OR($AD31=\"LUMP\", $AD31=\"LS\"), \"LUMP\", OFFSET(#REF!, $AC31 - 1,0,1,1)),\"\"))","v":{"$error":"#REF!"}},{"$f":"IF( $AC31 = 0, \"\", IF( OFFSET(#REF!, $AC31 - 1,0,1,1)<>0, IF(OR($AD31=\"LUMP\", $AD31=\"LS\"), \"LUMP\", OFFSET(#REF!, $AC31 - 1,0,1,1)),\"\"))","v":{"$error":"#REF!"}},{"$f":"IF( $AC31 = 0, \"\", IF( OFFSET(#REF!, $AC31 - 1,0,1,1)<>0, IF(OR($AD31=\"LUMP\", $AD31=\"LS\"), \"LUMP\", OFFSET(#REF!, $AC31 - 1,0,1,1)),\"\"))","v":{"$error":"#REF!"}},{"$f":"IF( $AC31 = 0, \"\", IF( OFFSET(#REF!, $AC31 - 1,0,1,1)<>0, IF(OR($AD31=\"LUMP\", $AD31=\"LS\"), \"LUMP\", OFFSET(#REF!, $AC31 - 1,0,1,1)),\"\"))","v":{"$error":"#REF!"}},{"$f":"IF( $AC31 = 0, \"\", IF( OFFSET(#REF!, $AC31 - 1,0,1,1)<>0, IF(OR($AD31=\"LUMP\", $AD31=\"LS\"), \"LUMP\", OFFSET(#REF!, $AC31 - 1,0,1,1)),\"\"))","v":{"$error":"#REF!"}},{"$f":"IF( $AC31 = 0, \"\", IF( OFFSET(#REF!, $AC31 - 1,0,1,1)<>0, IF(OR($AD31=\"LUMP\", $AD31=\"LS\"), \"LUMP\", OFFSET(#REF!, $AC31 - 1,0,1,1)),\"\"))","v":{"$error":"#REF!"}},{"$f":"IF( $AC31 = 0, \"\", IF( OFFSET(#REF!, $AC31 - 1,0,1,1)<>0, IF(OR($AD31=\"LUMP\", $AD31=\"LS\"), \"LUMP\", OFFSET(#REF!, $AC31 - 1,0,1,1)),\"\"))","v":{"$error":"#REF!"}},{"$f":"IF( $AC31 = 0, \"\", IF( OFFSET(#REF!, $AC31 - 1,0,1,1)<>0, IF(OR($AD31=\"LUMP\", $AD31=\"LS\"), \"LUMP\", OFFSET(#REF!, $AC31 - 1,0,1,1)),\"\"))","v":{"$error":"#REF!"}},{"$f":"IF( $AC31 = 0, \"\", IF( OFFSET(#REF!, $AC31 - 1,0,1,1)<>0, IF(OR($AD31=\"LUMP\", $AD31=\"LS\"), \"LUMP\", OFFSET(#REF!, $AC31 - 1,0,1,1)),\"\"))","v":{"$error":"#REF!"}},{"$f":"IF( $AC31 = 0, \"\", IF( OFFSET(#REF!, $AC31 - 1,0,1,1)<>0, IF(OR($AD31=\"LUMP\", $AD31=\"LS\"), \"LUMP\", OFFSET(#REF!, $AC31 - 1,0,1,1)),\"\"))","v":{"$error":"#REF!"}},{"$f":"IF( $AC31 = 0, \"\", IF( OFFSET(#REF!, $AC31 - 1,0,1,1)<>0, IF(OR($AD31=\"LUMP\", $AD31=\"LS\"), \"LUMP\", OFFSET(#REF!, $AC31 - 1,0,1,1)),\"\"))","v":{"$error":"#REF!"}},{"$f":"IF( $AC31 = 0, \"\", IF( OFFSET(#REF!, $AC31 - 1,0,1,1)<>0, IF(OR($AD31=\"LUMP\", $AD31=\"LS\"), \"LUMP\", OFFSET(#REF!, $AC31 - 1,0,1,1)),\"\"))","v":{"$error":"#REF!"}},{"$f":"IF( $AC31 = 0, \"\", IF( OFFSET(#REF!, $AC31 - 1,0,1,1)<>0, LEFT(OFFSET(#REF!, $AC31 - 1,0,1,1),3),\"\"))","v":{"$error":"#REF!"}},{"$f":"IF( $AC31 = 0, \"\", IF( OFFSET(#REF!, $AC31 - 1,0,1,1)<>0, IF(LEN(OFFSET(#REF!, $AC31 - 1,0,1,1))=9,   RIGHT(OFFSET(#REF!, $AC31 - 1,0,1,1),5),    LEFT(RIGHT(OFFSET(#REF!, $AC31 - 1,0,1,1),6), 5)      ),\"\"))","v":{"$error":"#REF!"}},{"$error":"#REF!"},{"$f":"IF( $AC31 = 0, \"\", IF( OFFSET(#REF!, $AC31 - 1,0,1,1)<>0,IF(OR(AD31=\"LUMP\", AD31=\"LS\"), \"\", AD31),\"\"))","v":{"$error":"#REF!"}},{"$f":"IF( $AC31 = 0, \"\", IF( OFFSET(#REF!, $AC31 - 1,0,1,1)<>0, VLOOKUP( OFFSET(#REF!, $AC31 - 1,0,1,1),[1]Items!$A$2:$E$10001,4,0),\"\"))","v":{"$error":"#REF!"}},null,29,4,25,{"$f":"IF( $AC31 = 0, \"\", IF( OFFSET(#REF!, $AC31 - 1,0,1,1)<>0, VLOOKUP( OFFSET(#REF!, $AC31 - 1,0,1,1),[1]Items!$A$2:$E$10001,3,0),\"\"))","v":{"$error":"#REF!"}}]
[{"$f":"IF( $AC32 = 0, \"\", IF( OFFSET(#REF!, $AC32 - 1,0,1,1)<>0, IF(OR($AD32=\"LUMP\", $AD32=\"LS\"), \"LUMP\", OFFSET(#REF!, $AC32 - 1,0,1,1)),\"\"))","v":""},{"$f":"IF( $AC32 = 0, \"\", IF( OFFSET(#REF!, $AC32 - 1,0,1,1)<>0, IF(OR($AD32=\"LUMP\", $AD32=\"LS\"), \"LUMP\", OFFSET(#REF!, $AC32 - 1,0,1,1)),\"\"))","v":""},{"$f":"IF( $AC32 = 0, \"\", IF( OFFSET(#REF!, $AC32 - 1,0,1,1)<>0, IF(OR($AD32=\"LUMP\", $AD32=\"LS\"), \"LUMP\", OFFSET(#REF!, $AC32 - 1,0,1,1)),\"\"))","v":""},{"$f":"IF( $AC32 = 0, \"\", IF( OFFSET(#REF!, $AC32 - 1,0,1,1)<>0, IF(OR($AD32=\"LUMP\", $AD32=\"LS\"), \"LUMP\", OFFSET(#REF!, $AC32 - 1,0,1,1)),\"\"))","v":""},{"$f":"IF( $AC32 = 0, \"\", IF( OFFSET(#REF!, $AC32 - 1,0,1,1)<>0, IF(OR($AD32=\"LUMP\", $AD32=\"LS\"), \"LUMP\", OFFSET(#REF!, $AC32 - 1,0,1,1)),\"\"))","v":""},{"$f":"IF( $AC32 = 0, \"\", IF( OFFSET(#REF!, $AC32 - 1,0,1,1)<>0, IF(OR($AD32=\"LUMP\", $AD32=\"LS\"), \"LUMP\", OFFSET(#REF!, $AC32 - 1,0,1,1)),\"\"))","v":""},{"$f":"IF( $AC32 = 0, \"\", IF( OFFSET(#REF!, $AC32 - 1,0,1,1)<>0, IF(OR($AD32=\"LUMP\", $AD32=\"LS\"), \"LUMP\", OFFSET(#REF!, $AC32 - 1,0,1,1)),\"\"))","v":""},{"$f":"IF( $AC32 = 0, \"\", IF( OFFSET(#REF!, $AC32 - 1,0,1,1)<>0, IF(OR($AD32=\"LUMP\", $AD32=\"LS\"), \"LUMP\", OFFSET(#REF!, $AC32 - 1,0,1,1)),\"\"))","v":""},{"$f":"IF( $AC32 = 0, \"\", IF( OFFSET(#REF!, $AC32 - 1,0,1,1)<>0, IF(OR($AD32=\"LUMP\", $AD32=\"LS\"), \"LUMP\", OFFSET(#REF!, $AC32 - 1,0,1,1)),\"\"))","v":""},{"$f":"IF( $AC32 = 0, \"\", IF( OFFSET(#REF!, $AC32 - 1,0,1,1)<>0, IF(OR($AD32=\"LUMP\", $AD32=\"LS\"), \"LUMP\", OFFSET(#REF!, $AC32 - 1,0,1,1)),\"\"))","v":""},{"$f":"IF( $AC32 = 0, \"\", IF( OFFSET(#REF!, $AC32 - 1,0,1,1)<>0, IF(OR($AD32=\"LUMP\", $AD32=\"LS\"), \"LUMP\", OFFSET(#REF!, $AC32 - 1,0,1,1)),\"\"))","v":""},{"$f":"IF( $AC32 = 0, \"\", IF( OFFSET(#REF!, $AC32 - 1,0,1,1)<>0, IF(OR($AD32=\"LUMP\", $AD32=\"LS\"), \"LUMP\", OFFSET(#REF!, $AC32 - 1,0,1,1)),\"\"))","v":""},{"$f":"IF( $AC32 = 0, \"\", IF( OFFSET(#REF!, $AC32 - 1,0,1,1)<>0, IF(OR($AD32=\"LUMP\", $AD32=\"LS\"), \"LUMP\", OFFSET(#REF!, $AC32 - 1,0,1,1)),\"\"))","v":""},{"$f":"IF( $AC32 = 0, \"\", IF( OFFSET(#REF!, $AC32 - 1,0,1,1)<>0, IF(OR($AD32=\"LUMP\", $AD32=\"LS\"), \"LUMP\", OFFSET(#REF!, $AC32 - 1,0,1,1)),\"\"))","v":""},{"$f":"IF( $AC32 = 0, \"\", IF( OFFSET(#REF!, $AC32 - 1,0,1,1)<>0, IF(OR($AD32=\"LUMP\", $AD32=\"LS\"), \"LUMP\", OFFSET(#REF!, $AC32 - 1,0,1,1)),\"\"))","v":""},{"$f":"IF( $AC32 = 0, \"\", IF( OFFSET(#REF!, $AC32 - 1,0,1,1)<>0, IF(OR($AD32=\"LUMP\", $AD32=\"LS\"), \"LUMP\", OFFSET(#REF!, $AC32 - 1,0,1,1)),\"\"))","v":""},{"$f":"IF( $AC32 = 0, \"\", IF( OFFSET(#REF!, $AC32 - 1,0,1,1)<>0, IF(OR($AD32=\"LUMP\", $AD32=\"LS\"), \"LUMP\", OFFSET(#REF!, $AC32 - 1,0,1,1)),\"\"))","v":""},{"$f":"IF( $AC32 = 0, \"\", IF( OFFSET(#REF!, $AC32 - 1,0,1,1)<>0, IF(OR($AD32=\"LUMP\", $AD32=\"LS\"), \"LUMP\", OFFSET(#REF!, $AC32 - 1,0,1,1)),\"\"))","v":""},{"$f":"IF( $AC32 = 0, \"\", IF( OFFSET(#REF!, $AC32 - 1,0,1,1)<>0, IF(OR($AD32=\"LUMP\", $AD32=\"LS\"), \"LUMP\", OFFSET(#REF!, $AC32 - 1,0,1,1)),\"\"))","v":""},{"$f":"IF( $AC32 = 0, \"\", IF( OFFSET(#REF!, $AC32 - 1,0,1,1)<>0, IF(OR($AD32=\"LUMP\", $AD32=\"LS\"), \"LUMP\", OFFSET(#REF!, $AC32 - 1,0,1,1)),\"\"))","v":""},{"$f":"IF( $AC32 = 0, \"\", IF( OFFSET(#REF!, $AC32 - 1,0,1,1)<>0, LEFT(OFFSET(#REF!, $AC32 - 1,0,1,1),3),\"\"))","v":""},{"$f":"IF( $AC32 = 0, \"\", IF( OFFSET(#REF!, $AC32 - 1,0,1,1)<>0, IF(LEN(OFFSET(#REF!, $AC32 - 1,0,1,1))=9,   RIGHT(OFFSET(#REF!, $AC32 - 1,0,1,1),5),    LEFT(RIGHT(OFFSET(#REF!, $AC32 - 1,0,1,1),6), 5)      ),\"\"))","v":""},"",{"$f":"IF( $AC32 = 0, \"\", IF( OFFSET(#REF!, $AC32 - 1,0,1,1)<>0,IF(OR(AD32=\"LUMP\", AD32=\"LS\"), \"\", AD32),\"\"))","v":""},{"$f":"IF( $AC32 = 0, \"\", IF( OFFSET(#REF!, $AC32 - 1,0,1,1)<>0, VLOOKUP( OFFSET(#REF!, $AC32 - 1,0,1,1),[1]Items!$A$2:$E$10001,4,0),\"\"))","v":""},null,30,5,0,{"$f":"IF( $AC32 = 0, \"\", IF( OFFSET(#REF!, $AC32 - 1,0,1,1)<>0, VLOOKUP( OFFSET(#REF!, $AC32 - 1,0,1,1),[1]Items!$A$2:$E$10001,3,0),\"\"))","v":""}]
[{"$f":"IF( $AC33 = 0, \"\", IF( OFFSET(#REF!, $AC33 - 1,0,1,1)<>0, IF(OR($AD33=\"LUMP\", $AD33=\"LS\"), \"LUMP\", OFFSET(#REF!, $AC33 - 1,0,1,1)),\"\"))","v":{"$error":"#REF!"}},{"$f":"IF( $AC33 = 0, \"\", IF( OFFSET(#REF!, $AC33 - 1,0,1,1)<>0, IF(OR($AD33=\"LUMP\", $AD33=\"LS\"), \"LUMP\", OFFSET(#REF!, $AC33 - 1,0,1,1)),\"\"))","v":{"$error":"#REF!"}},{"$f":"IF( $AC33 = 0, \"\", IF( OFFSET(#REF!, $AC33 - 1,0,1,1)<>0, IF(OR($AD33=\"LUMP\", $AD33=\"LS\"), \"LUMP\", OFFSET(#REF!, $AC33 - 1,0,1,1)),\"\"))","v":{"$error":"#REF!"}},{"$f":"IF( $AC33 = 0, \"\", IF( OFFSET(#REF!, $AC33 - 1,0,1,1)<>0, IF(OR($AD33=\"LUMP\", $AD33=\"LS\"), \"LUMP\", OFFSET(#REF!, $AC33 - 1,0,1,1)),\"\"))","v":{"$error":"#REF!"}},{"$f":"IF( $AC33 = 0, \"\", IF( OFFSET(#REF!, $AC33 - 1,0,1,1)<>0, IF(OR($AD33=\"LUMP\", $AD33=\"LS\"), \"LUMP\", OFFSET(#REF!, $AC33 - 1,0,1,1)),\"\"))","v":{"$error":"#REF!"}},{"$f":"IF( $AC33 = 0, \"\", IF( OFFSET(#REF!, $AC33 - 1,0,1,1)<>0, IF(OR($AD33=\"LUMP\", $AD33=\"LS\"), \"LUMP\", OFFSET(#REF!, $AC33 - 1,0,1,1)),\"\"))","v":{"$error":"#REF!"}},{"$f":"IF( $AC33 = 0, \"\", IF( OFFSET(#REF!, $AC33 - 1,0,1,1)<>0, IF(OR($AD33=\"LUMP\", $AD33=\"LS\"), \"LUMP\", OFFSET(#REF!, $AC33 - 1,0,1,1)),\"\"))","v":{"$error":"#REF!"}},{"$f":"IF( $AC33 = 0, \"\", IF( OFFSET(#REF!, $AC33 - 1,0,1,1)<>0, IF(OR($AD33=\"LUMP\", $AD33=\"LS\"), \"LUMP\", OFFSET(#REF!, $AC33 - 1,0,1,1)),\"\"))","v":{"$error":"#REF!"}},{"$f":"IF( $AC33 = 0, \"\", IF( OFFSET(#REF!, $AC33 - 1,0,1,1)<>0, IF(OR($AD33=\"LUMP\", $AD33=\"LS\"), \"LUMP\", OFFSET(#REF!, $AC33 - 1,0,1,1)),\"\"))","v":{"$error":"#REF!"}},{"$f":"IF( $AC33 = 0, \"\", IF( OFFSET(#REF!, $AC33 - 1,0,1,1)<>0, IF(OR($AD33=\"LUMP\", $AD33=\"LS\"), \"LUMP\", OFFSET(#REF!, $AC33 - 1,0,1,1)),\"\"))","v":{"$error":"#REF!"}},{"$f":"IF( $AC33 = 0, \"\", IF( OFFSET(#REF!, $AC33 - 1,0,1,1)<>0, IF(OR($AD33=\"LUMP\", $AD33=\"LS\"), \"LUMP\", OFFSET(#REF!, $AC33 - 1,0,1,1)),\"\"))","v":{"$error":"#REF!"}},{"$f":"IF( $AC33 = 0, \"\", IF( OFFSET(#REF!, $AC33 - 1,0,1,1)<>0, IF(OR($AD33=\"LUMP\", $AD33=\"LS\"), \"LUMP\", OFFSET(#REF!, $AC33 - 1,0,1,1)),\"\"))","v":{"$error":"#REF!"}},{"$f":"IF( $AC33 = 0, \"\", IF( OFFSET(#REF!, $AC33 - 1,0,1,1)<>0, IF(OR($AD33=\"LUMP\", $AD33=\"LS\"), \"LUMP\", OFFSET(#REF!, $AC33 - 1,0,1,1)),\"\"))","v":{"$error":"#REF!"}},{"$f":"IF( $AC33 = 0, \"\", IF( OFFSET(#REF!, $AC33 - 1,0,1,1)<>0, IF(OR($AD33=\"LUMP\", $AD33=\"LS\"), \"LUMP\", OFFSET(#REF!, $AC33 - 1,0,1,1)),\"\"))","v":{"$error":"#REF!"}},{"$f":"IF( $AC33 = 0, \"\", IF( OFFSET(#REF!, $AC33 - 1,0,1,1)<>0, IF(OR($AD33=\"LUMP\", $AD33=\"LS\"), \"LUMP\", OFFSET(#REF!, $AC33 - 1,0,1,1)),\"\"))","v":{"$error":"#REF!"}},{"$f":"IF( $AC33 = 0, \"\", IF( OFFSET(#REF!, $AC33 - 1,0,1,1)<>0, IF(OR($AD33=\"LUMP\", $AD33=\"LS\"), \"LUMP\", OFFSET(#REF!, $AC33 - 1,0,1,1)),\"\"))","v":{"$error":"#REF!"}},{"$f":"IF( $AC33 = 0, \"\", IF( OFFSET(#REF!, $AC33 - 1,0,1,1)<>0, IF(OR($AD33=\"LUMP\", $AD33=\"LS\"), \"LUMP\", OFFSET(#REF!, $AC33 - 1,0,1,1)),\"\"))","v":{"$error":"#REF!"}},{"$f":"IF( $AC33 = 0, \"\", IF( OFFSET(#REF!, $AC33 - 1,0,1,1)<>0, IF(OR($AD33=\"LUMP\", $AD33=\"LS\"), \"LUMP\", OFFSET(#REF!, $AC33 - 1,0,1,1)),\"\"))","v":{"$error":"#REF!"}},{"$f":"IF( $AC33 = 0, \"\", IF( OFFSET(#REF!, $AC33 - 1,0,1,1)<>0, IF(OR($AD33=\"LUMP\", $AD33=\"LS\"), \"LUMP\", OFFSET(#REF!, $AC33 - 1,0,1,1)),\"\"))","v":{"$error":"#REF!"}},{"$f":"IF( $AC33 = 0, \"\", IF( OFFSET(#REF!, $AC33 - 1,0,1,1)<>0, IF(OR($AD33=\"LUMP\", $AD33=\"LS\"), \"LUMP\", OFFSET(#REF!, $AC33 - 1,0,1,1)),\"\"))","v":{"$error":"#REF!"}},{"$f":"IF( $AC33 = 0, \"\", IF( OFFSET(#REF!, $AC33 - 1,0,1,1)<>0, LEFT(OFFSET(#REF!, $AC33 - 1,0,1,1),3),\"\"))","v":{"$error":"#REF!"}},{"$f":"IF( $AC33 = 0, \"\", IF( OFFSET(#REF!, $AC33 - 1,0,1,1)<>0, IF(LEN(OFFSET(#REF!, $AC33 - 1,0,1,1))=9,   RIGHT(OFFSET(#REF!, $AC33 - 1,0,1,1),5),    LEFT(RIGHT(OFFSET(#REF!, $AC33 - 1,0,1,1),6), 5)      ),\"\"))","v":{"$error":"#REF!"}},{"$error":"#REF!"},{"$f":"IF( $AC33 = 0, \"\", IF( OFFSET(#REF!, $AC33 - 1,0,1,1)<>0,IF(OR(AD33=\"LUMP\", AD33=\"LS\"), \"\", AD33),\"\"))","v":{"$error":"#REF!"}},{"$f":"IF( $AC33 = 0, \"\", IF( OFFSET(#REF!, $AC33 - 1,0,1,1)<>0, VLOOKUP( OFFSET(#REF!, $AC33 - 1,0,1,1),[1]Items!$A$2:$E$10001,4,0),\"\"))","v":{"$error":"#REF!"}},null,31,5,26,{"$f":"IF( $AC33 = 0, \"\", IF( OFFSET(#REF!, $AC33 - 1,0,1,1)<>0, VLOOKUP( OFFSET(#REF!, $AC33 - 1,0,1,1),[1]Items!$A$2:$E$10001,3,0),\"\"))","v":{"$error":"#REF!"}}]
[{"$f":"IF( $AC34 = 0, \"\", IF( OFFSET(#REF!, $AC34 - 1,0,1,1)<>0, IF(OR($AD34=\"LUMP\", $AD34=\"LS\"), \"LUMP\", OFFSET(#REF!, $AC34 - 1,0,1,1)),\"\"))","v":{"$error":"#REF!"}},{"$f":"IF( $AC34 = 0, \"\", IF( OFFSET(#REF!, $AC34 - 1,0,1,1)<>0, IF(OR($AD34=\"LUMP\", $AD34=\"LS\"), \"LUMP\", OFFSET(#REF!, $AC34 - 1,0,1,1)),\"\"))","v":{"$error":"#REF!"}},{"$f":"IF( $AC34 = 0, \"\", IF( OFFSET(#REF!, $AC34 - 1,0,1,1)<>0, IF(OR($AD34=\"LUMP\", $AD34=\"LS\"), \"LUMP\", OFFSET(#REF!, $AC34 - 1,0,1,1)),\"\"))","v":{"$error":"#REF!"}},{"$f":"IF( $AC34 = 0, \"\", IF( OFFSET(#REF!, $AC34 - 1,0,1,1)<>0, IF(OR($AD34=\"LUMP\", $AD34=\"LS\"), \"LUMP\", OFFSET(#REF!, $AC34 - 1,0,1,1)),\"\"))","v":{"$error":"#REF!"}},{"$f":"IF( $AC34 = 0, \"\", IF( OFFSET(#REF!, $AC34 - 1,0,1,1)<>0, IF(OR($AD34=\"LUMP\", $AD34=\"LS\"), \"LUMP\", OFFSET(#REF!, $AC34 - 1,0,1,1)),\"\"))","v":{"$error":"#REF!"}},{"$f":"IF( $AC34 = 0, \"\", IF( OFFSET(#REF!, $AC34 - 1,0,1,1)<>0, IF(OR($AD34=\"LUMP\", $AD34=\"LS\"), \"LUMP\", OFFSET(#REF!, $AC34 - 1,0,1,1)),\"\"))","v":{"$error":"#REF!"}},{"$f":"IF( $AC34 = 0, \"\", IF( OFFSET(#REF!, $AC34 - 1,0,1,1)<>0, IF(OR($AD34=\"LUMP\", $AD34=\"LS\"), \"LUMP\", OFFSET(#REF!, $AC34 - 1,0,1,1)),\"\"))","v":{"$error":"#REF!"}},{"$f":"IF( $AC34 = 0, \"\", IF( OFFSET(#REF!, $AC34 - 1,0,1,1)<>0, IF(OR($AD34=\"LUMP\", $AD34=\"LS\"), \"LUMP\", OFFSET(#REF!, $AC34 - 1,0,1,1)),\"\"))","v":{"$error":"#REF!"}},{"$f":"IF( $AC34 = 0, \"\", IF( OFFSET(#REF!, $AC34 - 1,0,1,1)<>0, IF(OR($AD34=\"LUMP\", $AD34=\"LS\"), \"LUMP\", OFFSET(#REF!, $AC34 - 1,0,1,1)),\"\"))","v":{"$error":"#REF!"}},{"$f":"IF( $AC34 = 0, \"\", IF( OFFSET(#REF!, $AC34 - 1,0,1,1)<>0, IF(OR($AD34=\"LUMP\", $AD34=\"LS\"), \"LUMP\", OFFSET(#REF!, $AC34 - 1,0,1,1)),\"\"))","v":{"$error":"#REF!"}},{"$f":"IF( $AC34 = 0, \"\", IF( OFFSET(#REF!, $AC34 - 1,0,1,1)<>0, IF(OR($AD34=\"LUMP\", $AD34=\"LS\"), \"LUMP\", OFFSET(#REF!, $AC34 - 1,0,1,1)),\"\"))","v":{"$error":"#REF!"}},{"$f":"IF( $AC34 = 0, \"\", IF( OFFSET(#REF!, $AC34 - 1,0,1,1)<>0, IF(OR($AD34=\"LUMP\", $AD34=\"LS\"), \"LUMP\", OFFSET(#REF!, $AC34 - 1,0,1,1)),\"\"))","v":{"$error":"#REF!"}},{"$f":"IF( $AC34 = 0, \"\", IF( OFFSET(#REF!, $AC34 - 1,0,1,1)<>0, IF(OR($AD34=\"LUMP\", $AD34=\"LS\"), \"LUMP\", OFFSET(#REF!, $AC34 - 1,0,1,1)),\"\"))","v":{"$error":"#REF!"}},{"$f":"IF( $AC34 = 0, \"\", IF( OFFSET(#REF!, $AC34 - 1,0,1,1)<>0, IF(OR($AD34=\"LUMP\", $AD34=\"LS\"), \"LUMP\", OFFSET(#REF!, $AC34 - 1,0,1,1)),\"\"))","v":{"$error":"#REF!"}},{"$f":"IF( $AC34 = 0, \"\", IF( OFFSET(#REF!, $AC34 - 1,0,1,1)<>0, IF(OR($AD34=\"LUMP\", $AD34=\"LS\"), \"LUMP\", OFFSET(#REF!, $AC34 - 1,0,1,1)),\"\"))","v":{"$error":"#REF!"}},{"$f":"IF( $AC34 = 0, \"\", IF( OFFSET(#REF!, $AC34 - 1,0,1,1)<>0, IF(OR($AD34=\"LUMP\", $AD34=\"LS\"), \"LUMP\", OFFSET(#REF!, $AC34 - 1,0,1,1)),\"\"))","v":{"$error":"#REF!"}},{"$f":"IF( $AC34 = 0, \"\", IF( OFFSET(#REF!, $AC34 - 1,0,1,1)<>0, IF(OR($AD34=\"LUMP\", $AD34=\"LS\"), \"LUMP\", OFFSET(#REF!, $AC34 - 1,0,1,1)),\"\"))","v":{"$error":"#REF!"}},{"$f":"IF( $AC34 = 0, \"\", IF( OFFSET(#REF!, $AC34 - 1,0,1,1)<>0, IF(OR($AD34=\"LUMP\", $AD34=\"LS\"), \"LUMP\", OFFSET(#REF!, $AC34 - 1,0,1,1)),\"\"))","v":{"$error":"#REF!"}},{"$f":"IF( $AC34 = 0, \"\", IF( OFFSET(#REF!, $AC34 - 1,0,1,1)<>0, IF(OR($AD34=\"LUMP\", $AD34=\"LS\"), \"LUMP\", OFFSET(#REF!, $AC34 - 1,0,1,1)),\"\"))","v":{"$error":"#REF!"}},{"$f":"IF( $AC34 = 0, \"\", IF( OFFSET(#REF!, $AC34 - 1,0,1,1)<>0, IF(OR($AD34=\"LUMP\", $AD34=\"LS\"), \"LUMP\", OFFSET(#REF!, $AC34 - 1,0,1,1)),\"\"))","v":{"$error":"#REF!"}},{"$f":"IF( $AC34 = 0, \"\", IF( OFFSET(#REF!, $AC34 - 1,0,1,1)<>0, LEFT(OFFSET(#REF!, $AC34 - 1,0,1,1),3),\"\"))","v":{"$error":"#REF!"}},{"$f":"IF( $AC34 = 0, \"\", IF( OFFSET(#REF!, $AC34 - 1,0,1,1)<>0, IF(LEN(OFFSET(#REF!, $AC34 - 1,0,1,1))=9,   RIGHT(OFFSET(#REF!, $AC34 - 1,0,1,1),5),    LEFT(RIGHT(OFFSET(#REF!, $AC34 - 1,0,1,1),6), 5)      ),\"\"))","v":{"$error":"#REF!"}},{"$error":"#REF!"},{"$f":"IF( $AC34 = 0, \"\", IF( OFFSET(#REF!, $AC34 - 1,0,1,1)<>0,IF(OR(AD34=\"LUMP\", AD34=\"LS\"), \"\", AD34),\"\"))","v":{"$error":"#REF!"}},{"$f":"IF( $AC34 = 0, \"\", IF( OFFSET(#REF!, $AC34 - 1,0,1,1)<>0, VLOOKUP( OFFSET(#REF!, $AC34 - 1,0,1,1),[1]Items!$A$2:$E$10001,4,0),\"\"))","v":{"$error":"#REF!"}},null,32,5,27,{"$f":"IF( $AC34 = 0, \"\", IF( OFFSET(#REF!, $AC34 - 1,0,1,1)<>0, VLOOKUP( OFFSET(#REF!, $AC34 - 1,0,1,1),[1]Items!$A$2:$E$10001,3,0),\"\"))","v":{"$error":"#REF!"}}]
[{"$f":"IF( $AC35 = 0, \"\", IF( OFFSET(#REF!, $AC35 - 1,0,1,1)<>0, IF(OR($AD35=\"LUMP\", $AD35=\"LS\"), \"LUMP\", OFFSET(#REF!, $AC35 - 1,0,1,1)),\"\"))","v":{"$error":"#REF!"}},{"$f":"IF( $AC35 = 0, \"\", IF( OFFSET(#REF!, $AC35 - 1,0,1,1)<>0, IF(OR($AD35=\"LUMP\", $AD35=\"LS\"), \"LUMP\", OFFSET(#REF!, $AC35 - 1,0,1,1)),\"\"))","v":{"$error":"#REF!"}},{"$f":"IF( $AC35 = 0, \"\", IF( OFFSET(#REF!, $AC35 - 1,0,1,1)<>0, IF(OR($AD35=\"LUMP\", $AD35=\"LS\"), \"LUMP\", OFFSET(#REF!, $AC35 - 1,0,1,1)),\"\"))","v":{"$error":"#REF!"}},{"$f":"IF( $AC35 = 0, \"\", IF( OFFSET(#REF!, $AC35 - 1,0,1,1)<>0, IF(OR($AD35=\"LUMP\", $AD35=\"LS\"), \"LUMP\", OFFSET(#REF!, $AC35 - 1,0,1,1)),\"\"))","v":{"$error":"#REF!"}},{"$f":"IF( $AC35 = 0, \"\", IF( OFFSET(#REF!, $AC35 - 1,0,1,1)<>0, IF(OR($AD35=\"LUMP\", $AD35=\"LS\"), \"LUMP\", OFFSET(#REF!, $AC35 - 1,0,1,1)),\"\"))","v":{"$error":"#REF!"}},{"$f":"IF( $AC35 = 0, \"\", IF( OFFSET(#REF!, $AC35 - 1,0,1,1)<>0, IF(OR($AD35=\"LUMP\", $AD35=\"LS\"), \"LUMP\", OFFSET(#REF!, $AC35 - 1,0,1,1)),\"\"))","v":{"$error":"#REF!"}},{"$f":"IF( $AC35 = 0, \"\", IF( OFFSET(#REF!, $AC35 - 1,0,1,1)<>0, IF(OR($AD35=\"LUMP\", $AD35=\"LS\"), \"LUMP\", OFFSET(#REF!, $AC35 - 1,0,1,1)),\"\"))","v":{"$error":"#REF!"}},{"$f":"IF( $AC35 = 0, \"\", IF( OFFSET(#REF!, $AC35 - 1,0,1,1)<>0, IF(OR($AD35=\"LUMP\", $AD35=\"LS\"), \"LUMP\", OFFSET(#REF!, $AC35 - 1,0,1,1)),\"\"))","v":{"$error":"#REF!"}},{"$f":"IF( $AC35 = 0, \"\", IF( OFFSET(#REF!, $AC35 - 1,0,1,1)<>0, IF(OR($AD35=\"LUMP\", $AD35=\"LS\"), \"LUMP\", OFFSET(#REF!, $AC35 - 1,0,1,1)),\"\"))","v":{"$error":"#REF!"}},{"$f":"IF( $AC35 = 0, \"\", IF( OFFSET(#REF!, $AC35 - 1,0,1,1)<>0, IF(OR($AD35=\"LUMP\", $AD35=\"LS\"), \"LUMP\", OFFSET(#REF!, $AC35 - 1,0,1,1)),\"\"))","v":{"$error":"#REF!"}},{"$f":"IF( $AC35 = 0, \"\", IF( OFFSET(#REF!, $AC35 - 1,0,1,1)<>0, IF(OR($AD35=\"LUMP\", $AD35=\"LS\"), \"LUMP\", OFFSET(#REF!, $AC35 - 1,0,1,1)),\"\"))","v":{"$error":"#REF!"}},{"$f":"IF( $AC35 = 0, \"\", IF( OFFSET(#REF!, $AC35 - 1,0,1,1)<>0, IF(OR($AD35=\"LUMP\", $AD35=\"LS\"), \"LUMP\", OFFSET(#REF!, $AC35 - 1,0,1,1)),\"\"))","v":{"$error":"#REF!"}},{"$f":"IF( $AC35 = 0, \"\", IF( OFFSET(#REF!, $AC35 - 1,0,1,1)<>0, IF(OR($AD35=\"LUMP\", $AD35=\"LS\"), \"LUMP\", OFFSET(#REF!, $AC35 - 1,0,1,1)),\"\"))","v":{"$error":"#REF!"}},{"$f":"IF( $AC35 = 0, \"\", IF( OFFSET(#REF!, $AC35 - 1,0,1,1)<>0, IF(OR($AD35=\"LUMP\", $AD35=\"LS\"), \"LUMP\", OFFSET(#REF!, $AC35 - 1,0,1,1)),\"\"))","v":{"$error":"#REF!"}},{"$f":"IF( $AC35 = 0, \"\", IF( OFFSET(#REF!, $AC35 - 1,0,1,1)<>0, IF(OR($AD35=\"LUMP\", $AD35=\"LS\"), \"LUMP\", OFFSET(#REF!, $AC35 - 1,0,1,1)),\"\"))","v":{"$error":"#REF!"}},{"$f":"IF( $AC35 = 0, \"\", IF( OFFSET(#REF!, $AC35 - 1,0,1,1)<>0, IF(OR($AD35=\"LUMP\", $AD35=\"LS\"), \"LUMP\", OFFSET(#REF!, $AC35 - 1,0,1,1)),\"\"))","v":{"$error":"#REF!"}},{"$f":"IF( $AC35 = 0, \"\", IF( OFFSET(#REF!, $AC35 - 1,0,1,1)<>0, IF(OR($AD35=\"LUMP\", $AD35=\"LS\"), \"LUMP\", OFFSET(#REF!, $AC35 - 1,0,1,1)),\"\"))","v":{"$error":"#REF!"}},{"$f":"IF( $AC35 = 0, \"\", IF( OFFSET(#REF!, $AC35 - 1,0,1,1)<>0, IF(OR($AD35=\"LUMP\", $AD35=\"LS\"), \"LUMP\", OFFSET(#REF!, $AC35 - 1,0,1,1)),\"\"))","v":{"$error":"#REF!"}},{"$f":"IF( $AC35 = 0, \"\", IF( OFFSET(#REF!, $AC35 - 1,0,1,1)<>0, IF(OR($AD35=\"LUMP\", $AD35=\"LS\"), \"LUMP\", OFFSET(#REF!, $AC35 - 1,0,1,1)),\"\"))","v":{"$error":"#REF!"}},{"$f":"IF( $AC35 = 0, \"\", IF( OFFSET(#REF!, $AC35 - 1,0,1,1)<>0, IF(OR($AD35=\"LUMP\", $AD35=\"LS\"), \"LUMP\", OFFSET(#REF!, $AC35 - 1,0,1,1)),\"\"))","v":{"$error":"#REF!"}},{"$f":"IF( $AC35 = 0, \"\", IF( OFFSET(#REF!, $AC35 - 1,0,1,1)<>0, LEFT(OFFSET(#REF!, $AC35 - 1,0,1,1),3),\"\"))","v":{"$error":"#REF!"}},{"$f":"IF( $AC35 = 0, \"\", IF( OFFSET(#REF!, $AC35 - 1,0,1,1)<>0, IF(LEN(OFFSET(#REF!, $AC35 - 1,0,1,1))=9,   RIGHT(OFFSET(#REF!, $AC35 - 1,0,1,1),5),    LEFT(RIGHT(OFFSET(#REF!, $AC35 - 1,0,1,1),6), 5)      ),\"\"))","v":{"$error":"#REF!"}},{"$error":"#REF!"},{"$f":"IF( $AC35 = 0, \"\", IF( OFFSET(#REF!, $AC35 - 1,0,1,1)<>0,IF(OR(AD35=\"LUMP\", AD35=\"LS\"), \"\", AD35),\"\"))","v":{"$error":"#REF!"}},{"$f":"IF( $AC35 = 0, \"\", IF( OFFSET(#REF!, $AC35 - 1,0,1,1)<>0, VLOOKUP( OFFSET(#REF!, $AC35 - 1,0,1,1),[1]Items!$A$2:$E$10001,4,0),\"\"))","v":{"$error":"#REF!"}},null,33,{"$f":"INT(AA35/6)","v":5},{"$f":"IF(  (AA35 - 6*AB35) = 0, 0, AA35 - AB35 )","v":28},{"$f":"IF( $AC35 = 0, \"\", IF( OFFSET(#REF!, $AC35 - 1,0,1,1)<>0, VLOOKUP( OFFSET(#REF!, $AC35 - 1,0,1,1),[1]Items!$A$2:$E$10001,3,0),\"\"))","v":{"$error":"#REF!"}}]
[{"$f":"IF( $AC36 = 0, \"\", IF( OFFSET(#REF!, $AC36 - 1,0,1,1)<>0, IF(OR($AD36=\"LUMP\", $AD36=\"LS\"), \"LUMP\", OFFSET(#REF!, $AC36 - 1,0,1,1)),\"\"))","v":{"$error":"#REF!"}},{"$f":"IF( $AC36 = 0, \"\", IF( OFFSET(#REF!, $AC36 - 1,0,1,1)<>0, IF(OR($AD36=\"LUMP\", $AD36=\"LS\"), \"LUMP\", OFFSET(#REF!, $AC36 - 1,0,1,1)),\"\"))","v":{"$error":"#REF!"}},{"$f":"IF( $AC36 = 0, \"\", IF( OFFSET(#REF!, $AC36 - 1,0,1,1)<>0, IF(OR($AD36=\"LUMP\", $AD36=\"LS\"), \"LUMP\", OFFSET(#REF!, $AC36 - 1,0,1,1)),\"\"))","v":{"$error":"#REF!"}},{"$f":"IF( $AC36 = 0, \"\", IF( OFFSET(#REF!, $AC36 - 1,0,1,1)<>0, IF(OR($AD36=\"LUMP\", $AD36=\"LS\"), \"LUMP\", OFFSET(#REF!, $AC36 - 1,0,1,1)),\"\"))","v":{"$error":"#REF!"}},{"$f":"IF( $AC36 = 0, \"\", IF( OFFSET(#REF!, $AC36 - 1,0,1,1)<>0, IF(OR($AD36=\"LUMP\", $AD36=\"LS\"), \"LUMP\", OFFSET(#REF!, $AC36 - 1,0,1,1)),\"\"))","v":{"$error":"#REF!"}},{"$f":"IF( $AC36 = 0, \"\", IF( OFFSET(#REF!, $AC36 - 1,0,1,1)<>0, IF(OR($AD36=\"LUMP\", $AD36=\"LS\"), \"LUMP\", OFFSET(#REF!, $AC36 - 1,0,1,1)),\"\"))","v":{"$error":"#REF!"}},{"$f":"IF( $AC36 = 0, \"\", IF( OFFSET(#REF!, $AC36 - 1,0,1,1)<>0, IF(OR($AD36=\"LUMP\", $AD36=\"LS\"), \"LUMP\", OFFSET(#REF!, $AC36 - 1,0,1,1)),\"\"))","v":{"$error":"#REF!"}},{"$f":"IF( $AC36 = 0, \"\", IF( OFFSET(#REF!, $AC36 - 1,0,1,1)<>0, IF(OR($AD36=\"LUMP\", $AD36=\"LS\"), \"LUMP\", OFFSET(#REF!, $AC36 - 1,0,1,1)),\"\"))","v":{"$error":"#REF!"}},{"$f":"IF( $AC36 = 0, \"\", IF( OFFSET(#REF!, $AC36 - 1,0,1,1)<>0, IF(OR($AD36=\"LUMP\", $AD36=\"LS\"), \"LUMP\", OFFSET(#REF!, $AC36 - 1,0,1,1)),\"\"))","v":{"$error":"#REF!"}},{"$f":"IF( $AC36 = 0, \"\", IF( OFFSET(#REF!, $AC36 - 1,0,1,1)<>0, IF(OR($AD36=\"LUMP\", $AD36=\"LS\"), \"LUMP\", OFFSET(#REF!, $AC36 - 1,0,1,1)),\"\"))","v":{"$error":"#REF!"}},{"$f":"IF( $AC36 = 0, \"\", IF( OFFSET(#REF!, $AC36 - 1,0,1,1)<>0, IF(OR($AD36=\"LUMP\", $AD36=\"LS\"), \"LUMP\", OFFSET(#REF!, $AC36 - 1,0,1,1)),\"\"))","v":{"$error":"#REF!"}},{"$f":"IF( $AC36 = 0, \"\", IF( OFFSET(#REF!, $AC36 - 1,0,1,1)<>0, IF(OR($AD36=\"LUMP\", $AD36=\"LS\"), \"LUMP\", OFFSET(#REF!, $AC36 - 1,0,1,1)),\"\"))","v":{"$error":"#REF!"}},{"$f":"IF( $AC36 = 0, \"\", IF( OFFSET(#REF!, $AC36 - 1,0,1,1)<>0, IF(OR($AD36=\"LUMP\", $AD36=\"LS\"), \"LUMP\", OFFSET(#REF!, $AC36 - 1,0,1,1)),\"\"))","v":{"$error":"#REF!"}},{"$f":"IF( $AC36 = 0, \"\", IF( OFFSET(#REF!, $AC36 - 1,0,1,1)<>0, IF(OR($AD36=\"LUMP\", $AD36=\"LS\"), \"LUMP\", OFFSET(#REF!, $AC36 - 1,0,1,1)),\"\"))","v":{"$error":"#REF!"}},{"$f":"IF( $AC36 = 0, \"\", IF( OFFSET(#REF!, $AC36 - 1,0,1,1)<>0, IF(OR($AD36=\"LUMP\", $AD36=\"LS\"), \"LUMP\", OFFSET(#REF!, $AC36 - 1,0,1,1)),\"\"))","v":{"$error":"#REF!"}},{"$f":"IF( $AC36 = 0, \"\", IF( OFFSET(#REF!, $AC36 - 1,0,1,1)<>0, IF(OR($AD36=\"LUMP\", $AD36=\"LS\"), \"LUMP\", OFFSET(#REF!, $AC36 - 1,0,1,1)),\"\"))","v":{"$error":"#REF!"}},{"$f":"IF( $AC36 = 0, \"\", IF( OFFSET(#REF!, $AC36 - 1,0,1,1)<>0, IF(OR($AD36=\"LUMP\", $AD36=\"LS\"), \"LUMP\", OFFSET(#REF!, $AC36 - 1,0,1,1)),\"\"))","v":{"$error":"#REF!"}},{"$f":"IF( $AC36 = 0, \"\", IF( OFFSET(#REF!, $AC36 - 1,0,1,1)<>0, IF(OR($AD36=\"LUMP\", $AD36=\"LS\"), \"LUMP\", OFFSET(#REF!, $AC36 - 1,0,1,1)),\"\"))","v":{"$error":"#REF!"}},{"$f":"IF( $AC36 = 0, \"\", IF( OFFSET(#REF!, $AC36 - 1,0,1,1)<>0, IF(OR($AD36=\"LUMP\", $AD36=\"LS\"), \"LUMP\", OFFSET(#REF!, $AC36 - 1,0,1,1)),\"\"))","v":{"$error":"#REF!"}},{"$f":"IF( $AC36 = 0, \"\", IF( OFFSET(#REF!, $AC36 - 1,0,1,1)<>0, IF(OR($AD36=\"LUMP\", $AD36=\"LS\"), \"LUMP\", OFFSET(#REF!, $AC36 - 1,0,1,1)),\"\"))","v":{"$error":"#REF!"}},{"$f":"IF( $AC36 = 0, \"\", IF( OFFSET(#REF!, $AC36 - 1,0,1,1)<>0, LEFT(OFFSET(#REF!, $AC36 - 1,0,1,1),3),\"\"))","v":{"$error":"#REF!"}},{"$f":"IF( $AC36 = 0, \"\", IF( OFFSET(#REF!, $AC36 - 1,0,1,1)<>0, IF(LEN(OFFSET(#REF!, $AC36 - 1,0,1,1))=9,   RIGHT(OFFSET(#REF!, $AC36 - 1,0,1,1),5),    LEFT(RIGHT(OFFSET(#REF!, $AC36 - 1,0,1,1),6), 5)      ),\"\"))","v":{"$error":"#REF!"}},{"$error":"#REF!"},{"$f":"IF( $AC36 = 0, \"\", IF( OFFSET(#REF!, $AC36 - 1,0,1,1)<>0,IF(OR(AD36=\"LUMP\", AD36=\"LS\"), \"\", AD36),\"\"))","v":{"$error":"#REF!"}},{"$f":"IF( $AC36 = 0, \"\", IF( OFFSET(#REF!, $AC36 - 1,0,1,1)<>0, VLOOKUP( OFFSET(#REF!, $AC36 - 1,0,1,1),[1]Items!$A$2:$E$10001,4,0),\"\"))","v":{"$error":"#REF!"}},null,{"$f":"AA35+1","v":34},5,29,{"$f":"IF( $AC36 = 0, \"\", IF( OFFSET(#REF!, $AC36 - 1,0,1,1)<>0, VLOOKUP( OFFSET(#REF!, $AC36 - 1,0,1,1),[1]Items!$A$2:$E$10001,3,0),\"\"))","v":{"$error":"#REF!"}}]
[{"$f":"IF( $AC37 = 0, \"\", IF( OFFSET(#REF!, $AC37 - 1,0,1,1)<>0, IF(OR($AD37=\"LUMP\", $AD37=\"LS\"), \"LUMP\", OFFSET(#REF!, $AC37 - 1,0,1,1)),\"\"))","v":{"$error":"#REF!"}},{"$f":"IF( $AC37 = 0, \"\", IF( OFFSET(#REF!, $AC37 - 1,0,1,1)<>0, IF(OR($AD37=\"LUMP\", $AD37=\"LS\"), \"LUMP\", OFFSET(#REF!, $AC37 - 1,0,1,1)),\"\"))","v":{"$error":"#REF!"}},{"$f":"IF( $AC37 = 0, \"\", IF( OFFSET(#REF!, $AC37 - 1,0,1,1)<>0, IF(OR($AD37=\"LUMP\", $AD37=\"LS\"), \"LUMP\", OFFSET(#REF!, $AC37 - 1,0,1,1)),\"\"))","v":{"$error":"#REF!"}},{"$f":"IF( $AC37 = 0, \"\", IF( OFFSET(#REF!, $AC37 - 1,0,1,1)<>0, IF(OR($AD37=\"LUMP\", $AD37=\"LS\"), \"LUMP\", OFFSET(#REF!, $AC37 - 1,0,1,1)),\"\"))","v":{"$error":"#REF!"}},{"$f":"IF( $AC37 = 0, \"\", IF( OFFSET(#REF!, $AC37 - 1,0,1,1)<>0, IF(OR($AD37=\"LUMP\", $AD37=\"LS\"), \"LUMP\", OFFSET(#REF!, $AC37 - 1,0,1,1)),\"\"))","v":{"$error":"#REF!"}},{"$f":"IF( $AC37 = 0, \"\", IF( OFFSET(#REF!, $AC37 - 1,0,1,1)<>0, IF(OR($AD37=\"LUMP\", $AD37=\"LS\"), \"LUMP\", OFFSET(#REF!, $AC37 - 1,0,1,1)),\"\"))","v":{"$error":"#REF!"}},{"$f":"IF( $AC37 = 0, \"\", IF( OFFSET(#REF!, $AC37 - 1,0,1,1)<>0, IF(OR($AD37=\"LUMP\", $AD37=\"LS\"), \"LUMP\", OFFSET(#REF!, $AC37 - 1,0,1,1)),\"\"))","v":{"$error":"#REF!"}},{"$f":"IF( $AC37 = 0, \"\", IF( OFFSET(#REF!, $AC37 - 1,0,1,1)<>0, IF(OR($AD37=\"LUMP\", $AD37=\"LS\"), \"LUMP\", OFFSET(#REF!, $AC37 - 1,0,1,1)),\"\"))","v":{"$error":"#REF!"}},{"$f":"IF( $AC37 = 0, \"\", IF( OFFSET(#REF!, $AC37 - 1,0,1,1)<>0, IF(OR($AD37=\"LUMP\", $AD37=\"LS\"), \"LUMP\", OFFSET(#REF!, $AC37 - 1,0,1,1)),\"\"))","v":{"$error":"#REF!"}},{"$f":"IF( $AC37 = 0, \"\", IF( OFFSET(#REF!, $AC37 - 1,0,1,1)<>0, IF(OR($AD37=\"LUMP\", $AD37=\"LS\"), \"LUMP\", OFFSET(#REF!, $AC37 - 1,0,1,1)),\"\"))","v":{"$error":"#REF!"}},{"$f":"IF( $AC37 = 0, \"\", IF( OFFSET(#REF!, $AC37 - 1,0,1,1)<>0, IF(OR($AD37=\"LUMP\", $AD37=\"LS\"), \"LUMP\", OFFSET(#REF!, $AC37 - 1,0,1,1)),\"\"))","v":{"$error":"#REF!"}},{"$f":"IF( $AC37 = 0, \"\", IF( OFFSET(#REF!, $AC37 - 1,0,1,1)<>0, IF(OR($AD37=\"LUMP\", $AD37=\"LS\"), \"LUMP\", OFFSET(#REF!, $AC37 - 1,0,1,1)),\"\"))","v":{"$error":"#REF!"}},{"$f":"IF( $AC37 = 0, \"\", IF( OFFSET(#REF!, $AC37 - 1,0,1,1)<>0, IF(OR($AD37=\"LUMP\", $AD37=\"LS\"), \"LUMP\", OFFSET(#REF!, $AC37 - 1,0,1,1)),\"\"))","v":{"$error":"#REF!"}},{"$f":"IF( $AC37 = 0, \"\", IF( OFFSET(#REF!, $AC37 - 1,0,1,1)<>0, IF(OR($AD37=\"LUMP\", $AD37=\"LS\"), \"LUMP\", OFFSET(#REF!, $AC37 - 1,0,1,1)),\"\"))","v":{"$error":"#REF!"}},{"$f":"IF( $AC37 = 0, \"\", IF( OFFSET(#REF!, $AC37 - 1,0,1,1)<>0, IF(OR($AD37=\"LUMP\", $AD37=\"LS\"), \"LUMP\", OFFSET(#REF!, $AC37 - 1,0,1,1)),\"\"))","v":{"$error":"#REF!"}},{"$f":"IF( $AC37 = 0, \"\", IF( OFFSET(#REF!, $AC37 - 1,0,1,1)<>0, IF(OR($AD37=\"LUMP\", $AD37=\"LS\"), \"LUMP\", OFFSET(#REF!, $AC37 - 1,0,1,1)),\"\"))","v":{"$error":"#REF!"}},{"$f":"IF( $AC37 = 0, \"\", IF( OFFSET(#REF!, $AC37 - 1,0,1,1)<>0, IF(OR($AD37=\"LUMP\", $AD37=\"LS\"), \"LUMP\", OFFSET(#REF!, $AC37 - 1,0,1,1)),\"\"))","v":{"$error":"#REF!"}},{"$f":"IF( $AC37 = 0, \"\", IF( OFFSET(#REF!, $AC37 - 1,0,1,1)<>0, IF(OR($AD37=\"LUMP\", $AD37=\"LS\"), \"LUMP\", OFFSET(#REF!, $AC37 - 1,0,1,1)),\"\"))","v":{"$error":"#REF!"}},{"$f":"IF( $AC37 = 0, \"\", IF( OFFSET(#REF!, $AC37 - 1,0,1,1)<>0, IF(OR($AD37=\"LUMP\", $AD37=\"LS\"), \"LUMP\", OFFSET(#REF!, $AC37 - 1,0,1,1)),\"\"))","v":{"$error":"#REF!"}},{"$f":"IF( $AC37 = 0, \"\", IF( OFFSET(#REF!, $AC37 - 1,0,1,1)<>0, IF(OR($AD37=\"LUMP\", $AD37=\"LS\"), \"LUMP\", OFFSET(#REF!, $AC37 - 1,0,1,1)),\"\"))","v":{"$error":"#REF!"}},{"$f":"IF( $AC37 = 0, \"\", IF( OFFSET(#REF!, $AC37 - 1,0,1,1)<>0, LEFT(OFFSET(#REF!, $AC37 - 1,0,1,1),3),\"\"))","v":{"$error":"#REF!"}},{"$f":"IF( $AC37 = 0, \"\", IF( OFFSET(#REF!, $AC37 - 1,0,1,1)<>0, IF(LEN(OFFSET(#REF!, $AC37 - 1,0,1,1))=9,   RIGHT(OFFSET(#REF!, $AC37 - 1,0,1,1),5),    LEFT(RIGHT(OFFSET(#REF!, $AC37 - 1,0,1,1),6), 5)      ),\"\"))","v":{"$error":"#REF!"}},{"$error":"#REF!"},{"$f":"IF( $AC37 = 0, \"\", IF( OFFSET(#REF!, $AC37 - 1,0,1,1)<>0,IF(OR(AD37=\"LUMP\", AD37=\"LS\"), \"\", AD37),\"\"))","v":{"$error":"#REF!"}},{"$f":"IF( $AC37 = 0, \"\", IF( OFFSET(#REF!, $AC37 - 1,0,1,1)<>0, VLOOKUP( OFFSET(#REF!, $AC37 - 1,0,1,1),[1]Items!$A$2:$E$10001,4,0),\"\"))","v":{"$error":"#REF!"}},null,35,5,30,{"$f":"IF( $AC37 = 0, \"\", IF( OFFSET(#REF!, $AC37 - 1,0,1,1)<>0, VLOOKUP( OFFSET(#REF!, $AC37 - 1,0,1,1),[1]Items!$A$2:$E$10001,3,0),\"\"))","v":{"$error":"#REF!"}}]
[{"$f":"IF( $AC38 = 0, \"\", IF( OFFSET(#REF!, $AC38 - 1,0,1,1)<>0, IF(OR($AD38=\"LUMP\", $AD38=\"LS\"), \"LUMP\", OFFSET(#REF!, $AC38 - 1,0,1,1)),\"\"))","v":""},{"$f":"IF( $AC38 = 0, \"\", IF( OFFSET(#REF!, $AC38 - 1,0,1,1)<>0, IF(OR($AD38=\"LUMP\", $AD38=\"LS\"), \"LUMP\", OFFSET(#REF!, $AC38 - 1,0,1,1)),\"\"))","v":""},{"$f":"IF( $AC38 = 0, \"\", IF( OFFSET(#REF!, $AC38 - 1,0,1,1)<>0, IF(OR($AD38=\"LUMP\", $AD38=\"LS\"), \"LUMP\", OFFSET(#REF!, $AC38 - 1,0,1,1)),\"\"))","v":""},{"$f":"IF( $AC38 = 0, \"\", IF( OFFSET(#REF!, $AC38 - 1,0,1,1)<>0, IF(OR($AD38=\"LUMP\", $AD38=\"LS\"), \"LUMP\", OFFSET(#REF!, $AC38 - 1,0,1,1)),\"\"))","v":""},{"$f":"IF( $AC38 = 0, \"\", IF( OFFSET(#REF!, $AC38 - 1,0,1,1)<>0, IF(OR($AD38=\"LUMP\", $AD38=\"LS\"), \"LUMP\", OFFSET(#REF!, $AC38 - 1,0,1,1)),\"\"))","v":""},{"$f":"IF( $AC38 = 0, \"\", IF( OFFSET(#REF!, $AC38 - 1,0,1,1)<>0, IF(OR($AD38=\"LUMP\", $AD38=\"LS\"), \"LUMP\", OFFSET(#REF!, $AC38 - 1,0,1,1)),\"\"))","v":""},{"$f":"IF( $AC38 = 0, \"\", IF( OFFSET(#REF!, $AC38 - 1,0,1,1)<>0, IF(OR($AD38=\"LUMP\", $AD38=\"LS\"), \"LUMP\", OFFSET(#REF!, $AC38 - 1,0,1,1)),\"\"))","v":""},{"$f":"IF( $AC38 = 0, \"\", IF( OFFSET(#REF!, $AC38 - 1,0,1,1)<>0, IF(OR($AD38=\"LUMP\", $AD38=\"LS\"), \"LUMP\", OFFSET(#REF!, $AC38 - 1,0,1,1)),\"\"))","v":""},{"$f":"IF( $AC38 = 0, \"\", IF( OFFSET(#REF!, $AC38 - 1,0,1,1)<>0, IF(OR($AD38=\"LUMP\", $AD38=\"LS\"), \"LUMP\", OFFSET(#REF!, $AC38 - 1,0,1,1)),\"\"))","v":""},{"$f":"IF( $AC38 = 0, \"\", IF( OFFSET(#REF!, $AC38 - 1,0,1,1)<>0, IF(OR($AD38=\"LUMP\", $AD38=\"LS\"), \"LUMP\", OFFSET(#REF!, $AC38 - 1,0,1,1)),\"\"))","v":""},{"$f":"IF( $AC38 = 0, \"\", IF( OFFSET(#REF!, $AC38 - 1,0,1,1)<>0, IF(OR($AD38=\"LUMP\", $AD38=\"LS\"), \"LUMP\", OFFSET(#REF!, $AC38 - 1,0,1,1)),\"\"))","v":""},{"$f":"IF( $AC38 = 0, \"\", IF( OFFSET(#REF!, $AC38 - 1,0,1,1)<>0, IF(OR($AD38=\"LUMP\", $AD38=\"LS\"), \"LUMP\", OFFSET(#REF!, $AC38 - 1,0,1,1)),\"\"))","v":""},{"$f":"IF( $AC38 = 0, \"\", IF( OFFSET(#REF!, $AC38 - 1,0,1,1)<>0, IF(OR($AD38=\"LUMP\", $AD38=\"LS\"), \"LUMP\", OFFSET(#REF!, $AC38 - 1,0,1,1)),\"\"))","v":""},{"$f":"IF( $AC38 = 0, \"\", IF( OFFSET(#REF!, $AC38 - 1,0,1,1)<>0, IF(OR($AD38=\"LUMP\", $AD38=\"LS\"), \"LUMP\", OFFSET(#REF!, $AC38 - 1,0,1,1)),\"\"))","v":""},{"$f":"IF( $AC38 = 0, \"\", IF( OFFSET(#REF!, $AC38 - 1,0,1,1)<>0, IF(OR($AD38=\"LUMP\", $AD38=\"LS\"), \"LUMP\", OFFSET(#REF!, $AC38 - 1,0,1,1)),\"\"))","v":""},{"$f":"IF( $AC38 = 0, \"\", IF( OFFSET(#REF!, $AC38 - 1,0,1,1)<>0, IF(OR($AD38=\"LUMP\", $AD38=\"LS\"), \"LUMP\", OFFSET(#REF!, $AC38 - 1,0,1,1)),\"\"))","v":""},{"$f":"IF( $AC38 = 0, \"\", IF( OFFSET(#REF!, $AC38 - 1,0,1,1)<>0, IF(OR($AD38=\"LUMP\", $AD38=\"LS\"), \"LUMP\", OFFSET(#REF!, $AC38 - 1,0,1,1)),\"\"))","v":""},{"$f":"IF( $AC38 = 0, \"\", IF( OFFSET(#REF!, $AC38 - 1,0,1,1)<>0, IF(OR($AD38=\"LUMP\", $AD38=\"LS\"), \"LUMP\", OFFSET(#REF!, $AC38 - 1,0,1,1)),\"\"))","v":""},{"$f":"IF( $AC38 = 0, \"\", IF( OFFSET(#REF!, $AC38 - 1,0,1,1)<>0, IF(OR($AD38=\"LUMP\", $AD38=\"LS\"), \"LUMP\", OFFSET(#REF!, $AC38 - 1,0,1,1)),\"\"))","v":""},{"$f":"IF( $AC38 = 0, \"\", IF( OFFSET(#REF!, $AC38 - 1,0,1,1)<>0, IF(OR($AD38=\"LUMP\", $AD38=\"LS\"), \"LUMP\", OFFSET(#REF!, $AC38 - 1,0,1,1)),\"\"))","v":""},{"$f":"IF( $AC38 = 0, \"\", IF( OFFSET(#REF!, $AC38 - 1,0,1,1)<>0, LEFT(OFFSET(#REF!, $AC38 - 1,0,1,1),3),\"\"))","v":""},{"$f":"IF( $AC38 = 0, \"\", IF( OFFSET(#REF!, $AC38 - 1,0,1,1)<>0, IF(LEN(OFFSET(#REF!, $AC38 - 1,0,1,1))=9,   RIGHT(OFFSET(#REF!, $AC38 - 1,0,1,1),5),    LEFT(RIGHT(OFFSET(#REF!, $AC38 - 1,0,1,1),6), 5)      ),\"\"))","v":""},"",{"$f":"IF( $AC38 = 0, \"\", IF( OFFSET(#REF!, $AC38 - 1,0,1,1)<>0,IF(OR(AD38=\"LUMP\", AD38=\"LS\"), \"\", AD38),\"\"))","v":""},{"$f":"IF( $AC38 = 0, \"\", IF( OFFSET(#REF!, $AC38 - 1,0,1,1)<>0, VLOOKUP( OFFSET(#REF!, $AC38 - 1,0,1,1),[1]Items!$A$2:$E$10001,4,0),\"\"))","v":""},null,36,6,0,{"$f":"IF( $AC38 = 0, \"\", IF( OFFSET(#REF!, $AC38 - 1,0,1,1)<>0, VLOOKUP( OFFSET(#REF!, $AC38 - 1,0,1,1),[1]Items!$A$2:$E$10001,3,0),\"\"))","v":""}]
[{"$f":"IF( $AC39 = 0, \"\", IF( OFFSET(#REF!, $AC39 - 1,0,1,1)<>0, IF(OR($AD39=\"LUMP\", $AD39=\"LS\"), \"LUMP\", OFFSET(#REF!, $AC39 - 1,0,1,1)),\"\"))","v":{"$error":"#REF!"}},{"$f":"IF( $AC39 = 0, \"\", IF( OFFSET(#REF!, $AC39 - 1,0,1,1)<>0, IF(OR($AD39=\"LUMP\", $AD39=\"LS\"), \"LUMP\", OFFSET(#REF!, $AC39 - 1,0,1,1)),\"\"))","v":{"$error":"#REF!"}},{"$f":"IF( $AC39 = 0, \"\", IF( OFFSET(#REF!, $AC39 - 1,0,1,1)<>0, IF(OR($AD39=\"LUMP\", $AD39=\"LS\"), \"LUMP\", OFFSET(#REF!, $AC39 - 1,0,1,1)),\"\"))","v":{"$error":"#REF!"}},{"$f":"IF( $AC39 = 0, \"\", IF( OFFSET(#REF!, $AC39 - 1,0,1,1)<>0, IF(OR($AD39=\"LUMP\", $AD39=\"LS\"), \"LUMP\", OFFSET(#REF!, $AC39 - 1,0,1,1)),\"\"))","v":{"$error":"#REF!"}},{"$f":"IF( $AC39 = 0, \"\", IF( OFFSET(#REF!, $AC39 - 1,0,1,1)<>0, IF(OR($AD39=\"LUMP\", $AD39=\"LS\"), \"LUMP\", OFFSET(#REF!, $AC39 - 1,0,1,1)),\"\"))","v":{"$error":"#REF!"}},{"$f":"IF( $AC39 = 0, \"\", IF( OFFSET(#REF!, $AC39 - 1,0,1,1)<>0, IF(OR($AD39=\"LUMP\", $AD39=\"LS\"), \"LUMP\", OFFSET(#REF!, $AC39 - 1,0,1,1)),\"\"))","v":{"$error":"#REF!"}},{"$f":"IF( $AC39 = 0, \"\", IF( OFFSET(#REF!, $AC39 - 1,0,1,1)<>0, IF(OR($AD39=\"LUMP\", $AD39=\"LS\"), \"LUMP\", OFFSET(#REF!, $AC39 - 1,0,1,1)),\"\"))","v":{"$error":"#REF!"}},{"$f":"IF( $AC39 = 0, \"\", IF( OFFSET(#REF!, $AC39 - 1,0,1,1)<>0, IF(OR($AD39=\"LUMP\", $AD39=\"LS\"), \"LUMP\", OFFSET(#REF!, $AC39 - 1,0,1,1)),\"\"))","v":{"$error":"#REF!"}},{"$f":"IF( $AC39 = 0, \"\", IF( OFFSET(#REF!, $AC39 - 1,0,1,1)<>0, IF(OR($AD39=\"LUMP\", $AD39=\"LS\"), \"LUMP\", OFFSET(#REF!, $AC39 - 1,0,1,1)),\"\"))","v":{"$error":"#REF!"}},{"$f":"IF( $AC39 = 0, \"\", IF( OFFSET(#REF!, $AC39 - 1,0,1,1)<>0, IF(OR($AD39=\"LUMP\", $AD39=\"LS\"), \"LUMP\", OFFSET(#REF!, $AC39 - 1,0,1,1)),\"\"))","v":{"$error":"#REF!"}},{"$f":"IF( $AC39 = 0, \"\", IF( OFFSET(#REF!, $AC39 - 1,0,1,1)<>0, IF(OR($AD39=\"LUMP\", $AD39=\"LS\"), \"LUMP\", OFFSET(#REF!, $AC39 - 1,0,1,1)),\"\"))","v":{"$error":"#REF!"}},{"$f":"IF( $AC39 = 0, \"\", IF( OFFSET(#REF!, $AC39 - 1,0,1,1)<>0, IF(OR($AD39=\"LUMP\", $AD39=\"LS\"), \"LUMP\", OFFSET(#REF!, $AC39 - 1,0,1,1)),\"\"))","v":{"$error":"#REF!"}},{"$f":"IF( $AC39 = 0, \"\", IF( OFFSET(#REF!, $AC39 - 1,0,1,1)<>0, IF(OR($AD39=\"LUMP\", $AD39=\"LS\"), \"LUMP\", OFFSET(#REF!, $AC39 - 1,0,1,1)),\"\"))","v":{"$error":"#REF!"}},{"$f":"IF( $AC39 = 0, \"\", IF( OFFSET(#REF!, $AC39 - 1,0,1,1)<>0, IF(OR($AD39=\"LUMP\", $AD39=\"LS\"), \"LUMP\", OFFSET(#REF!, $AC39 - 1,0,1,1)),\"\"))","v":{"$error":"#REF!"}},{"$f":"IF( $AC39 = 0, \"\", IF( OFFSET(#REF!, $AC39 - 1,0,1,1)<>0, IF(OR($AD39=\"LUMP\", $AD39=\"LS\"), \"LUMP\", OFFSET(#REF!, $AC39 - 1,0,1,1)),\"\"))","v":{"$error":"#REF!"}},{"$f":"IF( $AC39 = 0, \"\", IF( OFFSET(#REF!, $AC39 - 1,0,1,1)<>0, IF(OR($AD39=\"LUMP\", $AD39=\"LS\"), \"LUMP\", OFFSET(#REF!, $AC39 - 1,0,1,1)),\"\"))","v":{"$error":"#REF!"}},{"$f":"IF( $AC39 = 0, \"\", IF( OFFSET(#REF!, $AC39 - 1,0,1,1)<>0, IF(OR($AD39=\"LUMP\", $AD39=\"LS\"), \"LUMP\", OFFSET(#REF!, $AC39 - 1,0,1,1)),\"\"))","v":{"$error":"#REF!"}},{"$f":"IF( $AC39 = 0, \"\", IF( OFFSET(#REF!, $AC39 - 1,0,1,1)<>0, IF(OR($AD39=\"LUMP\", $AD39=\"LS\"), \"LUMP\", OFFSET(#REF!, $AC39 - 1,0,1,1)),\"\"))","v":{"$error":"#REF!"}},{"$f":"IF( $AC39 = 0, \"\", IF( OFFSET(#REF!, $AC39 - 1,0,1,1)<>0, IF(OR($AD39=\"LUMP\", $AD39=\"LS\"), \"LUMP\", OFFSET(#REF!, $AC39 - 1,0,1,1)),\"\"))","v":{"$error":"#REF!"}},{"$f":"IF( $AC39 = 0, \"\", IF( OFFSET(#REF!, $AC39 - 1,0,1,1)<>0, IF(OR($AD39=\"LUMP\", $AD39=\"LS\"), \"LUMP\", OFFSET(#REF!, $AC39 - 1,0,1,1)),\"\"))","v":{"$error":"#REF!"}},{"$f":"IF( $AC39 = 0, \"\", IF( OFFSET(#REF!, $AC39 - 1,0,1,1)<>0, LEFT(OFFSET(#REF!, $AC39 - 1,0,1,1),3),\"\"))","v":{"$error":"#REF!"}},{"$f":"IF( $AC39 = 0, \"\", IF( OFFSET(#REF!, $AC39 - 1,0,1,1)<>0, IF(LEN(OFFSET(#REF!, $AC39 - 1,0,1,1))=9,   RIGHT(OFFSET(#REF!, $AC39 - 1,0,1,1),5),    LEFT(RIGHT(OFFSET(#REF!, $AC39 - 1,0,1,1),6), 5)      ),\"\"))","v":{"$error":"#REF!"}},{"$error":"#REF!"},{"$f":"IF( $AC39 = 0, \"\", IF( OFFSET(#REF!, $AC39 - 1,0,1,1)<>0,IF(OR(AD39=\"LUMP\", AD39=\"LS\"), \"\", AD39),\"\"))","v":{"$error":"#REF!"}},{"$f":"IF( $AC39 = 0, \"\", IF( OFFSET(#REF!, $AC39 - 1,0,1,1)<>0, VLOOKUP( OFFSET(#REF!, $AC39 - 1,0,1,1),[1]Items!$A$2:$E$10001,4,0),\"\"))","v":{"$error":"#REF!"}},null,37,6,31,{"$f":"IF( $AC39 = 0, \"\", IF( OFFSET(#REF!, $AC39 - 1,0,1,1)<>0, VLOOKUP( OFFSET(#REF!, $AC39 - 1,0,1,1),[1]Items!$A$2:$E$10001,3,0),\"\"))","v":{"$error":"#REF!"}}]
[{"$f":"IF( $AC40 = 0, \"\", IF( OFFSET(#REF!, $AC40 - 1,0,1,1)<>0, IF(OR($AD40=\"LUMP\", $AD40=\"LS\"), \"LUMP\", OFFSET(#REF!, $AC40 - 1,0,1,1)),\"\"))","v":{"$error":"#REF!"}},{"$f":"IF( $AC40 = 0, \"\", IF( OFFSET(#REF!, $AC40 - 1,0,1,1)<>0, IF(OR($AD40=\"LUMP\", $AD40=\"LS\"), \"LUMP\", OFFSET(#REF!, $AC40 - 1,0,1,1)),\"\"))","v":{"$error":"#REF!"}},{"$f":"IF( $AC40 = 0, \"\", IF( OFFSET(#REF!, $AC40 - 1,0,1,1)<>0, IF(OR($AD40=\"LUMP\", $AD40=\"LS\"), \"LUMP\", OFFSET(#REF!, $AC40 - 1,0,1,1)),\"\"))","v":{"$error":"#REF!"}},{"$f":"IF( $AC40 = 0, \"\", IF( OFFSET(#REF!, $AC40 - 1,0,1,1)<>0, IF(OR($AD40=\"LUMP\", $AD40=\"LS\"), \"LUMP\", OFFSET(#REF!, $AC40 - 1,0,1,1)),\"\"))","v":{"$error":"#REF!"}},{"$f":"IF( $AC40 = 0, \"\", IF( OFFSET(#REF!, $AC40 - 1,0,1,1)<>0, IF(OR($AD40=\"LUMP\", $AD40=\"LS\"), \"LUMP\", OFFSET(#REF!, $AC40 - 1,0,1,1)),\"\"))","v":{"$error":"#REF!"}},{"$f":"IF( $AC40 = 0, \"\", IF( OFFSET(#REF!, $AC40 - 1,0,1,1)<>0, IF(OR($AD40=\"LUMP\", $AD40=\"LS\"), \"LUMP\", OFFSET(#REF!, $AC40 - 1,0,1,1)),\"\"))","v":{"$error":"#REF!"}},{"$f":"IF( $AC40 = 0, \"\", IF( OFFSET(#REF!, $AC40 - 1,0,1,1)<>0, IF(OR($AD40=\"LUMP\", $AD40=\"LS\"), \"LUMP\", OFFSET(#REF!, $AC40 - 1,0,1,1)),\"\"))","v":{"$error":"#REF!"}},{"$f":"IF( $AC40 = 0, \"\", IF( OFFSET(#REF!, $AC40 - 1,0,1,1)<>0, IF(OR($AD40=\"LUMP\", $AD40=\"LS\"), \"LUMP\", OFFSET(#REF!, $AC40 - 1,0,1,1)),\"\"))","v":{"$error":"#REF!"}},{"$f":"IF( $AC40 = 0, \"\", IF( OFFSET(#REF!, $AC40 - 1,0,1,1)<>0, IF(OR($AD40=\"LUMP\", $AD40=\"LS\"), \"LUMP\", OFFSET(#REF!, $AC40 - 1,0,1,1)),\"\"))","v":{"$error":"#REF!"}},{"$f":"IF( $AC40 = 0, \"\", IF( OFFSET(#REF!, $AC40 - 1,0,1,1)<>0, IF(OR($AD40=\"LUMP\", $AD40=\"LS\"), \"LUMP\", OFFSET(#REF!, $AC40 - 1,0,1,1)),\"\"))","v":{"$error":"#REF!"}},{"$f":"IF( $AC40 = 0, \"\", IF( OFFSET(#REF!, $AC40 - 1,0,1,1)<>0, IF(OR($AD40=\"LUMP\", $AD40=\"LS\"), \"LUMP\", OFFSET(#REF!, $AC40 - 1,0,1,1)),\"\"))","v":{"$error":"#REF!"}},{"$f":"IF( $AC40 = 0, \"\", IF( OFFSET(#REF!, $AC40 - 1,0,1,1)<>0, IF(OR($AD40=\"LUMP\", $AD40=\"LS\"), \"LUMP\", OFFSET(#REF!, $AC40 - 1,0,1,1)),\"\"))","v":{"$error":"#REF!"}},{"$f":"IF( $AC40 = 0, \"\", IF( OFFSET(#REF!, $AC40 - 1,0,1,1)<>0, IF(OR($AD40=\"LUMP\", $AD40=\"LS\"), \"LUMP\", OFFSET(#REF!, $AC40 - 1,0,1,1)),\"\"))","v":{"$error":"#REF!"}},{"$f":"IF( $AC40 = 0, \"\", IF( OFFSET(#REF!, $AC40 - 1,0,1,1)<>0, IF(OR($AD40=\"LUMP\", $AD40=\"LS\"), \"LUMP\", OFFSET(#REF!, $AC40 - 1,0,1,1)),\"\"))","v":{"$error":"#REF!"}},{"$f":"IF( $AC40 = 0, \"\", IF( OFFSET(#REF!, $AC40 - 1,0,1,1)<>0, IF(OR($AD40=\"LUMP\", $AD40=\"LS\"), \"LUMP\", OFFSET(#REF!, $AC40 - 1,0,1,1)),\"\"))","v":{"$error":"#REF!"}},{"$f":"IF( $AC40 = 0, \"\", IF( OFFSET(#REF!, $AC40 - 1,0,1,1)<>0, IF(OR($AD40=\"LUMP\", $AD40=\"LS\"), \"LUMP\", OFFSET(#REF!, $AC40 - 1,0,1,1)),\"\"))","v":{"$error":"#REF!"}},{"$f":"IF( $AC40 = 0, \"\", IF( OFFSET(#REF!, $AC40 - 1,0,1,1)<>0, IF(OR($AD40=\"LUMP\", $AD40=\"LS\"), \"LUMP\", OFFSET(#REF!, $AC40 - 1,0,1,1)),\"\"))","v":{"$error":"#REF!"}},{"$f":"IF( $AC40 = 0, \"\", IF( OFFSET(#REF!, $AC40 - 1,0,1,1)<>0, IF(OR($AD40=\"LUMP\", $AD40=\"LS\"), \"LUMP\", OFFSET(#REF!, $AC40 - 1,0,1,1)),\"\"))","v":{"$error":"#REF!"}},{"$f":"IF( $AC40 = 0, \"\", IF( OFFSET(#REF!, $AC40 - 1,0,1,1)<>0, IF(OR($AD40=\"LUMP\", $AD40=\"LS\"), \"LUMP\", OFFSET(#REF!, $AC40 - 1,0,1,1)),\"\"))","v":{"$error":"#REF!"}},{"$f":"IF( $AC40 = 0, \"\", IF( OFFSET(#REF!, $AC40 - 1,0,1,1)<>0, IF(OR($AD40=\"LUMP\", $AD40=\"LS\"), \"LUMP\", OFFSET(#REF!, $AC40 - 1,0,1,1)),\"\"))","v":{"$error":"#REF!"}},{"$f":"IF( $AC40 = 0, \"\", IF( OFFSET(#REF!, $AC40 - 1,0,1,1)<>0, LEFT(OFFSET(#REF!, $AC40 - 1,0,1,1),3),\"\"))","v":{"$error":"#REF!"}},{"$f":"IF( $AC40 = 0, \"\", IF( OFFSET(#REF!, $AC40 - 1,0,1,1)<>0, IF(LEN(OFFSET(#REF!, $AC40 - 1,0,1,1))=9,   RIGHT(OFFSET(#REF!, $AC40 - 1,0,1,1),5),    LEFT(RIGHT(OFFSET(#REF!, $AC40 - 1,0,1,1),6), 5)      ),\"\"))","v":{"$error":"#REF!"}},{"$error":"#REF!"},{"$f":"IF( $AC40 = 0, \"\", IF( OFFSET(#REF!, $AC40 - 1,0,1,1)<>0,IF(OR(AD40=\"LUMP\", AD40=\"LS\"), \"\", AD40),\"\"))","v":{"$error":"#REF!"}},{"$f":"IF( $AC40 = 0, \"\", IF( OFFSET(#REF!, $AC40 - 1,0,1,1)<>0, VLOOKUP( OFFSET(#REF!, $AC40 - 1,0,1,1),[1]Items!$A$2:$E$10001,4,0),\"\"))","v":{"$error":"#REF!"}},null,38,6,32,{"$f":"IF( $AC40 = 0, \"\", IF( OFFSET(#REF!, $AC40 - 1,0,1,1)<>0, VLOOKUP( OFFSET(#REF!, $AC40 - 1,0,1,1),[1]Items!$A$2:$E$10001,3,0),\"\"))","v":{"$error":"#REF!"}}]
[{"$f":"IF( $AC41 = 0, \"\", IF( OFFSET(#REF!, $AC41 - 1,0,1,1)<>0, IF(OR($AD41=\"LUMP\", $AD41=\"LS\"), \"LUMP\", OFFSET(#REF!, $AC41 - 1,0,1,1)),\"\"))","v":{"$error":"#REF!"}},{"$f":"IF( $AC41 = 0, \"\", IF( OFFSET(#REF!, $AC41 - 1,0,1,1)<>0, IF(OR($AD41=\"LUMP\", $AD41=\"LS\"), \"LUMP\", OFFSET(#REF!, $AC41 - 1,0,1,1)),\"\"))","v":{"$error":"#REF!"}},{"$f":"IF( $AC41 = 0, \"\", IF( OFFSET(#REF!, $AC41 - 1,0,1,1)<>0, IF(OR($AD41=\"LUMP\", $AD41=\"LS\"), \"LUMP\", OFFSET(#REF!, $AC41 - 1,0,1,1)),\"\"))","v":{"$error":"#REF!"}},{"$f":"IF( $AC41 = 0, \"\", IF( OFFSET(#REF!, $AC41 - 1,0,1,1)<>0, IF(OR($AD41=\"LUMP\", $AD41=\"LS\"), \"LUMP\", OFFSET(#REF!, $AC41 - 1,0,1,1)),\"\"))","v":{"$error":"#REF!"}},{"$f":"IF( $AC41 = 0, \"\", IF( OFFSET(#REF!, $AC41 - 1,0,1,1)<>0, IF(OR($AD41=\"LUMP\", $AD41=\"LS\"), \"LUMP\", OFFSET(#REF!, $AC41 - 1,0,1,1)),\"\"))","v":{"$error":"#REF!"}},{"$f":"IF( $AC41 = 0, \"\", IF( OFFSET(#REF!, $AC41 - 1,0,1,1)<>0, IF(OR($AD41=\"LUMP\", $AD41=\"LS\"), \"LUMP\", OFFSET(#REF!, $AC41 - 1,0,1,1)),\"\"))","v":{"$error":"#REF!"}},{"$f":"IF( $AC41 = 0, \"\", IF( OFFSET(#REF!, $AC41 - 1,0,1,1)<>0, IF(OR($AD41=\"LUMP\", $AD41=\"LS\"), \"LUMP\", OFFSET(#REF!, $AC41 - 1,0,1,1)),\"\"))","v":{"$error":"#REF!"}},{"$f":"IF( $AC41 = 0, \"\", IF( OFFSET(#REF!, $AC41 - 1,0,1,1)<>0, IF(OR($AD41=\"LUMP\", $AD41=\"LS\"), \"LUMP\", OFFSET(#REF!, $AC41 - 1,0,1,1)),\"\"))","v":{"$error":"#REF!"}},{"$f":"IF( $AC41 = 0, \"\", IF( OFFSET(#REF!, $AC41 - 1,0,1,1)<>0, IF(OR($AD41=\"LUMP\", $AD41=\"LS\"), \"LUMP\", OFFSET(#REF!, $AC41 - 1,0,1,1)),\"\"))","v":{"$error":"#REF!"}},{"$f":"IF( $AC41 = 0, \"\", IF( OFFSET(#REF!, $AC41 - 1,0,1,1)<>0, IF(OR($AD41=\"LUMP\", $AD41=\"LS\"), \"LUMP\", OFFSET(#REF!, $AC41 - 1,0,1,1)),\"\"))","v":{"$error":"#REF!"}},{"$f":"IF( $AC41 = 0, \"\", IF( OFFSET(#REF!, $AC41 - 1,0,1,1)<>0, IF(OR($AD41=\"LUMP\", $AD41=\"LS\"), \"LUMP\", OFFSET(#REF!, $AC41 - 1,0,1,1)),\"\"))","v":{"$error":"#REF!"}},{"$f":"IF( $AC41 = 0, \"\", IF( OFFSET(#REF!, $AC41 - 1,0,1,1)<>0, IF(OR($AD41=\"LUMP\", $AD41=\"LS\"), \"LUMP\", OFFSET(#REF!, $AC41 - 1,0,1,1)),\"\"))","v":{"$error":"#REF!"}},{"$f":"IF( $AC41 = 0, \"\", IF( OFFSET(#REF!, $AC41 - 1,0,1,1)<>0, IF(OR($AD41=\"LUMP\", $AD41=\"LS\"), \"LUMP\", OFFSET(#REF!, $AC41 - 1,0,1,1)),\"\"))","v":{"$error":"#REF!"}},{"$f":"IF( $AC41 = 0, \"\", IF( OFFSET(#REF!, $AC41 - 1,0,1,1)<>0, IF(OR($AD41=\"LUMP\", $AD41=\"LS\"), \"LUMP\", OFFSET(#REF!, $AC41 - 1,0,1,1)),\"\"))","v":{"$error":"#REF!"}},{"$f":"IF( $AC41 = 0, \"\", IF( OFFSET(#REF!, $AC41 - 1,0,1,1)<>0, IF(OR($AD41=\"LUMP\", $AD41=\"LS\"), \"LUMP\", OFFSET(#REF!, $AC41 - 1,0,1,1)),\"\"))","v":{"$error":"#REF!"}},{"$f":"IF( $AC41 = 0, \"\", IF( OFFSET(#REF!, $AC41 - 1,0,1,1)<>0, IF(OR($AD41=\"LUMP\", $AD41=\"LS\"), \"LUMP\", OFFSET(#REF!, $AC41 - 1,0,1,1)),\"\"))","v":{"$error":"#REF!"}},{"$f":"IF( $AC41 = 0, \"\", IF( OFFSET(#REF!, $AC41 - 1,0,1,1)<>0, IF(OR($AD41=\"LUMP\", $AD41=\"LS\"), \"LUMP\", OFFSET(#REF!, $AC41 - 1,0,1,1)),\"\"))","v":{"$error":"#REF!"}},{"$f":"IF( $AC41 = 0, \"\", IF( OFFSET(#REF!, $AC41 - 1,0,1,1)<>0, IF(OR($AD41=\"LUMP\", $AD41=\"LS\"), \"LUMP\", OFFSET(#REF!, $AC41 - 1,0,1,1)),\"\"))","v":{"$error":"#REF!"}},{"$f":"IF( $AC41 = 0, \"\", IF( OFFSET(#REF!, $AC41 - 1,0,1,1)<>0, IF(OR($AD41=\"LUMP\", $AD41=\"LS\"), \"LUMP\", OFFSET(#REF!, $AC41 - 1,0,1,1)),\"\"))","v":{"$error":"#REF!"}},{"$f":"IF( $AC41 = 0, \"\", IF( OFFSET(#REF!, $AC41 - 1,0,1,1)<>0, IF(OR($AD41=\"LUMP\", $AD41=\"LS\"), \"LUMP\", OFFSET(#REF!, $AC41 - 1,0,1,1)),\"\"))","v":{"$error":"#REF!"}},{"$f":"IF( $AC41 = 0, \"\", IF( OFFSET(#REF!, $AC41 - 1,0,1,1)<>0, LEFT(OFFSET(#REF!, $AC41 - 1,0,1,1),3),\"\"))","v":{"$error":"#REF!"}},{"$f":"IF( $AC41 = 0, \"\", IF( OFFSET(#REF!, $AC41 - 1,0,1,1)<>0, IF(LEN(OFFSET(#REF!, $AC41 - 1,0,1,1))=9,   RIGHT(OFFSET(#REF!, $AC41 - 1,0,1,1),5),    LEFT(RIGHT(OFFSET(#REF!, $AC41 - 1,0,1,1),6), 5)      ),\"\"))","v":{"$error":"#REF!"}},{"$error":"#REF!"},{"$f":"IF( $AC41 = 0, \"\", IF( OFFSET(#REF!, $AC41 - 1,0,1,1)<>0,IF(OR(AD41=\"LUMP\", AD41=\"LS\"), \"\", AD41),\"\"))","v":{"$error":"#REF!"}},{"$f":"IF( $AC41 = 0, \"\", IF( OFFSET(#REF!, $AC41 - 1,0,1,1)<>0, VLOOKUP( OFFSET(#REF!, $AC41 - 1,0,1,1),[1]Items!$A$2:$E$10001,4,0),\"\"))","v":{"$error":"#REF!"}},null,39,6,33,{"$f":"IF( $AC41 = 0, \"\", IF( OFFSET(#REF!, $AC41 - 1,0,1,1)<>0, VLOOKUP( OFFSET(#REF!, $AC41 - 1,0,1,1),[1]Items!$A$2:$E$10001,3,0),\"\"))","v":{"$error":"#REF!"}}]
[{"$f":"IF( $AC42 = 0, \"\", IF( OFFSET(#REF!, $AC42 - 1,0,1,1)<>0, IF(OR($AD42=\"LUMP\", $AD42=\"LS\"), \"LUMP\", OFFSET(#REF!, $AC42 - 1,0,1,1)),\"\"))","v":{"$error":"#REF!"}},{"$f":"IF( $AC42 = 0, \"\", IF( OFFSET(#REF!, $AC42 - 1,0,1,1)<>0, IF(OR($AD42=\"LUMP\", $AD42=\"LS\"), \"LUMP\", OFFSET(#REF!, $AC42 - 1,0,1,1)),\"\"))","v":{"$error":"#REF!"}},{"$f":"IF( $AC42 = 0, \"\", IF( OFFSET(#REF!, $AC42 - 1,0,1,1)<>0, IF(OR($AD42=\"LUMP\", $AD42=\"LS\"), \"LUMP\", OFFSET(#REF!, $AC42 - 1,0,1,1)),\"\"))","v":{"$error":"#REF!"}},{"$f":"IF( $AC42 = 0, \"\", IF( OFFSET(#REF!, $AC42 - 1,0,1,1)<>0, IF(OR($AD42=\"LUMP\", $AD42=\"LS\"), \"LUMP\", OFFSET(#REF!, $AC42 - 1,0,1,1)),\"\"))","v":{"$error":"#REF!"}},{"$f":"IF( $AC42 = 0, \"\", IF( OFFSET(#REF!, $AC42 - 1,0,1,1)<>0, IF(OR($AD42=\"LUMP\", $AD42=\"LS\"), \"LUMP\", OFFSET(#REF!, $AC42 - 1,0,1,1)),\"\"))","v":{"$error":"#REF!"}},{"$f":"IF( $AC42 = 0, \"\", IF( OFFSET(#REF!, $AC42 - 1,0,1,1)<>0, IF(OR($AD42=\"LUMP\", $AD42=\"LS\"), \"LUMP\", OFFSET(#REF!, $AC42 - 1,0,1,1)),\"\"))","v":{"$error":"#REF!"}},{"$f":"IF( $AC42 = 0, \"\", IF( OFFSET(#REF!, $AC42 - 1,0,1,1)<>0, IF(OR($AD42=\"LUMP\", $AD42=\"LS\"), \"LUMP\", OFFSET(#REF!, $AC42 - 1,0,1,1)),\"\"))","v":{"$error":"#REF!"}},{"$f":"IF( $AC42 = 0, \"\", IF( OFFSET(#REF!, $AC42 - 1,0,1,1)<>0, IF(OR($AD42=\"LUMP\", $AD42=\"LS\"), \"LUMP\", OFFSET(#REF!, $AC42 - 1,0,1,1)),\"\"))","v":{"$error":"#REF!"}},{"$f":"IF( $AC42 = 0, \"\", IF( OFFSET(#REF!, $AC42 - 1,0,1,1)<>0, IF(OR($AD42=\"LUMP\", $AD42=\"LS\"), \"LUMP\", OFFSET(#REF!, $AC42 - 1,0,1,1)),\"\"))","v":{"$error":"#REF!"}},{"$f":"IF( $AC42 = 0, \"\", IF( OFFSET(#REF!, $AC42 - 1,0,1,1)<>0, IF(OR($AD42=\"LUMP\", $AD42=\"LS\"), \"LUMP\", OFFSET(#REF!, $AC42 - 1,0,1,1)),\"\"))","v":{"$error":"#REF!"}},{"$f":"IF( $AC42 = 0, \"\", IF( OFFSET(#REF!, $AC42 - 1,0,1,1)<>0, IF(OR($AD42=\"LUMP\", $AD42=\"LS\"), \"LUMP\", OFFSET(#REF!, $AC42 - 1,0,1,1)),\"\"))","v":{"$error":"#REF!"}},{"$f":"IF( $AC42 = 0, \"\", IF( OFFSET(#REF!, $AC42 - 1,0,1,1)<>0, IF(OR($AD42=\"LUMP\", $AD42=\"LS\"), \"LUMP\", OFFSET(#REF!, $AC42 - 1,0,1,1)),\"\"))","v":{"$error":"#REF!"}},{"$f":"IF( $AC42 = 0, \"\", IF( OFFSET(#REF!, $AC42 - 1,0,1,1)<>0, IF(OR($AD42=\"LUMP\", $AD42=\"LS\"), \"LUMP\", OFFSET(#REF!, $AC42 - 1,0,1,1)),\"\"))","v":{"$error":"#REF!"}},{"$f":"IF( $AC42 = 0, \"\", IF( OFFSET(#REF!, $AC42 - 1,0,1,1)<>0, IF(OR($AD42=\"LUMP\", $AD42=\"LS\"), \"LUMP\", OFFSET(#REF!, $AC42 - 1,0,1,1)),\"\"))","v":{"$error":"#REF!"}},{"$f":"IF( $AC42 = 0, \"\", IF( OFFSET(#REF!, $AC42 - 1,0,1,1)<>0, IF(OR($AD42=\"LUMP\", $AD42=\"LS\"), \"LUMP\", OFFSET(#REF!, $AC42 - 1,0,1,1)),\"\"))","v":{"$error":"#REF!"}},{"$f":"IF( $AC42 = 0, \"\", IF( OFFSET(#REF!, $AC42 - 1,0,1,1)<>0, IF(OR($AD42=\"LUMP\", $AD42=\"LS\"), \"LUMP\", OFFSET(#REF!, $AC42 - 1,0,1,1)),\"\"))","v":{"$error":"#REF!"}},{"$f":"IF( $AC42 = 0, \"\", IF( OFFSET(#REF!, $AC42 - 1,0,1,1)<>0, IF(OR($AD42=\"LUMP\", $AD42=\"LS\"), \"LUMP\", OFFSET(#REF!, $AC42 - 1,0,1,1)),\"\"))","v":{"$error":"#REF!"}},{"$f":"IF( $AC42 = 0, \"\", IF( OFFSET(#REF!, $AC42 - 1,0,1,1)<>0, IF(OR($AD42=\"LUMP\", $AD42=\"LS\"), \"LUMP\", OFFSET(#REF!, $AC42 - 1,0,1,1)),\"\"))","v":{"$error":"#REF!"}},{"$f":"IF( $AC42 = 0, \"\", IF( OFFSET(#REF!, $AC42 - 1,0,1,1)<>0, IF(OR($AD42=\"LUMP\", $AD42=\"LS\"), \"LUMP\", OFFSET(#REF!, $AC42 - 1,0,1,1)),\"\"))","v":{"$error":"#REF!"}},{"$f":"IF( $AC42 = 0, \"\", IF( OFFSET(#REF!, $AC42 - 1,0,1,1)<>0, IF(OR($AD42=\"LUMP\", $AD42=\"LS\"), \"LUMP\", OFFSET(#REF!, $AC42 - 1,0,1,1)),\"\"))","v":{"$error":"#REF!"}},{"$f":"IF( $AC42 = 0, \"\", IF( OFFSET(#REF!, $AC42 - 1,0,1,1)<>0, LEFT(OFFSET(#REF!, $AC42 - 1,0,1,1),3),\"\"))","v":{"$error":"#REF!"}},{"$f":"IF( $AC42 = 0, \"\", IF( OFFSET(#REF!, $AC42 - 1,0,1,1)<>0, IF(LEN(OFFSET(#REF!, $AC42 - 1,0,1,1))=9,   RIGHT(OFFSET(#REF!, $AC42 - 1,0,1,1),5),    LEFT(RIGHT(OFFSET(#REF!, $AC42 - 1,0,1,1),6), 5)      ),\"\"))","v":{"$error":"#REF!"}},{"$error":"#REF!"},{"$f":"IF( $AC42 = 0, \"\", IF( OFFSET(#REF!, $AC42 - 1,0,1,1)<>0,IF(OR(AD42=\"LUMP\", AD42=\"LS\"), \"\", AD42),\"\"))","v":{"$error":"#REF!"}},{"$f":"IF( $AC42 = 0, \"\", IF( OFFSET(#REF!, $AC42 - 1,0,1,1)<>0, VLOOKUP( OFFSET(#REF!, $AC42 - 1,0,1,1),[1]Items!$A$2:$E$10001,4,0),\"\"))","v":{"$error":"#REF!"}},null,40,6,34,{"$f":"IF( $AC42 = 0, \"\", IF( OFFSET(#REF!, $AC42 - 1,0,1,1)<>0, VLOOKUP( OFFSET(#REF!, $AC42 - 1,0,1,1),[1]Items!$A$2:$E$10001,3,0),\"\"))","v":{"$error":"#REF!"}}]
[{"$f":"IF( $AC43 = 0, \"\", IF( OFFSET(#REF!, $AC43 - 1,0,1,1)<>0, IF(OR($AD43=\"LUMP\", $AD43=\"LS\"), \"LUMP\", OFFSET(#REF!, $AC43 - 1,0,1,1)),\"\"))","v":{"$error":"#REF!"}},{"$f":"IF( $AC43 = 0, \"\", IF( OFFSET(#REF!, $AC43 - 1,0,1,1)<>0, IF(OR($AD43=\"LUMP\", $AD43=\"LS\"), \"LUMP\", OFFSET(#REF!, $AC43 - 1,0,1,1)),\"\"))","v":{"$error":"#REF!"}},{"$f":"IF( $AC43 = 0, \"\", IF( OFFSET(#REF!, $AC43 - 1,0,1,1)<>0, IF(OR($AD43=\"LUMP\", $AD43=\"LS\"), \"LUMP\", OFFSET(#REF!, $AC43 - 1,0,1,1)),\"\"))","v":{"$error":"#REF!"}},{"$f":"IF( $AC43 = 0, \"\", IF( OFFSET(#REF!, $AC43 - 1,0,1,1)<>0, IF(OR($AD43=\"LUMP\", $AD43=\"LS\"), \"LUMP\", OFFSET(#REF!, $AC43 - 1,0,1,1)),\"\"))","v":{"$error":"#REF!"}},{"$f":"IF( $AC43 = 0, \"\", IF( OFFSET(#REF!, $AC43 - 1,0,1,1)<>0, IF(OR($AD43=\"LUMP\", $AD43=\"LS\"), \"LUMP\", OFFSET(#REF!, $AC43 - 1,0,1,1)),\"\"))","v":{"$error":"#REF!"}},{"$f":"IF( $AC43 = 0, \"\", IF( OFFSET(#REF!, $AC43 - 1,0,1,1)<>0, IF(OR($AD43=\"LUMP\", $AD43=\"LS\"), \"LUMP\", OFFSET(#REF!, $AC43 - 1,0,1,1)),\"\"))","v":{"$error":"#REF!"}},{"$f":"IF( $AC43 = 0, \"\", IF( OFFSET(#REF!, $AC43 - 1,0,1,1)<>0, IF(OR($AD43=\"LUMP\", $AD43=\"LS\"), \"LUMP\", OFFSET(#REF!, $AC43 - 1,0,1,1)),\"\"))","v":{"$error":"#REF!"}},{"$f":"IF( $AC43 = 0, \"\", IF( OFFSET(#REF!, $AC43 - 1,0,1,1)<>0, IF(OR($AD43=\"LUMP\", $AD43=\"LS\"), \"LUMP\", OFFSET(#REF!, $AC43 - 1,0,1,1)),\"\"))","v":{"$error":"#REF!"}},{"$f":"IF( $AC43 = 0, \"\", IF( OFFSET(#REF!, $AC43 - 1,0,1,1)<>0, IF(OR($AD43=\"LUMP\", $AD43=\"LS\"), \"LUMP\", OFFSET(#REF!, $AC43 - 1,0,1,1)),\"\"))","v":{"$error":"#REF!"}},{"$f":"IF( $AC43 = 0, \"\", IF( OFFSET(#REF!, $AC43 - 1,0,1,1)<>0, IF(OR($AD43=\"LUMP\", $AD43=\"LS\"), \"LUMP\", OFFSET(#REF!, $AC43 - 1,0,1,1)),\"\"))","v":{"$error":"#REF!"}},{"$f":"IF( $AC43 = 0, \"\", IF( OFFSET(#REF!, $AC43 - 1,0,1,1)<>0, IF(OR($AD43=\"LUMP\", $AD43=\"LS\"), \"LUMP\", OFFSET(#REF!, $AC43 - 1,0,1,1)),\"\"))","v":{"$error":"#REF!"}},{"$f":"IF( $AC43 = 0, \"\", IF( OFFSET(#REF!, $AC43 - 1,0,1,1)<>0, IF(OR($AD43=\"LUMP\", $AD43=\"LS\"), \"LUMP\", OFFSET(#REF!, $AC43 - 1,0,1,1)),\"\"))","v":{"$error":"#REF!"}},{"$f":"IF( $AC43 = 0, \"\", IF( OFFSET(#REF!, $AC43 - 1,0,1,1)<>0, IF(OR($AD43=\"LUMP\", $AD43=\"LS\"), \"LUMP\", OFFSET(#REF!, $AC43 - 1,0,1,1)),\"\"))","v":{"$error":"#REF!"}},{"$f":"IF( $AC43 = 0, \"\", IF( OFFSET(#REF!, $AC43 - 1,0,1,1)<>0, IF(OR($AD43=\"LUMP\", $AD43=\"LS\"), \"LUMP\", OFFSET(#REF!, $AC43 - 1,0,1,1)),\"\"))","v":{"$error":"#REF!"}},{"$f":"IF( $AC43 = 0, \"\", IF( OFFSET(#REF!, $AC43 - 1,0,1,1)<>0, IF(OR($AD43=\"LUMP\", $AD43=\"LS\"), \"LUMP\", OFFSET(#REF!, $AC43 - 1,0,1,1)),\"\"))","v":{"$error":"#REF!"}},{"$f":"IF( $AC43 = 0, \"\", IF( OFFSET(#REF!, $AC43 - 1,0,1,1)<>0, IF(OR($AD43=\"LUMP\", $AD43=\"LS\"), \"LUMP\", OFFSET(#REF!, $AC43 - 1,0,1,1)),\"\"))","v":{"$error":"#REF!"}},{"$f":"IF( $AC43 = 0, \"\", IF( OFFSET(#REF!, $AC43 - 1,0,1,1)<>0, IF(OR($AD43=\"LUMP\", $AD43=\"LS\"), \"LUMP\", OFFSET(#REF!, $AC43 - 1,0,1,1)),\"\"))","v":{"$error":"#REF!"}},{"$f":"IF( $AC43 = 0, \"\", IF( OFFSET(#REF!, $AC43 - 1,0,1,1)<>0, IF(OR($AD43=\"LUMP\", $AD43=\"LS\"), \"LUMP\", OFFSET(#REF!, $AC43 - 1,0,1,1)),\"\"))","v":{"$error":"#REF!"}},{"$f":"IF( $AC43 = 0, \"\", IF( OFFSET(#REF!, $AC43 - 1,0,1,1)<>0, IF(OR($AD43=\"LUMP\", $AD43=\"LS\"), \"LUMP\", OFFSET(#REF!, $AC43 - 1,0,1,1)),\"\"))","v":{"$error":"#REF!"}},{"$f":"IF( $AC43 = 0, \"\", IF( OFFSET(#REF!, $AC43 - 1,0,1,1)<>0, IF(OR($AD43=\"LUMP\", $AD43=\"LS\"), \"LUMP\", OFFSET(#REF!, $AC43 - 1,0,1,1)),\"\"))","v":{"$error":"#REF!"}},{"$f":"IF( $AC43 = 0, \"\", IF( OFFSET(#REF!, $AC43 - 1,0,1,1)<>0, LEFT(OFFSET(#REF!, $AC43 - 1,0,1,1),3),\"\"))","v":{"$error":"#REF!"}},{"$f":"IF( $AC43 = 0, \"\", IF( OFFSET(#REF!, $AC43 - 1,0,1,1)<>0, IF(LEN(OFFSET(#REF!, $AC43 - 1,0,1,1))=9,   RIGHT(OFFSET(#REF!, $AC43 - 1,0,1,1),5),    LEFT(RIGHT(OFFSET(#REF!, $AC43 - 1,0,1,1),6), 5)      ),\"\"))","v":{"$error":"#REF!"}},{"$error":"#REF!"},{"$f":"IF( $AC43 = 0, \"\", IF( OFFSET(#REF!, $AC43 - 1,0,1,1)<>0,IF(OR(AD43=\"LUMP\", AD43=\"LS\"), \"\", AD43),\"\"))","v":{"$error":"#REF!"}},{"$f":"IF( $AC43 = 0, \"\", IF( OFFSET(#REF!, $AC43 - 1,0,1,1)<>0, VLOOKUP( OFFSET(#REF!, $AC43 - 1,0,1,1),[1]Items!$A$2:$E$10001,4,0),\"\"))","v":{"$error":"#REF!"}},null,41,6,35,{"$f":"IF( $AC43 = 0, \"\", IF( OFFSET(#REF!, $AC43 - 1,0,1,1)<>0, VLOOKUP( OFFSET(#REF!, $AC43 - 1,0,1,1),[1]Items!$A$2:$E$10001,3,0),\"\"))","v":{"$error":"#REF!"}}]
[{"$f":"IF( $AC44 = 0, \"\", IF( OFFSET(#REF!, $AC44 - 1,0,1,1)<>0, IF(OR($AD44=\"LUMP\", $AD44=\"LS\"), \"LUMP\", OFFSET(#REF!, $AC44 - 1,0,1,1)),\"\"))","v":""},{"$f":"IF( $AC44 = 0, \"\", IF( OFFSET(#REF!, $AC44 - 1,0,1,1)<>0, IF(OR($AD44=\"LUMP\", $AD44=\"LS\"), \"LUMP\", OFFSET(#REF!, $AC44 - 1,0,1,1)),\"\"))","v":""},{"$f":"IF( $AC44 = 0, \"\", IF( OFFSET(#REF!, $AC44 - 1,0,1,1)<>0, IF(OR($AD44=\"LUMP\", $AD44=\"LS\"), \"LUMP\", OFFSET(#REF!, $AC44 - 1,0,1,1)),\"\"))","v":""},{"$f":"IF( $AC44 = 0, \"\", IF( OFFSET(#REF!, $AC44 - 1,0,1,1)<>0, IF(OR($AD44=\"LUMP\", $AD44=\"LS\"), \"LUMP\", OFFSET(#REF!, $AC44 - 1,0,1,1)),\"\"))","v":""},{"$f":"IF( $AC44 = 0, \"\", IF( OFFSET(#REF!, $AC44 - 1,0,1,1)<>0, IF(OR($AD44=\"LUMP\", $AD44=\"LS\"), \"LUMP\", OFFSET(#REF!, $AC44 - 1,0,1,1)),\"\"))","v":""},{"$f":"IF( $AC44 = 0, \"\", IF( OFFSET(#REF!, $AC44 - 1,0,1,1)<>0, IF(OR($AD44=\"LUMP\", $AD44=\"LS\"), \"LUMP\", OFFSET(#REF!, $AC44 - 1,0,1,1)),\"\"))","v":""},{"$f":"IF( $AC44 = 0, \"\", IF( OFFSET(#REF!, $AC44 - 1,0,1,1)<>0, IF(OR($AD44=\"LUMP\", $AD44=\"LS\"), \"LUMP\", OFFSET(#REF!, $AC44 - 1,0,1,1)),\"\"))","v":""},{"$f":"IF( $AC44 = 0, \"\", IF( OFFSET(#REF!, $AC44 - 1,0,1,1)<>0, IF(OR($AD44=\"LUMP\", $AD44=\"LS\"), \"LUMP\", OFFSET(#REF!, $AC44 - 1,0,1,1)),\"\"))","v":""},{"$f":"IF( $AC44 = 0, \"\", IF( OFFSET(#REF!, $AC44 - 1,0,1,1)<>0, IF(OR($AD44=\"LUMP\", $AD44=\"LS\"), \"LUMP\", OFFSET(#REF!, $AC44 - 1,0,1,1)),\"\"))","v":""},{"$f":"IF( $AC44 = 0, \"\", IF( OFFSET(#REF!, $AC44 - 1,0,1,1)<>0, IF(OR($AD44=\"LUMP\", $AD44=\"LS\"), \"LUMP\", OFFSET(#REF!, $AC44 - 1,0,1,1)),\"\"))","v":""},{"$f":"IF( $AC44 = 0, \"\", IF( OFFSET(#REF!, $AC44 - 1,0,1,1)<>0, IF(OR($AD44=\"LUMP\", $AD44=\"LS\"), \"LUMP\", OFFSET(#REF!, $AC44 - 1,0,1,1)),\"\"))","v":""},{"$f":"IF( $AC44 = 0, \"\", IF( OFFSET(#REF!, $AC44 - 1,0,1,1)<>0, IF(OR($AD44=\"LUMP\", $AD44=\"LS\"), \"LUMP\", OFFSET(#REF!, $AC44 - 1,0,1,1)),\"\"))","v":""},{"$f":"IF( $AC44 = 0, \"\", IF( OFFSET(#REF!, $AC44 - 1,0,1,1)<>0, IF(OR($AD44=\"LUMP\", $AD44=\"LS\"), \"LUMP\", OFFSET(#REF!, $AC44 - 1,0,1,1)),\"\"))","v":""},{"$f":"IF( $AC44 = 0, \"\", IF( OFFSET(#REF!, $AC44 - 1,0,1,1)<>0, IF(OR($AD44=\"LUMP\", $AD44=\"LS\"), \"LUMP\", OFFSET(#REF!, $AC44 - 1,0,1,1)),\"\"))","v":""},{"$f":"IF( $AC44 = 0, \"\", IF( OFFSET(#REF!, $AC44 - 1,0,1,1)<>0, IF(OR($AD44=\"LUMP\", $AD44=\"LS\"), \"LUMP\", OFFSET(#REF!, $AC44 - 1,0,1,1)),\"\"))","v":""},{"$f":"IF( $AC44 = 0, \"\", IF( OFFSET(#REF!, $AC44 - 1,0,1,1)<>0, IF(OR($AD44=\"LUMP\", $AD44=\"LS\"), \"LUMP\", OFFSET(#REF!, $AC44 - 1,0,1,1)),\"\"))","v":""},{"$f":"IF( $AC44 = 0, \"\", IF( OFFSET(#REF!, $AC44 - 1,0,1,1)<>0, IF(OR($AD44=\"LUMP\", $AD44=\"LS\"), \"LUMP\", OFFSET(#REF!, $AC44 - 1,0,1,1)),\"\"))","v":""},{"$f":"IF( $AC44 = 0, \"\", IF( OFFSET(#REF!, $AC44 - 1,0,1,1)<>0, IF(OR($AD44=\"LUMP\", $AD44=\"LS\"), \"LUMP\", OFFSET(#REF!, $AC44 - 1,0,1,1)),\"\"))","v":""},{"$f":"IF( $AC44 = 0, \"\", IF( OFFSET(#REF!, $AC44 - 1,0,1,1)<>0, IF(OR($AD44=\"LUMP\", $AD44=\"LS\"), \"LUMP\", OFFSET(#REF!, $AC44 - 1,0,1,1)),\"\"))","v":""},{"$f":"IF( $AC44 = 0, \"\", IF( OFFSET(#REF!, $AC44 - 1,0,1,1)<>0, IF(OR($AD44=\"LUMP\", $AD44=\"LS\"), \"LUMP\", OFFSET(#REF!, $AC44 - 1,0,1,1)),\"\"))","v":""},{"$f":"IF( $AC44 = 0, \"\", IF( OFFSET(#REF!, $AC44 - 1,0,1,1)<>0, LEFT(OFFSET(#REF!, $AC44 - 1,0,1,1),3),\"\"))","v":""},{"$f":"IF( $AC44 = 0, \"\", IF( OFFSET(#REF!, $AC44 - 1,0,1,1)<>0, IF(LEN(OFFSET(#REF!, $AC44 - 1,0,1,1))=9,   RIGHT(OFFSET(#REF!, $AC44 - 1,0,1,1),5),    LEFT(RIGHT(OFFSET(#REF!, $AC44 - 1,0,1,1),6), 5)      ),\"\"))","v":""},"",{"$f":"IF( $AC44 = 0, \"\", IF( OFFSET(#REF!, $AC44 - 1,0,1,1)<>0,IF(OR(AD44=\"LUMP\", AD44=\"LS\"), \"\", AD44),\"\"))","v":""},{"$f":"IF( $AC44 = 0, \"\", IF( OFFSET(#REF!, $AC44 - 1,0,1,1)<>0, VLOOKUP( OFFSET(#REF!, $AC44 - 1,0,1,1),[1]Items!$A$2:$E$10001,4,0),\"\"))","v":""},null,42,7,0,{"$f":"IF( $AC44 = 0, \"\", IF( OFFSET(#REF!, $AC44 - 1,0,1,1)<>0, VLOOKUP( OFFSET(#REF!, $AC44 - 1,0,1,1),[1]Items!$A$2:$E$10001,3,0),\"\"))","v":""}]
[{"$f":"IF( $AC45 = 0, \"\", IF( OFFSET(#REF!, $AC45 - 1,0,1,1)<>0, IF(OR($AD45=\"LUMP\", $AD45=\"LS\"), \"LUMP\", OFFSET(#REF!, $AC45 - 1,0,1,1)),\"\"))","v":{"$error":"#REF!"}},{"$f":"IF( $AC45 = 0, \"\", IF( OFFSET(#REF!, $AC45 - 1,0,1,1)<>0, IF(OR($AD45=\"LUMP\", $AD45=\"LS\"), \"LUMP\", OFFSET(#REF!, $AC45 - 1,0,1,1)),\"\"))","v":{"$error":"#REF!"}},{"$f":"IF( $AC45 = 0, \"\", IF( OFFSET(#REF!, $AC45 - 1,0,1,1)<>0, IF(OR($AD45=\"LUMP\", $AD45=\"LS\"), \"LUMP\", OFFSET(#REF!, $AC45 - 1,0,1,1)),\"\"))","v":{"$error":"#REF!"}},{"$f":"IF( $AC45 = 0, \"\", IF( OFFSET(#REF!, $AC45 - 1,0,1,1)<>0, IF(OR($AD45=\"LUMP\", $AD45=\"LS\"), \"LUMP\", OFFSET(#REF!, $AC45 - 1,0,1,1)),\"\"))","v":{"$error":"#REF!"}},{"$f":"IF( $AC45 = 0, \"\", IF( OFFSET(#REF!, $AC45 - 1,0,1,1)<>0, IF(OR($AD45=\"LUMP\", $AD45=\"LS\"), \"LUMP\", OFFSET(#REF!, $AC45 - 1,0,1,1)),\"\"))","v":{"$error":"#REF!"}},{"$f":"IF( $AC45 = 0, \"\", IF( OFFSET(#REF!, $AC45 - 1,0,1,1)<>0, IF(OR($AD45=\"LUMP\", $AD45=\"LS\"), \"LUMP\", OFFSET(#REF!, $AC45 - 1,0,1,1)),\"\"))","v":{"$error":"#REF!"}},{"$f":"IF( $AC45 = 0, \"\", IF( OFFSET(#REF!, $AC45 - 1,0,1,1)<>0, IF(OR($AD45=\"LUMP\", $AD45=\"LS\"), \"LUMP\", OFFSET(#REF!, $AC45 - 1,0,1,1)),\"\"))","v":{"$error":"#REF!"}},{"$f":"IF( $AC45 = 0, \"\", IF( OFFSET(#REF!, $AC45 - 1,0,1,1)<>0, IF(OR($AD45=\"LUMP\", $AD45=\"LS\"), \"LUMP\", OFFSET(#REF!, $AC45 - 1,0,1,1)),\"\"))","v":{"$error":"#REF!"}},{"$f":"IF( $AC45 = 0, \"\", IF( OFFSET(#REF!, $AC45 - 1,0,1,1)<>0, IF(OR($AD45=\"LUMP\", $AD45=\"LS\"), \"LUMP\", OFFSET(#REF!, $AC45 - 1,0,1,1)),\"\"))","v":{"$error":"#REF!"}},{"$f":"IF( $AC45 = 0, \"\", IF( OFFSET(#REF!, $AC45 - 1,0,1,1)<>0, IF(OR($AD45=\"LUMP\", $AD45=\"LS\"), \"LUMP\", OFFSET(#REF!, $AC45 - 1,0,1,1)),\"\"))","v":{"$error":"#REF!"}},{"$f":"IF( $AC45 = 0, \"\", IF( OFFSET(#REF!, $AC45 - 1,0,1,1)<>0, IF(OR($AD45=\"LUMP\", $AD45=\"LS\"), \"LUMP\", OFFSET(#REF!, $AC45 - 1,0,1,1)),\"\"))","v":{"$error":"#REF!"}},{"$f":"IF( $AC45 = 0, \"\", IF( OFFSET(#REF!, $AC45 - 1,0,1,1)<>0, IF(OR($AD45=\"LUMP\", $AD45=\"LS\"), \"LUMP\", OFFSET(#REF!, $AC45 - 1,0,1,1)),\"\"))","v":{"$error":"#REF!"}},{"$f":"IF( $AC45 = 0, \"\", IF( OFFSET(#REF!, $AC45 - 1,0,1,1)<>0, IF(OR($AD45=\"LUMP\", $AD45=\"LS\"), \"LUMP\", OFFSET(#REF!, $AC45 - 1,0,1,1)),\"\"))","v":{"$error":"#REF!"}},{"$f":"IF( $AC45 = 0, \"\", IF( OFFSET(#REF!, $AC45 - 1,0,1,1)<>0, IF(OR($AD45=\"LUMP\", $AD45=\"LS\"), \"LUMP\", OFFSET(#REF!, $AC45 - 1,0,1,1)),\"\"))","v":{"$error":"#REF!"}},{"$f":"IF( $AC45 = 0, \"\", IF( OFFSET(#REF!, $AC45 - 1,0,1,1)<>0, IF(OR($AD45=\"LUMP\", $AD45=\"LS\"), \"LUMP\", OFFSET(#REF!, $AC45 - 1,0,1,1)),\"\"))","v":{"$error":"#REF!"}},{"$f":"IF( $AC45 = 0, \"\", IF( OFFSET(#REF!, $AC45 - 1,0,1,1)<>0, IF(OR($AD45=\"LUMP\", $AD45=\"LS\"), \"LUMP\", OFFSET(#REF!, $AC45 - 1,0,1,1)),\"\"))","v":{"$error":"#REF!"}},{"$f":"IF( $AC45 = 0, \"\", IF( OFFSET(#REF!, $AC45 - 1,0,1,1)<>0, IF(OR($AD45=\"LUMP\", $AD45=\"LS\"), \"LUMP\", OFFSET(#REF!, $AC45 - 1,0,1,1)),\"\"))","v":{"$error":"#REF!"}},{"$f":"IF( $AC45 = 0, \"\", IF( OFFSET(#REF!, $AC45 - 1,0,1,1)<>0, IF(OR($AD45=\"LUMP\", $AD45=\"LS\"), \"LUMP\", OFFSET(#REF!, $AC45 - 1,0,1,1)),\"\"))","v":{"$error":"#REF!"}},{"$f":"IF( $AC45 = 0, \"\", IF( OFFSET(#REF!, $AC45 - 1,0,1,1)<>0, IF(OR($AD45=\"LUMP\", $AD45=\"LS\"), \"LUMP\", OFFSET(#REF!, $AC45 - 1,0,1,1)),\"\"))","v":{"$error":"#REF!"}},{"$f":"IF( $AC45 = 0, \"\", IF( OFFSET(#REF!, $AC45 - 1,0,1,1)<>0, IF(OR($AD45=\"LUMP\", $AD45=\"LS\"), \"LUMP\", OFFSET(#REF!, $AC45 - 1,0,1,1)),\"\"))","v":{"$error":"#REF!"}},{"$f":"IF( $AC45 = 0, \"\", IF( OFFSET(#REF!, $AC45 - 1,0,1,1)<>0, LEFT(OFFSET(#REF!, $AC45 - 1,0,1,1),3),\"\"))","v":{"$error":"#REF!"}},{"$f":"IF( $AC45 = 0, \"\", IF( OFFSET(#REF!, $AC45 - 1,0,1,1)<>0, IF(LEN(OFFSET(#REF!, $AC45 - 1,0,1,1))=9,   RIGHT(OFFSET(#REF!, $AC45 - 1,0,1,1),5),    LEFT(RIGHT(OFFSET(#REF!, $AC45 - 1,0,1,1),6), 5)      ),\"\"))","v":{"$error":"#REF!"}},{"$error":"#REF!"},{"$f":"IF( $AC45 = 0, \"\", IF( OFFSET(#REF!, $AC45 - 1,0,1,1)<>0,IF(OR(AD45=\"LUMP\", AD45=\"LS\"), \"\", AD45),\"\"))","v":{"$error":"#REF!"}},{"$f":"IF( $AC45 = 0, \"\", IF( OFFSET(#REF!, $AC45 - 1,0,1,1)<>0, VLOOKUP( OFFSET(#REF!, $AC45 - 1,0,1,1),[1]Items!$A$2:$E$10001,4,0),\"\"))","v":{"$error":"#REF!"}},null,43,7,36,{"$f":"IF( $AC45 = 0, \"\", IF( OFFSET(#REF!, $AC45 - 1,0,1,1)<>0, VLOOKUP( OFFSET(#REF!, $AC45 - 1,0,1,1),[1]Items!$A$2:$E$10001,3,0),\"\"))","v":{"$error":"#REF!"}}]
[{"$f":"IF( $AC46 = 0, \"\", IF( OFFSET(#REF!, $AC46 - 1,0,1,1)<>0, IF(OR($AD46=\"LUMP\", $AD46=\"LS\"), \"LUMP\", OFFSET(#REF!, $AC46 - 1,0,1,1)),\"\"))","v":{"$error":"#REF!"}},{"$f":"IF( $AC46 = 0, \"\", IF( OFFSET(#REF!, $AC46 - 1,0,1,1)<>0, IF(OR($AD46=\"LUMP\", $AD46=\"LS\"), \"LUMP\", OFFSET(#REF!, $AC46 - 1,0,1,1)),\"\"))","v":{"$error":"#REF!"}},{"$f":"IF( $AC46 = 0, \"\", IF( OFFSET(#REF!, $AC46 - 1,0,1,1)<>0, IF(OR($AD46=\"LUMP\", $AD46=\"LS\"), \"LUMP\", OFFSET(#REF!, $AC46 - 1,0,1,1)),\"\"))","v":{"$error":"#REF!"}},{"$f":"IF( $AC46 = 0, \"\", IF( OFFSET(#REF!, $AC46 - 1,0,1,1)<>0, IF(OR($AD46=\"LUMP\", $AD46=\"LS\"), \"LUMP\", OFFSET(#REF!, $AC46 - 1,0,1,1)),\"\"))","v":{"$error":"#REF!"}},{"$f":"IF( $AC46 = 0, \"\", IF( OFFSET(#REF!, $AC46 - 1,0,1,1)<>0, IF(OR($AD46=\"LUMP\", $AD46=\"LS\"), \"LUMP\", OFFSET(#REF!, $AC46 - 1,0,1,1)),\"\"))","v":{"$error":"#REF!"}},{"$f":"IF( $AC46 = 0, \"\", IF( OFFSET(#REF!, $AC46 - 1,0,1,1)<>0, IF(OR($AD46=\"LUMP\", $AD46=\"LS\"), \"LUMP\", OFFSET(#REF!, $AC46 - 1,0,1,1)),\"\"))","v":{"$error":"#REF!"}},{"$f":"IF( $AC46 = 0, \"\", IF( OFFSET(#REF!, $AC46 - 1,0,1,1)<>0, IF(OR($AD46=\"LUMP\", $AD46=\"LS\"), \"LUMP\", OFFSET(#REF!, $AC46 - 1,0,1,1)),\"\"))","v":{"$error":"#REF!"}},{"$f":"IF( $AC46 = 0, \"\", IF( OFFSET(#REF!, $AC46 - 1,0,1,1)<>0, IF(OR($AD46=\"LUMP\", $AD46=\"LS\"), \"LUMP\", OFFSET(#REF!, $AC46 - 1,0,1,1)),\"\"))","v":{"$error":"#REF!"}},{"$f":"IF( $AC46 = 0, \"\", IF( OFFSET(#REF!, $AC46 - 1,0,1,1)<>0, IF(OR($AD46=\"LUMP\", $AD46=\"LS\"), \"LUMP\", OFFSET(#REF!, $AC46 - 1,0,1,1)),\"\"))","v":{"$error":"#REF!"}},{"$f":"IF( $AC46 = 0, \"\", IF( OFFSET(#REF!, $AC46 - 1,0,1,1)<>0, IF(OR($AD46=\"LUMP\", $AD46=\"LS\"), \"LUMP\", OFFSET(#REF!, $AC46 - 1,0,1,1)),\"\"))","v":{"$error":"#REF!"}},{"$f":"IF( $AC46 = 0, \"\", IF( OFFSET(#REF!, $AC46 - 1,0,1,1)<>0, IF(OR($AD46=\"LUMP\", $AD46=\"LS\"), \"LUMP\", OFFSET(#REF!, $AC46 - 1,0,1,1)),\"\"))","v":{"$error":"#REF!"}},{"$f":"IF( $AC46 = 0, \"\", IF( OFFSET(#REF!, $AC46 - 1,0,1,1)<>0, IF(OR($AD46=\"LUMP\", $AD46=\"LS\"), \"LUMP\", OFFSET(#REF!, $AC46 - 1,0,1,1)),\"\"))","v":{"$error":"#REF!"}},{"$f":"IF( $AC46 = 0, \"\", IF( OFFSET(#REF!, $AC46 - 1,0,1,1)<>0, IF(OR($AD46=\"LUMP\", $AD46=\"LS\"), \"LUMP\", OFFSET(#REF!, $AC46 - 1,0,1,1)),\"\"))","v":{"$error":"#REF!"}},{"$f":"IF( $AC46 = 0, \"\", IF( OFFSET(#REF!, $AC46 - 1,0,1,1)<>0, IF(OR($AD46=\"LUMP\", $AD46=\"LS\"), \"LUMP\", OFFSET(#REF!, $AC46 - 1,0,1,1)),\"\"))","v":{"$error":"#REF!"}},{"$f":"IF( $AC46 = 0, \"\", IF( OFFSET(#REF!, $AC46 - 1,0,1,1)<>0, IF(OR($AD46=\"LUMP\", $AD46=\"LS\"), \"LUMP\", OFFSET(#REF!, $AC46 - 1,0,1,1)),\"\"))","v":{"$error":"#REF!"}},{"$f":"IF( $AC46 = 0, \"\", IF( OFFSET(#REF!, $AC46 - 1,0,1,1)<>0, IF(OR($AD46=\"LUMP\", $AD46=\"LS\"), \"LUMP\", OFFSET(#REF!, $AC46 - 1,0,1,1)),\"\"))","v":{"$error":"#REF!"}},{"$f":"IF( $AC46 = 0, \"\", IF( OFFSET(#REF!, $AC46 - 1,0,1,1)<>0, IF(OR($AD46=\"LUMP\", $AD46=\"LS\"), \"LUMP\", OFFSET(#REF!, $AC46 - 1,0,1,1)),\"\"))","v":{"$error":"#REF!"}},{"$f":"IF( $AC46 = 0, \"\", IF( OFFSET(#REF!, $AC46 - 1,0,1,1)<>0, IF(OR($AD46=\"LUMP\", $AD46=\"LS\"), \"LUMP\", OFFSET(#REF!, $AC46 - 1,0,1,1)),\"\"))","v":{"$error":"#REF!"}},{"$f":"IF( $AC46 = 0, \"\", IF( OFFSET(#REF!, $AC46 - 1,0,1,1)<>0, IF(OR($AD46=\"LUMP\", $AD46=\"LS\"), \"LUMP\", OFFSET(#REF!, $AC46 - 1,0,1,1)),\"\"))","v":{"$error":"#REF!"}},{"$f":"IF( $AC46 = 0, \"\", IF( OFFSET(#REF!, $AC46 - 1,0,1,1)<>0, IF(OR($AD46=\"LUMP\", $AD46=\"LS\"), \"LUMP\", OFFSET(#REF!, $AC46 - 1,0,1,1)),\"\"))","v":{"$error":"#REF!"}},{"$f":"IF( $AC46 = 0, \"\", IF( OFFSET(#REF!, $AC46 - 1,0,1,1)<>0, LEFT(OFFSET(#REF!, $AC46 - 1,0,1,1),3),\"\"))","v":{"$error":"#REF!"}},{"$f":"IF( $AC46 = 0, \"\", IF( OFFSET(#REF!, $AC46 - 1,0,1,1)<>0, IF(LEN(OFFSET(#REF!, $AC46 - 1,0,1,1))=9,   RIGHT(OFFSET(#REF!, $AC46 - 1,0,1,1),5),    LEFT(RIGHT(OFFSET(#REF!, $AC46 - 1,0,1,1),6), 5)      ),\"\"))","v":{"$error":"#REF!"}},{"$error":"#REF!"},{"$f":"IF( $AC46 = 0, \"\", IF( OFFSET(#REF!, $AC46 - 1,0,1,1)<>0,IF(OR(AD46=\"LUMP\", AD46=\"LS\"), \"\", AD46),\"\"))","v":{"$error":"#REF!"}},{"$f":"IF( $AC46 = 0, \"\", IF( OFFSET(#REF!, $AC46 - 1,0,1,1)<>0, VLOOKUP( OFFSET(#REF!, $AC46 - 1,0,1,1),[1]Items!$A$2:$E$10001,4,0),\"\"))","v":{"$error":"#REF!"}},null,44,7,37,{"$f":"IF( $AC46 = 0, \"\", IF( OFFSET(#REF!, $AC46 - 1,0,1,1)<>0, VLOOKUP( OFFSET(#REF!, $AC46 - 1,0,1,1),[1]Items!$A$2:$E$10001,3,0),\"\"))","v":{"$error":"#REF!"}}]
[{"$f":"IF( $AC47 = 0, \"\", IF( OFFSET(#REF!, $AC47 - 1,0,1,1)<>0, IF(OR($AD47=\"LUMP\", $AD47=\"LS\"), \"LUMP\", OFFSET(#REF!, $AC47 - 1,0,1,1)),\"\"))","v":{"$error":"#REF!"}},{"$f":"IF( $AC47 = 0, \"\", IF( OFFSET(#REF!, $AC47 - 1,0,1,1)<>0, IF(OR($AD47=\"LUMP\", $AD47=\"LS\"), \"LUMP\", OFFSET(#REF!, $AC47 - 1,0,1,1)),\"\"))","v":{"$error":"#REF!"}},{"$f":"IF( $AC47 = 0, \"\", IF( OFFSET(#REF!, $AC47 - 1,0,1,1)<>0, IF(OR($AD47=\"LUMP\", $AD47=\"LS\"), \"LUMP\", OFFSET(#REF!, $AC47 - 1,0,1,1)),\"\"))","v":{"$error":"#REF!"}},{"$f":"IF( $AC47 = 0, \"\", IF( OFFSET(#REF!, $AC47 - 1,0,1,1)<>0, IF(OR($AD47=\"LUMP\", $AD47=\"LS\"), \"LUMP\", OFFSET(#REF!, $AC47 - 1,0,1,1)),\"\"))","v":{"$error":"#REF!"}},{"$f":"IF( $AC47 = 0, \"\", IF( OFFSET(#REF!, $AC47 - 1,0,1,1)<>0, IF(OR($AD47=\"LUMP\", $AD47=\"LS\"), \"LUMP\", OFFSET(#REF!, $AC47 - 1,0,1,1)),\"\"))","v":{"$error":"#REF!"}},{"$f":"IF( $AC47 = 0, \"\", IF( OFFSET(#REF!, $AC47 - 1,0,1,1)<>0, IF(OR($AD47=\"LUMP\", $AD47=\"LS\"), \"LUMP\", OFFSET(#REF!, $AC47 - 1,0,1,1)),\"\"))","v":{"$error":"#REF!"}},{"$f":"IF( $AC47 = 0, \"\", IF( OFFSET(#REF!, $AC47 - 1,0,1,1)<>0, IF(OR($AD47=\"LUMP\", $AD47=\"LS\"), \"LUMP\", OFFSET(#REF!, $AC47 - 1,0,1,1)),\"\"))","v":{"$error":"#REF!"}},{"$f":"IF( $AC47 = 0, \"\", IF( OFFSET(#REF!, $AC47 - 1,0,1,1)<>0, IF(OR($AD47=\"LUMP\", $AD47=\"LS\"), \"LUMP\", OFFSET(#REF!, $AC47 - 1,0,1,1)),\"\"))","v":{"$error":"#REF!"}},{"$f":"IF( $AC47 = 0, \"\", IF( OFFSET(#REF!, $AC47 - 1,0,1,1)<>0, IF(OR($AD47=\"LUMP\", $AD47=\"LS\"), \"LUMP\", OFFSET(#REF!, $AC47 - 1,0,1,1)),\"\"))","v":{"$error":"#REF!"}},{"$f":"IF( $AC47 = 0, \"\", IF( OFFSET(#REF!, $AC47 - 1,0,1,1)<>0, IF(OR($AD47=\"LUMP\", $AD47=\"LS\"), \"LUMP\", OFFSET(#REF!, $AC47 - 1,0,1,1)),\"\"))","v":{"$error":"#REF!"}},{"$f":"IF( $AC47 = 0, \"\", IF( OFFSET(#REF!, $AC47 - 1,0,1,1)<>0, IF(OR($AD47=\"LUMP\", $AD47=\"LS\"), \"LUMP\", OFFSET(#REF!, $AC47 - 1,0,1,1)),\"\"))","v":{"$error":"#REF!"}},{"$f":"IF( $AC47 = 0, \"\", IF( OFFSET(#REF!, $AC47 - 1,0,1,1)<>0, IF(OR($AD47=\"LUMP\", $AD47=\"LS\"), \"LUMP\", OFFSET(#REF!, $AC47 - 1,0,1,1)),\"\"))","v":{"$error":"#REF!"}},{"$f":"IF( $AC47 = 0, \"\", IF( OFFSET(#REF!, $AC47 - 1,0,1,1)<>0, IF(OR($AD47=\"LUMP\", $AD47=\"LS\"), \"LUMP\", OFFSET(#REF!, $AC47 - 1,0,1,1)),\"\"))","v":{"$error":"#REF!"}},{"$f":"IF( $AC47 = 0, \"\", IF( OFFSET(#REF!, $AC47 - 1,0,1,1)<>0, IF(OR($AD47=\"LUMP\", $AD47=\"LS\"), \"LUMP\", OFFSET(#REF!, $AC47 - 1,0,1,1)),\"\"))","v":{"$error":"#REF!"}},{"$f":"IF( $AC47 = 0, \"\", IF( OFFSET(#REF!, $AC47 - 1,0,1,1)<>0, IF(OR($AD47=\"LUMP\", $AD47=\"LS\"), \"LUMP\", OFFSET(#REF!, $AC47 - 1,0,1,1)),\"\"))","v":{"$error":"#REF!"}},{"$f":"IF( $AC47 = 0, \"\", IF( OFFSET(#REF!, $AC47 - 1,0,1,1)<>0, IF(OR($AD47=\"LUMP\", $AD47=\"LS\"), \"LUMP\", OFFSET(#REF!, $AC47 - 1,0,1,1)),\"\"))","v":{"$error":"#REF!"}},{"$f":"IF( $AC47 = 0, \"\", IF( OFFSET(#REF!, $AC47 - 1,0,1,1)<>0, IF(OR($AD47=\"LUMP\", $AD47=\"LS\"), \"LUMP\", OFFSET(#REF!, $AC47 - 1,0,1,1)),\"\"))","v":{"$error":"#REF!"}},{"$f":"IF( $AC47 = 0, \"\", IF( OFFSET(#REF!, $AC47 - 1,0,1,1)<>0, IF(OR($AD47=\"LUMP\", $AD47=\"LS\"), \"LUMP\", OFFSET(#REF!, $AC47 - 1,0,1,1)),\"\"))","v":{"$error":"#REF!"}},{"$f":"IF( $AC47 = 0, \"\", IF( OFFSET(#REF!, $AC47 - 1,0,1,1)<>0, IF(OR($AD47=\"LUMP\", $AD47=\"LS\"), \"LUMP\", OFFSET(#REF!, $AC47 - 1,0,1,1)),\"\"))","v":{"$error":"#REF!"}},{"$f":"IF( $AC47 = 0, \"\", IF( OFFSET(#REF!, $AC47 - 1,0,1,1)<>0, IF(OR($AD47=\"LUMP\", $AD47=\"LS\"), \"LUMP\", OFFSET(#REF!, $AC47 - 1,0,1,1)),\"\"))","v":{"$error":"#REF!"}},{"$f":"IF( $AC47 = 0, \"\", IF( OFFSET(#REF!, $AC47 - 1,0,1,1)<>0, LEFT(OFFSET(#REF!, $AC47 - 1,0,1,1),3),\"\"))","v":{"$error":"#REF!"}},{"$f":"IF( $AC47 = 0, \"\", IF( OFFSET(#REF!, $AC47 - 1,0,1,1)<>0, IF(LEN(OFFSET(#REF!, $AC47 - 1,0,1,1))=9,   RIGHT(OFFSET(#REF!, $AC47 - 1,0,1,1),5),    LEFT(RIGHT(OFFSET(#REF!, $AC47 - 1,0,1,1),6), 5)      ),\"\"))","v":{"$error":"#REF!"}},{"$error":"#REF!"},{"$f":"IF( $AC47 = 0, \"\", IF( OFFSET(#REF!, $AC47 - 1,0,1,1)<>0,IF(OR(AD47=\"LUMP\", AD47=\"LS\"), \"\", AD47),\"\"))","v":{"$error":"#REF!"}},{"$f":"IF( $AC47 = 0, \"\", IF( OFFSET(#REF!, $AC47 - 1,0,1,1)<>0, VLOOKUP( OFFSET(#REF!, $AC47 - 1,0,1,1),[1]Items!$A$2:$E$10001,4,0),\"\"))","v":{"$error":"#REF!"}},null,45,7,38,{"$f":"IF( $AC47 = 0, \"\", IF( OFFSET(#REF!, $AC47 - 1,0,1,1)<>0, VLOOKUP( OFFSET(#REF!, $AC47 - 1,0,1,1),[1]Items!$A$2:$E$10001,3,0),\"\"))","v":{"$error":"#REF!"}}]
[{"$f":"IF( $AC48 = 0, \"\", IF( OFFSET(#REF!, $AC48 - 1,0,1,1)<>0, IF(OR($AD48=\"LUMP\", $AD48=\"LS\"), \"LUMP\", OFFSET(#REF!, $AC48 - 1,0,1,1)),\"\"))","v":{"$error":"#REF!"}},{"$f":"IF( $AC48 = 0, \"\", IF( OFFSET(#REF!, $AC48 - 1,0,1,1)<>0, IF(OR($AD48=\"LUMP\", $AD48=\"LS\"), \"LUMP\", OFFSET(#REF!, $AC48 - 1,0,1,1)),\"\"))","v":{"$error":"#REF!"}},{"$f":"IF( $AC48 = 0, \"\", IF( OFFSET(#REF!, $AC48 - 1,0,1,1)<>0, IF(OR($AD48=\"LUMP\", $AD48=\"LS\"), \"LUMP\", OFFSET(#REF!, $AC48 - 1,0,1,1)),\"\"))","v":{"$error":"#REF!"}},{"$f":"IF( $AC48 = 0, \"\", IF( OFFSET(#REF!, $AC48 - 1,0,1,1)<>0, IF(OR($AD48=\"LUMP\", $AD48=\"LS\"), \"LUMP\", OFFSET(#REF!, $AC48 - 1,0,1,1)),\"\"))","v":{"$error":"#REF!"}},{"$f":"IF( $AC48 = 0, \"\", IF( OFFSET(#REF!, $AC48 - 1,0,1,1)<>0, IF(OR($AD48=\"LUMP\", $AD48=\"LS\"), \"LUMP\", OFFSET(#REF!, $AC48 - 1,0,1,1)),\"\"))","v":{"$error":"#REF!"}},{"$f":"IF( $AC48 = 0, \"\", IF( OFFSET(#REF!, $AC48 - 1,0,1,1)<>0, IF(OR($AD48=\"LUMP\", $AD48=\"LS\"), \"LUMP\", OFFSET(#REF!, $AC48 - 1,0,1,1)),\"\"))","v":{"$error":"#REF!"}},{"$f":"IF( $AC48 = 0, \"\", IF( OFFSET(#REF!, $AC48 - 1,0,1,1)<>0, IF(OR($AD48=\"LUMP\", $AD48=\"LS\"), \"LUMP\", OFFSET(#REF!, $AC48 - 1,0,1,1)),\"\"))","v":{"$error":"#REF!"}},{"$f":"IF( $AC48 = 0, \"\", IF( OFFSET(#REF!, $AC48 - 1,0,1,1)<>0, IF(OR($AD48=\"LUMP\", $AD48=\"LS\"), \"LUMP\", OFFSET(#REF!, $AC48 - 1,0,1,1)),\"\"))","v":{"$error":"#REF!"}},{"$f":"IF( $AC48 = 0, \"\", IF( OFFSET(#REF!, $AC48 - 1,0,1,1)<>0, IF(OR($AD48=\"LUMP\", $AD48=\"LS\"), \"LUMP\", OFFSET(#REF!, $AC48 - 1,0,1,1)),\"\"))","v":{"$error":"#REF!"}},{"$f":"IF( $AC48 = 0, \"\", IF( OFFSET(#REF!, $AC48 - 1,0,1,1)<>0, IF(OR($AD48=\"LUMP\", $AD48=\"LS\"), \"LUMP\", OFFSET(#REF!, $AC48 - 1,0,1,1)),\"\"))","v":{"$error":"#REF!"}},{"$f":"IF( $AC48 = 0, \"\", IF( OFFSET(#REF!, $AC48 - 1,0,1,1)<>0, IF(OR($AD48=\"LUMP\", $AD48=\"LS\"), \"LUMP\", OFFSET(#REF!, $AC48 - 1,0,1,1)),\"\"))","v":{"$error":"#REF!"}},{"$f":"IF( $AC48 = 0, \"\", IF( OFFSET(#REF!, $AC48 - 1,0,1,1)<>0, IF(OR($AD48=\"LUMP\", $AD48=\"LS\"), \"LUMP\", OFFSET(#REF!, $AC48 - 1,0,1,1)),\"\"))","v":{"$error":"#REF!"}},{"$f":"IF( $AC48 = 0, \"\", IF( OFFSET(#REF!, $AC48 - 1,0,1,1)<>0, IF(OR($AD48=\"LUMP\", $AD48=\"LS\"), \"LUMP\", OFFSET(#REF!, $AC48 - 1,0,1,1)),\"\"))","v":{"$error":"#REF!"}},{"$f":"IF( $AC48 = 0, \"\", IF( OFFSET(#REF!, $AC48 - 1,0,1,1)<>0, IF(OR($AD48=\"LUMP\", $AD48=\"LS\"), \"LUMP\", OFFSET(#REF!, $AC48 - 1,0,1,1)),\"\"))","v":{"$error":"#REF!"}},{"$f":"IF( $AC48 = 0, \"\", IF( OFFSET(#REF!, $AC48 - 1,0,1,1)<>0, IF(OR($AD48=\"LUMP\", $AD48=\"LS\"), \"LUMP\", OFFSET(#REF!, $AC48 - 1,0,1,1)),\"\"))","v":{"$error":"#REF!"}},{"$f":"IF( $AC48 = 0, \"\", IF( OFFSET(#REF!, $AC48 - 1,0,1,1)<>0, IF(OR($AD48=\"LUMP\", $AD48=\"LS\"), \"LUMP\", OFFSET(#REF!, $AC48 - 1,0,1,1)),\"\"))","v":{"$error":"#REF!"}},{"$f":"IF( $AC48 = 0, \"\", IF( OFFSET(#REF!, $AC48 - 1,0,1,1)<>0, IF(OR($AD48=\"LUMP\", $AD48=\"LS\"), \"LUMP\", OFFSET(#REF!, $AC48 - 1,0,1,1)),\"\"))","v":{"$error":"#REF!"}},{"$f":"IF( $AC48 = 0, \"\", IF( OFFSET(#REF!, $AC48 - 1,0,1,1)<>0, IF(OR($AD48=\"LUMP\", $AD48=\"LS\"), \"LUMP\", OFFSET(#REF!, $AC48 - 1,0,1,1)),\"\"))","v":{"$error":"#REF!"}},{"$f":"IF( $AC48 = 0, \"\", IF( OFFSET(#REF!, $AC48 - 1,0,1,1)<>0, IF(OR($AD48=\"LUMP\", $AD48=\"LS\"), \"LUMP\", OFFSET(#REF!, $AC48 - 1,0,1,1)),\"\"))","v":{"$error":"#REF!"}},{"$f":"IF( $AC48 = 0, \"\", IF( OFFSET(#REF!, $AC48 - 1,0,1,1)<>0, IF(OR($AD48=\"LUMP\", $AD48=\"LS\"), \"LUMP\", OFFSET(#REF!, $AC48 - 1,0,1,1)),\"\"))","v":{"$error":"#REF!"}},{"$f":"IF( $AC48 = 0, \"\", IF( OFFSET(#REF!, $AC48 - 1,0,1,1)<>0, LEFT(OFFSET(#REF!, $AC48 - 1,0,1,1),3),\"\"))","v":{"$error":"#REF!"}},{"$f":"IF( $AC48 = 0, \"\", IF( OFFSET(#REF!, $AC48 - 1,0,1,1)<>0, IF(LEN(OFFSET(#REF!, $AC48 - 1,0,1,1))=9,   RIGHT(OFFSET(#REF!, $AC48 - 1,0,1,1),5),    LEFT(RIGHT(OFFSET(#REF!, $AC48 - 1,0,1,1),6), 5)      ),\"\"))","v":{"$error":"#REF!"}},{"$error":"#REF!"},{"$f":"IF( $AC48 = 0, \"\", IF( OFFSET(#REF!, $AC48 - 1,0,1,1)<>0,IF(OR(AD48=\"LUMP\", AD48=\"LS\"), \"\", AD48),\"\"))","v":{"$error":"#REF!"}},{"$f":"IF( $AC48 = 0, \"\", IF( OFFSET(#REF!, $AC48 - 1,0,1,1)<>0, VLOOKUP( OFFSET(#REF!, $AC48 - 1,0,1,1),[1]Items!$A$2:$E$10001,4,0),\"\"))","v":{"$error":"#REF!"}},null,46,7,39,{"$f":"IF( $AC48 = 0, \"\", IF( OFFSET(#REF!, $AC48 - 1,0,1,1)<>0, VLOOKUP( OFFSET(#REF!, $AC48 - 1,0,1,1),[1]Items!$A$2:$E$10001,3,0),\"\"))","v":{"$error":"#REF!"}}]
[{"$f":"IF( $AC49 = 0, \"\", IF( OFFSET(#REF!, $AC49 - 1,0,1,1)<>0, IF(OR($AD49=\"LUMP\", $AD49=\"LS\"), \"LUMP\", OFFSET(#REF!, $AC49 - 1,0,1,1)),\"\"))","v":{"$error":"#REF!"}},{"$f":"IF( $AC49 = 0, \"\", IF( OFFSET(#REF!, $AC49 - 1,0,1,1)<>0, IF(OR($AD49=\"LUMP\", $AD49=\"LS\"), \"LUMP\", OFFSET(#REF!, $AC49 - 1,0,1,1)),\"\"))","v":{"$error":"#REF!"}},{"$f":"IF( $AC49 = 0, \"\", IF( OFFSET(#REF!, $AC49 - 1,0,1,1)<>0, IF(OR($AD49=\"LUMP\", $AD49=\"LS\"), \"LUMP\", OFFSET(#REF!, $AC49 - 1,0,1,1)),\"\"))","v":{"$error":"#REF!"}},{"$f":"IF( $AC49 = 0, \"\", IF( OFFSET(#REF!, $AC49 - 1,0,1,1)<>0, IF(OR($AD49=\"LUMP\", $AD49=\"LS\"), \"LUMP\", OFFSET(#REF!, $AC49 - 1,0,1,1)),\"\"))","v":{"$error":"#REF!"}},{"$f":"IF( $AC49 = 0, \"\", IF( OFFSET(#REF!, $AC49 - 1,0,1,1)<>0, IF(OR($AD49=\"LUMP\", $AD49=\"LS\"), \"LUMP\", OFFSET(#REF!, $AC49 - 1,0,1,1)),\"\"))","v":{"$error":"#REF!"}},{"$f":"IF( $AC49 = 0, \"\", IF( OFFSET(#REF!, $AC49 - 1,0,1,1)<>0, IF(OR($AD49=\"LUMP\", $AD49=\"LS\"), \"LUMP\", OFFSET(#REF!, $AC49 - 1,0,1,1)),\"\"))","v":{"$error":"#REF!"}},{"$f":"IF( $AC49 = 0, \"\", IF( OFFSET(#REF!, $AC49 - 1,0,1,1)<>0, IF(OR($AD49=\"LUMP\", $AD49=\"LS\"), \"LUMP\", OFFSET(#REF!, $AC49 - 1,0,1,1)),\"\"))","v":{"$error":"#REF!"}},{"$f":"IF( $AC49 = 0, \"\", IF( OFFSET(#REF!, $AC49 - 1,0,1,1)<>0, IF(OR($AD49=\"LUMP\", $AD49=\"LS\"), \"LUMP\", OFFSET(#REF!, $AC49 - 1,0,1,1)),\"\"))","v":{"$error":"#REF!"}},{"$f":"IF( $AC49 = 0, \"\", IF( OFFSET(#REF!, $AC49 - 1,0,1,1)<>0, IF(OR($AD49=\"LUMP\", $AD49=\"LS\"), \"LUMP\", OFFSET(#REF!, $AC49 - 1,0,1,1)),\"\"))","v":{"$error":"#REF!"}},{"$f":"IF( $AC49 = 0, \"\", IF( OFFSET(#REF!, $AC49 - 1,0,1,1)<>0, IF(OR($AD49=\"LUMP\", $AD49=\"LS\"), \"LUMP\", OFFSET(#REF!, $AC49 - 1,0,1,1)),\"\"))","v":{"$error":"#REF!"}},{"$f":"IF( $AC49 = 0, \"\", IF( OFFSET(#REF!, $AC49 - 1,0,1,1)<>0, IF(OR($AD49=\"LUMP\", $AD49=\"LS\"), \"LUMP\", OFFSET(#REF!, $AC49 - 1,0,1,1)),\"\"))","v":{"$error":"#REF!"}},{"$f":"IF( $AC49 = 0, \"\", IF( OFFSET(#REF!, $AC49 - 1,0,1,1)<>0, IF(OR($AD49=\"LUMP\", $AD49=\"LS\"), \"LUMP\", OFFSET(#REF!, $AC49 - 1,0,1,1)),\"\"))","v":{"$error":"#REF!"}},{"$f":"IF( $AC49 = 0, \"\", IF( OFFSET(#REF!, $AC49 - 1,0,1,1)<>0, IF(OR($AD49=\"LUMP\", $AD49=\"LS\"), \"LUMP\", OFFSET(#REF!, $AC49 - 1,0,1,1)),\"\"))","v":{"$error":"#REF!"}},{"$f":"IF( $AC49 = 0, \"\", IF( OFFSET(#REF!, $AC49 - 1,0,1,1)<>0, IF(OR($AD49=\"LUMP\", $AD49=\"LS\"), \"LUMP\", OFFSET(#REF!, $AC49 - 1,0,1,1)),\"\"))","v":{"$error":"#REF!"}},{"$f":"IF( $AC49 = 0, \"\", IF( OFFSET(#REF!, $AC49 - 1,0,1,1)<>0, IF(OR($AD49=\"LUMP\", $AD49=\"LS\"), \"LUMP\", OFFSET(#REF!, $AC49 - 1,0,1,1)),\"\"))","v":{"$error":"#REF!"}},{"$f":"IF( $AC49 = 0, \"\", IF( OFFSET(#REF!, $AC49 - 1,0,1,1)<>0, IF(OR($AD49=\"LUMP\", $AD49=\"LS\"), \"LUMP\", OFFSET(#REF!, $AC49 - 1,0,1,1)),\"\"))","v":{"$error":"#REF!"}},{"$f":"IF( $AC49 = 0, \"\", IF( OFFSET(#REF!, $AC49 - 1,0,1,1)<>0, IF(OR($AD49=\"LUMP\", $AD49=\"LS\"), \"LUMP\", OFFSET(#REF!, $AC49 - 1,0,1,1)),\"\"))","v":{"$error":"#REF!"}},{"$f":"IF( $AC49 = 0, \"\", IF( OFFSET(#REF!, $AC49 - 1,0,1,1)<>0, IF(OR($AD49=\"LUMP\", $AD49=\"LS\"), \"LUMP\", OFFSET(#REF!, $AC49 - 1,0,1,1)),\"\"))","v":{"$error":"#REF!"}},{"$f":"IF( $AC49 = 0, \"\", IF( OFFSET(#REF!, $AC49 - 1,0,1,1)<>0, IF(OR($AD49=\"LUMP\", $AD49=\"LS\"), \"LUMP\", OFFSET(#REF!, $AC49 - 1,0,1,1)),\"\"))","v":{"$error":"#REF!"}},{"$f":"IF( $AC49 = 0, \"\", IF( OFFSET(#REF!, $AC49 - 1,0,1,1)<>0, IF(OR($AD49=\"LUMP\", $AD49=\"LS\"), \"LUMP\", OFFSET(#REF!, $AC49 - 1,0,1,1)),\"\"))","v":{"$error":"#REF!"}},{"$f":"IF( $AC49 = 0, \"\", IF( OFFSET(#REF!, $AC49 - 1,0,1,1)<>0, LEFT(OFFSET(#REF!, $AC49 - 1,0,1,1),3),\"\"))","v":{"$error":"#REF!"}},{"$f":"IF( $AC49 = 0, \"\", IF( OFFSET(#REF!, $AC49 - 1,0,1,1)<>0, IF(LEN(OFFSET(#REF!, $AC49 - 1,0,1,1))=9,   RIGHT(OFFSET(#REF!, $AC49 - 1,0,1,1),5),    LEFT(RIGHT(OFFSET(#REF!, $AC49 - 1,0,1,1),6), 5)      ),\"\"))","v":{"$error":"#REF!"}},{"$error":"#REF!"},{"$f":"IF( $AC49 = 0, \"\", IF( OFFSET(#REF!, $AC49 - 1,0,1,1)<>0,IF(OR(AD49=\"LUMP\", AD49=\"LS\"), \"\", AD49),\"\"))","v":{"$error":"#REF!"}},{"$f":"IF( $AC49 = 0, \"\", IF( OFFSET(#REF!, $AC49 - 1,0,1,1)<>0, VLOOKUP( OFFSET(#REF!, $AC49 - 1,0,1,1),[1]Items!$A$2:$E$10001,4,0),\"\"))","v":{"$error":"#REF!"}},null,47,7,40,{"$f":"IF( $AC49 = 0, \"\", IF( OFFSET(#REF!, $AC49 - 1,0,1,1)<>0, VLOOKUP( OFFSET(#REF!, $AC49 - 1,0,1,1),[1]Items!$A$2:$E$10001,3,0),\"\"))","v":{"$error":"#REF!"}}]
[{"$f":"IF( $AC50 = 0, \"\", IF( OFFSET(#REF!, $AC50 - 1,0,1,1)<>0, IF(OR($AD50=\"LUMP\", $AD50=\"LS\"), \"LUMP\", OFFSET(#REF!, $AC50 - 1,0,1,1)),\"\"))","v":""},{"$f":"IF( $AC50 = 0, \"\", IF( OFFSET(#REF!, $AC50 - 1,0,1,1)<>0, IF(OR($AD50=\"LUMP\", $AD50=\"LS\"), \"LUMP\", OFFSET(#REF!, $AC50 - 1,0,1,1)),\"\"))","v":""},{"$f":"IF( $AC50 = 0, \"\", IF( OFFSET(#REF!, $AC50 - 1,0,1,1)<>0, IF(OR($AD50=\"LUMP\", $AD50=\"LS\"), \"LUMP\", OFFSET(#REF!, $AC50 - 1,0,1,1)),\"\"))","v":""},{"$f":"IF( $AC50 = 0, \"\", IF( OFFSET(#REF!, $AC50 - 1,0,1,1)<>0, IF(OR($AD50=\"LUMP\", $AD50=\"LS\"), \"LUMP\", OFFSET(#REF!, $AC50 - 1,0,1,1)),\"\"))","v":""},{"$f":"IF( $AC50 = 0, \"\", IF( OFFSET(#REF!, $AC50 - 1,0,1,1)<>0, IF(OR($AD50=\"LUMP\", $AD50=\"LS\"), \"LUMP\", OFFSET(#REF!, $AC50 - 1,0,1,1)),\"\"))","v":""},{"$f":"IF( $AC50 = 0, \"\", IF( OFFSET(#REF!, $AC50 - 1,0,1,1)<>0, IF(OR($AD50=\"LUMP\", $AD50=\"LS\"), \"LUMP\", OFFSET(#REF!, $AC50 - 1,0,1,1)),\"\"))","v":""},{"$f":"IF( $AC50 = 0, \"\", IF( OFFSET(#REF!, $AC50 - 1,0,1,1)<>0, IF(OR($AD50=\"LUMP\", $AD50=\"LS\"), \"LUMP\", OFFSET(#REF!, $AC50 - 1,0,1,1)),\"\"))","v":""},{"$f":"IF( $AC50 = 0, \"\", IF( OFFSET(#REF!, $AC50 - 1,0,1,1)<>0, IF(OR($AD50=\"LUMP\", $AD50=\"LS\"), \"LUMP\", OFFSET(#REF!, $AC50 - 1,0,1,1)),\"\"))","v":""},{"$f":"IF( $AC50 = 0, \"\", IF( OFFSET(#REF!, $AC50 - 1,0,1,1)<>0, IF(OR($AD50=\"LUMP\", $AD50=\"LS\"), \"LUMP\", OFFSET(#REF!, $AC50 - 1,0,1,1)),\"\"))","v":""},{"$f":"IF( $AC50 = 0, \"\", IF( OFFSET(#REF!, $AC50 - 1,0,1,1)<>0, IF(OR($AD50=\"LUMP\", $AD50=\"LS\"), \"LUMP\", OFFSET(#REF!, $AC50 - 1,0,1,1)),\"\"))","v":""},{"$f":"IF( $AC50 = 0, \"\", IF( OFFSET(#REF!, $AC50 - 1,0,1,1)<>0, IF(OR($AD50=\"LUMP\", $AD50=\"LS\"), \"LUMP\", OFFSET(#REF!, $AC50 - 1,0,1,1)),\"\"))","v":""},{"$f":"IF( $AC50 = 0, \"\", IF( OFFSET(#REF!, $AC50 - 1,0,1,1)<>0, IF(OR($AD50=\"LUMP\", $AD50=\"LS\"), \"LUMP\", OFFSET(#REF!, $AC50 - 1,0,1,1)),\"\"))","v":""},{"$f":"IF( $AC50 = 0, \"\", IF( OFFSET(#REF!, $AC50 - 1,0,1,1)<>0, IF(OR($AD50=\"LUMP\", $AD50=\"LS\"), \"LUMP\", OFFSET(#REF!, $AC50 - 1,0,1,1)),\"\"))","v":""},{"$f":"IF( $AC50 = 0, \"\", IF( OFFSET(#REF!, $AC50 - 1,0,1,1)<>0, IF(OR($AD50=\"LUMP\", $AD50=\"LS\"), \"LUMP\", OFFSET(#REF!, $AC50 - 1,0,1,1)),\"\"))","v":""},{"$f":"IF( $AC50 = 0, \"\", IF( OFFSET(#REF!, $AC50 - 1,0,1,1)<>0, IF(OR($AD50=\"LUMP\", $AD50=\"LS\"), \"LUMP\", OFFSET(#REF!, $AC50 - 1,0,1,1)),\"\"))","v":""},{"$f":"IF( $AC50 = 0, \"\", IF( OFFSET(#REF!, $AC50 - 1,0,1,1)<>0, IF(OR($AD50=\"LUMP\", $AD50=\"LS\"), \"LUMP\", OFFSET(#REF!, $AC50 - 1,0,1,1)),\"\"))","v":""},{"$f":"IF( $AC50 = 0, \"\", IF( OFFSET(#REF!, $AC50 - 1,0,1,1)<>0, IF(OR($AD50=\"LUMP\", $AD50=\"LS\"), \"LUMP\", OFFSET(#REF!, $AC50 - 1,0,1,1)),\"\"))","v":""},{"$f":"IF( $AC50 = 0, \"\", IF( OFFSET(#REF!, $AC50 - 1,0,1,1)<>0, IF(OR($AD50=\"LUMP\", $AD50=\"LS\"), \"LUMP\", OFFSET(#REF!, $AC50 - 1,0,1,1)),\"\"))","v":""},{"$f":"IF( $AC50 = 0, \"\", IF( OFFSET(#REF!, $AC50 - 1,0,1,1)<>0, IF(OR($AD50=\"LUMP\", $AD50=\"LS\"), \"LUMP\", OFFSET(#REF!, $AC50 - 1,0,1,1)),\"\"))","v":""},{"$f":"IF( $AC50 = 0, \"\", IF( OFFSET(#REF!, $AC50 - 1,0,1,1)<>0, IF(OR($AD50=\"LUMP\", $AD50=\"LS\"), \"LUMP\", OFFSET(#REF!, $AC50 - 1,0,1,1)),\"\"))","v":""},{"$f":"IF( $AC50 = 0, \"\", IF( OFFSET(#REF!, $AC50 - 1,0,1,1)<>0, LEFT(OFFSET(#REF!, $AC50 - 1,0,1,1),3),\"\"))","v":""},{"$f":"IF( $AC50 = 0, \"\", IF( OFFSET(#REF!, $AC50 - 1,0,1,1)<>0, IF(LEN(OFFSET(#REF!, $AC50 - 1,0,1,1))=9,   RIGHT(OFFSET(#REF!, $AC50 - 1,0,1,1),5),    LEFT(RIGHT(OFFSET(#REF!, $AC50 - 1,0,1,1),6), 5)      ),\"\"))","v":""},"",{"$f":"IF( $AC50 = 0, \"\", IF( OFFSET(#REF!, $AC50 - 1,0,1,1)<>0,IF(OR(AD50=\"LUMP\", AD50=\"LS\"), \"\", AD50),\"\"))","v":""},{"$f":"IF( $AC50 = 0, \"\", IF( OFFSET(#REF!, $AC50 - 1,0,1,1)<>0, VLOOKUP( OFFSET(#REF!, $AC50 - 1,0,1,1),[1]Items!$A$2:$E$10001,4,0),\"\"))","v":""},null,48,8,0,{"$f":"IF( $AC50 = 0, \"\", IF( OFFSET(#REF!, $AC50 - 1,0,1,1)<>0, VLOOKUP( OFFSET(#REF!, $AC50 - 1,0,1,1),[1]Items!$A$2:$E$10001,3,0),\"\"))","v":""}]
[{"$f":"IF( $AC51 = 0, \"\", IF( OFFSET(#REF!, $AC51 - 1,0,1,1)<>0, IF(OR($AD51=\"LUMP\", $AD51=\"LS\"), \"LUMP\", OFFSET(#REF!, $AC51 - 1,0,1,1)),\"\"))","v":{"$error":"#REF!"}},{"$f":"IF( $AC51 = 0, \"\", IF( OFFSET(#REF!, $AC51 - 1,0,1,1)<>0, IF(OR($AD51=\"LUMP\", $AD51=\"LS\"), \"LUMP\", OFFSET(#REF!, $AC51 - 1,0,1,1)),\"\"))","v":{"$error":"#REF!"}},{"$f":"IF( $AC51 = 0, \"\", IF( OFFSET(#REF!, $AC51 - 1,0,1,1)<>0, IF(OR($AD51=\"LUMP\", $AD51=\"LS\"), \"LUMP\", OFFSET(#REF!, $AC51 - 1,0,1,1)),\"\"))","v":{"$error":"#REF!"}},{"$f":"IF( $AC51 = 0, \"\", IF( OFFSET(#REF!, $AC51 - 1,0,1,1)<>0, IF(OR($AD51=\"LUMP\", $AD51=\"LS\"), \"LUMP\", OFFSET(#REF!, $AC51 - 1,0,1,1)),\"\"))","v":{"$error":"#REF!"}},{"$f":"IF( $AC51 = 0, \"\", IF( OFFSET(#REF!, $AC51 - 1,0,1,1)<>0, IF(OR($AD51=\"LUMP\", $AD51=\"LS\"), \"LUMP\", OFFSET(#REF!, $AC51 - 1,0,1,1)),\"\"))","v":{"$error":"#REF!"}},{"$f":"IF( $AC51 = 0, \"\", IF( OFFSET(#REF!, $AC51 - 1,0,1,1)<>0, IF(OR($AD51=\"LUMP\", $AD51=\"LS\"), \"LUMP\", OFFSET(#REF!, $AC51 - 1,0,1,1)),\"\"))","v":{"$error":"#REF!"}},{"$f":"IF( $AC51 = 0, \"\", IF( OFFSET(#REF!, $AC51 - 1,0,1,1)<>0, IF(OR($AD51=\"LUMP\", $AD51=\"LS\"), \"LUMP\", OFFSET(#REF!, $AC51 - 1,0,1,1)),\"\"))","v":{"$error":"#REF!"}},{"$f":"IF( $AC51 = 0, \"\", IF( OFFSET(#REF!, $AC51 - 1,0,1,1)<>0, IF(OR($AD51=\"LUMP\", $AD51=\"LS\"), \"LUMP\", OFFSET(#REF!, $AC51 - 1,0,1,1)),\"\"))","v":{"$error":"#REF!"}},{"$f":"IF( $AC51 = 0, \"\", IF( OFFSET(#REF!, $AC51 - 1,0,1,1)<>0, IF(OR($AD51=\"LUMP\", $AD51=\"LS\"), \"LUMP\", OFFSET(#REF!, $AC51 - 1,0,1,1)),\"\"))","v":{"$error":"#REF!"}},{"$f":"IF( $AC51 = 0, \"\", IF( OFFSET(#REF!, $AC51 - 1,0,1,1)<>0, IF(OR($AD51=\"LUMP\", $AD51=\"LS\"), \"LUMP\", OFFSET(#REF!, $AC51 - 1,0,1,1)),\"\"))","v":{"$error":"#REF!"}},{"$f":"IF( $AC51 = 0, \"\", IF( OFFSET(#REF!, $AC51 - 1,0,1,1)<>0, IF(OR($AD51=\"LUMP\", $AD51=\"LS\"), \"LUMP\", OFFSET(#REF!, $AC51 - 1,0,1,1)),\"\"))","v":{"$error":"#REF!"}},{"$f":"IF( $AC51 = 0, \"\", IF( OFFSET(#REF!, $AC51 - 1,0,1,1)<>0, IF(OR($AD51=\"LUMP\", $AD51=\"LS\"), \"LUMP\", OFFSET(#REF!, $AC51 - 1,0,1,1)),\"\"))","v":{"$error":"#REF!"}},{"$f":"IF( $AC51 = 0, \"\", IF( OFFSET(#REF!, $AC51 - 1,0,1,1)<>0, IF(OR($AD51=\"LUMP\", $AD51=\"LS\"), \"LUMP\", OFFSET(#REF!, $AC51 - 1,0,1,1)),\"\"))","v":{"$error":"#REF!"}},{"$f":"IF( $AC51 = 0, \"\", IF( OFFSET(#REF!, $AC51 - 1,0,1,1)<>0, IF(OR($AD51=\"LUMP\", $AD51=\"LS\"), \"LUMP\", OFFSET(#REF!, $AC51 - 1,0,1,1)),\"\"))","v":{"$error":"#REF!"}},{"$f":"IF( $AC51 = 0, \"\", IF( OFFSET(#REF!, $AC51 - 1,0,1,1)<>0, IF(OR($AD51=\"LUMP\", $AD51=\"LS\"), \"LUMP\", OFFSET(#REF!, $AC51 - 1,0,1,1)),\"\"))","v":{"$error":"#REF!"}},{"$f":"IF( $AC51 = 0, \"\", IF( OFFSET(#REF!, $AC51 - 1,0,1,1)<>0, IF(OR($AD51=\"LUMP\", $AD51=\"LS\"), \"LUMP\", OFFSET(#REF!, $AC51 - 1,0,1,1)),\"\"))","v":{"$error":"#REF!"}},{"$f":"IF( $AC51 = 0, \"\", IF( OFFSET(#REF!, $AC51 - 1,0,1,1)<>0, IF(OR($AD51=\"LUMP\", $AD51=\"LS\"), \"LUMP\", OFFSET(#REF!, $AC51 - 1,0,1,1)),\"\"))","v":{"$error":"#REF!"}},{"$f":"IF( $AC51 = 0, \"\", IF( OFFSET(#REF!, $AC51 - 1,0,1,1)<>0, IF(OR($AD51=\"LUMP\", $AD51=\"LS\"), \"LUMP\", OFFSET(#REF!, $AC51 - 1,0,1,1)),\"\"))","v":{"$error":"#REF!"}},{"$f":"IF( $AC51 = 0, \"\", IF( OFFSET(#REF!, $AC51 - 1,0,1,1)<>0, IF(OR($AD51=\"LUMP\", $AD51=\"LS\"), \"LUMP\", OFFSET(#REF!, $AC51 - 1,0,1,1)),\"\"))","v":{"$error":"#REF!"}},{"$f":"IF( $AC51 = 0, \"\", IF( OFFSET(#REF!, $AC51 - 1,0,1,1)<>0, IF(OR($AD51=\"LUMP\", $AD51=\"LS\"), \"LUMP\", OFFSET(#REF!, $AC51 - 1,0,1,1)),\"\"))","v":{"$error":"#REF!"}},{"$f":"IF( $AC51 = 0, \"\", IF( OFFSET(#REF!, $AC51 - 1,0,1,1)<>0, LEFT(OFFSET(#REF!, $AC51 - 1,0,1,1),3),\"\"))","v":{"$error":"#REF!"}},{"$f":"IF( $AC51 = 0, \"\", IF( OFFSET(#REF!, $AC51 - 1,0,1,1)<>0, IF(LEN(OFFSET(#REF!, $AC51 - 1,0,1,1))=9,   RIGHT(OFFSET(#REF!, $AC51 - 1,0,1,1),5),    LEFT(RIGHT(OFFSET(#REF!, $AC51 - 1,0,1,1),6), 5)      ),\"\"))","v":{"$error":"#REF!"}},{"$error":"#REF!"},{"$f":"IF( $AC51 = 0, \"\", IF( OFFSET(#REF!, $AC51 - 1,0,1,1)<>0,IF(OR(AD51=\"LUMP\", AD51=\"LS\"), \"\", AD51),\"\"))","v":{"$error":"#REF!"}},{"$f":"IF( $AC51 = 0, \"\", IF( OFFSET(#REF!, $AC51 - 1,0,1,1)<>0, VLOOKUP( OFFSET(#REF!, $AC51 - 1,0,1,1),[1]Items!$A$2:$E$10001,4,0),\"\"))","v":{"$error":"#REF!"}},null,49,8,41,{"$f":"IF( $AC51 = 0, \"\", IF( OFFSET(#REF!, $AC51 - 1,0,1,1)<>0, VLOOKUP( OFFSET(#REF!, $AC51 - 1,0,1,1),[1]Items!$A$2:$E$10001,3,0),\"\"))","v":{"$error":"#REF!"}}]
[{"$f":"IF( $AC52 = 0, \"\", IF( OFFSET(#REF!, $AC52 - 1,0,1,1)<>0, IF(OR($AD52=\"LUMP\", $AD52=\"LS\"), \"LUMP\", OFFSET(#REF!, $AC52 - 1,0,1,1)),\"\"))","v":{"$error":"#REF!"}},{"$f":"IF( $AC52 = 0, \"\", IF( OFFSET(#REF!, $AC52 - 1,0,1,1)<>0, IF(OR($AD52=\"LUMP\", $AD52=\"LS\"), \"LUMP\", OFFSET(#REF!, $AC52 - 1,0,1,1)),\"\"))","v":{"$error":"#REF!"}},{"$f":"IF( $AC52 = 0, \"\", IF( OFFSET(#REF!, $AC52 - 1,0,1,1)<>0, IF(OR($AD52=\"LUMP\", $AD52=\"LS\"), \"LUMP\", OFFSET(#REF!, $AC52 - 1,0,1,1)),\"\"))","v":{"$error":"#REF!"}},{"$f":"IF( $AC52 = 0, \"\", IF( OFFSET(#REF!, $AC52 - 1,0,1,1)<>0, IF(OR($AD52=\"LUMP\", $AD52=\"LS\"), \"LUMP\", OFFSET(#REF!, $AC52 - 1,0,1,1)),\"\"))","v":{"$error":"#REF!"}},{"$f":"IF( $AC52 = 0, \"\", IF( OFFSET(#REF!, $AC52 - 1,0,1,1)<>0, IF(OR($AD52=\"LUMP\", $AD52=\"LS\"), \"LUMP\", OFFSET(#REF!, $AC52 - 1,0,1,1)),\"\"))","v":{"$error":"#REF!"}},{"$f":"IF( $AC52 = 0, \"\", IF( OFFSET(#REF!, $AC52 - 1,0,1,1)<>0, IF(OR($AD52=\"LUMP\", $AD52=\"LS\"), \"LUMP\", OFFSET(#REF!, $AC52 - 1,0,1,1)),\"\"))","v":{"$error":"#REF!"}},{"$f":"IF( $AC52 = 0, \"\", IF( OFFSET(#REF!, $AC52 - 1,0,1,1)<>0, IF(OR($AD52=\"LUMP\", $AD52=\"LS\"), \"LUMP\", OFFSET(#REF!, $AC52 - 1,0,1,1)),\"\"))","v":{"$error":"#REF!"}},{"$f":"IF( $AC52 = 0, \"\", IF( OFFSET(#REF!, $AC52 - 1,0,1,1)<>0, IF(OR($AD52=\"LUMP\", $AD52=\"LS\"), \"LUMP\", OFFSET(#REF!, $AC52 - 1,0,1,1)),\"\"))","v":{"$error":"#REF!"}},{"$f":"IF( $AC52 = 0, \"\", IF( OFFSET(#REF!, $AC52 - 1,0,1,1)<>0, IF(OR($AD52=\"LUMP\", $AD52=\"LS\"), \"LUMP\", OFFSET(#REF!, $AC52 - 1,0,1,1)),\"\"))","v":{"$error":"#REF!"}},{"$f":"IF( $AC52 = 0, \"\", IF( OFFSET(#REF!, $AC52 - 1,0,1,1)<>0, IF(OR($AD52=\"LUMP\", $AD52=\"LS\"), \"LUMP\", OFFSET(#REF!, $AC52 - 1,0,1,1)),\"\"))","v":{"$error":"#REF!"}},{"$f":"IF( $AC52 = 0, \"\", IF( OFFSET(#REF!, $AC52 - 1,0,1,1)<>0, IF(OR($AD52=\"LUMP\", $AD52=\"LS\"), \"LUMP\", OFFSET(#REF!, $AC52 - 1,0,1,1)),\"\"))","v":{"$error":"#REF!"}},{"$f":"IF( $AC52 = 0, \"\", IF( OFFSET(#REF!, $AC52 - 1,0,1,1)<>0, IF(OR($AD52=\"LUMP\", $AD52=\"LS\"), \"LUMP\", OFFSET(#REF!, $AC52 - 1,0,1,1)),\"\"))","v":{"$error":"#REF!"}},{"$f":"IF( $AC52 = 0, \"\", IF( OFFSET(#REF!, $AC52 - 1,0,1,1)<>0, IF(OR($AD52=\"LUMP\", $AD52=\"LS\"), \"LUMP\", OFFSET(#REF!, $AC52 - 1,0,1,1)),\"\"))","v":{"$error":"#REF!"}},{"$f":"IF( $AC52 = 0, \"\", IF( OFFSET(#REF!, $AC52 - 1,0,1,1)<>0, IF(OR($AD52=\"LUMP\", $AD52=\"LS\"), \"LUMP\", OFFSET(#REF!, $AC52 - 1,0,1,1)),\"\"))","v":{"$error":"#REF!"}},{"$f":"IF( $AC52 = 0, \"\", IF( OFFSET(#REF!, $AC52 - 1,0,1,1)<>0, IF(OR($AD52=\"LUMP\", $AD52=\"LS\"), \"LUMP\", OFFSET(#REF!, $AC52 - 1,0,1,1)),\"\"))","v":{"$error":"#REF!"}},{"$f":"IF( $AC52 = 0, \"\", IF( OFFSET(#REF!, $AC52 - 1,0,1,1)<>0, IF(OR($AD52=\"LUMP\", $AD52=\"LS\"), \"LUMP\", OFFSET(#REF!, $AC52 - 1,0,1,1)),\"\"))","v":{"$error":"#REF!"}},{"$f":"IF( $AC52 = 0, \"\", IF( OFFSET(#REF!, $AC52 - 1,0,1,1)<>0, IF(OR($AD52=\"LUMP\", $AD52=\"LS\"), \"LUMP\", OFFSET(#REF!, $AC52 - 1,0,1,1)),\"\"))","v":{"$error":"#REF!"}},{"$f":"IF( $AC52 = 0, \"\", IF( OFFSET(#REF!, $AC52 - 1,0,1,1)<>0, IF(OR($AD52=\"LUMP\", $AD52=\"LS\"), \"LUMP\", OFFSET(#REF!, $AC52 - 1,0,1,1)),\"\"))","v":{"$error":"#REF!"}},{"$f":"IF( $AC52 = 0, \"\", IF( OFFSET(#REF!, $AC52 - 1,0,1,1)<>0, IF(OR($AD52=\"LUMP\", $AD52=\"LS\"), \"LUMP\", OFFSET(#REF!, $AC52 - 1,0,1,1)),\"\"))","v":{"$error":"#REF!"}},{"$f":"IF( $AC52 = 0, \"\", IF( OFFSET(#REF!, $AC52 - 1,0,1,1)<>0, IF(OR($AD52=\"LUMP\", $AD52=\"LS\"), \"LUMP\", OFFSET(#REF!, $AC52 - 1,0,1,1)),\"\"))","v":{"$error":"#REF!"}},{"$f":"IF( $AC52 = 0, \"\", IF( OFFSET(#REF!, $AC52 - 1,0,1,1)<>0, LEFT(OFFSET(#REF!, $AC52 - 1,0,1,1),3),\"\"))","v":{"$error":"#REF!"}},{"$f":"IF( $AC52 = 0, \"\", IF( OFFSET(#REF!, $AC52 - 1,0,1,1)<>0, IF(LEN(OFFSET(#REF!, $AC52 - 1,0,1,1))=9,   RIGHT(OFFSET(#REF!, $AC52 - 1,0,1,1),5),    LEFT(RIGHT(OFFSET(#REF!, $AC52 - 1,0,1,1),6), 5)      ),\"\"))","v":{"$error":"#REF!"}},{"$error":"#REF!"},{"$f":"IF( $AC52 = 0, \"\", IF( OFFSET(#REF!, $AC52 - 1,0,1,1)<>0,IF(OR(AD52=\"LUMP\", AD52=\"LS\"), \"\", AD52),\"\"))","v":{"$error":"#REF!"}},{"$f":"IF( $AC52 = 0, \"\", IF( OFFSET(#REF!, $AC52 - 1,0,1,1)<>0, VLOOKUP( OFFSET(#REF!, $AC52 - 1,0,1,1),[1]Items!$A$2:$E$10001,4,0),\"\"))","v":{"$error":"#REF!"}},null,50,8,42,{"$f":"IF( $AC52 = 0, \"\", IF( OFFSET(#REF!, $AC52 - 1,0,1,1)<>0, VLOOKUP( OFFSET(#REF!, $AC52 - 1,0,1,1),[1]Items!$A$2:$E$10001,3,0),\"\"))","v":{"$error":"#REF!"}}]
[{"$f":"IF( $AC53 = 0, \"\", IF( OFFSET(#REF!, $AC53 - 1,0,1,1)<>0, IF(OR($AD53=\"LUMP\", $AD53=\"LS\"), \"LUMP\", OFFSET(#REF!, $AC53 - 1,0,1,1)),\"\"))","v":{"$error":"#REF!"}},{"$f":"IF( $AC53 = 0, \"\", IF( OFFSET(#REF!, $AC53 - 1,0,1,1)<>0, IF(OR($AD53=\"LUMP\", $AD53=\"LS\"), \"LUMP\", OFFSET(#REF!, $AC53 - 1,0,1,1)),\"\"))","v":{"$error":"#REF!"}},{"$f":"IF( $AC53 = 0, \"\", IF( OFFSET(#REF!, $AC53 - 1,0,1,1)<>0, IF(OR($AD53=\"LUMP\", $AD53=\"LS\"), \"LUMP\", OFFSET(#REF!, $AC53 - 1,0,1,1)),\"\"))","v":{"$error":"#REF!"}},{"$f":"IF( $AC53 = 0, \"\", IF( OFFSET(#REF!, $AC53 - 1,0,1,1)<>0, IF(OR($AD53=\"LUMP\", $AD53=\"LS\"), \"LUMP\", OFFSET(#REF!, $AC53 - 1,0,1,1)),\"\"))","v":{"$error":"#REF!"}},{"$f":"IF( $AC53 = 0, \"\", IF( OFFSET(#REF!, $AC53 - 1,0,1,1)<>0, IF(OR($AD53=\"LUMP\", $AD53=\"LS\"), \"LUMP\", OFFSET(#REF!, $AC53 - 1,0,1,1)),\"\"))","v":{"$error":"#REF!"}},{"$f":"IF( $AC53 = 0, \"\", IF( OFFSET(#REF!, $AC53 - 1,0,1,1)<>0, IF(OR($AD53=\"LUMP\", $AD53=\"LS\"), \"LUMP\", OFFSET(#REF!, $AC53 - 1,0,1,1)),\"\"))","v":{"$error":"#REF!"}},{"$f":"IF( $AC53 = 0, \"\", IF( OFFSET(#REF!, $AC53 - 1,0,1,1)<>0, IF(OR($AD53=\"LUMP\", $AD53=\"LS\"), \"LUMP\", OFFSET(#REF!, $AC53 - 1,0,1,1)),\"\"))","v":{"$error":"#REF!"}},{"$f":"IF( $AC53 = 0, \"\", IF( OFFSET(#REF!, $AC53 - 1,0,1,1)<>0, IF(OR($AD53=\"LUMP\", $AD53=\"LS\"), \"LUMP\", OFFSET(#REF!, $AC53 - 1,0,1,1)),\"\"))","v":{"$error":"#REF!"}},{"$f":"IF( $AC53 = 0, \"\", IF( OFFSET(#REF!, $AC53 - 1,0,1,1)<>0, IF(OR($AD53=\"LUMP\", $AD53=\"LS\"), \"LUMP\", OFFSET(#REF!, $AC53 - 1,0,1,1)),\"\"))","v":{"$error":"#REF!"}},{"$f":"IF( $AC53 = 0, \"\", IF( OFFSET(#REF!, $AC53 - 1,0,1,1)<>0, IF(OR($AD53=\"LUMP\", $AD53=\"LS\"), \"LUMP\", OFFSET(#REF!, $AC53 - 1,0,1,1)),\"\"))","v":{"$error":"#REF!"}},{"$f":"IF( $AC53 = 0, \"\", IF( OFFSET(#REF!, $AC53 - 1,0,1,1)<>0, IF(OR($AD53=\"LUMP\", $AD53=\"LS\"), \"LUMP\", OFFSET(#REF!, $AC53 - 1,0,1,1)),\"\"))","v":{"$error":"#REF!"}},{"$f":"IF( $AC53 = 0, \"\", IF( OFFSET(#REF!, $AC53 - 1,0,1,1)<>0, IF(OR($AD53=\"LUMP\", $AD53=\"LS\"), \"LUMP\", OFFSET(#REF!, $AC53 - 1,0,1,1)),\"\"))","v":{"$error":"#REF!"}},{"$f":"IF( $AC53 = 0, \"\", IF( OFFSET(#REF!, $AC53 - 1,0,1,1)<>0, IF(OR($AD53=\"LUMP\", $AD53=\"LS\"), \"LUMP\", OFFSET(#REF!, $AC53 - 1,0,1,1)),\"\"))","v":{"$error":"#REF!"}},{"$f":"IF( $AC53 = 0, \"\", IF( OFFSET(#REF!, $AC53 - 1,0,1,1)<>0, IF(OR($AD53=\"LUMP\", $AD53=\"LS\"), \"LUMP\", OFFSET(#REF!, $AC53 - 1,0,1,1)),\"\"))","v":{"$error":"#REF!"}},{"$f":"IF( $AC53 = 0, \"\", IF( OFFSET(#REF!, $AC53 - 1,0,1,1)<>0, IF(OR($AD53=\"LUMP\", $AD53=\"LS\"), \"LUMP\", OFFSET(#REF!, $AC53 - 1,0,1,1)),\"\"))","v":{"$error":"#REF!"}},{"$f":"IF( $AC53 = 0, \"\", IF( OFFSET(#REF!, $AC53 - 1,0,1,1)<>0, IF(OR($AD53=\"LUMP\", $AD53=\"LS\"), \"LUMP\", OFFSET(#REF!, $AC53 - 1,0,1,1)),\"\"))","v":{"$error":"#REF!"}},{"$f":"IF( $AC53 = 0, \"\", IF( OFFSET(#REF!, $AC53 - 1,0,1,1)<>0, IF(OR($AD53=\"LUMP\", $AD53=\"LS\"), \"LUMP\", OFFSET(#REF!, $AC53 - 1,0,1,1)),\"\"))","v":{"$error":"#REF!"}},{"$f":"IF( $AC53 = 0, \"\", IF( OFFSET(#REF!, $AC53 - 1,0,1,1)<>0, IF(OR($AD53=\"LUMP\", $AD53=\"LS\"), \"LUMP\", OFFSET(#REF!, $AC53 - 1,0,1,1)),\"\"))","v":{"$error":"#REF!"}},{"$f":"IF( $AC53 = 0, \"\", IF( OFFSET(#REF!, $AC53 - 1,0,1,1)<>0, IF(OR($AD53=\"LUMP\", $AD53=\"LS\"), \"LUMP\", OFFSET(#REF!, $AC53 - 1,0,1,1)),\"\"))","v":{"$error":"#REF!"}},{"$f":"IF( $AC53 = 0, \"\", IF( OFFSET(#REF!, $AC53 - 1,0,1,1)<>0, IF(OR($AD53=\"LUMP\", $AD53=\"LS\"), \"LUMP\", OFFSET(#REF!, $AC53 - 1,0,1,1)),\"\"))","v":{"$error":"#REF!"}},{"$f":"IF( $AC53 = 0, \"\", IF( OFFSET(#REF!, $AC53 - 1,0,1,1)<>0, LEFT(OFFSET(#REF!, $AC53 - 1,0,1,1),3),\"\"))","v":{"$error":"#REF!"}},{"$f":"IF( $AC53 = 0, \"\", IF( OFFSET(#REF!, $AC53 - 1,0,1,1)<>0, IF(LEN(OFFSET(#REF!, $AC53 - 1,0,1,1))=9,   RIGHT(OFFSET(#REF!, $AC53 - 1,0,1,1),5),    LEFT(RIGHT(OFFSET(#REF!, $AC53 - 1,0,1,1),6), 5)      ),\"\"))","v":{"$error":"#REF!"}},{"$error":"#REF!"},{"$f":"IF( $AC53 = 0, \"\", IF( OFFSET(#REF!, $AC53 - 1,0,1,1)<>0,IF(OR(AD53=\"LUMP\", AD53=\"LS\"), \"\", AD53),\"\"))","v":{"$error":"#REF!"}},{"$f":"IF( $AC53 = 0, \"\", IF( OFFSET(#REF!, $AC53 - 1,0,1,1)<>0, VLOOKUP( OFFSET(#REF!, $AC53 - 1,0,1,1),[1]Items!$A$2:$E$10001,4,0),\"\"))","v":{"$error":"#REF!"}},null,51,8,43,{"$f":"IF( $AC53 = 0, \"\", IF( OFFSET(#REF!, $AC53 - 1,0,1,1)<>0, VLOOKUP( OFFSET(#REF!, $AC53 - 1,0,1,1),[1]Items!$A$2:$E$10001,3,0),\"\"))","v":{"$error":"#REF!"}}]
[{"$f":"IF( $AC54 = 0, \"\", IF( OFFSET(#REF!, $AC54 - 1,0,1,1)<>0, IF(OR($AD54=\"LUMP\", $AD54=\"LS\"), \"LUMP\", OFFSET(#REF!, $AC54 - 1,0,1,1)),\"\"))","v":{"$error":"#REF!"}},{"$f":"IF( $AC54 = 0, \"\", IF( OFFSET(#REF!, $AC54 - 1,0,1,1)<>0, IF(OR($AD54=\"LUMP\", $AD54=\"LS\"), \"LUMP\", OFFSET(#REF!, $AC54 - 1,0,1,1)),\"\"))","v":{"$error":"#REF!"}},{"$f":"IF( $AC54 = 0, \"\", IF( OFFSET(#REF!, $AC54 - 1,0,1,1)<>0, IF(OR($AD54=\"LUMP\", $AD54=\"LS\"), \"LUMP\", OFFSET(#REF!, $AC54 - 1,0,1,1)),\"\"))","v":{"$error":"#REF!"}},{"$f":"IF( $AC54 = 0, \"\", IF( OFFSET(#REF!, $AC54 - 1,0,1,1)<>0, IF(OR($AD54=\"LUMP\", $AD54=\"LS\"), \"LUMP\", OFFSET(#REF!, $AC54 - 1,0,1,1)),\"\"))","v":{"$error":"#REF!"}},{"$f":"IF( $AC54 = 0, \"\", IF( OFFSET(#REF!, $AC54 - 1,0,1,1)<>0, IF(OR($AD54=\"LUMP\", $AD54=\"LS\"), \"LUMP\", OFFSET(#REF!, $AC54 - 1,0,1,1)),\"\"))","v":{"$error":"#REF!"}},{"$f":"IF( $AC54 = 0, \"\", IF( OFFSET(#REF!, $AC54 - 1,0,1,1)<>0, IF(OR($AD54=\"LUMP\", $AD54=\"LS\"), \"LUMP\", OFFSET(#REF!, $AC54 - 1,0,1,1)),\"\"))","v":{"$error":"#REF!"}},{"$f":"IF( $AC54 = 0, \"\", IF( OFFSET(#REF!, $AC54 - 1,0,1,1)<>0, IF(OR($AD54=\"LUMP\", $AD54=\"LS\"), \"LUMP\", OFFSET(#REF!, $AC54 - 1,0,1,1)),\"\"))","v":{"$error":"#REF!"}},{"$f":"IF( $AC54 = 0, \"\", IF( OFFSET(#REF!, $AC54 - 1,0,1,1)<>0, IF(OR($AD54=\"LUMP\", $AD54=\"LS\"), \"LUMP\", OFFSET(#REF!, $AC54 - 1,0,1,1)),\"\"))","v":{"$error":"#REF!"}},{"$f":"IF( $AC54 = 0, \"\", IF( OFFSET(#REF!, $AC54 - 1,0,1,1)<>0, IF(OR($AD54=\"LUMP\", $AD54=\"LS\"), \"LUMP\", OFFSET(#REF!, $AC54 - 1,0,1,1)),\"\"))","v":{"$error":"#REF!"}},{"$f":"IF( $AC54 = 0, \"\", IF( OFFSET(#REF!, $AC54 - 1,0,1,1)<>0, IF(OR($AD54=\"LUMP\", $AD54=\"LS\"), \"LUMP\", OFFSET(#REF!, $AC54 - 1,0,1,1)),\"\"))","v":{"$error":"#REF!"}},{"$f":"IF( $AC54 = 0, \"\", IF( OFFSET(#REF!, $AC54 - 1,0,1,1)<>0, IF(OR($AD54=\"LUMP\", $AD54=\"LS\"), \"LUMP\", OFFSET(#REF!, $AC54 - 1,0,1,1)),\"\"))","v":{"$error":"#REF!"}},{"$f":"IF( $AC54 = 0, \"\", IF( OFFSET(#REF!, $AC54 - 1,0,1,1)<>0, IF(OR($AD54=\"LUMP\", $AD54=\"LS\"), \"LUMP\", OFFSET(#REF!, $AC54 - 1,0,1,1)),\"\"))","v":{"$error":"#REF!"}},{"$f":"IF( $AC54 = 0, \"\", IF( OFFSET(#REF!, $AC54 - 1,0,1,1)<>0, IF(OR($AD54=\"LUMP\", $AD54=\"LS\"), \"LUMP\", OFFSET(#REF!, $AC54 - 1,0,1,1)),\"\"))","v":{"$error":"#REF!"}},{"$f":"IF( $AC54 = 0, \"\", IF( OFFSET(#REF!, $AC54 - 1,0,1,1)<>0, IF(OR($AD54=\"LUMP\", $AD54=\"LS\"), \"LUMP\", OFFSET(#REF!, $AC54 - 1,0,1,1)),\"\"))","v":{"$error":"#REF!"}},{"$f":"IF( $AC54 = 0, \"\", IF( OFFSET(#REF!, $AC54 - 1,0,1,1)<>0, IF(OR($AD54=\"LUMP\", $AD54=\"LS\"), \"LUMP\", OFFSET(#REF!, $AC54 - 1,0,1,1)),\"\"))","v":{"$error":"#REF!"}},{"$f":"IF( $AC54 = 0, \"\", IF( OFFSET(#REF!, $AC54 - 1,0,1,1)<>0, IF(OR($AD54=\"LUMP\", $AD54=\"LS\"), \"LUMP\", OFFSET(#REF!, $AC54 - 1,0,1,1)),\"\"))","v":{"$error":"#REF!"}},{"$f":"IF( $AC54 = 0, \"\", IF( OFFSET(#REF!, $AC54 - 1,0,1,1)<>0, IF(OR($AD54=\"LUMP\", $AD54=\"LS\"), \"LUMP\", OFFSET(#REF!, $AC54 - 1,0,1,1)),\"\"))","v":{"$error":"#REF!"}},{"$f":"IF( $AC54 = 0, \"\", IF( OFFSET(#REF!, $AC54 - 1,0,1,1)<>0, IF(OR($AD54=\"LUMP\", $AD54=\"LS\"), \"LUMP\", OFFSET(#REF!, $AC54 - 1,0,1,1)),\"\"))","v":{"$error":"#REF!"}},{"$f":"IF( $AC54 = 0, \"\", IF( OFFSET(#REF!, $AC54 - 1,0,1,1)<>0, IF(OR($AD54=\"LUMP\", $AD54=\"LS\"), \"LUMP\", OFFSET(#REF!, $AC54 - 1,0,1,1)),\"\"))","v":{"$error":"#REF!"}},{"$f":"IF( $AC54 = 0, \"\", IF( OFFSET(#REF!, $AC54 - 1,0,1,1)<>0, IF(OR($AD54=\"LUMP\", $AD54=\"LS\"), \"LUMP\", OFFSET(#REF!, $AC54 - 1,0,1,1)),\"\"))","v":{"$error":"#REF!"}},{"$f":"IF( $AC54 = 0, \"\", IF( OFFSET(#REF!, $AC54 - 1,0,1,1)<>0, LEFT(OFFSET(#REF!, $AC54 - 1,0,1,1),3),\"\"))","v":{"$error":"#REF!"}},{"$f":"IF( $AC54 = 0, \"\", IF( OFFSET(#REF!, $AC54 - 1,0,1,1)<>0, IF(LEN(OFFSET(#REF!, $AC54 - 1,0,1,1))=9,   RIGHT(OFFSET(#REF!, $AC54 - 1,0,1,1),5),    LEFT(RIGHT(OFFSET(#REF!, $AC54 - 1,0,1,1),6), 5)      ),\"\"))","v":{"$error":"#REF!"}},{"$error":"#REF!"},{"$f":"IF( $AC54 = 0, \"\", IF( OFFSET(#REF!, $AC54 - 1,0,1,1)<>0,IF(OR(AD54=\"LUMP\", AD54=\"LS\"), \"\", AD54),\"\"))","v":{"$error":"#REF!"}},{"$f":"IF( $AC54 = 0, \"\", IF( OFFSET(#REF!, $AC54 - 1,0,1,1)<>0, VLOOKUP( OFFSET(#REF!, $AC54 - 1,0,1,1),[1]Items!$A$2:$E$10001,4,0),\"\"))","v":{"$error":"#REF!"}},null,52,8,44,{"$f":"IF( $AC54 = 0, \"\", IF( OFFSET(#REF!, $AC54 - 1,0,1,1)<>0, VLOOKUP( OFFSET(#REF!, $AC54 - 1,0,1,1),[1]Items!$A$2:$E$10001,3,0),\"\"))","v":{"$error":"#REF!"}}]
[{"$f":"IF( $AC55 = 0, \"\", IF( OFFSET(#REF!, $AC55 - 1,0,1,1)<>0, IF(OR($AD55=\"LUMP\", $AD55=\"LS\"), \"LUMP\", OFFSET(#REF!, $AC55 - 1,0,1,1)),\"\"))","v":{"$error":"#REF!"}},{"$f":"IF( $AC55 = 0, \"\", IF( OFFSET(#REF!, $AC55 - 1,0,1,1)<>0, IF(OR($AD55=\"LUMP\", $AD55=\"LS\"), \"LUMP\", OFFSET(#REF!, $AC55 - 1,0,1,1)),\"\"))","v":{"$error":"#REF!"}},{"$f":"IF( $AC55 = 0, \"\", IF( OFFSET(#REF!, $AC55 - 1,0,1,1)<>0, IF(OR($AD55=\"LUMP\", $AD55=\"LS\"), \"LUMP\", OFFSET(#REF!, $AC55 - 1,0,1,1)),\"\"))","v":{"$error":"#REF!"}},{"$f":"IF( $AC55 = 0, \"\", IF( OFFSET(#REF!, $AC55 - 1,0,1,1)<>0, IF(OR($AD55=\"LUMP\", $AD55=\"LS\"), \"LUMP\", OFFSET(#REF!, $AC55 - 1,0,1,1)),\"\"))","v":{"$error":"#REF!"}},{"$f":"IF( $AC55 = 0, \"\", IF( OFFSET(#REF!, $AC55 - 1,0,1,1)<>0, IF(OR($AD55=\"LUMP\", $AD55=\"LS\"), \"LUMP\", OFFSET(#REF!, $AC55 - 1,0,1,1)),\"\"))","v":{"$error":"#REF!"}},{"$f":"IF( $AC55 = 0, \"\", IF( OFFSET(#REF!, $AC55 - 1,0,1,1)<>0, IF(OR($AD55=\"LUMP\", $AD55=\"LS\"), \"LUMP\", OFFSET(#REF!, $AC55 - 1,0,1,1)),\"\"))","v":{"$error":"#REF!"}},{"$f":"IF( $AC55 = 0, \"\", IF( OFFSET(#REF!, $AC55 - 1,0,1,1)<>0, IF(OR($AD55=\"LUMP\", $AD55=\"LS\"), \"LUMP\", OFFSET(#REF!, $AC55 - 1,0,1,1)),\"\"))","v":{"$error":"#REF!"}},{"$f":"IF( $AC55 = 0, \"\", IF( OFFSET(#REF!, $AC55 - 1,0,1,1)<>0, IF(OR($AD55=\"LUMP\", $AD55=\"LS\"), \"LUMP\", OFFSET(#REF!, $AC55 - 1,0,1,1)),\"\"))","v":{"$error":"#REF!"}},{"$f":"IF( $AC55 = 0, \"\", IF( OFFSET(#REF!, $AC55 - 1,0,1,1)<>0, IF(OR($AD55=\"LUMP\", $AD55=\"LS\"), \"LUMP\", OFFSET(#REF!, $AC55 - 1,0,1,1)),\"\"))","v":{"$error":"#REF!"}},{"$f":"IF( $AC55 = 0, \"\", IF( OFFSET(#REF!, $AC55 - 1,0,1,1)<>0, IF(OR($AD55=\"LUMP\", $AD55=\"LS\"), \"LUMP\", OFFSET(#REF!, $AC55 - 1,0,1,1)),\"\"))","v":{"$error":"#REF!"}},{"$f":"IF( $AC55 = 0, \"\", IF( OFFSET(#REF!, $AC55 - 1,0,1,1)<>0, IF(OR($AD55=\"LUMP\", $AD55=\"LS\"), \"LUMP\", OFFSET(#REF!, $AC55 - 1,0,1,1)),\"\"))","v":{"$error":"#REF!"}},{"$f":"IF( $AC55 = 0, \"\", IF( OFFSET(#REF!, $AC55 - 1,0,1,1)<>0, IF(OR($AD55=\"LUMP\", $AD55=\"LS\"), \"LUMP\", OFFSET(#REF!, $AC55 - 1,0,1,1)),\"\"))","v":{"$error":"#REF!"}},{"$f":"IF( $AC55 = 0, \"\", IF( OFFSET(#REF!, $AC55 - 1,0,1,1)<>0, IF(OR($AD55=\"LUMP\", $AD55=\"LS\"), \"LUMP\", OFFSET(#REF!, $AC55 - 1,0,1,1)),\"\"))","v":{"$error":"#REF!"}},{"$f":"IF( $AC55 = 0, \"\", IF( OFFSET(#REF!, $AC55 - 1,0,1,1)<>0, IF(OR($AD55=\"LUMP\", $AD55=\"LS\"), \"LUMP\", OFFSET(#REF!, $AC55 - 1,0,1,1)),\"\"))","v":{"$error":"#REF!"}},{"$f":"IF( $AC55 = 0, \"\", IF( OFFSET(#REF!, $AC55 - 1,0,1,1)<>0, IF(OR($AD55=\"LUMP\", $AD55=\"LS\"), \"LUMP\", OFFSET(#REF!, $AC55 - 1,0,1,1)),\"\"))","v":{"$error":"#REF!"}},{"$f":"IF( $AC55 = 0, \"\", IF( OFFSET(#REF!, $AC55 - 1,0,1,1)<>0, IF(OR($AD55=\"LUMP\", $AD55=\"LS\"), \"LUMP\", OFFSET(#REF!, $AC55 - 1,0,1,1)),\"\"))","v":{"$error":"#REF!"}},{"$f":"IF( $AC55 = 0, \"\", IF( OFFSET(#REF!, $AC55 - 1,0,1,1)<>0, IF(OR($AD55=\"LUMP\", $AD55=\"LS\"), \"LUMP\", OFFSET(#REF!, $AC55 - 1,0,1,1)),\"\"))","v":{"$error":"#REF!"}},{"$f":"IF( $AC55 = 0, \"\", IF( OFFSET(#REF!, $AC55 - 1,0,1,1)<>0, IF(OR($AD55=\"LUMP\", $AD55=\"LS\"), \"LUMP\", OFFSET(#REF!, $AC55 - 1,0,1,1)),\"\"))","v":{"$error":"#REF!"}},{"$f":"IF( $AC55 = 0, \"\", IF( OFFSET(#REF!, $AC55 - 1,0,1,1)<>0, IF(OR($AD55=\"LUMP\", $AD55=\"LS\"), \"LUMP\", OFFSET(#REF!, $AC55 - 1,0,1,1)),\"\"))","v":{"$error":"#REF!"}},{"$f":"IF( $AC55 = 0, \"\", IF( OFFSET(#REF!, $AC55 - 1,0,1,1)<>0, IF(OR($AD55=\"LUMP\", $AD55=\"LS\"), \"LUMP\", OFFSET(#REF!, $AC55 - 1,0,1,1)),\"\"))","v":{"$error":"#REF!"}},{"$f":"IF( $AC55 = 0, \"\", IF( OFFSET(#REF!, $AC55 - 1,0,1,1)<>0, LEFT(OFFSET(#REF!, $AC55 - 1,0,1,1),3),\"\"))","v":{"$error":"#REF!"}},{"$f":"IF( $AC55 = 0, \"\", IF( OFFSET(#REF!, $AC55 - 1,0,1,1)<>0, IF(LEN(OFFSET(#REF!, $AC55 - 1,0,1,1))=9,   RIGHT(OFFSET(#REF!, $AC55 - 1,0,1,1),5),    LEFT(RIGHT(OFFSET(#REF!, $AC55 - 1,0,1,1),6), 5)      ),\"\"))","v":{"$error":"#REF!"}},{"$error":"#REF!"},{"$f":"IF( $AC55 = 0, \"\", IF( OFFSET(#REF!, $AC55 - 1,0,1,1)<>0,IF(OR(AD55=\"LUMP\", AD55=\"LS\"), \"\", AD55),\"\"))","v":{"$error":"#REF!"}},{"$f":"IF( $AC55 = 0, \"\", IF( OFFSET(#REF!, $AC55 - 1,0,1,1)<>0, VLOOKUP( OFFSET(#REF!, $AC55 - 1,0,1,1),[1]Items!$A$2:$E$10001,4,0),\"\"))","v":{"$error":"#REF!"}},null,53,8,45,{"$f":"IF( $AC55 = 0, \"\", IF( OFFSET(#REF!, $AC55 - 1,0,1,1)<>0, VLOOKUP( OFFSET(#REF!, $AC55 - 1,0,1,1),[1]Items!$A$2:$E$10001,3,0),\"\"))","v":{"$error":"#REF!"}}]
[{"$f":"IF( $AC56 = 0, \"\", IF( OFFSET(#REF!, $AC56 - 1,0,1,1)<>0, IF(OR($AD56=\"LUMP\", $AD56=\"LS\"), \"LUMP\", OFFSET(#REF!, $AC56 - 1,0,1,1)),\"\"))","v":""},{"$f":"IF( $AC56 = 0, \"\", IF( OFFSET(#REF!, $AC56 - 1,0,1,1)<>0, IF(OR($AD56=\"LUMP\", $AD56=\"LS\"), \"LUMP\", OFFSET(#REF!, $AC56 - 1,0,1,1)),\"\"))","v":""},{"$f":"IF( $AC56 = 0, \"\", IF( OFFSET(#REF!, $AC56 - 1,0,1,1)<>0, IF(OR($AD56=\"LUMP\", $AD56=\"LS\"), \"LUMP\", OFFSET(#REF!, $AC56 - 1,0,1,1)),\"\"))","v":""},{"$f":"IF( $AC56 = 0, \"\", IF( OFFSET(#REF!, $AC56 - 1,0,1,1)<>0, IF(OR($AD56=\"LUMP\", $AD56=\"LS\"), \"LUMP\", OFFSET(#REF!, $AC56 - 1,0,1,1)),\"\"))","v":""},{"$f":"IF( $AC56 = 0, \"\", IF( OFFSET(#REF!, $AC56 - 1,0,1,1)<>0, IF(OR($AD56=\"LUMP\", $AD56=\"LS\"), \"LUMP\", OFFSET(#REF!, $AC56 - 1,0,1,1)),\"\"))","v":""},{"$f":"IF( $AC56 = 0, \"\", IF( OFFSET(#REF!, $AC56 - 1,0,1,1)<>0, IF(OR($AD56=\"LUMP\", $AD56=\"LS\"), \"LUMP\", OFFSET(#REF!, $AC56 - 1,0,1,1)),\"\"))","v":""},{"$f":"IF( $AC56 = 0, \"\", IF( OFFSET(#REF!, $AC56 - 1,0,1,1)<>0, IF(OR($AD56=\"LUMP\", $AD56=\"LS\"), \"LUMP\", OFFSET(#REF!, $AC56 - 1,0,1,1)),\"\"))","v":""},{"$f":"IF( $AC56 = 0, \"\", IF( OFFSET(#REF!, $AC56 - 1,0,1,1)<>0, IF(OR($AD56=\"LUMP\", $AD56=\"LS\"), \"LUMP\", OFFSET(#REF!, $AC56 - 1,0,1,1)),\"\"))","v":""},{"$f":"IF( $AC56 = 0, \"\", IF( OFFSET(#REF!, $AC56 - 1,0,1,1)<>0, IF(OR($AD56=\"LUMP\", $AD56=\"LS\"), \"LUMP\", OFFSET(#REF!, $AC56 - 1,0,1,1)),\"\"))","v":""},{"$f":"IF( $AC56 = 0, \"\", IF( OFFSET(#REF!, $AC56 - 1,0,1,1)<>0, IF(OR($AD56=\"LUMP\", $AD56=\"LS\"), \"LUMP\", OFFSET(#REF!, $AC56 - 1,0,1,1)),\"\"))","v":""},{"$f":"IF( $AC56 = 0, \"\", IF( OFFSET(#REF!, $AC56 - 1,0,1,1)<>0, IF(OR($AD56=\"LUMP\", $AD56=\"LS\"), \"LUMP\", OFFSET(#REF!, $AC56 - 1,0,1,1)),\"\"))","v":""},{"$f":"IF( $AC56 = 0, \"\", IF( OFFSET(#REF!, $AC56 - 1,0,1,1)<>0, IF(OR($AD56=\"LUMP\", $AD56=\"LS\"), \"LUMP\", OFFSET(#REF!, $AC56 - 1,0,1,1)),\"\"))","v":""},{"$f":"IF( $AC56 = 0, \"\", IF( OFFSET(#REF!, $AC56 - 1,0,1,1)<>0, IF(OR($AD56=\"LUMP\", $AD56=\"LS\"), \"LUMP\", OFFSET(#REF!, $AC56 - 1,0,1,1)),\"\"))","v":""},{"$f":"IF( $AC56 = 0, \"\", IF( OFFSET(#REF!, $AC56 - 1,0,1,1)<>0, IF(OR($AD56=\"LUMP\", $AD56=\"LS\"), \"LUMP\", OFFSET(#REF!, $AC56 - 1,0,1,1)),\"\"))","v":""},{"$f":"IF( $AC56 = 0, \"\", IF( OFFSET(#REF!, $AC56 - 1,0,1,1)<>0, IF(OR($AD56=\"LUMP\", $AD56=\"LS\"), \"LUMP\", OFFSET(#REF!, $AC56 - 1,0,1,1)),\"\"))","v":""},{"$f":"IF( $AC56 = 0, \"\", IF( OFFSET(#REF!, $AC56 - 1,0,1,1)<>0, IF(OR($AD56=\"LUMP\", $AD56=\"LS\"), \"LUMP\", OFFSET(#REF!, $AC56 - 1,0,1,1)),\"\"))","v":""},{"$f":"IF( $AC56 = 0, \"\", IF( OFFSET(#REF!, $AC56 - 1,0,1,1)<>0, IF(OR($AD56=\"LUMP\", $AD56=\"LS\"), \"LUMP\", OFFSET(#REF!, $AC56 - 1,0,1,1)),\"\"))","v":""},{"$f":"IF( $AC56 = 0, \"\", IF( OFFSET(#REF!, $AC56 - 1,0,1,1)<>0, IF(OR($AD56=\"LUMP\", $AD56=\"LS\"), \"LUMP\", OFFSET(#REF!, $AC56 - 1,0,1,1)),\"\"))","v":""},{"$f":"IF( $AC56 = 0, \"\", IF( OFFSET(#REF!, $AC56 - 1,0,1,1)<>0, IF(OR($AD56=\"LUMP\", $AD56=\"LS\"), \"LUMP\", OFFSET(#REF!, $AC56 - 1,0,1,1)),\"\"))","v":""},{"$f":"IF( $AC56 = 0, \"\", IF( OFFSET(#REF!, $AC56 - 1,0,1,1)<>0, IF(OR($AD56=\"LUMP\", $AD56=\"LS\"), \"LUMP\", OFFSET(#REF!, $AC56 - 1,0,1,1)),\"\"))","v":""},{"$f":"IF( $AC56 = 0, \"\", IF( OFFSET(#REF!, $AC56 - 1,0,1,1)<>0, LEFT(OFFSET(#REF!, $AC56 - 1,0,1,1),3),\"\"))","v":""},{"$f":"IF( $AC56 = 0, \"\", IF( OFFSET(#REF!, $AC56 - 1,0,1,1)<>0, IF(LEN(OFFSET(#REF!, $AC56 - 1,0,1,1))=9,   RIGHT(OFFSET(#REF!, $AC56 - 1,0,1,1),5),    LEFT(RIGHT(OFFSET(#REF!, $AC56 - 1,0,1,1),6), 5)      ),\"\"))","v":""},"",{"$f":"IF( $AC56 = 0, \"\", IF( OFFSET(#REF!, $AC56 - 1,0,1,1)<>0,IF(OR(AD56=\"LUMP\", AD56=\"LS\"), \"\", AD56),\"\"))","v":""},{"$f":"IF( $AC56 = 0, \"\", IF( OFFSET(#REF!, $AC56 - 1,0,1,1)<>0, VLOOKUP( OFFSET(#REF!, $AC56 - 1,0,1,1),[1]Items!$A$2:$E$10001,4,0),\"\"))","v":""},null,54,9,0,{"$f":"IF( $AC56 = 0, \"\", IF( OFFSET(#REF!, $AC56 - 1,0,1,1)<>0, VLOOKUP( OFFSET(#REF!, $AC56 - 1,0,1,1),[1]Items!$A$2:$E$10001,3,0),\"\"))","v":""}]
[{"$f":"IF( $AC57 = 0, \"\", IF( OFFSET(#REF!, $AC57 - 1,0,1,1)<>0, IF(OR($AD57=\"LUMP\", $AD57=\"LS\"), \"LUMP\", OFFSET(#REF!, $AC57 - 1,0,1,1)),\"\"))","v":{"$error":"#REF!"}},{"$f":"IF( $AC57 = 0, \"\", IF( OFFSET(#REF!, $AC57 - 1,0,1,1)<>0, IF(OR($AD57=\"LUMP\", $AD57=\"LS\"), \"LUMP\", OFFSET(#REF!, $AC57 - 1,0,1,1)),\"\"))","v":{"$error":"#REF!"}},{"$f":"IF( $AC57 = 0, \"\", IF( OFFSET(#REF!, $AC57 - 1,0,1,1)<>0, IF(OR($AD57=\"LUMP\", $AD57=\"LS\"), \"LUMP\", OFFSET(#REF!, $AC57 - 1,0,1,1)),\"\"))","v":{"$error":"#REF!"}},{"$f":"IF( $AC57 = 0, \"\", IF( OFFSET(#REF!, $AC57 - 1,0,1,1)<>0, IF(OR($AD57=\"LUMP\", $AD57=\"LS\"), \"LUMP\", OFFSET(#REF!, $AC57 - 1,0,1,1)),\"\"))","v":{"$error":"#REF!"}},{"$f":"IF( $AC57 = 0, \"\", IF( OFFSET(#REF!, $AC57 - 1,0,1,1)<>0, IF(OR($AD57=\"LUMP\", $AD57=\"LS\"), \"LUMP\", OFFSET(#REF!, $AC57 - 1,0,1,1)),\"\"))","v":{"$error":"#REF!"}},{"$f":"IF( $AC57 = 0, \"\", IF( OFFSET(#REF!, $AC57 - 1,0,1,1)<>0, IF(OR($AD57=\"LUMP\", $AD57=\"LS\"), \"LUMP\", OFFSET(#REF!, $AC57 - 1,0,1,1)),\"\"))","v":{"$error":"#REF!"}},{"$f":"IF( $AC57 = 0, \"\", IF( OFFSET(#REF!, $AC57 - 1,0,1,1)<>0, IF(OR($AD57=\"LUMP\", $AD57=\"LS\"), \"LUMP\", OFFSET(#REF!, $AC57 - 1,0,1,1)),\"\"))","v":{"$error":"#REF!"}},{"$f":"IF( $AC57 = 0, \"\", IF( OFFSET(#REF!, $AC57 - 1,0,1,1)<>0, IF(OR($AD57=\"LUMP\", $AD57=\"LS\"), \"LUMP\", OFFSET(#REF!, $AC57 - 1,0,1,1)),\"\"))","v":{"$error":"#REF!"}},{"$f":"IF( $AC57 = 0, \"\", IF( OFFSET(#REF!, $AC57 - 1,0,1,1)<>0, IF(OR($AD57=\"LUMP\", $AD57=\"LS\"), \"LUMP\", OFFSET(#REF!, $AC57 - 1,0,1,1)),\"\"))","v":{"$error":"#REF!"}},{"$f":"IF( $AC57 = 0, \"\", IF( OFFSET(#REF!, $AC57 - 1,0,1,1)<>0, IF(OR($AD57=\"LUMP\", $AD57=\"LS\"), \"LUMP\", OFFSET(#REF!, $AC57 - 1,0,1,1)),\"\"))","v":{"$error":"#REF!"}},{"$f":"IF( $AC57 = 0, \"\", IF( OFFSET(#REF!, $AC57 - 1,0,1,1)<>0, IF(OR($AD57=\"LUMP\", $AD57=\"LS\"), \"LUMP\", OFFSET(#REF!, $AC57 - 1,0,1,1)),\"\"))","v":{"$error":"#REF!"}},{"$f":"IF( $AC57 = 0, \"\", IF( OFFSET(#REF!, $AC57 - 1,0,1,1)<>0, IF(OR($AD57=\"LUMP\", $AD57=\"LS\"), \"LUMP\", OFFSET(#REF!, $AC57 - 1,0,1,1)),\"\"))","v":{"$error":"#REF!"}},{"$f":"IF( $AC57 = 0, \"\", IF( OFFSET(#REF!, $AC57 - 1,0,1,1)<>0, IF(OR($AD57=\"LUMP\", $AD57=\"LS\"), \"LUMP\", OFFSET(#REF!, $AC57 - 1,0,1,1)),\"\"))","v":{"$error":"#REF!"}},{"$f":"IF( $AC57 = 0, \"\", IF( OFFSET(#REF!, $AC57 - 1,0,1,1)<>0, IF(OR($AD57=\"LUMP\", $AD57=\"LS\"), \"LUMP\", OFFSET(#REF!, $AC57 - 1,0,1,1)),\"\"))","v":{"$error":"#REF!"}},{"$f":"IF( $AC57 = 0, \"\", IF( OFFSET(#REF!, $AC57 - 1,0,1,1)<>0, IF(OR($AD57=\"LUMP\", $AD57=\"LS\"), \"LUMP\", OFFSET(#REF!, $AC57 - 1,0,1,1)),\"\"))","v":{"$error":"#REF!"}},{"$f":"IF( $AC57 = 0, \"\", IF( OFFSET(#REF!, $AC57 - 1,0,1,1)<>0, IF(OR($AD57=\"LUMP\", $AD57=\"LS\"), \"LUMP\", OFFSET(#REF!, $AC57 - 1,0,1,1)),\"\"))","v":{"$error":"#REF!"}},{"$f":"IF( $AC57 = 0, \"\", IF( OFFSET(#REF!, $AC57 - 1,0,1,1)<>0, IF(OR($AD57=\"LUMP\", $AD57=\"LS\"), \"LUMP\", OFFSET(#REF!, $AC57 - 1,0,1,1)),\"\"))","v":{"$error":"#REF!"}},{"$f":"IF( $AC57 = 0, \"\", IF( OFFSET(#REF!, $AC57 - 1,0,1,1)<>0, IF(OR($AD57=\"LUMP\", $AD57=\"LS\"), \"LUMP\", OFFSET(#REF!, $AC57 - 1,0,1,1)),\"\"))","v":{"$error":"#REF!"}},{"$f":"IF( $AC57 = 0, \"\", IF( OFFSET(#REF!, $AC57 - 1,0,1,1)<>0, IF(OR($AD57=\"LUMP\", $AD57=\"LS\"), \"LUMP\", OFFSET(#REF!, $AC57 - 1,0,1,1)),\"\"))","v":{"$error":"#REF!"}},{"$f":"IF( $AC57 = 0, \"\", IF( OFFSET(#REF!, $AC57 - 1,0,1,1)<>0, IF(OR($AD57=\"LUMP\", $AD57=\"LS\"), \"LUMP\", OFFSET(#REF!, $AC57 - 1,0,1,1)),\"\"))","v":{"$error":"#REF!"}},{"$f":"IF( $AC57 = 0, \"\", IF( OFFSET(#REF!, $AC57 - 1,0,1,1)<>0, LEFT(OFFSET(#REF!, $AC57 - 1,0,1,1),3),\"\"))","v":{"$error":"#REF!"}},{"$f":"IF( $AC57 = 0, \"\", IF( OFFSET(#REF!, $AC57 - 1,0,1,1)<>0, IF(LEN(OFFSET(#REF!, $AC57 - 1,0,1,1))=9,   RIGHT(OFFSET(#REF!, $AC57 - 1,0,1,1),5),    LEFT(RIGHT(OFFSET(#REF!, $AC57 - 1,0,1,1),6), 5)      ),\"\"))","v":{"$error":"#REF!"}},{"$error":"#REF!"},{"$f":"IF( $AC57 = 0, \"\", IF( OFFSET(#REF!, $AC57 - 1,0,1,1)<>0,IF(OR(AD57=\"LUMP\", AD57=\"LS\"), \"\", AD57),\"\"))","v":{"$error":"#REF!"}},{"$f":"IF( $AC57 = 0, \"\", IF( OFFSET(#REF!, $AC57 - 1,0,1,1)<>0, VLOOKUP( OFFSET(#REF!, $AC57 - 1,0,1,1),[1]Items!$A$2:$E$10001,4,0),\"\"))","v":{"$error":"#REF!"}},null,55,9,46,{"$f":"IF( $AC57 = 0, \"\", IF( OFFSET(#REF!, $AC57 - 1,0,1,1)<>0, VLOOKUP( OFFSET(#REF!, $AC57 - 1,0,1,1),[1]Items!$A$2:$E$10001,3,0),\"\"))","v":{"$error":"#REF!"}}]
[{"$f":"IF( $AC58 = 0, \"\", IF( OFFSET(#REF!, $AC58 - 1,0,1,1)<>0, IF(OR($AD58=\"LUMP\", $AD58=\"LS\"), \"LUMP\", OFFSET(#REF!, $AC58 - 1,0,1,1)),\"\"))","v":{"$error":"#REF!"}},{"$f":"IF( $AC58 = 0, \"\", IF( OFFSET(#REF!, $AC58 - 1,0,1,1)<>0, IF(OR($AD58=\"LUMP\", $AD58=\"LS\"), \"LUMP\", OFFSET(#REF!, $AC58 - 1,0,1,1)),\"\"))","v":{"$error":"#REF!"}},{"$f":"IF( $AC58 = 0, \"\", IF( OFFSET(#REF!, $AC58 - 1,0,1,1)<>0, IF(OR($AD58=\"LUMP\", $AD58=\"LS\"), \"LUMP\", OFFSET(#REF!, $AC58 - 1,0,1,1)),\"\"))","v":{"$error":"#REF!"}},{"$f":"IF( $AC58 = 0, \"\", IF( OFFSET(#REF!, $AC58 - 1,0,1,1)<>0, IF(OR($AD58=\"LUMP\", $AD58=\"LS\"), \"LUMP\", OFFSET(#REF!, $AC58 - 1,0,1,1)),\"\"))","v":{"$error":"#REF!"}},{"$f":"IF( $AC58 = 0, \"\", IF( OFFSET(#REF!, $AC58 - 1,0,1,1)<>0, IF(OR($AD58=\"LUMP\", $AD58=\"LS\"), \"LUMP\", OFFSET(#REF!, $AC58 - 1,0,1,1)),\"\"))","v":{"$error":"#REF!"}},{"$f":"IF( $AC58 = 0, \"\", IF( OFFSET(#REF!, $AC58 - 1,0,1,1)<>0, IF(OR($AD58=\"LUMP\", $AD58=\"LS\"), \"LUMP\", OFFSET(#REF!, $AC58 - 1,0,1,1)),\"\"))","v":{"$error":"#REF!"}},{"$f":"IF( $AC58 = 0, \"\", IF( OFFSET(#REF!, $AC58 - 1,0,1,1)<>0, IF(OR($AD58=\"LUMP\", $AD58=\"LS\"), \"LUMP\", OFFSET(#REF!, $AC58 - 1,0,1,1)),\"\"))","v":{"$error":"#REF!"}},{"$f":"IF( $AC58 = 0, \"\", IF( OFFSET(#REF!, $AC58 - 1,0,1,1)<>0, IF(OR($AD58=\"LUMP\", $AD58=\"LS\"), \"LUMP\", OFFSET(#REF!, $AC58 - 1,0,1,1)),\"\"))","v":{"$error":"#REF!"}},{"$f":"IF( $AC58 = 0, \"\", IF( OFFSET(#REF!, $AC58 - 1,0,1,1)<>0, IF(OR($AD58=\"LUMP\", $AD58=\"LS\"), \"LUMP\", OFFSET(#REF!, $AC58 - 1,0,1,1)),\"\"))","v":{"$error":"#REF!"}},{"$f":"IF( $AC58 = 0, \"\", IF( OFFSET(#REF!, $AC58 - 1,0,1,1)<>0, IF(OR($AD58=\"LUMP\", $AD58=\"LS\"), \"LUMP\", OFFSET(#REF!, $AC58 - 1,0,1,1)),\"\"))","v":{"$error":"#REF!"}},{"$f":"IF( $AC58 = 0, \"\", IF( OFFSET(#REF!, $AC58 - 1,0,1,1)<>0, IF(OR($AD58=\"LUMP\", $AD58=\"LS\"), \"LUMP\", OFFSET(#REF!, $AC58 - 1,0,1,1)),\"\"))","v":{"$error":"#REF!"}},{"$f":"IF( $AC58 = 0, \"\", IF( OFFSET(#REF!, $AC58 - 1,0,1,1)<>0, IF(OR($AD58=\"LUMP\", $AD58=\"LS\"), \"LUMP\", OFFSET(#REF!, $AC58 - 1,0,1,1)),\"\"))","v":{"$error":"#REF!"}},{"$f":"IF( $AC58 = 0, \"\", IF( OFFSET(#REF!, $AC58 - 1,0,1,1)<>0, IF(OR($AD58=\"LUMP\", $AD58=\"LS\"), \"LUMP\", OFFSET(#REF!, $AC58 - 1,0,1,1)),\"\"))","v":{"$error":"#REF!"}},{"$f":"IF( $AC58 = 0, \"\", IF( OFFSET(#REF!, $AC58 - 1,0,1,1)<>0, IF(OR($AD58=\"LUMP\", $AD58=\"LS\"), \"LUMP\", OFFSET(#REF!, $AC58 - 1,0,1,1)),\"\"))","v":{"$error":"#REF!"}},{"$f":"IF( $AC58 = 0, \"\", IF( OFFSET(#REF!, $AC58 - 1,0,1,1)<>0, IF(OR($AD58=\"LUMP\", $AD58=\"LS\"), \"LUMP\", OFFSET(#REF!, $AC58 - 1,0,1,1)),\"\"))","v":{"$error":"#REF!"}},{"$f":"IF( $AC58 = 0, \"\", IF( OFFSET(#REF!, $AC58 - 1,0,1,1)<>0, IF(OR($AD58=\"LUMP\", $AD58=\"LS\"), \"LUMP\", OFFSET(#REF!, $AC58 - 1,0,1,1)),\"\"))","v":{"$error":"#REF!"}},{"$f":"IF( $AC58 = 0, \"\", IF( OFFSET(#REF!, $AC58 - 1,0,1,1)<>0, IF(OR($AD58=\"LUMP\", $AD58=\"LS\"), \"LUMP\", OFFSET(#REF!, $AC58 - 1,0,1,1)),\"\"))","v":{"$error":"#REF!"}},{"$f":"IF( $AC58 = 0, \"\", IF( OFFSET(#REF!, $AC58 - 1,0,1,1)<>0, IF(OR($AD58=\"LUMP\", $AD58=\"LS\"), \"LUMP\", OFFSET(#REF!, $AC58 - 1,0,1,1)),\"\"))","v":{"$error":"#REF!"}},{"$f":"IF( $AC58 = 0, \"\", IF( OFFSET(#REF!, $AC58 - 1,0,1,1)<>0, IF(OR($AD58=\"LUMP\", $AD58=\"LS\"), \"LUMP\", OFFSET(#REF!, $AC58 - 1,0,1,1)),\"\"))","v":{"$error":"#REF!"}},{"$f":"IF( $AC58 = 0, \"\", IF( OFFSET(#REF!, $AC58 - 1,0,1,1)<>0, IF(OR($AD58=\"LUMP\", $AD58=\"LS\"), \"LUMP\", OFFSET(#REF!, $AC58 - 1,0,1,1)),\"\"))","v":{"$error":"#REF!"}},{"$f":"IF( $AC58 = 0, \"\", IF( OFFSET(#REF!, $AC58 - 1,0,1,1)<>0, LEFT(OFFSET(#REF!, $AC58 - 1,0,1,1),3),\"\"))","v":{"$error":"#REF!"}},{"$f":"IF( $AC58 = 0, \"\", IF( OFFSET(#REF!, $AC58 - 1,0,1,1)<>0, IF(LEN(OFFSET(#REF!, $AC58 - 1,0,1,1))=9,   RIGHT(OFFSET(#REF!, $AC58 - 1,0,1,1),5),    LEFT(RIGHT(OFFSET(#REF!, $AC58 - 1,0,1,1),6), 5)      ),\"\"))","v":{"$error":"#REF!"}},{"$error":"#REF!"},{"$f":"IF( $AC58 = 0, \"\", IF( OFFSET(#REF!, $AC58 - 1,0,1,1)<>0,IF(OR(AD58=\"LUMP\", AD58=\"LS\"), \"\", AD58),\"\"))","v":{"$error":"#REF!"}},{"$f":"IF( $AC58 = 0, \"\", IF( OFFSET(#REF!, $AC58 - 1,0,1,1)<>0, VLOOKUP( OFFSET(#REF!, $AC58 - 1,0,1,1),[1]Items!$A$2:$E$10001,4,0),\"\"))","v":{"$error":"#REF!"}},null,56,9,47,{"$f":"IF( $AC58 = 0, \"\", IF( OFFSET(#REF!, $AC58 - 1,0,1,1)<>0, VLOOKUP( OFFSET(#REF!, $AC58 - 1,0,1,1),[1]Items!$A$2:$E$10001,3,0),\"\"))","v":{"$error":"#REF!"}}]
[{"$f":"IF( $AC59 = 0, \"\", IF( OFFSET(#REF!, $AC59 - 1,0,1,1)<>0, IF(OR($AD59=\"LUMP\", $AD59=\"LS\"), \"LUMP\", OFFSET(#REF!, $AC59 - 1,0,1,1)),\"\"))","v":{"$error":"#REF!"}},{"$f":"IF( $AC59 = 0, \"\", IF( OFFSET(#REF!, $AC59 - 1,0,1,1)<>0, IF(OR($AD59=\"LUMP\", $AD59=\"LS\"), \"LUMP\", OFFSET(#REF!, $AC59 - 1,0,1,1)),\"\"))","v":{"$error":"#REF!"}},{"$f":"IF( $AC59 = 0, \"\", IF( OFFSET(#REF!, $AC59 - 1,0,1,1)<>0, IF(OR($AD59=\"LUMP\", $AD59=\"LS\"), \"LUMP\", OFFSET(#REF!, $AC59 - 1,0,1,1)),\"\"))","v":{"$error":"#REF!"}},{"$f":"IF( $AC59 = 0, \"\", IF( OFFSET(#REF!, $AC59 - 1,0,1,1)<>0, IF(OR($AD59=\"LUMP\", $AD59=\"LS\"), \"LUMP\", OFFSET(#REF!, $AC59 - 1,0,1,1)),\"\"))","v":{"$error":"#REF!"}},{"$f":"IF( $AC59 = 0, \"\", IF( OFFSET(#REF!, $AC59 - 1,0,1,1)<>0, IF(OR($AD59=\"LUMP\", $AD59=\"LS\"), \"LUMP\", OFFSET(#REF!, $AC59 - 1,0,1,1)),\"\"))","v":{"$error":"#REF!"}},{"$f":"IF( $AC59 = 0, \"\", IF( OFFSET(#REF!, $AC59 - 1,0,1,1)<>0, IF(OR($AD59=\"LUMP\", $AD59=\"LS\"), \"LUMP\", OFFSET(#REF!, $AC59 - 1,0,1,1)),\"\"))","v":{"$error":"#REF!"}},{"$f":"IF( $AC59 = 0, \"\", IF( OFFSET(#REF!, $AC59 - 1,0,1,1)<>0, IF(OR($AD59=\"LUMP\", $AD59=\"LS\"), \"LUMP\", OFFSET(#REF!, $AC59 - 1,0,1,1)),\"\"))","v":{"$error":"#REF!"}},{"$f":"IF( $AC59 = 0, \"\", IF( OFFSET(#REF!, $AC59 - 1,0,1,1)<>0, IF(OR($AD59=\"LUMP\", $AD59=\"LS\"), \"LUMP\", OFFSET(#REF!, $AC59 - 1,0,1,1)),\"\"))","v":{"$error":"#REF!"}},{"$f":"IF( $AC59 = 0, \"\", IF( OFFSET(#REF!, $AC59 - 1,0,1,1)<>0, IF(OR($AD59=\"LUMP\", $AD59=\"LS\"), \"LUMP\", OFFSET(#REF!, $AC59 - 1,0,1,1)),\"\"))","v":{"$error":"#REF!"}},{"$f":"IF( $AC59 = 0, \"\", IF( OFFSET(#REF!, $AC59 - 1,0,1,1)<>0, IF(OR($AD59=\"LUMP\", $AD59=\"LS\"), \"LUMP\", OFFSET(#REF!, $AC59 - 1,0,1,1)),\"\"))","v":{"$error":"#REF!"}},{"$f":"IF( $AC59 = 0, \"\", IF( OFFSET(#REF!, $AC59 - 1,0,1,1)<>0, IF(OR($AD59=\"LUMP\", $AD59=\"LS\"), \"LUMP\", OFFSET(#REF!, $AC59 - 1,0,1,1)),\"\"))","v":{"$error":"#REF!"}},{"$f":"IF( $AC59 = 0, \"\", IF( OFFSET(#REF!, $AC59 - 1,0,1,1)<>0, IF(OR($AD59=\"LUMP\", $AD59=\"LS\"), \"LUMP\", OFFSET(#REF!, $AC59 - 1,0,1,1)),\"\"))","v":{"$error":"#REF!"}},{"$f":"IF( $AC59 = 0, \"\", IF( OFFSET(#REF!, $AC59 - 1,0,1,1)<>0, IF(OR($AD59=\"LUMP\", $AD59=\"LS\"), \"LUMP\", OFFSET(#REF!, $AC59 - 1,0,1,1)),\"\"))","v":{"$error":"#REF!"}},{"$f":"IF( $AC59 = 0, \"\", IF( OFFSET(#REF!, $AC59 - 1,0,1,1)<>0, IF(OR($AD59=\"LUMP\", $AD59=\"LS\"), \"LUMP\", OFFSET(#REF!, $AC59 - 1,0,1,1)),\"\"))","v":{"$error":"#REF!"}},{"$f":"IF( $AC59 = 0, \"\", IF( OFFSET(#REF!, $AC59 - 1,0,1,1)<>0, IF(OR($AD59=\"LUMP\", $AD59=\"LS\"), \"LUMP\", OFFSET(#REF!, $AC59 - 1,0,1,1)),\"\"))","v":{"$error":"#REF!"}},{"$f":"IF( $AC59 = 0, \"\", IF( OFFSET(#REF!, $AC59 - 1,0,1,1)<>0, IF(OR($AD59=\"LUMP\", $AD59=\"LS\"), \"LUMP\", OFFSET(#REF!, $AC59 - 1,0,1,1)),\"\"))","v":{"$error":"#REF!"}},{"$f":"IF( $AC59 = 0, \"\", IF( OFFSET(#REF!, $AC59 - 1,0,1,1)<>0, IF(OR($AD59=\"LUMP\", $AD59=\"LS\"), \"LUMP\", OFFSET(#REF!, $AC59 - 1,0,1,1)),\"\"))","v":{"$error":"#REF!"}},{"$f":"IF( $AC59 = 0, \"\", IF( OFFSET(#REF!, $AC59 - 1,0,1,1)<>0, IF(OR($AD59=\"LUMP\", $AD59=\"LS\"), \"LUMP\", OFFSET(#REF!, $AC59 - 1,0,1,1)),\"\"))","v":{"$error":"#REF!"}},{"$f":"IF( $AC59 = 0, \"\", IF( OFFSET(#REF!, $AC59 - 1,0,1,1)<>0, IF(OR($AD59=\"LUMP\", $AD59=\"LS\"), \"LUMP\", OFFSET(#REF!, $AC59 - 1,0,1,1)),\"\"))","v":{"$error":"#REF!"}},{"$f":"IF( $AC59 = 0, \"\", IF( OFFSET(#REF!, $AC59 - 1,0,1,1)<>0, IF(OR($AD59=\"LUMP\", $AD59=\"LS\"), \"LUMP\", OFFSET(#REF!, $AC59 - 1,0,1,1)),\"\"))","v":{"$error":"#REF!"}},{"$f":"IF( $AC59 = 0, \"\", IF( OFFSET(#REF!, $AC59 - 1,0,1,1)<>0, LEFT(OFFSET(#REF!, $AC59 - 1,0,1,1),3),\"\"))","v":{"$error":"#REF!"}},{"$f":"IF( $AC59 = 0, \"\", IF( OFFSET(#REF!, $AC59 - 1,0,1,1)<>0, IF(LEN(OFFSET(#REF!, $AC59 - 1,0,1,1))=9,   RIGHT(OFFSET(#REF!, $AC59 - 1,0,1,1),5),    LEFT(RIGHT(OFFSET(#REF!, $AC59 - 1,0,1,1),6), 5)      ),\"\"))","v":{"$error":"#REF!"}},{"$error":"#REF!"},{"$f":"IF( $AC59 = 0, \"\", IF( OFFSET(#REF!, $AC59 - 1,0,1,1)<>0,IF(OR(AD59=\"LUMP\", AD59=\"LS\"), \"\", AD59),\"\"))","v":{"$error":"#REF!"}},{"$f":"IF( $AC59 = 0, \"\", IF( OFFSET(#REF!, $AC59 - 1,0,1,1)<>0, VLOOKUP( OFFSET(#REF!, $AC59 - 1,0,1,1),[1]Items!$A$2:$E$10001,4,0),\"\"))","v":{"$error":"#REF!"}},null,57,9,48,{"$f":"IF( $AC59 = 0, \"\", IF( OFFSET(#REF!, $AC59 - 1,0,1,1)<>0, VLOOKUP( OFFSET(#REF!, $AC59 - 1,0,1,1),[1]Items!$A$2:$E$10001,3,0),\"\"))","v":{"$error":"#REF!"}}]
[{"$f":"IF( $AC60 = 0, \"\", IF( OFFSET(#REF!, $AC60 - 1,0,1,1)<>0, IF(OR($AD60=\"LUMP\", $AD60=\"LS\"), \"LUMP\", OFFSET(#REF!, $AC60 - 1,0,1,1)),\"\"))","v":{"$error":"#REF!"}},{"$f":"IF( $AC60 = 0, \"\", IF( OFFSET(#REF!, $AC60 - 1,0,1,1)<>0, IF(OR($AD60=\"LUMP\", $AD60=\"LS\"), \"LUMP\", OFFSET(#REF!, $AC60 - 1,0,1,1)),\"\"))","v":{"$error":"#REF!"}},{"$f":"IF( $AC60 = 0, \"\", IF( OFFSET(#REF!, $AC60 - 1,0,1,1)<>0, IF(OR($AD60=\"LUMP\", $AD60=\"LS\"), \"LUMP\", OFFSET(#REF!, $AC60 - 1,0,1,1)),\"\"))","v":{"$error":"#REF!"}},{"$f":"IF( $AC60 = 0, \"\", IF( OFFSET(#REF!, $AC60 - 1,0,1,1)<>0, IF(OR($AD60=\"LUMP\", $AD60=\"LS\"), \"LUMP\", OFFSET(#REF!, $AC60 - 1,0,1,1)),\"\"))","v":{"$error":"#REF!"}},{"$f":"IF( $AC60 = 0, \"\", IF( OFFSET(#REF!, $AC60 - 1,0,1,1)<>0, IF(OR($AD60=\"LUMP\", $AD60=\"LS\"), \"LUMP\", OFFSET(#REF!, $AC60 - 1,0,1,1)),\"\"))","v":{"$error":"#REF!"}},{"$f":"IF( $AC60 = 0, \"\", IF( OFFSET(#REF!, $AC60 - 1,0,1,1)<>0, IF(OR($AD60=\"LUMP\", $AD60=\"LS\"), \"LUMP\", OFFSET(#REF!, $AC60 - 1,0,1,1)),\"\"))","v":{"$error":"#REF!"}},{"$f":"IF( $AC60 = 0, \"\", IF( OFFSET(#REF!, $AC60 - 1,0,1,1)<>0, IF(OR($AD60=\"LUMP\", $AD60=\"LS\"), \"LUMP\", OFFSET(#REF!, $AC60 - 1,0,1,1)),\"\"))","v":{"$error":"#REF!"}},{"$f":"IF( $AC60 = 0, \"\", IF( OFFSET(#REF!, $AC60 - 1,0,1,1)<>0, IF(OR($AD60=\"LUMP\", $AD60=\"LS\"), \"LUMP\", OFFSET(#REF!, $AC60 - 1,0,1,1)),\"\"))","v":{"$error":"#REF!"}},{"$f":"IF( $AC60 = 0, \"\", IF( OFFSET(#REF!, $AC60 - 1,0,1,1)<>0, IF(OR($AD60=\"LUMP\", $AD60=\"LS\"), \"LUMP\", OFFSET(#REF!, $AC60 - 1,0,1,1)),\"\"))","v":{"$error":"#REF!"}},{"$f":"IF( $AC60 = 0, \"\", IF( OFFSET(#REF!, $AC60 - 1,0,1,1)<>0, IF(OR($AD60=\"LUMP\", $AD60=\"LS\"), \"LUMP\", OFFSET(#REF!, $AC60 - 1,0,1,1)),\"\"))","v":{"$error":"#REF!"}},{"$f":"IF( $AC60 = 0, \"\", IF( OFFSET(#REF!, $AC60 - 1,0,1,1)<>0, IF(OR($AD60=\"LUMP\", $AD60=\"LS\"), \"LUMP\", OFFSET(#REF!, $AC60 - 1,0,1,1)),\"\"))","v":{"$error":"#REF!"}},{"$f":"IF( $AC60 = 0, \"\", IF( OFFSET(#REF!, $AC60 - 1,0,1,1)<>0, IF(OR($AD60=\"LUMP\", $AD60=\"LS\"), \"LUMP\", OFFSET(#REF!, $AC60 - 1,0,1,1)),\"\"))","v":{"$error":"#REF!"}},{"$f":"IF( $AC60 = 0, \"\", IF( OFFSET(#REF!, $AC60 - 1,0,1,1)<>0, IF(OR($AD60=\"LUMP\", $AD60=\"LS\"), \"LUMP\", OFFSET(#REF!, $AC60 - 1,0,1,1)),\"\"))","v":{"$error":"#REF!"}},{"$f":"IF( $AC60 = 0, \"\", IF( OFFSET(#REF!, $AC60 - 1,0,1,1)<>0, IF(OR($AD60=\"LUMP\", $AD60=\"LS\"), \"LUMP\", OFFSET(#REF!, $AC60 - 1,0,1,1)),\"\"))","v":{"$error":"#REF!"}},{"$f":"IF( $AC60 = 0, \"\", IF( OFFSET(#REF!, $AC60 - 1,0,1,1)<>0, IF(OR($AD60=\"LUMP\", $AD60=\"LS\"), \"LUMP\", OFFSET(#REF!, $AC60 - 1,0,1,1)),\"\"))","v":{"$error":"#REF!"}},{"$f":"IF( $AC60 = 0, \"\", IF( OFFSET(#REF!, $AC60 - 1,0,1,1)<>0, IF(OR($AD60=\"LUMP\", $AD60=\"LS\"), \"LUMP\", OFFSET(#REF!, $AC60 - 1,0,1,1)),\"\"))","v":{"$error":"#REF!"}},{"$f":"IF( $AC60 = 0, \"\", IF( OFFSET(#REF!, $AC60 - 1,0,1,1)<>0, IF(OR($AD60=\"LUMP\", $AD60=\"LS\"), \"LUMP\", OFFSET(#REF!, $AC60 - 1,0,1,1)),\"\"))","v":{"$error":"#REF!"}},{"$f":"IF( $AC60 = 0, \"\", IF( OFFSET(#REF!, $AC60 - 1,0,1,1)<>0, IF(OR($AD60=\"LUMP\", $AD60=\"LS\"), \"LUMP\", OFFSET(#REF!, $AC60 - 1,0,1,1)),\"\"))","v":{"$error":"#REF!"}},{"$f":"IF( $AC60 = 0, \"\", IF( OFFSET(#REF!, $AC60 - 1,0,1,1)<>0, IF(OR($AD60=\"LUMP\", $AD60=\"LS\"), \"LUMP\", OFFSET(#REF!, $AC60 - 1,0,1,1)),\"\"))","v":{"$error":"#REF!"}},{"$f":"IF( $AC60 = 0, \"\", IF( OFFSET(#REF!, $AC60 - 1,0,1,1)<>0, IF(OR($AD60=\"LUMP\", $AD60=\"LS\"), \"LUMP\", OFFSET(#REF!, $AC60 - 1,0,1,1)),\"\"))","v":{"$error":"#REF!"}},{"$f":"IF( $AC60 = 0, \"\", IF( OFFSET(#REF!, $AC60 - 1,0,1,1)<>0, LEFT(OFFSET(#REF!, $AC60 - 1,0,1,1),3),\"\"))","v":{"$error":"#REF!"}},{"$f":"IF( $AC60 = 0, \"\", IF( OFFSET(#REF!, $AC60 - 1,0,1,1)<>0, IF(LEN(OFFSET(#REF!, $AC60 - 1,0,1,1))=9,   RIGHT(OFFSET(#REF!, $AC60 - 1,0,1,1),5),    LEFT(RIGHT(OFFSET(#REF!, $AC60 - 1,0,1,1),6), 5)      ),\"\"))","v":{"$error":"#REF!"}},{"$error":"#REF!"},{"$f":"IF( $AC60 = 0, \"\", IF( OFFSET(#REF!, $AC60 - 1,0,1,1)<>0,IF(OR(AD60=\"LUMP\", AD60=\"LS\"), \"\", AD60),\"\"))","v":{"$error":"#REF!"}},{"$f":"IF( $AC60 = 0, \"\", IF( OFFSET(#REF!, $AC60 - 1,0,1,1)<>0, VLOOKUP( OFFSET(#REF!, $AC60 - 1,0,1,1),[1]Items!$A$2:$E$10001,4,0),\"\"))","v":{"$error":"#REF!"}},null,58,9,49,{"$f":"IF( $AC60 = 0, \"\", IF( OFFSET(#REF!, $AC60 - 1,0,1,1)<>0, VLOOKUP( OFFSET(#REF!, $AC60 - 1,0,1,1),[1]Items!$A$2:$E$10001,3,0),\"\"))","v":{"$error":"#REF!"}}]
[{"$f":"IF( $AC61 = 0, \"\", IF( OFFSET(#REF!, $AC61 - 1,0,1,1)<>0, IF(OR($AD61=\"LUMP\", $AD61=\"LS\"), \"LUMP\", OFFSET(#REF!, $AC61 - 1,0,1,1)),\"\"))","v":{"$error":"#REF!"}},{"$f":"IF( $AC61 = 0, \"\", IF( OFFSET(#REF!, $AC61 - 1,0,1,1)<>0, IF(OR($AD61=\"LUMP\", $AD61=\"LS\"), \"LUMP\", OFFSET(#REF!, $AC61 - 1,0,1,1)),\"\"))","v":{"$error":"#REF!"}},{"$f":"IF( $AC61 = 0, \"\", IF( OFFSET(#REF!, $AC61 - 1,0,1,1)<>0, IF(OR($AD61=\"LUMP\", $AD61=\"LS\"), \"LUMP\", OFFSET(#REF!, $AC61 - 1,0,1,1)),\"\"))","v":{"$error":"#REF!"}},{"$f":"IF( $AC61 = 0, \"\", IF( OFFSET(#REF!, $AC61 - 1,0,1,1)<>0, IF(OR($AD61=\"LUMP\", $AD61=\"LS\"), \"LUMP\", OFFSET(#REF!, $AC61 - 1,0,1,1)),\"\"))","v":{"$error":"#REF!"}},{"$f":"IF( $AC61 = 0, \"\", IF( OFFSET(#REF!, $AC61 - 1,0,1,1)<>0, IF(OR($AD61=\"LUMP\", $AD61=\"LS\"), \"LUMP\", OFFSET(#REF!, $AC61 - 1,0,1,1)),\"\"))","v":{"$error":"#REF!"}},{"$f":"IF( $AC61 = 0, \"\", IF( OFFSET(#REF!, $AC61 - 1,0,1,1)<>0, IF(OR($AD61=\"LUMP\", $AD61=\"LS\"), \"LUMP\", OFFSET(#REF!, $AC61 - 1,0,1,1)),\"\"))","v":{"$error":"#REF!"}},{"$f":"IF( $AC61 = 0, \"\", IF( OFFSET(#REF!, $AC61 - 1,0,1,1)<>0, IF(OR($AD61=\"LUMP\", $AD61=\"LS\"), \"LUMP\", OFFSET(#REF!, $AC61 - 1,0,1,1)),\"\"))","v":{"$error":"#REF!"}},{"$f":"IF( $AC61 = 0, \"\", IF( OFFSET(#REF!, $AC61 - 1,0,1,1)<>0, IF(OR($AD61=\"LUMP\", $AD61=\"LS\"), \"LUMP\", OFFSET(#REF!, $AC61 - 1,0,1,1)),\"\"))","v":{"$error":"#REF!"}},{"$f":"IF( $AC61 = 0, \"\", IF( OFFSET(#REF!, $AC61 - 1,0,1,1)<>0, IF(OR($AD61=\"LUMP\", $AD61=\"LS\"), \"LUMP\", OFFSET(#REF!, $AC61 - 1,0,1,1)),\"\"))","v":{"$error":"#REF!"}},{"$f":"IF( $AC61 = 0, \"\", IF( OFFSET(#REF!, $AC61 - 1,0,1,1)<>0, IF(OR($AD61=\"LUMP\", $AD61=\"LS\"), \"LUMP\", OFFSET(#REF!, $AC61 - 1,0,1,1)),\"\"))","v":{"$error":"#REF!"}},{"$f":"IF( $AC61 = 0, \"\", IF( OFFSET(#REF!, $AC61 - 1,0,1,1)<>0, IF(OR($AD61=\"LUMP\", $AD61=\"LS\"), \"LUMP\", OFFSET(#REF!, $AC61 - 1,0,1,1)),\"\"))","v":{"$error":"#REF!"}},{"$f":"IF( $AC61 = 0, \"\", IF( OFFSET(#REF!, $AC61 - 1,0,1,1)<>0, IF(OR($AD61=\"LUMP\", $AD61=\"LS\"), \"LUMP\", OFFSET(#REF!, $AC61 - 1,0,1,1)),\"\"))","v":{"$error":"#REF!"}},{"$f":"IF( $AC61 = 0, \"\", IF( OFFSET(#REF!, $AC61 - 1,0,1,1)<>0, IF(OR($AD61=\"LUMP\", $AD61=\"LS\"), \"LUMP\", OFFSET(#REF!, $AC61 - 1,0,1,1)),\"\"))","v":{"$error":"#REF!"}},{"$f":"IF( $AC61 = 0, \"\", IF( OFFSET(#REF!, $AC61 - 1,0,1,1)<>0, IF(OR($AD61=\"LUMP\", $AD61=\"LS\"), \"LUMP\", OFFSET(#REF!, $AC61 - 1,0,1,1)),\"\"))","v":{"$error":"#REF!"}},{"$f":"IF( $AC61 = 0, \"\", IF( OFFSET(#REF!, $AC61 - 1,0,1,1)<>0, IF(OR($AD61=\"LUMP\", $AD61=\"LS\"), \"LUMP\", OFFSET(#REF!, $AC61 - 1,0,1,1)),\"\"))","v":{"$error":"#REF!"}},{"$f":"IF( $AC61 = 0, \"\", IF( OFFSET(#REF!, $AC61 - 1,0,1,1)<>0, IF(OR($AD61=\"LUMP\", $AD61=\"LS\"), \"LUMP\", OFFSET(#REF!, $AC61 - 1,0,1,1)),\"\"))","v":{"$error":"#REF!"}},{"$f":"IF( $AC61 = 0, \"\", IF( OFFSET(#REF!, $AC61 - 1,0,1,1)<>0, IF(OR($AD61=\"LUMP\", $AD61=\"LS\"), \"LUMP\", OFFSET(#REF!, $AC61 - 1,0,1,1)),\"\"))","v":{"$error":"#REF!"}},{"$f":"IF( $AC61 = 0, \"\", IF( OFFSET(#REF!, $AC61 - 1,0,1,1)<>0, IF(OR($AD61=\"LUMP\", $AD61=\"LS\"), \"LUMP\", OFFSET(#REF!, $AC61 - 1,0,1,1)),\"\"))","v":{"$error":"#REF!"}},{"$f":"IF( $AC61 = 0, \"\", IF( OFFSET(#REF!, $AC61 - 1,0,1,1)<>0, IF(OR($AD61=\"LUMP\", $AD61=\"LS\"), \"LUMP\", OFFSET(#REF!, $AC61 - 1,0,1,1)),\"\"))","v":{"$error":"#REF!"}},{"$f":"IF( $AC61 = 0, \"\", IF( OFFSET(#REF!, $AC61 - 1,0,1,1)<>0, IF(OR($AD61=\"LUMP\", $AD61=\"LS\"), \"LUMP\", OFFSET(#REF!, $AC61 - 1,0,1,1)),\"\"))","v":{"$error":"#REF!"}},{"$f":"IF( $AC61 = 0, \"\", IF( OFFSET(#REF!, $AC61 - 1,0,1,1)<>0, LEFT(OFFSET(#REF!, $AC61 - 1,0,1,1),3),\"\"))","v":{"$error":"#REF!"}},{"$f":"IF( $AC61 = 0, \"\", IF( OFFSET(#REF!, $AC61 - 1,0,1,1)<>0, IF(LEN(OFFSET(#REF!, $AC61 - 1,0,1,1))=9,   RIGHT(OFFSET(#REF!, $AC61 - 1,0,1,1),5),    LEFT(RIGHT(OFFSET(#REF!, $AC61 - 1,0,1,1),6), 5)      ),\"\"))","v":{"$error":"#REF!"}},{"$error":"#REF!"},{"$f":"IF( $AC61 = 0, \"\", IF( OFFSET(#REF!, $AC61 - 1,0,1,1)<>0,IF(OR(AD61=\"LUMP\", AD61=\"LS\"), \"\", AD61),\"\"))","v":{"$error":"#REF!"}},{"$f":"IF( $AC61 = 0, \"\", IF( OFFSET(#REF!, $AC61 - 1,0,1,1)<>0, VLOOKUP( OFFSET(#REF!, $AC61 - 1,0,1,1),[1]Items!$A$2:$E$10001,4,0),\"\"))","v":{"$error":"#REF!"}},null,59,9,50,{"$f":"IF( $AC61 = 0, \"\", IF( OFFSET(#REF!, $AC61 - 1,0,1,1)<>0, VLOOKUP( OFFSET(#REF!, $AC61 - 1,0,1,1),[1]Items!$A$2:$E$10001,3,0),\"\"))","v":{"$error":"#REF!"}}]
[{"$f":"IF( $AC62 = 0, \"\", IF( OFFSET(#REF!, $AC62 - 1,0,1,1)<>0, IF(OR($AD62=\"LUMP\", $AD62=\"LS\"), \"LUMP\", OFFSET(#REF!, $AC62 - 1,0,1,1)),\"\"))","v":""},{"$f":"IF( $AC62 = 0, \"\", IF( OFFSET(#REF!, $AC62 - 1,0,1,1)<>0, IF(OR($AD62=\"LUMP\", $AD62=\"LS\"), \"LUMP\", OFFSET(#REF!, $AC62 - 1,0,1,1)),\"\"))","v":""},{"$f":"IF( $AC62 = 0, \"\", IF( OFFSET(#REF!, $AC62 - 1,0,1,1)<>0, IF(OR($AD62=\"LUMP\", $AD62=\"LS\"), \"LUMP\", OFFSET(#REF!, $AC62 - 1,0,1,1)),\"\"))","v":""},{"$f":"IF( $AC62 = 0, \"\", IF( OFFSET(#REF!, $AC62 - 1,0,1,1)<>0, IF(OR($AD62=\"LUMP\", $AD62=\"LS\"), \"LUMP\", OFFSET(#REF!, $AC62 - 1,0,1,1)),\"\"))","v":""},{"$f":"IF( $AC62 = 0, \"\", IF( OFFSET(#REF!, $AC62 - 1,0,1,1)<>0, IF(OR($AD62=\"LUMP\", $AD62=\"LS\"), \"LUMP\", OFFSET(#REF!, $AC62 - 1,0,1,1)),\"\"))","v":""},{"$f":"IF( $AC62 = 0, \"\", IF( OFFSET(#REF!, $AC62 - 1,0,1,1)<>0, IF(OR($AD62=\"LUMP\", $AD62=\"LS\"), \"LUMP\", OFFSET(#REF!, $AC62 - 1,0,1,1)),\"\"))","v":""},{"$f":"IF( $AC62 = 0, \"\", IF( OFFSET(#REF!, $AC62 - 1,0,1,1)<>0, IF(OR($AD62=\"LUMP\", $AD62=\"LS\"), \"LUMP\", OFFSET(#REF!, $AC62 - 1,0,1,1)),\"\"))","v":""},{"$f":"IF( $AC62 = 0, \"\", IF( OFFSET(#REF!, $AC62 - 1,0,1,1)<>0, IF(OR($AD62=\"LUMP\", $AD62=\"LS\"), \"LUMP\", OFFSET(#REF!, $AC62 - 1,0,1,1)),\"\"))","v":""},{"$f":"IF( $AC62 = 0, \"\", IF( OFFSET(#REF!, $AC62 - 1,0,1,1)<>0, IF(OR($AD62=\"LUMP\", $AD62=\"LS\"), \"LUMP\", OFFSET(#REF!, $AC62 - 1,0,1,1)),\"\"))","v":""},{"$f":"IF( $AC62 = 0, \"\", IF( OFFSET(#REF!, $AC62 - 1,0,1,1)<>0, IF(OR($AD62=\"LUMP\", $AD62=\"LS\"), \"LUMP\", OFFSET(#REF!, $AC62 - 1,0,1,1)),\"\"))","v":""},{"$f":"IF( $AC62 = 0, \"\", IF( OFFSET(#REF!, $AC62 - 1,0,1,1)<>0, IF(OR($AD62=\"LUMP\", $AD62=\"LS\"), \"LUMP\", OFFSET(#REF!, $AC62 - 1,0,1,1)),\"\"))","v":""},{"$f":"IF( $AC62 = 0, \"\", IF( OFFSET(#REF!, $AC62 - 1,0,1,1)<>0, IF(OR($AD62=\"LUMP\", $AD62=\"LS\"), \"LUMP\", OFFSET(#REF!, $AC62 - 1,0,1,1)),\"\"))","v":""},{"$f":"IF( $AC62 = 0, \"\", IF( OFFSET(#REF!, $AC62 - 1,0,1,1)<>0, IF(OR($AD62=\"LUMP\", $AD62=\"LS\"), \"LUMP\", OFFSET(#REF!, $AC62 - 1,0,1,1)),\"\"))","v":""},{"$f":"IF( $AC62 = 0, \"\", IF( OFFSET(#REF!, $AC62 - 1,0,1,1)<>0, IF(OR($AD62=\"LUMP\", $AD62=\"LS\"), \"LUMP\", OFFSET(#REF!, $AC62 - 1,0,1,1)),\"\"))","v":""},{"$f":"IF( $AC62 = 0, \"\", IF( OFFSET(#REF!, $AC62 - 1,0,1,1)<>0, IF(OR($AD62=\"LUMP\", $AD62=\"LS\"), \"LUMP\", OFFSET(#REF!, $AC62 - 1,0,1,1)),\"\"))","v":""},{"$f":"IF( $AC62 = 0, \"\", IF( OFFSET(#REF!, $AC62 - 1,0,1,1)<>0, IF(OR($AD62=\"LUMP\", $AD62=\"LS\"), \"LUMP\", OFFSET(#REF!, $AC62 - 1,0,1,1)),\"\"))","v":""},{"$f":"IF( $AC62 = 0, \"\", IF( OFFSET(#REF!, $AC62 - 1,0,1,1)<>0, IF(OR($AD62=\"LUMP\", $AD62=\"LS\"), \"LUMP\", OFFSET(#REF!, $AC62 - 1,0,1,1)),\"\"))","v":""},{"$f":"IF( $AC62 = 0, \"\", IF( OFFSET(#REF!, $AC62 - 1,0,1,1)<>0, IF(OR($AD62=\"LUMP\", $AD62=\"LS\"), \"LUMP\", OFFSET(#REF!, $AC62 - 1,0,1,1)),\"\"))","v":""},{"$f":"IF( $AC62 = 0, \"\", IF( OFFSET(#REF!, $AC62 - 1,0,1,1)<>0, IF(OR($AD62=\"LUMP\", $AD62=\"LS\"), \"LUMP\", OFFSET(#REF!, $AC62 - 1,0,1,1)),\"\"))","v":""},{"$f":"IF( $AC62 = 0, \"\", IF( OFFSET(#REF!, $AC62 - 1,0,1,1)<>0, IF(OR($AD62=\"LUMP\", $AD62=\"LS\"), \"LUMP\", OFFSET(#REF!, $AC62 - 1,0,1,1)),\"\"))","v":""},{"$f":"IF( $AC62 = 0, \"\", IF( OFFSET(#REF!, $AC62 - 1,0,1,1)<>0, LEFT(OFFSET(#REF!, $AC62 - 1,0,1,1),3),\"\"))","v":""},{"$f":"IF( $AC62 = 0, \"\", IF( OFFSET(#REF!, $AC62 - 1,0,1,1)<>0, IF(LEN(OFFSET(#REF!, $AC62 - 1,0,1,1))=9,   RIGHT(OFFSET(#REF!, $AC62 - 1,0,1,1),5),    LEFT(RIGHT(OFFSET(#REF!, $AC62 - 1,0,1,1),6), 5)      ),\"\"))","v":""},"",{"$f":"IF( $AC62 = 0, \"\", IF( OFFSET(#REF!, $AC62 - 1,0,1,1)<>0,IF(OR(AD62=\"LUMP\", AD62=\"LS\"), \"\", AD62),\"\"))","v":""},{"$f":"IF( $AC62 = 0, \"\", IF( OFFSET(#REF!, $AC62 - 1,0,1,1)<>0, VLOOKUP( OFFSET(#REF!, $AC62 - 1,0,1,1),[1]Items!$A$2:$E$10001,4,0),\"\"))","v":""},null,60,10,0,{"$f":"IF( $AC62 = 0, \"\", IF( OFFSET(#REF!, $AC62 - 1,0,1,1)<>0, VLOOKUP( OFFSET(#REF!, $AC62 - 1,0,1,1),[1]Items!$A$2:$E$10001,3,0),\"\"))","v":""}]
[{"$f":"IF( $AC63 = 0, \"\", IF( OFFSET(#REF!, $AC63 - 1,0,1,1)<>0, IF(OR($AD63=\"LUMP\", $AD63=\"LS\"), \"LUMP\", OFFSET(#REF!, $AC63 - 1,0,1,1)),\"\"))","v":{"$error":"#REF!"}},{"$f":"IF( $AC63 = 0, \"\", IF( OFFSET(#REF!, $AC63 - 1,0,1,1)<>0, IF(OR($AD63=\"LUMP\", $AD63=\"LS\"), \"LUMP\", OFFSET(#REF!, $AC63 - 1,0,1,1)),\"\"))","v":{"$error":"#REF!"}},{"$f":"IF( $AC63 = 0, \"\", IF( OFFSET(#REF!, $AC63 - 1,0,1,1)<>0, IF(OR($AD63=\"LUMP\", $AD63=\"LS\"), \"LUMP\", OFFSET(#REF!, $AC63 - 1,0,1,1)),\"\"))","v":{"$error":"#REF!"}},{"$f":"IF( $AC63 = 0, \"\", IF( OFFSET(#REF!, $AC63 - 1,0,1,1)<>0, IF(OR($AD63=\"LUMP\", $AD63=\"LS\"), \"LUMP\", OFFSET(#REF!, $AC63 - 1,0,1,1)),\"\"))","v":{"$error":"#REF!"}},{"$f":"IF( $AC63 = 0, \"\", IF( OFFSET(#REF!, $AC63 - 1,0,1,1)<>0, IF(OR($AD63=\"LUMP\", $AD63=\"LS\"), \"LUMP\", OFFSET(#REF!, $AC63 - 1,0,1,1)),\"\"))","v":{"$error":"#REF!"}},{"$f":"IF( $AC63 = 0, \"\", IF( OFFSET(#REF!, $AC63 - 1,0,1,1)<>0, IF(OR($AD63=\"LUMP\", $AD63=\"LS\"), \"LUMP\", OFFSET(#REF!, $AC63 - 1,0,1,1)),\"\"))","v":{"$error":"#REF!"}},{"$f":"IF( $AC63 = 0, \"\", IF( OFFSET(#REF!, $AC63 - 1,0,1,1)<>0, IF(OR($AD63=\"LUMP\", $AD63=\"LS\"), \"LUMP\", OFFSET(#REF!, $AC63 - 1,0,1,1)),\"\"))","v":{"$error":"#REF!"}},{"$f":"IF( $AC63 = 0, \"\", IF( OFFSET(#REF!, $AC63 - 1,0,1,1)<>0, IF(OR($AD63=\"LUMP\", $AD63=\"LS\"), \"LUMP\", OFFSET(#REF!, $AC63 - 1,0,1,1)),\"\"))","v":{"$error":"#REF!"}},{"$f":"IF( $AC63 = 0, \"\", IF( OFFSET(#REF!, $AC63 - 1,0,1,1)<>0, IF(OR($AD63=\"LUMP\", $AD63=\"LS\"), \"LUMP\", OFFSET(#REF!, $AC63 - 1,0,1,1)),\"\"))","v":{"$error":"#REF!"}},{"$f":"IF( $AC63 = 0, \"\", IF( OFFSET(#REF!, $AC63 - 1,0,1,1)<>0, IF(OR($AD63=\"LUMP\", $AD63=\"LS\"), \"LUMP\", OFFSET(#REF!, $AC63 - 1,0,1,1)),\"\"))","v":{"$error":"#REF!"}},{"$f":"IF( $AC63 = 0, \"\", IF( OFFSET(#REF!, $AC63 - 1,0,1,1)<>0, IF(OR($AD63=\"LUMP\", $AD63=\"LS\"), \"LUMP\", OFFSET(#REF!, $AC63 - 1,0,1,1)),\"\"))","v":{"$error":"#REF!"}},{"$f":"IF( $AC63 = 0, \"\", IF( OFFSET(#REF!, $AC63 - 1,0,1,1)<>0, IF(OR($AD63=\"LUMP\", $AD63=\"LS\"), \"LUMP\", OFFSET(#REF!, $AC63 - 1,0,1,1)),\"\"))","v":{"$error":"#REF!"}},{"$f":"IF( $AC63 = 0, \"\", IF( OFFSET(#REF!, $AC63 - 1,0,1,1)<>0, IF(OR($AD63=\"LUMP\", $AD63=\"LS\"), \"LUMP\", OFFSET(#REF!, $AC63 - 1,0,1,1)),\"\"))","v":{"$error":"#REF!"}},{"$f":"IF( $AC63 = 0, \"\", IF( OFFSET(#REF!, $AC63 - 1,0,1,1)<>0, IF(OR($AD63=\"LUMP\", $AD63=\"LS\"), \"LUMP\", OFFSET(#REF!, $AC63 - 1,0,1,1)),\"\"))","v":{"$error":"#REF!"}},{"$f":"IF( $AC63 = 0, \"\", IF( OFFSET(#REF!, $AC63 - 1,0,1,1)<>0, IF(OR($AD63=\"LUMP\", $AD63=\"LS\"), \"LUMP\", OFFSET(#REF!, $AC63 - 1,0,1,1)),\"\"))","v":{"$error":"#REF!"}},{"$f":"IF( $AC63 = 0, \"\", IF( OFFSET(#REF!, $AC63 - 1,0,1,1)<>0, IF(OR($AD63=\"LUMP\", $AD63=\"LS\"), \"LUMP\", OFFSET(#REF!, $AC63 - 1,0,1,1)),\"\"))","v":{"$error":"#REF!"}},{"$f":"IF( $AC63 = 0, \"\", IF( OFFSET(#REF!, $AC63 - 1,0,1,1)<>0, IF(OR($AD63=\"LUMP\", $AD63=\"LS\"), \"LUMP\", OFFSET(#REF!, $AC63 - 1,0,1,1)),\"\"))","v":{"$error":"#REF!"}},{"$f":"IF( $AC63 = 0, \"\", IF( OFFSET(#REF!, $AC63 - 1,0,1,1)<>0, IF(OR($AD63=\"LUMP\", $AD63=\"LS\"), \"LUMP\", OFFSET(#REF!, $AC63 - 1,0,1,1)),\"\"))","v":{"$error":"#REF!"}},{"$f":"IF( $AC63 = 0, \"\", IF( OFFSET(#REF!, $AC63 - 1,0,1,1)<>0, IF(OR($AD63=\"LUMP\", $AD63=\"LS\"), \"LUMP\", OFFSET(#REF!, $AC63 - 1,0,1,1)),\"\"))","v":{"$error":"#REF!"}},{"$f":"IF( $AC63 = 0, \"\", IF( OFFSET(#REF!, $AC63 - 1,0,1,1)<>0, IF(OR($AD63=\"LUMP\", $AD63=\"LS\"), \"LUMP\", OFFSET(#REF!, $AC63 - 1,0,1,1)),\"\"))","v":{"$error":"#REF!"}},{"$f":"IF( $AC63 = 0, \"\", IF( OFFSET(#REF!, $AC63 - 1,0,1,1)<>0, LEFT(OFFSET(#REF!, $AC63 - 1,0,1,1),3),\"\"))","v":{"$error":"#REF!"}},{"$f":"IF( $AC63 = 0, \"\", IF( OFFSET(#REF!, $AC63 - 1,0,1,1)<>0, IF(LEN(OFFSET(#REF!, $AC63 - 1,0,1,1))=9,   RIGHT(OFFSET(#REF!, $AC63 - 1,0,1,1),5),    LEFT(RIGHT(OFFSET(#REF!, $AC63 - 1,0,1,1),6), 5)      ),\"\"))","v":{"$error":"#REF!"}},{"$error":"#REF!"},{"$f":"IF( $AC63 = 0, \"\", IF( OFFSET(#REF!, $AC63 - 1,0,1,1)<>0,IF(OR(AD63=\"LUMP\", AD63=\"LS\"), \"\", AD63),\"\"))","v":{"$error":"#REF!"}},{"$f":"IF( $AC63 = 0, \"\", IF( OFFSET(#REF!, $AC63 - 1,0,1,1)<>0, VLOOKUP( OFFSET(#REF!, $AC63 - 1,0,1,1),[1]Items!$A$2:$E$10001,4,0),\"\"))","v":{"$error":"#REF!"}},null,61,10,51,{"$f":"IF( $AC63 = 0, \"\", IF( OFFSET(#REF!, $AC63 - 1,0,1,1)<>0, VLOOKUP( OFFSET(#REF!, $AC63 - 1,0,1,1),[1]Items!$A$2:$E$10001,3,0),\"\"))","v":{"$error":"#REF!"}}]
[{"$f":"IF( $AC64 = 0, \"\", IF( OFFSET(#REF!, $AC64 - 1,0,1,1)<>0, IF(OR($AD64=\"LUMP\", $AD64=\"LS\"), \"LUMP\", OFFSET(#REF!, $AC64 - 1,0,1,1)),\"\"))","v":{"$error":"#REF!"}},{"$f":"IF( $AC64 = 0, \"\", IF( OFFSET(#REF!, $AC64 - 1,0,1,1)<>0, IF(OR($AD64=\"LUMP\", $AD64=\"LS\"), \"LUMP\", OFFSET(#REF!, $AC64 - 1,0,1,1)),\"\"))","v":{"$error":"#REF!"}},{"$f":"IF( $AC64 = 0, \"\", IF( OFFSET(#REF!, $AC64 - 1,0,1,1)<>0, IF(OR($AD64=\"LUMP\", $AD64=\"LS\"), \"LUMP\", OFFSET(#REF!, $AC64 - 1,0,1,1)),\"\"))","v":{"$error":"#REF!"}},{"$f":"IF( $AC64 = 0, \"\", IF( OFFSET(#REF!, $AC64 - 1,0,1,1)<>0, IF(OR($AD64=\"LUMP\", $AD64=\"LS\"), \"LUMP\", OFFSET(#REF!, $AC64 - 1,0,1,1)),\"\"))","v":{"$error":"#REF!"}},{"$f":"IF( $AC64 = 0, \"\", IF( OFFSET(#REF!, $AC64 - 1,0,1,1)<>0, IF(OR($AD64=\"LUMP\", $AD64=\"LS\"), \"LUMP\", OFFSET(#REF!, $AC64 - 1,0,1,1)),\"\"))","v":{"$error":"#REF!"}},{"$f":"IF( $AC64 = 0, \"\", IF( OFFSET(#REF!, $AC64 - 1,0,1,1)<>0, IF(OR($AD64=\"LUMP\", $AD64=\"LS\"), \"LUMP\", OFFSET(#REF!, $AC64 - 1,0,1,1)),\"\"))","v":{"$error":"#REF!"}},{"$f":"IF( $AC64 = 0, \"\", IF( OFFSET(#REF!, $AC64 - 1,0,1,1)<>0, IF(OR($AD64=\"LUMP\", $AD64=\"LS\"), \"LUMP\", OFFSET(#REF!, $AC64 - 1,0,1,1)),\"\"))","v":{"$error":"#REF!"}},{"$f":"IF( $AC64 = 0, \"\", IF( OFFSET(#REF!, $AC64 - 1,0,1,1)<>0, IF(OR($AD64=\"LUMP\", $AD64=\"LS\"), \"LUMP\", OFFSET(#REF!, $AC64 - 1,0,1,1)),\"\"))","v":{"$error":"#REF!"}},{"$f":"IF( $AC64 = 0, \"\", IF( OFFSET(#REF!, $AC64 - 1,0,1,1)<>0, IF(OR($AD64=\"LUMP\", $AD64=\"LS\"), \"LUMP\", OFFSET(#REF!, $AC64 - 1,0,1,1)),\"\"))","v":{"$error":"#REF!"}},{"$f":"IF( $AC64 = 0, \"\", IF( OFFSET(#REF!, $AC64 - 1,0,1,1)<>0, IF(OR($AD64=\"LUMP\", $AD64=\"LS\"), \"LUMP\", OFFSET(#REF!, $AC64 - 1,0,1,1)),\"\"))","v":{"$error":"#REF!"}},{"$f":"IF( $AC64 = 0, \"\", IF( OFFSET(#REF!, $AC64 - 1,0,1,1)<>0, IF(OR($AD64=\"LUMP\", $AD64=\"LS\"), \"LUMP\", OFFSET(#REF!, $AC64 - 1,0,1,1)),\"\"))","v":{"$error":"#REF!"}},{"$f":"IF( $AC64 = 0, \"\", IF( OFFSET(#REF!, $AC64 - 1,0,1,1)<>0, IF(OR($AD64=\"LUMP\", $AD64=\"LS\"), \"LUMP\", OFFSET(#REF!, $AC64 - 1,0,1,1)),\"\"))","v":{"$error":"#REF!"}},{"$f":"IF( $AC64 = 0, \"\", IF( OFFSET(#REF!, $AC64 - 1,0,1,1)<>0, IF(OR($AD64=\"LUMP\", $AD64=\"LS\"), \"LUMP\", OFFSET(#REF!, $AC64 - 1,0,1,1)),\"\"))","v":{"$error":"#REF!"}},{"$f":"IF( $AC64 = 0, \"\", IF( OFFSET(#REF!, $AC64 - 1,0,1,1)<>0, IF(OR($AD64=\"LUMP\", $AD64=\"LS\"), \"LUMP\", OFFSET(#REF!, $AC64 - 1,0,1,1)),\"\"))","v":{"$error":"#REF!"}},{"$f":"IF( $AC64 = 0, \"\", IF( OFFSET(#REF!, $AC64 - 1,0,1,1)<>0, IF(OR($AD64=\"LUMP\", $AD64=\"LS\"), \"LUMP\", OFFSET(#REF!, $AC64 - 1,0,1,1)),\"\"))","v":{"$error":"#REF!"}},{"$f":"IF( $AC64 = 0, \"\", IF( OFFSET(#REF!, $AC64 - 1,0,1,1)<>0, IF(OR($AD64=\"LUMP\", $AD64=\"LS\"), \"LUMP\", OFFSET(#REF!, $AC64 - 1,0,1,1)),\"\"))","v":{"$error":"#REF!"}},{"$f":"IF( $AC64 = 0, \"\", IF( OFFSET(#REF!, $AC64 - 1,0,1,1)<>0, IF(OR($AD64=\"LUMP\", $AD64=\"LS\"), \"LUMP\", OFFSET(#REF!, $AC64 - 1,0,1,1)),\"\"))","v":{"$error":"#REF!"}},{"$f":"IF( $AC64 = 0, \"\", IF( OFFSET(#REF!, $AC64 - 1,0,1,1)<>0, IF(OR($AD64=\"LUMP\", $AD64=\"LS\"), \"LUMP\", OFFSET(#REF!, $AC64 - 1,0,1,1)),\"\"))","v":{"$error":"#REF!"}},{"$f":"IF( $AC64 = 0, \"\", IF( OFFSET(#REF!, $AC64 - 1,0,1,1)<>0, IF(OR($AD64=\"LUMP\", $AD64=\"LS\"), \"LUMP\", OFFSET(#REF!, $AC64 - 1,0,1,1)),\"\"))","v":{"$error":"#REF!"}},{"$f":"IF( $AC64 = 0, \"\", IF( OFFSET(#REF!, $AC64 - 1,0,1,1)<>0, IF(OR($AD64=\"LUMP\", $AD64=\"LS\"), \"LUMP\", OFFSET(#REF!, $AC64 - 1,0,1,1)),\"\"))","v":{"$error":"#REF!"}},{"$f":"IF( $AC64 = 0, \"\", IF( OFFSET(#REF!, $AC64 - 1,0,1,1)<>0, LEFT(OFFSET(#REF!, $AC64 - 1,0,1,1),3),\"\"))","v":{"$error":"#REF!"}},{"$f":"IF( $AC64 = 0, \"\", IF( OFFSET(#REF!, $AC64 - 1,0,1,1)<>0, IF(LEN(OFFSET(#REF!, $AC64 - 1,0,1,1))=9,   RIGHT(OFFSET(#REF!, $AC64 - 1,0,1,1),5),    LEFT(RIGHT(OFFSET(#REF!, $AC64 - 1,0,1,1),6), 5)      ),\"\"))","v":{"$error":"#REF!"}},{"$error":"#REF!"},{"$f":"IF( $AC64 = 0, \"\", IF( OFFSET(#REF!, $AC64 - 1,0,1,1)<>0,IF(OR(AD64=\"LUMP\", AD64=\"LS\"), \"\", AD64),\"\"))","v":{"$error":"#REF!"}},{"$f":"IF( $AC64 = 0, \"\", IF( OFFSET(#REF!, $AC64 - 1,0,1,1)<>0, VLOOKUP( OFFSET(#REF!, $AC64 - 1,0,1,1),[1]Items!$A$2:$E$10001,4,0),\"\"))","v":{"$error":"#REF!"}},null,62,10,52,{"$f":"IF( $AC64 = 0, \"\", IF( OFFSET(#REF!, $AC64 - 1,0,1,1)<>0, VLOOKUP( OFFSET(#REF!, $AC64 - 1,0,1,1),[1]Items!$A$2:$E$10001,3,0),\"\"))","v":{"$error":"#REF!"}}]
[{"$f":"IF( $AC65 = 0, \"\", IF( OFFSET(#REF!, $AC65 - 1,0,1,1)<>0, IF(OR($AD65=\"LUMP\", $AD65=\"LS\"), \"LUMP\", OFFSET(#REF!, $AC65 - 1,0,1,1)),\"\"))","v":{"$error":"#REF!"}},{"$f":"IF( $AC65 = 0, \"\", IF( OFFSET(#REF!, $AC65 - 1,0,1,1)<>0, IF(OR($AD65=\"LUMP\", $AD65=\"LS\"), \"LUMP\", OFFSET(#REF!, $AC65 - 1,0,1,1)),\"\"))","v":{"$error":"#REF!"}},{"$f":"IF( $AC65 = 0, \"\", IF( OFFSET(#REF!, $AC65 - 1,0,1,1)<>0, IF(OR($AD65=\"LUMP\", $AD65=\"LS\"), \"LUMP\", OFFSET(#REF!, $AC65 - 1,0,1,1)),\"\"))","v":{"$error":"#REF!"}},{"$f":"IF( $AC65 = 0, \"\", IF( OFFSET(#REF!, $AC65 - 1,0,1,1)<>0, IF(OR($AD65=\"LUMP\", $AD65=\"LS\"), \"LUMP\", OFFSET(#REF!, $AC65 - 1,0,1,1)),\"\"))","v":{"$error":"#REF!"}},{"$f":"IF( $AC65 = 0, \"\", IF( OFFSET(#REF!, $AC65 - 1,0,1,1)<>0, IF(OR($AD65=\"LUMP\", $AD65=\"LS\"), \"LUMP\", OFFSET(#REF!, $AC65 - 1,0,1,1)),\"\"))","v":{"$error":"#REF!"}},{"$f":"IF( $AC65 = 0, \"\", IF( OFFSET(#REF!, $AC65 - 1,0,1,1)<>0, IF(OR($AD65=\"LUMP\", $AD65=\"LS\"), \"LUMP\", OFFSET(#REF!, $AC65 - 1,0,1,1)),\"\"))","v":{"$error":"#REF!"}},{"$f":"IF( $AC65 = 0, \"\", IF( OFFSET(#REF!, $AC65 - 1,0,1,1)<>0, IF(OR($AD65=\"LUMP\", $AD65=\"LS\"), \"LUMP\", OFFSET(#REF!, $AC65 - 1,0,1,1)),\"\"))","v":{"$error":"#REF!"}},{"$f":"IF( $AC65 = 0, \"\", IF( OFFSET(#REF!, $AC65 - 1,0,1,1)<>0, IF(OR($AD65=\"LUMP\", $AD65=\"LS\"), \"LUMP\", OFFSET(#REF!, $AC65 - 1,0,1,1)),\"\"))","v":{"$error":"#REF!"}},{"$f":"IF( $AC65 = 0, \"\", IF( OFFSET(#REF!, $AC65 - 1,0,1,1)<>0, IF(OR($AD65=\"LUMP\", $AD65=\"LS\"), \"LUMP\", OFFSET(#REF!, $AC65 - 1,0,1,1)),\"\"))","v":{"$error":"#REF!"}},{"$f":"IF( $AC65 = 0, \"\", IF( OFFSET(#REF!, $AC65 - 1,0,1,1)<>0, IF(OR($AD65=\"LUMP\", $AD65=\"LS\"), \"LUMP\", OFFSET(#REF!, $AC65 - 1,0,1,1)),\"\"))","v":{"$error":"#REF!"}},{"$f":"IF( $AC65 = 0, \"\", IF( OFFSET(#REF!, $AC65 - 1,0,1,1)<>0, IF(OR($AD65=\"LUMP\", $AD65=\"LS\"), \"LUMP\", OFFSET(#REF!, $AC65 - 1,0,1,1)),\"\"))","v":{"$error":"#REF!"}},{"$f":"IF( $AC65 = 0, \"\", IF( OFFSET(#REF!, $AC65 - 1,0,1,1)<>0, IF(OR($AD65=\"LUMP\", $AD65=\"LS\"), \"LUMP\", OFFSET(#REF!, $AC65 - 1,0,1,1)),\"\"))","v":{"$error":"#REF!"}},{"$f":"IF( $AC65 = 0, \"\", IF( OFFSET(#REF!, $AC65 - 1,0,1,1)<>0, IF(OR($AD65=\"LUMP\", $AD65=\"LS\"), \"LUMP\", OFFSET(#REF!, $AC65 - 1,0,1,1)),\"\"))","v":{"$error":"#REF!"}},{"$f":"IF( $AC65 = 0, \"\", IF( OFFSET(#REF!, $AC65 - 1,0,1,1)<>0, IF(OR($AD65=\"LUMP\", $AD65=\"LS\"), \"LUMP\", OFFSET(#REF!, $AC65 - 1,0,1,1)),\"\"))","v":{"$error":"#REF!"}},{"$f":"IF( $AC65 = 0, \"\", IF( OFFSET(#REF!, $AC65 - 1,0,1,1)<>0, IF(OR($AD65=\"LUMP\", $AD65=\"LS\"), \"LUMP\", OFFSET(#REF!, $AC65 - 1,0,1,1)),\"\"))","v":{"$error":"#REF!"}},{"$f":"IF( $AC65 = 0, \"\", IF( OFFSET(#REF!, $AC65 - 1,0,1,1)<>0, IF(OR($AD65=\"LUMP\", $AD65=\"LS\"), \"LUMP\", OFFSET(#REF!, $AC65 - 1,0,1,1)),\"\"))","v":{"$error":"#REF!"}},{"$f":"IF( $AC65 = 0, \"\", IF( OFFSET(#REF!, $AC65 - 1,0,1,1)<>0, IF(OR($AD65=\"LUMP\", $AD65=\"LS\"), \"LUMP\", OFFSET(#REF!, $AC65 - 1,0,1,1)),\"\"))","v":{"$error":"#REF!"}},{"$f":"IF( $AC65 = 0, \"\", IF( OFFSET(#REF!, $AC65 - 1,0,1,1)<>0, IF(OR($AD65=\"LUMP\", $AD65=\"LS\"), \"LUMP\", OFFSET(#REF!, $AC65 - 1,0,1,1)),\"\"))","v":{"$error":"#REF!"}},{"$f":"IF( $AC65 = 0, \"\", IF( OFFSET(#REF!, $AC65 - 1,0,1,1)<>0, IF(OR($AD65=\"LUMP\", $AD65=\"LS\"), \"LUMP\", OFFSET(#REF!, $AC65 - 1,0,1,1)),\"\"))","v":{"$error":"#REF!"}},{"$f":"IF( $AC65 = 0, \"\", IF( OFFSET(#REF!, $AC65 - 1,0,1,1)<>0, IF(OR($AD65=\"LUMP\", $AD65=\"LS\"), \"LUMP\", OFFSET(#REF!, $AC65 - 1,0,1,1)),\"\"))","v":{"$error":"#REF!"}},{"$f":"IF( $AC65 = 0, \"\", IF( OFFSET(#REF!, $AC65 - 1,0,1,1)<>0, LEFT(OFFSET(#REF!, $AC65 - 1,0,1,1),3),\"\"))","v":{"$error":"#REF!"}},{"$f":"IF( $AC65 = 0, \"\", IF( OFFSET(#REF!, $AC65 - 1,0,1,1)<>0, IF(LEN(OFFSET(#REF!, $AC65 - 1,0,1,1))=9,   RIGHT(OFFSET(#REF!, $AC65 - 1,0,1,1),5),    LEFT(RIGHT(OFFSET(#REF!, $AC65 - 1,0,1,1),6), 5)      ),\"\"))","v":{"$error":"#REF!"}},{"$error":"#REF!"},{"$f":"IF( $AC65 = 0, \"\", IF( OFFSET(#REF!, $AC65 - 1,0,1,1)<>0,IF(OR(AD65=\"LUMP\", AD65=\"LS\"), \"\", AD65),\"\"))","v":{"$error":"#REF!"}},{"$f":"IF( $AC65 = 0, \"\", IF( OFFSET(#REF!, $AC65 - 1,0,1,1)<>0, VLOOKUP( OFFSET(#REF!, $AC65 - 1,0,1,1),[1]Items!$A$2:$E$10001,4,0),\"\"))","v":{"$error":"#REF!"}},null,63,10,53,{"$f":"IF( $AC65 = 0, \"\", IF( OFFSET(#REF!, $AC65 - 1,0,1,1)<>0, VLOOKUP( OFFSET(#REF!, $AC65 - 1,0,1,1),[1]Items!$A$2:$E$10001,3,0),\"\"))","v":{"$error":"#REF!"}}]
[{"$f":"IF( $AC66 = 0, \"\", IF( OFFSET(#REF!, $AC66 - 1,0,1,1)<>0, IF(OR($AD66=\"LUMP\", $AD66=\"LS\"), \"LUMP\", OFFSET(#REF!, $AC66 - 1,0,1,1)),\"\"))","v":{"$error":"#REF!"}},{"$f":"IF( $AC66 = 0, \"\", IF( OFFSET(#REF!, $AC66 - 1,0,1,1)<>0, IF(OR($AD66=\"LUMP\", $AD66=\"LS\"), \"LUMP\", OFFSET(#REF!, $AC66 - 1,0,1,1)),\"\"))","v":{"$error":"#REF!"}},{"$f":"IF( $AC66 = 0, \"\", IF( OFFSET(#REF!, $AC66 - 1,0,1,1)<>0, IF(OR($AD66=\"LUMP\", $AD66=\"LS\"), \"LUMP\", OFFSET(#REF!, $AC66 - 1,0,1,1)),\"\"))","v":{"$error":"#REF!"}},{"$f":"IF( $AC66 = 0, \"\", IF( OFFSET(#REF!, $AC66 - 1,0,1,1)<>0, IF(OR($AD66=\"LUMP\", $AD66=\"LS\"), \"LUMP\", OFFSET(#REF!, $AC66 - 1,0,1,1)),\"\"))","v":{"$error":"#REF!"}},{"$f":"IF( $AC66 = 0, \"\", IF( OFFSET(#REF!, $AC66 - 1,0,1,1)<>0, IF(OR($AD66=\"LUMP\", $AD66=\"LS\"), \"LUMP\", OFFSET(#REF!, $AC66 - 1,0,1,1)),\"\"))","v":{"$error":"#REF!"}},{"$f":"IF( $AC66 = 0, \"\", IF( OFFSET(#REF!, $AC66 - 1,0,1,1)<>0, IF(OR($AD66=\"LUMP\", $AD66=\"LS\"), \"LUMP\", OFFSET(#REF!, $AC66 - 1,0,1,1)),\"\"))","v":{"$error":"#REF!"}},{"$f":"IF( $AC66 = 0, \"\", IF( OFFSET(#REF!, $AC66 - 1,0,1,1)<>0, IF(OR($AD66=\"LUMP\", $AD66=\"LS\"), \"LUMP\", OFFSET(#REF!, $AC66 - 1,0,1,1)),\"\"))","v":{"$error":"#REF!"}},{"$f":"IF( $AC66 = 0, \"\", IF( OFFSET(#REF!, $AC66 - 1,0,1,1)<>0, IF(OR($AD66=\"LUMP\", $AD66=\"LS\"), \"LUMP\", OFFSET(#REF!, $AC66 - 1,0,1,1)),\"\"))","v":{"$error":"#REF!"}},{"$f":"IF( $AC66 = 0, \"\", IF( OFFSET(#REF!, $AC66 - 1,0,1,1)<>0, IF(OR($AD66=\"LUMP\", $AD66=\"LS\"), \"LUMP\", OFFSET(#REF!, $AC66 - 1,0,1,1)),\"\"))","v":{"$error":"#REF!"}},{"$f":"IF( $AC66 = 0, \"\", IF( OFFSET(#REF!, $AC66 - 1,0,1,1)<>0, IF(OR($AD66=\"LUMP\", $AD66=\"LS\"), \"LUMP\", OFFSET(#REF!, $AC66 - 1,0,1,1)),\"\"))","v":{"$error":"#REF!"}},{"$f":"IF( $AC66 = 0, \"\", IF( OFFSET(#REF!, $AC66 - 1,0,1,1)<>0, IF(OR($AD66=\"LUMP\", $AD66=\"LS\"), \"LUMP\", OFFSET(#REF!, $AC66 - 1,0,1,1)),\"\"))","v":{"$error":"#REF!"}},{"$f":"IF( $AC66 = 0, \"\", IF( OFFSET(#REF!, $AC66 - 1,0,1,1)<>0, IF(OR($AD66=\"LUMP\", $AD66=\"LS\"), \"LUMP\", OFFSET(#REF!, $AC66 - 1,0,1,1)),\"\"))","v":{"$error":"#REF!"}},{"$f":"IF( $AC66 = 0, \"\", IF( OFFSET(#REF!, $AC66 - 1,0,1,1)<>0, IF(OR($AD66=\"LUMP\", $AD66=\"LS\"), \"LUMP\", OFFSET(#REF!, $AC66 - 1,0,1,1)),\"\"))","v":{"$error":"#REF!"}},{"$f":"IF( $AC66 = 0, \"\", IF( OFFSET(#REF!, $AC66 - 1,0,1,1)<>0, IF(OR($AD66=\"LUMP\", $AD66=\"LS\"), \"LUMP\", OFFSET(#REF!, $AC66 - 1,0,1,1)),\"\"))","v":{"$error":"#REF!"}},{"$f":"IF( $AC66 = 0, \"\", IF( OFFSET(#REF!, $AC66 - 1,0,1,1)<>0, IF(OR($AD66=\"LUMP\", $AD66=\"LS\"), \"LUMP\", OFFSET(#REF!, $AC66 - 1,0,1,1)),\"\"))","v":{"$error":"#REF!"}},{"$f":"IF( $AC66 = 0, \"\", IF( OFFSET(#REF!, $AC66 - 1,0,1,1)<>0, IF(OR($AD66=\"LUMP\", $AD66=\"LS\"), \"LUMP\", OFFSET(#REF!, $AC66 - 1,0,1,1)),\"\"))","v":{"$error":"#REF!"}},{"$f":"IF( $AC66 = 0, \"\", IF( OFFSET(#REF!, $AC66 - 1,0,1,1)<>0, IF(OR($AD66=\"LUMP\", $AD66=\"LS\"), \"LUMP\", OFFSET(#REF!, $AC66 - 1,0,1,1)),\"\"))","v":{"$error":"#REF!"}},{"$f":"IF( $AC66 = 0, \"\", IF( OFFSET(#REF!, $AC66 - 1,0,1,1)<>0, IF(OR($AD66=\"LUMP\", $AD66=\"LS\"), \"LUMP\", OFFSET(#REF!, $AC66 - 1,0,1,1)),\"\"))","v":{"$error":"#REF!"}},{"$f":"IF( $AC66 = 0, \"\", IF( OFFSET(#REF!, $AC66 - 1,0,1,1)<>0, IF(OR($AD66=\"LUMP\", $AD66=\"LS\"), \"LUMP\", OFFSET(#REF!, $AC66 - 1,0,1,1)),\"\"))","v":{"$error":"#REF!"}},{"$f":"IF( $AC66 = 0, \"\", IF( OFFSET(#REF!, $AC66 - 1,0,1,1)<>0, IF(OR($AD66=\"LUMP\", $AD66=\"LS\"), \"LUMP\", OFFSET(#REF!, $AC66 - 1,0,1,1)),\"\"))","v":{"$error":"#REF!"}},{"$f":"IF( $AC66 = 0, \"\", IF( OFFSET(#REF!, $AC66 - 1,0,1,1)<>0, LEFT(OFFSET(#REF!, $AC66 - 1,0,1,1),3),\"\"))","v":{"$error":"#REF!"}},{"$f":"IF( $AC66 = 0, \"\", IF( OFFSET(#REF!, $AC66 - 1,0,1,1)<>0, IF(LEN(OFFSET(#REF!, $AC66 - 1,0,1,1))=9,   RIGHT(OFFSET(#REF!, $AC66 - 1,0,1,1),5),    LEFT(RIGHT(OFFSET(#REF!, $AC66 - 1,0,1,1),6), 5)      ),\"\"))","v":{"$error":"#REF!"}},{"$error":"#REF!"},{"$f":"IF( $AC66 = 0, \"\", IF( OFFSET(#REF!, $AC66 - 1,0,1,1)<>0,IF(OR(AD66=\"LUMP\", AD66=\"LS\"), \"\", AD66),\"\"))","v":{"$error":"#REF!"}},{"$f":"IF( $AC66 = 0, \"\", IF( OFFSET(#REF!, $AC66 - 1,0,1,1)<>0, VLOOKUP( OFFSET(#REF!, $AC66 - 1,0,1,1),[1]Items!$A$2:$E$10001,4,0),\"\"))","v":{"$error":"#REF!"}},null,64,10,54,{"$f":"IF( $AC66 = 0, \"\", IF( OFFSET(#REF!, $AC66 - 1,0,1,1)<>0, VLOOKUP( OFFSET(#REF!, $AC66 - 1,0,1,1),[1]Items!$A$2:$E$10001,3,0),\"\"))","v":{"$error":"#REF!"}}]
[{"$f":"IF( $AC67 = 0, \"\", IF( OFFSET(#REF!, $AC67 - 1,0,1,1)<>0, IF(OR($AD67=\"LUMP\", $AD67=\"LS\"), \"LUMP\", OFFSET(#REF!, $AC67 - 1,0,1,1)),\"\"))","v":{"$error":"#REF!"}},{"$f":"IF( $AC67 = 0, \"\", IF( OFFSET(#REF!, $AC67 - 1,0,1,1)<>0, IF(OR($AD67=\"LUMP\", $AD67=\"LS\"), \"LUMP\", OFFSET(#REF!, $AC67 - 1,0,1,1)),\"\"))","v":{"$error":"#REF!"}},{"$f":"IF( $AC67 = 0, \"\", IF( OFFSET(#REF!, $AC67 - 1,0,1,1)<>0, IF(OR($AD67=\"LUMP\", $AD67=\"LS\"), \"LUMP\", OFFSET(#REF!, $AC67 - 1,0,1,1)),\"\"))","v":{"$error":"#REF!"}},{"$f":"IF( $AC67 = 0, \"\", IF( OFFSET(#REF!, $AC67 - 1,0,1,1)<>0, IF(OR($AD67=\"LUMP\", $AD67=\"LS\"), \"LUMP\", OFFSET(#REF!, $AC67 - 1,0,1,1)),\"\"))","v":{"$error":"#REF!"}},{"$f":"IF( $AC67 = 0, \"\", IF( OFFSET(#REF!, $AC67 - 1,0,1,1)<>0, IF(OR($AD67=\"LUMP\", $AD67=\"LS\"), \"LUMP\", OFFSET(#REF!, $AC67 - 1,0,1,1)),\"\"))","v":{"$error":"#REF!"}},{"$f":"IF( $AC67 = 0, \"\", IF( OFFSET(#REF!, $AC67 - 1,0,1,1)<>0, IF(OR($AD67=\"LUMP\", $AD67=\"LS\"), \"LUMP\", OFFSET(#REF!, $AC67 - 1,0,1,1)),\"\"))","v":{"$error":"#REF!"}},{"$f":"IF( $AC67 = 0, \"\", IF( OFFSET(#REF!, $AC67 - 1,0,1,1)<>0, IF(OR($AD67=\"LUMP\", $AD67=\"LS\"), \"LUMP\", OFFSET(#REF!, $AC67 - 1,0,1,1)),\"\"))","v":{"$error":"#REF!"}},{"$f":"IF( $AC67 = 0, \"\", IF( OFFSET(#REF!, $AC67 - 1,0,1,1)<>0, IF(OR($AD67=\"LUMP\", $AD67=\"LS\"), \"LUMP\", OFFSET(#REF!, $AC67 - 1,0,1,1)),\"\"))","v":{"$error":"#REF!"}},{"$f":"IF( $AC67 = 0, \"\", IF( OFFSET(#REF!, $AC67 - 1,0,1,1)<>0, IF(OR($AD67=\"LUMP\", $AD67=\"LS\"), \"LUMP\", OFFSET(#REF!, $AC67 - 1,0,1,1)),\"\"))","v":{"$error":"#REF!"}},{"$f":"IF( $AC67 = 0, \"\", IF( OFFSET(#REF!, $AC67 - 1,0,1,1)<>0, IF(OR($AD67=\"LUMP\", $AD67=\"LS\"), \"LUMP\", OFFSET(#REF!, $AC67 - 1,0,1,1)),\"\"))","v":{"$error":"#REF!"}},{"$f":"IF( $AC67 = 0, \"\", IF( OFFSET(#REF!, $AC67 - 1,0,1,1)<>0, IF(OR($AD67=\"LUMP\", $AD67=\"LS\"), \"LUMP\", OFFSET(#REF!, $AC67 - 1,0,1,1)),\"\"))","v":{"$error":"#REF!"}},{"$f":"IF( $AC67 = 0, \"\", IF( OFFSET(#REF!, $AC67 - 1,0,1,1)<>0, IF(OR($AD67=\"LUMP\", $AD67=\"LS\"), \"LUMP\", OFFSET(#REF!, $AC67 - 1,0,1,1)),\"\"))","v":{"$error":"#REF!"}},{"$f":"IF( $AC67 = 0, \"\", IF( OFFSET(#REF!, $AC67 - 1,0,1,1)<>0, IF(OR($AD67=\"LUMP\", $AD67=\"LS\"), \"LUMP\", OFFSET(#REF!, $AC67 - 1,0,1,1)),\"\"))","v":{"$error":"#REF!"}},{"$f":"IF( $AC67 = 0, \"\", IF( OFFSET(#REF!, $AC67 - 1,0,1,1)<>0, IF(OR($AD67=\"LUMP\", $AD67=\"LS\"), \"LUMP\", OFFSET(#REF!, $AC67 - 1,0,1,1)),\"\"))","v":{"$error":"#REF!"}},{"$f":"IF( $AC67 = 0, \"\", IF( OFFSET(#REF!, $AC67 - 1,0,1,1)<>0, IF(OR($AD67=\"LUMP\", $AD67=\"LS\"), \"LUMP\", OFFSET(#REF!, $AC67 - 1,0,1,1)),\"\"))","v":{"$error":"#REF!"}},{"$f":"IF( $AC67 = 0, \"\", IF( OFFSET(#REF!, $AC67 - 1,0,1,1)<>0, IF(OR($AD67=\"LUMP\", $AD67=\"LS\"), \"LUMP\", OFFSET(#REF!, $AC67 - 1,0,1,1)),\"\"))","v":{"$error":"#REF!"}},{"$f":"IF( $AC67 = 0, \"\", IF( OFFSET(#REF!, $AC67 - 1,0,1,1)<>0, IF(OR($AD67=\"LUMP\", $AD67=\"LS\"), \"LUMP\", OFFSET(#REF!, $AC67 - 1,0,1,1)),\"\"))","v":{"$error":"#REF!"}},{"$f":"IF( $AC67 = 0, \"\", IF( OFFSET(#REF!, $AC67 - 1,0,1,1)<>0, IF(OR($AD67=\"LUMP\", $AD67=\"LS\"), \"LUMP\", OFFSET(#REF!, $AC67 - 1,0,1,1)),\"\"))","v":{"$error":"#REF!"}},{"$f":"IF( $AC67 = 0, \"\", IF( OFFSET(#REF!, $AC67 - 1,0,1,1)<>0, IF(OR($AD67=\"LUMP\", $AD67=\"LS\"), \"LUMP\", OFFSET(#REF!, $AC67 - 1,0,1,1)),\"\"))","v":{"$error":"#REF!"}},{"$f":"IF( $AC67 = 0, \"\", IF( OFFSET(#REF!, $AC67 - 1,0,1,1)<>0, IF(OR($AD67=\"LUMP\", $AD67=\"LS\"), \"LUMP\", OFFSET(#REF!, $AC67 - 1,0,1,1)),\"\"))","v":{"$error":"#REF!"}},{"$f":"IF( $AC67 = 0, \"\", IF( OFFSET(#REF!, $AC67 - 1,0,1,1)<>0, LEFT(OFFSET(#REF!, $AC67 - 1,0,1,1),3),\"\"))","v":{"$error":"#REF!"}},{"$f":"IF( $AC67 = 0, \"\", IF( OFFSET(#REF!, $AC67 - 1,0,1,1)<>0, IF(LEN(OFFSET(#REF!, $AC67 - 1,0,1,1))=9,   RIGHT(OFFSET(#REF!, $AC67 - 1,0,1,1),5),    LEFT(RIGHT(OFFSET(#REF!, $AC67 - 1,0,1,1),6), 5)      ),\"\"))","v":{"$error":"#REF!"}},{"$error":"#REF!"},{"$f":"IF( $AC67 = 0, \"\", IF( OFFSET(#REF!, $AC67 - 1,0,1,1)<>0,IF(OR(AD67=\"LUMP\", AD67=\"LS\"), \"\", AD67),\"\"))","v":{"$error":"#REF!"}},{"$f":"IF( $AC67 = 0, \"\", IF( OFFSET(#REF!, $AC67 - 1,0,1,1)<>0, VLOOKUP( OFFSET(#REF!, $AC67 - 1,0,1,1),[1]Items!$A$2:$E$10001,4,0),\"\"))","v":{"$error":"#REF!"}},null,65,{"$f":"INT(AA67/6)","v":10},{"$f":"IF(  (AA67 - 6*AB67) = 0, 0, AA67 - AB67 )","v":55},{"$f":"IF( $AC67 = 0, \"\", IF( OFFSET(#REF!, $AC67 - 1,0,1,1)<>0, VLOOKUP( OFFSET(#REF!, $AC67 - 1,0,1,1),[1]Items!$A$2:$E$10001,3,0),\"\"))","v":{"$error":"#REF!"}}]
[{"$f":"IF( $AC68 = 0, \"\", IF( OFFSET(#REF!, $AC68 - 1,0,1,1)<>0, IF(OR($AD68=\"LUMP\", $AD68=\"LS\"), \"LUMP\", OFFSET(#REF!, $AC68 - 1,0,1,1)),\"\"))","v":""},{"$f":"IF( $AC68 = 0, \"\", IF( OFFSET(#REF!, $AC68 - 1,0,1,1)<>0, IF(OR($AD68=\"LUMP\", $AD68=\"LS\"), \"LUMP\", OFFSET(#REF!, $AC68 - 1,0,1,1)),\"\"))","v":""},{"$f":"IF( $AC68 = 0, \"\", IF( OFFSET(#REF!, $AC68 - 1,0,1,1)<>0, IF(OR($AD68=\"LUMP\", $AD68=\"LS\"), \"LUMP\", OFFSET(#REF!, $AC68 - 1,0,1,1)),\"\"))","v":""},{"$f":"IF( $AC68 = 0, \"\", IF( OFFSET(#REF!, $AC68 - 1,0,1,1)<>0, IF(OR($AD68=\"LUMP\", $AD68=\"LS\"), \"LUMP\", OFFSET(#REF!, $AC68 - 1,0,1,1)),\"\"))","v":""},{"$f":"IF( $AC68 = 0, \"\", IF( OFFSET(#REF!, $AC68 - 1,0,1,1)<>0, IF(OR($AD68=\"LUMP\", $AD68=\"LS\"), \"LUMP\", OFFSET(#REF!, $AC68 - 1,0,1,1)),\"\"))","v":""},{"$f":"IF( $AC68 = 0, \"\", IF( OFFSET(#REF!, $AC68 - 1,0,1,1)<>0, IF(OR($AD68=\"LUMP\", $AD68=\"LS\"), \"LUMP\", OFFSET(#REF!, $AC68 - 1,0,1,1)),\"\"))","v":""},{"$f":"IF( $AC68 = 0, \"\", IF( OFFSET(#REF!, $AC68 - 1,0,1,1)<>0, IF(OR($AD68=\"LUMP\", $AD68=\"LS\"), \"LUMP\", OFFSET(#REF!, $AC68 - 1,0,1,1)),\"\"))","v":""},{"$f":"IF( $AC68 = 0, \"\", IF( OFFSET(#REF!, $AC68 - 1,0,1,1)<>0, IF(OR($AD68=\"LUMP\", $AD68=\"LS\"), \"LUMP\", OFFSET(#REF!, $AC68 - 1,0,1,1)),\"\"))","v":""},{"$f":"IF( $AC68 = 0, \"\", IF( OFFSET(#REF!, $AC68 - 1,0,1,1)<>0, IF(OR($AD68=\"LUMP\", $AD68=\"LS\"), \"LUMP\", OFFSET(#REF!, $AC68 - 1,0,1,1)),\"\"))","v":""},{"$f":"IF( $AC68 = 0, \"\", IF( OFFSET(#REF!, $AC68 - 1,0,1,1)<>0, IF(OR($AD68=\"LUMP\", $AD68=\"LS\"), \"LUMP\", OFFSET(#REF!, $AC68 - 1,0,1,1)),\"\"))","v":""},{"$f":"IF( $AC68 = 0, \"\", IF( OFFSET(#REF!, $AC68 - 1,0,1,1)<>0, IF(OR($AD68=\"LUMP\", $AD68=\"LS\"), \"LUMP\", OFFSET(#REF!, $AC68 - 1,0,1,1)),\"\"))","v":""},{"$f":"IF( $AC68 = 0, \"\", IF( OFFSET(#REF!, $AC68 - 1,0,1,1)<>0, IF(OR($AD68=\"LUMP\", $AD68=\"LS\"), \"LUMP\", OFFSET(#REF!, $AC68 - 1,0,1,1)),\"\"))","v":""},{"$f":"IF( $AC68 = 0, \"\", IF( OFFSET(#REF!, $AC68 - 1,0,1,1)<>0, IF(OR($AD68=\"LUMP\", $AD68=\"LS\"), \"LUMP\", OFFSET(#REF!, $AC68 - 1,0,1,1)),\"\"))","v":""},{"$f":"IF( $AC68 = 0, \"\", IF( OFFSET(#REF!, $AC68 - 1,0,1,1)<>0, IF(OR($AD68=\"LUMP\", $AD68=\"LS\"), \"LUMP\", OFFSET(#REF!, $AC68 - 1,0,1,1)),\"\"))","v":""},{"$f":"IF( $AC68 = 0, \"\", IF( OFFSET(#REF!, $AC68 - 1,0,1,1)<>0, IF(OR($AD68=\"LUMP\", $AD68=\"LS\"), \"LUMP\", OFFSET(#REF!, $AC68 - 1,0,1,1)),\"\"))","v":""},{"$f":"IF( $AC68 = 0, \"\", IF( OFFSET(#REF!, $AC68 - 1,0,1,1)<>0, IF(OR($AD68=\"LUMP\", $AD68=\"LS\"), \"LUMP\", OFFSET(#REF!, $AC68 - 1,0,1,1)),\"\"))","v":""},{"$f":"IF( $AC68 = 0, \"\", IF( OFFSET(#REF!, $AC68 - 1,0,1,1)<>0, IF(OR($AD68=\"LUMP\", $AD68=\"LS\"), \"LUMP\", OFFSET(#REF!, $AC68 - 1,0,1,1)),\"\"))","v":""},{"$f":"IF( $AC68 = 0, \"\", IF( OFFSET(#REF!, $AC68 - 1,0,1,1)<>0, IF(OR($AD68=\"LUMP\", $AD68=\"LS\"), \"LUMP\", OFFSET(#REF!, $AC68 - 1,0,1,1)),\"\"))","v":""},{"$f":"IF( $AC68 = 0, \"\", IF( OFFSET(#REF!, $AC68 - 1,0,1,1)<>0, IF(OR($AD68=\"LUMP\", $AD68=\"LS\"), \"LUMP\", OFFSET(#REF!, $AC68 - 1,0,1,1)),\"\"))","v":""},{"$f":"IF( $AC68 = 0, \"\", IF( OFFSET(#REF!, $AC68 - 1,0,1,1)<>0, IF(OR($AD68=\"LUMP\", $AD68=\"LS\"), \"LUMP\", OFFSET(#REF!, $AC68 - 1,0,1,1)),\"\"))","v":""},{"$f":"IF( $AC68 = 0, \"\", IF( OFFSET(#REF!, $AC68 - 1,0,1,1)<>0, LEFT(OFFSET(#REF!, $AC68 - 1,0,1,1),3),\"\"))","v":""},{"$f":"IF( $AC68 = 0, \"\", IF( OFFSET(#REF!, $AC68 - 1,0,1,1)<>0, IF(LEN(OFFSET(#REF!, $AC68 - 1,0,1,1))=9,   RIGHT(OFFSET(#REF!, $AC68 - 1,0,1,1),5),    LEFT(RIGHT(OFFSET(#REF!, $AC68 - 1,0,1,1),6), 5)      ),\"\"))","v":""},"",{"$f":"IF( $AC68 = 0, \"\", IF( OFFSET(#REF!, $AC68 - 1,0,1,1)<>0,IF(OR(AD68=\"LUMP\", AD68=\"LS\"), \"\", AD68),\"\"))","v":""},{"$f":"IF( $AC68 = 0, \"\", IF( OFFSET(#REF!, $AC68 - 1,0,1,1)<>0, VLOOKUP( OFFSET(#REF!, $AC68 - 1,0,1,1),[1]Items!$A$2:$E$10001,4,0),\"\"))","v":""},null,{"$f":"AA67+1","v":66},11,0,{"$f":"IF( $AC68 = 0, \"\", IF( OFFSET(#REF!, $AC68 - 1,0,1,1)<>0, VLOOKUP( OFFSET(#REF!, $AC68 - 1,0,1,1),[1]Items!$A$2:$E$10001,3,0),\"\"))","v":""}]
[{"$f":"IF( $AC69 = 0, \"\", IF( OFFSET(#REF!, $AC69 - 1,0,1,1)<>0, IF(OR($AD69=\"LUMP\", $AD69=\"LS\"), \"LUMP\", OFFSET(#REF!, $AC69 - 1,0,1,1)),\"\"))","v":{"$error":"#REF!"}},{"$f":"IF( $AC69 = 0, \"\", IF( OFFSET(#REF!, $AC69 - 1,0,1,1)<>0, IF(OR($AD69=\"LUMP\", $AD69=\"LS\"), \"LUMP\", OFFSET(#REF!, $AC69 - 1,0,1,1)),\"\"))","v":{"$error":"#REF!"}},{"$f":"IF( $AC69 = 0, \"\", IF( OFFSET(#REF!, $AC69 - 1,0,1,1)<>0, IF(OR($AD69=\"LUMP\", $AD69=\"LS\"), \"LUMP\", OFFSET(#REF!, $AC69 - 1,0,1,1)),\"\"))","v":{"$error":"#REF!"}},{"$f":"IF( $AC69 = 0, \"\", IF( OFFSET(#REF!, $AC69 - 1,0,1,1)<>0, IF(OR($AD69=\"LUMP\", $AD69=\"LS\"), \"LUMP\", OFFSET(#REF!, $AC69 - 1,0,1,1)),\"\"))","v":{"$error":"#REF!"}},{"$f":"IF( $AC69 = 0, \"\", IF( OFFSET(#REF!, $AC69 - 1,0,1,1)<>0, IF(OR($AD69=\"LUMP\", $AD69=\"LS\"), \"LUMP\", OFFSET(#REF!, $AC69 - 1,0,1,1)),\"\"))","v":{"$error":"#REF!"}},{"$f":"IF( $AC69 = 0, \"\", IF( OFFSET(#REF!, $AC69 - 1,0,1,1)<>0, IF(OR($AD69=\"LUMP\", $AD69=\"LS\"), \"LUMP\", OFFSET(#REF!, $AC69 - 1,0,1,1)),\"\"))","v":{"$error":"#REF!"}},{"$f":"IF( $AC69 = 0, \"\", IF( OFFSET(#REF!, $AC69 - 1,0,1,1)<>0, IF(OR($AD69=\"LUMP\", $AD69=\"LS\"), \"LUMP\", OFFSET(#REF!, $AC69 - 1,0,1,1)),\"\"))","v":{"$error":"#REF!"}},{"$f":"IF( $AC69 = 0, \"\", IF( OFFSET(#REF!, $AC69 - 1,0,1,1)<>0, IF(OR($AD69=\"LUMP\", $AD69=\"LS\"), \"LUMP\", OFFSET(#REF!, $AC69 - 1,0,1,1)),\"\"))","v":{"$error":"#REF!"}},{"$f":"IF( $AC69 = 0, \"\", IF( OFFSET(#REF!, $AC69 - 1,0,1,1)<>0, IF(OR($AD69=\"LUMP\", $AD69=\"LS\"), \"LUMP\", OFFSET(#REF!, $AC69 - 1,0,1,1)),\"\"))","v":{"$error":"#REF!"}},{"$f":"IF( $AC69 = 0, \"\", IF( OFFSET(#REF!, $AC69 - 1,0,1,1)<>0, IF(OR($AD69=\"LUMP\", $AD69=\"LS\"), \"LUMP\", OFFSET(#REF!, $AC69 - 1,0,1,1)),\"\"))","v":{"$error":"#REF!"}},{"$f":"IF( $AC69 = 0, \"\", IF( OFFSET(#REF!, $AC69 - 1,0,1,1)<>0, IF(OR($AD69=\"LUMP\", $AD69=\"LS\"), \"LUMP\", OFFSET(#REF!, $AC69 - 1,0,1,1)),\"\"))","v":{"$error":"#REF!"}},{"$f":"IF( $AC69 = 0, \"\", IF( OFFSET(#REF!, $AC69 - 1,0,1,1)<>0, IF(OR($AD69=\"LUMP\", $AD69=\"LS\"), \"LUMP\", OFFSET(#REF!, $AC69 - 1,0,1,1)),\"\"))","v":{"$error":"#REF!"}},{"$f":"IF( $AC69 = 0, \"\", IF( OFFSET(#REF!, $AC69 - 1,0,1,1)<>0, IF(OR($AD69=\"LUMP\", $AD69=\"LS\"), \"LUMP\", OFFSET(#REF!, $AC69 - 1,0,1,1)),\"\"))","v":{"$error":"#REF!"}},{"$f":"IF( $AC69 = 0, \"\", IF( OFFSET(#REF!, $AC69 - 1,0,1,1)<>0, IF(OR($AD69=\"LUMP\", $AD69=\"LS\"), \"LUMP\", OFFSET(#REF!, $AC69 - 1,0,1,1)),\"\"))","v":{"$error":"#REF!"}},{"$f":"IF( $AC69 = 0, \"\", IF( OFFSET(#REF!, $AC69 - 1,0,1,1)<>0, IF(OR($AD69=\"LUMP\", $AD69=\"LS\"), \"LUMP\", OFFSET(#REF!, $AC69 - 1,0,1,1)),\"\"))","v":{"$error":"#REF!"}},{"$f":"IF( $AC69 = 0, \"\", IF( OFFSET(#REF!, $AC69 - 1,0,1,1)<>0, IF(OR($AD69=\"LUMP\", $AD69=\"LS\"), \"LUMP\", OFFSET(#REF!, $AC69 - 1,0,1,1)),\"\"))","v":{"$error":"#REF!"}},{"$f":"IF( $AC69 = 0, \"\", IF( OFFSET(#REF!, $AC69 - 1,0,1,1)<>0, IF(OR($AD69=\"LUMP\", $AD69=\"LS\"), \"LUMP\", OFFSET(#REF!, $AC69 - 1,0,1,1)),\"\"))","v":{"$error":"#REF!"}},{"$f":"IF( $AC69 = 0, \"\", IF( OFFSET(#REF!, $AC69 - 1,0,1,1)<>0, IF(OR($AD69=\"LUMP\", $AD69=\"LS\"), \"LUMP\", OFFSET(#REF!, $AC69 - 1,0,1,1)),\"\"))","v":{"$error":"#REF!"}},{"$f":"IF( $AC69 = 0, \"\", IF( OFFSET(#REF!, $AC69 - 1,0,1,1)<>0, IF(OR($AD69=\"LUMP\", $AD69=\"LS\"), \"LUMP\", OFFSET(#REF!, $AC69 - 1,0,1,1)),\"\"))","v":{"$error":"#REF!"}},{"$f":"IF( $AC69 = 0, \"\", IF( OFFSET(#REF!, $AC69 - 1,0,1,1)<>0, IF(OR($AD69=\"LUMP\", $AD69=\"LS\"), \"LUMP\", OFFSET(#REF!, $AC69 - 1,0,1,1)),\"\"))","v":{"$error":"#REF!"}},{"$f":"IF( $AC69 = 0, \"\", IF( OFFSET(#REF!, $AC69 - 1,0,1,1)<>0, LEFT(OFFSET(#REF!, $AC69 - 1,0,1,1),3),\"\"))","v":{"$error":"#REF!"}},{"$f":"IF( $AC69 = 0, \"\", IF( OFFSET(#REF!, $AC69 - 1,0,1,1)<>0, IF(LEN(OFFSET(#REF!, $AC69 - 1,0,1,1))=9,   RIGHT(OFFSET(#REF!, $AC69 - 1,0,1,1),5),    LEFT(RIGHT(OFFSET(#REF!, $AC69 - 1,0,1,1),6), 5)      ),\"\"))","v":{"$error":"#REF!"}},{"$error":"#REF!"},{"$f":"IF( $AC69 = 0, \"\", IF( OFFSET(#REF!, $AC69 - 1,0,1,1)<>0,IF(OR(AD69=\"LUMP\", AD69=\"LS\"), \"\", AD69),\"\"))","v":{"$error":"#REF!"}},{"$f":"IF( $AC69 = 0, \"\", IF( OFFSET(#REF!, $AC69 - 1,0,1,1)<>0, VLOOKUP( OFFSET(#REF!, $AC69 - 1,0,1,1),[1]Items!$A$2:$E$10001,4,0),\"\"))","v":{"$error":"#REF!"}},null,67,11,56,{"$f":"IF( $AC69 = 0, \"\", IF( OFFSET(#REF!, $AC69 - 1,0,1,1)<>0, VLOOKUP( OFFSET(#REF!, $AC69 - 1,0,1,1),[1]Items!$A$2:$E$10001,3,0),\"\"))","v":{"$error":"#REF!"}}]
[{"$f":"IF( $AC70 = 0, \"\", IF( OFFSET(#REF!, $AC70 - 1,0,1,1)<>0, IF(OR($AD70=\"LUMP\", $AD70=\"LS\"), \"LUMP\", OFFSET(#REF!, $AC70 - 1,0,1,1)),\"\"))","v":{"$error":"#REF!"}},{"$f":"IF( $AC70 = 0, \"\", IF( OFFSET(#REF!, $AC70 - 1,0,1,1)<>0, IF(OR($AD70=\"LUMP\", $AD70=\"LS\"), \"LUMP\", OFFSET(#REF!, $AC70 - 1,0,1,1)),\"\"))","v":{"$error":"#REF!"}},{"$f":"IF( $AC70 = 0, \"\", IF( OFFSET(#REF!, $AC70 - 1,0,1,1)<>0, IF(OR($AD70=\"LUMP\", $AD70=\"LS\"), \"LUMP\", OFFSET(#REF!, $AC70 - 1,0,1,1)),\"\"))","v":{"$error":"#REF!"}},{"$f":"IF( $AC70 = 0, \"\", IF( OFFSET(#REF!, $AC70 - 1,0,1,1)<>0, IF(OR($AD70=\"LUMP\", $AD70=\"LS\"), \"LUMP\", OFFSET(#REF!, $AC70 - 1,0,1,1)),\"\"))","v":{"$error":"#REF!"}},{"$f":"IF( $AC70 = 0, \"\", IF( OFFSET(#REF!, $AC70 - 1,0,1,1)<>0, IF(OR($AD70=\"LUMP\", $AD70=\"LS\"), \"LUMP\", OFFSET(#REF!, $AC70 - 1,0,1,1)),\"\"))","v":{"$error":"#REF!"}},{"$f":"IF( $AC70 = 0, \"\", IF( OFFSET(#REF!, $AC70 - 1,0,1,1)<>0, IF(OR($AD70=\"LUMP\", $AD70=\"LS\"), \"LUMP\", OFFSET(#REF!, $AC70 - 1,0,1,1)),\"\"))","v":{"$error":"#REF!"}},{"$f":"IF( $AC70 = 0, \"\", IF( OFFSET(#REF!, $AC70 - 1,0,1,1)<>0, IF(OR($AD70=\"LUMP\", $AD70=\"LS\"), \"LUMP\", OFFSET(#REF!, $AC70 - 1,0,1,1)),\"\"))","v":{"$error":"#REF!"}},{"$f":"IF( $AC70 = 0, \"\", IF( OFFSET(#REF!, $AC70 - 1,0,1,1)<>0, IF(OR($AD70=\"LUMP\", $AD70=\"LS\"), \"LUMP\", OFFSET(#REF!, $AC70 - 1,0,1,1)),\"\"))","v":{"$error":"#REF!"}},{"$f":"IF( $AC70 = 0, \"\", IF( OFFSET(#REF!, $AC70 - 1,0,1,1)<>0, IF(OR($AD70=\"LUMP\", $AD70=\"LS\"), \"LUMP\", OFFSET(#REF!, $AC70 - 1,0,1,1)),\"\"))","v":{"$error":"#REF!"}},{"$f":"IF( $AC70 = 0, \"\", IF( OFFSET(#REF!, $AC70 - 1,0,1,1)<>0, IF(OR($AD70=\"LUMP\", $AD70=\"LS\"), \"LUMP\", OFFSET(#REF!, $AC70 - 1,0,1,1)),\"\"))","v":{"$error":"#REF!"}},{"$f":"IF( $AC70 = 0, \"\", IF( OFFSET(#REF!, $AC70 - 1,0,1,1)<>0, IF(OR($AD70=\"LUMP\", $AD70=\"LS\"), \"LUMP\", OFFSET(#REF!, $AC70 - 1,0,1,1)),\"\"))","v":{"$error":"#REF!"}},{"$f":"IF( $AC70 = 0, \"\", IF( OFFSET(#REF!, $AC70 - 1,0,1,1)<>0, IF(OR($AD70=\"LUMP\", $AD70=\"LS\"), \"LUMP\", OFFSET(#REF!, $AC70 - 1,0,1,1)),\"\"))","v":{"$error":"#REF!"}},{"$f":"IF( $AC70 = 0, \"\", IF( OFFSET(#REF!, $AC70 - 1,0,1,1)<>0, IF(OR($AD70=\"LUMP\", $AD70=\"LS\"), \"LUMP\", OFFSET(#REF!, $AC70 - 1,0,1,1)),\"\"))","v":{"$error":"#REF!"}},{"$f":"IF( $AC70 = 0, \"\", IF( OFFSET(#REF!, $AC70 - 1,0,1,1)<>0, IF(OR($AD70=\"LUMP\", $AD70=\"LS\"), \"LUMP\", OFFSET(#REF!, $AC70 - 1,0,1,1)),\"\"))","v":{"$error":"#REF!"}},{"$f":"IF( $AC70 = 0, \"\", IF( OFFSET(#REF!, $AC70 - 1,0,1,1)<>0, IF(OR($AD70=\"LUMP\", $AD70=\"LS\"), \"LUMP\", OFFSET(#REF!, $AC70 - 1,0,1,1)),\"\"))","v":{"$error":"#REF!"}},{"$f":"IF( $AC70 = 0, \"\", IF( OFFSET(#REF!, $AC70 - 1,0,1,1)<>0, IF(OR($AD70=\"LUMP\", $AD70=\"LS\"), \"LUMP\", OFFSET(#REF!, $AC70 - 1,0,1,1)),\"\"))","v":{"$error":"#REF!"}},{"$f":"IF( $AC70 = 0, \"\", IF( OFFSET(#REF!, $AC70 - 1,0,1,1)<>0, IF(OR($AD70=\"LUMP\", $AD70=\"LS\"), \"LUMP\", OFFSET(#REF!, $AC70 - 1,0,1,1)),\"\"))","v":{"$error":"#REF!"}},{"$f":"IF( $AC70 = 0, \"\", IF( OFFSET(#REF!, $AC70 - 1,0,1,1)<>0, IF(OR($AD70=\"LUMP\", $AD70=\"LS\"), \"LUMP\", OFFSET(#REF!, $AC70 - 1,0,1,1)),\"\"))","v":{"$error":"#REF!"}},{"$f":"IF( $AC70 = 0, \"\", IF( OFFSET(#REF!, $AC70 - 1,0,1,1)<>0, IF(OR($AD70=\"LUMP\", $AD70=\"LS\"), \"LUMP\", OFFSET(#REF!, $AC70 - 1,0,1,1)),\"\"))","v":{"$error":"#REF!"}},{"$f":"IF( $AC70 = 0, \"\", IF( OFFSET(#REF!, $AC70 - 1,0,1,1)<>0, IF(OR($AD70=\"LUMP\", $AD70=\"LS\"), \"LUMP\", OFFSET(#REF!, $AC70 - 1,0,1,1)),\"\"))","v":{"$error":"#REF!"}},{"$f":"IF( $AC70 = 0, \"\", IF( OFFSET(#REF!, $AC70 - 1,0,1,1)<>0, LEFT(OFFSET(#REF!, $AC70 - 1,0,1,1),3),\"\"))","v":{"$error":"#REF!"}},{"$f":"IF( $AC70 = 0, \"\", IF( OFFSET(#REF!, $AC70 - 1,0,1,1)<>0, IF(LEN(OFFSET(#REF!, $AC70 - 1,0,1,1))=9,   RIGHT(OFFSET(#REF!, $AC70 - 1,0,1,1),5),    LEFT(RIGHT(OFFSET(#REF!, $AC70 - 1,0,1,1),6), 5)      ),\"\"))","v":{"$error":"#REF!"}},{"$f":"IF(SUM(A70:T70)<>0,SUM(A70:T70),IF(OR(AD70=\"LUMP\", AD70=\"LS\"), \"LUMP\", \"\"))","v":{"$error":"#REF!"}},{"$f":"IF( $AC70 = 0, \"\", IF( OFFSET(#REF!, $AC70 - 1,0,1,1)<>0,IF(OR(AD70=\"LUMP\", AD70=\"LS\"), \"\", AD70),\"\"))","v":{"$error":"#REF!"}},{"$f":"IF( $AC70 = 0, \"\", IF( OFFSET(#REF!, $AC70 - 1,0,1,1)<>0, VLOOKUP( OFFSET(#REF!, $AC70 - 1,0,1,1),[1]Items!$A$2:$E$10001,4,0),\"\"))","v":{"$error":"#REF!"}},null,68,11,57,{"$f":"IF( $AC70 = 0, \"\", IF( OFFSET(#REF!, $AC70 - 1,0,1,1)<>0, VLOOKUP( OFFSET(#REF!, $AC70 - 1,0,1,1),[1]Items!$A$2:$E$10001,3,0),\"\"))","v":{"$error":"#REF!"}}]
[{"$f":"IF( $AC71 = 0, \"\", IF( OFFSET(#REF!, $AC71 - 1,0,1,1)<>0, IF(OR($AD71=\"LUMP\", $AD71=\"LS\"), \"LUMP\", OFFSET(#REF!, $AC71 - 1,0,1,1)),\"\"))","v":{"$error":"#REF!"}},{"$f":"IF( $AC71 = 0, \"\", IF( OFFSET(#REF!, $AC71 - 1,0,1,1)<>0, IF(OR($AD71=\"LUMP\", $AD71=\"LS\"), \"LUMP\", OFFSET(#REF!, $AC71 - 1,0,1,1)),\"\"))","v":{"$error":"#REF!"}},{"$f":"IF( $AC71 = 0, \"\", IF( OFFSET(#REF!, $AC71 - 1,0,1,1)<>0, IF(OR($AD71=\"LUMP\", $AD71=\"LS\"), \"LUMP\", OFFSET(#REF!, $AC71 - 1,0,1,1)),\"\"))","v":{"$error":"#REF!"}},{"$f":"IF( $AC71 = 0, \"\", IF( OFFSET(#REF!, $AC71 - 1,0,1,1)<>0, IF(OR($AD71=\"LUMP\", $AD71=\"LS\"), \"LUMP\", OFFSET(#REF!, $AC71 - 1,0,1,1)),\"\"))","v":{"$error":"#REF!"}},{"$f":"IF( $AC71 = 0, \"\", IF( OFFSET(#REF!, $AC71 - 1,0,1,1)<>0, IF(OR($AD71=\"LUMP\", $AD71=\"LS\"), \"LUMP\", OFFSET(#REF!, $AC71 - 1,0,1,1)),\"\"))","v":{"$error":"#REF!"}},{"$f":"IF( $AC71 = 0, \"\", IF( OFFSET(#REF!, $AC71 - 1,0,1,1)<>0, IF(OR($AD71=\"LUMP\", $AD71=\"LS\"), \"LUMP\", OFFSET(#REF!, $AC71 - 1,0,1,1)),\"\"))","v":{"$error":"#REF!"}},{"$f":"IF( $AC71 = 0, \"\", IF( OFFSET(#REF!, $AC71 - 1,0,1,1)<>0, IF(OR($AD71=\"LUMP\", $AD71=\"LS\"), \"LUMP\", OFFSET(#REF!, $AC71 - 1,0,1,1)),\"\"))","v":{"$error":"#REF!"}},{"$f":"IF( $AC71 = 0, \"\", IF( OFFSET(#REF!, $AC71 - 1,0,1,1)<>0, IF(OR($AD71=\"LUMP\", $AD71=\"LS\"), \"LUMP\", OFFSET(#REF!, $AC71 - 1,0,1,1)),\"\"))","v":{"$error":"#REF!"}},{"$f":"IF( $AC71 = 0, \"\", IF( OFFSET(#REF!, $AC71 - 1,0,1,1)<>0, IF(OR($AD71=\"LUMP\", $AD71=\"LS\"), \"LUMP\", OFFSET(#REF!, $AC71 - 1,0,1,1)),\"\"))","v":{"$error":"#REF!"}},{"$f":"IF( $AC71 = 0, \"\", IF( OFFSET(#REF!, $AC71 - 1,0,1,1)<>0, IF(OR($AD71=\"LUMP\", $AD71=\"LS\"), \"LUMP\", OFFSET(#REF!, $AC71 - 1,0,1,1)),\"\"))","v":{"$error":"#REF!"}},{"$f":"IF( $AC71 = 0, \"\", IF( OFFSET(#REF!, $AC71 - 1,0,1,1)<>0, IF(OR($AD71=\"LUMP\", $AD71=\"LS\"), \"LUMP\", OFFSET(#REF!, $AC71 - 1,0,1,1)),\"\"))","v":{"$error":"#REF!"}},{"$f":"IF( $AC71 = 0, \"\", IF( OFFSET(#REF!, $AC71 - 1,0,1,1)<>0, IF(OR($AD71=\"LUMP\", $AD71=\"LS\"), \"LUMP\", OFFSET(#REF!, $AC71 - 1,0,1,1)),\"\"))","v":{"$error":"#REF!"}},{"$f":"IF( $AC71 = 0, \"\", IF( OFFSET(#REF!, $AC71 - 1,0,1,1)<>0, IF(OR($AD71=\"LUMP\", $AD71=\"LS\"), \"LUMP\", OFFSET(#REF!, $AC71 - 1,0,1,1)),\"\"))","v":{"$error":"#REF!"}},{"$f":"IF( $AC71 = 0, \"\", IF( OFFSET(#REF!, $AC71 - 1,0,1,1)<>0, IF(OR($AD71=\"LUMP\", $AD71=\"LS\"), \"LUMP\", OFFSET(#REF!, $AC71 - 1,0,1,1)),\"\"))","v":{"$error":"#REF!"}},{"$f":"IF( $AC71 = 0, \"\", IF( OFFSET(#REF!, $AC71 - 1,0,1,1)<>0, IF(OR($AD71=\"LUMP\", $AD71=\"LS\"), \"LUMP\", OFFSET(#REF!, $AC71 - 1,0,1,1)),\"\"))","v":{"$error":"#REF!"}},{"$f":"IF( $AC71 = 0, \"\", IF( OFFSET(#REF!, $AC71 - 1,0,1,1)<>0, IF(OR($AD71=\"LUMP\", $AD71=\"LS\"), \"LUMP\", OFFSET(#REF!, $AC71 - 1,0,1,1)),\"\"))","v":{"$error":"#REF!"}},{"$f":"IF( $AC71 = 0, \"\", IF( OFFSET(#REF!, $AC71 - 1,0,1,1)<>0, IF(OR($AD71=\"LUMP\", $AD71=\"LS\"), \"LUMP\", OFFSET(#REF!, $AC71 - 1,0,1,1)),\"\"))","v":{"$error":"#REF!"}},{"$f":"IF( $AC71 = 0, \"\", IF( OFFSET(#REF!, $AC71 - 1,0,1,1)<>0, IF(OR($AD71=\"LUMP\", $AD71=\"LS\"), \"LUMP\", OFFSET(#REF!, $AC71 - 1,0,1,1)),\"\"))","v":{"$error":"#REF!"}},{"$f":"IF( $AC71 = 0, \"\", IF( OFFSET(#REF!, $AC71 - 1,0,1,1)<>0, IF(OR($AD71=\"LUMP\", $AD71=\"LS\"), \"LUMP\", OFFSET(#REF!, $AC71 - 1,0,1,1)),\"\"))","v":{"$error":"#REF!"}},{"$f":"IF( $AC71 = 0, \"\", IF( OFFSET(#REF!, $AC71 - 1,0,1,1)<>0, IF(OR($AD71=\"LUMP\", $AD71=\"LS\"), \"LUMP\", OFFSET(#REF!, $AC71 - 1,0,1,1)),\"\"))","v":{"$error":"#REF!"}},{"$f":"IF( $AC71 = 0, \"\", IF( OFFSET(#REF!, $AC71 - 1,0,1,1)<>0, LEFT(OFFSET(#REF!, $AC71 - 1,0,1,1),3),\"\"))","v":{"$error":"#REF!"}},{"$f":"IF( $AC71 = 0, \"\", IF( OFFSET(#REF!, $AC71 - 1,0,1,1)<>0, IF(LEN(OFFSET(#REF!, $AC71 - 1,0,1,1))=9,   RIGHT(OFFSET(#REF!, $AC71 - 1,0,1,1),5),    LEFT(RIGHT(OFFSET(#REF!, $AC71 - 1,0,1,1),6), 5)      ),\"\"))","v":{"$error":"#REF!"}},{"$f":"IF(SUM(A71:T71)<>0,SUM(A71:T71),IF(OR(AD71=\"LUMP\", AD71=\"LS\"), \"LUMP\", \"\"))","v":{"$error":"#REF!"}},{"$f":"IF( $AC71 = 0, \"\", IF( OFFSET(#REF!, $AC71 - 1,0,1,1)<>0,IF(OR(AD71=\"LUMP\", AD71=\"LS\"), \"\", AD71),\"\"))","v":{"$error":"#REF!"}},{"$f":"IF( $AC71 = 0, \"\", IF( OFFSET(#REF!, $AC71 - 1,0,1,1)<>0, VLOOKUP( OFFSET(#REF!, $AC71 - 1,0,1,1),[1]Items!$A$2:$E$10001,4,0),\"\"))","v":{"$error":"#REF!"}},null,69,11,58,{"$f":"IF( $AC71 = 0, \"\", IF( OFFSET(#REF!, $AC71 - 1,0,1,1)<>0, VLOOKUP( OFFSET(#REF!, $AC71 - 1,0,1,1),[1]Items!$A$2:$E$10001,3,0),\"\"))","v":{"$error":"#REF!"}}]
[{"$f":"IF( $AC72 = 0, \"\", IF( OFFSET(#REF!, $AC72 - 1,0,1,1)<>0, IF(OR($AD72=\"LUMP\", $AD72=\"LS\"), \"LUMP\", OFFSET(#REF!, $AC72 - 1,0,1,1)),\"\"))","v":{"$error":"#REF!"}},{"$f":"IF( $AC72 = 0, \"\", IF( OFFSET(#REF!, $AC72 - 1,0,1,1)<>0, IF(OR($AD72=\"LUMP\", $AD72=\"LS\"), \"LUMP\", OFFSET(#REF!, $AC72 - 1,0,1,1)),\"\"))","v":{"$error":"#REF!"}},{"$f":"IF( $AC72 = 0, \"\", IF( OFFSET(#REF!, $AC72 - 1,0,1,1)<>0, IF(OR($AD72=\"LUMP\", $AD72=\"LS\"), \"LUMP\", OFFSET(#REF!, $AC72 - 1,0,1,1)),\"\"))","v":{"$error":"#REF!"}},{"$f":"IF( $AC72 = 0, \"\", IF( OFFSET(#REF!, $AC72 - 1,0,1,1)<>0, IF(OR($AD72=\"LUMP\", $AD72=\"LS\"), \"LUMP\", OFFSET(#REF!, $AC72 - 1,0,1,1)),\"\"))","v":{"$error":"#REF!"}},{"$f":"IF( $AC72 = 0, \"\", IF( OFFSET(#REF!, $AC72 - 1,0,1,1)<>0, IF(OR($AD72=\"LUMP\", $AD72=\"LS\"), \"LUMP\", OFFSET(#REF!, $AC72 - 1,0,1,1)),\"\"))","v":{"$error":"#REF!"}},{"$f":"IF( $AC72 = 0, \"\", IF( OFFSET(#REF!, $AC72 - 1,0,1,1)<>0, IF(OR($AD72=\"LUMP\", $AD72=\"LS\"), \"LUMP\", OFFSET(#REF!, $AC72 - 1,0,1,1)),\"\"))","v":{"$error":"#REF!"}},{"$f":"IF( $AC72 = 0, \"\", IF( OFFSET(#REF!, $AC72 - 1,0,1,1)<>0, IF(OR($AD72=\"LUMP\", $AD72=\"LS\"), \"LUMP\", OFFSET(#REF!, $AC72 - 1,0,1,1)),\"\"))","v":{"$error":"#REF!"}},{"$f":"IF( $AC72 = 0, \"\", IF( OFFSET(#REF!, $AC72 - 1,0,1,1)<>0, IF(OR($AD72=\"LUMP\", $AD72=\"LS\"), \"LUMP\", OFFSET(#REF!, $AC72 - 1,0,1,1)),\"\"))","v":{"$error":"#REF!"}},{"$f":"IF( $AC72 = 0, \"\", IF( OFFSET(#REF!, $AC72 - 1,0,1,1)<>0, IF(OR($AD72=\"LUMP\", $AD72=\"LS\"), \"LUMP\", OFFSET(#REF!, $AC72 - 1,0,1,1)),\"\"))","v":{"$error":"#REF!"}},{"$f":"IF( $AC72 = 0, \"\", IF( OFFSET(#REF!, $AC72 - 1,0,1,1)<>0, IF(OR($AD72=\"LUMP\", $AD72=\"LS\"), \"LUMP\", OFFSET(#REF!, $AC72 - 1,0,1,1)),\"\"))","v":{"$error":"#REF!"}},{"$f":"IF( $AC72 = 0, \"\", IF( OFFSET(#REF!, $AC72 - 1,0,1,1)<>0, IF(OR($AD72=\"LUMP\", $AD72=\"LS\"), \"LUMP\", OFFSET(#REF!, $AC72 - 1,0,1,1)),\"\"))","v":{"$error":"#REF!"}},{"$f":"IF( $AC72 = 0, \"\", IF( OFFSET(#REF!, $AC72 - 1,0,1,1)<>0, IF(OR($AD72=\"LUMP\", $AD72=\"LS\"), \"LUMP\", OFFSET(#REF!, $AC72 - 1,0,1,1)),\"\"))","v":{"$error":"#REF!"}},{"$f":"IF( $AC72 = 0, \"\", IF( OFFSET(#REF!, $AC72 - 1,0,1,1)<>0, IF(OR($AD72=\"LUMP\", $AD72=\"LS\"), \"LUMP\", OFFSET(#REF!, $AC72 - 1,0,1,1)),\"\"))","v":{"$error":"#REF!"}},{"$f":"IF( $AC72 = 0, \"\", IF( OFFSET(#REF!, $AC72 - 1,0,1,1)<>0, IF(OR($AD72=\"LUMP\", $AD72=\"LS\"), \"LUMP\", OFFSET(#REF!, $AC72 - 1,0,1,1)),\"\"))","v":{"$error":"#REF!"}},{"$f":"IF( $AC72 = 0, \"\", IF( OFFSET(#REF!, $AC72 - 1,0,1,1)<>0, IF(OR($AD72=\"LUMP\", $AD72=\"LS\"), \"LUMP\", OFFSET(#REF!, $AC72 - 1,0,1,1)),\"\"))","v":{"$error":"#REF!"}},{"$f":"IF( $AC72 = 0, \"\", IF( OFFSET(#REF!, $AC72 - 1,0,1,1)<>0, IF(OR($AD72=\"LUMP\", $AD72=\"LS\"), \"LUMP\", OFFSET(#REF!, $AC72 - 1,0,1,1)),\"\"))","v":{"$error":"#REF!"}},{"$f":"IF( $AC72 = 0, \"\", IF( OFFSET(#REF!, $AC72 - 1,0,1,1)<>0, IF(OR($AD72=\"LUMP\", $AD72=\"LS\"), \"LUMP\", OFFSET(#REF!, $AC72 - 1,0,1,1)),\"\"))","v":{"$error":"#REF!"}},{"$f":"IF( $AC72 = 0, \"\", IF( OFFSET(#REF!, $AC72 - 1,0,1,1)<>0, IF(OR($AD72=\"LUMP\", $AD72=\"LS\"), \"LUMP\", OFFSET(#REF!, $AC72 - 1,0,1,1)),\"\"))","v":{"$error":"#REF!"}},{"$f":"IF( $AC72 = 0, \"\", IF( OFFSET(#REF!, $AC72 - 1,0,1,1)<>0, IF(OR($AD72=\"LUMP\", $AD72=\"LS\"), \"LUMP\", OFFSET(#REF!, $AC72 - 1,0,1,1)),\"\"))","v":{"$error":"#REF!"}},{"$f":"IF( $AC72 = 0, \"\", IF( OFFSET(#REF!, $AC72 - 1,0,1,1)<>0, IF(OR($AD72=\"LUMP\", $AD72=\"LS\"), \"LUMP\", OFFSET(#REF!, $AC72 - 1,0,1,1)),\"\"))","v":{"$error":"#REF!"}},{"$f":"IF( $AC72 = 0, \"\", IF( OFFSET(#REF!, $AC72 - 1,0,1,1)<>0, LEFT(OFFSET(#REF!, $AC72 - 1,0,1,1),3),\"\"))","v":{"$error":"#REF!"}},{"$f":"IF( $AC72 = 0, \"\", IF( OFFSET(#REF!, $AC72 - 1,0,1,1)<>0, IF(LEN(OFFSET(#REF!, $AC72 - 1,0,1,1))=9,   RIGHT(OFFSET(#REF!, $AC72 - 1,0,1,1),5),    LEFT(RIGHT(OFFSET(#REF!, $AC72 - 1,0,1,1),6), 5)      ),\"\"))","v":{"$error":"#REF!"}},{"$f":"IF(SUM(A72:T72)<>0,SUM(A72:T72),IF(OR(AD72=\"LUMP\", AD72=\"LS\"), \"LUMP\", \"\"))","v":{"$error":"#REF!"}},{"$f":"IF( $AC72 = 0, \"\", IF( OFFSET(#REF!, $AC72 - 1,0,1,1)<>0,IF(OR(AD72=\"LUMP\", AD72=\"LS\"), \"\", AD72),\"\"))","v":{"$error":"#REF!"}},{"$f":"IF( $AC72 = 0, \"\", IF( OFFSET(#REF!, $AC72 - 1,0,1,1)<>0, VLOOKUP( OFFSET(#REF!, $AC72 - 1,0,1,1),[1]Items!$A$2:$E$10001,4,0),\"\"))","v":{"$error":"#REF!"}},null,70,11,59,{"$f":"IF( $AC72 = 0, \"\", IF( OFFSET(#REF!, $AC72 - 1,0,1,1)<>0, VLOOKUP( OFFSET(#REF!, $AC72 - 1,0,1,1),[1]Items!$A$2:$E$10001,3,0),\"\"))","v":{"$error":"#REF!"}}]
[{"$f":"IF( $AC73 = 0, \"\", IF( OFFSET(#REF!, $AC73 - 1,0,1,1)<>0, IF(OR($AD73=\"LUMP\", $AD73=\"LS\"), \"LUMP\", OFFSET(#REF!, $AC73 - 1,0,1,1)),\"\"))","v":{"$error":"#REF!"}},{"$f":"IF( $AC73 = 0, \"\", IF( OFFSET(#REF!, $AC73 - 1,0,1,1)<>0, IF(OR($AD73=\"LUMP\", $AD73=\"LS\"), \"LUMP\", OFFSET(#REF!, $AC73 - 1,0,1,1)),\"\"))","v":{"$error":"#REF!"}},{"$f":"IF( $AC73 = 0, \"\", IF( OFFSET(#REF!, $AC73 - 1,0,1,1)<>0, IF(OR($AD73=\"LUMP\", $AD73=\"LS\"), \"LUMP\", OFFSET(#REF!, $AC73 - 1,0,1,1)),\"\"))","v":{"$error":"#REF!"}},{"$f":"IF( $AC73 = 0, \"\", IF( OFFSET(#REF!, $AC73 - 1,0,1,1)<>0, IF(OR($AD73=\"LUMP\", $AD73=\"LS\"), \"LUMP\", OFFSET(#REF!, $AC73 - 1,0,1,1)),\"\"))","v":{"$error":"#REF!"}},{"$f":"IF( $AC73 = 0, \"\", IF( OFFSET(#REF!, $AC73 - 1,0,1,1)<>0, IF(OR($AD73=\"LUMP\", $AD73=\"LS\"), \"LUMP\", OFFSET(#REF!, $AC73 - 1,0,1,1)),\"\"))","v":{"$error":"#REF!"}},{"$f":"IF( $AC73 = 0, \"\", IF( OFFSET(#REF!, $AC73 - 1,0,1,1)<>0, IF(OR($AD73=\"LUMP\", $AD73=\"LS\"), \"LUMP\", OFFSET(#REF!, $AC73 - 1,0,1,1)),\"\"))","v":{"$error":"#REF!"}},{"$f":"IF( $AC73 = 0, \"\", IF( OFFSET(#REF!, $AC73 - 1,0,1,1)<>0, IF(OR($AD73=\"LUMP\", $AD73=\"LS\"), \"LUMP\", OFFSET(#REF!, $AC73 - 1,0,1,1)),\"\"))","v":{"$error":"#REF!"}},{"$f":"IF( $AC73 = 0, \"\", IF( OFFSET(#REF!, $AC73 - 1,0,1,1)<>0, IF(OR($AD73=\"LUMP\", $AD73=\"LS\"), \"LUMP\", OFFSET(#REF!, $AC73 - 1,0,1,1)),\"\"))","v":{"$error":"#REF!"}},{"$f":"IF( $AC73 = 0, \"\", IF( OFFSET(#REF!, $AC73 - 1,0,1,1)<>0, IF(OR($AD73=\"LUMP\", $AD73=\"LS\"), \"LUMP\", OFFSET(#REF!, $AC73 - 1,0,1,1)),\"\"))","v":{"$error":"#REF!"}},{"$f":"IF( $AC73 = 0, \"\", IF( OFFSET(#REF!, $AC73 - 1,0,1,1)<>0, IF(OR($AD73=\"LUMP\", $AD73=\"LS\"), \"LUMP\", OFFSET(#REF!, $AC73 - 1,0,1,1)),\"\"))","v":{"$error":"#REF!"}},{"$f":"IF( $AC73 = 0, \"\", IF( OFFSET(#REF!, $AC73 - 1,0,1,1)<>0, IF(OR($AD73=\"LUMP\", $AD73=\"LS\"), \"LUMP\", OFFSET(#REF!, $AC73 - 1,0,1,1)),\"\"))","v":{"$error":"#REF!"}},{"$f":"IF( $AC73 = 0, \"\", IF( OFFSET(#REF!, $AC73 - 1,0,1,1)<>0, IF(OR($AD73=\"LUMP\", $AD73=\"LS\"), \"LUMP\", OFFSET(#REF!, $AC73 - 1,0,1,1)),\"\"))","v":{"$error":"#REF!"}},{"$f":"IF( $AC73 = 0, \"\", IF( OFFSET(#REF!, $AC73 - 1,0,1,1)<>0, IF(OR($AD73=\"LUMP\", $AD73=\"LS\"), \"LUMP\", OFFSET(#REF!, $AC73 - 1,0,1,1)),\"\"))","v":{"$error":"#REF!"}},{"$f":"IF( $AC73 = 0, \"\", IF( OFFSET(#REF!, $AC73 - 1,0,1,1)<>0, IF(OR($AD73=\"LUMP\", $AD73=\"LS\"), \"LUMP\", OFFSET(#REF!, $AC73 - 1,0,1,1)),\"\"))","v":{"$error":"#REF!"}},{"$f":"IF( $AC73 = 0, \"\", IF( OFFSET(#REF!, $AC73 - 1,0,1,1)<>0, IF(OR($AD73=\"LUMP\", $AD73=\"LS\"), \"LUMP\", OFFSET(#REF!, $AC73 - 1,0,1,1)),\"\"))","v":{"$error":"#REF!"}},{"$f":"IF( $AC73 = 0, \"\", IF( OFFSET(#REF!, $AC73 - 1,0,1,1)<>0, IF(OR($AD73=\"LUMP\", $AD73=\"LS\"), \"LUMP\", OFFSET(#REF!, $AC73 - 1,0,1,1)),\"\"))","v":{"$error":"#REF!"}},{"$f":"IF( $AC73 = 0, \"\", IF( OFFSET(#REF!, $AC73 - 1,0,1,1)<>0, IF(OR($AD73=\"LUMP\", $AD73=\"LS\"), \"LUMP\", OFFSET(#REF!, $AC73 - 1,0,1,1)),\"\"))","v":{"$error":"#REF!"}},{"$f":"IF( $AC73 = 0, \"\", IF( OFFSET(#REF!, $AC73 - 1,0,1,1)<>0, IF(OR($AD73=\"LUMP\", $AD73=\"LS\"), \"LUMP\", OFFSET(#REF!, $AC73 - 1,0,1,1)),\"\"))","v":{"$error":"#REF!"}},{"$f":"IF( $AC73 = 0, \"\", IF( OFFSET(#REF!, $AC73 - 1,0,1,1)<>0, IF(OR($AD73=\"LUMP\", $AD73=\"LS\"), \"LUMP\", OFFSET(#REF!, $AC73 - 1,0,1,1)),\"\"))","v":{"$error":"#REF!"}},{"$f":"IF( $AC73 = 0, \"\", IF( OFFSET(#REF!, $AC73 - 1,0,1,1)<>0, IF(OR($AD73=\"LUMP\", $AD73=\"LS\"), \"LUMP\", OFFSET(#REF!, $AC73 - 1,0,1,1)),\"\"))","v":{"$error":"#REF!"}},{"$f":"IF( $AC73 = 0, \"\", IF( OFFSET(#REF!, $AC73 - 1,0,1,1)<>0, LEFT(OFFSET(#REF!, $AC73 - 1,0,1,1),3),\"\"))","v":{"$error":"#REF!"}},{"$f":"IF( $AC73 = 0, \"\", IF( OFFSET(#REF!, $AC73 - 1,0,1,1)<>0, IF(LEN(OFFSET(#REF!, $AC73 - 1,0,1,1))=9,   RIGHT(OFFSET(#REF!, $AC73 - 1,0,1,1),5),    LEFT(RIGHT(OFFSET(#REF!, $AC73 - 1,0,1,1),6), 5)      ),\"\"))","v":{"$error":"#REF!"}},{"$f":"IF(SUM(A73:T73)<>0,SUM(A73:T73),IF(OR(AD73=\"LUMP\", AD73=\"LS\"), \"LUMP\", \"\"))","v":{"$error":"#REF!"}},{"$f":"IF( $AC73 = 0, \"\", IF( OFFSET(#REF!, $AC73 - 1,0,1,1)<>0,IF(OR(AD73=\"LUMP\", AD73=\"LS\"), \"\", AD73),\"\"))","v":{"$error":"#REF!"}},{"$f":"IF( $AC73 = 0, \"\", IF( OFFSET(#REF!, $AC73 - 1,0,1,1)<>0, VLOOKUP( OFFSET(#REF!, $AC73 - 1,0,1,1),[1]Items!$A$2:$E$10001,4,0),\"\"))","v":{"$error":"#REF!"}},null,71,11,60,{"$f":"IF( $AC73 = 0, \"\", IF( OFFSET(#REF!, $AC73 - 1,0,1,1)<>0, VLOOKUP( OFFSET(#REF!, $AC73 - 1,0,1,1),[1]Items!$A$2:$E$10001,3,0),\"\"))","v":{"$error":"#REF!"}}]
[{"$f":"IF( $AC74 = 0, \"\", IF( OFFSET(#REF!, $AC74 - 1,0,1,1)<>0, IF(OR($AD74=\"LUMP\", $AD74=\"LS\"), \"LUMP\", OFFSET(#REF!, $AC74 - 1,0,1,1)),\"\"))","v":""},{"$f":"IF( $AC74 = 0, \"\", IF( OFFSET(#REF!, $AC74 - 1,0,1,1)<>0, IF(OR($AD74=\"LUMP\", $AD74=\"LS\"), \"LUMP\", OFFSET(#REF!, $AC74 - 1,0,1,1)),\"\"))","v":""},{"$f":"IF( $AC74 = 0, \"\", IF( OFFSET(#REF!, $AC74 - 1,0,1,1)<>0, IF(OR($AD74=\"LUMP\", $AD74=\"LS\"), \"LUMP\", OFFSET(#REF!, $AC74 - 1,0,1,1)),\"\"))","v":""},{"$f":"IF( $AC74 = 0, \"\", IF( OFFSET(#REF!, $AC74 - 1,0,1,1)<>0, IF(OR($AD74=\"LUMP\", $AD74=\"LS\"), \"LUMP\", OFFSET(#REF!, $AC74 - 1,0,1,1)),\"\"))","v":""},{"$f":"IF( $AC74 = 0, \"\", IF( OFFSET(#REF!, $AC74 - 1,0,1,1)<>0, IF(OR($AD74=\"LUMP\", $AD74=\"LS\"), \"LUMP\", OFFSET(#REF!, $AC74 - 1,0,1,1)),\"\"))","v":""},{"$f":"IF( $AC74 = 0, \"\", IF( OFFSET(#REF!, $AC74 - 1,0,1,1)<>0, IF(OR($AD74=\"LUMP\", $AD74=\"LS\"), \"LUMP\", OFFSET(#REF!, $AC74 - 1,0,1,1)),\"\"))","v":""},{"$f":"IF( $AC74 = 0, \"\", IF( OFFSET(#REF!, $AC74 - 1,0,1,1)<>0, IF(OR($AD74=\"LUMP\", $AD74=\"LS\"), \"LUMP\", OFFSET(#REF!, $AC74 - 1,0,1,1)),\"\"))","v":""},{"$f":"IF( $AC74 = 0, \"\", IF( OFFSET(#REF!, $AC74 - 1,0,1,1)<>0, IF(OR($AD74=\"LUMP\", $AD74=\"LS\"), \"LUMP\", OFFSET(#REF!, $AC74 - 1,0,1,1)),\"\"))","v":""},{"$f":"IF( $AC74 = 0, \"\", IF( OFFSET(#REF!, $AC74 - 1,0,1,1)<>0, IF(OR($AD74=\"LUMP\", $AD74=\"LS\"), \"LUMP\", OFFSET(#REF!, $AC74 - 1,0,1,1)),\"\"))","v":""},{"$f":"IF( $AC74 = 0, \"\", IF( OFFSET(#REF!, $AC74 - 1,0,1,1)<>0, IF(OR($AD74=\"LUMP\", $AD74=\"LS\"), \"LUMP\", OFFSET(#REF!, $AC74 - 1,0,1,1)),\"\"))","v":""},{"$f":"IF( $AC74 = 0, \"\", IF( OFFSET(#REF!, $AC74 - 1,0,1,1)<>0, IF(OR($AD74=\"LUMP\", $AD74=\"LS\"), \"LUMP\", OFFSET(#REF!, $AC74 - 1,0,1,1)),\"\"))","v":""},{"$f":"IF( $AC74 = 0, \"\", IF( OFFSET(#REF!, $AC74 - 1,0,1,1)<>0, IF(OR($AD74=\"LUMP\", $AD74=\"LS\"), \"LUMP\", OFFSET(#REF!, $AC74 - 1,0,1,1)),\"\"))","v":""},{"$f":"IF( $AC74 = 0, \"\", IF( OFFSET(#REF!, $AC74 - 1,0,1,1)<>0, IF(OR($AD74=\"LUMP\", $AD74=\"LS\"), \"LUMP\", OFFSET(#REF!, $AC74 - 1,0,1,1)),\"\"))","v":""},{"$f":"IF( $AC74 = 0, \"\", IF( OFFSET(#REF!, $AC74 - 1,0,1,1)<>0, IF(OR($AD74=\"LUMP\", $AD74=\"LS\"), \"LUMP\", OFFSET(#REF!, $AC74 - 1,0,1,1)),\"\"))","v":""},{"$f":"IF( $AC74 = 0, \"\", IF( OFFSET(#REF!, $AC74 - 1,0,1,1)<>0, IF(OR($AD74=\"LUMP\", $AD74=\"LS\"), \"LUMP\", OFFSET(#REF!, $AC74 - 1,0,1,1)),\"\"))","v":""},{"$f":"IF( $AC74 = 0, \"\", IF( OFFSET(#REF!, $AC74 - 1,0,1,1)<>0, IF(OR($AD74=\"LUMP\", $AD74=\"LS\"), \"LUMP\", OFFSET(#REF!, $AC74 - 1,0,1,1)),\"\"))","v":""},{"$f":"IF( $AC74 = 0, \"\", IF( OFFSET(#REF!, $AC74 - 1,0,1,1)<>0, IF(OR($AD74=\"LUMP\", $AD74=\"LS\"), \"LUMP\", OFFSET(#REF!, $AC74 - 1,0,1,1)),\"\"))","v":""},{"$f":"IF( $AC74 = 0, \"\", IF( OFFSET(#REF!, $AC74 - 1,0,1,1)<>0, IF(OR($AD74=\"LUMP\", $AD74=\"LS\"), \"LUMP\", OFFSET(#REF!, $AC74 - 1,0,1,1)),\"\"))","v":""},{"$f":"IF( $AC74 = 0, \"\", IF( OFFSET(#REF!, $AC74 - 1,0,1,1)<>0, IF(OR($AD74=\"LUMP\", $AD74=\"LS\"), \"LUMP\", OFFSET(#REF!, $AC74 - 1,0,1,1)),\"\"))","v":""},{"$f":"IF( $AC74 = 0, \"\", IF( OFFSET(#REF!, $AC74 - 1,0,1,1)<>0, IF(OR($AD74=\"LUMP\", $AD74=\"LS\"), \"LUMP\", OFFSET(#REF!, $AC74 - 1,0,1,1)),\"\"))","v":""},{"$f":"IF( $AC74 = 0, \"\", IF( OFFSET(#REF!, $AC74 - 1,0,1,1)<>0, LEFT(OFFSET(#REF!, $AC74 - 1,0,1,1),3),\"\"))","v":""},{"$f":"IF( $AC74 = 0, \"\", IF( OFFSET(#REF!, $AC74 - 1,0,1,1)<>0, IF(LEN(OFFSET(#REF!, $AC74 - 1,0,1,1))=9,   RIGHT(OFFSET(#REF!, $AC74 - 1,0,1,1),5),    LEFT(RIGHT(OFFSET(#REF!, $AC74 - 1,0,1,1),6), 5)      ),\"\"))","v":""},{"$f":"IF(SUM(A74:T74)<>0,SUM(A74:T74),IF(OR(AD74=\"LUMP\", AD74=\"LS\"), \"LUMP\", \"\"))","v":""},{"$f":"IF( $AC74 = 0, \"\", IF( OFFSET(#REF!, $AC74 - 1,0,1,1)<>0,IF(OR(AD74=\"LUMP\", AD74=\"LS\"), \"\", AD74),\"\"))","v":""},{"$f":"IF( $AC74 = 0, \"\", IF( OFFSET(#REF!, $AC74 - 1,0,1,1)<>0, VLOOKUP( OFFSET(#REF!, $AC74 - 1,0,1,1),[1]Items!$A$2:$E$10001,4,0),\"\"))","v":""},null,72,12,0,{"$f":"IF( $AC74 = 0, \"\", IF( OFFSET(#REF!, $AC74 - 1,0,1,1)<>0, VLOOKUP( OFFSET(#REF!, $AC74 - 1,0,1,1),[1]Items!$A$2:$E$10001,3,0),\"\"))","v":""}]
[{"$f":"IF(OFFSET(#REF!,$AA75,0,1,1)<>\"\",OFFSET(#REF!,$AA75,0,1,1),\"\")","v":{"$error":"#REF!"}},null,null,null,null,null,null,null,null,null,null,null,null,null,null,null,null,null,null,null,{"$f":"IF( $AC75 = 0, \"\", IF( OFFSET(#REF!, $AC75 - 1,0,1,1)<>0, LEFT(OFFSET(#REF!, $AC75 - 1,0,1,1),3),\"\"))","v":{"$error":"#REF!"}},{"$f":"IF( $AC75 = 0, \"\", IF( OFFSET(#REF!, $AC75 - 1,0,1,1)<>0, IF(LEN(OFFSET(#REF!, $AC75 - 1,0,1,1))=9,   RIGHT(OFFSET(#REF!, $AC75 - 1,0,1,1),5),    LEFT(RIGHT(OFFSET(#REF!, $AC75 - 1,0,1,1),6), 5)      ),\"\"))","v":{"$error":"#REF!"}},null,null,null,null,73,12,61,{"$f":"IF( $AC75 = 0, \"\", IF( OFFSET(#REF!, $AC75 - 1,0,1,1)<>0, VLOOKUP( OFFSET(#REF!, $AC75 - 1,0,1,1),[1]Items!$A$2:$E$10001,3,0),\"\"))","v":{"$error":"#REF!"}}]

{"sheet":"Sub01","index":4,"n_rows":156,"n_cols":42,"rows_kept":156,"cut":false,"hidden":false,"merged":[[6,13,7,13],[4,8,8,8],[4,1,8,1],[4,6,7,7],[4,11,7,11],[4,10,7,10],[6,12,7,12],[6,39,7,39],[6,29,7,29],[6,41,7,41],[6,34,7,34],[6,40,7,40],[6,35,7,35],[6,32,7,32],[6,33,7,33],[6,36,7,36],[6,37,7,37],[6,23,7,23],[6,20,7,20],[6,38,7,38],[6,24,7,24],[6,27,7,27],[6,28,7,28],[6,31,7,31],[6,25,7,25],[6,30,7,30],[6,26,7,26],[6,14,7,14],[6,15,7,15],[6,22,7,22],[6,16,7,16],[6,21,7,21],[6,17,7,17],[6,18,7,18],[6,19,7,19],[69,0,69,11],[8,2,8,3],[8,4,8,5],[4,0,8,0],[4,9,7,9],[4,2,7,5],[89,14,89,15],[89,16,89,17],[79,0,79,11],[71,0,71,11],[70,0,70,11]]}
[]
[]
[]
[]
["ROUTE","SHEET\nNO.","STATION",null,null,null,"WIDTH\n",null,"SIDE","LENGTH","AVERAGE WIDTH","SURFACE AREA\n(CA = CADD Generated Area)","202","441","","407","","301","","304","","204","","","","","","","","","","","","","","","","","","","",""]
[null,null,null,null,null,null,null,null,null,null,null,null,"DEPTH",3,"","DEPTH","",9,"",6,"","DEPTH","","","","","","","","","","","","","","","","","","","",""]
[null,null,null,null,null,null,null,null,null,null,null,null,"PAVEMENT REMOVED, AS PER PLAN","ASPHALT CONCRETE SURFACE COURSE, TYPE 1, (448), PG64-22","","TACK COAT","","ASPHALT CONCRETE BASE, PG64-22","","AGGREGATE BASE","","SUBGRADE COMPACTION","","","","","","","","","","","","","","","","","","","",""]
[]
[null,null,"FROM",null,"TO",null,"FROM","FT",null,"FT","FT","SF","SY","CY","","GAL","","CY","","CY","","SY","","","","","","","","","","","","","","","","","","","",""]
[]
["US-422",null,null,77598,null,77685,null,"56.45 (AVG)","CL",{"$f":"F11-D11","v":87},null,{"$f":"J11*56.45","v":4911.1500000000005},{"$f":"L11/9","v":545.68333333333339},{"$f":"L11*N$6/12/27","v":45.473611111111119},null,{"$f":"L11/9*0.055*3","v":90.037750000000003},null,{"$f":"(L11+J11*4/12)*9/12/27","v":137.22638888888892},null,{"$f":"(L11+J11*12/12+J11*13/12)*6/12/27","v":94.303703703703718},null,{"$f":"(L11+2*J11*18/12)/9","v":574.68333333333339}]
[]
[]
[null,null,null,"STORM SEWER TRENCH"]
[null,null,null,77685,null,77723,null,null,"CL",null,null,468.1,{"$f":"L15/9","v":52.011111111111113},{"$f":"L15*N$6/12/27","v":4.3342592592592597},null,{"$f":"L15/9*0.055*3","v":8.5818333333333339},null,{"$f":"(L15+5*4/12)*9/12/27","v":13.049074074074076},null,{"$f":"(L15+5*13/12)*6/12/27","v":8.7688271604938279},null,{"$f":"(L15+5*18/12)/9","v":52.844444444444449}]
[]
[null,null,null,"SHOULDER REPLACEMENT"]
[null,null,null,77717,null,78088,null,null,"LT",{"$f":"F18-D18","v":371},null,3073.8,{"$f":"L18/9","v":341.53333333333336},{"$f":"L18*N$6/12/27","v":28.461111111111116},null,{"$f":"L18/9*0.055*3","v":56.353000000000009},null,{"$f":"(L18+748.5*4/12)*9/12/27","v":92.313888888888883},null,{"$f":"(L18+748.5*13/12)*6/12/27","v":71.938425925925941},null,{"$f":"(L18+748.5*18/12)/9","v":466.28333333333336}]
[]
[]
[]
[]
[]
[]
[]
[]
[]
[]
[]
[]
[]
[]
[]
[]
[]
[]
[]
[]
[]
[]
[]
[]
[]
[]
[]
[]
[]
[]
[]
[]
[]
[]
[]
[]
[]
[]
[]
[]
[]
[]
[]
[]
[]
[]
[]
[]
[]
[]
[]
["SUBTOTAL",null,null,null,null,null,null,null,null,null,null,null,{"$f":"SUM(M11:M69)","v":939.22777777777787},{"$f":"SUM(N11:N69)","v":78.268981481481489},null,{"$f":"SUM(P11:P69)","v":154.97258333333335},null,{"$f":"SUM(R11:R69)","v":242.58935185185186},null,{"$f":"SUM(T11:T69)","v":175.01095679012349},null,{"$f":"SUM(V11:V69)","v":1093.8111111111111}]
["TOTALS CARRIED TO GENERAL SUMMARY",null,null,null,null,null,null,null,null,null,null,null,{"$f":"ROUND(M70+0.5,0)","v":940},{"$f":"ROUND(N70+0.5,0)","v":79},null,{"$f":"ROUND(P70+0.5,0)","v":155},null,{"$f":"ROUND(R70+0.5,0)","v":243},null,{"$f":"ROUND(T70+0.5,0)","v":176},null,{"$f":"ROUND(V70+0.5,0)","v":1094}]
["TOTALS CARRIED TO GRAND TOTAL ON PAGE _____",null,null,null,null,null,null,null,null,null,null,null,{"$f":"IF(M9<>\"\", IF(   ISERROR(VLOOKUP(M156,#REF!,5,0))=TRUE,\"\",IF(M9=\"LUMP\", \"LUMP\", VLOOKUP(M156,#REF!,5,0) ) ), \"\")","v":""},{"$f":"IF(N9<>\"\", IF(   ISERROR(VLOOKUP(N156,#REF!,5,0))=TRUE,\"\",IF(N9=\"LUMP\", \"LUMP\", VLOOKUP(N156,#REF!,5,0) ) ), \"\")","v":""},{"$f":"IF(O9<>\"\", IF(   ISERROR(VLOOKUP(O156,#REF!,5,0))=TRUE,\"\",IF(O9=\"LUMP\", \"LUMP\", VLOOKUP(O156,#REF!,5,0) ) ), \"\")","v":""},{"$f":"IF(P9<>\"\", IF(   ISERROR(VLOOKUP(P156,#REF!,5,0))=TRUE,\"\",IF(P9=\"LUMP\", \"LUMP\", VLOOKUP(P156,#REF!,5,0) ) ), \"\")","v":""},{"$f":"IF(Q9<>\"\", IF(   ISERROR(VLOOKUP(Q156,#REF!,5,0))=TRUE,\"\",IF(Q9=\"LUMP\", \"LUMP\", VLOOKUP(Q156,#REF!,5,0) ) ), \"\")","v":""},{"$f":"IF(R9<>\"\", IF(   ISERROR(VLOOKUP(R156,#REF!,5,0))=TRUE,\"\",IF(R9=\"LUMP\", \"LUMP\", VLOOKUP(R156,#REF!,5,0) ) ), \"\")","v":""},{"$f":"IF(S9<>\"\", IF(   ISERROR(VLOOKUP(S156,#REF!,5,0))=TRUE,\"\",IF(S9=\"LUMP\", \"LUMP\", VLOOKUP(S156,#REF!,5,0) ) ), \"\")","v":""},{"$f":"IF(T9<>\"\", IF(   ISERROR(VLOOKUP(T156,#REF!,5,0))=TRUE,\"\",IF(T9=\"LUMP\", \"LUMP\", VLOOKUP(T156,#REF!,5,0) ) ), \"\")","v":""},{"$f":"IF(U9<>\"\", IF(   ISERROR(VLOOKUP(U156,#REF!,5,0))=TRUE,\"\",IF(U9=\"LUMP\", \"LUMP\", VLOOKUP(U156,#REF!,5,0) ) ), \"\")","v":""},{"$f":"IF(V9<>\"\", IF(   ISERROR(VLOOKUP(V156,#REF!,5,0))=TRUE,\"\",IF(V9=\"LUMP\", \"LUMP\", VLOOKUP(V156,#REF!,5,0) ) ), \"\")","v":""},{"$f":"IF(W9<>\"\", IF(   ISERROR(VLOOKUP(W156,#REF!,5,0))=TRUE,\"\",IF(W9=\"LUMP\", \"LUMP\", VLOOKUP(W156,#REF!,5,0) ) ), \"\")","v":""},{"$f":"IF(X9<>\"\", IF(   ISERROR(VLOOKUP(X156,#REF!,5,0))=TRUE,\"\",IF(X9=\"LUMP\", \"LUMP\", VLOOKUP(X156,#REF!,5,0) ) ), \"\")","v":""},{"$f":"IF(Y9<>\"\", IF(   ISERROR(VLOOKUP(Y156,#REF!,5,0))=TRUE,\"\",IF(Y9=\"LUMP\", \"LUMP\", VLOOKUP(Y156,#REF!,5,0) ) ), \"\")","v":""},{"$f":"IF(Z9<>\"\", IF(   ISERROR(VLOOKUP(Z156,#REF!,5,0))=TRUE,\"\",IF(Z9=\"LUMP\", \"LUMP\", VLOOKUP(Z156,#REF!,5,0) ) ), \"\")","v":""},{"$f":"IF(AA9<>\"\", IF(   ISERROR(VLOOKUP(AA156,#REF!,5,0))=TRUE,\"\",IF(AA9=\"LUMP\", \"LUMP\", VLOOKUP(AA156,#REF!,5,0) ) ), \"\")","v":""},{"$f":"IF(AB9<>\"\", IF(   ISERROR(VLOOKUP(AB156,#REF!,5,0))=TRUE,\"\",IF(AB9=\"LUMP\", \"LUMP\", VLOOKUP(AB156,#REF!,5,0) ) ), \"\")","v":""},{"$f":"IF(AC9<>\"\", IF(   ISERROR(VLOOKUP(AC156,#REF!,5,0))=TRUE,\"\",IF(AC9=\"LUMP\", \"LUMP\", VLOOKUP(AC156,#REF!,5,0) ) ), \"\")","v":""},{"$f":"IF(AD9<>\"\", IF(   ISERROR(VLOOKUP(AD156,#REF!,5,0))=TRUE,\"\",IF(AD9=\"LUMP\", \"LUMP\", VLOOKUP(AD156,#REF!,5,0) ) ), \"\")","v":""},{"$f":"IF(AE9<>\"\", IF(   ISERROR(VLOOKUP(AE156,#REF!,5,0))=TRUE,\"\",IF(AE9=\"LUMP\", \"LUMP\", VLOOKUP(AE156,#REF!,5,0) ) ), \"\")","v":""},{"$f":"IF(AF9<>\"\", IF(   ISERROR(VLOOKUP(AF156,#REF!,5,0))=TRUE,\"\",IF(AF9=\"LUMP\", \"LUMP\", VLOOKUP(AF156,#REF!,5,0) ) ), \"\")","v":""},{"$f":"IF(AG9<>\"\", IF(   ISERROR(VLOOKUP(AG156,#REF!,5,0))=TRUE,\"\",IF(AG9=\"LUMP\", \"LUMP\", VLOOKUP(AG156,#REF!,5,0) ) ), \"\")","v":""},{"$f":"IF(AH9<>\"\", IF(   ISERROR(VLOOKUP(AH156,#REF!,5,0))=TRUE,\"\",IF(AH9=\"LUMP\", \"LUMP\", VLOOKUP(AH156,#REF!,5,0) ) ), \"\")","v":""},{"$f":"IF(AI9<>\"\", IF(   ISERROR(VLOOKUP(AI156,#REF!,5,0))=TRUE,\"\",IF(AI9=\"LUMP\", \"LUMP\", VLOOKUP(AI156,#REF!,5,0) ) ), \"\")","v":""},{"$f":"IF(AJ9<>\"\", IF(   ISERROR(VLOOKUP(AJ156,#REF!,5,0))=TRUE,\"\",IF(AJ9=\"LUMP\", \"LUMP\", VLOOKUP(AJ156,#REF!,5,0) ) ), \"\")","v":""},{"$f":"IF(AK9<>\"\", IF(   ISERROR(VLOOKUP(AK156,#REF!,5,0))=TRUE,\"\",IF(AK9=\"LUMP\", \"LUMP\", VLOOKUP(AK156,#REF!,5,0) ) ), \"\")","v":""},{"$f":"IF(AL9<>\"\", IF(   ISERROR(VLOOKUP(AL156,#REF!,5,0))=TRUE,\"\",IF(AL9=\"LUMP\", \"LUMP\", VLOOKUP(AL156,#REF!,5,0) ) ), \"\")","v":""},{"$f":"IF(AM9<>\"\", IF(   ISERROR(VLOOKUP(AM156,#REF!,5,0))=TRUE,\"\",IF(AM9=\"LUMP\", \"LUMP\", VLOOKUP(AM156,#REF!,5,0) ) ), \"\")","v":""},{"$f":"IF(AN9<>\"\", IF(   ISERROR(VLOOKUP(AN156,#REF!,5,0))=TRUE,\"\",IF(AN9=\"LUMP\", \"LUMP\", VLOOKUP(AN156,#REF!,5,0) ) ), \"\")","v":""},{"$f":"IF(AO9<>\"\", IF(   ISERROR(VLOOKUP(AO156,#REF!,5,0))=TRUE,\"\",IF(AO9=\"LUMP\", \"LUMP\", VLOOKUP(AO156,#REF!,5,0) ) ), \"\")","v":""},{"$f":"IF(AP9<>\"\", IF(   ISERROR(VLOOKUP(AP156,#REF!,5,0))=TRUE,\"\",IF(AP9=\"LUMP\", \"LUMP\", VLOOKUP(AP156,#REF!,5,0) ) ), \"\")","v":""}]
[]
[]
[]
[]
[]
[]
[null,null,null,null,null,null,null,null,null,null,null,null,null,null,"Merge cells in the row below if neccesary to total adjacent columns of the same item.  Hide rows 72-79."]
[{"$f":"A72","v":"TOTALS CARRIED TO GRAND TOTAL ON PAGE _____"},null,null,null,null,null,null,null,null,null,null,null,{"$f":"IF(M71<>\"\", M71, \"\")","v":940},{"$f":"IF(N71<>\"\", N71, \"\")","v":79},"",155,"",243,"",176,"",1094,"","","","","","","","","","","","","","","","","","","",""]
[]
[]
[]
[]
[]
[]
[]
[]
[]
[]
[]
[]
[]
[]
[]
[]
[]
[]
[]
[]
[]
[]
[]
[]
[]
[]
[]
["202E23001",940,"aa"]
["441E50000",79,"dd"]
[""]
["407E10000",156,"dd"]
[""]
["301E46000",243,"dd"]
[""]
["304E20000",176,"dd"]
[""]
["204E10000",1094,"aa"]
[""]
[""]
[""]
[""]
[""]
[""]
[""]
[""]
[""]
[""]
[""]
[""]
[""]
[""]
[""]
[""]
[""]
[""]
[""]
[""]
[]
[]
[]
[]
[]
[]
[]
[]
[]
[]
[]
[]
[]
[]
[]
[]
[]
[]
[null,null,null,null,null,null,null,null,null,null,null,null,"aa20223001","dd44150000","","dd40710000","","dd30146000","","dd30420000","","aa20410000","","","","","","","","","",null,null,null,null,null,null,null,null,null,null,""]