{"text_format":"1","workbook":"xlsx","n_sheets":40,"sheets":["REPORT","CSF","GRID>GRND","OWNERS","OSIP","MON TABLE","GPS_IMPORT","GS1","GS2","GS3","GS4","GS5","GS6","GS7","GS8","GS9","GS10","GS11","GS12","GS13","GS14","GS15","GS16","GS17","GS18","GS19","GS20","GS21","GS22","GS23","GS24","GS25","GS26","GS27","GS28","LEVEL RUN","TIN","DATABASE","FINAL GRID COORDINATES PENZC","FINAL GROUND COORDINATES PENZC"],"not_rendered":{"charts":0,"images":4,"macros":1,"external_links":1,"defined_names":112,"comments":0,"pivot_tables":0},"unopened":[],"bounds":{"document_bytes":16777216,"sheet_cells":100000,"rows_first":2000,"rows_last":500,"rows_between":2000,"halvings":0,"cell_chars":16384,"cell_head_chars":4096},"cells_cut":0,"cells_raw":0,"read":"whole","date_system":"1900"}

{"sheet":"REPORT","index":0,"n_rows":56,"n_cols":7,"rows_kept":56,"cut":false,"hidden":false,"merged":[[55,0,55,4],[52,0,52,1],[10,0,10,1],[10,2,10,4],[11,0,11,1],[11,2,11,4],[12,0,12,1],[13,0,13,1],[13,2,13,4],[14,0,14,1],[14,2,14,4],[15,0,15,1],[15,2,15,4],[16,0,16,1],[16,2,16,4],[53,0,53,1],[29,8,29,9],[27,8,27,9],[29,0,29,1],[29,2,29,3],[54,0,54,4],[53,2,53,4],[52,2,52,4],[51,2,51,4],[50,2,50,4],[51,0,51,1],[48,2,48,4],[37,0,37,4],[31,2,31,4],[50,0,50,1],[48,0,48,1],[49,0,49,1],[0,0,0,4],[3,1,3,4],[7,0,7,4],[8,0,8,4],[9,0,9,1],[9,2,9,4],[5,0,5,4],[6,0,6,2],[1,1,1,2],[4,1,4,4],[26,2,26,3],[30,0,30,4],[47,2,47,4],[31,0,31,1],[32,0,32,4],[46,0,46,4],[38,0,38,4],[36,0,36,4],[27,0,27,1],[27,2,27,3],[28,2,28,3],[28,0,28,1],[47,0,47,1],[39,0,39,4],[43,1,43,2],[42,0,42,4],[25,0,25,3],[20,1,20,3],[23,0,23,3],[17,2,17,4],[19,2,19,4],[21,0,21,3],[24,0,24,3],[22,0,22,3],[18,2,18,4],[49,2,49,4],[41,0,41,4],[40,0,40,4],[44,0,44,4],[45,0,45,1],[45,3,45,4]]}
["Surveyor’s Report"]
["Project: ","TUS-800-22.74",null,"PID:",100603]
[]
["Scope: ","Aerial Control and Lidar"]
["Type:"]
[]
["Gray boxes denote INPUT",null,null,null,"Tan boxes denote OUTPUT (check)"]
[]
["Datum and Coordinate System",null,null,null,null,null,"Type:"]
["Coordinate System: ",null,"Ohio State Plane, North Zone",null,null,null,"(Select from List)"]
["Horizontal Reference Datum: ",null,"NAD83 (2011)",null,null,null,"Bridge Monitoring"]
["Ellipsoid: ",null,"GRS80",null,null,null,"Bridge Rehab"]
["Grid to Ground Multiplier (1/CSF):",null,null,"Factor is 8 decimal places per Survey & Mapping Specifications.",null,null,"Bridge Replacement"]
["Origin of Combined Scale Factor: ",null,"(0,0)",null,null,null,"Culvert Rehab"]
["Vertical Reference Datum: ",null,"NAVD88",null,null,null,"Highway Widening"]
["Geoid Model: ",null,"Geoid 12B",null,null,null,"Slope Repair"]
["Units: ",null,"US Survey Feet (sft)",null,null,null,"Stream Maintenance"]
["Original Survey Subdivision:"]
["Township:"]
["Quarter Section/Section/Lot:"]
["Files",null,null,null,"Description"]
[]
[]
[]
[]
[]
[]
[]
[]
[]
["References"]
["Alignment based on the following plan:"]
["Other references used:"]
[]
[]
[]
["Equipment Maintenance"]
["Equipment maintenance logs are on file at the Ohio Department of Transportation, Central Office"]
["Methodology and Equipment Used"]
["Leica GS14 Leica CS20"]
[]
[]
[]
[]
[]
[]
[]
["Report Submitted/Prepared by: ",null,"Kolton Wilson"]
["Date Submitted:",null,"2018-12-19"]
["Surveying Performed by: ",null,"Kolton Wilson"]
["Surveying Performed by: ",null,"Kolton Wilson"]
["Checked By:",null,"Joel Swick"]
[]
[]
["DGN Overview Map"]
["Insert close-up screen shot of combined DGN here"]

{"sheet":"CSF","index":1,"n_rows":311,"n_cols":21,"rows_kept":311,"cut":false,"hidden":false,"merged":[[47,0,47,6],[48,0,49,4],[48,5,48,6],[42,3,42,4],[42,5,42,6],[43,3,43,4],[44,0,44,6],[45,0,46,4],[45,5,45,6],[41,3,41,4],[34,0,34,6],[35,0,35,1],[35,3,35,4],[35,5,35,6],[36,3,36,4],[37,3,37,4],[37,5,37,6],[38,3,38,4],[39,0,39,6],[40,0,40,1],[40,3,40,4],[40,5,40,6],[31,0,31,6],[32,0,32,1],[33,0,33,1],[33,2,33,6],[29,0,29,6],[30,0,30,6],[26,0,26,6],[27,0,27,1],[27,2,27,6],[28,0,28,1],[28,2,28,6],[25,0,25,1],[25,2,25,6],[18,0,18,1],[19,0,19,1],[19,2,19,6],[20,0,20,6],[21,0,21,1],[22,0,22,1],[22,2,22,6],[23,0,23,6],[24,0,24,1],[24,2,24,6],[17,0,17,1],[11,0,11,1],[11,2,11,4],[11,5,11,6],[12,0,12,6],[13,0,13,1],[14,0,14,1],[14,2,14,6],[15,0,15,6],[16,0,16,1],[8,0,8,1],[8,5,8,6],[10,0,10,1],[10,2,10,4],[10,5,10,6],[4,0,4,5],[5,0,5,2],[5,3,5,6],[6,0,6,5],[7,0,7,1],[7,5,7,6],[3,0,3,1],[3,2,3,6],[0,0,0,6],[0,10,0,11],[1,1,1,2],[1,4,1,6],[2,0,2,6]]}
["Combined Scale Factor Calculations",null,null,null,null,null,null,null,"Zone","Index Value","Project Latitude",null,"Radius of the Earth (meters)","Tabular Difference","Scale Factor (k)","Differences","Coordinate System List"]
["Project: ",{"$f":"REPORT!B2","v":"TUS-800-22.74"},null,"PID:",{"$f":"REPORT!E2","v":100603},null,null,null,"NZ",3940,39,40,7485451.5980000002,30.84836,1.0002349100000001]
[null,null,null,null,null,null,null,null,"NZ",3941,39,41,7483600.6969999997,30.848230000000001,1.0002279300000001,{"$f":"O2-O3","v":6.9799999999897722E-6},"State Plane Coordinate System: Ohio North (3401)"]
["Horizontal Datum: NAD83",null,"State Plane Coordinate System: Ohio North (3401)",null,null,null,null,null,"NZ",3942,39,42,7481749.8030000003,30.848109999999998,1.00022104,6.8900000000926553E-6,"State Plane Coordinate System: Ohio South (3402)"]
[null,null,null,null,null,null,null,null,"NZ",3943,39,43,7479898.9160000002,30.847989999999999,1.00021424,6.7999999999734939E-6]
["Gray boxes denote INPUT",null,null,"Tan boxes denote OUTPUT (check)",null,null,null,null,"NZ",3944,39,44,7478048.0369999995,30.84787,1.0002075100000001,6.7299999999548277E-6]
[null,null,null,null,null,null,null,null,"NZ",3945,39,45,7476197.165,30.847760000000001,1.00020087,6.6400000000577108E-6]
[null,null,"Input Deg.","Min.","Sec.","Zone Parameters:",null,null,"NZ",3946,39,46,7474346.2989999996,30.847650000000002,1.0001943099999999,6.5600000000998193E-6]
["Project Mean Latitude (DMS):",null,40,34,22.04909,{"$f":"IF(C4=\"State Plane Coordinate System: Ohio North (3401)\",\n\"k = 1 at lats. 40⁰ 26' and 41⁰ 42'\",\n\"k = 1 at lats. 38⁰ 44' and 40⁰ 20'\")","v":"k = 1 at lats. 40⁰ 26' and 41⁰ 42'"},null,null,"NZ",3947,39,47,7472495.4400000004,30.847539999999999,1.00018783,6.4799999999198832E-6]
[{"$f":"ISBLANK(D9)","v":false},{"$f":"ISBLANK(E9)","v":false},null,{"$f":"IF(OR(A10,B10)=TRUE,\"Minute and second fields must be populated\",\"\")","v":""},null,null,null,null,"NZ",3948,39,48,7470644.5880000005,30.847429999999999,1.00018144,6.3900000000227664E-6]
[null,null,"Input Ellipsoid Height:",null,null,{"$f":"IF(C4=\"State Plane Coordinate System: Ohio North (3401)\",\n\"Origin at 82⁰ 30' long., 39⁰ 40' lat.\",\n\"Origin at 82⁰ 30' long., 38⁰ 00' lat.\")","v":"Origin at 82⁰ 30' long., 39⁰ 40' lat."},null,null,"NZ",3949,39,49,7468793.7419999996,30.84732,1.0001751299999999,6.3100000000648748E-6]
["Project Mean Height (ft):",null,907.66899999999998,null,null,"Origin coords: x=600,000m, y=0m",null,null,"NZ",3950,39,50,7466942.9029999999,30.84722,1.0001689,6.2299999998849387E-6]
[null,null,null,null,null,null,null,null,"NZ",3951,39,51,7465092.0690000001,30.84712,1.00016276,6.1399999999878219E-6]
[null,null,"Radius of the Earth * (Radius of the Earth + Proj. Mean Elev.) =",null,null,null,null,null,"NZ",3952,39,52,7463241.2419999996,30.84703,1.0001567,6.0600000000299303E-6]
["Sea Level Factor:",null,{"$f":"TRUNC(20906000/(20906000+C12),9)","v":0.99995658499999995},null,null,null,null,null,"NZ",3953,39,53,7461390.4199999999,30.84693,1.0001507199999999,5.9800000000720388E-6]
[null,null,null,null,null,null,null,null,"NZ",3954,39,54,7459539.6040000003,30.84684,1.00014482,5.8999999998921027E-6]
[null,null,"Tabular data proportioned according to the number of seconds:",null,null,null,null,null,"NZ",3955,39,55,7457688.7939999998,30.84675,1.0001390100000001,5.8099999999949858E-6]
[null,null,{"$f":"IF($C$4=\"State Plane Coordinate System: Ohio North (3401)\",VLOOKUP(D18,J1:O150,6),VLOOKUP(D18,J151:O310,6))","v":0.99997712999999999},{"$f":"VALUE(IF(D9>9,CONCATENATE(C9,D9),CONCATENATE(C9*10,D9)))","v":4034},{"$f":"IF(C18>C19,1-E9/60,E9/60)","v":0.63251516666666663},{"$f":"\"Scale factor at \"&LEFT($D18,2)&\"⁰ \"&RIGHT($D18,2)&\"' latitude\"","v":"Scale factor at 40⁰ 34' latitude"},null,null,"NZ",3956,39,56,7455837.9890000001,30.84667,1.00013328,5.7300000000370943E-6]
[null,null,{"$f":"IF($C$4=\"State Plane Coordinate System: Ohio North (3401)\",VLOOKUP(D19,J2:O151,6),VLOOKUP(D19,J152:O311,6))","v":0.99997464999999996},{"$f":"IF(D9=59,(VALUE(IF(D9>9,CONCATENATE(C9,D9),CONCATENATE(C9*10,D9)))+41),(VALUE(IF(D9>9,CONCATENATE(C9,D9),CONCATENATE(C9*10,D9)))+1))","v":4035},{"$f":"IF(C18<C19,1-E9/60,E9/60)","v":0.36748483333333332},{"$f":"\"Scale factor at \"&LEFT($D19,2)&\"⁰ \"&RIGHT($D19,2)&\"' latitude\"","v":"Scale factor at 40⁰ 35' latitude"},null,null,"NZ",3957,39,57,7453987.1890000002,30.846579999999999,1.0001276299999999,5.6500000000792028E-6]
["Scale Factor (k):",null,{"$f":"C18*E18+C19*E19","v":0.99997621863761321},null,null,null,null,null,"NZ",3958,39,58,7452136.3940000003,30.846499999999999,1.00012206,5.5699999998992666E-6]
[null,null,null,null,null,null,null,null,"NZ",3959,39,59,7450285.6040000003,30.846419999999998,1.00011658,5.4800000000021498E-6]
[null,null,{"$f":"LEFT(A15,16)&\" * \"&LEFT(A20,12)&\" =\"","v":"Sea Level Factor * Scale Factor ="},null,null,null,null,null,"NZ",4000,40,0,7448434.8190000001,30.846340000000001,1.00011118,5.4000000000442583E-6]
["Combined Scale Factor (CSF):",null,{"$f":"C15*C20","v":0.99993280467008105},null,null,null,null,null,"NZ",4001,40,1,7446584.0379999997,30.846270000000001,1.0001058700000001,5.3099999999250969E-6]
[null,null,null,null,null,null,null,null,"NZ",4002,40,2,7444733.2620000001,30.8462,1.0001006299999999,5.2400000001284752E-6]
[null,null,"Unitless Grid to Ground Multiplier:",null,null,null,null,null,"NZ",4003,40,3,7442882.4900000002,30.846129999999999,1.0000954799999999,5.1500000000093138E-6]
["Grid to Ground Multiplier (1/CSF):",null,{"$f":"1/C23","v":1.0000671998454347},null,null,null,null,null,"NZ",4004,40,4,7441031.7220000001,30.846070000000001,1.00009042,5.0599999998901524E-6,null,null,null,null,1.0000619550000001]
[null,null,null,null,null,null,null,null,"NZ",4005,40,5,7439180.9579999996,30.846,1.0000854299999999,4.9900000000935307E-6]
[null,null,"Converts Grid Meters to Ground Feet:",null,null,null,null,null,"NZ",4006,40,6,7437330.1979999999,30.845939999999999,1.00008053,4.8999999999743693E-6]
["Project Adjustment Factor (PAF):",null,{"$f":"C26*3.28083333","v":3.2810538014926731},null,null,null,null,null,"NZ",4007,40,7,7435479.4409999996,30.845880000000001,1.00007571,4.8200000000164778E-6]
[null,null,null,null,null,null,null,null,"NZ",4011,40,11,7428076.449,30.845680000000002,1.00005728,{"$f":"O34-O30","v":4.4799999998623719E-6}]
["Check spreadsheet-generated (XLS) CSF against Trimble Business Center-generated (TBC) CSF below.",null,null,null,null,null,null,null,"NZ",4012,40,12,7426225.7079999996,30.84563,1.00005287,{"$f":"O30-O31","v":4.4100000000657502E-6}]
[null,null,null,null,null,null,null,null,"NZ",4008,40,8,7433628.6880000001,30.845829999999999,1.0000709800000001,{"$f":"O29-O32","v":4.7299999998973163E-6}]
[null,null,"Compare to Unitless Grid to Ground Multiplier:",null,null,null,null,null,"NZ",4009,40,9,7431777.9390000002,30.845770000000002,1.0000663299999999,{"$f":"O32-O33","v":4.6500000001614694E-6}]
["Input TBC-generated 1/CSF:",null,null,null,null,null,null,null,"NZ",4010,40,10,7429927.1919999998,30.84572,1.0000617599999999,{"$f":"O33-O34","v":4.5699999999815333E-6}]
[null,null,null,null,null,null,null,null,"NZ",4013,40,13,7424374.9699999997,30.845590000000001,1.00004856,{"$f":"O31-O35","v":4.3100000000073635E-6}]
["Test point at one end of project:",null,"Northing (ft)","Easting (ft)",null,"Grid - Ground (XLS)",null,null,"NZ",4014,40,14,7422524.2350000003,30.845549999999999,1.00004432,{"$f":"O35-O36","v":4.2399999999886973E-6}]
[null,"Input Grid Coordinates:",null,null,null,{"$f":"IF(C37-C38>0,ABS(ROUND(C37-C38,3))&\"' shift N\",ABS(ROUND(C37-C38,3))&\"' shift S\")","v":"0' shift S"},{"$f":"IF(D37-D38>0,ABS(ROUND(D37-D38,3))&\"' shift E\",ABS(ROUND(D37-D38,3))&\"' shift W\")","v":"0' shift W"},null,"NZ",4015,40,15,7420673.5020000003,30.845510000000001,1.0000401699999999,4.1500000000915804E-6]
[{"$f":"$A37","v":0},"Ground (XLS):",{"$f":"$C37*$C$26","v":0},{"$f":"$D37*$C$26","v":0},null,"Ground (XLS) - Ground (TBC)",null,null,"NZ",4016,40,16,7418822.7719999999,30.845469999999999,1.0000361,4.0699999999116443E-6]
[{"$f":"$A37","v":0},"Ground (TBC):",{"$f":"$C37*$C$34","v":0},{"$f":"$D37*$C$34","v":0},null,{"$f":"IF(C38-C39>0,ABS(ROUND(C38-C39,3))&\"' shift N\",ABS(ROUND(C38-C39,3))&\"' shift S\")","v":"0' shift S"},{"$f":"IF(D38-D39>0,ABS(ROUND(D38-D39,3))&\"' shift E\",ABS(ROUND(D38-D39,3))&\"' shift W\")","v":"0' shift W"},null,"NZ",4017,40,17,7416972.0429999996,30.84544,1.00003212,3.9800000000145275E-6]
[null,null,null,null,null,null,null,null,"NZ",4018,40,18,7415121.3169999998,30.845410000000001,1.00002821,3.9099999999958612E-6]
["Test point at other end of project:",null,"Northing (ft)","Easting (ft)",null,"Grid - Ground (XLS)",null,null,"NZ",4019,40,19,7413270.5920000002,30.845379999999999,1.0000244,3.8099999999374745E-6]
[null,"Input Grid Coordinates:",null,null,null,{"$f":"IF(C42-C43>0,ABS(ROUND(C42-C43,3))&\"' shift N\",ABS(ROUND(C42-C43,3))&\"' shift S\")","v":"0' shift S"},{"$f":"IF(D42-D43>0,ABS(ROUND(D42-D43,3))&\"' shift E\",ABS(ROUND(D42-D43,3))&\"' shift W\")","v":"0' shift W"},null,"NZ",4020,40,20,7411419.8689999999,30.845359999999999,1.0000206599999999,3.7400000001408529E-6]
[{"$f":"$A42","v":0},"Ground (XLS):",{"$f":"$C42*$C$26","v":0},{"$f":"$D42*$C$26","v":0},null,"Ground XLS - Ground TBC",null,null,"NZ",4021,40,21,7409569.1469999999,30.84534,1.0000170100000001,3.6499999997996468E-6]
[{"$f":"$A42","v":0},"Ground (TBC):",{"$f":"$C42*$C$34","v":0},{"$f":"$D42*$C$34","v":0},null,{"$f":"IF(C43-C44>0,ABS(ROUND(C43-C44,3))&\"' shift N\",ABS(ROUND(C43-C44,3))&\"' shift S\")","v":"0' shift S"},{"$f":"IF(D43-D44>0,ABS(ROUND(D43-D44,3))&\"' shift E\",ABS(ROUND(D43-D44,3))&\"' shift W\")","v":"0' shift W"},null,"NZ",4022,40,22,7407718.4270000001,30.845320000000001,1.00001344,3.5700000000637999E-6]
[null,null,null,null,null,null,null,null,"NZ",4023,40,23,7405867.7079999996,30.845300000000002,1.0000099499999999,3.4900000001059084E-6]
[{"$f":"\"Change in computed horizontal distance between \"&A$37&\" and \"&A$42&\" due to CSF used (an approximate \"&ROUND(SQRT((C38-C43)^2+(D38-D43)^2),0)&\" foot distance):\"","v":"Change in computed horizontal distance between  and  due to CSF used (an approximate 0 foot distance):"},null,null,null,null,"Ground (XLS) vs. Ground (TBC)",null,null,"NZ",4024,40,24,7404016.9900000002,30.845289999999999,1.0000065499999999,3.399999999986747E-6]
[null,null,null,null,null,{"$f":"IF(ABS(C38-C43)>ABS(C39-C44),ABS(ROUND((C38-C39)-(C43-C44),3))&\"' further N-S\",ABS(ROUND((C38-C39)-(C43-C44),3))&\"' nearer N-S\")","v":"0' nearer N-S"},{"$f":"IF(ABS(D38-D43)>ABS(D39-D44),ABS(ROUND((D38-D39)-(D43-D44),3))&\"' further E-W\",ABS(ROUND((D38-D39)-(D43-D44),3))&\"' nearer E-W\")","v":"0' nearer E-W"},null,"NZ",4025,40,25,7402166.273,30.845269999999999,1.0000032299999999,3.3200000000288554E-6]
[null,null,null,null,null,null,null,null,"NZ",4027,40,27,7398464.8399999999,30.84526,0.99999685000000005,6.3799999998614965E-6]
[{"$f":"\"Change in computed horizontal distance between \"&A$37&\" and \"&A$42&\" by adjusting from grid to ground (approx. \"&ROUND(SQRT((C38-C43)^2+(D38-D43)^2),0)&\" ft dist.):\"","v":"Change in computed horizontal distance between  and  by adjusting from grid to ground (approx. 0 ft dist.):"},null,null,null,null,"Grid vs. Ground (XLS)",null,null,"NZ",4028,40,28,7396614.125,30.84525,0.99999378000000005,3.0699999999939109E-6]
[null,null,null,null,null,{"$f":"IF(ABS(C38-C43)>ABS(C37-C42),ABS(ROUND((C37-C38)-(C42-C43),3))&\"' further N-S\",ABS(ROUND((C37-C38)-(C42-C43),3))&\"' nearer N-S\")","v":"0' nearer N-S"},{"$f":"IF(ABS(D38-D43)>ABS(D37-D42),ABS(ROUND((D37-D38)-(D42-D43),3))&\"' further E-W\",ABS(ROUND((D37-D38)-(D42-D43),3))&\"' nearer E-W\")","v":"0' nearer E-W"},null,"NZ",4029,40,29,7394763.409,30.84525,0.99999079999999996,2.9800000000967941E-6]
[null,null,null,null,null,null,null,null,"NZ",4030,40,30,7392912.6940000001,30.84525,0.99998790000000004,2.899999999916858E-6]
[null,null,null,null,null,null,null,null,"NZ",4031,40,31,7391061.9790000003,30.84526,0.99998507999999997,2.8200000000699887E-6]
[null,null,null,null,null,null,null,null,"NZ",4032,40,32,7389211.2630000003,30.84526,0.99998235000000002,2.7299999999508273E-6]
[null,null,null,null,null,null,null,null,"NZ",4033,40,33,7387360.5480000004,30.845269999999999,0.99997970000000003,2.6499999999929358E-6]
[null,null,null,null,null,null,null,null,"NZ",4034,40,34,7385509.8310000002,30.845279999999999,0.99997712999999999,2.5700000000350443E-6]
[null,null,null,null,null,null,null,null,"NZ",4035,40,35,7383659.1140000001,30.845300000000002,0.99997464999999996,2.4800000000269051E-6]
[null,null,null,null,null,null,null,null,"NZ",4036,40,36,7381808.3959999997,30.845320000000001,0.99997225000000001,2.3999999999579913E-6]
[null,null,null,null,null,null,null,null,"NZ",4037,40,37,7379957.6770000001,30.845330000000001,0.99996993000000001,2.3200000000000998E-6]
[null,null,null,null,null,null,null,null,"NZ",4038,40,38,7378106.9570000004,30.845359999999999,0.99996770000000001,2.2299999999919606E-6]
[null,null,null,null,null,null,null,null,"NZ",4039,40,39,7376256.2359999996,30.845379999999999,0.99996556000000003,2.1399999999838215E-6]
[null,null,null,null,null,null,null,null,"NZ",4040,40,40,7374405.5130000003,30.845410000000001,0.99996348999999995,2.0700000000761776E-6]
[null,null,null,null,null,null,null,null,"NZ",4041,40,41,7372554.7889999999,30.84544,0.99996151,1.9799999999570161E-6]
[null,null,null,null,null,null,null,null,"NZ",4042,40,42,7370704.0619999999,30.845469999999999,0.99995961,1.8999999999991246E-6]
[null,null,null,null,null,null,null,null,"NZ",4043,40,43,7368853.3339999998,30.845500000000001,0.99995780000000001,1.8099999999909855E-6]
[null,null,null,null,null,null,null,null,"NZ",4044,40,44,7367002.6040000003,30.84554,0.99995606999999997,1.730000000033094E-6]
[null,null,null,null,null,null,null,null,"NZ",4045,40,45,7365151.8720000004,30.845580000000002,0.99995442999999995,1.6400000000249548E-6]
[null,null,null,null,null,null,null,null,"NZ",4046,40,46,7363301.1370000001,30.84562,0.99995286999999999,1.559999999956041E-6]
[null,null,null,null,null,null,null,null,"NZ",4047,40,47,7361450.3990000002,30.845669999999998,0.99995139,{"$f":"O67-O68","v":1.4799999999981495E-6}]
[null,null,null,null,null,null,null,null,"NZ",4048,40,48,7359599.659,30.84572,0.99995000000000001,1.3899999999900103E-6]
[null,null,null,null,null,null,null,null,"NZ",4049,40,49,7357748.9160000002,30.845770000000002,0.99994868999999997,1.3100000000321188E-6]
[null,null,null,null,null,null,null,null,"NZ",4050,40,50,7355898.1699999999,30.84582,0.99994746000000001,1.229999999963205E-6]
[null,null,null,null,null,null,null,null,"NZ",4051,40,51,7354047.4210000001,30.845880000000001,0.99994632000000006,1.1399999999550658E-6]
[null,null,null,null,null,null,null,null,"NZ",4052,40,52,7352196.6689999998,30.845929999999999,0.99994527,1.050000000057949E-6]
[null,null,null,null,null,null,null,null,"NZ",4053,40,53,7350345.9129999997,30.84599,0.99994428999999996,9.8000000003928278E-7]
[null,null,null,null,null,null,null,null,"NZ",4054,40,54,7348495.1529999999,30.846060000000001,0.99994340000000004,8.8999999992012135E-7]
[null,null,null,null,null,null,null,null,"NZ",4055,40,55,7346644.3899999997,30.846119999999999,0.99994260000000001,8.0000000002300453E-7]
[null,null,null,null,null,null,null,null,"NZ",4056,40,56,7344793.6220000004,30.84619,0.99994187999999995,7.20000000065113E-7]
[null,null,null,null,null,null,null,null,"NZ",4057,40,57,7342942.8509999998,30.846260000000001,0.99994123999999995,6.3999999999619916E-7]
[null,null,null,null,null,null,null,null,"NZ",4058,40,58,7341092.0750000002,30.846340000000001,0.99994068999999997,5.4999999998806004E-7]
[null,null,null,null,null,null,null,null,"NZ",4059,40,59,7339241.2949999999,30.846409999999999,0.99994022000000005,4.6999999991914621E-7]
[null,null,null,null,null,null,null,null,"NZ",4100,41,0,7337390.5099999998,30.846489999999999,0.99993984000000002,3.8000000002202938E-7]
[null,null,null,null,null,null,null,null,"NZ",4101,41,1,7335539.7199999997,30.84657,0.99993953999999996,3.0000000006413785E-7]
[null,null,null,null,null,null,null,null,"NZ",4102,41,2,7333688.926,30.84666,0.99993931999999996,2.1999999999522402E-7]
[null,null,null,null,null,null,null,null,"NZ",4103,41,3,7331838.1270000003,30.84674,0.99993918999999998,1.2999999998708489E-7]
[null,null,null,null,null,null,null,null,"NZ",4104,41,4,7329987.3219999997,30.846830000000001,0.99993913999999995,5.0000000029193359E-8]
[null,null,null,null,null,null,null,null,"NZ",4105,41,5,7328136.5120000001,30.84693,0.99993918000000004,-4.0000000089968069E-8]
[null,null,null,null,null,null,null,null,"NZ",4106,41,6,7326285.6960000005,30.847020000000001,0.99993929999999998,-1.199999999368373E-7]
[null,null,null,null,null,null,null,null,"NZ",4107,41,7,7324434.875,30.84712,0.99993949999999998,-2.0000000000575113E-7]
[null,null,null,null,null,null,null,null,"NZ",4108,41,8,7322584.0480000004,30.84722,0.99993979,-2.9000000001389026E-7]
[null,null,null,null,null,null,null,null,"NZ",4109,41,9,7320733.2149999999,30.84732,0.99994017000000002,-3.8000000002202938E-7]
[null,null,null,null,null,null,null,null,"NZ",4110,41,10,7318882.3760000002,30.84742,0.99994063,-4.5999999997992091E-7]
[null,null,null,null,null,null,null,null,"NZ",4111,41,11,7317031.5310000004,30.847529999999999,0.99994117000000005,-5.4000000004883475E-7]
[null,null,null,null,null,null,null,null,"NZ",4112,41,12,7315180.6789999995,30.847639999999998,0.99994179999999999,-6.2999999994595157E-7]
[null,null,null,null,null,null,null,null,"NZ",4113,41,13,7313329.8200000003,30.847760000000001,0.99994251000000001,-7.1000000001486541E-7]
[null,null,null,null,null,null,null,null,"NZ",4114,41,14,7311478.9550000001,30.84787,0.99994331000000003,-8.0000000002300453E-7]
[null,null,null,null,null,null,null,null,"NZ",4115,41,15,7309628.0829999996,30.847989999999999,0.99994419000000001,-8.7999999998089606E-7]
[null,null,null,null,null,null,null,null,"NZ",4116,41,16,7307777.2029999997,30.848109999999998,0.99994514999999995,-9.599999999387876E-7]
[null,null,null,null,null,null,null,null,"NZ",4117,41,17,7305926.3169999998,30.848230000000001,0.99994620000000001,-1.050000000057949E-6]
[null,null,null,null,null,null,null,null,"NZ",4118,41,18,7304075.4230000004,30.84836,0.99994733999999996,-1.1399999999550658E-6]
[null,null,null,null,null,null,null,null,"NZ",4119,41,19,7302224.5209999997,30.848490000000002,0.99994855999999999,{"$f":"O99-O100","v":-1.2200000000239797E-6}]
[null,null,null,null,null,null,null,null,"NZ",4120,41,20,7300373.6119999997,30.84862,0.99994985999999997,-1.2999999999818712E-6]
[null,null,null,null,null,null,null,null,"NZ",4121,41,21,7298522.6950000003,30.848749999999999,0.99995124999999996,-1.3899999999900103E-6]
[null,null,null,null,null,null,null,null,"NZ",4122,41,22,7296671.7699999996,30.848890000000001,0.99995272000000002,-1.4700000000589242E-6]
[null,null,null,null,null,null,null,null,"NZ",4123,41,23,7294820.8370000003,30.849029999999999,0.99995427999999997,-1.559999999956041E-6]
[null,null,null,null,null,null,null,null,"NZ",4124,41,24,7292969.8949999996,30.849170000000001,0.99995592,-1.6400000000249548E-6]
[null,null,null,null,null,null,null,null,"NZ",4125,41,25,7291118.9450000003,30.849309999999999,0.99995765000000003,-1.730000000033094E-6]
[null,null,null,null,null,null,null,null,"NZ",4126,41,26,7289267.9859999996,30.849460000000001,0.99995946000000002,-1.8099999999909855E-6]
[null,null,null,null,null,null,null,null,"NZ",4127,41,27,7287417.0180000002,30.849609999999998,0.99996136000000002,-1.8999999999991246E-6]
[null,null,null,null,null,null,null,null,"NZ",4128,41,28,7285566.0420000004,30.84976,0.99996333999999998,-1.9799999999570161E-6]
[null,null,null,null,null,null,null,null,"NZ",4129,41,29,7283715.0559999999,30.849920000000001,0.99996541000000005,-2.0700000000761776E-6]
[null,null,null,null,null,null,null,null,"NZ",4130,41,30,7281864.0609999998,30.850069999999999,0.99996755999999998,-2.1499999999230468E-6]
[null,null,null,null,null,null,null,null,"NZ",4131,41,31,7280013.057,30.85023,0.99996978999999997,-2.2299999999919606E-6]
[null,null,null,null,null,null,null,null,"NZ",4132,41,32,7278162.0429999996,30.8504,0.99997212000000002,-2.3300000000503474E-6]
[null,null,null,null,null,null,null,null,"NZ",4133,41,33,7276311.0190000003,30.850560000000002,0.99997451999999998,-2.3999999999579913E-6]
[null,null,null,null,null,null,null,null,"NZ",4134,41,34,7274459.9850000003,30.850729999999999,0.99997701000000006,-2.4900000000771527E-6]
[null,null,null,null,null,null,null,null,"NZ",4135,41,35,7272608.9409999996,30.850899999999999,0.99997959000000003,-2.5799999999742695E-6]
[null,null,null,null,null,null,null,null,"NZ",4136,41,36,7270757.8870000001,30.85107,0.99998224999999996,-2.6599999999321611E-6]
[null,null,null,null,null,null,null,null,"NZ",4137,41,37,7268906.8229999999,30.85125,0.99998498999999996,-2.7400000000010749E-6]
[null,null,null,null,null,null,null,null,"NZ",4138,41,38,7267055.7479999997,30.851430000000001,0.99998783000000002,-2.8400000000594616E-6]
[null,null,null,null,null,null,null,null,"NZ",4139,41,39,7265204.6619999995,30.851610000000001,0.99999073999999999,-2.9099999999671056E-6]
[null,null,null,null,null,null,null,null,"NZ",4140,41,40,7263353.5659999996,30.851790000000001,0.99999373999999996,-2.9999999999752447E-6]
[null,null,null,null,null,null,null,null,"NZ",4141,41,41,7261502.4579999996,30.851980000000001,0.99999682999999995,-3.0899999999833838E-6]
[null,null,null,null,null,null,null,null,"NZ",4142,41,42,7259651.3389999997,30.852170000000001,1,-3.1700000000522977E-6]
[null,null,null,null,null,null,null,null,"NZ",4143,41,43,7257800.2089999998,30.852360000000001,1.0000032599999999,-3.2599999999494145E-6]
[null,null,null,null,null,null,null,null,"NZ",4144,41,44,7255949.068,30.852550000000001,1.0000066000000001,-3.3400000001293506E-6]
[null,null,null,null,null,null,null,null,"NZ",4145,41,45,7254097.915,30.85275,1.0000100199999999,-3.4199999998651975E-6]
[null,null,null,null,null,null,null,null,"NZ",4146,41,46,7252246.75,30.85295,1.0000135400000001,-3.5200000001456289E-6]
[null,null,null,null,null,null,null,null,"NZ",4147,41,47,7250395.5729999999,30.853149999999999,1.00001713,-3.5899999999422505E-6]
[null,null,null,null,null,null,null,null,"NZ",4148,41,48,7248544.3839999996,30.853359999999999,1.00002082,-3.6900000000006372E-6]
[null,null,null,null,null,null,null,null,"NZ",4149,41,49,7246693.182,30.853560000000002,1.0000245800000001,-3.7600000000193035E-6]
[null,null,null,null,null,null,null,null,"NZ",4150,41,50,7244841.9680000003,30.853770000000001,1.0000284399999999,-3.8599999998556456E-6]
[null,null,null,null,null,null,null,null,"NZ",4151,41,51,7242990.7419999996,30.85399,1.0000323799999999,{"$f":"O131-O132","v":-3.9400000000355817E-6}]
[null,null,null,null,null,null,null,null,"NZ",4152,41,52,7241139.5029999996,30.854199999999999,1.0000363999999999,-4.0199999999934732E-6]
[null,null,null,null,null,null,null,null,"NZ",4153,41,53,7239288.2510000002,30.854420000000001,1.00004051,-4.1100000001126347E-6]
[null,null,null,null,null,null,null,null,"NZ",4154,41,54,7237436.9850000003,30.85464,1.0000446999999999,-4.1899999998484816E-6]
[null,null,null,null,null,null,null,null,"NZ",4155,41,55,7235585.7070000004,30.854859999999999,1.0000489800000001,-4.2800000001896876E-6]
[null,null,null,null,null,null,null,null,"NZ",4156,41,56,7233734.415,30.855090000000001,1.00005335,-4.3699999998647598E-6]
[null,null,null,null,null,null,null,null,"NZ",4157,41,57,7231883.1100000003,30.855319999999999,1.0000578,-4.450000000044696E-6]
[null,null,null,null,null,null,null,null,"NZ",4158,41,58,7230031.7910000002,30.855550000000001,1.0000623399999999,-4.5399999999418128E-6]
[null,null,null,null,null,null,null,null,"NZ",4159,41,59,7228180.4579999996,30.855779999999999,1.0000669600000001,-4.6200000001217489E-6]
[null,null,null,null,null,null,null,null,"NZ",4200,42,0,7226329.1109999996,30.856020000000001,1.0000716700000001,-4.7100000000188658E-6]
[null,null,null,null,null,null,null,null,"NZ",4201,42,1,7224477.7489999998,30.856259999999999,1.0000764600000001,-4.7899999999767573E-6]
[null,null,null,null,null,null,null,null,"NZ",4202,42,2,7222626.3739999998,30.8565,1.0000813399999999,-4.8799999998738741E-6]
[null,null,null,null,null,null,null,null,"NZ",4203,42,3,7220774.9840000002,30.856750000000002,1.0000863,-4.9600000000538103E-6]
[null,null,null,null,null,null,null,null,"NZ",4204,42,4,7218923.5789999999,30.85699,1.0000913499999999,-5.0499999999509271E-6]
[null,null,null,null,null,null,null,null,"NZ",4205,42,5,7217072.1600000001,30.857240000000001,1.00009649,-5.1400000000700885E-6]
[null,null,null,null,null,null,null,null,"NZ",4206,42,6,7215220.7249999996,30.857489999999999,1.00010171,-5.22000000002798E-6]
[null,null,null,null,null,null,null,null,"NZ",4207,42,7,7213369.2750000004,30.857749999999999,1.00010702,-5.3099999999250969E-6]
[null,null,null,null,null,null,null,null,"NZ",4208,42,8,7211517.8109999998,30.85801,1.0001124100000001,-5.390000000105033E-6]
[null,null,null,null,null,null,null,null,"NZ",4209,42,9,7209666.3300000001,30.858270000000001,1.0001178900000001,-5.4800000000021498E-6]
[null,null,null,null,null,null,null,null,"NZ",4210,42,10,7207814.8339999998,30.858529999999998,1.00012345,-5.5599999999600414E-6]
[null,null,null,null,null,null,null,null,"SZ",3800,38,0,7932869.0369999995,30.839220000000001,1.00022476]
[null,null,null,null,null,null,null,null,"SZ",3801,38,1,7931018.6840000004,30.839099999999998,1.00021786,{"$f":"O152-O153","v":6.9000000000318806E-6}]
[null,null,null,null,null,null,null,null,"SZ",3802,38,2,7929168.3380000005,30.838979999999999,1.0002110500000001,6.8099999999127192E-6]
[null,null,null,null,null,null,null,null,"SZ",3803,38,3,7927318,30.83886,1.0002043300000001,6.7200000000156024E-6]
[null,null,null,null,null,null,null,null,"SZ",3804,38,4,7925467.6679999996,30.838740000000001,1.0001976800000001,6.6499999999969361E-6]
[null,null,null,null,null,null,null,null,"SZ",3805,38,5,7923617.3430000003,30.838629999999998,1.00019112,6.5600000000998193E-6]
[null,null,null,null,null,null,null,null,"SZ",3806,38,6,7921767.0259999996,30.838519999999999,1.0001846400000001,6.4799999999198832E-6]
[null,null,null,null,null,null,null,null,"SZ",3807,38,7,7919916.7149999999,30.83841,1.00017825,6.3900000000227664E-6]
[null,null,null,null,null,null,null,null,"SZ",3808,38,8,7918066.4100000001,30.8383,1.00017193,6.3200000000041001E-6]
[null,null,null,null,null,null,null,null,"SZ",3809,38,9,7916216.1119999997,30.838200000000001,1.0001656999999999,6.2300000001069833E-6]
[null,null,null,null,null,null,null,null,"SZ",3810,38,10,7914365.8200000003,30.838100000000001,1.0001595599999999,6.1399999999878219E-6]
[null,null,null,null,null,null,null,null,"SZ",3811,38,11,7912515.534,30.838100000000001,1.00015349,6.0699999999691556E-6]
[null,null,null,null,null,null,null,null,"SZ",3812,38,12,7910665.2529999996,30.837910000000001,1.0001475099999999,5.9800000000720388E-6]
[null,null,null,null,null,null,null,null,"SZ",3813,38,13,7908814.9790000003,30.837820000000001,1.00014161,5.8999999998921027E-6]
[null,null,null,null,null,null,null,null,"SZ",3814,38,14,7906964.71,30.837720000000001,1.0001358,5.8099999999949858E-6]
[null,null,null,null,null,null,null,null,"SZ",3815,38,15,7905114.4460000005,30.83764,1.00013007,5.7300000000370943E-6]
[null,null,null,null,null,null,null,null,"SZ",3816,38,16,7903264.1880000001,30.83755,1.0001244199999999,5.6500000000792028E-6]
[null,null,null,null,null,null,null,null,"SZ",3817,38,17,7901413.9349999996,30.83747,1.00011885,5.5699999998992666E-6]
[null,null,null,null,null,null,null,null,"SZ",3818,38,18,7899563.6869999999,30.837389999999999,1.00011337,5.4800000000021498E-6]
[null,null,null,null,null,null,null,null,"SZ",3819,38,19,7897713.4440000001,30.837309999999999,1.00010797,5.4000000000442583E-6]
[null,null,null,null,null,null,null,null,"SZ",3820,38,20,7895863.2050000001,30.837240000000001,1.0001026500000001,5.3199999998643221E-6]
[null,null,null,null,null,null,null,null,"SZ",3821,38,21,7894012.9709999999,30.83717,1.00009741,5.2400000001284752E-6]
[null,null,null,null,null,null,null,null,"SZ",3822,38,22,7892162.7410000004,30.8371,1.00009226,5.1500000000093138E-6]
[null,null,null,null,null,null,null,null,"SZ",3823,38,23,7890312.5149999997,30.837029999999999,1.0000872000000001,5.0599999998901524E-6]
[null,null,null,null,null,null,null,null,"SZ",3824,38,24,7888462.2929999996,30.836960000000001,1.00008221,4.9900000000935307E-6]
[null,null,null,null,null,null,null,null,"SZ",3825,38,25,7886612.0750000002,30.8369,1.00007731,4.8999999999743693E-6]
[null,null,null,null,null,null,null,null,"SZ",3826,38,26,7884761.8609999996,30.836839999999999,1.00007249,4.8200000000164778E-6]
[null,null,null,null,null,null,null,null,"SZ",3827,38,27,7882911.6509999996,30.836790000000001,1.0000677600000001,4.7299999998973163E-6]
[null,null,null,null,null,null,null,null,"SZ",3828,38,28,7881061.4440000001,30.836729999999999,1.0000631,4.6600000001006947E-6]
[null,null,null,null,null,null,null,null,"SZ",3829,38,29,7879211.2400000002,30.836680000000001,1.00005853,4.5699999999815333E-6]
[null,null,null,null,null,null,null,null,"SZ",3830,38,30,7877361.0389999999,30.83663,1.0000540499999999,4.4800000000844165E-6]
[null,null,null,null,null,null,null,null,"SZ",3831,38,31,7875510.841,30.836580000000001,1.00004965,4.3999999999044803E-6]
[null,null,null,null,null,null,null,null,"SZ",3832,38,32,7873660.6459999997,30.836539999999999,1.0000453300000001,4.3199999999465888E-6]
[null,null,null,null,null,null,null,null,"SZ",3833,38,33,7871810.4529999997,30.836500000000001,1.0000410900000001,{"$f":"O184-O185","v":4.2399999999886973E-6}]
[null,null,null,null,null,null,null,null,"SZ",3834,38,34,7869960.2630000003,30.836459999999999,1.00003694,4.1500000000915804E-6]
[null,null,null,null,null,null,null,null,"SZ",3835,38,35,7868110.0760000004,30.83642,1.0000328700000001,4.0699999999116443E-6]
[null,null,null,null,null,null,null,null,"SZ",3836,38,36,7866259.8899999997,30.836390000000002,1.0000288799999999,3.9900000001757974E-6]
[null,null,null,null,null,null,null,null,"SZ",3837,38,37,7864409.7070000004,30.836359999999999,1.0000249800000001,3.8999999998345913E-6]
[null,null,null,null,null,null,null,null,"SZ",3838,38,38,7862559.5250000004,30.83633,1.00002116,3.8200000000987444E-6]
[null,null,null,null,null,null,null,null,"SZ",3839,38,39,7860709.3449999997,30.836310000000001,1.00001743,3.729999999979583E-6]
[null,null,null,null,null,null,null,null,"SZ",3840,38,40,7858859.1670000004,30.836279999999999,1.00001377,3.6599999999609167E-6]
[null,null,null,null,null,null,null,null,"SZ",3841,38,41,7857008.9900000002,30.836259999999999,1.0000102099999999,3.5600000001245746E-6]
[null,null,null,null,null,null,null,null,"SZ",3842,38,42,7855158.8140000002,30.83624,1.00000672,3.4899999998838638E-6]
[null,null,null,null,null,null,null,null,"SZ",3843,38,43,7853308.6399999997,30.83623,1.00000332,3.399999999986747E-6]
[null,null,null,null,null,null,null,null,"SZ",3844,38,44,7851458.466,30.836220000000001,1,3.3200000000288554E-6]
[null,null,null,null,null,null,null,null,"SZ",3845,38,45,7849608.2929999996,30.836210000000001,0.99999676999999998,3.2300000000207163E-6]
[null,null,null,null,null,null,null,null,"SZ",3846,38,46,7847758.1210000003,30.836200000000002,0.99999360999999998,3.1600000000020501E-6]
[null,null,null,null,null,null,null,null,"SZ",3847,38,47,7845907.949,30.836189999999998,0.99999055000000003,3.0599999999436633E-6]
[null,null,null,null,null,null,null,null,"SZ",3848,38,48,7844057.7769999998,30.836189999999998,0.99998756,2.9900000000360194E-6]
[null,null,null,null,null,null,null,null,"SZ",3849,38,49,7842207.6059999997,30.836189999999998,0.99998465999999997,2.9000000000278803E-6]
[null,null,null,null,null,null,null,null,"SZ",3850,38,50,7840357.4340000004,30.836189999999998,0.99998184000000001,2.8199999999589664E-6]
[null,null,null,null,null,null,null,null,"SZ",3851,38,51,7838507.2630000003,30.836200000000002,0.99997910999999995,2.7300000000618496E-6]
[null,null,null,null,null,null,null,null,"SZ",3852,38,52,7836657.091,30.836210000000001,0.99997645999999996,2.6499999999929358E-6]
[null,null,null,null,null,null,null,null,"SZ",3853,38,53,7834806.9189999998,30.836220000000001,0.99997389000000003,2.5699999999240219E-6]
[null,null,null,null,null,null,null,null,"SZ",3854,38,54,7832956.7460000003,30.83623,0.99997141,2.4800000000269051E-6]
[null,null,null,null,null,null,null,null,"SZ",3855,38,55,7831106.5719999997,30.83624,0.99996901000000005,2.3999999999579913E-6]
[null,null,null,null,null,null,null,null,"SZ",3856,38,56,7829256.3969999999,30.836259999999999,0.99996669999999999,2.3100000000608745E-6]
[null,null,null,null,null,null,null,null,"SZ",3857,38,57,7827406.2220000001,30.836279999999999,0.99996446999999999,2.2299999999919606E-6]
[null,null,null,null,null,null,null,null,"SZ",3858,38,58,7825556.0449999999,30.836310000000001,0.99996231999999996,2.1500000000340691E-6]
[null,null,null,null,null,null,null,null,"SZ",3859,38,59,7823705.8660000004,30.83633,0.99996026000000005,2.0599999999149077E-6]
[null,null,null,null,null,null,null,null,"SZ",3900,39,0,7821855.6859999998,30.836359999999999,0.99995827999999998,1.9800000000680384E-6]
[null,null,null,null,null,null,null,null,"SZ",3901,39,1,7820005.5039999997,30.836390000000002,0.99995637999999998,1.8999999999991246E-6]
[null,null,null,null,null,null,null,null,"SZ",3902,39,2,7818155.3210000005,30.83643,0.99995456999999999,1.8099999999909855E-6]
[null,null,null,null,null,null,null,null,"SZ",3903,39,3,7816305.1349999998,30.836459999999999,0.99995283999999995,1.730000000033094E-6]
[null,null,null,null,null,null,null,null,"SZ",3904,39,4,7814454.9469999997,30.836500000000001,0.99995118999999999,1.6499999999641801E-6]
[null,null,null,null,null,null,null,null,"SZ",3905,39,5,7812604.7570000002,30.836539999999999,0.99994963000000003,{"$f":"O216-O217","v":1.559999999956041E-6}]
[null,null,null,null,null,null,null,null,"SZ",3906,39,6,7810754.5650000004,30.836590000000001,0.99994815999999997,1.4700000000589242E-6]
[null,null,null,null,null,null,null,null,"SZ",3907,39,7,7808904.3689999999,30.83663,0.99994676000000005,1.3999999999292356E-6]
[null,null,null,null,null,null,null,null,"SZ",3908,39,8,7807054.1710000001,30.836680000000001,0.99994545000000001,1.3100000000321188E-6]
[null,null,null,null,null,null,null,null,"SZ",3909,39,9,7805203.9699999997,30.836739999999999,0.99994422999999999,1.2200000000239797E-6]
[null,null,null,null,null,null,null,null,"SZ",3910,39,10,7803353.7659999998,30.836790000000001,0.99994309000000003,1.1399999999550658E-6]
[null,null,null,null,null,null,null,null,"SZ",3911,39,11,7801503.5590000004,30.836849999999998,0.99994203000000004,1.0599999999971743E-6]
[null,null,null,null,null,null,null,null,"SZ",3912,39,12,7799653.3480000002,30.83691,0.99994106000000005,9.6999999998903519E-7]
[null,null,null,null,null,null,null,null,"SZ",3913,39,13,7797803.1339999996,30.836970000000001,0.99994017000000002,8.9000000003114366E-7]
[null,null,null,null,null,null,null,null,"SZ",3914,39,14,7795952.915,30.837029999999999,0.99993936000000005,8.0999999996222982E-7]
[null,null,null,null,null,null,null,null,"SZ",3915,39,15,7794102.693,30.8371,0.99993863999999999,7.20000000065113E-7]
[null,null,null,null,null,null,null,null,"SZ",3916,39,16,7792252.4670000002,30.83717,0.99993801000000004,6.2999999994595157E-7]
[null,null,null,null,null,null,null,null,"SZ",3917,39,17,7790402.2369999997,30.837250000000001,0.99993745999999994,5.5000000009908234E-7]
[null,null,null,null,null,null,null,null,"SZ",3918,39,18,7788552.0020000003,30.837319999999998,0.99993699000000003,4.6999999991914621E-7]
[null,null,null,null,null,null,null,null,"SZ",3919,39,19,7786701.7630000003,30.837399999999999,0.99993659999999995,3.9000000007227698E-7]
[null,null,null,null,null,null,null,null,"SZ",3920,39,20,7784851.5190000003,30.837479999999999,0.9999363,2.9999999995311555E-7]
[null,null,null,null,null,null,null,null,"SZ",3921,39,21,7783001.2699999996,30.83756,0.99993609000000006,2.0999999994497642E-7]
[null,null,null,null,null,null,null,null,"SZ",3922,39,22,7781151.017,30.83765,0.99993595999999996,1.3000000009810719E-7]
[null,null,null,null,null,null,null,null,"SZ",3923,39,23,7779300.7580000004,30.83774,0.99993591000000004,4.9999999918171056E-8]
[null,null,null,null,null,null,null,null,"SZ",3924,39,24,7777450.4929999998,30.83783,0.99993593999999997,-2.9999999928698173E-8]
[null,null,null,null,null,null,null,null,"SZ",3925,39,25,7775600.2240000004,30.83792,0.99993606999999995,-1.2999999998708489E-7]
[null,null,null,null,null,null,null,null,"SZ",3926,39,26,7773749.949,30.83802,0.99993626999999996,-2.0000000000575113E-7]
[null,null,null,null,null,null,null,null,"SZ",3927,39,27,7771899.6670000004,30.83812,0.99993655999999997,-2.9000000001389026E-7]
[null,null,null,null,null,null,null,null,"SZ",3928,39,28,7770049.3799999999,30.83822,0.99993694,-3.8000000002202938E-7]
[null,null,null,null,null,null,null,null,"SZ",3929,39,29,7768199.0870000003,30.83832,0.99993739000000004,-4.5000000004069562E-7]
[null,null,null,null,null,null,null,null,"SZ",3930,39,30,7766348.7879999997,30.838429999999999,0.99993794000000003,-5.4999999998806004E-7]
[null,null,null,null,null,null,null,null,"SZ",3931,39,31,7764498.4819999998,30.838539999999998,0.99993856000000003,-6.2000000000672628E-7]
[null,null,null,null,null,null,null,null,"SZ",3932,39,32,7762648.1699999999,30.838650000000001,0.99993927999999999,-7.199999999540907E-7]
[null,null,null,null,null,null,null,null,"SZ",3933,39,33,7760797.8509999998,30.838760000000001,0.99994006999999996,-7.8999999997275694E-7]
[null,null,null,null,null,null,null,null,"SZ",3934,39,34,7758947.5250000004,30.83888,0.99994095000000005,-8.8000000009191837E-7]
[null,null,null,null,null,null,null,null,"SZ",3935,39,35,7757097.1919999998,30.838999999999999,0.99994192000000004,-9.6999999998903519E-7]
[null,null,null,null,null,null,null,null,"SZ",3936,39,36,7755246.852,30.839120000000001,0.99994296999999999,-1.0499999999469267E-6]
[null,null,null,null,null,null,null,null,"SZ",3937,39,37,7753396.5049999999,30.83925,0.9999441,{"$f":"O248-O249","v":-1.1300000000158406E-6}]
[null,null,null,null,null,null,null,null,"SZ",3938,39,38,7751546.1500000004,30.839379999999998,0.99994532000000003,-1.2200000000239797E-6]
[null,null,null,null,null,null,null,null,"SZ",3939,39,39,7749695.7869999995,30.839510000000001,0.99994662999999995,-1.3099999999210965E-6]
[null,null,null,null,null,null,null,null,"SZ",3940,39,40,7747845.4170000004,30.839639999999999,0.99994801,-1.380000000050785E-6]
[null,null,null,null,null,null,null,null,"SZ",3941,39,41,7745995.0389999999,30.839780000000001,0.99994949,-1.4799999999981495E-6]
[null,null,null,null,null,null,null,null,"SZ",3942,39,42,7744144.6519999998,30.83991,0.99995104000000001,-1.5500000000168157E-6]
[null,null,null,null,null,null,null,null,"SZ",3943,39,43,7742294.2570000002,30.840050000000002,0.99995268999999998,-1.6499999999641801E-6]
[null,null,null,null,null,null,null,null,"SZ",3944,39,44,7740443.8540000003,30.840199999999999,0.99995440999999996,-1.7199999999828464E-6]
[null,null,null,null,null,null,null,null,"SZ",3945,39,45,7738593.4419999998,30.840340000000001,0.99995621999999995,-1.8099999999909855E-6]
[null,null,null,null,null,null,null,null,"SZ",3946,39,46,7736743.0219999999,30.840489999999999,0.99995811999999995,-1.8999999999991246E-6]
[null,null,null,null,null,null,null,null,"SZ",3947,39,47,7734892.5920000002,30.84064,0.99996010000000002,-1.9800000000680384E-6]
[null,null,null,null,null,null,null,null,"SZ",3948,39,48,7733042.1529999999,30.840800000000002,0.99996216999999998,-2.0699999999651553E-6]
[null,null,null,null,null,null,null,null,"SZ",3949,39,49,7731191.7060000002,30.840949999999999,0.99996432000000002,-2.1500000000340691E-6]
[null,null,null,null,null,null,null,null,"SZ",3950,39,50,7729341.2479999997,30.84111,0.99996655000000001,-2.2299999999919606E-6]
[null,null,null,null,null,null,null,null,"SZ",3951,39,51,7727490.7819999997,30.841270000000002,0.99996887000000001,-2.3200000000000998E-6]
[null,null,null,null,null,null,null,null,"SZ",3952,39,52,7725640.3049999997,30.841439999999999,0.99997128000000002,-2.4100000000082389E-6]
[null,null,null,null,null,null,null,null,"SZ",3953,39,53,7723789.8190000001,30.841609999999999,0.99997376999999998,-2.4899999999661304E-6]
[null,null,null,null,null,null,null,null,"SZ",3954,39,54,7721939.3229999999,30.84178,0.99997634000000002,-2.5700000000350443E-6]
[null,null,null,null,null,null,null,null,"SZ",3955,39,55,7720088.8159999996,30.841950000000001,0.99997899999999995,-2.6599999999321611E-6]
[null,null,null,null,null,null,null,null,"SZ",3956,39,56,7718238.2989999996,30.842120000000001,0.99998175,-2.7500000000513225E-6]
[null,null,null,null,null,null,null,null,"SZ",3957,39,57,7716387.7719999999,30.842300000000002,0.99998458000000001,-2.830000000009214E-6]
[null,null,null,null,null,null,null,null,"SZ",3958,39,58,7714537.2340000002,30.842479999999998,0.99998748999999998,-2.9099999999671056E-6]
[null,null,null,null,null,null,null,null,"SZ",3959,39,59,7712686.6849999996,30.842659999999999,0.99999048999999995,-2.9999999999752447E-6]
[null,null,null,null,null,null,null,null,"SZ",4000,40,0,7710836.125,30.842849999999999,0.99999358000000005,-3.0900000000944061E-6]
[null,null,null,null,null,null,null,null,"SZ",4001,40,1,7708985.5539999995,30.843039999999998,0.99999674999999999,-3.1699999999412753E-6]
[null,null,null,null,null,null,null,null,"SZ",4002,40,2,7707134.9720000001,30.843229999999998,1,-3.2500000000101892E-6]
[null,null,null,null,null,null,null,null,"SZ",4003,40,3,7705284.3779999996,30.843419999999998,1.0000033399999999,-3.339999999907306E-6]
[null,null,null,null,null,null,null,null,"SZ",4004,40,4,7703433.773,30.843620000000001,1.0000067699999999,-3.4300000000264674E-6]
[null,null,null,null,null,null,null,null,"SZ",4005,40,5,7701583.1560000004,30.843820000000001,1.0000102799999999,-3.509999999984359E-6]
[null,null,null,null,null,null,null,null,"SZ",4006,40,6,7699732.5269999998,30.84402,1.0000138700000001,-3.5900000001642951E-6]
[null,null,null,null,null,null,null,null,"SZ",4007,40,7,7697881.8859999999,30.84422,1.0000175499999999,-3.6799999998393673E-6]
[null,null,null,null,null,null,null,null,"SZ",4008,40,8,7696031.233,30.844429999999999,1.0000213200000001,-3.7700000001805734E-6]
[null,null,null,null,null,null,null,null,"SZ",4009,40,9,7694180.5669999998,30.844639999999998,1.00002517,{"$f":"O280-O281","v":-3.8499999999164203E-6}]
[null,null,null,null,null,null,null,null,"SZ",4010,40,10,7692329.8890000004,30.844850000000001,1.0000290999999999,-3.9299999998743118E-6]
[null,null,null,null,null,null,null,null,"SZ",4011,40,11,7690479.1979999999,30.84506,1.00003313,-4.0300000001547431E-6]
[null,null,null,null,null,null,null,null,"SZ",4012,40,12,7688628.4950000001,30.845279999999999,1.00003723,-4.0999999999513648E-6]
[null,null,null,null,null,null,null,null,"SZ",4013,40,13,7686777.7779999999,30.845500000000001,1.00004143,-4.2000000000097515E-6]
[null,null,null,null,null,null,null,null,"SZ",4014,40,14,7684927.0480000004,30.84572,1.0000457,-4.2700000000284177E-6]
[null,null,null,null,null,null,null,null,"SZ",4015,40,15,7683076.3049999997,30.845949999999998,1.0000500699999999,-4.3699999998647598E-6]
[null,null,null,null,null,null,null,null,"SZ",4016,40,16,7681225.5480000004,30.846170000000001,1.00005451,-4.4400000001054707E-6]
[null,null,null,null,null,null,null,null,"SZ",4017,40,17,7679374.7779999999,30.846399999999999,1.0000590499999999,-4.5399999999418128E-6]
[null,null,null,null,null,null,null,null,"SZ",4018,40,18,7677523.9929999998,30.846640000000001,1.0000636700000001,-4.6200000001217489E-6]
[null,null,null,null,null,null,null,null,"SZ",4019,40,19,7675673.1950000003,30.846869999999999,1.0000683699999999,-4.6999999998575959E-6]
[null,null,null,null,null,null,null,null,"SZ",4020,40,20,7673822.3830000004,30.847110000000001,1.0000731599999999,-4.7899999999767573E-6]
[null,null,null,null,null,null,null,null,"SZ",4021,40,21,7671971.5559999999,30.847349999999999,1.00007804,-4.8800000000959187E-6]
[null,null,null,null,null,null,null,null,"SZ",4022,40,22,7670120.7149999999,30.8476,1.000073,5.0400000000117018E-6]
[null,null,null,null,null,null,null,null,"SZ",4023,40,23,7668269.8590000002,30.847840000000001,1.00008805,-1.5050000000016439E-5]
[null,null,null,null,null,null,null,null,"SZ",4024,40,24,7666418.9890000001,30.848089999999999,1.0000931799999999,-5.1299999999088186E-6]
[null,null,null,null,null,null,null,null,"SZ",4025,40,25,7664568.1030000001,30.84834,1.0000983999999999,-5.22000000002798E-6]
[null,null,null,null,null,null,null,null,"SZ",4026,40,26,7662717.2029999997,30.848600000000001,1.0001036999999999,-5.2999999999858716E-6]
[null,null,null,null,null,null,null,null,"SZ",4027,40,27,7660866.2869999995,30.848849999999999,1.00010909,-5.390000000105033E-6]
[null,null,null,null,null,null,null,null,"SZ",4028,40,28,7659015.3559999997,30.84911,1.0001145600000001,-5.4700000000629245E-6]
[null,null,null,null,null,null,null,null,"SZ",4029,40,29,7657164.409,30.84937,1.00012013,-5.5699999998992666E-6]
[null,null,null,null,null,null,null,null,"SZ",4030,40,30,7655313.4469999997,30.849640000000001,1.0001257699999999,-5.6399999999179329E-6]
[null,null,null,null,null,null,null,null,"SZ",4031,40,31,7653462.4680000003,30.849910000000001,1.0001315,-5.7300000000370943E-6]
[null,null,null,null,null,null,null,null,"SZ",4032,40,32,7651611.4740000004,30.850180000000002,1.0001373200000001,-5.8200000001562557E-6]
[null,null,null,null,null,null,null,null,"SZ",4033,40,33,7649760.4630000005,30.850449999999999,1.0001432299999999,-5.909999999831328E-6]
[null,null,null,null,null,null,null,null,"SZ",4034,40,34,7647909.4359999998,30.850719999999999,1.0001492199999999,-5.9900000000112641E-6]
[null,null,null,null,null,null,null,null,"SZ",4035,40,35,7646058.3930000002,30.850999999999999,1.0001552899999999,-6.0699999999691556E-6]
[null,null,null,null,null,null,null,null,"SZ",4036,40,36,7644207.3329999996,30.851279999999999,1.0001644999999999,-9.2099999999817328E-6]
[null,null,null,null,null,null,null,null,"SZ",4037,40,37,7642356.2560000001,30.851569999999999,1.0001677,-3.2000000000920181E-6]
[null,null,null,null,null,null,null,null,"SZ",4038,40,38,7640505.1619999995,30.851849999999999,1.0001740299999999,-6.3299999999433254E-6]
[null,null,null,null,null,null,null,null,"SZ",4039,40,39,7638654.051,30.852139999999999,1.00018045,-6.4200000000624868E-6]

{"sheet":"GRID>GRND","index":2,"n_rows":95,"n_cols":14,"rows_kept":95,"cut":false,"hidden":false,"merged":[[0,6,0,7],[1,6,1,7],[0,1,0,2],[1,1,1,2],[5,0,5,4],[5,6,5,10],[4,0,4,4],[4,6,4,10]]}
["Project:",{"$f":"REPORT!B2","v":"TUS-800-22.74"},null,null,null,"Input Units (please select):","State Plane Grid - US Survey Feet",null,null,"Unitless Grid to Ground Factor:",{"$f":"REPORT!C13","v":0}]
["Pid:",{"$f":"REPORT!E2","v":100603},null,null,null,"Output Units (please select):","Ground - US Survey Feet",null,null,"Project Adjustment Factor:",{"$f":"K1*K3","v":0}]
[null,null,null,null,null,null,null,null,null,"Metric to US Survey Feet Factor:",{"$f":"3937/1200","v":3.2808333333333333}]
[]
["INPUT",null,null,null,null,null,"OUTPUT"]
[{"$f":"G1","v":"State Plane Grid - US Survey Feet"},null,null,null,null,null,{"$f":"G2","v":"Ground - US Survey Feet"},null,null,null,null,null,null,"INPUT UNITS"]
["NAME","NORTH","EAST","ORTHO HT","FEATURE",null,"NAME","NORTH","EAST","ORTHO HT","FEATURE",null,null,"State Plane Grid - Meters"]
[null,null,null,null,null,null,{"$f":"A8","v":0},{"$f":"IF(AND($G$1=\"STATE PLANE GRID - METERS\",$G$2=\"STATE PLANE GRID - US SURVEY FEET\"),B8*$K$3,IF(AND($G$1=\"STATE PLANE GRID - METERS\",$G$2=\"GROUND - METERS\"),B8*$K$1,IF(AND($G$1=\"STATE PLANE GRID - METERS\",$G$2=\"GROUND - US SURVEY FEET\"),B8*$K$2,IF(AND($G$1=\"STATE PLANE GRID - US SURVEY FEET\",$G$2=\"STATE PLANE GRID - METERS\"),B8/$K$3,IF(AND($G$1=\"STATE PLANE GRID - US SURVEY FEET\",$G$2=\"GROUND - METERS\"),B8/$K$2,IF(AND($G$1=\"STATE PLANE GRID - US SURVEY FEET\",$G$2=\"GROUND - US SURVEY FEET\"),B8*$K$1,IF(AND($G$1=\"GROUND - METERS\",$G$2=\"STATE PLANE GRID - US SURVEY FEET\"),B8*$K$3/$K$1,IF(AND($G$1=\"GROUND - METERS\",$G$2=\"STATE PLANE GRID - METERS\"),B8/$K$1,IF(AND($G$1=\"GROUND - METERS\",$G$2=\"GROUND - US SURVEY FEET\"),B8*$K$3,IF(AND($G$1=\"GROUND - US SURVEY FEET\",$G$2=\"STATE PLANE GRID - US SURVEY FEET\"),B8/$K$1,IF(AND($G$1=\"GROUND - US SURVEY FEET\",$G$2=\"STATE PLANE GRID - METERS\"),B8/$K$2,IF(AND($G$1=\"GROUND - US SURVEY FEET\",$G$2=\"GROUND - METERS\"),B8/$K$3))))))))))))","v":0},{"$f":"IF(AND($G$1=\"STATE PLANE GRID - METERS\",$G$2=\"STATE PLANE GRID - US SURVEY FEET\"),C8*$K$3,IF(AND($G$1=\"STATE PLANE GRID - METERS\",$G$2=\"GROUND - METERS\"),C8*$K$1,IF(AND($G$1=\"STATE PLANE GRID - METERS\",$G$2=\"GROUND - US SURVEY FEET\"),C8*$K$2,IF(AND($G$1=\"STATE PLANE GRID - US SURVEY FEET\",$G$2=\"STATE PLANE GRID - METERS\"),C8/$K$3,IF(AND($G$1=\"STATE PLANE GRID - US SURVEY FEET\",$G$2=\"GROUND - METERS\"),C8/$K$2,IF(AND($G$1=\"STATE PLANE GRID - US SURVEY FEET\",$G$2=\"GROUND - US SURVEY FEET\"),C8*$K$1,IF(AND($G$1=\"GROUND - METERS\",$G$2=\"STATE PLANE GRID - US SURVEY FEET\"),C8*$K$3/$K$1,IF(AND($G$1=\"GROUND - METERS\",$G$2=\"STATE PLANE GRID - METERS\"),C8/$K$1,IF(AND($G$1=\"GROUND - METERS\",$G$2=\"GROUND - US SURVEY FEET\"),C8*$K$3,IF(AND($G$1=\"GROUND - US SURVEY FEET\",$G$2=\"STATE PLANE GRID - US SURVEY FEET\"),C8/$K$1,IF(AND($G$1=\"GROUND - US SURVEY FEET\",$G$2=\"STATE PLANE GRID - METERS\"),C8/$K$2,IF(AND($G$1=\"GROUND - US SURVEY FEET\",$G$2=\"GROUND - METERS\"),C8/$K$3))))))))))))","v":0},{"$f":"IF(AND($G$1=\"STATE PLANE GRID - METERS\",$G$2=\"STATE PLANE GRID - US SURVEY FEET\"),D8*$K$3,IF(AND($G$1=\"STATE PLANE GRID - METERS\",$G$2=\"GROUND - METERS\"),B8,IF(AND($G$1=\"STATE PLANE GRID - METERS\",$G$2=\"GROUND - US SURVEY FEET\"),D8*$K$3,IF(AND($G$1=\"STATE PLANE GRID - US SURVEY FEET\",$G$2=\"STATE PLANE GRID - METERS\"),D8/$K$3,IF(AND($G$1=\"STATE PLANE GRID - US SURVEY FEET\",$G$2=\"GROUND - METERS\"),D8/$K$3,IF(AND($G$1=\"STATE PLANE GRID - US SURVEY FEET\",$G$2=\"GROUND - US SURVEY FEET\"),D8,IF(AND($G$1=\"GROUND - METERS\",$G$2=\"STATE PLANE GRID - US SURVEY FEET\"),D8*$K$3,IF(AND($G$1=\"GROUND - METERS\",$G$2=\"STATE PLANE GRID - METERS\"),D8,IF(AND($G$1=\"GROUND - METERS\",$G$2=\"GROUND - US SURVEY FEET\"),D8*$K$3,IF(AND($G$1=\"GROUND - US SURVEY FEET\",$G$2=\"STATE PLANE GRID - US SURVEY FEET\"),D8,IF(AND($G$1=\"GROUND - US SURVEY FEET\",$G$2=\"STATE PLANE GRID - METERS\"),D8/$K$3,IF(AND($G$1=\"GROUND - US SURVEY FEET\",$G$2=\"GROUND - METERS\"),D8/$K$3))))))))))))","v":0},{"$f":"E8","v":0},null,null,"State Plane Grid - US Survey Feet"]
[null,null,null,null,null,null,0,0,0,0,0,null,null,"Ground - Meters"]
[null,null,null,null,null,null,0,0,0,0,0,null,null,"Ground - US Survey Feet"]
[null,null,null,null,null,null,0,0,0,0,0]
[null,null,null,null,null,null,0,0,0,0,0]
[null,null,null,null,null,null,0,0,0,0,0]
[null,null,null,null,null,null,0,0,0,0,0]
[null,null,null,null,null,null,0,0,0,0,0]
[null,null,null,null,null,null,0,0,0,0,0]
[null,null,null,null,null,null,0,0,0,0,0]
[null,null,null,null,null,null,0,0,0,0,0]
[null,null,null,null,null,null,0,0,0,0,0]
[null,null,null,null,null,null,0,0,0,0,0]
[null,null,null,null,null,null,0,0,0,0,0]
[null,null,null,null,null,null,0,0,0,0,0]
[null,null,null,null,null,null,0,0,0,0,0]
[null,null,null,null,null,null,0,0,0,0,0]
[null,null,null,null,null,null,0,0,0,0,0]
[null,null,null,null,null,null,0,0,0,0,0]
[null,null,null,null,null,null,0,0,0,0,0]
[null,null,null,null,null,null,0,0,0,0,0]
[null,null,null,null,null,null,0,0,0,0,0]
[null,null,null,null,null,null,0,0,0,0,0]
[null,null,null,null,null,null,0,0,0,0,0]
[null,null,null,null,null,null,0,0,0,0,0]
[null,null,null,null,null,null,0,0,0,0,0]
[null,null,null,null,null,null,0,0,0,0,0]
[null,null,null,null,null,null,0,0,0,0,0]
[null,null,null,null,null,null,0,0,0,0,0]
[null,null,null,null,null,null,0,0,0,0,0]
[null,null,null,null,null,null,0,0,0,0,0]
[null,null,null,null,null,null,0,0,0,0,0]
[null,null,null,null,null,null,0,{"$f":"IF(AND($G$1=\"STATE PLANE GRID - METERS\",$G$2=\"STATE PLANE GRID - US SURVEY FEET\"),B40*$K$3,IF(AND($G$1=\"STATE PLANE GRID - METERS\",$G$2=\"GROUND - METERS\"),B40*$K$1,IF(AND($G$1=\"STATE PLANE GRID - METERS\",$G$2=\"GROUND - US SURVEY FEET\"),B40*$K$2,IF(AND($G$1=\"STATE PLANE GRID - US SURVEY FEET\",$G$2=\"STATE PLANE GRID - METERS\"),B40/$K$3,IF(AND($G$1=\"STATE PLANE GRID - US SURVEY FEET\",$G$2=\"GROUND - METERS\"),B40/$K$2,IF(AND($G$1=\"STATE PLANE GRID - US SURVEY FEET\",$G$2=\"GROUND - US SURVEY FEET\"),B40*$K$1,IF(AND($G$1=\"GROUND - METERS\",$G$2=\"STATE PLANE GRID - US SURVEY FEET\"),B40*$K$3/$K$1,IF(AND($G$1=\"GROUND - METERS\",$G$2=\"STATE PLANE GRID - METERS\"),B40/$K$1,IF(AND($G$1=\"GROUND - METERS\",$G$2=\"GROUND - US SURVEY FEET\"),B40*$K$3,IF(AND($G$1=\"GROUND - US SURVEY FEET\",$G$2=\"STATE PLANE GRID - US SURVEY FEET\"),B40/$K$1,IF(AND($G$1=\"GROUND - US SURVEY FEET\",$G$2=\"STATE PLANE GRID - METERS\"),B40/$K$2,IF(AND($G$1=\"GROUND - US SURVEY FEET\",$G$2=\"GROUND - METERS\"),B40/$K$3))))))))))))","v":0},{"$f":"IF(AND($G$1=\"STATE PLANE GRID - METERS\",$G$2=\"STATE PLANE GRID - US SURVEY FEET\"),C40*$K$3,IF(AND($G$1=\"STATE PLANE GRID - METERS\",$G$2=\"GROUND - METERS\"),C40*$K$1,IF(AND($G$1=\"STATE PLANE GRID - METERS\",$G$2=\"GROUND - US SURVEY FEET\"),C40*$K$2,IF(AND($G$1=\"STATE PLANE GRID - US SURVEY FEET\",$G$2=\"STATE PLANE GRID - METERS\"),C40/$K$3,IF(AND($G$1=\"STATE PLANE GRID - US SURVEY FEET\",$G$2=\"GROUND - METERS\"),C40/$K$2,IF(AND($G$1=\"STATE PLANE GRID - US SURVEY FEET\",$G$2=\"GROUND - US SURVEY FEET\"),C40*$K$1,IF(AND($G$1=\"GROUND - METERS\",$G$2=\"STATE PLANE GRID - US SURVEY FEET\"),C40*$K$3/$K$1,IF(AND($G$1=\"GROUND - METERS\",$G$2=\"STATE PLANE GRID - METERS\"),C40/$K$1,IF(AND($G$1=\"GROUND - METERS\",$G$2=\"GROUND - US SURVEY FEET\"),C40*$K$3,IF(AND($G$1=\"GROUND - US SURVEY FEET\",$G$2=\"STATE PLANE GRID - US SURVEY FEET\"),C40/$K$1,IF(AND($G$1=\"GROUND - US SURVEY FEET\",$G$2=\"STATE PLANE GRID - METERS\"),C40/$K$2,IF(AND($G$1=\"GROUND - US SURVEY FEET\",$G$2=\"GROUND - METERS\"),C40/$K$3))))))))))))","v":0},{"$f":"IF(AND($G$1=\"STATE PLANE GRID - METERS\",$G$2=\"STATE PLANE GRID - US SURVEY FEET\"),D40*$K$3,IF(AND($G$1=\"STATE PLANE GRID - METERS\",$G$2=\"GROUND - METERS\"),B40,IF(AND($G$1=\"STATE PLANE GRID - METERS\",$G$2=\"GROUND - US SURVEY FEET\"),D40*$K$3,IF(AND($G$1=\"STATE PLANE GRID - US SURVEY FEET\",$G$2=\"STATE PLANE GRID - METERS\"),D40/$K$3,IF(AND($G$1=\"STATE PLANE GRID - US SURVEY FEET\",$G$2=\"GROUND - METERS\"),D40/$K$3,IF(AND($G$1=\"STATE PLANE GRID - US SURVEY FEET\",$G$2=\"GROUND - US SURVEY FEET\"),D40,IF(AND($G$1=\"GROUND - METERS\",$G$2=\"STATE PLANE GRID - US SURVEY FEET\"),D40*$K$3,IF(AND($G$1=\"GROUND - METERS\",$G$2=\"STATE PLANE GRID - METERS\"),D40,IF(AND($G$1=\"GROUND - METERS\",$G$2=\"GROUND - US SURVEY FEET\"),D40*$K$3,IF(AND($G$1=\"GROUND - US SURVEY FEET\",$G$2=\"STATE PLANE GRID - US SURVEY FEET\"),D40,IF(AND($G$1=\"GROUND - US SURVEY FEET\",$G$2=\"STATE PLANE GRID - METERS\"),D40/$K$3,IF(AND($G$1=\"GROUND - US SURVEY FEET\",$G$2=\"GROUND - METERS\"),D40/$K$3))))))))))))","v":0},0]
[null,null,null,null,null,null,0,0,0,0,0]
[null,null,null,null,null,null,0,0,0,0,0]
[null,null,null,null,null,null,0,0,0,0,0]
[null,null,null,null,null,null,0,0,0,0,0]
[null,null,null,null,null,null,0,0,0,0,0]
[null,null,null,null,null,null,0,0,0,0,0]
[null,null,null,null,null,null,0,0,0,0,0]
[null,null,null,null,null,null,0,0,0,0,0]
[null,null,null,null,null,null,0,0,0,0,0]
[null,null,null,null,null,null,0,0,0,0,0]
[null,null,null,null,null,null,0,0,0,0,0]
[null,null,null,null,null,null,0,0,0,0,0]
[null,null,null,null,null,null,0,0,0,0,0]
[null,null,null,null,null,null,0,0,0,0,0]
[null,null,null,null,null,null,0,0,0,0,0]
[null,null,null,null,null,null,0,0,0,0,0]
[null,null,null,null,null,null,0,0,0,0,0]
[null,null,null,null,null,null,0,0,0,0,0]
[null,null,null,null,null,null,0,0,0,0,0]
[null,null,null,null,null,null,0,0,0,0,0]
[null,null,null,null,null,null,0,0,0,0,0]
[null,null,null,null,null,null,0,0,0,0,0]
[null,null,null,null,null,null,0,0,0,0,0]
[null,null,null,null,null,null,0,0,0,0,0]
[null,null,null,null,null,null,0,0,0,0,0]
[null,null,null,null,null,null,0,0,0,0,0]
[null,null,null,null,null,null,0,0,0,0,0]
[null,null,null,null,null,null,0,0,0,0,0]
[null,null,null,null,null,null,0,0,0,0,0]
[null,null,null,null,null,null,0,0,0,0,0]
[null,null,null,null,null,null,0,0,0,0,0]
[null,null,null,null,null,null,{"$f":"A72","v":0},{"$f":"IF(AND($G$1=\"STATE PLANE GRID - METERS\",$G$2=\"STATE PLANE GRID - US SURVEY FEET\"),B72*$K$3,IF(AND($G$1=\"STATE PLANE GRID - METERS\",$G$2=\"GROUND - METERS\"),B72*$K$1,IF(AND($G$1=\"STATE PLANE GRID - METERS\",$G$2=\"GROUND - US SURVEY FEET\"),B72*$K$2,IF(AND($G$1=\"STATE PLANE GRID - US SURVEY FEET\",$G$2=\"STATE PLANE GRID - METERS\"),B72/$K$3,IF(AND($G$1=\"STATE PLANE GRID - US SURVEY FEET\",$G$2=\"GROUND - METERS\"),B72/$K$2,IF(AND($G$1=\"STATE PLANE GRID - US SURVEY FEET\",$G$2=\"GROUND - US SURVEY FEET\"),B72*$K$1,IF(AND($G$1=\"GROUND - METERS\",$G$2=\"STATE PLANE GRID - US SURVEY FEET\"),B72*$K$3/$K$1,IF(AND($G$1=\"GROUND - METERS\",$G$2=\"STATE PLANE GRID - METERS\"),B72/$K$1,IF(AND($G$1=\"GROUND - METERS\",$G$2=\"GROUND - US SURVEY FEET\"),B72*$K$3,IF(AND($G$1=\"GROUND - US SURVEY FEET\",$G$2=\"STATE PLANE GRID - US SURVEY FEET\"),B72/$K$1,IF(AND($G$1=\"GROUND - US SURVEY FEET\",$G$2=\"STATE PLANE GRID - METERS\"),B72/$K$2,IF(AND($G$1=\"GROUND - US SURVEY FEET\",$G$2=\"GROUND - METERS\"),B72/$K$3))))))))))))","v":0},{"$f":"IF(AND($G$1=\"STATE PLANE GRID - METERS\",$G$2=\"STATE PLANE GRID - US SURVEY FEET\"),C72*$K$3,IF(AND($G$1=\"STATE PLANE GRID - METERS\",$G$2=\"GROUND - METERS\"),C72*$K$1,IF(AND($G$1=\"STATE PLANE GRID - METERS\",$G$2=\"GROUND - US SURVEY FEET\"),C72*$K$2,IF(AND($G$1=\"STATE PLANE GRID - US SURVEY FEET\",$G$2=\"STATE PLANE GRID - METERS\"),C72/$K$3,IF(AND($G$1=\"STATE PLANE GRID - US SURVEY FEET\",$G$2=\"GROUND - METERS\"),C72/$K$2,IF(AND($G$1=\"STATE PLANE GRID - US SURVEY FEET\",$G$2=\"GROUND - US SURVEY FEET\"),C72*$K$1,IF(AND($G$1=\"GROUND - METERS\",$G$2=\"STATE PLANE GRID - US SURVEY FEET\"),C72*$K$3/$K$1,IF(AND($G$1=\"GROUND - METERS\",$G$2=\"STATE PLANE GRID - METERS\"),C72/$K$1,IF(AND($G$1=\"GROUND - METERS\",$G$2=\"GROUND - US SURVEY FEET\"),C72*$K$3,IF(AND($G$1=\"GROUND - US SURVEY FEET\",$G$2=\"STATE PLANE GRID - US SURVEY FEET\"),C72/$K$1,IF(AND($G$1=\"GROUND - US SURVEY FEET\",$G$2=\"STATE PLANE GRID - METERS\"),C72/$K$2,IF(AND($G$1=\"GROUND - US SURVEY FEET\",$G$2=\"GROUND - METERS\"),C72/$K$3))))))))))))","v":0},{"$f":"IF(AND($G$1=\"STATE PLANE GRID - METERS\",$G$2=\"STATE PLANE GRID - US SURVEY FEET\"),D72*$K$3,IF(AND($G$1=\"STATE PLANE GRID - METERS\",$G$2=\"GROUND - METERS\"),B72,IF(AND($G$1=\"STATE PLANE GRID - METERS\",$G$2=\"GROUND - US SURVEY FEET\"),D72*$K$3,IF(AND($G$1=\"STATE PLANE GRID - US SURVEY FEET\",$G$2=\"STATE PLANE GRID - METERS\"),D72/$K$3,IF(AND($G$1=\"STATE PLANE GRID - US SURVEY FEET\",$G$2=\"GROUND - METERS\"),D72/$K$3,IF(AND($G$1=\"STATE PLANE GRID - US SURVEY FEET\",$G$2=\"GROUND - US SURVEY FEET\"),D72,IF(AND($G$1=\"GROUND - METERS\",$G$2=\"STATE PLANE GRID - US SURVEY FEET\"),D72*$K$3,IF(AND($G$1=\"GROUND - METERS\",$G$2=\"STATE PLANE GRID - METERS\"),D72,IF(AND($G$1=\"GROUND - METERS\",$G$2=\"GROUND - US SURVEY FEET\"),D72*$K$3,IF(AND($G$1=\"GROUND - US SURVEY FEET\",$G$2=\"STATE PLANE GRID - US SURVEY FEET\"),D72,IF(AND($G$1=\"GROUND - US SURVEY FEET\",$G$2=\"STATE PLANE GRID - METERS\"),D72/$K$3,IF(AND($G$1=\"GROUND - US SURVEY FEET\",$G$2=\"GROUND - METERS\"),D72/$K$3))))))))))))","v":0},{"$f":"E72","v":0}]
[null,null,null,null,null,null,0,0,0,0,0]
[null,null,null,null,null,null,0,0,0,0,0]
[null,null,null,null,null,null,0,0,0,0,0]
[null,null,null,null,null,null,0,0,0,0,0]
[null,null,null,null,null,null,0,0,0,0,0]
[null,null,null,null,null,null,0,0,0,0,0]
[null,null,null,null,null,null,0,0,0,0,0]
[null,null,null,null,null,null,0,0,0,0,0]
[null,null,null,null,null,null,0,0,0,0,0]
[null,null,null,null,null,null,0,0,0,0,0]
[null,null,null,null,null,null,0,0,0,0,0]
[null,null,null,null,null,null,0,0,0,0,0]
[null,null,null,null,null,null,0,0,0,0,0]
[null,null,null,null,null,null,0,0,0,0,0]
[null,null,null,null,null,null,0,0,0,0,0]
[null,null,null,null,null,null,0,0,0,0,0]
[null,null,null,null,null,null,0,0,0,0,0]
[null,null,null,null,null,null,0,0,0,0,0]
[null,null,null,null,null,null,0,0,0,0,0]
[null,null,null,null,null,null,0,0,0,0,0]
[null,null,null,null,null,null,0,0,0,0,0]
[null,null,null,null,null,null,0,0,0,0,0]
[null,null,null,null,null,null,0,0,0,0,0]

{"sheet":"OWNERS","index":3,"n_rows":1,"n_cols":12,"rows_kept":1,"cut":false,"hidden":false,"merged":[]}
["First","Last","Address","City","State","Zip Code","Deed Book/Page","Auditor Parcel Number","Area","Section","Lot","Tax Map Parcel"]

{"sheet":"OSIP","index":4,"n_rows":96,"n_cols":18,"rows_kept":96,"cut":false,"hidden":false,"merged":[[0,2,0,4],[1,2,1,4],[6,14,6,15],[6,16,6,17],[23,0,23,8],[15,0,15,8],[7,0,7,8]]}
[null,"Project:",{"$f":"REPORT!B2","v":"TUS-800-22.74"}]
[null,"Pid:",{"$f":"REPORT!E2","v":100603}]
[]
["Calculate the Project Coordinates for the corners of the Aerial Mapping Raster File"]
["To scale the Geo-referenced file to the Project Datum  ",null,null,null,null,null,null,null,null,null,null,null,null,"Project County:",null,{"$f":"REPORT!B2","v":"TUS-800-22.74"},{"$f":"MID(P5,1,3)","v":"TUS"}]
[]
[null,null,null,null,null,null,null,null,null,null,null,null,null,null,"Photo Corners",null,"Pixel Range"]
["INPUT: SP GRID - US SURVEY FEET",null,null,null,null,null,null,null,null,null,null,null,null,"COUNTY","EASTING","NORTHING","EASTING","NORTHING"]
[null,"X (East)","Y (North) ",null,null,null,null,null,null,null,null,null,null,"ADA",1620000,215000,130000,175000]
["Lower left (SW) origin:",{"$f":"VLOOKUP(MID(REPORT!B2,1,3),OSIP!N9:R96,2,FALSE)","v":2185000},{"$f":"VLOOKUP(MID(REPORT!B2,1,3),OSIP!N9:R96,3,FALSE)","v":200000},"Enter X,Y from Georeferenced Raster File Header",null,null,null,null,null,null,null,null,null,"ALL",1440000,355000,150000,110000]
["Pixel Range:",{"$f":"VLOOKUP(MID(REPORT!B2,1,3),OSIP!N9:R96,4,FALSE)","v":130000},{"$f":"VLOOKUP(MID(REPORT!B2,1,3),OSIP!N9:R96,5,FALSE)","v":170000},"Enter X,Y from Georeferenced Raster File Header",null,null,null,null,null,null,null,null,null,"ASD",1985000,320000,90000,195000]
["Upper right (NE) origin:",{"$f":"B10+B11","v":2315000},{"$f":"C10+C11","v":370000},"Calculated NE ORIGIN using Delta X & Delta Y",null,null,null,null,null,null,null,null,null,"ASH",2375000,670000,140000,185000]
[null,null,null,null,null,null,null,null,null,null,null,null,null,"ATH",2025000,430000,165000,140000]
["PAF (scale multiplier):",{"$f":"REPORT!C13","v":0},null,"Enter Unitless Project Adjustment Factor for Project",null,null,null,null,null,null,null,null,null,"AUG",1420000,255000,170000,125000]
[null,null,null,null,null,null,null,null,null,null,null,null,null,"BEL",2320000,675000,155000,120000]
["OUTPUT: PROJECT GROUND - US SURVEY FEET",null,null,null,null,null,null,null,null,null,null,null,null,"BRO",1525000,230000,115000,235000]
[null,"X (East)","Y (North) ",null,null,null,null,null,null,null,null,null,null,"BUT",1310000,475000,145000,115000]
["Lower left (SW) origin (MAP01):",{"$f":"PRODUCT(B10,B14)","v":0},{"$f":"PRODUCT(C10,B14)","v":0},"Calculated Scaled ORIGIN Coordinates",null,null,null,null,null,null,null,null,null,"CAR",2295000,275000,130000,120000]
["Upper right (NE) origin (MAP02):",{"$f":"PRODUCT(B12,B14)","v":0},{"$f":"PRODUCT(C12,B14)","v":0},"Calculated Scaled ORIGIN Coordinates",null,null,null,null,null,null,null,null,null,"CHP",1535000,730000,160000,105000]
[null,null,null,null,null,null,null,null,null,null,null,null,null,"CLA",1530000,645000,160000,105000]
[null,null,null,"(Edit Header & Footer for Printing File report copy)",null,null,null,null,null,null,null,null,null,"CLE",1450000,280000,100000,190000]
[null,null,null,null,null,null,null,null,null,null,null,null,null,"CLI",1540000,445000,125000,130000]
["1) Place a Shape (BOX) in the MicroStation file at the Project Origin Coordinates and use KEY-IN COMMAND  XY= (X value),(Y value) for both corners",null,null,null,null,null,null,null,null,null,null,null,null,"COL",2355000,335000,165000,130000]
["2) Attach the Raster File using the \"INTERACTIVE\" Toggle & PLACE at the Corners of the BOX",null,null,null,null,null,null,null,null,null,null,null,null,"COS",2050000,175000,165000,115000]
[null,null,null,null,null,null,null,null,null,null,null,null,null,"CRA",1795000,375000,115000,115000]
["This will scale the Aerial Mapping Ortho Photo to fit the PROJECT COORDINATES",null,null,null,null,null,null,null,null,null,null,null,null,"CUY",2110000,585000,170000,145000]
[null,null,null,null,null,null,null,null,null,null,null,null,null,"DAR",1315000,700000,115000,170000]
[null,null,null,null,null,null,null,null,null,null,null,null,null,"DEF",1330000,550000,165000,100000]
[null,null,null,null,null,null,null,null,null,null,null,null,null,"DEL",1755000,165000,150000,120000]
[null,null,null,null,null,null,null,null,null,null,null,null,null,"ERI",1855000,585000,160000,135000]
[null,null,null,null,null,null,null,null,null,null,null,null,null,"FAI",1870000,565000,140000,145000]
[null,null,null,null,null,null,null,null,null,null,null,null,null,"FAY",1635000,500000,125000,130000]
[null,null,null,null,null,null,null,null,null,null,null,null,null,"FRA",1755000,650000,145000,135000]
[null,null,null,null,null,null,null,null,null,null,null,null,null,"FUL",1445000,665000,150000,90000]
[null,null,null,null,null,null,null,null,null,null,null,null,null,"GAL",1940000,210000,145000,170000]
[null,null,null,null,null,null,null,null,null,null,null,null,null,"GEA",2270000,610000,110000,145000]
[null,null,null,null,null,null,null,null,null,null,null,null,null,"GRE",1510000,565000,140000,115000]
[null,null,null,null,null,null,null,null,null,null,null,null,null,"GUE",2180000,670000,145000,145000]
[null,null,null,null,null,null,null,null,null,null,null,null,null,"HAM",1305000,375000,170000,110000]
[null,null,null,null,null,null,null,null,null,null,null,null,null,"HAN",1585000,420000,135000,135000]
[null,null,null,null,null,null,null,null,null,null,null,null,null,"HAR",1580000,305000,135000,120000]
[null,null,null,null,null,null,null,null,null,null,null,null,null,"HAS",2290000,180000,135000,105000]
[null,null,null,null,null,null,null,null,null,null,null,null,null,"HEN",1460000,545000,130000,125000]
[null,null,null,null,null,null,null,null,null,null,null,null,null,"HIG",1575000,370000,155000,135000]
[null,null,null,null,null,null,null,null,null,null,null,null,null,"HOC",1895000,495000,170000,115000]
[null,null,null,null,null,null,null,null,null,null,null,null,null,"HOL",2045000,280000,160000,90000]
[null,null,null,null,null,null,null,null,null,null,null,null,null,"HUR",1870000,480000,145000,115000]
[null,null,null,null,null,null,null,null,null,null,null,null,null,"JAC",1880000,305000,110000,140000]
[null,null,null,null,null,null,null,null,null,null,null,null,null,"JEF",2400000,180000,100000,165000]
[null,null,null,null,null,null,null,null,null,null,null,null,null,"KNO",1895000,205000,165000,130000]
[null,null,null,null,null,null,null,null,null,null,null,null,null,"LAK",2240000,690000,140000,115000]
[null,null,null,null,null,null,null,null,null,null,null,null,null,"LAW",1875000,145000,155000,165000]
[null,null,null,null,null,null,null,null,null,null,null,null,null,"LIC",1885000,695000,175000,135000]
[null,null,null,null,null,null,null,null,null,null,null,null,null,"LOG",1545000,205000,145000,120000]
[null,null,null,null,null,null,null,null,null,null,null,null,null,"LOR",2005000,505000,135000,175000]
[null,null,null,null,null,null,null,null,null,null,null,null,null,"LUC",1585000,635000,225000,125000]
[null,null,null,null,null,null,null,null,null,null,null,null,null,"MAD",1640000,615000,135000,160000]
[null,null,null,null,null,null,null,null,null,null,null,null,null,"MAH",2355000,450000,165000,95000]
[null,null,null,null,null,null,null,null,null,null,null,null,null,"MAR",1710000,275000,160000,105000]
[null,null,null,null,null,null,null,null,null,null,null,null,null,"MED",2055000,480000,140000,110000]
[null,null,null,null,null,null,null,null,null,null,null,null,null,"MEG",2015000,315000,175000,125000]
[null,null,null,null,null,null,null,null,null,null,null,null,null,"MER",1325000,255000,110000,145000]
[null,null,null,null,null,null,null,null,null,null,null,null,null,"MIA",1425000,685000,120000,125000]
[null,null,null,null,null,null,null,null,null,null,null,null,null,"MOE",2300000,560000,145000,125000]
[null,null,null,null,null,null,null,null,null,null,null,null,null,"MOT",1410000,575000,125000,130000]
[null,null,null,null,null,null,null,null,null,null,null,null,null,"MRG",2085000,525000,145000,125000]
[null,null,null,null,null,null,null,null,null,null,null,null,null,"MRW",1820000,245000,115000,140000]
[null,null,null,null,null,null,null,null,null,null,null,null,null,"MUS",2040000,640000,160000,150000]
[null,null,null,null,null,null,null,null,null,null,null,null,null,"NOB",2190000,575000,135000,140000]
[null,null,null,null,null,null,null,null,null,null,null,null,null,"OTT",1715000,650000,20000,105000]
[null,null,null,null,null,null,null,null,null,null,null,null,null,"PAU",1330000,485000,135000,105000]
[null,null,null,null,null,null,null,null,null,null,null,null,null,"PER",1975000,560000,130000,145000]
[null,null,null,null,null,null,null,null,null,null,null,null,null,"PIC",1750000,530000,155000,135000]
[null,null,null,null,null,null,null,null,null,null,null,null,null,"PIK",1715000,345000,175000,95000]
[null,null,null,null,null,null,null,null,null,null,null,null,null,"POR",2270000,480000,115000,140000]
[null,null,null,null,null,null,null,null,null,null,null,null,null,"PRE",1310000,575000,105000,135000]
[null,null,null,null,null,null,null,null,null,null,null,null,null,"PUT",1440000,435000,150000,120000]
[null,null,null,null,null,null,null,null,null,null,null,null,null,"RIC",1900000,320000,115000,165000]
[null,null,null,null,null,null,null,null,null,null,null,null,null,"ROS",1715000,425000,190000,130000]
[null,null,null,null,null,null,null,null,null,null,null,null,null,"SAN",1715000,575000,165000,100000]
[null,null,null,null,null,null,null,null,null,null,null,null,null,"SCI",1745000,205000,185000,170000]
[null,null,null,null,null,null,null,null,null,null,null,null,null,"SEN",1710000,480000,170000,105000]
[null,null,null,null,null,null,null,null,null,null,null,null,null,"SHE",1425000,190000,130000,115000]
[null,null,null,null,null,null,null,null,null,null,null,null,null,"STA",2200000,350000,165000,135000]
[null,null,null,null,null,null,null,null,null,null,null,null,null,"SUM",2190000,450000,85000,175000]
[null,null,null,null,null,null,null,null,null,null,null,null,null,"TRU",2375000,535000,145000,140000]
[null,null,null,null,null,null,null,null,null,null,null,null,null,"TUS",2185000,200000,130000,170000]
[null,null,null,null,null,null,null,null,null,null,null,null,null,"UNI",1650000,160000,265000,295000]
[null,null,null,null,null,null,null,null,null,null,null,null,null,"VAN",1325000,375000,135000,120000]
[null,null,null,null,null,null,null,null,null,null,null,null,null,"VIN",1890000,370000,150000,140000]
[null,null,null,null,null,null,null,null,null,null,null,null,null,"WAR",1440000,460000,115000,125000]
[null,null,null,null,null,null,null,null,null,null,null,null,null,"WAS",2150000,440000,235000,165000]
[null,null,null,null,null,null,null,null,null,null,null,null,null,"WAY",2070000,360000,135000,125000]
[null,null,null,null,null,null,null,null,null,null,null,null,null,"WIL",1335000,645000,130000,105000]
[null,null,null,null,null,null,null,null,null,null,null,null,null,"WOO",1585000,545000,135000,170000]
[null,null,null,null,null,null,null,null,null,null,null,null,null,"WYA",1685000,370000,115000,115000]

{"sheet":"MON TABLE","index":5,"n_rows":218,"n_cols":17,"rows_kept":218,"cut":false,"hidden":false,"merged":[[106,9,107,14],[108,0,109,6],[108,7,109,7],[106,0,107,7],[101,0,101,1],[102,0,102,1],[103,0,103,1],[104,0,104,7],[103,4,103,7],[102,4,102,7],[101,4,101,7],[102,8,102,16],[101,8,101,16],[106,15,106,16],[107,15,108,16],[108,9,108,14],[37,0,37,7],[69,0,69,7],[1,0,2,7],[1,8,5,8],[3,13,4,13],[3,0,4,6],[3,7,4,7],[3,9,4,9],[3,10,4,10],[3,11,4,12],[1,9,2,14],[5,1,5,2],[5,9,5,14],[5,3,5,7],[0,0,0,3],[0,7,0,11],[0,13,0,16],[1,15,1,16],[2,15,3,16],[0,4,0,6],[3,14,4,14],[186,1,186,2],[103,8,103,16],[104,8,104,16],[150,3,150,7],[186,3,186,7],[184,0,185,6],[184,7,185,7],[146,0,147,7],[150,1,150,2],[148,0,149,6],[148,7,149,7],[183,0,183,7],[110,1,110,2],[110,9,110,14],[110,3,110,7],[106,8,110,8],[142,9,143,14],[142,16,143,16],[142,15,143,15],[183,8,186,8],[183,9,183,14],[184,9,184,14],[186,9,186,14],[150,9,150,14],[146,8,150,8],[146,9,147,14],[148,9,148,14]]}
["PROJECT: ",null,null,null,{"$f":"REPORT!B2","v":"TUS-800-22.74"},null,null,"PID:",null,null,null,null,{"$f":"REPORT!$E$2","v":100603}]
["PROJECT GROUND COORDINATES - US SURVEY FEET",null,null,null,null,null,null,null,"PROJECT CONTROL POINTS","STATE PLANE GRID COORDINATES",null,null,null,null,null,"  MONUMENTS TO BE SET"]
[null,null,null,null,null,null,null,null,null,null,null,null,null,null,null," DURING CONSTRUCTION"]
["Project coordinates (U.S. Survey Feet) are relative to State Plane Grid coordinates (meters) by a Project Adjustment Factor of:",null,null,null,null,null,null,{"$f":"C103","v":0},null,"Horiz. Datum:",{"$f":"REPORT!C11","v":"NAD83 (2011)"},{"$f":"REPORT!C10","v":"Ohio State Plane, North Zone"},null,"Vert. Datum:",{"$f":"REPORT!C15","v":"NAVD88"}]
[null,null,null,null,null,null,null,null,null,null,null,null,null,null,null,"ITEM 623.05","ITEM 623.05"]
[null,{"$f":"\"C/L of Right-of-Way SR \"&MID(E1,5,3)","v":"C/L of Right-of-Way SR 800"},null,{"$f":"REPORT!C32&\" used for alignment\"","v":" used for alignment"},null,null,null,null,null,{"$f":"REPORT!A44&\" defined by GPS from CORS using \"&REPORT!C16&\". All other elevations are established by leveling from \"&REPORT!A44&\".\"","v":" defined by GPS from CORS using Geoid 12B. All other elevations are established by leveling from ."},null,null,null,null,null,"MONUMENT ","REFERENCE"]
["NAME","STATION","OFFSET (US FT)","RT/LT","NORTH (US FT)","EAST (US FT)","ELEVATION (US FT)","FEATURE","DESCRIPTION","NAME","NORTH (sft)","EAST (sft)","ORTHO HT (sft)","NORTH (US FT)","EAST (US FT)","ASSEMBLY","MONUMENT"]
[null,null,null,{"$f":"IF(C8<0,\"LT\",\"RT\")","v":"RT"},null,null,null,null,null,{"$f":"A8","v":0},{"$f":"E8/$C$103","v":{"$error":"#DIV/0!"}},{"$f":"F8/$C$103","v":{"$error":"#DIV/0!"}},{"$f":"G8/$C$104","v":0},{"$f":"$K8*$C$104","v":{"$error":"#DIV/0!"}},{"$f":"$L8*$C$104","v":{"$error":"#DIV/0!"}}]
[null,null,null,{"$f":"IF(C9<0,\"LT\",\"RT\")","v":"RT"},null,null,null,null,null,{"$f":"A9","v":0},{"$error":"#DIV/0!"},{"$error":"#DIV/0!"},0,{"$error":"#DIV/0!"},{"$error":"#DIV/0!"}]
[null,null,null,"RT",null,null,null,null,null,0,{"$error":"#DIV/0!"},{"$error":"#DIV/0!"},0,{"$error":"#DIV/0!"},{"$error":"#DIV/0!"}]
[null,null,null,"RT",null,null,null,null,null,0,{"$error":"#DIV/0!"},{"$error":"#DIV/0!"},0,{"$error":"#DIV/0!"},{"$error":"#DIV/0!"}]
[null,null,null,"RT",null,null,null,null,null,0,{"$error":"#DIV/0!"},{"$error":"#DIV/0!"},0,{"$error":"#DIV/0!"},{"$error":"#DIV/0!"}]
[null,null,null,"RT",null,null,null,null,null,0,{"$error":"#DIV/0!"},{"$error":"#DIV/0!"},0,{"$error":"#DIV/0!"},{"$error":"#DIV/0!"}]
[null,null,null,"RT",null,null,null,null,null,0,{"$error":"#DIV/0!"},{"$error":"#DIV/0!"},0,{"$error":"#DIV/0!"},{"$error":"#DIV/0!"}]
[null,null,null,"RT",null,null,null,null,null,0,{"$error":"#DIV/0!"},{"$error":"#DIV/0!"},0,{"$error":"#DIV/0!"},{"$error":"#DIV/0!"}]
[null,null,null,"RT",null,null,null,null,null,0,{"$error":"#DIV/0!"},{"$error":"#DIV/0!"},0,{"$error":"#DIV/0!"},{"$error":"#DIV/0!"}]
[null,null,null,"RT",null,null,null,null,null,0,{"$error":"#DIV/0!"},{"$error":"#DIV/0!"},0,{"$error":"#DIV/0!"},{"$error":"#DIV/0!"}]
[null,null,null,"RT",null,null,null,null,null,0,{"$error":"#DIV/0!"},{"$error":"#DIV/0!"},0,{"$error":"#DIV/0!"},{"$error":"#DIV/0!"}]
[null,null,null,"RT",null,null,null,null,null,0,{"$error":"#DIV/0!"},{"$error":"#DIV/0!"},0,{"$error":"#DIV/0!"},{"$error":"#DIV/0!"}]
[null,null,null,"RT",null,null,null,null,null,0,{"$error":"#DIV/0!"},{"$error":"#DIV/0!"},0,{"$error":"#DIV/0!"},{"$error":"#DIV/0!"}]
[null,null,null,"RT",null,null,null,null,null,0,{"$error":"#DIV/0!"},{"$error":"#DIV/0!"},0,{"$error":"#DIV/0!"},{"$error":"#DIV/0!"}]
[null,null,null,"RT",null,null,null,null,null,0,{"$error":"#DIV/0!"},{"$error":"#DIV/0!"},0,{"$error":"#DIV/0!"},{"$error":"#DIV/0!"}]
[null,null,null,"RT",null,null,null,null,null,0,{"$error":"#DIV/0!"},{"$error":"#DIV/0!"},0,{"$error":"#DIV/0!"},{"$error":"#DIV/0!"}]
[null,null,null,"RT",null,null,null,null,null,0,{"$error":"#DIV/0!"},{"$error":"#DIV/0!"},0,{"$error":"#DIV/0!"},{"$error":"#DIV/0!"}]
[null,null,null,"RT",null,null,null,null,null,0,{"$error":"#DIV/0!"},{"$error":"#DIV/0!"},0,{"$error":"#DIV/0!"},{"$error":"#DIV/0!"}]
[null,null,null,"RT",null,null,null,null,null,0,{"$error":"#DIV/0!"},{"$error":"#DIV/0!"},0,{"$error":"#DIV/0!"},{"$error":"#DIV/0!"}]
[null,null,null,"RT",null,null,null,null,null,0,{"$error":"#DIV/0!"},{"$error":"#DIV/0!"},0,{"$error":"#DIV/0!"},{"$error":"#DIV/0!"}]
[null,null,null,"RT",null,null,null,null,null,0,{"$error":"#DIV/0!"},{"$error":"#DIV/0!"},0,{"$error":"#DIV/0!"},{"$error":"#DIV/0!"}]
[null,null,null,"RT",null,null,null,null,null,0,{"$error":"#DIV/0!"},{"$error":"#DIV/0!"},0,{"$error":"#DIV/0!"},{"$error":"#DIV/0!"}]
[null,null,null,"RT",null,null,null,null,null,0,{"$error":"#DIV/0!"},{"$error":"#DIV/0!"},0,{"$error":"#DIV/0!"},{"$error":"#DIV/0!"}]
[null,null,null,"RT",null,null,null,null,null,0,{"$error":"#DIV/0!"},{"$error":"#DIV/0!"},0,{"$error":"#DIV/0!"},{"$error":"#DIV/0!"}]
[null,null,null,"RT",null,null,null,null,null,{"$f":"A32","v":0},{"$error":"#DIV/0!"},{"$error":"#DIV/0!"},0,{"$error":"#DIV/0!"},{"$error":"#DIV/0!"}]
[null,null,null,"RT",null,null,null,null,null,0,{"$error":"#DIV/0!"},{"$error":"#DIV/0!"},0,{"$error":"#DIV/0!"},{"$error":"#DIV/0!"}]
[null,null,null,"RT",null,null,null,null,null,0,{"$error":"#DIV/0!"},{"$error":"#DIV/0!"},0,{"$error":"#DIV/0!"},{"$error":"#DIV/0!"}]
[null,null,null,"RT",null,null,null,null,null,0,{"$error":"#DIV/0!"},{"$error":"#DIV/0!"},0,{"$error":"#DIV/0!"},{"$error":"#DIV/0!"}]
[null,null,null,"RT",null,null,null,null,null,{"$f":"A36","v":0},{"$error":"#DIV/0!"},{"$error":"#DIV/0!"},0,{"$error":"#DIV/0!"},{"$error":"#DIV/0!"}]
[null,null,null,"RT",null,null,null,null,null,{"$f":"A37","v":0},{"$error":"#DIV/0!"},{"$error":"#DIV/0!"},0,{"$error":"#DIV/0!"},{"$error":"#DIV/0!"}]
[{"$f":"\"EXISTING  MONUMENTATION    \"&\"CENTERLINE OF RIGHT OF WAY    STATE ROUTE \"&MID(E1,5,3)","v":"EXISTING  MONUMENTATION    CENTERLINE OF RIGHT OF WAY    STATE ROUTE 800"},null,null,null,null,null,null,null,"EXISTING CENTERLINE CONTROL POINTS","Horiz. Datum:",{"$f":"REPORT!C11","v":"NAD83 (2011)"},{"$f":"REPORT!C10","v":"Ohio State Plane, North Zone"},null,"Vert. Datum:",{"$f":"REPORT!C15","v":"NAVD88"}]
["NAME","STATION","OFFSET (US FT)","RT/LT","NORTH (US FT)","EAST (US FT)","ELEVATION (US FT)","FEATURE","DESCRIPTION","NAME","NORTH (sft)","EAST (sft)","ORTHO HT (sft)","NORTH (US FT)","EAST (US FT)"]
[null,null,null,{"$f":"IF(C40<0,\"LT\",\"RT\")","v":"RT"},null,null,null,null,null,{"$f":"A40","v":0},{"$f":"E40/$C$103","v":{"$error":"#DIV/0!"}},{"$f":"F40/$C$103","v":{"$error":"#DIV/0!"}},{"$f":"G40/$C$104","v":0},{"$f":"$K40*$C$104","v":{"$error":"#DIV/0!"}},{"$f":"$L40*$C$104","v":{"$error":"#DIV/0!"}}]
[null,null,null,"RT",null,null,null,null,null,0,{"$error":"#DIV/0!"},{"$error":"#DIV/0!"},0,{"$error":"#DIV/0!"},{"$error":"#DIV/0!"}]
[null,null,null,"RT",null,null,null,null,null,0,{"$error":"#DIV/0!"},{"$error":"#DIV/0!"},0,{"$error":"#DIV/0!"},{"$error":"#DIV/0!"}]
[null,null,null,"RT",null,null,null,null,null,0,{"$error":"#DIV/0!"},{"$error":"#DIV/0!"},0,{"$error":"#DIV/0!"},{"$error":"#DIV/0!"}]
[null,null,null,"RT",null,null,null,null,null,0,{"$error":"#DIV/0!"},{"$error":"#DIV/0!"},0,{"$error":"#DIV/0!"},{"$error":"#DIV/0!"}]
[null,null,null,"RT",null,null,null,null,null,0,{"$error":"#DIV/0!"},{"$error":"#DIV/0!"},0,{"$error":"#DIV/0!"},{"$error":"#DIV/0!"}]
[null,null,null,"RT",null,null,null,null,null,0,{"$error":"#DIV/0!"},{"$error":"#DIV/0!"},0,{"$error":"#DIV/0!"},{"$error":"#DIV/0!"}]
[null,null,null,"RT",null,null,null,null,null,0,{"$error":"#DIV/0!"},{"$error":"#DIV/0!"},0,{"$error":"#DIV/0!"},{"$error":"#DIV/0!"}]
[null,null,null,"RT",null,null,null,null,null,0,{"$error":"#DIV/0!"},{"$error":"#DIV/0!"},0,{"$error":"#DIV/0!"},{"$error":"#DIV/0!"}]
[null,null,null,"RT",null,null,null,null,null,0,{"$error":"#DIV/0!"},{"$error":"#DIV/0!"},0,{"$error":"#DIV/0!"},{"$error":"#DIV/0!"}]
[null,null,null,"RT",null,null,null,null,null,0,{"$error":"#DIV/0!"},{"$error":"#DIV/0!"},0,{"$error":"#DIV/0!"},{"$error":"#DIV/0!"}]
[null,null,null,"RT",null,null,null,null,null,{"$f":"A51","v":0},{"$error":"#DIV/0!"},{"$error":"#DIV/0!"},0,{"$error":"#DIV/0!"},{"$error":"#DIV/0!"}]
[null,null,null,"RT",null,null,null,null,null,0,{"$error":"#DIV/0!"},{"$error":"#DIV/0!"},0,{"$error":"#DIV/0!"},{"$error":"#DIV/0!"}]
[null,null,null,"RT",null,null,null,null,null,0,{"$error":"#DIV/0!"},{"$error":"#DIV/0!"},0,{"$error":"#DIV/0!"},{"$error":"#DIV/0!"}]
[null,null,null,"RT",null,null,null,null,null,0,{"$error":"#DIV/0!"},{"$error":"#DIV/0!"},0,{"$error":"#DIV/0!"},{"$error":"#DIV/0!"}]
[null,null,null,"RT",null,null,null,null,null,0,{"$error":"#DIV/0!"},{"$error":"#DIV/0!"},0,{"$error":"#DIV/0!"},{"$error":"#DIV/0!"}]
[null,null,null,"RT",null,null,null,null,null,0,{"$error":"#DIV/0!"},{"$error":"#DIV/0!"},0,{"$error":"#DIV/0!"},{"$error":"#DIV/0!"}]
[null,null,null,"RT",null,null,null,null,null,{"$f":"A57","v":0},{"$error":"#DIV/0!"},{"$error":"#DIV/0!"},0,{"$error":"#DIV/0!"},{"$error":"#DIV/0!"}]
[null,null,null,"RT",null,null,null,null,null,0,{"$error":"#DIV/0!"},{"$error":"#DIV/0!"},0,{"$error":"#DIV/0!"},{"$error":"#DIV/0!"}]
[null,null,null,"RT",null,null,null,null,null,0,{"$error":"#DIV/0!"},{"$error":"#DIV/0!"},0,{"$error":"#DIV/0!"},{"$error":"#DIV/0!"}]
[null,null,null,"RT",null,null,null,null,null,0,{"$error":"#DIV/0!"},{"$error":"#DIV/0!"},0,{"$error":"#DIV/0!"},{"$error":"#DIV/0!"}]
[null,null,null,"RT",null,null,null,null,null,0,{"$error":"#DIV/0!"},{"$error":"#DIV/0!"},0,{"$error":"#DIV/0!"},{"$error":"#DIV/0!"}]
[null,null,null,"RT",null,null,null,null,null,0,{"$error":"#DIV/0!"},{"$error":"#DIV/0!"},0,{"$error":"#DIV/0!"},{"$error":"#DIV/0!"}]
[null,null,null,"RT",null,null,null,null,null,0,{"$error":"#DIV/0!"},{"$error":"#DIV/0!"},0,{"$error":"#DIV/0!"},{"$error":"#DIV/0!"}]
[null,null,null,"RT",null,null,null,null,null,0,{"$error":"#DIV/0!"},{"$error":"#DIV/0!"},0,{"$error":"#DIV/0!"},{"$error":"#DIV/0!"}]
[null,null,null,"RT",null,null,null,null,null,0,{"$error":"#DIV/0!"},{"$error":"#DIV/0!"},0,{"$error":"#DIV/0!"},{"$error":"#DIV/0!"}]
[null,null,null,"RT",null,null,null,null,null,0,{"$error":"#DIV/0!"},{"$error":"#DIV/0!"},0,{"$error":"#DIV/0!"},{"$error":"#DIV/0!"}]
[null,null,null,"RT",null,null,null,null,null,0,{"$error":"#DIV/0!"},{"$error":"#DIV/0!"},0,{"$error":"#DIV/0!"},{"$error":"#DIV/0!"}]
[null,null,null,"RT",null,null,null,null,null,0,{"$error":"#DIV/0!"},{"$error":"#DIV/0!"},0,{"$error":"#DIV/0!"},{"$error":"#DIV/0!"}]
[null,null,null,"RT",null,null,null,null,null,0,{"$error":"#DIV/0!"},{"$error":"#DIV/0!"},0,{"$error":"#DIV/0!"},{"$error":"#DIV/0!"}]
[{"$f":"\"    CENTERLINE OF RIGHT OF WAY & CONSTRUCTION    \"&\"STATE ROUTE \"&MID(E1,5,3)","v":"    CENTERLINE OF RIGHT OF WAY & CONSTRUCTION    STATE ROUTE 800"},null,null,null,null,null,null,null,"CENTERLINE ALIGNMENT","Horiz. Datum:",{"$f":"REPORT!C11","v":"NAD83 (2011)"},{"$f":"REPORT!C10","v":"Ohio State Plane, North Zone"},null,"Vert. Datum:",{"$f":"REPORT!C15","v":"NAVD88"}]
["NAME","STATION","OFFSET (US FT)","RT/LT","NORTH (US FT)","EAST (US FT)","ELEVATION (US FT)","FEATURE","DESCRIPTION","NAME","NORTH (sft)","EAST (sft)","ORTHO HT (sft)","NORTH (US FT)","EAST (US FT)"]
[null,null,null,{"$f":"IF(C72<0,\"LT\",\"RT\")","v":"RT"},null,null,null,null,null,{"$f":"A72","v":0},{"$f":"E72/$C$103","v":{"$error":"#DIV/0!"}},{"$f":"F72/$C$103","v":{"$error":"#DIV/0!"}},{"$f":"G72/$C$104","v":0},{"$f":"$K72*$C$104","v":{"$error":"#DIV/0!"}},{"$f":"$L72*$C$104","v":{"$error":"#DIV/0!"}}]
[null,null,null,"RT",null,null,null,null,null,{"$f":"A73","v":0},{"$error":"#DIV/0!"},{"$error":"#DIV/0!"},0,{"$error":"#DIV/0!"},{"$error":"#DIV/0!"}]
[null,null,null,"RT",null,null,null,null,null,0,{"$error":"#DIV/0!"},{"$error":"#DIV/0!"},0,{"$error":"#DIV/0!"},{"$error":"#DIV/0!"}]
[null,null,null,"RT",null,null,null,null,null,0,{"$error":"#DIV/0!"},{"$error":"#DIV/0!"},0,{"$error":"#DIV/0!"},{"$error":"#DIV/0!"}]
[null,null,null,"RT",null,null,null,null,null,{"$f":"A76","v":0},{"$error":"#DIV/0!"},{"$error":"#DIV/0!"},0,{"$error":"#DIV/0!"},{"$error":"#DIV/0!"}]
[null,null,null,"RT",null,null,null,null,null,0,{"$error":"#DIV/0!"},{"$error":"#DIV/0!"},0,{"$error":"#DIV/0!"},{"$error":"#DIV/0!"}]
[null,null,null,"RT",null,null,null,null,null,0,{"$error":"#DIV/0!"},{"$error":"#DIV/0!"},0,{"$error":"#DIV/0!"},{"$error":"#DIV/0!"}]
[null,null,null,"RT",null,null,null,null,null,0,{"$error":"#DIV/0!"},{"$error":"#DIV/0!"},0,{"$error":"#DIV/0!"},{"$error":"#DIV/0!"}]
[null,null,null,"RT",null,null,null,null,null,0,{"$error":"#DIV/0!"},{"$error":"#DIV/0!"},0,{"$error":"#DIV/0!"},{"$error":"#DIV/0!"}]
[null,null,null,"RT",null,null,null,null,null,0,{"$error":"#DIV/0!"},{"$error":"#DIV/0!"},0,{"$error":"#DIV/0!"},{"$error":"#DIV/0!"}]
[null,null,null,"RT",null,null,null,null,null,0,{"$error":"#DIV/0!"},{"$error":"#DIV/0!"},0,{"$error":"#DIV/0!"},{"$error":"#DIV/0!"}]
[null,null,null,"RT",null,null,null,null,null,0,{"$error":"#DIV/0!"},{"$error":"#DIV/0!"},0,{"$error":"#DIV/0!"},{"$error":"#DIV/0!"}]
[null,null,null,"RT",null,null,null,null,null,0,{"$error":"#DIV/0!"},{"$error":"#DIV/0!"},0,{"$error":"#DIV/0!"},{"$error":"#DIV/0!"}]
[null,null,null,"RT",null,null,null,null,null,0,{"$error":"#DIV/0!"},{"$error":"#DIV/0!"},0,{"$error":"#DIV/0!"},{"$error":"#DIV/0!"}]
[null,null,null,"RT",null,null,null,null,null,0,{"$error":"#DIV/0!"},{"$error":"#DIV/0!"},0,{"$error":"#DIV/0!"},{"$error":"#DIV/0!"}]
[null,null,null,"RT",null,null,null,null,null,0,{"$error":"#DIV/0!"},{"$error":"#DIV/0!"},0,{"$error":"#DIV/0!"},{"$error":"#DIV/0!"}]
[null,null,null,"RT",null,null,null,null,null,0,{"$error":"#DIV/0!"},{"$error":"#DIV/0!"},0,{"$error":"#DIV/0!"},{"$error":"#DIV/0!"}]
[null,null,null,"RT",null,null,null,null,null,0,{"$error":"#DIV/0!"},{"$error":"#DIV/0!"},0,{"$error":"#DIV/0!"},{"$error":"#DIV/0!"}]
[null,null,null,"RT",null,null,null,null,null,0,{"$error":"#DIV/0!"},{"$error":"#DIV/0!"},0,{"$error":"#DIV/0!"},{"$error":"#DIV/0!"}]
[null,null,null,"RT",null,null,null,null,null,0,{"$error":"#DIV/0!"},{"$error":"#DIV/0!"},0,{"$error":"#DIV/0!"},{"$error":"#DIV/0!"}]
[null,null,null,"RT",null,null,null,null,null,0,{"$error":"#DIV/0!"},{"$error":"#DIV/0!"},0,{"$error":"#DIV/0!"},{"$error":"#DIV/0!"}]
[null,null,null,"RT",null,null,null,null,null,0,{"$error":"#DIV/0!"},{"$error":"#DIV/0!"},0,{"$error":"#DIV/0!"},{"$error":"#DIV/0!"}]
[null,null,null,"RT",null,null,null,null,null,0,{"$error":"#DIV/0!"},{"$error":"#DIV/0!"},0,{"$error":"#DIV/0!"},{"$error":"#DIV/0!"}]
[null,null,null,"RT",null,null,null,null,null,0,{"$error":"#DIV/0!"},{"$error":"#DIV/0!"},0,{"$error":"#DIV/0!"},{"$error":"#DIV/0!"}]
[null,null,null,"RT",null,null,null,null,null,0,{"$error":"#DIV/0!"},{"$error":"#DIV/0!"},0,{"$error":"#DIV/0!"},{"$error":"#DIV/0!"}]
[null,null,null,"RT",null,null,null,null,null,0,{"$error":"#DIV/0!"},{"$error":"#DIV/0!"},0,{"$error":"#DIV/0!"},{"$error":"#DIV/0!"}]
[null,null,null,"RT",null,null,null,null,null,0,{"$error":"#DIV/0!"},{"$error":"#DIV/0!"},0,{"$error":"#DIV/0!"},{"$error":"#DIV/0!"}]
[null,null,null,"RT",null,null,null,null,null,0,{"$error":"#DIV/0!"},{"$error":"#DIV/0!"},0,{"$error":"#DIV/0!"},{"$error":"#DIV/0!"}]
[null,null,null,"RT",null,null,null,null,null,0,{"$error":"#DIV/0!"},{"$error":"#DIV/0!"},0,{"$error":"#DIV/0!"},{"$error":"#DIV/0!"}]
[null,null,null,"RT",null,null,null,null,null,0,{"$error":"#DIV/0!"},{"$error":"#DIV/0!"},0,{"$error":"#DIV/0!"},{"$error":"#DIV/0!"}," "]
["Grid to Ground Multiplier (1/CSF) = ",null,{"$f":"REPORT!C13","v":0},null,"State Plane Grid to Project Ground (same units)",null,null,null,"Unitless Factor:"]
["Project Adjustment Factor (PAF) =",null,{"$f":"C102*C104","v":0},null,"State Plane Grid (meters) to Project Ground (US Survey Feet)",null,null,null,{"$f":"REPORT!A45&REPORT!A46&REPORT!C46","v":""}]
["English to metric conversion =",null,{"$f":"3937/1200","v":3.2808333333333333},null,"US Survey foor to meters conversion factor",null,null,null,"Primary Project Control:"]
["PROJECT coordinates are scaled from GRID coordinates about the Ohio North Zone grid point N=0, E=0 (N 39⁰ 27' 01.76097\", W 89⁰ 28' 32.98476\").",null,null,null,null,null,null,null,{"$f":"REPORT!A41&REPORT!A42&REPORT!A43","v":""}]
[]
["PROJECT GROUND COORDINATES - US SURVEY FEET",null,null,null,null,null,null,null,"PROPOSED RIGHT OF WAY MONUMENTS","STATE PLANE GRID COORDINATES",null,null,null,null,null,"MONUMENTS TO BE RESET"]
[null,null,null,null,null,null,null,null,null,null,null,null,null,null,null,"AFTER CONSTRUCTION"]
[{"$f":"A4","v":"Project coordinates (U.S. Survey Feet) are relative to State Plane Grid coordinates (meters) by a Project Adjustment Factor of:"},null,null,null,null,null,null,{"$f":"H4","v":0}]
[null,null,null,null,null,null,null,null,null,"Horiz. Datum:",{"$f":"REPORT!C11","v":"NAD83 (2011)"},{"$f":"REPORT!C10","v":"Ohio State Plane, North Zone"},null,"Vert. Datum:",{"$f":"REPORT!C15","v":"NAVD88"},"ITEM 623.05","ITEM 623.05"]
[null,{"$f":"$B$6","v":"C/L of Right-of-Way SR 800"},null,{"$f":"$D$6","v":" used for alignment"},null,null,null,null,null,null,null,null,null,null,null,"RIGHT OF WAY ","BOUNDARY"]
["NAME","STATION","OFFSET (US FT)","RT/LT","NORTH (US FT)","EAST (US FT)","ELEVATION (US FT)","FEATURE","DESCRIPTION","NAME","NORTH (sft)","EAST (sft)","ORTHO HT (sft)","NORTH (US FT)","EAST (US FT)","PIN (TYPE \"B\")","PIN (TYPE \"B\")"]
[null,null,null,{"$f":"IF(C113<0,\"LT\",\"RT\")","v":"RT"},null,null,null,null,null,{"$f":"A113","v":0},{"$f":"E113/$C$103","v":{"$error":"#DIV/0!"}},{"$f":"F113/$C$103","v":{"$error":"#DIV/0!"}},{"$f":"G113/$C$104","v":0},{"$f":"$K113*$C$104","v":{"$error":"#DIV/0!"}},{"$f":"$L113*$C$104","v":{"$error":"#DIV/0!"}}]
[null,null,null,{"$f":"IF(C114<0,\"LT\",\"RT\")","v":"RT"},null,null,null,null,null,{"$f":"A114","v":0},{"$f":"E114/$C$103","v":{"$error":"#DIV/0!"}},{"$f":"F114/$C$103","v":{"$error":"#DIV/0!"}},{"$f":"G114/$C$104","v":0},{"$error":"#DIV/0!"},{"$error":"#DIV/0!"}," "]
[null,null,null,"RT",null,null,null,null,null,0,{"$error":"#DIV/0!"},{"$error":"#DIV/0!"},0,{"$error":"#DIV/0!"},{"$error":"#DIV/0!"}]
[null,null,null,"RT",null,null,null,null,null,0,{"$error":"#DIV/0!"},{"$error":"#DIV/0!"},0,{"$error":"#DIV/0!"},{"$error":"#DIV/0!"}]
[null,null,null,"RT",null,null,null,null,null,0,{"$error":"#DIV/0!"},{"$error":"#DIV/0!"},0,{"$error":"#DIV/0!"},{"$error":"#DIV/0!"}]
[null,null,null,"RT",null,null,null,null,null,0,{"$error":"#DIV/0!"},{"$error":"#DIV/0!"},0,{"$error":"#DIV/0!"},{"$error":"#DIV/0!"}," "]
[null,null,null,"RT",null,null,null,null,null,0,{"$error":"#DIV/0!"},{"$error":"#DIV/0!"},0,{"$error":"#DIV/0!"},{"$error":"#DIV/0!"}]
[null,null,null,"RT",null,null,null,null,null,0,{"$error":"#DIV/0!"},{"$error":"#DIV/0!"},0,{"$error":"#DIV/0!"},{"$error":"#DIV/0!"}]
[null,null,null,"RT",null,null,null,null,null,0,{"$error":"#DIV/0!"},{"$error":"#DIV/0!"},0,{"$error":"#DIV/0!"},{"$error":"#DIV/0!"}]
[null,null,null,"RT",null,null,null,null,null,0,{"$error":"#DIV/0!"},{"$error":"#DIV/0!"},0,{"$error":"#DIV/0!"},{"$error":"#DIV/0!"}," "]
[null,null,null,"RT",null,null,null,null,null,0,{"$error":"#DIV/0!"},{"$error":"#DIV/0!"},0,{"$error":"#DIV/0!"},{"$error":"#DIV/0!"}]
[null,null,null,"RT",null,null,null,null,null,0,{"$error":"#DIV/0!"},{"$error":"#DIV/0!"},0,{"$error":"#DIV/0!"},{"$error":"#DIV/0!"}]
[null,null,null,"RT",null,null,null,null,null,0,{"$error":"#DIV/0!"},{"$error":"#DIV/0!"},0,{"$error":"#DIV/0!"},{"$error":"#DIV/0!"}]
[null,null,null,"RT",null,null,null,null,null,0,{"$f":"E126/$C$103","v":{"$error":"#DIV/0!"}},{"$error":"#DIV/0!"},0,{"$error":"#DIV/0!"},{"$error":"#DIV/0!"}," "]
[null,null,null,"RT",null,null,null,null,null,0,{"$error":"#DIV/0!"},{"$error":"#DIV/0!"},0,{"$error":"#DIV/0!"},{"$error":"#DIV/0!"}]
[null,null,null,"RT",null,null,null,null,null,0,{"$error":"#DIV/0!"},{"$error":"#DIV/0!"},0,{"$error":"#DIV/0!"},{"$error":"#DIV/0!"}]
[null,null,null,"RT",null,null,null,null,null,0,{"$error":"#DIV/0!"},{"$error":"#DIV/0!"},0,{"$error":"#DIV/0!"},{"$error":"#DIV/0!"}]
[null,null,null,"RT",null,null,null,null,null,{"$f":"A130","v":0},{"$error":"#DIV/0!"},{"$f":"F130/$C$103","v":{"$error":"#DIV/0!"}},{"$f":"G130/$C$104","v":0},{"$error":"#DIV/0!"},{"$error":"#DIV/0!"}," "]
[null,null,null,"RT",null,null,null,null,null,0,{"$error":"#DIV/0!"},{"$error":"#DIV/0!"},0,{"$error":"#DIV/0!"},{"$error":"#DIV/0!"}]
[null,null,null,"RT",null,null,null,null,null,0,{"$error":"#DIV/0!"},{"$error":"#DIV/0!"},0,{"$error":"#DIV/0!"},{"$error":"#DIV/0!"}]
[null,null,null,"RT",null,null,null,null,null,0,{"$error":"#DIV/0!"},{"$error":"#DIV/0!"},0,{"$error":"#DIV/0!"},{"$error":"#DIV/0!"}]
[null,null,null,"RT",null,null,null,null,null,{"$f":"A134","v":0},{"$f":"E134/$C$103","v":{"$error":"#DIV/0!"}},{"$f":"F134/$C$103","v":{"$error":"#DIV/0!"}},{"$f":"G134/$C$104","v":0},{"$error":"#DIV/0!"},{"$error":"#DIV/0!"}," "]
[null,null,null,"RT",null,null,null,null,null,0,{"$error":"#DIV/0!"},{"$error":"#DIV/0!"},0,{"$error":"#DIV/0!"},{"$error":"#DIV/0!"}]
[null,null,null,"RT",null,null,null,null,null,0,{"$error":"#DIV/0!"},{"$error":"#DIV/0!"},0,{"$error":"#DIV/0!"},{"$error":"#DIV/0!"}]
[null,null,null,"RT",null,null,null,null,null,0,{"$error":"#DIV/0!"},{"$error":"#DIV/0!"},0,{"$error":"#DIV/0!"},{"$error":"#DIV/0!"}]
[null,null,null,"RT",null,null,null,null,null,0,{"$error":"#DIV/0!"},{"$error":"#DIV/0!"},0,{"$error":"#DIV/0!"},{"$error":"#DIV/0!"}," "]
[null,null,null,"RT",null,null,null,null,null,0,{"$error":"#DIV/0!"},{"$error":"#DIV/0!"},0,{"$error":"#DIV/0!"},{"$error":"#DIV/0!"}]
[null,null,null,"RT",null,null,null,null,null,0,{"$error":"#DIV/0!"},{"$error":"#DIV/0!"},0,{"$error":"#DIV/0!"},{"$error":"#DIV/0!"}]
[null,null,null,"RT",null,null,null,null,null,0,{"$error":"#DIV/0!"},{"$error":"#DIV/0!"},0,{"$error":"#DIV/0!"},{"$error":"#DIV/0!"}]
[null,null,null,"RT",null,null,null,null,null,0,{"$error":"#DIV/0!"},{"$error":"#DIV/0!"},0,{"$error":"#DIV/0!"},{"$error":"#DIV/0!"}]
[null,null,null,null,null,null,null,null,null,"SUBTOTAL MONUMENTS - QUANTITY CARRIED TO CENTERLINE PLAT SHEET 3 OF 4 ",null,null,null,null,null,{"$f":"+SUM(P112:P142)","v":0},{"$f":"+SUM(Q7:Q142)","v":0}]
[]
[]
[]
["PROJECT GROUND COORDINATES - US SURVEY FEET",null,null,null,null,null,null,null,"EXISTING RIGHT OF WAY POINTS","STATE PLANE GRID COORDINATES"]
[]
[{"$f":"A4","v":"Project coordinates (U.S. Survey Feet) are relative to State Plane Grid coordinates (meters) by a Project Adjustment Factor of:"},null,null,null,null,null,null,{"$f":"H4","v":0}]
[null,null,null,null,null,null,null,null,null,"Horiz. Datum:",{"$f":"REPORT!C11","v":"NAD83 (2011)"},{"$f":"REPORT!C10","v":"Ohio State Plane, North Zone"},null,"Vert. Datum:",{"$f":"REPORT!C15","v":"NAVD88"}]
[null,{"$f":"$B$6","v":"C/L of Right-of-Way SR 800"},null,{"$f":"$D$6","v":" used for alignment"}]
["NAME","STATION","OFFSET (US FT)","RT/LT","NORTH (US FT)","EAST (US FT)","ELEVATION (US FT)","FEATURE","DESCRIPTION","NAME","NORTH (sft)","EAST (sft)","ORTHO HT (sft)","NORTH (US FT)","EAST (US FT)"]
[null,null,null,{"$f":"IF(C153<0,\"LT\",\"RT\")","v":"RT"},null,null,null,null,null,{"$f":"A153","v":0},{"$f":"E153/$C$103","v":{"$error":"#DIV/0!"}},{"$error":"#DIV/0!"},{"$f":"G153/$C$104","v":0},{"$f":"$K153*$C$104","v":{"$error":"#DIV/0!"}},{"$f":"$L153*$C$104","v":{"$error":"#DIV/0!"}}]
[null,null,null,"RT",null,null,null,null,null,0,{"$error":"#DIV/0!"},{"$error":"#DIV/0!"},0,{"$error":"#DIV/0!"},{"$error":"#DIV/0!"}]
[null,null,null,"RT",null,null,null,null,null,0,{"$error":"#DIV/0!"},{"$error":"#DIV/0!"},0,{"$error":"#DIV/0!"},{"$error":"#DIV/0!"}]
[null,null,null,"RT",null,null,null,null,null,0,{"$error":"#DIV/0!"},{"$error":"#DIV/0!"},0,{"$error":"#DIV/0!"},{"$error":"#DIV/0!"}]
[null,null,null,"RT",null,null,null,null,null,0,{"$error":"#DIV/0!"},{"$error":"#DIV/0!"},0,{"$error":"#DIV/0!"},{"$error":"#DIV/0!"}]
[null,null,null,"RT",null,null,null,null,null,0,{"$error":"#DIV/0!"},{"$error":"#DIV/0!"},0,{"$error":"#DIV/0!"},{"$error":"#DIV/0!"}]
[null,null,null,"RT",null,null,null,null,null,0,{"$error":"#DIV/0!"},{"$error":"#DIV/0!"},0,{"$error":"#DIV/0!"},{"$error":"#DIV/0!"}]
[null,null,null,"RT",null,null,null,null,null,{"$f":"A160","v":0},{"$f":"E160/$C$103","v":{"$error":"#DIV/0!"}},{"$f":"F160/$C$103","v":{"$error":"#DIV/0!"}},{"$f":"G160/$C$104","v":0},{"$error":"#DIV/0!"},{"$error":"#DIV/0!"}]
[null,null,null,"RT",null,null,null,null,null,0,{"$error":"#DIV/0!"},{"$error":"#DIV/0!"},0,{"$error":"#DIV/0!"},{"$error":"#DIV/0!"}]
[null,null,null,"RT",null,null,null,null,null,0,{"$error":"#DIV/0!"},{"$error":"#DIV/0!"},0,{"$error":"#DIV/0!"},{"$error":"#DIV/0!"}]
[null,null,null,"RT",null,null,null,null,null,0,{"$error":"#DIV/0!"},{"$error":"#DIV/0!"},0,{"$error":"#DIV/0!"},{"$error":"#DIV/0!"}]
[null,null,null,"RT",null,null,null,null,null,0,{"$error":"#DIV/0!"},{"$error":"#DIV/0!"},0,{"$error":"#DIV/0!"},{"$error":"#DIV/0!"}]
[null,null,null,"RT",null,null,null,null,null,0,{"$error":"#DIV/0!"},{"$error":"#DIV/0!"},0,{"$error":"#DIV/0!"},{"$error":"#DIV/0!"}]
[null,null,null,"RT",null,null,null,null,null,0,{"$error":"#DIV/0!"},{"$error":"#DIV/0!"},0,{"$error":"#DIV/0!"},{"$error":"#DIV/0!"}]
[null,null,null,"RT",null,null,null,null,null,0,{"$error":"#DIV/0!"},{"$error":"#DIV/0!"},0,{"$error":"#DIV/0!"},{"$error":"#DIV/0!"}]
[null,null,null,"RT",null,null,null,null,null,0,{"$error":"#DIV/0!"},{"$error":"#DIV/0!"},0,{"$error":"#DIV/0!"},{"$error":"#DIV/0!"}]
[null,null,null,"RT",null,null,null,null,null,0,{"$error":"#DIV/0!"},{"$error":"#DIV/0!"},0,{"$error":"#DIV/0!"},{"$error":"#DIV/0!"}]
[null,null,null,"RT",null,null,null,null,null,0,{"$error":"#DIV/0!"},{"$error":"#DIV/0!"},0,{"$error":"#DIV/0!"},{"$error":"#DIV/0!"}]
[null,null,null,"RT",null,null,null,null,null,0,{"$error":"#DIV/0!"},{"$error":"#DIV/0!"},0,{"$error":"#DIV/0!"},{"$error":"#DIV/0!"}]
[null,null,null,"RT",null,null,null,null,null,0,{"$error":"#DIV/0!"},{"$error":"#DIV/0!"},0,{"$error":"#DIV/0!"},{"$error":"#DIV/0!"}]
[null,null,null,"RT",null,null,null,null,null,0,{"$error":"#DIV/0!"},{"$error":"#DIV/0!"},0,{"$error":"#DIV/0!"},{"$error":"#DIV/0!"}]
[null,null,null,"RT",null,null,null,null,null,0,{"$error":"#DIV/0!"},{"$error":"#DIV/0!"},0,{"$error":"#DIV/0!"},{"$error":"#DIV/0!"}]
[null,null,null,"RT",null,null,null,null,null,0,{"$error":"#DIV/0!"},{"$error":"#DIV/0!"},0,{"$error":"#DIV/0!"},{"$error":"#DIV/0!"}]
[null,null,null,"RT",null,null,null,null,null,0,{"$error":"#DIV/0!"},{"$error":"#DIV/0!"},0,{"$error":"#DIV/0!"},{"$error":"#DIV/0!"}]
[null,null,null,"RT",null,null,null,null,null,0,{"$error":"#DIV/0!"},{"$error":"#DIV/0!"},0,{"$error":"#DIV/0!"},{"$error":"#DIV/0!"}]
[null,null,null,"RT",null,null,null,null,null,0,{"$error":"#DIV/0!"},{"$error":"#DIV/0!"},0,{"$error":"#DIV/0!"},{"$error":"#DIV/0!"}]
[null,null,null,"RT",null,null,null,null,null,0,{"$error":"#DIV/0!"},{"$error":"#DIV/0!"},0,{"$error":"#DIV/0!"},{"$error":"#DIV/0!"}]
[null,null,null,"RT",null,null,null,null,null,0,{"$error":"#DIV/0!"},{"$error":"#DIV/0!"},0,{"$error":"#DIV/0!"},{"$error":"#DIV/0!"}]
[null,null,null,"RT",null,null,null,null,null,0,{"$error":"#DIV/0!"},{"$error":"#DIV/0!"},0,{"$error":"#DIV/0!"},{"$error":"#DIV/0!"}]
[null,null,null,"RT",null,null,null,null,null,0,{"$error":"#DIV/0!"},{"$error":"#DIV/0!"},0,{"$error":"#DIV/0!"},{"$error":"#DIV/0!"}]
[]
["PROJECT GROUND COORDINATES - US SURVEY FEET",null,null,null,null,null,null,null,"EXISTING BOUNDARY MONUMENTS","STATE PLANE GRID COORDINATES"]
[{"$f":"A4","v":"Project coordinates (U.S. Survey Feet) are relative to State Plane Grid coordinates (meters) by a Project Adjustment Factor of:"},null,null,null,null,null,null,{"$f":"H4","v":0}]
[null,null,null,null,null,null,null,null,null,"Horiz. Datum:",{"$f":"REPORT!C11","v":"NAD83 (2011)"},{"$f":"REPORT!C10","v":"Ohio State Plane, North Zone"},null,"Vert. Datum:",{"$f":"REPORT!C15","v":"NAVD88"}]
[null,{"$f":"$B$6","v":"C/L of Right-of-Way SR 800"},null,{"$f":"$D$6","v":" used for alignment"}]
["NAME","STATION","OFFSET (US FT)","RT/LT","NORTH (US FT)","EAST (US FT)","ELEVATION (US FT)","FEATURE","DESCRIPTION","NAME","NORTH (sft)","EAST (sft)","ORTHO HT (sft)","NORTH (US FT)","EAST (US FT)"]
[null,null,null,{"$f":"IF(C189<0,\"LT\",\"RT\")","v":"RT"},null,null,null,null,null,{"$f":"A189","v":0},{"$f":"E189/$C$103","v":{"$error":"#DIV/0!"}},{"$error":"#DIV/0!"},{"$f":"G189/$C$104","v":0},{"$f":"$K189*$C$104","v":{"$error":"#DIV/0!"}},{"$f":"$L189*$C$104","v":{"$error":"#DIV/0!"}}]
[null,null,null,"RT",null,null,null,null,null,{"$f":"A190","v":0},{"$f":"E190/$C$103","v":{"$error":"#DIV/0!"}},{"$f":"F190/$C$103","v":{"$error":"#DIV/0!"}},{"$f":"G190/$C$104","v":0},{"$error":"#DIV/0!"},{"$error":"#DIV/0!"}]
[null,null,null,"RT",null,null,null,null,null,0,{"$error":"#DIV/0!"},{"$error":"#DIV/0!"},0,{"$error":"#DIV/0!"},{"$error":"#DIV/0!"}]
[null,null,null,"RT",null,null,null,null,null,0,{"$error":"#DIV/0!"},{"$error":"#DIV/0!"},0,{"$error":"#DIV/0!"},{"$error":"#DIV/0!"}]
[null,null,null,"RT",null,null,null,null,null,{"$f":"A193","v":0},{"$f":"E193/$C$103","v":{"$error":"#DIV/0!"}},{"$f":"F193/$C$103","v":{"$error":"#DIV/0!"}},{"$f":"G193/$C$104","v":0},{"$error":"#DIV/0!"},{"$error":"#DIV/0!"}]
[null,null,null,"RT",null,null,null,null,null,0,{"$error":"#DIV/0!"},{"$error":"#DIV/0!"},0,{"$error":"#DIV/0!"},{"$error":"#DIV/0!"}]
[null,null,null,"RT",null,null,null,null,null,0,{"$error":"#DIV/0!"},{"$error":"#DIV/0!"},0,{"$error":"#DIV/0!"},{"$error":"#DIV/0!"}]
[null,null,null,"RT",null,null,null,null,null,0,{"$error":"#DIV/0!"},{"$error":"#DIV/0!"},0,{"$error":"#DIV/0!"},{"$error":"#DIV/0!"}]
[null,null,null,"RT",null,null,null,null,null,0,{"$error":"#DIV/0!"},{"$error":"#DIV/0!"},0,{"$error":"#DIV/0!"},{"$error":"#DIV/0!"}]
[null,null,null,"RT",null,null,null,null,null,0,{"$error":"#DIV/0!"},{"$error":"#DIV/0!"},0,{"$error":"#DIV/0!"},{"$error":"#DIV/0!"}]
[null,null,null,"RT",null,null,null,null,null,0,{"$error":"#DIV/0!"},{"$error":"#DIV/0!"},0,{"$error":"#DIV/0!"},{"$error":"#DIV/0!"}]
[null,null,null,"RT",null,null,null,null,null,0,{"$error":"#DIV/0!"},{"$error":"#DIV/0!"},0,{"$error":"#DIV/0!"},{"$error":"#DIV/0!"}]
[null,null,null,"RT",null,null,null,null,null,0,{"$error":"#DIV/0!"},{"$error":"#DIV/0!"},0,{"$error":"#DIV/0!"},{"$error":"#DIV/0!"}]
[null,null,null,"RT",null,null,null,null,null,0,{"$error":"#DIV/0!"},{"$error":"#DIV/0!"},0,{"$error":"#DIV/0!"},{"$error":"#DIV/0!"}]
[null,null,null,"RT",null,null,null,null,null,0,{"$error":"#DIV/0!"},{"$error":"#DIV/0!"},0,{"$error":"#DIV/0!"},{"$error":"#DIV/0!"}]
[null,null,null,"RT",null,null,null,null,null,0,{"$error":"#DIV/0!"},{"$error":"#DIV/0!"},0,{"$error":"#DIV/0!"},{"$error":"#DIV/0!"}]
[null,null,null,"RT",null,null,null,null,null,0,{"$error":"#DIV/0!"},{"$error":"#DIV/0!"},0,{"$error":"#DIV/0!"},{"$error":"#DIV/0!"}]
[null,null,null,"RT",null,null,null,null,null,0,{"$error":"#DIV/0!"},{"$error":"#DIV/0!"},0,{"$error":"#DIV/0!"},{"$error":"#DIV/0!"}]
[null,null,null,"RT",null,null,null,null,null,0,{"$error":"#DIV/0!"},{"$error":"#DIV/0!"},0,{"$error":"#DIV/0!"},{"$error":"#DIV/0!"}]
[null,null,null,"RT",null,null,null,null,null,0,{"$error":"#DIV/0!"},{"$error":"#DIV/0!"},0,{"$error":"#DIV/0!"},{"$error":"#DIV/0!"}]
[null,null,null,"RT",null,null,null,null,null,0,{"$error":"#DIV/0!"},{"$error":"#DIV/0!"},0,{"$error":"#DIV/0!"},{"$error":"#DIV/0!"}]
[null,null,null,"RT",null,null,null,null,null,0,{"$error":"#DIV/0!"},{"$error":"#DIV/0!"},0,{"$error":"#DIV/0!"},{"$error":"#DIV/0!"}]
[null,null,null,"RT",null,null,null,null,null,0,{"$error":"#DIV/0!"},{"$error":"#DIV/0!"},0,{"$error":"#DIV/0!"},{"$error":"#DIV/0!"}]
[null,null,null,"RT",null,null,null,null,null,0,{"$error":"#DIV/0!"},{"$error":"#DIV/0!"},0,{"$error":"#DIV/0!"},{"$error":"#DIV/0!"}]
[null,null,null,"RT",null,null,null,null,null,0,{"$error":"#DIV/0!"},{"$error":"#DIV/0!"},0,{"$error":"#DIV/0!"},{"$error":"#DIV/0!"}]
[null,null,null,"RT",null,null,null,null,null,0,{"$error":"#DIV/0!"},{"$error":"#DIV/0!"},0,{"$error":"#DIV/0!"},{"$error":"#DIV/0!"}]
[null,null,null,"RT",null,null,null,null,null,0,{"$error":"#DIV/0!"},{"$error":"#DIV/0!"},0,{"$error":"#DIV/0!"},{"$error":"#DIV/0!"}]
[null,null,null,"RT",null,null,null,null,null,0,{"$error":"#DIV/0!"},{"$error":"#DIV/0!"},0,{"$error":"#DIV/0!"},{"$error":"#DIV/0!"}]
[null,null,null,"RT",null,null,null,null,null,0,{"$error":"#DIV/0!"},{"$error":"#DIV/0!"},0,{"$error":"#DIV/0!"},{"$error":"#DIV/0!"}]
[null,null,null,"RT",null,null,null,null,null,0,{"$error":"#DIV/0!"},{"$error":"#DIV/0!"},0,{"$error":"#DIV/0!"},{"$error":"#DIV/0!"}]

{"sheet":"GPS_IMPORT","index":6,"n_rows":340,"n_cols":8,"rows_kept":340,"cut":false,"hidden":false,"merged":[[4,7,6,8]]}
[]
["GS1","12.18.2018"," 9: 3:49.0900",314273.42030573101,2256928.3307268098,912.14651699080002,"AERTAR"]
["GS1","12.18.2018"," 9: 4:0.4000",314273.41646672401,2256928.3256055801,912.13605179679996,"AERTAR"]
["GS1","12.18.2018"," 9: 4:11.7400",314273.41841698199,2256928.3175969399,912.15666625382005,"AERTAR"]
["GS1","12.18.2018"," 9: 4:23.6600",314273.41512931499,2256928.3124733898,912.15685159825,"AERTAR","Imported data should be in Grid Meters!"]
["GS1","12.18.2018"," 9: 5:0.1900",314273.41712666902,2256928.3191334801,912.14525435457995,"AERTAR"]
["GS1","12.18.2018"," 9: 5:10.9300",314273.41672419099,2256928.32151209,912.15982191549006,"AERTAR"]
["GS1","12.18.2018"," 9: 5:22.6400",314273.40688533499,2256928.3271727902,912.16200475340997,"AERTAR"]
["GS1","12.18.2018"," 9: 5:33.9700",314273.40059605602,2256928.3290406298,912.15306920783996,"AERTAR"]
["GS1","12.18.2018"," 9: 5:58.8400",314273.39961096301,2256928.3266854701,912.15288822057005,"AERTAR"]
["GS1","12.18.2018"," 9: 6:10.1200",314273.39891639003,2256928.3260906199,912.15725568999005,"AERTAR"]
["GS1","12.18.2018"," 9: 6:21.9800",314273.39564103098,2256928.3230955801,912.15845201545005,"AERTAR"]
["GS1","12.18.2018"," 9: 6:34.1800",314273.39653088403,2256928.3266145498,912.15609444183997,"AERTAR"]
["GS2","12.18.2018"," 9:15:28.2700",315045.21334488702,2257842.2095851102,902.44269982054004,"AERTAR"]
["GS2","12.18.2018"," 9:15:39.9600",315045.209265457,2257842.2048812401,902.44212446416998,"AERTAR"]
["GS2","12.18.2018"," 9:15:50.8500",315045.19978213299,2257842.1984984898,902.44243545133997,"AERTAR"]
["GS2","12.18.2018"," 9:16:1.2100",315045.20046872302,2257842.19774005,902.45893255110002,"AERTAR"]
["GS2","12.18.2018"," 9:16:16.8300",315045.20045374997,2257842.2039982602,902.46296249621003,"AERTAR"]
["GS2","12.18.2018"," 9:16:26.5800",315045.19935168501,2257842.20311788,902.46291551463003,"AERTAR"]
["GS2","12.18.2018"," 9:16:37.6100",315045.19999707403,2257842.2081766701,902.46673843947997,"AERTAR"]
["GS2","12.18.2018"," 9:16:49.1900",315045.19909390301,2257842.2051618099,902.48173970617995,"AERTAR"]
["GS2","12.18.2018"," 9:17:8.6400",315045.19947990298,2257842.2030988401,902.46348299998999,"AERTAR"]
["GS2","12.18.2018"," 9:17:19.7600",315045.19826581498,2257842.2036067802,902.46004463298004,"AERTAR"]
["GS2","12.18.2018"," 9:17:31.1500",315045.19718497503,2257842.2049725899,902.45596180303005,"AERTAR"]
["GS2","12.18.2018"," 9:17:42.0300",315045.193614232,2257842.19972543,902.44984309316999,"AERTAR"]
["GS3","12.18.2018"," 9:23:58.8000",313946.227047747,2258275.22233022,875.73501143198996,"AERTAR"]
["GS3","12.18.2018"," 9:24:9.9200",313946.22239665,2258275.2185919699,875.73382478029998,"AERTAR"]
["GS3","12.18.2018"," 9:24:20.8500",313946.22753460403,2258275.2114705499,875.72921087449004,"AERTAR"]
["GS3","12.18.2018"," 9:24:41.8000",313946.22496447602,2258275.2155935299,875.74300898361003,"AERTAR"]
["GS3","12.18.2018"," 9:24:52.6700",313946.22694213199,2258275.2143366798,875.73716919942001,"AERTAR"]
["GS3","12.18.2018"," 9:25:4.9900",313946.235927701,2258275.2090097801,875.73469356379996,"AERTAR"]
["GS3","12.18.2018"," 9:25:17.0500",313946.24171187199,2258275.2136526201,875.74971731603,"AERTAR"]
["GS3","12.18.2018"," 9:25:27.9400",313946.229398,2258275.2109666602,875.76033934347004,"AERTAR"]
["GS3","12.18.2018"," 9:25:48.6400",313946.22765225498,2258275.21080575,875.74906009633003,"AERTAR"]
["GS3","12.18.2018"," 9:26:0.0000",313946.23550482001,2258275.2101714099,875.73900678256996,"AERTAR"]
["GS3","12.18.2018"," 9:26:11.9800",313946.23836553202,2258275.2192111802,875.73551195881998,"AERTAR"]
["GS3","12.18.2018"," 9:26:26.9600",313946.23310235498,2258275.2200116501,875.72844692262004,"AERTAR"]
["GS4","12.18.2018"," 9:35:50.8300",314875.15201425599,2264670.3650497999,880.86047516168003,"AERTAR"]
["GS4","12.18.2018"," 9:36:6.7800",314875.16259658599,2264670.3599310801,880.85372473954999,"AERTAR"]
["GS4","12.18.2018"," 9:36:16.9700",314875.16483542498,2264670.3603956802,880.85370189957996,"AERTAR"]
["GS4","12.18.2018"," 9:36:26.7600",314875.16410484602,2264670.3633526899,880.86384400964005,"AERTAR"]
["GS4","12.18.2018"," 9:36:43.9700",314875.16643646901,2264670.3579541598,880.85779669187002,"AERTAR"]
["GS4","12.18.2018"," 9:36:53.9100",314875.165319319,2264670.3663568301,880.86812187610997,"AERTAR"]
["GS4","12.18.2018"," 9:37:2.7800",314875.16932231002,2264670.3640270601,880.85866356567999,"AERTAR"]
["GS4","12.18.2018"," 9:37:14.9100",314875.16741408099,2264670.36780053,880.85958003965004,"AERTAR"]
["GS4","12.18.2018"," 9:37:33.7800",314875.16818210197,2264670.3671788299,880.86077817395994,"AERTAR"]
["GS4","12.18.2018"," 9:37:45.2300",314875.16819573502,2264670.3636613502,880.86589855263003,"AERTAR"]
["GS4","12.18.2018"," 9:37:56.0100",314875.17342165101,2264670.36890106,880.86462234686996,"AERTAR"]
["GS4","12.18.2018"," 9:38:6.0000",314875.17545731802,2264670.3734245398,880.87458696210001,"AERTAR"]
["GS5","12.18.2018"," 9:43:32.0600",316420.73414809798,2266072.3733519502,880.63428762561,"AERTAR"]
["GS5","12.18.2018"," 9:43:43.0800",316420.73239817203,2266072.3753090799,880.63958089748996,"AERTAR"]
["GS5","12.18.2018"," 9:43:52.7000",316420.72625062102,2266072.3681540601,880.66066197123996,"AERTAR"]
["GS5","12.18.2018"," 9:44:6.8600",316420.72218136903,2266072.3585198601,880.66183525200995,"AERTAR"]
["GS5","12.18.2018"," 9:44:26.7800",316420.726608795,2266072.3694845801,880.64329881654999,"AERTAR"]
["GS5","12.18.2018"," 9:44:37.0400",316420.72525363602,2266072.37058227,880.65192392798997,"AERTAR"]
["GS5","12.18.2018"," 9:44:47.3400",316420.728792704,2266072.3769967998,880.65757805608996,"AERTAR"]
["GS5","12.18.2018"," 9:44:57.1900",316420.72799326398,2266072.3699233602,880.65887767319998,"AERTAR"]
["GS5","12.18.2018"," 9:45:10.3900",316420.726315915,2266072.36840872,880.66252916842996,"AERTAR"]
["GS5","12.18.2018"," 9:45:21.5800",316420.72868566902,2266072.3650620198,880.65505891912005,"AERTAR"]
["GS5","12.18.2018"," 9:45:31.0000",316420.72979754303,2266072.3722451101,880.63979528153004,"AERTAR"]
["GS5","12.18.2018"," 9:45:40.7100",316420.733523086,2266072.3763632299,880.62764879696999,"AERTAR"]
["GS6","12.18.2018"," 9:53:38.8900",311926.79393123102,2265883.91403266,1041.3150564079899,"AERTAR"]
["GS6","12.18.2018"," 9:53:53.4200",311926.79862916301,2265883.9203546802,1041.3005520839999,"AERTAR"]
["GS6","12.18.2018"," 9:54:5.2200",311926.79956603801,2265883.91867196,1041.3012681590201,"AERTAR"]
["GS6","12.18.2018"," 9:54:17.0600",311926.79267806699,2265883.9137972798,1041.33189289593,"AERTAR"]
["GS6","12.18.2018"," 9:54:36.7800",311926.78965321102,2265883.9079191,1041.3372440423,"AERTAR"]
["GS6","12.18.2018"," 9:54:48.9400",311926.78301334602,2265883.9064867198,1041.3416000779901,"AERTAR"]
["GS6","12.18.2018"," 9:55:0.7900",311926.79010477202,2265883.9071517498,1041.3480150902201,"AERTAR"]
["GS6","12.18.2018"," 9:55:12.2200",311926.798098878,2265883.9055768298,1041.3315587449099,"AERTAR"]
["GS6","12.18.2018"," 9:55:32.9400",311926.78957276302,2265883.90638832,1041.34672409883,"AERTAR"]
["GS6","12.18.2018"," 9:55:43.8000",311926.79160840297,2265883.90768386,1041.34372588474,"AERTAR"]
["GS6","12.18.2018"," 9:55:55.2000",311926.78892739001,2265883.9100304502,1041.35051688104,"AERTAR"]
["GS6","12.18.2018"," 9:56:6.0700",311926.78726018098,2265883.9096143101,1041.3559499274099,"AERTAR"]
["GS7","12.18.2018","10:08:17.080",310823.144461927,2269553.9183743899,930.60928910317,"AERTAR"]
["GS7","12.18.2018","10:08:28.450",310823.14009389502,2269553.91989118,930.60871382317998,"AERTAR"]
["GS7","12.18.2018","10:08:40.180",310823.14491071098,2269553.9214098901,930.60611622367003,"AERTAR"]
["GS7","12.18.2018","10:08:50.820",310823.141376385,2269553.91792505,930.61113289512002,"AERTAR"]
["GS7","12.18.2018","10:09:10.950",310823.13534341898,2269553.92012427,930.61175987440004,"AERTAR"]
["GS7","12.18.2018","10:09:21.680",310823.13383582101,2269553.9182394198,930.59760593233,"AERTAR"]
["GS7","12.18.2018","10:09:33.070",310823.13190210599,2269553.9172834102,930.60195765975004,"AERTAR"]
["GS7","12.18.2018","10:09:45.310",310823.13015496702,2269553.9122950402,930.60546050726998,"AERTAR"]
["GS7","12.18.2018","10:10:06.090",310823.13807619101,2269553.9180773101,930.61027102929995,"AERTAR"]
["GS7","12.18.2018","10:10:18.090",310823.14030154701,2269553.9189639301,930.60847937358005,"AERTAR"]
["GS7","12.18.2018","10:10:32.040",310823.13860444701,2269553.9132200498,930.62238051157999,"AERTAR"]
["GS7","12.18.2018","10:10:43.990",310823.14292726701,2269553.91593466,930.61320040572002,"AERTAR"]
["GS8","12.18.2018","10:29:50.490",320793.62425246101,2266823.8593734102,894.87229967100996,"AERTAR"]
["GS8","12.18.2018","10:30:01.830",320793.614802072,2266823.86019063,894.83919282079,"AERTAR"]
["GS8","12.18.2018","10:30:14.140",320793.66071773903,2266823.8335118899,894.83679050834996,"AERTAR"]
["GS8","12.18.2018","10:30:23.480",320793.62628645101,2266823.8476991099,894.86611285679999,"AERTAR"]
["GS8","12.18.2018","10:31:01.200",320793.590948581,2266823.8682396701,894.88585625090002,"AERTAR"]
["GS8","12.18.2018","10:31:11.080",320793.58746722498,2266823.8723994801,894.86624250226998,"AERTAR"]
["GS8","12.18.2018","10:31:28.080",320793.59134040697,2266823.8553417199,894.86542509111996,"AERTAR"]
["GS8","12.18.2018","10:31:37.780",320793.59116015298,2266823.8534375401,894.87649655718997,"AERTAR"]
["GS8","12.18.2018","10:32:06",320793.579715106,2266823.8756003999,894.81081397844002,"AERTAR"]
["GS8","12.18.2018","10:32:17.090",320793.56845676398,2266823.8729975098,894.81106391032995,"AERTAR"]
["GS8","12.18.2018","10:32:28.200",320793.57080849097,2266823.8696243698,894.81362252455006,"AERTAR"]
["GS8","12.18.2018","10:32:41.980",320793.54922786402,2266823.8676235201,894.81004584357004,"AERTAR"]
["GS9","12.18.2018","10:43:24.890",320157.282550723,2265885.4674293101,888.12034641814,"AERTAR"]
["GS9","12.18.2018","10:43:37.280",320157.30879510799,2265885.46437087,888.11985101846005,"AERTAR"]
["GS9","12.18.2018","10:43:47.700",320157.31662503799,2265885.4655337399,888.12496477887998,"AERTAR"]
["GS9","12.18.2018","10:44:12.860",320157.325250756,2265885.4821464,888.16922157910994,"AERTAR"]
["GS9","12.18.2018","10:44:38.870",320157.32542161201,2265885.4457468302,888.14655008274997,"AERTAR"]
["GS9","12.18.2018","10:44:50.090",320157.318493111,2265885.4546408299,888.17257199008998,"AERTAR"]
["GS9","12.18.2018","10:45:00.900",320157.31255815201,2265885.4401054801,888.12602035818998,"AERTAR"]
["GS9","12.18.2018","10:45:13.980",320157.306491845,2265885.4338752301,888.14904534392997,"AERTAR"]
["GS9","12.18.2018","10:45:45.390",320157.29587589501,2265885.4466303,888.15370529328004,"AERTAR"]
["GS9","12.18.2018","10:45:58.640",320157.293766091,2265885.4655727101,888.18867197078998,"AERTAR"]
["GS9","12.18.2018","10:46:11.230",320157.30790198699,2265885.4797346601,888.19828005031002,"AERTAR"]
["GS9","12.18.2018","10:46:23.640",320157.29067418398,2265885.47501504,888.18301119695002,"AERTAR"]
["GS10","12.18.2018","10:53:15.850",323096.45397700701,2267173.2202011799,887.28019958695995,"AERTAR"]
["GS10","12.18.2018","10:53:27.830",323096.45693702699,2267173.2113552,887.27859783144004,"AERTAR"]
["GS10","12.18.2018","10:53:39.060",323096.45011588797,2267173.21435729,887.26428254906,"AERTAR"]
["GS10","12.18.2018","10:53:51.020",323096.44684021903,2267173.2125806301,887.26887217268995,"AERTAR"]
["GS10","12.18.2018","10:54:15.980",323096.44339228398,2267173.2168935002,887.27780641967001,"AERTAR"]
["GS10","12.18.2018","10:54:28.040",323096.436541114,2267173.2145627001,887.28244302182998,"AERTAR"]
["GS10","12.18.2018","10:54:38.720",323096.435783041,2267173.2170749898,887.27832820064998,"AERTAR"]
["GS10","12.18.2018","10:54:50.190",323096.43475647899,2267173.2159670498,887.27630314643,"AERTAR"]
["GS10","12.18.2018","10:55:10.800",323096.44047432003,2267173.2169814301,887.27513752278003,"AERTAR"]
["GS10","12.18.2018","10:55:21.670",323096.43559351697,2267173.2215595702,887.28868883497,"AERTAR"]
["GS10","12.18.2018","10:55:32.810",323096.43014372699,2267173.2214170801,887.27843243951997,"AERTAR"]
["GS10","12.18.2018","10:55:44.150",323096.42853505799,2267173.2171745799,887.31858582174004,"AERTAR"]
["GS11","12.18.2018","11:01:49.410",326771.67356854799,2270465.3825085899,935.38885427051002,"AERTAR"]
["GS11","12.18.2018","11:02:04.430",326771.66993627499,2270465.39495034,935.39121238799999,"AERTAR"]
["GS11","12.18.2018","11:02:17.320",326771.66840400698,2270465.39162785,935.39041319077,"AERTAR"]
["GS11","12.18.2018","11:02:29.760",326771.66337051999,2270465.3858366101,935.39204654642003,"AERTAR"]
["GS11","12.18.2018","11:03:20.160",326771.686500635,2270465.3491960601,935.32769655072002,"AERTAR"]
["GS11","12.18.2018","11:03:31.680",326771.68775088398,2270465.3444622601,935.33267794321,"AERTAR"]
["GS11","12.18.2018","11:03:43.720",326771.67581628897,2270465.3632014198,935.35208120664004,"AERTAR"]
["GS11","12.18.2018","11:04:35.290",326771.66873657203,2270465.35718136,935.34117883272995,"AERTAR"]
["GS11","12.18.2018","11:05:10.150",326771.65808441403,2270465.3692715401,935.41280870087996,"AERTAR"]
["GS11","12.18.2018","11:05:21.720",326771.66625044402,2270465.36521025,935.36886646889002,"AERTAR"]
["GS11","12.18.2018","11:05:32.710",326771.66042147297,2270465.3767055799,935.42695012145998,"AERTAR"]
["GS11","12.18.2018","11:05:43.830",326771.66466503002,2270465.3732113801,935.42630373659995,"AERTAR"]
["GS12","12.18.2018","11:08:01.130",328167.64797190001,2271461.38672408,928.81205837832999,"AERPP"]
["GS12","12.18.2018","11:08:13",328167.65847426699,2271461.3863661801,928.81565172408,"AERPP"]
["GS12","12.18.2018","11:08:25.090",328167.65937827597,2271461.38639986,928.81391367124002,"AERPP"]
["GS12","12.18.2018","11:08:37.790",328167.64818169299,2271461.3874973599,928.80379641168997,"AERPP"]
["GS12","12.18.2018","11:09:00.160",328167.62700860598,2271461.3763353899,928.75628963828001,"AERPP"]
["GS12","12.18.2018","11:09:12.100",328167.64202413999,2271461.3824640098,928.77759364539997,"AERPP"]
["GS12","12.18.2018","11:09:24.070",328167.68439645099,2271461.3960544802,928.80250029314004,"AERPP"]
["GS12","12.18.2018","11:09:35.980",328167.64454245102,2271461.3836399298,928.76485428110004,"AERPP"]
["GS12","12.18.2018","11:09:55.060",328167.63826201,2271461.3941856902,928.81217257512003,"AERPP"]
["GS12","12.18.2018","11:10:06.800",328167.64095905802,2271461.3896474298,928.79445195888002,"AERPP"]
["GS12","12.18.2018","11:11:14.030",328167.66537626099,2271461.3900945098,928.78349750983,"AERPP"]
["GS12","12.18.2018","11:11:26.290",328167.67075100099,2271461.3912926698,928.77670112055,"AERPP"]
["GS13","12.18.2018","11:18:21.900",332046.725291254,2273761.1079049399,907.68047339096995,"AERTAR"]
["GS13","12.18.2018","11:18:33.810",332046.72618725401,2273761.1102779601,907.67435589109004,"AERTAR"]
["GS13","12.18.2018","11:18:46.030",332046.73575345101,2273761.1103322301,907.66685117863005,"AERTAR"]
["GS13","12.18.2018","11:18:58.830",332046.73151434201,2273761.1063077501,907.66510532507004,"AERTAR"]
["GS13","12.18.2018","11:19:18.810",332046.72652637598,2273761.1077861101,907.65970493603004,"AERTAR"]
["GS13","12.18.2018","11:19:29.730",332046.72635600599,2273761.11096856,907.64541763298996,"AERTAR"]
["GS13","12.18.2018","11:19:42.030",332046.723159616,2273761.1104654698,907.66047503560003,"AERTAR"]
["GS13","12.18.2018","11:19:53.890",332046.72245278303,2273761.1084681302,907.66258555255001,"AERTAR"]
["GS13","12.18.2018","11:20:04.750",332046.72764932498,2273761.1127419402,907.65445338719996,"AERTAR"]
["GS13","12.18.2018","11:20:25.930",332046.721632539,2273761.1032213899,907.68261220197996,"AERTAR"]
["GS13","12.18.2018","11:20:38.030",332046.720687302,2273761.10427301,907.68870854547004,"AERTAR"]
["GS13","12.18.2018","11:20:50.150",332046.72271082102,2273761.1043789699,907.68510669012005,"AERTAR"]
["GS13","12.18.2018","11:21:04.020",332046.72549768898,2273761.1055083401,907.68477472379004,"AERTAR"]
["GS13","12.18.2018","11:21:17.950",332046.723522457,2273761.1057923501,907.70200599026998,"AERTAR"]
["GS14","12.18.2018","11:24:35.930",334532.58943039598,2275980.4883043398,901.94798711354997,"AERPP"]
["GS14","12.18.2018","11:24:47.760",334532.58584810799,2275980.49092534,901.94194815567005,"AERPP"]
["GS14","12.18.2018","11:24:59.710",334532.58060811099,2275980.4905196899,901.94588911504002,"AERPP"]
["GS14","12.18.2018","11:25:11.700",334532.579199053,2275980.4899816802,901.94284665709995,"AERPP"]
["GS14","12.18.2018","11:25:30.030",334532.58448146802,2275980.4906849698,901.95881315766997,"AERPP"]
["GS14","12.18.2018","11:25:42.210",334532.58808138798,2275980.49409043,901.96905210918999,"AERPP"]
["GS14","12.18.2018","11:25:53.860",334532.59226557799,2275980.49389331,901.9725404308,"AERPP"]
["GS14","12.18.2018","11:26:07.310",334532.58824832999,2275980.4961274499,901.9913485198,"AERPP"]
["GS14","12.18.2018","11:26:28.130",334532.58501348901,2275980.4935058402,901.97041235686004,"AERPP"]
["GS14","12.18.2018","11:26:38.910",334532.58076317201,2275980.4970031199,901.96368689523001,"AERPP"]
["GS14","12.18.2018","11:26:50.960",334532.58273155801,2275980.4918126902,901.96521301455005,"AERPP"]
["GS14","12.18.2018","11:27:02.810",334532.58136098902,2275980.4851399902,901.97088420769001,"AERPP"]
["GS15","12.18.2018","11:34:05.200",336356.413223646,2276998.8708637902,923.07409550123998,"AERTAR"]
["GS15","12.18.2018","11:34:17.300",336356.420965,2276998.8740819502,923.08119628085001,"AERTAR"]
["GS15","12.18.2018","11:34:30.270",336356.41887935298,2276998.8778492701,923.07860713593004,"AERTAR"]
["GS15","12.18.2018","11:34:43.460",336356.41480588302,2276998.8801988098,923.08136500022999,"AERTAR"]
["GS15","12.18.2018","11:35:01.800",336356.42706681101,2276998.8760834602,923.08312051532005,"AERTAR"]
["GS15","12.18.2018","11:35:13.070",336356.43060648802,2276998.8810497802,923.08391075072996,"AERTAR"]
["GS15","12.18.2018","11:35:25.210",336356.42458738497,2276998.8765590498,923.08419565909003,"AERTAR"]
["GS15","12.18.2018","11:35:37.300",336356.432342179,2276998.8763711401,923.07469687226001,"AERTAR"]
["GS15","12.18.2018","11:35:55.980",336356.434798047,2276998.8719419301,923.06107346522003,"AERTAR"]
["GS15","12.18.2018","11:36:08.100",336356.43069054699,2276998.8726609,923.05095638594003,"AERTAR"]
["GS15","12.18.2018","11:36:19.940",336356.413565161,2276998.8827687302,923.07038834675996,"AERTAR"]
["GS15","12.18.2018","11:36:32.790",336356.43680778902,2276998.8690587902,923.05895407810999,"AERTAR"]
["GS16","12.18.2018","11:43:15.230",337228.729194229,2279034.5811553402,902.40730281357003,"AERTAR"]
["GS16","12.18.2018","11:43:26",337228.73144797701,2279034.5776929799,902.40861880824002,"AERTAR"]
["GS16","12.18.2018","11:43:38.380",337228.72959106398,2279034.5849818899,902.42872535631,"AERTAR"]
["GS16","12.18.2018","11:43:50.170",337228.73079375701,2279034.5890997401,902.42427533299997,"AERTAR"]
["GS16","12.18.2018","11:44:07.610",337228.729147373,2279034.5900672399,902.41461264228997,"AERTAR"]
["GS16","12.18.2018","11:44:18.780",337228.72970346501,2279034.5891547501,902.41464788152996,"AERTAR"]
["GS16","12.18.2018","11:44:30.120",337228.731882644,2279034.5889348499,902.42441768635001,"AERTAR"]
["GS16","12.18.2018","11:44:42.200",337228.73582827498,2279034.5895428001,902.41586699500999,"AERTAR"]
["GS16","12.18.2018","11:44:58.710",337228.73212708102,2279034.5932277599,902.43089644577003,"AERTAR"]
["GS16","12.18.2018","11:45:10.250",337228.737403356,2279034.5920120599,902.41699754747003,"AERTAR"]
["GS16","12.18.2018","11:45:22.120",337228.72696878202,2279034.5937332301,902.41945151949005,"AERTAR"]
["GS16","12.18.2018","11:45:34.230",337228.72766127298,2279034.5967345499,902.45136396312,"AERTAR"]
["GS17","12.18.2018","11:54:49.040",340270.83905002102,2284093.2388305101,902.80321642393994,"AERTAR"]
["GS17","12.18.2018","11:55:01.150",340270.848137867,2284093.2374749901,902.79430379778,"AERTAR"]
["GS17","12.18.2018","11:55:13.840",340270.85303623299,2284093.2357169599,902.79914214026996,"AERTAR"]
["GS17","12.18.2018","11:55:27.080",340270.86407670297,2284093.2364036301,902.77934678714996,"AERTAR"]
["GS17","12.18.2018","11:55:48.220",340270.84494939703,2284093.2417819202,902.78514046363,"AERTAR"]
["GS17","12.18.2018","11:56:00.290",340270.84249073599,2284093.23866928,902.78978559985001,"AERTAR"]
["GS17","12.18.2018","11:56:15.930",340270.83921299502,2284093.2412961302,902.78119925676003,"AERTAR"]
["GS17","12.18.2018","11:56:28",340270.83718978602,2284093.2398209302,902.80579396095004,"AERTAR"]
["GS17","12.18.2018","11:56:44.860",340270.85932024702,2284093.2359807501,902.76329193333004,"AERTAR"]
["GS17","12.18.2018","11:56:57.080",340270.83932664699,2284093.23992647,902.78925231485005,"AERTAR"]
["GS17","12.18.2018","11:57:08.980",340270.83902915299,2284093.2361336602,902.80141394252996,"AERTAR"]
["GS17","12.18.2018","11:57:19.750",340270.83650542202,2284093.2401819201,902.80586908381997,"AERTAR"]
["GS18","12.18.2018","12:03:07.060",341748.212057575,2284933.7420573402,933.15901457315999,"AERTAR"]
["GS18","12.18.2018","12:03:21.990",341748.20657405298,2284933.74460389,933.18663193861005,"AERTAR"]
["GS18","12.18.2018","12:03:33.990",341748.21384367801,2284933.7412459701,933.14213007393005,"AERTAR"]
["GS18","12.18.2018","12:03:44.960",341748.22140399902,2284933.7499529999,933.12797221468998,"AERTAR"]
["GS18","12.18.2018","12:04:00.990",341748.21326264401,2284933.7577144001,933.11703205627998,"AERTAR"]
["GS18","12.18.2018","12:04:13",341748.208054744,2284933.7511231699,933.09373893694999,"AERTAR"]
["GS18","12.18.2018","12:04:23.850",341748.20292394003,2284933.7510829698,933.12797724406005,"AERTAR"]
["GS18","12.18.2018","12:04:35.700",341748.20083978801,2284933.7442478202,933.15584488362003,"AERTAR"]
["GS18","12.18.2018","12:04:58.120",341748.19580982497,2284933.7420349801,933.15530528899001,"AERTAR"]
["GS18","12.18.2018","12:05:08.780",341748.19827461499,2284933.73895327,933.15252795495996,"AERTAR"]
["GS18","12.18.2018","12:05:19.770",341748.199003288,2284933.7392790299,933.16478255583002,"AERTAR"]
["GS18","12.18.2018","12:05:30.790",341748.20000627497,2284933.7368889302,933.14489103650999,"AERTAR"]
["GS18","12.18.2018","12:05:47.860",341748.20269853302,2284933.7476557,933.15450480539005,"AERTAR"]
["GS19","12.18.2018","12:11:57.110",342830.78487837903,2286284.3924303902,930.02063429596001,"AERTAR"]
["GS19","12.18.2018","12:12:12.290",342830.79086647998,2286284.39196209,929.99610016122995,"AERTAR"]
["GS19","12.18.2018","12:12:22.750",342830.79169207503,2286284.3949252302,930.04391509545997,"AERTAR"]
["GS19","12.18.2018","12:12:33.750",342830.78336268599,2286284.3875965099,930.06386631952,"AERTAR"]
["GS19","12.18.2018","12:12:52.980",342830.79165547597,2286284.3973632501,930.03827681020005,"AERTAR"]
["GS19","12.18.2018","12:13:03.980",342830.79415444698,2286284.39843969,930.03291244873003,"AERTAR"]
["GS19","12.18.2018","12:13:14.900",342830.79179578897,2286284.40217687,930.03221254960999,"AERTAR"]
["GS19","12.18.2018","12:13:26.820",342830.79655156698,2286284.3837339398,930.06548406453999,"AERTAR"]
["GS19","12.18.2018","12:13:47.620",342830.79213901202,2286284.3935025199,930.02962511578005,"AERTAR"]
["GS19","12.18.2018","12:13:58.820",342830.799938543,2286284.3967577899,930.02980497556996,"AERTAR"]
["GS19","12.18.2018","12:14:10.130",342830.80004126398,2286284.4119166401,930.00893685893004,"AERTAR"]
["GS19","12.18.2018","12:14:20.990",342830.80294934398,2286284.41081989,929.97138581533,"AERTAR"]
["GS20","12.18.2018","12:23:01.680",343756.45767838601,2284585.6462130598,972.66472065374001,"AERTAR"]
["GS20","12.18.2018","12:23:14.070",343756.46126238798,2284585.6509664599,972.64079910375995,"AERTAR"]
["GS20","12.18.2018","12:23:25.940",343756.47238322097,2284585.6541819801,972.64298983713002,"AERTAR"]
["GS20","12.18.2018","12:23:37.050",343756.47417649499,2284585.6539133601,972.63329301937995,"AERTAR"]
["GS20","12.18.2018","12:23:58.840",343756.474242169,2284585.65147823,972.64866102111,"AERTAR"]
["GS20","12.18.2018","12:24:10.020",343756.47557802399,2284585.6576215001,972.63596705257999,"AERTAR"]
["GS20","12.18.2018","12:24:21.170",343756.48595070001,2284585.65932969,972.64933464587,"AERTAR"]
["GS20","12.18.2018","12:24:33.120",343756.48086265102,2284585.6559351599,972.65116478883999,"AERTAR"]
["GS20","12.18.2018","12:24:51",343756.47304741602,2284585.6598735298,972.63086848723003,"AERTAR"]
["GS20","12.18.2018","12:25:02.830",343756.474256074,2284585.6566985198,972.62969609562003,"AERTAR"]
["GS20","12.18.2018","12:25:16.150",343756.49132862798,2284585.6545049101,972.62384868792003,"AERTAR"]
["GS20","12.18.2018","12:25:27.820",343756.49491186102,2284585.6559329298,972.62356430815998,"AERTAR"]
["GS21","12.18.2018","12:32:39.580",345088.59927522403,2283322.6590171,979.37042344452004,"AERTAR"]
["GS21","12.18.2018","12:32:53.390",345088.599094212,2283322.6552152401,979.36772961157999,"AERTAR"]
["GS21","12.18.2018","12:33:09.200",345088.61867311702,2283322.66895709,979.3589231126,"AERTAR"]
["GS21","12.18.2018","12:33:21.730",345088.61331472697,2283322.6523772799,979.33362801428996,"AERTAR"]
["GS21","12.18.2018","12:33:48.450",345088.60426965199,2283322.6548821498,979.36490823231998,"AERTAR"]
["GS21","12.18.2018","12:34:00.560",345088.613740823,2283322.6688744598,979.34344640178006,"AERTAR"]
["GS21","12.18.2018","12:34:15.220",345088.60928112897,2283322.67344474,979.32734084781998,"AERTAR"]
["GS21","12.18.2018","12:34:28.210",345088.61066292197,2283322.67521333,979.34570926362005,"AERTAR"]
["GS21","12.18.2018","12:34:50.340",345088.62050324603,2283322.6744870502,979.33685588693004,"AERTAR"]
["GS21","12.18.2018","12:35:02.850",345088.61525092,2283322.6846858501,979.33305698453,"AERTAR"]
["GS21","12.18.2018","12:35:15.160",345088.61576872098,2283322.68357429,979.31209752940003,"AERTAR"]
["GS21","12.18.2018","12:35:28.190",345088.618825935,2283322.6801145501,979.30022877580996,"AERTAR"]
["GS22","12.18.2018","12:41:47.610",348538.28383697802,2281373.30692391,1125.6599070792299,"AERTAR"]
["GS22","12.18.2018","12:41:59.230",348538.29239588499,2281373.31085493,1125.67560968726,"AERTAR"]
["GS22","12.18.2018","12:42:11.250",348538.29198134999,2281373.3122410998,1125.6794079357801,"AERTAR"]
["GS22","12.18.2018","12:42:22.110",348538.32400091301,2281373.2842191998,1125.6476101533799,"AERTAR"]
["GS22","12.18.2018","12:42:38.050",348538.323058362,2281373.30093444,1125.6456939824,"AERTAR"]
["GS22","12.18.2018","12:42:48.020",348538.311797195,2281373.2901428202,1125.6357122654499,"AERTAR"]
["GS22","12.18.2018","12:42:59.090",348538.31603161601,2281373.2832696601,1125.63862669123,"AERTAR"]
["GS22","12.18.2018","12:43:10.130",348538.32069180702,2281373.3015473299,1125.6465226714499,"AERTAR"]
["GS22","12.18.2018","12:43:28.800",348538.32000217302,2281373.3101861398,1125.6537252913399,"AERTAR"]
["GS22","12.18.2018","12:43:39.790",348538.32861073897,2281373.3125746599,1125.6572166531901,"AERTAR"]
["GS22","12.18.2018","12:43:49.740",348538.32832826098,2281373.31414937,1125.6587866160801,"AERTAR"]
["GS22","12.18.2018","12:44:01.120",348538.32103451202,2281373.3287899601,1125.6860348570899,"AERTAR"]
["GS23","12.18.2018","12:51:22.400",349349.98446368001,2283466.0914952201,978.63749086786004,"AERTAR"]
["GS23","12.18.2018","12:51:36.260",349349.98808428098,2283466.0942007001,978.62902217123997,"AERTAR"]
["GS23","12.18.2018","12:51:49.500",349349.99456330301,2283466.0939469999,978.64818663402002,"AERTAR"]
["GS23","12.18.2018","12:52:04.940",349350.00618354703,2283466.09688352,978.62754971592005,"AERTAR"]
["GS23","12.18.2018","12:52:26.380",349350.00062421098,2283466.1039630701,978.63091689250996,"AERTAR"]
["GS23","12.18.2018","12:52:37.990",349350.00821792701,2283466.1051700599,978.61857611696996,"AERTAR"]
["GS23","12.18.2018","12:52:49.360",349350.0040902,2283466.1001132699,978.62443156984,"AERTAR"]
["GS23","12.18.2018","12:53:03.180",349349.99738012202,2283466.10190169,978.61282636962005,"AERTAR"]
["GS23","12.18.2018","12:53:23.350",349349.99534001201,2283466.0982341901,978.63003843829995,"AERTAR"]
["GS23","12.18.2018","12:53:37.130",349349.99854838901,2283466.1044435501,978.61581135944004,"AERTAR"]
["GS23","12.18.2018","12:53:49.110",349349.999376291,2283466.09969615,978.61581964904997,"AERTAR"]
["GS23","12.18.2018","12:54:03.100",349350.00273041602,2283466.10992064,978.61005526884003,"AERTAR"]
["GS24","12.18.2018","13:00:21.910",351575.67411318602,2284931.05341005,953.80747382457002,"AERTAR"]
["GS24","12.18.2018","13:00:36.610",351575.66790235799,2284931.0454854402,953.80654207607995,"AERTAR"]
["GS24","12.18.2018","13:00:47.810",351575.67463618697,2284931.0553839002,953.81423069689004,"AERTAR"]
["GS24","12.18.2018","13:00:57.840",351575.67359798501,2284931.0549036898,953.81179317881003,"AERTAR"]
["GS24","12.18.2018","13:01:18.870",351575.68449056603,2284931.05304565,953.82912733973001,"AERTAR"]
["GS24","12.18.2018","13:01:29.240",351575.689085302,2284931.0496330499,953.81741770814006,"AERTAR"]
["GS24","12.18.2018","13:01:40.520",351575.68572418101,2284931.0367503799,953.81090857080005,"AERTAR"]
["GS24","12.18.2018","13:01:50.820",351575.67816850101,2284931.0385943898,953.81337061549004,"AERTAR"]
["GS24","12.18.2018","13:02:08.310",351575.688595652,2284931.0353782098,953.83245285743999,"AERTAR"]
["GS24","12.18.2018","13:02:19.040",351575.67809310899,2284931.0298259701,953.82423011442995,"AERTAR"]
["GS24","12.18.2018","13:02:29.950",351575.68163238501,2284931.0278630801,953.83044438854995,"AERTAR"]
["GS24","12.18.2018","13:02:41.330",351575.68650578702,2284931.03121487,953.84322079484002,"AERTAR"]
["GS25","12.18.2018","13:06:38",356198.49667010701,2286628.8718229299,970.62300898075,"AERPP"]
["GS25","12.18.2018","13:06:48.300",356198.49921166699,2286628.8752010399,970.62266651872005,"AERPP"]
["GS25","12.18.2018","13:06:59.220",356198.50205750199,2286628.8783273199,970.62912441510002,"AERPP"]
["GS25","12.18.2018","13:07:10.250",356198.50185663201,2286628.8783452902,970.63632568444996,"AERPP"]
["GS25","12.18.2018","13:07:27.550",356198.50948162703,2286628.8776001101,970.64350014165996,"AERPP"]
["GS25","12.18.2018","13:07:36.800",356198.510463944,2286628.8759926199,970.64047854677995,"AERPP"]
["GS25","12.18.2018","13:07:46.830",356198.50935090502,2286628.8708374999,970.65382127428995,"AERPP"]
["GS25","12.18.2018","13:07:56.950",356198.52077564999,2286628.8738669399,970.64726483759,"AERPP"]
["GS25","12.18.2018","13:08:13.830",356198.52191930101,2286628.8768857298,970.63970728918002,"AERPP"]
["GS25","12.18.2018","13:08:24.340",356198.52358165599,2286628.8763059299,970.65346199777002,"AERPP"]
["GS25","12.18.2018","13:08:34.350",356198.52475508698,2286628.8789598402,970.64998454462,"AERPP"]
["GS25","12.18.2018","13:08:45.310",356198.51935032097,2286628.8788672402,970.65161121785002,"AERPP"]
["GS26","12.18.2018","13:22:13.930",358469.58195851598,2286654.9687198498,965.74520314866004,"AERTAR"]
["GS26","12.18.2018","13:22:26",358469.569412301,2286654.9601938301,965.73772946189001,"AERTAR"]
["GS26","12.18.2018","13:22:37.850",358469.57242930197,2286654.9621776501,965.75837935370998,"AERTAR"]
["GS26","12.18.2018","13:22:50.360",358469.573371095,2286654.9613206,965.76350852919995,"AERTAR"]
["GS26","12.18.2018","13:23:11.950",358469.58326924802,2286654.9597480102,965.79246432289995,"AERTAR"]
["GS26","12.18.2018","13:23:23.870",358469.58885256998,2286654.96076877,965.79466356891999,"AERTAR"]
["GS26","12.18.2018","13:23:36.570",358469.59046089102,2286654.9597735298,965.79184741764004,"AERTAR"]
["GS26","12.18.2018","13:23:48.790",358469.60057820898,2286654.96470901,965.82088375164005,"AERTAR"]
["GS26","12.18.2018","13:24:13.090",358469.602059739,2286654.96769905,965.80537811427996,"AERTAR"]
["GS26","12.18.2018","13:24:23.850",358469.597500715,2286654.9723082902,965.79683825779,"AERTAR"]
["GS26","12.18.2018","13:24:36.580",358469.595201355,2286654.9675846398,965.80412628846,"AERTAR"]
["GS26","12.18.2018","13:24:49.840",358469.58523464401,2286654.9692446501,965.81112633082,"AERTAR"]
["GS27","12.18.2018","13:31:55.040",359527.63121402002,2287576.3802417,980.86384496606001,"AERTAR"]
["GS27","12.18.2018","13:32:06.090",359527.62745128601,2287576.37717913,980.85728611549996,"AERTAR"]
["GS27","12.18.2018","13:32:18.190",359527.624818902,2287576.3730698801,980.83402100300998,"AERTAR"]
["GS27","12.18.2018","13:32:30.120",359527.61892810703,2287576.3738893801,980.84588289393002,"AERTAR"]
["GS27","12.18.2018","13:32:42.250",359527.619762571,2287576.3535513398,980.86859278587997,"AERTAR"]
["GS27","12.18.2018","13:33:04.030",359527.61529716902,2287576.3455471601,980.87950443633997,"AERTAR"]
["GS27","12.18.2018","13:33:16.790",359527.60678873298,2287576.3510237699,980.87556533167003,"AERTAR"]
["GS27","12.18.2018","13:33:29.170",359527.607720898,2287576.3485764498,980.87766619318995,"AERTAR"]
["GS27","12.18.2018","13:33:51.200",359527.59994502802,2287576.3501967201,980.85516902307995,"AERTAR"]
["GS27","12.18.2018","13:34:03.110",359527.603814626,2287576.3628777401,980.86307968504002,"AERTAR"]
["GS27","12.18.2018","13:34:15.360",359527.60095138301,2287576.3499244,980.85502166174001,"AERTAR"]
["GS27","12.18.2018","13:34:28.990",359527.60101611703,2287576.3496311801,980.86291146371002,"AERTAR"]
["GS28","12.18.2018","13:40:44.230",361035.400968595,2286890.14401558,958.37598790766003,"AERTAR"]
["GS28","12.18.2018","13:41:01",361035.39815806597,2286890.1477256701,958.36425725107995,"AERTAR"]
["GS28","12.18.2018","13:41:11.230",361035.40402276599,2286890.1412396901,958.38315013671001,"AERTAR"]
["GS28","12.18.2018","13:41:21.310",361035.413814787,2286890.1487291502,958.40879578499005,"AERTAR"]
["GS28","12.18.2018","13:41:36.900",361035.40970200498,2286890.1574994801,958.45842258411005,"AERTAR"]
["GS28","12.18.2018","13:41:52.800",361035.409377301,2286890.1627155701,958.40009129433997,"AERTAR"]
["GS28","12.18.2018","13:42:02.990",361035.41921345401,2286890.15159625,958.39988906818996,"AERTAR"]
["GS28","12.18.2018","13:42:12.930",361035.41814973397,2286890.15850265,958.37475699684001,"AERTAR"]
["GS28","12.18.2018","13:42:29.940",361035.40718692,2286890.1449125302,958.37050171367002,"AERTAR"]
["GS28","12.18.2018","13:42:39.960",361035.400090991,2286890.14311051,958.39738278271,"AERTAR"]
["GS28","12.18.2018","13:42:49.930",361035.40341185097,2286890.1537682898,958.39505921698003,"AERTAR"]
["GS28","12.18.2018","13:43:00.360",361035.41005539498,2286890.1475034999,958.40975800306001,"AERTAR"]

{"sheet":"GS1","index":7,"n_rows":41,"n_cols":11,"rows_kept":41,"cut":false,"hidden":false,"merged":[[0,0,0,10],[26,0,26,6],[27,1,27,2],[27,8,38,10],[28,1,28,2],[30,0,30,6],[35,0,35,6],[36,1,36,2],[37,1,37,2],[38,1,38,2]]}
["VRS GNSS Project Control Monument Coordinate Analysis"]
[]
["Project:",{"$f":"REPORT!B2","v":"TUS-800-22.74"},"GPS Antenna:","LEICA GS14",null,null,null,null,null,"Report Date:",{"$f":"REPORT!C49","v":"2018-12-19"}]
["PID:",{"$f":"REPORT!E2","v":100603},"VRS Network:","ODOT VRS",null,null,null,null,null,"Prepared By:",{"$f":"REPORT!C48","v":"Kolton Wilson"}]
["Point ID:","GS1","No. of Sessions:",{"$f":"COUNTIF(GPS_IMPORT!A2:A1000,$B$5)","v":12},null,null,null,null,null,"Checked By:",{"$f":"REPORT!C52","v":"Joel Swick"}]
["SESSION #","gs1","Observation Date","Start Time","Northing(sft)","Easting(sft)","Height(sft)","∆ Northing(sft)","∆ Easting(sft)","∆ Height(sft)","Include in Solution?"]
[1,{"$f":"IF(ROWS(GPS_IMPORT!$1:1)<=COUNTIF(GPS_IMPORT!$A$2:$A$10000,$B$5),INDEX(GPS_IMPORT!$2:$10000,MATCH($B$5,(GPS_IMPORT!$A$2:$A$10000),0)+ROWS($1:1)-1,COLUMN()-1),0)","v":"GS1"},{"$f":"IF(ROWS(GPS_IMPORT!$1:1)<=COUNTIF(GPS_IMPORT!$A$2:$A$10000,$B$5),INDEX(GPS_IMPORT!$2:$10000,MATCH($B$5,(GPS_IMPORT!$A$2:$A$10000),0)+ROWS($1:1)-1,COLUMN()-1),0)","v":"12.18.2018"},{"$f":"IF(ROWS(GPS_IMPORT!$1:1)<=COUNTIF(GPS_IMPORT!$A$2:$A$10000,$B$5),INDEX(GPS_IMPORT!$2:$10000,MATCH($B$5,(GPS_IMPORT!$A$2:$A$10000),0)+ROWS($1:1)-1,COLUMN()-1),0)","v":" 9: 3:49.0900"},{"$f":"IF(ROWS(GPS_IMPORT!$1:1)<=COUNTIF(GPS_IMPORT!$A$2:$A$10000,$B$5),INDEX(GPS_IMPORT!$2:$10000,MATCH($B$5,(GPS_IMPORT!$A$2:$A$10000),0)+ROWS($1:1)-1,COLUMN()-1),0)","v":314273.42030573101},{"$f":"IF(ROWS(GPS_IMPORT!$1:1)<=COUNTIF(GPS_IMPORT!$A$2:$A$10000,$B$5),INDEX(GPS_IMPORT!$2:$10000,MATCH($B$5,(GPS_IMPORT!$A$2:$A$10000),0)+ROWS($1:1)-1,COLUMN()-1),0)","v":2256928.3307268098},{"$f":"IF(ROWS(GPS_IMPORT!$1:1)<=COUNTIF(GPS_IMPORT!$A$2:$A$10000,$B$5),INDEX(GPS_IMPORT!$2:$10000,MATCH($B$5,(GPS_IMPORT!$A$2:$A$10000),0)+ROWS($1:1)-1,COLUMN()-1),0)","v":912.14651699080002},{"$f":"IF(E7>0,E$22-E7,0)","v":-1.177654170896858E-2},-6.9144824519753456E-3,6.8936124366700824E-3,true]
[2,{"$f":"IF(ROWS(GPS_IMPORT!$1:2)<=COUNTIF(GPS_IMPORT!$A$2:$A$10000,$B$5),INDEX(GPS_IMPORT!$2:$10000,MATCH($B$5,(GPS_IMPORT!$A$2:$A$10000),0)+ROWS($1:2)-1,COLUMN()-1),0)","v":"GS1"},{"$f":"IF(ROWS(GPS_IMPORT!$1:2)<=COUNTIF(GPS_IMPORT!$A$2:$A$10000,$B$5),INDEX(GPS_IMPORT!$2:$10000,MATCH($B$5,(GPS_IMPORT!$A$2:$A$10000),0)+ROWS($1:2)-1,COLUMN()-1),0)","v":"12.18.2018"},{"$f":"IF(ROWS(GPS_IMPORT!$1:2)<=COUNTIF(GPS_IMPORT!$A$2:$A$10000,$B$5),INDEX(GPS_IMPORT!$2:$10000,MATCH($B$5,(GPS_IMPORT!$A$2:$A$10000),0)+ROWS($1:2)-1,COLUMN()-1),0)","v":" 9: 4:0.4000"},{"$f":"IF(ROWS(GPS_IMPORT!$1:2)<=COUNTIF(GPS_IMPORT!$A$2:$A$10000,$B$5),INDEX(GPS_IMPORT!$2:$10000,MATCH($B$5,(GPS_IMPORT!$A$2:$A$10000),0)+ROWS($1:2)-1,COLUMN()-1),0)","v":314273.41646672401},{"$f":"IF(ROWS(GPS_IMPORT!$1:2)<=COUNTIF(GPS_IMPORT!$A$2:$A$10000,$B$5),INDEX(GPS_IMPORT!$2:$10000,MATCH($B$5,(GPS_IMPORT!$A$2:$A$10000),0)+ROWS($1:2)-1,COLUMN()-1),0)","v":2256928.3256055801},{"$f":"IF(ROWS(GPS_IMPORT!$1:2)<=COUNTIF(GPS_IMPORT!$A$2:$A$10000,$B$5),INDEX(GPS_IMPORT!$2:$10000,MATCH($B$5,(GPS_IMPORT!$A$2:$A$10000),0)+ROWS($1:2)-1,COLUMN()-1),0)","v":912.13605179679996},-7.9375347122550011E-3,-1.793252769857645E-3,1.7358806436732266E-2,true]
[3,{"$f":"IF(ROWS(GPS_IMPORT!$1:3)<=COUNTIF(GPS_IMPORT!$A$2:$A$10000,$B$5),INDEX(GPS_IMPORT!$2:$10000,MATCH($B$5,(GPS_IMPORT!$A$2:$A$10000),0)+ROWS($1:3)-1,COLUMN()-1),0)","v":"GS1"},{"$f":"IF(ROWS(GPS_IMPORT!$1:3)<=COUNTIF(GPS_IMPORT!$A$2:$A$10000,$B$5),INDEX(GPS_IMPORT!$2:$10000,MATCH($B$5,(GPS_IMPORT!$A$2:$A$10000),0)+ROWS($1:3)-1,COLUMN()-1),0)","v":"12.18.2018"},{"$f":"IF(ROWS(GPS_IMPORT!$1:3)<=COUNTIF(GPS_IMPORT!$A$2:$A$10000,$B$5),INDEX(GPS_IMPORT!$2:$10000,MATCH($B$5,(GPS_IMPORT!$A$2:$A$10000),0)+ROWS($1:3)-1,COLUMN()-1),0)","v":" 9: 4:11.7400"},{"$f":"IF(ROWS(GPS_IMPORT!$1:3)<=COUNTIF(GPS_IMPORT!$A$2:$A$10000,$B$5),INDEX(GPS_IMPORT!$2:$10000,MATCH($B$5,(GPS_IMPORT!$A$2:$A$10000),0)+ROWS($1:3)-1,COLUMN()-1),0)","v":314273.41841698199},{"$f":"IF(ROWS(GPS_IMPORT!$1:3)<=COUNTIF(GPS_IMPORT!$A$2:$A$10000,$B$5),INDEX(GPS_IMPORT!$2:$10000,MATCH($B$5,(GPS_IMPORT!$A$2:$A$10000),0)+ROWS($1:3)-1,COLUMN()-1),0)","v":2256928.3175969399},{"$f":"IF(ROWS(GPS_IMPORT!$1:3)<=COUNTIF(GPS_IMPORT!$A$2:$A$10000,$B$5),INDEX(GPS_IMPORT!$2:$10000,MATCH($B$5,(GPS_IMPORT!$A$2:$A$10000),0)+ROWS($1:3)-1,COLUMN()-1),0)","v":912.15666625382005},-9.8877926939167082E-3,6.2153874896466732E-3,-3.2556505833554183E-3,true]
[4,{"$f":"IF(ROWS(GPS_IMPORT!$1:4)<=COUNTIF(GPS_IMPORT!$A$2:$A$10000,$B$5),INDEX(GPS_IMPORT!$2:$10000,MATCH($B$5,(GPS_IMPORT!$A$2:$A$10000),0)+ROWS($1:4)-1,COLUMN()-1),0)","v":"GS1"},{"$f":"IF(ROWS(GPS_IMPORT!$1:4)<=COUNTIF(GPS_IMPORT!$A$2:$A$10000,$B$5),INDEX(GPS_IMPORT!$2:$10000,MATCH($B$5,(GPS_IMPORT!$A$2:$A$10000),0)+ROWS($1:4)-1,COLUMN()-1),0)","v":"12.18.2018"},{"$f":"IF(ROWS(GPS_IMPORT!$1:4)<=COUNTIF(GPS_IMPORT!$A$2:$A$10000,$B$5),INDEX(GPS_IMPORT!$2:$10000,MATCH($B$5,(GPS_IMPORT!$A$2:$A$10000),0)+ROWS($1:4)-1,COLUMN()-1),0)","v":" 9: 4:23.6600"},{"$f":"IF(ROWS(GPS_IMPORT!$1:4)<=COUNTIF(GPS_IMPORT!$A$2:$A$10000,$B$5),INDEX(GPS_IMPORT!$2:$10000,MATCH($B$5,(GPS_IMPORT!$A$2:$A$10000),0)+ROWS($1:4)-1,COLUMN()-1),0)","v":314273.41512931499},{"$f":"IF(ROWS(GPS_IMPORT!$1:4)<=COUNTIF(GPS_IMPORT!$A$2:$A$10000,$B$5),INDEX(GPS_IMPORT!$2:$10000,MATCH($B$5,(GPS_IMPORT!$A$2:$A$10000),0)+ROWS($1:4)-1,COLUMN()-1),0)","v":2256928.3124733898},{"$f":"IF(ROWS(GPS_IMPORT!$1:4)<=COUNTIF(GPS_IMPORT!$A$2:$A$10000,$B$5),INDEX(GPS_IMPORT!$2:$10000,MATCH($B$5,(GPS_IMPORT!$A$2:$A$10000),0)+ROWS($1:4)-1,COLUMN()-1),0)","v":912.15685159825},-6.6001256927847862E-3,1.1338937561959028E-2,-3.4409950133067468E-3,true]
[5,{"$f":"IF(ROWS(GPS_IMPORT!$1:5)<=COUNTIF(GPS_IMPORT!$A$2:$A$10000,$B$5),INDEX(GPS_IMPORT!$2:$10000,MATCH($B$5,(GPS_IMPORT!$A$2:$A$10000),0)+ROWS($1:5)-1,COLUMN()-1),0)","v":"GS1"},{"$f":"IF(ROWS(GPS_IMPORT!$1:5)<=COUNTIF(GPS_IMPORT!$A$2:$A$10000,$B$5),INDEX(GPS_IMPORT!$2:$10000,MATCH($B$5,(GPS_IMPORT!$A$2:$A$10000),0)+ROWS($1:5)-1,COLUMN()-1),0)","v":"12.18.2018"},{"$f":"IF(ROWS(GPS_IMPORT!$1:5)<=COUNTIF(GPS_IMPORT!$A$2:$A$10000,$B$5),INDEX(GPS_IMPORT!$2:$10000,MATCH($B$5,(GPS_IMPORT!$A$2:$A$10000),0)+ROWS($1:5)-1,COLUMN()-1),0)","v":" 9: 5:0.1900"},{"$f":"IF(ROWS(GPS_IMPORT!$1:5)<=COUNTIF(GPS_IMPORT!$A$2:$A$10000,$B$5),INDEX(GPS_IMPORT!$2:$10000,MATCH($B$5,(GPS_IMPORT!$A$2:$A$10000),0)+ROWS($1:5)-1,COLUMN()-1),0)","v":314273.41712666902},{"$f":"IF(ROWS(GPS_IMPORT!$1:5)<=COUNTIF(GPS_IMPORT!$A$2:$A$10000,$B$5),INDEX(GPS_IMPORT!$2:$10000,MATCH($B$5,(GPS_IMPORT!$A$2:$A$10000),0)+ROWS($1:5)-1,COLUMN()-1),0)","v":2256928.3191334801},{"$f":"IF(ROWS(GPS_IMPORT!$1:5)<=COUNTIF(GPS_IMPORT!$A$2:$A$10000,$B$5),INDEX(GPS_IMPORT!$2:$10000,MATCH($B$5,(GPS_IMPORT!$A$2:$A$10000),0)+ROWS($1:5)-1,COLUMN()-1),0)","v":912.14525435457995},-8.5974797257222235E-3,4.6788472682237625E-3,8.1562486567463566E-3,true]
[6,{"$f":"IF(ROWS(GPS_IMPORT!$1:6)<=COUNTIF(GPS_IMPORT!$A$2:$A$10000,$B$5),INDEX(GPS_IMPORT!$2:$10000,MATCH($B$5,(GPS_IMPORT!$A$2:$A$10000),0)+ROWS($1:6)-1,COLUMN()-1),0)","v":"GS1"},{"$f":"IF(ROWS(GPS_IMPORT!$1:6)<=COUNTIF(GPS_IMPORT!$A$2:$A$10000,$B$5),INDEX(GPS_IMPORT!$2:$10000,MATCH($B$5,(GPS_IMPORT!$A$2:$A$10000),0)+ROWS($1:6)-1,COLUMN()-1),0)","v":"12.18.2018"},{"$f":"IF(ROWS(GPS_IMPORT!$1:6)<=COUNTIF(GPS_IMPORT!$A$2:$A$10000,$B$5),INDEX(GPS_IMPORT!$2:$10000,MATCH($B$5,(GPS_IMPORT!$A$2:$A$10000),0)+ROWS($1:6)-1,COLUMN()-1),0)","v":" 9: 5:10.9300"},{"$f":"IF(ROWS(GPS_IMPORT!$1:6)<=COUNTIF(GPS_IMPORT!$A$2:$A$10000,$B$5),INDEX(GPS_IMPORT!$2:$10000,MATCH($B$5,(GPS_IMPORT!$A$2:$A$10000),0)+ROWS($1:6)-1,COLUMN()-1),0)","v":314273.41672419099},{"$f":"IF(ROWS(GPS_IMPORT!$1:6)<=COUNTIF(GPS_IMPORT!$A$2:$A$10000,$B$5),INDEX(GPS_IMPORT!$2:$10000,MATCH($B$5,(GPS_IMPORT!$A$2:$A$10000),0)+ROWS($1:6)-1,COLUMN()-1),0)","v":2256928.32151209},{"$f":"IF(ROWS(GPS_IMPORT!$1:6)<=COUNTIF(GPS_IMPORT!$A$2:$A$10000,$B$5),INDEX(GPS_IMPORT!$2:$10000,MATCH($B$5,(GPS_IMPORT!$A$2:$A$10000),0)+ROWS($1:6)-1,COLUMN()-1),0)","v":912.15982191549006},-8.1950016901828349E-3,2.3002373054623604E-3,-6.4113122533626665E-3,true]
[7,{"$f":"IF(ROWS(GPS_IMPORT!$1:7)<=COUNTIF(GPS_IMPORT!$A$2:$A$10000,$B$5),INDEX(GPS_IMPORT!$2:$10000,MATCH($B$5,(GPS_IMPORT!$A$2:$A$10000),0)+ROWS($1:7)-1,COLUMN()-1),0)","v":"GS1"},{"$f":"IF(ROWS(GPS_IMPORT!$1:7)<=COUNTIF(GPS_IMPORT!$A$2:$A$10000,$B$5),INDEX(GPS_IMPORT!$2:$10000,MATCH($B$5,(GPS_IMPORT!$A$2:$A$10000),0)+ROWS($1:7)-1,COLUMN()-1),0)","v":"12.18.2018"},{"$f":"IF(ROWS(GPS_IMPORT!$1:7)<=COUNTIF(GPS_IMPORT!$A$2:$A$10000,$B$5),INDEX(GPS_IMPORT!$2:$10000,MATCH($B$5,(GPS_IMPORT!$A$2:$A$10000),0)+ROWS($1:7)-1,COLUMN()-1),0)","v":" 9: 5:22.6400"},{"$f":"IF(ROWS(GPS_IMPORT!$1:7)<=COUNTIF(GPS_IMPORT!$A$2:$A$10000,$B$5),INDEX(GPS_IMPORT!$2:$10000,MATCH($B$5,(GPS_IMPORT!$A$2:$A$10000),0)+ROWS($1:7)-1,COLUMN()-1),0)","v":314273.40688533499},{"$f":"IF(ROWS(GPS_IMPORT!$1:7)<=COUNTIF(GPS_IMPORT!$A$2:$A$10000,$B$5),INDEX(GPS_IMPORT!$2:$10000,MATCH($B$5,(GPS_IMPORT!$A$2:$A$10000),0)+ROWS($1:7)-1,COLUMN()-1),0)","v":2256928.3271727902},{"$f":"IF(ROWS(GPS_IMPORT!$1:7)<=COUNTIF(GPS_IMPORT!$A$2:$A$10000,$B$5),INDEX(GPS_IMPORT!$2:$10000,MATCH($B$5,(GPS_IMPORT!$A$2:$A$10000),0)+ROWS($1:7)-1,COLUMN()-1),0)","v":912.16200475340997},1.6438543098047376E-3,-3.3604628406465054E-3,-8.5941501732804682E-3,true]
[8,{"$f":"IF(ROWS(GPS_IMPORT!$1:8)<=COUNTIF(GPS_IMPORT!$A$2:$A$10000,$B$5),INDEX(GPS_IMPORT!$2:$10000,MATCH($B$5,(GPS_IMPORT!$A$2:$A$10000),0)+ROWS($1:8)-1,COLUMN()-1),0)","v":"GS1"},{"$f":"IF(ROWS(GPS_IMPORT!$1:8)<=COUNTIF(GPS_IMPORT!$A$2:$A$10000,$B$5),INDEX(GPS_IMPORT!$2:$10000,MATCH($B$5,(GPS_IMPORT!$A$2:$A$10000),0)+ROWS($1:8)-1,COLUMN()-1),0)","v":"12.18.2018"},{"$f":"IF(ROWS(GPS_IMPORT!$1:8)<=COUNTIF(GPS_IMPORT!$A$2:$A$10000,$B$5),INDEX(GPS_IMPORT!$2:$10000,MATCH($B$5,(GPS_IMPORT!$A$2:$A$10000),0)+ROWS($1:8)-1,COLUMN()-1),0)","v":" 9: 5:33.9700"},{"$f":"IF(ROWS(GPS_IMPORT!$1:8)<=COUNTIF(GPS_IMPORT!$A$2:$A$10000,$B$5),INDEX(GPS_IMPORT!$2:$10000,MATCH($B$5,(GPS_IMPORT!$A$2:$A$10000),0)+ROWS($1:8)-1,COLUMN()-1),0)","v":314273.40059605602},{"$f":"IF(ROWS(GPS_IMPORT!$1:8)<=COUNTIF(GPS_IMPORT!$A$2:$A$10000,$B$5),INDEX(GPS_IMPORT!$2:$10000,MATCH($B$5,(GPS_IMPORT!$A$2:$A$10000),0)+ROWS($1:8)-1,COLUMN()-1),0)","v":2256928.3290406298},{"$f":"IF(ROWS(GPS_IMPORT!$1:8)<=COUNTIF(GPS_IMPORT!$A$2:$A$10000,$B$5),INDEX(GPS_IMPORT!$2:$10000,MATCH($B$5,(GPS_IMPORT!$A$2:$A$10000),0)+ROWS($1:8)-1,COLUMN()-1),0)","v":912.15306920783996},7.9331332817673683E-3,-5.2283024415373802E-3,3.4139539673105901E-4,true]
[9,{"$f":"IF(ROWS(GPS_IMPORT!$1:9)<=COUNTIF(GPS_IMPORT!$A$2:$A$10000,$B$5),INDEX(GPS_IMPORT!$2:$10000,MATCH($B$5,(GPS_IMPORT!$A$2:$A$10000),0)+ROWS($1:9)-1,COLUMN()-1),0)","v":"GS1"},{"$f":"IF(ROWS(GPS_IMPORT!$1:9)<=COUNTIF(GPS_IMPORT!$A$2:$A$10000,$B$5),INDEX(GPS_IMPORT!$2:$10000,MATCH($B$5,(GPS_IMPORT!$A$2:$A$10000),0)+ROWS($1:9)-1,COLUMN()-1),0)","v":"12.18.2018"},{"$f":"IF(ROWS(GPS_IMPORT!$1:9)<=COUNTIF(GPS_IMPORT!$A$2:$A$10000,$B$5),INDEX(GPS_IMPORT!$2:$10000,MATCH($B$5,(GPS_IMPORT!$A$2:$A$10000),0)+ROWS($1:9)-1,COLUMN()-1),0)","v":" 9: 5:58.8400"},{"$f":"IF(ROWS(GPS_IMPORT!$1:9)<=COUNTIF(GPS_IMPORT!$A$2:$A$10000,$B$5),INDEX(GPS_IMPORT!$2:$10000,MATCH($B$5,(GPS_IMPORT!$A$2:$A$10000),0)+ROWS($1:9)-1,COLUMN()-1),0)","v":314273.39961096301},{"$f":"IF(ROWS(GPS_IMPORT!$1:9)<=COUNTIF(GPS_IMPORT!$A$2:$A$10000,$B$5),INDEX(GPS_IMPORT!$2:$10000,MATCH($B$5,(GPS_IMPORT!$A$2:$A$10000),0)+ROWS($1:9)-1,COLUMN()-1),0)","v":2256928.3266854701},{"$f":"IF(ROWS(GPS_IMPORT!$1:9)<=COUNTIF(GPS_IMPORT!$A$2:$A$10000,$B$5),INDEX(GPS_IMPORT!$2:$10000,MATCH($B$5,(GPS_IMPORT!$A$2:$A$10000),0)+ROWS($1:9)-1,COLUMN()-1),0)","v":912.15288822057005},8.9182262890972197E-3,-2.8731427155435085E-3,5.2238266664517141E-4,true]
[10,{"$f":"IF(ROWS(GPS_IMPORT!$1:10)<=COUNTIF(GPS_IMPORT!$A$2:$A$10000,$B$5),INDEX(GPS_IMPORT!$2:$10000,MATCH($B$5,(GPS_IMPORT!$A$2:$A$10000),0)+ROWS($1:10)-1,COLUMN()-1),0)","v":"GS1"},{"$f":"IF(ROWS(GPS_IMPORT!$1:10)<=COUNTIF(GPS_IMPORT!$A$2:$A$10000,$B$5),INDEX(GPS_IMPORT!$2:$10000,MATCH($B$5,(GPS_IMPORT!$A$2:$A$10000),0)+ROWS($1:10)-1,COLUMN()-1),0)","v":"12.18.2018"},{"$f":"IF(ROWS(GPS_IMPORT!$1:10)<=COUNTIF(GPS_IMPORT!$A$2:$A$10000,$B$5),INDEX(GPS_IMPORT!$2:$10000,MATCH($B$5,(GPS_IMPORT!$A$2:$A$10000),0)+ROWS($1:10)-1,COLUMN()-1),0)","v":" 9: 6:10.1200"},{"$f":"IF(ROWS(GPS_IMPORT!$1:10)<=COUNTIF(GPS_IMPORT!$A$2:$A$10000,$B$5),INDEX(GPS_IMPORT!$2:$10000,MATCH($B$5,(GPS_IMPORT!$A$2:$A$10000),0)+ROWS($1:10)-1,COLUMN()-1),0)","v":314273.39891639003},{"$f":"IF(ROWS(GPS_IMPORT!$1:10)<=COUNTIF(GPS_IMPORT!$A$2:$A$10000,$B$5),INDEX(GPS_IMPORT!$2:$10000,MATCH($B$5,(GPS_IMPORT!$A$2:$A$10000),0)+ROWS($1:10)-1,COLUMN()-1),0)","v":2256928.3260906199},{"$f":"IF(ROWS(GPS_IMPORT!$1:10)<=COUNTIF(GPS_IMPORT!$A$2:$A$10000,$B$5),INDEX(GPS_IMPORT!$2:$10000,MATCH($B$5,(GPS_IMPORT!$A$2:$A$10000),0)+ROWS($1:10)-1,COLUMN()-1),0)","v":912.15725568999005},9.6127992728725076E-3,-2.2782925516366959E-3,-3.8450867533583732E-3,true]
[11,{"$f":"IF(ROWS(GPS_IMPORT!$1:11)<=COUNTIF(GPS_IMPORT!$A$2:$A$10000,$B$5),INDEX(GPS_IMPORT!$2:$10000,MATCH($B$5,(GPS_IMPORT!$A$2:$A$10000),0)+ROWS($1:11)-1,COLUMN()-1),0)","v":"GS1"},{"$f":"IF(ROWS(GPS_IMPORT!$1:11)<=COUNTIF(GPS_IMPORT!$A$2:$A$10000,$B$5),INDEX(GPS_IMPORT!$2:$10000,MATCH($B$5,(GPS_IMPORT!$A$2:$A$10000),0)+ROWS($1:11)-1,COLUMN()-1),0)","v":"12.18.2018"},{"$f":"IF(ROWS(GPS_IMPORT!$1:11)<=COUNTIF(GPS_IMPORT!$A$2:$A$10000,$B$5),INDEX(GPS_IMPORT!$2:$10000,MATCH($B$5,(GPS_IMPORT!$A$2:$A$10000),0)+ROWS($1:11)-1,COLUMN()-1),0)","v":" 9: 6:21.9800"},{"$f":"IF(ROWS(GPS_IMPORT!$1:11)<=COUNTIF(GPS_IMPORT!$A$2:$A$10000,$B$5),INDEX(GPS_IMPORT!$2:$10000,MATCH($B$5,(GPS_IMPORT!$A$2:$A$10000),0)+ROWS($1:11)-1,COLUMN()-1),0)","v":314273.39564103098},{"$f":"IF(ROWS(GPS_IMPORT!$1:11)<=COUNTIF(GPS_IMPORT!$A$2:$A$10000,$B$5),INDEX(GPS_IMPORT!$2:$10000,MATCH($B$5,(GPS_IMPORT!$A$2:$A$10000),0)+ROWS($1:11)-1,COLUMN()-1),0)","v":2256928.3230955801},{"$f":"IF(ROWS(GPS_IMPORT!$1:11)<=COUNTIF(GPS_IMPORT!$A$2:$A$10000,$B$5),INDEX(GPS_IMPORT!$2:$10000,MATCH($B$5,(GPS_IMPORT!$A$2:$A$10000),0)+ROWS($1:11)-1,COLUMN()-1),0)","v":912.15845201545005},1.2888158322311938E-2,7.1674725040793419E-4,-5.0414122133588535E-3,true]
[12,{"$f":"IF(ROWS(GPS_IMPORT!$1:12)<=COUNTIF(GPS_IMPORT!$A$2:$A$10000,$B$5),INDEX(GPS_IMPORT!$2:$10000,MATCH($B$5,(GPS_IMPORT!$A$2:$A$10000),0)+ROWS($1:12)-1,COLUMN()-1),0)","v":"GS1"},{"$f":"IF(ROWS(GPS_IMPORT!$1:12)<=COUNTIF(GPS_IMPORT!$A$2:$A$10000,$B$5),INDEX(GPS_IMPORT!$2:$10000,MATCH($B$5,(GPS_IMPORT!$A$2:$A$10000),0)+ROWS($1:12)-1,COLUMN()-1),0)","v":"12.18.2018"},{"$f":"IF(ROWS(GPS_IMPORT!$1:12)<=COUNTIF(GPS_IMPORT!$A$2:$A$10000,$B$5),INDEX(GPS_IMPORT!$2:$10000,MATCH($B$5,(GPS_IMPORT!$A$2:$A$10000),0)+ROWS($1:12)-1,COLUMN()-1),0)","v":" 9: 6:34.1800"},{"$f":"IF(ROWS(GPS_IMPORT!$1:12)<=COUNTIF(GPS_IMPORT!$A$2:$A$10000,$B$5),INDEX(GPS_IMPORT!$2:$10000,MATCH($B$5,(GPS_IMPORT!$A$2:$A$10000),0)+ROWS($1:12)-1,COLUMN()-1),0)","v":314273.39653088403},{"$f":"IF(ROWS(GPS_IMPORT!$1:12)<=COUNTIF(GPS_IMPORT!$A$2:$A$10000,$B$5),INDEX(GPS_IMPORT!$2:$10000,MATCH($B$5,(GPS_IMPORT!$A$2:$A$10000),0)+ROWS($1:12)-1,COLUMN()-1),0)","v":2256928.3266145498},{"$f":"IF(ROWS(GPS_IMPORT!$1:12)<=COUNTIF(GPS_IMPORT!$A$2:$A$10000,$B$5),INDEX(GPS_IMPORT!$2:$10000,MATCH($B$5,(GPS_IMPORT!$A$2:$A$10000),0)+ROWS($1:12)-1,COLUMN()-1),0)","v":912.15609444183997},1.1998305271845311E-2,-2.8022225014865398E-3,-2.683838603275035E-3,true]
[13,{"$f":"IF(ROWS(GPS_IMPORT!$1:13)<=COUNTIF(GPS_IMPORT!$A$2:$A$10000,$B$5),INDEX(GPS_IMPORT!$2:$10000,MATCH($B$5,(GPS_IMPORT!$A$2:$A$10000),0)+ROWS($1:13)-1,COLUMN()-1),0)","v":0},{"$f":"IF(ROWS(GPS_IMPORT!$1:13)<=COUNTIF(GPS_IMPORT!$A$2:$A$10000,$B$5),INDEX(GPS_IMPORT!$2:$10000,MATCH($B$5,(GPS_IMPORT!$A$2:$A$10000),0)+ROWS($1:13)-1,COLUMN()-1),0)","v":"00:00:00"},{"$f":"IF(ROWS(GPS_IMPORT!$1:13)<=COUNTIF(GPS_IMPORT!$A$2:$A$10000,$B$5),INDEX(GPS_IMPORT!$2:$10000,MATCH($B$5,(GPS_IMPORT!$A$2:$A$10000),0)+ROWS($1:13)-1,COLUMN()-1),0)","v":"00:00:00"},{"$f":"IF(ROWS(GPS_IMPORT!$1:13)<=COUNTIF(GPS_IMPORT!$A$2:$A$10000,$B$5),INDEX(GPS_IMPORT!$2:$10000,MATCH($B$5,(GPS_IMPORT!$A$2:$A$10000),0)+ROWS($1:13)-1,COLUMN()-1),0)","v":0},{"$f":"IF(ROWS(GPS_IMPORT!$1:13)<=COUNTIF(GPS_IMPORT!$A$2:$A$10000,$B$5),INDEX(GPS_IMPORT!$2:$10000,MATCH($B$5,(GPS_IMPORT!$A$2:$A$10000),0)+ROWS($1:13)-1,COLUMN()-1),0)","v":0},{"$f":"IF(ROWS(GPS_IMPORT!$1:13)<=COUNTIF(GPS_IMPORT!$A$2:$A$10000,$B$5),INDEX(GPS_IMPORT!$2:$10000,MATCH($B$5,(GPS_IMPORT!$A$2:$A$10000),0)+ROWS($1:13)-1,COLUMN()-1),0)","v":0},{"$f":"IF(E19>0,E$22-E19,0)","v":0},0,0,false]
[14,{"$f":"IF(ROWS(GPS_IMPORT!$1:14)<=COUNTIF(GPS_IMPORT!$A$2:$A$10000,$B$5),INDEX(GPS_IMPORT!$2:$10000,MATCH($B$5,(GPS_IMPORT!$A$2:$A$10000),0)+ROWS($1:14)-1,COLUMN()-1),0)","v":0},{"$f":"IF(ROWS(GPS_IMPORT!$1:14)<=COUNTIF(GPS_IMPORT!$A$2:$A$10000,$B$5),INDEX(GPS_IMPORT!$2:$10000,MATCH($B$5,(GPS_IMPORT!$A$2:$A$10000),0)+ROWS($1:14)-1,COLUMN()-1),0)","v":"00:00:00"},{"$f":"IF(ROWS(GPS_IMPORT!$1:14)<=COUNTIF(GPS_IMPORT!$A$2:$A$10000,$B$5),INDEX(GPS_IMPORT!$2:$10000,MATCH($B$5,(GPS_IMPORT!$A$2:$A$10000),0)+ROWS($1:14)-1,COLUMN()-1),0)","v":"00:00:00"},{"$f":"IF(ROWS(GPS_IMPORT!$1:14)<=COUNTIF(GPS_IMPORT!$A$2:$A$10000,$B$5),INDEX(GPS_IMPORT!$2:$10000,MATCH($B$5,(GPS_IMPORT!$A$2:$A$10000),0)+ROWS($1:14)-1,COLUMN()-1),0)","v":0},{"$f":"IF(ROWS(GPS_IMPORT!$1:14)<=COUNTIF(GPS_IMPORT!$A$2:$A$10000,$B$5),INDEX(GPS_IMPORT!$2:$10000,MATCH($B$5,(GPS_IMPORT!$A$2:$A$10000),0)+ROWS($1:14)-1,COLUMN()-1),0)","v":0},{"$f":"IF(ROWS(GPS_IMPORT!$1:14)<=COUNTIF(GPS_IMPORT!$A$2:$A$10000,$B$5),INDEX(GPS_IMPORT!$2:$10000,MATCH($B$5,(GPS_IMPORT!$A$2:$A$10000),0)+ROWS($1:14)-1,COLUMN()-1),0)","v":0},0,0,0,false]
[15,{"$f":"IF(ROWS(GPS_IMPORT!$1:15)<=COUNTIF(GPS_IMPORT!$A$2:$A$10000,$B$5),INDEX(GPS_IMPORT!$2:$10000,MATCH($B$5,(GPS_IMPORT!$A$2:$A$10000),0)+ROWS($1:15)-1,COLUMN()-1),0)","v":0},{"$f":"IF(ROWS(GPS_IMPORT!$1:15)<=COUNTIF(GPS_IMPORT!$A$2:$A$10000,$B$5),INDEX(GPS_IMPORT!$2:$10000,MATCH($B$5,(GPS_IMPORT!$A$2:$A$10000),0)+ROWS($1:15)-1,COLUMN()-1),0)","v":"00:00:00"},{"$f":"IF(ROWS(GPS_IMPORT!$1:15)<=COUNTIF(GPS_IMPORT!$A$2:$A$10000,$B$5),INDEX(GPS_IMPORT!$2:$10000,MATCH($B$5,(GPS_IMPORT!$A$2:$A$10000),0)+ROWS($1:15)-1,COLUMN()-1),0)","v":"00:00:00"},{"$f":"IF(ROWS(GPS_IMPORT!$1:15)<=COUNTIF(GPS_IMPORT!$A$2:$A$10000,$B$5),INDEX(GPS_IMPORT!$2:$10000,MATCH($B$5,(GPS_IMPORT!$A$2:$A$10000),0)+ROWS($1:15)-1,COLUMN()-1),0)","v":0},{"$f":"IF(ROWS(GPS_IMPORT!$1:15)<=COUNTIF(GPS_IMPORT!$A$2:$A$10000,$B$5),INDEX(GPS_IMPORT!$2:$10000,MATCH($B$5,(GPS_IMPORT!$A$2:$A$10000),0)+ROWS($1:15)-1,COLUMN()-1),0)","v":0},{"$f":"IF(ROWS(GPS_IMPORT!$1:15)<=COUNTIF(GPS_IMPORT!$A$2:$A$10000,$B$5),INDEX(GPS_IMPORT!$2:$10000,MATCH($B$5,(GPS_IMPORT!$A$2:$A$10000),0)+ROWS($1:15)-1,COLUMN()-1),0)","v":0},0,0,0,false]
[null,null,null,"AVERAGE",{"$f":"(IF($K$7=TRUE,E7,0)+IF($K$8=TRUE,E8,0)+IF($K$9=TRUE,E9,0)+IF($K$10=TRUE,E10,0)+IF($K$11=TRUE,E11,0)+IF($K$12=TRUE,E12,0)+IF($K$13=TRUE,E13,0)+IF($K$14=TRUE,E14,0)+IF($K$15=TRUE,E15,0)+IF($K$16=TRUE,E16,0)+IF($K$17=TRUE,E17,0)+IF($K$18=TRUE,E18,0)+IF($K$19=TRUE,E19,0)+IF($K$20=TRUE,E20,0)+IF($K$21=TRUE,E21,0))/(IF($K$7=TRUE,1,0)+IF($K$8=TRUE,1,0)+IF($K$9=TRUE,1,0)+IF($K$10=TRUE,1,0)+IF($K$11=TRUE,1,0)+IF($K$12=TRUE,1,0)+IF($K$13=TRUE,1,0)+IF($K$14=TRUE,1,0)+IF($K$15=TRUE,1,0)+IF($K$16=TRUE,1,0)+IF($K$17=TRUE,1,0)+IF($K$18=TRUE,1,0)+IF($K$19=TRUE,1,0)+IF($K$20=TRUE,1,0)+IF($K$21=TRUE,1,0))","v":314273.4085291893},{"$f":"(IF($K$7=TRUE,F7,0)+IF($K$8=TRUE,F8,0)+IF($K$9=TRUE,F9,0)+IF($K$10=TRUE,F10,0)+IF($K$11=TRUE,F11,0)+IF($K$12=TRUE,F12,0)+IF($K$13=TRUE,F13,0)+IF($K$14=TRUE,F14,0)+IF($K$15=TRUE,F15,0)+IF($K$16=TRUE,F16,0)+IF($K$17=TRUE,F17,0)+IF($K$18=TRUE,F18,0)+IF($K$19=TRUE,F19,0)+IF($K$20=TRUE,F20,0)+IF($K$21=TRUE,F21,0))/(IF($K$7=TRUE,1,0)+IF($K$8=TRUE,1,0)+IF($K$9=TRUE,1,0)+IF($K$10=TRUE,1,0)+IF($K$11=TRUE,1,0)+IF($K$12=TRUE,1,0)+IF($K$13=TRUE,1,0)+IF($K$14=TRUE,1,0)+IF($K$15=TRUE,1,0)+IF($K$16=TRUE,1,0)+IF($K$17=TRUE,1,0)+IF($K$18=TRUE,1,0)+IF($K$19=TRUE,1,0)+IF($K$20=TRUE,1,0)+IF($K$21=TRUE,1,0))","v":2256928.3238123273},{"$f":"(IF($K$7=TRUE,G7,0)+IF($K$8=TRUE,G8,0)+IF($K$9=TRUE,G9,0)+IF($K$10=TRUE,G10,0)+IF($K$11=TRUE,G11,0)+IF($K$12=TRUE,G12,0)+IF($K$13=TRUE,G13,0)+IF($K$14=TRUE,G14,0)+IF($K$15=TRUE,G15,0)+IF($K$16=TRUE,G16,0)+IF($K$17=TRUE,G17,0)+IF($K$18=TRUE,G18,0)+IF($K$19=TRUE,G19,0)+IF($K$20=TRUE,G20,0)+IF($K$21=TRUE,G21,0))/\n(IF($K$7=TRUE,1,0)+IF($K$8=TRUE,1,0)+IF($K$9=TRUE,1,0)+IF($K$10=TRUE,1,0)+IF($K$11=TRUE,1,0)+IF($K$12=TRUE,1,0)+IF($K$13=TRUE,1,0)+IF($K$14=TRUE,1,0)+IF($K$15=TRUE,1,0)+IF($K$16=TRUE,1,0)+IF($K$17=TRUE,1,0)+IF($K$18=TRUE,1,0)+IF($K$19=TRUE,1,0)+IF($K$20=TRUE,1,0)+IF($K$21=TRUE,1,0))","v":912.15341060323669},"RMSE:","RMSE:","RMSE:"]
[null,null,null,null,null,null,"RMSE IN US SURVEY FEET:",{"$f":"SQRT((\n(IF($K$7=TRUE,H7^2,0))+(IF($K$8=TRUE,H8^2,0))+(IF($K$9=TRUE,H9^2,0))+(IF($K$10=TRUE,H10^2,0))+(IF($K$11=TRUE,H11^2,0))+(IF($K$12=TRUE,H12^2,0))+(IF($K$13=TRUE,H13^2,0))+(IF($K$14=TRUE,H14^2,0))+(IF($K$15=TRUE,H15^2,0))+(IF($K$16=TRUE,H16^2,0))+(IF($K$17=TRUE,H17^2,0))+(IF($K$18=TRUE,H18^2,0))+(IF($K$19=TRUE,H19^2,0))+(IF($K$20=TRUE,H20^2,0))+(IF($K$21=TRUE,H21^2,0)))/\n(IF($K$7=TRUE,1,0)+IF($K$8=TRUE,1,0)+IF($K$9=TRUE,1,0)+IF($K$10=TRUE,1,0)+IF($K$11=TRUE,1,0)+IF($K$12=TRUE,1,0)+IF($K$13=TRUE,1,0)+IF($K$14=TRUE,1,0)+IF($K$15=TRUE,1,0)+IF($K$16=TRUE,1,0)+IF($K$17=TRUE,1,0)+IF($K$18=TRUE,1,0)+IF($K$19=TRUE,1,0)+IF($K$20=TRUE,1,0)+IF($K$21=TRUE,1,0)))","v":9.2724398568448767E-3},{"$f":"SQRT((\n(IF($K$7=TRUE,I7^2,0))+(IF($K$8=TRUE,I8^2,0))+(IF($K$9=TRUE,I9^2,0))+(IF($K$10=TRUE,I10^2,0))+(IF($K$11=TRUE,I11^2,0))+(IF($K$12=TRUE,I12^2,0))+(IF($K$13=TRUE,I13^2,0))+(IF($K$14=TRUE,I14^2,0))+(IF($K$15=TRUE,I15^2,0))+(IF($K$16=TRUE,I16^2,0))+(IF($K$17=TRUE,I17^2,0))+(IF($K$18=TRUE,I18^2,0))+(IF($K$19=TRUE,I19^2,0))+(IF($K$20=TRUE,I20^2,0))+(IF($K$21=TRUE,I21^2,0)))/\n(IF($K$7=TRUE,1,0)+IF($K$8=TRUE,1,0)+IF($K$9=TRUE,1,0)+IF($K$10=TRUE,1,0)+IF($K$11=TRUE,1,0)+IF($K$12=TRUE,1,0)+IF($K$13=TRUE,1,0)+IF($K$14=TRUE,1,0)+IF($K$15=TRUE,1,0)+IF($K$16=TRUE,1,0)+IF($K$17=TRUE,1,0)+IF($K$18=TRUE,1,0)+IF($K$19=TRUE,1,0)+IF($K$20=TRUE,1,0)+IF($K$21=TRUE,1,0)))","v":5.0485201931162052E-3},{"$f":"SQRT((\n(IF($K$7=TRUE,J7^2,0))+(IF($K$8=TRUE,J8^2,0))+(IF($K$9=TRUE,J9^2,0))+(IF($K$10=TRUE,J10^2,0))+(IF($K$11=TRUE,J11^2,0))+(IF($K$12=TRUE,J12^2,0))+(IF($K$13=TRUE,J13^2,0))+(IF($K$14=TRUE,J14^2,0))+(IF($K$15=TRUE,J15^2,0))+(IF($K$16=TRUE,J16^2,0))+(IF($K$17=TRUE,J17^2,0))+(IF($K$18=TRUE,J18^2,0))+(IF($K$19=TRUE,J19^2,0))+(IF($K$20=TRUE,J20^2,0))+(IF($K$21=TRUE,J21^2,0)))/\n(IF($K$7=TRUE,1,0)+IF($K$8=TRUE,1,0)+IF($K$9=TRUE,1,0)+IF($K$10=TRUE,1,0)+IF($K$11=TRUE,1,0)+IF($K$12=TRUE,1,0)+IF($K$13=TRUE,1,0)+IF($K$14=TRUE,1,0)+IF($K$15=TRUE,1,0)+IF($K$16=TRUE,1,0)+IF($K$17=TRUE,1,0)+IF($K$18=TRUE,1,0)+IF($K$19=TRUE,1,0)+IF($K$20=TRUE,1,0)+IF($K$21=TRUE,1,0)))","v":7.0744343016523924E-3}]
[null,null,null,1]
[null,null,"UNITLESS GRID TO GROUND MULTIPLIER",0,null,null,null,{"$f":"IF(H23<=0.029,\"PASS\",\"FAIL\")","v":"PASS"},{"$f":"IF(I23<=0.029,\"PASS\",\"FAIL\")","v":"PASS"},{"$f":"IF(J23<=0.039,\"PASS\",\"FAIL\")","v":"PASS"}]
[]
["AVERAGED GPS-DERIVED POSITION",null,null,null,null,null,null,null,"Notes:"]
[null,"MONUMENT COORDINATES",null,"NORTHING","EASTING","ORTHO HEIGHT"]
[null,"US Survey Feet (GRID)",null,{"$f":"$E$22","v":314273.4085291893},{"$f":"$F$22","v":2256928.3238123273},{"$f":"$G$22","v":912.15341060323669}]
[]
["LEVELED ELEVATION"]
["US SURVEY FEET",null,"N/A","(Type the leveled elevation or N/A if no leveled elevation is available)"]
["MONUMENT HELD",null,null,"(Type the monument name from which leveling originated)"]
["LEVELED ELEVATION - GPS DERIVED ELEVATION   = ",null,null,null,{"$f":"IF(C32=\"N/A\",\"N/A\",C32-(F29*D24))","v":"N/A"}]
[]
["FINAL MONUMENT COORDINATES"]
[null,"MONUMENT COORDINATES",null,"NORTHING","EASTING","ELEVATION","FEATURE CODE"]
[null,"US SURVEY FEET (GRID)",null,{"$f":"$E$22*$D$24","v":314273.4085291893},{"$f":"$F$22*$D$24","v":2256928.3238123273},{"$f":"IF($C$32=\"N/A\",($G$22*$D$24),$C$32)","v":912.15341060323669},"AERTAR"]
[null,"US SURVEY FEET (GROUND)",null,{"$f":"$D$38*$D$25","v":0},{"$f":"$E$38*$D$25","v":0},{"$f":"IF($C$32=\"N/A\",($G$22*$D$24),$C$32)","v":912.15341060323669},{"$f":"G38","v":"AERTAR"}]
[]
["∆ North,  ∆ East, and ∆ Ht. are the difference between the average northing, easting, and height for each observation.",null,null,null,null,null,null,null,"Mask Angle:","10°"]

{"sheet":"GS2","index":8,"n_rows":41,"n_cols":11,"rows_kept":41,"cut":false,"hidden":false,"merged":[[0,0,0,10],[26,0,26,6],[27,1,27,2],[27,8,38,10],[28,1,28,2],[30,0,30,6],[35,0,35,6],[36,1,36,2],[37,1,37,2],[38,1,38,2]]}
["VRS GNSS Project Control Monument Coordinate Analysis"]
[]
["Project:",{"$f":"REPORT!B2","v":"TUS-800-22.74"},"GPS Antenna:","LEICA GS14",null,null,null,null,null,"Report Date:",{"$f":"REPORT!C49","v":"2018-12-19"}]
["PID:",{"$f":"REPORT!E2","v":100603},"VRS Network:","ODOT VRS",null,null,null,null,null,"Prepared By:",{"$f":"REPORT!C48","v":"Kolton Wilson"}]
["Point ID:","GS2","No. of Sessions:",{"$f":"COUNTIF(GPS_IMPORT!A2:A1000,$B$5)","v":12},null,null,null,null,null,"Checked By:",{"$f":"REPORT!C52","v":"Joel Swick"}]
["SESSION #","Point","Observation Date","Start Time","Northing(sft)","Easting(sft)","Height(sft)","∆ Northing(sft)","∆ Easting(sft)","∆ Height(sft)","Include in Solution?"]
[1,{"$f":"IF(ROWS(GPS_IMPORT!$1:1)<=COUNTIF(GPS_IMPORT!$A$2:$A$10000,$B$5),INDEX(GPS_IMPORT!$2:$10000,MATCH($B$5,(GPS_IMPORT!$A$2:$A$10000),0)+ROWS($1:1)-1,COLUMN()-1),0)","v":"GS2"},{"$f":"IF(ROWS(GPS_IMPORT!$1:1)<=COUNTIF(GPS_IMPORT!$A$2:$A$10000,$B$5),INDEX(GPS_IMPORT!$2:$10000,MATCH($B$5,(GPS_IMPORT!$A$2:$A$10000),0)+ROWS($1:1)-1,COLUMN()-1),0)","v":"12.18.2018"},{"$f":"IF(ROWS(GPS_IMPORT!$1:1)<=COUNTIF(GPS_IMPORT!$A$2:$A$10000,$B$5),INDEX(GPS_IMPORT!$2:$10000,MATCH($B$5,(GPS_IMPORT!$A$2:$A$10000),0)+ROWS($1:1)-1,COLUMN()-1),0)","v":" 9:15:28.2700"},{"$f":"IF(ROWS(GPS_IMPORT!$1:1)<=COUNTIF(GPS_IMPORT!$A$2:$A$10000,$B$5),INDEX(GPS_IMPORT!$2:$10000,MATCH($B$5,(GPS_IMPORT!$A$2:$A$10000),0)+ROWS($1:1)-1,COLUMN()-1),0)","v":315045.21334488702},{"$f":"IF(ROWS(GPS_IMPORT!$1:1)<=COUNTIF(GPS_IMPORT!$A$2:$A$10000,$B$5),INDEX(GPS_IMPORT!$2:$10000,MATCH($B$5,(GPS_IMPORT!$A$2:$A$10000),0)+ROWS($1:1)-1,COLUMN()-1),0)","v":2257842.2095851102},{"$f":"IF(ROWS(GPS_IMPORT!$1:1)<=COUNTIF(GPS_IMPORT!$A$2:$A$10000,$B$5),INDEX(GPS_IMPORT!$2:$10000,MATCH($B$5,(GPS_IMPORT!$A$2:$A$10000),0)+ROWS($1:1)-1,COLUMN()-1),0)","v":902.44269982054004},{"$f":"IF(E7>0,E$22-E7,0)","v":-1.2486342282500118E-2},-6.0381805524230003E-3,1.4790260528457111E-2,true]
[2,{"$f":"IF(ROWS(GPS_IMPORT!$1:2)<=COUNTIF(GPS_IMPORT!$A$2:$A$10000,$B$5),INDEX(GPS_IMPORT!$2:$10000,MATCH($B$5,(GPS_IMPORT!$A$2:$A$10000),0)+ROWS($1:2)-1,COLUMN()-1),0)","v":"GS2"},{"$f":"IF(ROWS(GPS_IMPORT!$1:2)<=COUNTIF(GPS_IMPORT!$A$2:$A$10000,$B$5),INDEX(GPS_IMPORT!$2:$10000,MATCH($B$5,(GPS_IMPORT!$A$2:$A$10000),0)+ROWS($1:2)-1,COLUMN()-1),0)","v":"12.18.2018"},{"$f":"IF(ROWS(GPS_IMPORT!$1:2)<=COUNTIF(GPS_IMPORT!$A$2:$A$10000,$B$5),INDEX(GPS_IMPORT!$2:$10000,MATCH($B$5,(GPS_IMPORT!$A$2:$A$10000),0)+ROWS($1:2)-1,COLUMN()-1),0)","v":" 9:15:39.9600"},{"$f":"IF(ROWS(GPS_IMPORT!$1:2)<=COUNTIF(GPS_IMPORT!$A$2:$A$10000,$B$5),INDEX(GPS_IMPORT!$2:$10000,MATCH($B$5,(GPS_IMPORT!$A$2:$A$10000),0)+ROWS($1:2)-1,COLUMN()-1),0)","v":315045.209265457},{"$f":"IF(ROWS(GPS_IMPORT!$1:2)<=COUNTIF(GPS_IMPORT!$A$2:$A$10000,$B$5),INDEX(GPS_IMPORT!$2:$10000,MATCH($B$5,(GPS_IMPORT!$A$2:$A$10000),0)+ROWS($1:2)-1,COLUMN()-1),0)","v":2257842.2048812401},{"$f":"IF(ROWS(GPS_IMPORT!$1:2)<=COUNTIF(GPS_IMPORT!$A$2:$A$10000,$B$5),INDEX(GPS_IMPORT!$2:$10000,MATCH($B$5,(GPS_IMPORT!$A$2:$A$10000),0)+ROWS($1:2)-1,COLUMN()-1),0)","v":902.44212446416998},-8.4069122676737607E-3,-1.3343105092644691E-3,1.5365616898520784E-2,true]
[3,{"$f":"IF(ROWS(GPS_IMPORT!$1:3)<=COUNTIF(GPS_IMPORT!$A$2:$A$10000,$B$5),INDEX(GPS_IMPORT!$2:$10000,MATCH($B$5,(GPS_IMPORT!$A$2:$A$10000),0)+ROWS($1:3)-1,COLUMN()-1),0)","v":"GS2"},{"$f":"IF(ROWS(GPS_IMPORT!$1:3)<=COUNTIF(GPS_IMPORT!$A$2:$A$10000,$B$5),INDEX(GPS_IMPORT!$2:$10000,MATCH($B$5,(GPS_IMPORT!$A$2:$A$10000),0)+ROWS($1:3)-1,COLUMN()-1),0)","v":"12.18.2018"},{"$f":"IF(ROWS(GPS_IMPORT!$1:3)<=COUNTIF(GPS_IMPORT!$A$2:$A$10000,$B$5),INDEX(GPS_IMPORT!$2:$10000,MATCH($B$5,(GPS_IMPORT!$A$2:$A$10000),0)+ROWS($1:3)-1,COLUMN()-1),0)","v":" 9:15:50.8500"},{"$f":"IF(ROWS(GPS_IMPORT!$1:3)<=COUNTIF(GPS_IMPORT!$A$2:$A$10000,$B$5),INDEX(GPS_IMPORT!$2:$10000,MATCH($B$5,(GPS_IMPORT!$A$2:$A$10000),0)+ROWS($1:3)-1,COLUMN()-1),0)","v":315045.19978213299},{"$f":"IF(ROWS(GPS_IMPORT!$1:3)<=COUNTIF(GPS_IMPORT!$A$2:$A$10000,$B$5),INDEX(GPS_IMPORT!$2:$10000,MATCH($B$5,(GPS_IMPORT!$A$2:$A$10000),0)+ROWS($1:3)-1,COLUMN()-1),0)","v":2257842.1984984898},{"$f":"IF(ROWS(GPS_IMPORT!$1:3)<=COUNTIF(GPS_IMPORT!$A$2:$A$10000,$B$5),INDEX(GPS_IMPORT!$2:$10000,MATCH($B$5,(GPS_IMPORT!$A$2:$A$10000),0)+ROWS($1:3)-1,COLUMN()-1),0)","v":902.44243545133997},1.0764117469079792E-3,5.0484398379921913E-3,1.505462972852456E-2,true]
[4,{"$f":"IF(ROWS(GPS_IMPORT!$1:4)<=COUNTIF(GPS_IMPORT!$A$2:$A$10000,$B$5),INDEX(GPS_IMPORT!$2:$10000,MATCH($B$5,(GPS_IMPORT!$A$2:$A$10000),0)+ROWS($1:4)-1,COLUMN()-1),0)","v":"GS2"},{"$f":"IF(ROWS(GPS_IMPORT!$1:4)<=COUNTIF(GPS_IMPORT!$A$2:$A$10000,$B$5),INDEX(GPS_IMPORT!$2:$10000,MATCH($B$5,(GPS_IMPORT!$A$2:$A$10000),0)+ROWS($1:4)-1,COLUMN()-1),0)","v":"12.18.2018"},{"$f":"IF(ROWS(GPS_IMPORT!$1:4)<=COUNTIF(GPS_IMPORT!$A$2:$A$10000,$B$5),INDEX(GPS_IMPORT!$2:$10000,MATCH($B$5,(GPS_IMPORT!$A$2:$A$10000),0)+ROWS($1:4)-1,COLUMN()-1),0)","v":" 9:16:1.2100"},{"$f":"IF(ROWS(GPS_IMPORT!$1:4)<=COUNTIF(GPS_IMPORT!$A$2:$A$10000,$B$5),INDEX(GPS_IMPORT!$2:$10000,MATCH($B$5,(GPS_IMPORT!$A$2:$A$10000),0)+ROWS($1:4)-1,COLUMN()-1),0)","v":315045.20046872302},{"$f":"IF(ROWS(GPS_IMPORT!$1:4)<=COUNTIF(GPS_IMPORT!$A$2:$A$10000,$B$5),INDEX(GPS_IMPORT!$2:$10000,MATCH($B$5,(GPS_IMPORT!$A$2:$A$10000),0)+ROWS($1:4)-1,COLUMN()-1),0)","v":2257842.19774005},{"$f":"IF(ROWS(GPS_IMPORT!$1:4)<=COUNTIF(GPS_IMPORT!$A$2:$A$10000,$B$5),INDEX(GPS_IMPORT!$2:$10000,MATCH($B$5,(GPS_IMPORT!$A$2:$A$10000),0)+ROWS($1:4)-1,COLUMN()-1),0)","v":902.45893255110002},3.8982171099632978E-4,5.8068796060979366E-3,-1.4424700315203154E-3,true]
[5,{"$f":"IF(ROWS(GPS_IMPORT!$1:5)<=COUNTIF(GPS_IMPORT!$A$2:$A$10000,$B$5),INDEX(GPS_IMPORT!$2:$10000,MATCH($B$5,(GPS_IMPORT!$A$2:$A$10000),0)+ROWS($1:5)-1,COLUMN()-1),0)","v":"GS2"},{"$f":"IF(ROWS(GPS_IMPORT!$1:5)<=COUNTIF(GPS_IMPORT!$A$2:$A$10000,$B$5),INDEX(GPS_IMPORT!$2:$10000,MATCH($B$5,(GPS_IMPORT!$A$2:$A$10000),0)+ROWS($1:5)-1,COLUMN()-1),0)","v":"12.18.2018"},{"$f":"IF(ROWS(GPS_IMPORT!$1:5)<=COUNTIF(GPS_IMPORT!$A$2:$A$10000,$B$5),INDEX(GPS_IMPORT!$2:$10000,MATCH($B$5,(GPS_IMPORT!$A$2:$A$10000),0)+ROWS($1:5)-1,COLUMN()-1),0)","v":" 9:16:16.8300"},{"$f":"IF(ROWS(GPS_IMPORT!$1:5)<=COUNTIF(GPS_IMPORT!$A$2:$A$10000,$B$5),INDEX(GPS_IMPORT!$2:$10000,MATCH($B$5,(GPS_IMPORT!$A$2:$A$10000),0)+ROWS($1:5)-1,COLUMN()-1),0)","v":315045.20045374997},{"$f":"IF(ROWS(GPS_IMPORT!$1:5)<=COUNTIF(GPS_IMPORT!$A$2:$A$10000,$B$5),INDEX(GPS_IMPORT!$2:$10000,MATCH($B$5,(GPS_IMPORT!$A$2:$A$10000),0)+ROWS($1:5)-1,COLUMN()-1),0)","v":2257842.2039982602},{"$f":"IF(ROWS(GPS_IMPORT!$1:5)<=COUNTIF(GPS_IMPORT!$A$2:$A$10000,$B$5),INDEX(GPS_IMPORT!$2:$10000,MATCH($B$5,(GPS_IMPORT!$A$2:$A$10000),0)+ROWS($1:5)-1,COLUMN()-1),0)","v":902.46296249621003},4.0479475865140557E-4,-4.5133056119084358E-4,-5.4724151415257438E-3,true]
[6,{"$f":"IF(ROWS(GPS_IMPORT!$1:6)<=COUNTIF(GPS_IMPORT!$A$2:$A$10000,$B$5),INDEX(GPS_IMPORT!$2:$10000,MATCH($B$5,(GPS_IMPORT!$A$2:$A$10000),0)+ROWS($1:6)-1,COLUMN()-1),0)","v":"GS2"},{"$f":"IF(ROWS(GPS_IMPORT!$1:6)<=COUNTIF(GPS_IMPORT!$A$2:$A$10000,$B$5),INDEX(GPS_IMPORT!$2:$10000,MATCH($B$5,(GPS_IMPORT!$A$2:$A$10000),0)+ROWS($1:6)-1,COLUMN()-1),0)","v":"12.18.2018"},{"$f":"IF(ROWS(GPS_IMPORT!$1:6)<=COUNTIF(GPS_IMPORT!$A$2:$A$10000,$B$5),INDEX(GPS_IMPORT!$2:$10000,MATCH($B$5,(GPS_IMPORT!$A$2:$A$10000),0)+ROWS($1:6)-1,COLUMN()-1),0)","v":" 9:16:26.5800"},{"$f":"IF(ROWS(GPS_IMPORT!$1:6)<=COUNTIF(GPS_IMPORT!$A$2:$A$10000,$B$5),INDEX(GPS_IMPORT!$2:$10000,MATCH($B$5,(GPS_IMPORT!$A$2:$A$10000),0)+ROWS($1:6)-1,COLUMN()-1),0)","v":315045.19935168501},{"$f":"IF(ROWS(GPS_IMPORT!$1:6)<=COUNTIF(GPS_IMPORT!$A$2:$A$10000,$B$5),INDEX(GPS_IMPORT!$2:$10000,MATCH($B$5,(GPS_IMPORT!$A$2:$A$10000),0)+ROWS($1:6)-1,COLUMN()-1),0)","v":2257842.20311788},{"$f":"IF(ROWS(GPS_IMPORT!$1:6)<=COUNTIF(GPS_IMPORT!$A$2:$A$10000,$B$5),INDEX(GPS_IMPORT!$2:$10000,MATCH($B$5,(GPS_IMPORT!$A$2:$A$10000),0)+ROWS($1:6)-1,COLUMN()-1),0)","v":902.46291551463003},1.5068597276695073E-3,4.2904959991574287E-4,-5.4254335615269156E-3,true]
[7,{"$f":"IF(ROWS(GPS_IMPORT!$1:7)<=COUNTIF(GPS_IMPORT!$A$2:$A$10000,$B$5),INDEX(GPS_IMPORT!$2:$10000,MATCH($B$5,(GPS_IMPORT!$A$2:$A$10000),0)+ROWS($1:7)-1,COLUMN()-1),0)","v":"GS2"},{"$f":"IF(ROWS(GPS_IMPORT!$1:7)<=COUNTIF(GPS_IMPORT!$A$2:$A$10000,$B$5),INDEX(GPS_IMPORT!$2:$10000,MATCH($B$5,(GPS_IMPORT!$A$2:$A$10000),0)+ROWS($1:7)-1,COLUMN()-1),0)","v":"12.18.2018"},{"$f":"IF(ROWS(GPS_IMPORT!$1:7)<=COUNTIF(GPS_IMPORT!$A$2:$A$10000,$B$5),INDEX(GPS_IMPORT!$2:$10000,MATCH($B$5,(GPS_IMPORT!$A$2:$A$10000),0)+ROWS($1:7)-1,COLUMN()-1),0)","v":" 9:16:37.6100"},{"$f":"IF(ROWS(GPS_IMPORT!$1:7)<=COUNTIF(GPS_IMPORT!$A$2:$A$10000,$B$5),INDEX(GPS_IMPORT!$2:$10000,MATCH($B$5,(GPS_IMPORT!$A$2:$A$10000),0)+ROWS($1:7)-1,COLUMN()-1),0)","v":315045.19999707403},{"$f":"IF(ROWS(GPS_IMPORT!$1:7)<=COUNTIF(GPS_IMPORT!$A$2:$A$10000,$B$5),INDEX(GPS_IMPORT!$2:$10000,MATCH($B$5,(GPS_IMPORT!$A$2:$A$10000),0)+ROWS($1:7)-1,COLUMN()-1),0)","v":2257842.2081766701},{"$f":"IF(ROWS(GPS_IMPORT!$1:7)<=COUNTIF(GPS_IMPORT!$A$2:$A$10000,$B$5),INDEX(GPS_IMPORT!$2:$10000,MATCH($B$5,(GPS_IMPORT!$A$2:$A$10000),0)+ROWS($1:7)-1,COLUMN()-1),0)","v":902.46673843947997},8.6147070396691561E-4,-4.6297404915094376E-3,-9.2483584114688711E-3,true]
[8,{"$f":"IF(ROWS(GPS_IMPORT!$1:8)<=COUNTIF(GPS_IMPORT!$A$2:$A$10000,$B$5),INDEX(GPS_IMPORT!$2:$10000,MATCH($B$5,(GPS_IMPORT!$A$2:$A$10000),0)+ROWS($1:8)-1,COLUMN()-1),0)","v":"GS2"},{"$f":"IF(ROWS(GPS_IMPORT!$1:8)<=COUNTIF(GPS_IMPORT!$A$2:$A$10000,$B$5),INDEX(GPS_IMPORT!$2:$10000,MATCH($B$5,(GPS_IMPORT!$A$2:$A$10000),0)+ROWS($1:8)-1,COLUMN()-1),0)","v":"12.18.2018"},{"$f":"IF(ROWS(GPS_IMPORT!$1:8)<=COUNTIF(GPS_IMPORT!$A$2:$A$10000,$B$5),INDEX(GPS_IMPORT!$2:$10000,MATCH($B$5,(GPS_IMPORT!$A$2:$A$10000),0)+ROWS($1:8)-1,COLUMN()-1),0)","v":" 9:16:49.1900"},{"$f":"IF(ROWS(GPS_IMPORT!$1:8)<=COUNTIF(GPS_IMPORT!$A$2:$A$10000,$B$5),INDEX(GPS_IMPORT!$2:$10000,MATCH($B$5,(GPS_IMPORT!$A$2:$A$10000),0)+ROWS($1:8)-1,COLUMN()-1),0)","v":315045.19909390301},{"$f":"IF(ROWS(GPS_IMPORT!$1:8)<=COUNTIF(GPS_IMPORT!$A$2:$A$10000,$B$5),INDEX(GPS_IMPORT!$2:$10000,MATCH($B$5,(GPS_IMPORT!$A$2:$A$10000),0)+ROWS($1:8)-1,COLUMN()-1),0)","v":2257842.2051618099},{"$f":"IF(ROWS(GPS_IMPORT!$1:8)<=COUNTIF(GPS_IMPORT!$A$2:$A$10000,$B$5),INDEX(GPS_IMPORT!$2:$10000,MATCH($B$5,(GPS_IMPORT!$A$2:$A$10000),0)+ROWS($1:8)-1,COLUMN()-1),0)","v":902.48173970617995},1.7646417254582047E-3,-1.6148802824318409E-3,-2.4249625111451678E-2,true]
[9,{"$f":"IF(ROWS(GPS_IMPORT!$1:9)<=COUNTIF(GPS_IMPORT!$A$2:$A$10000,$B$5),INDEX(GPS_IMPORT!$2:$10000,MATCH($B$5,(GPS_IMPORT!$A$2:$A$10000),0)+ROWS($1:9)-1,COLUMN()-1),0)","v":"GS2"},{"$f":"IF(ROWS(GPS_IMPORT!$1:9)<=COUNTIF(GPS_IMPORT!$A$2:$A$10000,$B$5),INDEX(GPS_IMPORT!$2:$10000,MATCH($B$5,(GPS_IMPORT!$A$2:$A$10000),0)+ROWS($1:9)-1,COLUMN()-1),0)","v":"12.18.2018"},{"$f":"IF(ROWS(GPS_IMPORT!$1:9)<=COUNTIF(GPS_IMPORT!$A$2:$A$10000,$B$5),INDEX(GPS_IMPORT!$2:$10000,MATCH($B$5,(GPS_IMPORT!$A$2:$A$10000),0)+ROWS($1:9)-1,COLUMN()-1),0)","v":" 9:17:8.6400"},{"$f":"IF(ROWS(GPS_IMPORT!$1:9)<=COUNTIF(GPS_IMPORT!$A$2:$A$10000,$B$5),INDEX(GPS_IMPORT!$2:$10000,MATCH($B$5,(GPS_IMPORT!$A$2:$A$10000),0)+ROWS($1:9)-1,COLUMN()-1),0)","v":315045.19947990298},{"$f":"IF(ROWS(GPS_IMPORT!$1:9)<=COUNTIF(GPS_IMPORT!$A$2:$A$10000,$B$5),INDEX(GPS_IMPORT!$2:$10000,MATCH($B$5,(GPS_IMPORT!$A$2:$A$10000),0)+ROWS($1:9)-1,COLUMN()-1),0)","v":2257842.2030988401},{"$f":"IF(ROWS(GPS_IMPORT!$1:9)<=COUNTIF(GPS_IMPORT!$A$2:$A$10000,$B$5),INDEX(GPS_IMPORT!$2:$10000,MATCH($B$5,(GPS_IMPORT!$A$2:$A$10000),0)+ROWS($1:9)-1,COLUMN()-1),0)","v":902.46348299998999},1.3786417548544705E-3,4.4808955863118172E-4,-5.9929189214926737E-3,true]
[10,{"$f":"IF(ROWS(GPS_IMPORT!$1:10)<=COUNTIF(GPS_IMPORT!$A$2:$A$10000,$B$5),INDEX(GPS_IMPORT!$2:$10000,MATCH($B$5,(GPS_IMPORT!$A$2:$A$10000),0)+ROWS($1:10)-1,COLUMN()-1),0)","v":"GS2"},{"$f":"IF(ROWS(GPS_IMPORT!$1:10)<=COUNTIF(GPS_IMPORT!$A$2:$A$10000,$B$5),INDEX(GPS_IMPORT!$2:$10000,MATCH($B$5,(GPS_IMPORT!$A$2:$A$10000),0)+ROWS($1:10)-1,COLUMN()-1),0)","v":"12.18.2018"},{"$f":"IF(ROWS(GPS_IMPORT!$1:10)<=COUNTIF(GPS_IMPORT!$A$2:$A$10000,$B$5),INDEX(GPS_IMPORT!$2:$10000,MATCH($B$5,(GPS_IMPORT!$A$2:$A$10000),0)+ROWS($1:10)-1,COLUMN()-1),0)","v":" 9:17:19.7600"},{"$f":"IF(ROWS(GPS_IMPORT!$1:10)<=COUNTIF(GPS_IMPORT!$A$2:$A$10000,$B$5),INDEX(GPS_IMPORT!$2:$10000,MATCH($B$5,(GPS_IMPORT!$A$2:$A$10000),0)+ROWS($1:10)-1,COLUMN()-1),0)","v":315045.19826581498},{"$f":"IF(ROWS(GPS_IMPORT!$1:10)<=COUNTIF(GPS_IMPORT!$A$2:$A$10000,$B$5),INDEX(GPS_IMPORT!$2:$10000,MATCH($B$5,(GPS_IMPORT!$A$2:$A$10000),0)+ROWS($1:10)-1,COLUMN()-1),0)","v":2257842.2036067802},{"$f":"IF(ROWS(GPS_IMPORT!$1:10)<=COUNTIF(GPS_IMPORT!$A$2:$A$10000,$B$5),INDEX(GPS_IMPORT!$2:$10000,MATCH($B$5,(GPS_IMPORT!$A$2:$A$10000),0)+ROWS($1:10)-1,COLUMN()-1),0)","v":902.46004463298004},2.5927297538146377E-3,-5.9850513935089111E-5,-2.5545519115439674E-3,true]
[11,{"$f":"IF(ROWS(GPS_IMPORT!$1:11)<=COUNTIF(GPS_IMPORT!$A$2:$A$10000,$B$5),INDEX(GPS_IMPORT!$2:$10000,MATCH($B$5,(GPS_IMPORT!$A$2:$A$10000),0)+ROWS($1:11)-1,COLUMN()-1),0)","v":"GS2"},{"$f":"IF(ROWS(GPS_IMPORT!$1:11)<=COUNTIF(GPS_IMPORT!$A$2:$A$10000,$B$5),INDEX(GPS_IMPORT!$2:$10000,MATCH($B$5,(GPS_IMPORT!$A$2:$A$10000),0)+ROWS($1:11)-1,COLUMN()-1),0)","v":"12.18.2018"},{"$f":"IF(ROWS(GPS_IMPORT!$1:11)<=COUNTIF(GPS_IMPORT!$A$2:$A$10000,$B$5),INDEX(GPS_IMPORT!$2:$10000,MATCH($B$5,(GPS_IMPORT!$A$2:$A$10000),0)+ROWS($1:11)-1,COLUMN()-1),0)","v":" 9:17:31.1500"},{"$f":"IF(ROWS(GPS_IMPORT!$1:11)<=COUNTIF(GPS_IMPORT!$A$2:$A$10000,$B$5),INDEX(GPS_IMPORT!$2:$10000,MATCH($B$5,(GPS_IMPORT!$A$2:$A$10000),0)+ROWS($1:11)-1,COLUMN()-1),0)","v":315045.19718497503},{"$f":"IF(ROWS(GPS_IMPORT!$1:11)<=COUNTIF(GPS_IMPORT!$A$2:$A$10000,$B$5),INDEX(GPS_IMPORT!$2:$10000,MATCH($B$5,(GPS_IMPORT!$A$2:$A$10000),0)+ROWS($1:11)-1,COLUMN()-1),0)","v":2257842.2049725899},{"$f":"IF(ROWS(GPS_IMPORT!$1:11)<=COUNTIF(GPS_IMPORT!$A$2:$A$10000,$B$5),INDEX(GPS_IMPORT!$2:$10000,MATCH($B$5,(GPS_IMPORT!$A$2:$A$10000),0)+ROWS($1:11)-1,COLUMN()-1),0)","v":902.45596180303005},3.6735697067342699E-3,-1.425660215318203E-3,1.5282780384495709E-3,true]
[12,{"$f":"IF(ROWS(GPS_IMPORT!$1:12)<=COUNTIF(GPS_IMPORT!$A$2:$A$10000,$B$5),INDEX(GPS_IMPORT!$2:$10000,MATCH($B$5,(GPS_IMPORT!$A$2:$A$10000),0)+ROWS($1:12)-1,COLUMN()-1),0)","v":"GS2"},{"$f":"IF(ROWS(GPS_IMPORT!$1:12)<=COUNTIF(GPS_IMPORT!$A$2:$A$10000,$B$5),INDEX(GPS_IMPORT!$2:$10000,MATCH($B$5,(GPS_IMPORT!$A$2:$A$10000),0)+ROWS($1:12)-1,COLUMN()-1),0)","v":"12.18.2018"},{"$f":"IF(ROWS(GPS_IMPORT!$1:12)<=COUNTIF(GPS_IMPORT!$A$2:$A$10000,$B$5),INDEX(GPS_IMPORT!$2:$10000,MATCH($B$5,(GPS_IMPORT!$A$2:$A$10000),0)+ROWS($1:12)-1,COLUMN()-1),0)","v":" 9:17:42.0300"},{"$f":"IF(ROWS(GPS_IMPORT!$1:12)<=COUNTIF(GPS_IMPORT!$A$2:$A$10000,$B$5),INDEX(GPS_IMPORT!$2:$10000,MATCH($B$5,(GPS_IMPORT!$A$2:$A$10000),0)+ROWS($1:12)-1,COLUMN()-1),0)","v":315045.193614232},{"$f":"IF(ROWS(GPS_IMPORT!$1:12)<=COUNTIF(GPS_IMPORT!$A$2:$A$10000,$B$5),INDEX(GPS_IMPORT!$2:$10000,MATCH($B$5,(GPS_IMPORT!$A$2:$A$10000),0)+ROWS($1:12)-1,COLUMN()-1),0)","v":2257842.19972543},{"$f":"IF(ROWS(GPS_IMPORT!$1:12)<=COUNTIF(GPS_IMPORT!$A$2:$A$10000,$B$5),INDEX(GPS_IMPORT!$2:$10000,MATCH($B$5,(GPS_IMPORT!$A$2:$A$10000),0)+ROWS($1:12)-1,COLUMN()-1),0)","v":902.44984309316999},7.2443127282895148E-3,3.8214996457099915E-3,7.6469878985108153E-3,true]
[13,{"$f":"IF(ROWS(GPS_IMPORT!$1:13)<=COUNTIF(GPS_IMPORT!$A$2:$A$10000,$B$5),INDEX(GPS_IMPORT!$2:$10000,MATCH($B$5,(GPS_IMPORT!$A$2:$A$10000),0)+ROWS($1:13)-1,COLUMN()-1),0)","v":0},{"$f":"IF(ROWS(GPS_IMPORT!$1:13)<=COUNTIF(GPS_IMPORT!$A$2:$A$10000,$B$5),INDEX(GPS_IMPORT!$2:$10000,MATCH($B$5,(GPS_IMPORT!$A$2:$A$10000),0)+ROWS($1:13)-1,COLUMN()-1),0)","v":"00:00:00"},{"$f":"IF(ROWS(GPS_IMPORT!$1:13)<=COUNTIF(GPS_IMPORT!$A$2:$A$10000,$B$5),INDEX(GPS_IMPORT!$2:$10000,MATCH($B$5,(GPS_IMPORT!$A$2:$A$10000),0)+ROWS($1:13)-1,COLUMN()-1),0)","v":"00:00:00"},{"$f":"IF(ROWS(GPS_IMPORT!$1:13)<=COUNTIF(GPS_IMPORT!$A$2:$A$10000,$B$5),INDEX(GPS_IMPORT!$2:$10000,MATCH($B$5,(GPS_IMPORT!$A$2:$A$10000),0)+ROWS($1:13)-1,COLUMN()-1),0)","v":0},{"$f":"IF(ROWS(GPS_IMPORT!$1:13)<=COUNTIF(GPS_IMPORT!$A$2:$A$10000,$B$5),INDEX(GPS_IMPORT!$2:$10000,MATCH($B$5,(GPS_IMPORT!$A$2:$A$10000),0)+ROWS($1:13)-1,COLUMN()-1),0)","v":0},{"$f":"IF(ROWS(GPS_IMPORT!$1:13)<=COUNTIF(GPS_IMPORT!$A$2:$A$10000,$B$5),INDEX(GPS_IMPORT!$2:$10000,MATCH($B$5,(GPS_IMPORT!$A$2:$A$10000),0)+ROWS($1:13)-1,COLUMN()-1),0)","v":0},{"$f":"IF(E19>0,E$22-E19,0)","v":0},0,0,false]
[14,{"$f":"IF(ROWS(GPS_IMPORT!$1:14)<=COUNTIF(GPS_IMPORT!$A$2:$A$10000,$B$5),INDEX(GPS_IMPORT!$2:$10000,MATCH($B$5,(GPS_IMPORT!$A$2:$A$10000),0)+ROWS($1:14)-1,COLUMN()-1),0)","v":0},{"$f":"IF(ROWS(GPS_IMPORT!$1:14)<=COUNTIF(GPS_IMPORT!$A$2:$A$10000,$B$5),INDEX(GPS_IMPORT!$2:$10000,MATCH($B$5,(GPS_IMPORT!$A$2:$A$10000),0)+ROWS($1:14)-1,COLUMN()-1),0)","v":"00:00:00"},{"$f":"IF(ROWS(GPS_IMPORT!$1:14)<=COUNTIF(GPS_IMPORT!$A$2:$A$10000,$B$5),INDEX(GPS_IMPORT!$2:$10000,MATCH($B$5,(GPS_IMPORT!$A$2:$A$10000),0)+ROWS($1:14)-1,COLUMN()-1),0)","v":"00:00:00"},{"$f":"IF(ROWS(GPS_IMPORT!$1:14)<=COUNTIF(GPS_IMPORT!$A$2:$A$10000,$B$5),INDEX(GPS_IMPORT!$2:$10000,MATCH($B$5,(GPS_IMPORT!$A$2:$A$10000),0)+ROWS($1:14)-1,COLUMN()-1),0)","v":0},{"$f":"IF(ROWS(GPS_IMPORT!$1:14)<=COUNTIF(GPS_IMPORT!$A$2:$A$10000,$B$5),INDEX(GPS_IMPORT!$2:$10000,MATCH($B$5,(GPS_IMPORT!$A$2:$A$10000),0)+ROWS($1:14)-1,COLUMN()-1),0)","v":0},{"$f":"IF(ROWS(GPS_IMPORT!$1:14)<=COUNTIF(GPS_IMPORT!$A$2:$A$10000,$B$5),INDEX(GPS_IMPORT!$2:$10000,MATCH($B$5,(GPS_IMPORT!$A$2:$A$10000),0)+ROWS($1:14)-1,COLUMN()-1),0)","v":0},0,0,0,false]
[15,{"$f":"IF(ROWS(GPS_IMPORT!$1:15)<=COUNTIF(GPS_IMPORT!$A$2:$A$10000,$B$5),INDEX(GPS_IMPORT!$2:$10000,MATCH($B$5,(GPS_IMPORT!$A$2:$A$10000),0)+ROWS($1:15)-1,COLUMN()-1),0)","v":0},{"$f":"IF(ROWS(GPS_IMPORT!$1:15)<=COUNTIF(GPS_IMPORT!$A$2:$A$10000,$B$5),INDEX(GPS_IMPORT!$2:$10000,MATCH($B$5,(GPS_IMPORT!$A$2:$A$10000),0)+ROWS($1:15)-1,COLUMN()-1),0)","v":"00:00:00"},{"$f":"IF(ROWS(GPS_IMPORT!$1:15)<=COUNTIF(GPS_IMPORT!$A$2:$A$10000,$B$5),INDEX(GPS_IMPORT!$2:$10000,MATCH($B$5,(GPS_IMPORT!$A$2:$A$10000),0)+ROWS($1:15)-1,COLUMN()-1),0)","v":"00:00:00"},{"$f":"IF(ROWS(GPS_IMPORT!$1:15)<=COUNTIF(GPS_IMPORT!$A$2:$A$10000,$B$5),INDEX(GPS_IMPORT!$2:$10000,MATCH($B$5,(GPS_IMPORT!$A$2:$A$10000),0)+ROWS($1:15)-1,COLUMN()-1),0)","v":0},{"$f":"IF(ROWS(GPS_IMPORT!$1:15)<=COUNTIF(GPS_IMPORT!$A$2:$A$10000,$B$5),INDEX(GPS_IMPORT!$2:$10000,MATCH($B$5,(GPS_IMPORT!$A$2:$A$10000),0)+ROWS($1:15)-1,COLUMN()-1),0)","v":0},{"$f":"IF(ROWS(GPS_IMPORT!$1:15)<=COUNTIF(GPS_IMPORT!$A$2:$A$10000,$B$5),INDEX(GPS_IMPORT!$2:$10000,MATCH($B$5,(GPS_IMPORT!$A$2:$A$10000),0)+ROWS($1:15)-1,COLUMN()-1),0)","v":0},0,0,0,false]
[null,null,null,"AVERAGE",{"$f":"(IF($K$7=TRUE,E7,0)+IF($K$8=TRUE,E8,0)+IF($K$9=TRUE,E9,0)+IF($K$10=TRUE,E10,0)+IF($K$11=TRUE,E11,0)+IF($K$12=TRUE,E12,0)+IF($K$13=TRUE,E13,0)+IF($K$14=TRUE,E14,0)+IF($K$15=TRUE,E15,0)+IF($K$16=TRUE,E16,0)+IF($K$17=TRUE,E17,0)+IF($K$18=TRUE,E18,0)+IF($K$19=TRUE,E19,0)+IF($K$20=TRUE,E20,0)+IF($K$21=TRUE,E21,0))/(IF($K$7=TRUE,1,0)+IF($K$8=TRUE,1,0)+IF($K$9=TRUE,1,0)+IF($K$10=TRUE,1,0)+IF($K$11=TRUE,1,0)+IF($K$12=TRUE,1,0)+IF($K$13=TRUE,1,0)+IF($K$14=TRUE,1,0)+IF($K$15=TRUE,1,0)+IF($K$16=TRUE,1,0)+IF($K$17=TRUE,1,0)+IF($K$18=TRUE,1,0)+IF($K$19=TRUE,1,0)+IF($K$20=TRUE,1,0)+IF($K$21=TRUE,1,0))","v":315045.20085854473},{"$f":"(IF($K$7=TRUE,F7,0)+IF($K$8=TRUE,F8,0)+IF($K$9=TRUE,F9,0)+IF($K$10=TRUE,F10,0)+IF($K$11=TRUE,F11,0)+IF($K$12=TRUE,F12,0)+IF($K$13=TRUE,F13,0)+IF($K$14=TRUE,F14,0)+IF($K$15=TRUE,F15,0)+IF($K$16=TRUE,F16,0)+IF($K$17=TRUE,F17,0)+IF($K$18=TRUE,F18,0)+IF($K$19=TRUE,F19,0)+IF($K$20=TRUE,F20,0)+IF($K$21=TRUE,F21,0))/(IF($K$7=TRUE,1,0)+IF($K$8=TRUE,1,0)+IF($K$9=TRUE,1,0)+IF($K$10=TRUE,1,0)+IF($K$11=TRUE,1,0)+IF($K$12=TRUE,1,0)+IF($K$13=TRUE,1,0)+IF($K$14=TRUE,1,0)+IF($K$15=TRUE,1,0)+IF($K$16=TRUE,1,0)+IF($K$17=TRUE,1,0)+IF($K$18=TRUE,1,0)+IF($K$19=TRUE,1,0)+IF($K$20=TRUE,1,0)+IF($K$21=TRUE,1,0))","v":2257842.2035469296},{"$f":"(IF($K$7=TRUE,G7,0)+IF($K$8=TRUE,G8,0)+IF($K$9=TRUE,G9,0)+IF($K$10=TRUE,G10,0)+IF($K$11=TRUE,G11,0)+IF($K$12=TRUE,G12,0)+IF($K$13=TRUE,G13,0)+IF($K$14=TRUE,G14,0)+IF($K$15=TRUE,G15,0)+IF($K$16=TRUE,G16,0)+IF($K$17=TRUE,G17,0)+IF($K$18=TRUE,G18,0)+IF($K$19=TRUE,G19,0)+IF($K$20=TRUE,G20,0)+IF($K$21=TRUE,G21,0))/\n(IF($K$7=TRUE,1,0)+IF($K$8=TRUE,1,0)+IF($K$9=TRUE,1,0)+IF($K$10=TRUE,1,0)+IF($K$11=TRUE,1,0)+IF($K$12=TRUE,1,0)+IF($K$13=TRUE,1,0)+IF($K$14=TRUE,1,0)+IF($K$15=TRUE,1,0)+IF($K$16=TRUE,1,0)+IF($K$17=TRUE,1,0)+IF($K$18=TRUE,1,0)+IF($K$19=TRUE,1,0)+IF($K$20=TRUE,1,0)+IF($K$21=TRUE,1,0))","v":902.4574900810685},"RMSE:","RMSE:","RMSE:"]
[null,null,null,null,null,null,"RMSE IN US SURVEY FEET:",{"$f":"SQRT((\n(IF($K$7=TRUE,H7^2,0))+(IF($K$8=TRUE,H8^2,0))+(IF($K$9=TRUE,H9^2,0))+(IF($K$10=TRUE,H10^2,0))+(IF($K$11=TRUE,H11^2,0))+(IF($K$12=TRUE,H12^2,0))+(IF($K$13=TRUE,H13^2,0))+(IF($K$14=TRUE,H14^2,0))+(IF($K$15=TRUE,H15^2,0))+(IF($K$16=TRUE,H16^2,0))+(IF($K$17=TRUE,H17^2,0))+(IF($K$18=TRUE,H18^2,0))+(IF($K$19=TRUE,H19^2,0))+(IF($K$20=TRUE,H20^2,0))+(IF($K$21=TRUE,H21^2,0)))/\n(IF($K$7=TRUE,1,0)+IF($K$8=TRUE,1,0)+IF($K$9=TRUE,1,0)+IF($K$10=TRUE,1,0)+IF($K$11=TRUE,1,0)+IF($K$12=TRUE,1,0)+IF($K$13=TRUE,1,0)+IF($K$14=TRUE,1,0)+IF($K$15=TRUE,1,0)+IF($K$16=TRUE,1,0)+IF($K$17=TRUE,1,0)+IF($K$18=TRUE,1,0)+IF($K$19=TRUE,1,0)+IF($K$20=TRUE,1,0)+IF($K$21=TRUE,1,0)))","v":5.0726735215591012E-3},{"$f":"SQRT((\n(IF($K$7=TRUE,I7^2,0))+(IF($K$8=TRUE,I8^2,0))+(IF($K$9=TRUE,I9^2,0))+(IF($K$10=TRUE,I10^2,0))+(IF($K$11=TRUE,I11^2,0))+(IF($K$12=TRUE,I12^2,0))+(IF($K$13=TRUE,I13^2,0))+(IF($K$14=TRUE,I14^2,0))+(IF($K$15=TRUE,I15^2,0))+(IF($K$16=TRUE,I16^2,0))+(IF($K$17=TRUE,I17^2,0))+(IF($K$18=TRUE,I18^2,0))+(IF($K$19=TRUE,I19^2,0))+(IF($K$20=TRUE,I20^2,0))+(IF($K$21=TRUE,I21^2,0)))/\n(IF($K$7=TRUE,1,0)+IF($K$8=TRUE,1,0)+IF($K$9=TRUE,1,0)+IF($K$10=TRUE,1,0)+IF($K$11=TRUE,1,0)+IF($K$12=TRUE,1,0)+IF($K$13=TRUE,1,0)+IF($K$14=TRUE,1,0)+IF($K$15=TRUE,1,0)+IF($K$16=TRUE,1,0)+IF($K$17=TRUE,1,0)+IF($K$18=TRUE,1,0)+IF($K$19=TRUE,1,0)+IF($K$20=TRUE,1,0)+IF($K$21=TRUE,1,0)))","v":3.3999688182954082E-3},{"$f":"SQRT((\n(IF($K$7=TRUE,J7^2,0))+(IF($K$8=TRUE,J8^2,0))+(IF($K$9=TRUE,J9^2,0))+(IF($K$10=TRUE,J10^2,0))+(IF($K$11=TRUE,J11^2,0))+(IF($K$12=TRUE,J12^2,0))+(IF($K$13=TRUE,J13^2,0))+(IF($K$14=TRUE,J14^2,0))+(IF($K$15=TRUE,J15^2,0))+(IF($K$16=TRUE,J16^2,0))+(IF($K$17=TRUE,J17^2,0))+(IF($K$18=TRUE,J18^2,0))+(IF($K$19=TRUE,J19^2,0))+(IF($K$20=TRUE,J20^2,0))+(IF($K$21=TRUE,J21^2,0)))/\n(IF($K$7=TRUE,1,0)+IF($K$8=TRUE,1,0)+IF($K$9=TRUE,1,0)+IF($K$10=TRUE,1,0)+IF($K$11=TRUE,1,0)+IF($K$12=TRUE,1,0)+IF($K$13=TRUE,1,0)+IF($K$14=TRUE,1,0)+IF($K$15=TRUE,1,0)+IF($K$16=TRUE,1,0)+IF($K$17=TRUE,1,0)+IF($K$18=TRUE,1,0)+IF($K$19=TRUE,1,0)+IF($K$20=TRUE,1,0)+IF($K$21=TRUE,1,0)))","v":1.1253845875012266E-2}]
[null,null,null,1]
[null,null,"UNITLESS GRID TO GROUND MULTIPLIER",0,null,null,null,{"$f":"IF(H23<=0.029,\"PASS\",\"FAIL\")","v":"PASS"},{"$f":"IF(I23<=0.029,\"PASS\",\"FAIL\")","v":"PASS"},{"$f":"IF(J23<=0.039,\"PASS\",\"FAIL\")","v":"PASS"}]
[]
["AVERAGED GPS-DERIVED POSITION",null,null,null,null,null,null,null,"Notes:"]
[null,"MONUMENT COORDINATES",null,"NORTHING","EASTING","ORTHO HEIGHT"]
[null,"US Survey Feet (GRID)",null,{"$f":"$E$22","v":315045.20085854473},{"$f":"$F$22","v":2257842.2035469296},{"$f":"$G$22","v":902.4574900810685}]
[]
["LEVELED ELEVATION"]
["US SURVEY FEET",null,"N/A","(Type the leveled elevation or N/A if no leveled elevation is available)"]
["MONUMENT HELD",null,null,"(Type the monument name from which leveling originated)"]
["LEVELED ELEVATION - GPS DERIVED ELEVATION   = ",null,null,null,{"$f":"IF(C32=\"N/A\",\"N/A\",C32-(F29*D24))","v":"N/A"}]
[]
["FINAL MONUMENT COORDINATES"]
[null,"MONUMENT COORDINATES",null,"NORTHING","EASTING","ELEVATION","FEATURE CODE"]
[null,"US SURVEY FEET (GRID)",null,{"$f":"$E$22*$D$24","v":315045.20085854473},{"$f":"$F$22*$D$24","v":2257842.2035469296},{"$f":"IF($C$32=\"N/A\",($G$22*$D$24),$C$32)","v":902.4574900810685},"AERTAR"]
[null,"US SURVEY FEET (GROUND)",null,{"$f":"$D$38*$D$25","v":0},{"$f":"$E$38*$D$25","v":0},{"$f":"IF($C$32=\"N/A\",($G$22*$D$24),$C$32)","v":902.4574900810685},{"$f":"G38","v":"AERTAR"}]
[]
["∆ North,  ∆ East, and ∆ Ht. are the difference between the average northing, easting, and height for each observation.",null,null,null,null,null,null,null,"Mask Angle:","10°"]

{"sheet":"GS3","index":9,"n_rows":41,"n_cols":11,"rows_kept":41,"cut":false,"hidden":false,"merged":[[0,0,0,10],[26,0,26,6],[27,1,27,2],[27,8,38,10],[28,1,28,2],[30,0,30,6],[35,0,35,6],[36,1,36,2],[37,1,37,2],[38,1,38,2]]}
["VRS GNSS Project Control Monument Coordinate Analysis"]
[]
["Project:",{"$f":"REPORT!B2","v":"TUS-800-22.74"},"GPS Antenna:","LEICA GS14",null,null,null,null,null,"Report Date:",{"$f":"REPORT!C49","v":"2018-12-19"}]
["PID:",{"$f":"REPORT!E2","v":100603},"VRS Network:","ODOT VRS",null,null,null,null,null,"Prepared By:",{"$f":"REPORT!C48","v":"Kolton Wilson"}]
["Point ID:","GS3","No. of Sessions:",{"$f":"COUNTIF(GPS_IMPORT!A2:A1000,$B$5)","v":12},null,null,null,null,null,"Checked By:",{"$f":"REPORT!C52","v":"Joel Swick"}]
["SESSION #","Point","Observation Date","Start Time","Northing(sft)","Easting(sft)","Height(sft)","∆ Northing(sft)","∆ Easting(sft)","∆ Height(sft)","Include in Solution?"]
[1,{"$f":"IF(ROWS(GPS_IMPORT!$1:1)<=COUNTIF(GPS_IMPORT!$A$2:$A$10000,$B$5),INDEX(GPS_IMPORT!$2:$10000,MATCH($B$5,(GPS_IMPORT!$A$2:$A$10000),0)+ROWS($1:1)-1,COLUMN()-1),0)","v":"GS3"},{"$f":"IF(ROWS(GPS_IMPORT!$1:1)<=COUNTIF(GPS_IMPORT!$A$2:$A$10000,$B$5),INDEX(GPS_IMPORT!$2:$10000,MATCH($B$5,(GPS_IMPORT!$A$2:$A$10000),0)+ROWS($1:1)-1,COLUMN()-1),0)","v":"12.18.2018"},{"$f":"IF(ROWS(GPS_IMPORT!$1:1)<=COUNTIF(GPS_IMPORT!$A$2:$A$10000,$B$5),INDEX(GPS_IMPORT!$2:$10000,MATCH($B$5,(GPS_IMPORT!$A$2:$A$10000),0)+ROWS($1:1)-1,COLUMN()-1),0)","v":" 9:23:58.8000"},{"$f":"IF(ROWS(GPS_IMPORT!$1:1)<=COUNTIF(GPS_IMPORT!$A$2:$A$10000,$B$5),INDEX(GPS_IMPORT!$2:$10000,MATCH($B$5,(GPS_IMPORT!$A$2:$A$10000),0)+ROWS($1:1)-1,COLUMN()-1),0)","v":313946.227047747},{"$f":"IF(ROWS(GPS_IMPORT!$1:1)<=COUNTIF(GPS_IMPORT!$A$2:$A$10000,$B$5),INDEX(GPS_IMPORT!$2:$10000,MATCH($B$5,(GPS_IMPORT!$A$2:$A$10000),0)+ROWS($1:1)-1,COLUMN()-1),0)","v":2258275.22233022},{"$f":"IF(ROWS(GPS_IMPORT!$1:1)<=COUNTIF(GPS_IMPORT!$A$2:$A$10000,$B$5),INDEX(GPS_IMPORT!$2:$10000,MATCH($B$5,(GPS_IMPORT!$A$2:$A$10000),0)+ROWS($1:1)-1,COLUMN()-1),0)","v":875.73501143198996},{"$f":"IF(E7>0,E$22-E7,0)","v":3.8312650285661221E-3},-7.6508866623044014E-3,4.5720057975131567E-3,true]
[2,{"$f":"IF(ROWS(GPS_IMPORT!$1:2)<=COUNTIF(GPS_IMPORT!$A$2:$A$10000,$B$5),INDEX(GPS_IMPORT!$2:$10000,MATCH($B$5,(GPS_IMPORT!$A$2:$A$10000),0)+ROWS($1:2)-1,COLUMN()-1),0)","v":"GS3"},{"$f":"IF(ROWS(GPS_IMPORT!$1:2)<=COUNTIF(GPS_IMPORT!$A$2:$A$10000,$B$5),INDEX(GPS_IMPORT!$2:$10000,MATCH($B$5,(GPS_IMPORT!$A$2:$A$10000),0)+ROWS($1:2)-1,COLUMN()-1),0)","v":"12.18.2018"},{"$f":"IF(ROWS(GPS_IMPORT!$1:2)<=COUNTIF(GPS_IMPORT!$A$2:$A$10000,$B$5),INDEX(GPS_IMPORT!$2:$10000,MATCH($B$5,(GPS_IMPORT!$A$2:$A$10000),0)+ROWS($1:2)-1,COLUMN()-1),0)","v":" 9:24:9.9200"},{"$f":"IF(ROWS(GPS_IMPORT!$1:2)<=COUNTIF(GPS_IMPORT!$A$2:$A$10000,$B$5),INDEX(GPS_IMPORT!$2:$10000,MATCH($B$5,(GPS_IMPORT!$A$2:$A$10000),0)+ROWS($1:2)-1,COLUMN()-1),0)","v":313946.22239665},{"$f":"IF(ROWS(GPS_IMPORT!$1:2)<=COUNTIF(GPS_IMPORT!$A$2:$A$10000,$B$5),INDEX(GPS_IMPORT!$2:$10000,MATCH($B$5,(GPS_IMPORT!$A$2:$A$10000),0)+ROWS($1:2)-1,COLUMN()-1),0)","v":2258275.2185919699},{"$f":"IF(ROWS(GPS_IMPORT!$1:2)<=COUNTIF(GPS_IMPORT!$A$2:$A$10000,$B$5),INDEX(GPS_IMPORT!$2:$10000,MATCH($B$5,(GPS_IMPORT!$A$2:$A$10000),0)+ROWS($1:2)-1,COLUMN()-1),0)","v":875.73382478029998},8.4823620272800326E-3,-3.9126365445554256E-3,5.7586574874903818E-3,true]
[3,{"$f":"IF(ROWS(GPS_IMPORT!$1:3)<=COUNTIF(GPS_IMPORT!$A$2:$A$10000,$B$5),INDEX(GPS_IMPORT!$2:$10000,MATCH($B$5,(GPS_IMPORT!$A$2:$A$10000),0)+ROWS($1:3)-1,COLUMN()-1),0)","v":"GS3"},{"$f":"IF(ROWS(GPS_IMPORT!$1:3)<=COUNTIF(GPS_IMPORT!$A$2:$A$10000,$B$5),INDEX(GPS_IMPORT!$2:$10000,MATCH($B$5,(GPS_IMPORT!$A$2:$A$10000),0)+ROWS($1:3)-1,COLUMN()-1),0)","v":"12.18.2018"},{"$f":"IF(ROWS(GPS_IMPORT!$1:3)<=COUNTIF(GPS_IMPORT!$A$2:$A$10000,$B$5),INDEX(GPS_IMPORT!$2:$10000,MATCH($B$5,(GPS_IMPORT!$A$2:$A$10000),0)+ROWS($1:3)-1,COLUMN()-1),0)","v":" 9:24:20.8500"},{"$f":"IF(ROWS(GPS_IMPORT!$1:3)<=COUNTIF(GPS_IMPORT!$A$2:$A$10000,$B$5),INDEX(GPS_IMPORT!$2:$10000,MATCH($B$5,(GPS_IMPORT!$A$2:$A$10000),0)+ROWS($1:3)-1,COLUMN()-1),0)","v":313946.22753460403},{"$f":"IF(ROWS(GPS_IMPORT!$1:3)<=COUNTIF(GPS_IMPORT!$A$2:$A$10000,$B$5),INDEX(GPS_IMPORT!$2:$10000,MATCH($B$5,(GPS_IMPORT!$A$2:$A$10000),0)+ROWS($1:3)-1,COLUMN()-1),0)","v":2258275.2114705499},{"$f":"IF(ROWS(GPS_IMPORT!$1:3)<=COUNTIF(GPS_IMPORT!$A$2:$A$10000,$B$5),INDEX(GPS_IMPORT!$2:$10000,MATCH($B$5,(GPS_IMPORT!$A$2:$A$10000),0)+ROWS($1:3)-1,COLUMN()-1),0)","v":875.72921087449004},3.3444080036133528E-3,3.2087834551930428E-3,1.0372563297437409E-2,true]
[4,{"$f":"IF(ROWS(GPS_IMPORT!$1:4)<=COUNTIF(GPS_IMPORT!$A$2:$A$10000,$B$5),INDEX(GPS_IMPORT!$2:$10000,MATCH($B$5,(GPS_IMPORT!$A$2:$A$10000),0)+ROWS($1:4)-1,COLUMN()-1),0)","v":"GS3"},{"$f":"IF(ROWS(GPS_IMPORT!$1:4)<=COUNTIF(GPS_IMPORT!$A$2:$A$10000,$B$5),INDEX(GPS_IMPORT!$2:$10000,MATCH($B$5,(GPS_IMPORT!$A$2:$A$10000),0)+ROWS($1:4)-1,COLUMN()-1),0)","v":"12.18.2018"},{"$f":"IF(ROWS(GPS_IMPORT!$1:4)<=COUNTIF(GPS_IMPORT!$A$2:$A$10000,$B$5),INDEX(GPS_IMPORT!$2:$10000,MATCH($B$5,(GPS_IMPORT!$A$2:$A$10000),0)+ROWS($1:4)-1,COLUMN()-1),0)","v":" 9:24:41.8000"},{"$f":"IF(ROWS(GPS_IMPORT!$1:4)<=COUNTIF(GPS_IMPORT!$A$2:$A$10000,$B$5),INDEX(GPS_IMPORT!$2:$10000,MATCH($B$5,(GPS_IMPORT!$A$2:$A$10000),0)+ROWS($1:4)-1,COLUMN()-1),0)","v":313946.22496447602},{"$f":"IF(ROWS(GPS_IMPORT!$1:4)<=COUNTIF(GPS_IMPORT!$A$2:$A$10000,$B$5),INDEX(GPS_IMPORT!$2:$10000,MATCH($B$5,(GPS_IMPORT!$A$2:$A$10000),0)+ROWS($1:4)-1,COLUMN()-1),0)","v":2258275.2155935299},{"$f":"IF(ROWS(GPS_IMPORT!$1:4)<=COUNTIF(GPS_IMPORT!$A$2:$A$10000,$B$5),INDEX(GPS_IMPORT!$2:$10000,MATCH($B$5,(GPS_IMPORT!$A$2:$A$10000),0)+ROWS($1:4)-1,COLUMN()-1),0)","v":875.74300898361003},5.9145360137335956E-3,-9.1419648379087448E-4,-3.4255458225516122E-3,true]
[5,{"$f":"IF(ROWS(GPS_IMPORT!$1:5)<=COUNTIF(GPS_IMPORT!$A$2:$A$10000,$B$5),INDEX(GPS_IMPORT!$2:$10000,MATCH($B$5,(GPS_IMPORT!$A$2:$A$10000),0)+ROWS($1:5)-1,COLUMN()-1),0)","v":"GS3"},{"$f":"IF(ROWS(GPS_IMPORT!$1:5)<=COUNTIF(GPS_IMPORT!$A$2:$A$10000,$B$5),INDEX(GPS_IMPORT!$2:$10000,MATCH($B$5,(GPS_IMPORT!$A$2:$A$10000),0)+ROWS($1:5)-1,COLUMN()-1),0)","v":"12.18.2018"},{"$f":"IF(ROWS(GPS_IMPORT!$1:5)<=COUNTIF(GPS_IMPORT!$A$2:$A$10000,$B$5),INDEX(GPS_IMPORT!$2:$10000,MATCH($B$5,(GPS_IMPORT!$A$2:$A$10000),0)+ROWS($1:5)-1,COLUMN()-1),0)","v":" 9:24:52.6700"},{"$f":"IF(ROWS(GPS_IMPORT!$1:5)<=COUNTIF(GPS_IMPORT!$A$2:$A$10000,$B$5),INDEX(GPS_IMPORT!$2:$10000,MATCH($B$5,(GPS_IMPORT!$A$2:$A$10000),0)+ROWS($1:5)-1,COLUMN()-1),0)","v":313946.22694213199},{"$f":"IF(ROWS(GPS_IMPORT!$1:5)<=COUNTIF(GPS_IMPORT!$A$2:$A$10000,$B$5),INDEX(GPS_IMPORT!$2:$10000,MATCH($B$5,(GPS_IMPORT!$A$2:$A$10000),0)+ROWS($1:5)-1,COLUMN()-1),0)","v":2258275.2143366798},{"$f":"IF(ROWS(GPS_IMPORT!$1:5)<=COUNTIF(GPS_IMPORT!$A$2:$A$10000,$B$5),INDEX(GPS_IMPORT!$2:$10000,MATCH($B$5,(GPS_IMPORT!$A$2:$A$10000),0)+ROWS($1:5)-1,COLUMN()-1),0)","v":875.73716919942001},3.9368800353258848E-3,3.4265359863638878E-4,2.4142383674643497E-3,true]
[6,{"$f":"IF(ROWS(GPS_IMPORT!$1:6)<=COUNTIF(GPS_IMPORT!$A$2:$A$10000,$B$5),INDEX(GPS_IMPORT!$2:$10000,MATCH($B$5,(GPS_IMPORT!$A$2:$A$10000),0)+ROWS($1:6)-1,COLUMN()-1),0)","v":"GS3"},{"$f":"IF(ROWS(GPS_IMPORT!$1:6)<=COUNTIF(GPS_IMPORT!$A$2:$A$10000,$B$5),INDEX(GPS_IMPORT!$2:$10000,MATCH($B$5,(GPS_IMPORT!$A$2:$A$10000),0)+ROWS($1:6)-1,COLUMN()-1),0)","v":"12.18.2018"},{"$f":"IF(ROWS(GPS_IMPORT!$1:6)<=COUNTIF(GPS_IMPORT!$A$2:$A$10000,$B$5),INDEX(GPS_IMPORT!$2:$10000,MATCH($B$5,(GPS_IMPORT!$A$2:$A$10000),0)+ROWS($1:6)-1,COLUMN()-1),0)","v":" 9:25:4.9900"},{"$f":"IF(ROWS(GPS_IMPORT!$1:6)<=COUNTIF(GPS_IMPORT!$A$2:$A$10000,$B$5),INDEX(GPS_IMPORT!$2:$10000,MATCH($B$5,(GPS_IMPORT!$A$2:$A$10000),0)+ROWS($1:6)-1,COLUMN()-1),0)","v":313946.235927701},{"$f":"IF(ROWS(GPS_IMPORT!$1:6)<=COUNTIF(GPS_IMPORT!$A$2:$A$10000,$B$5),INDEX(GPS_IMPORT!$2:$10000,MATCH($B$5,(GPS_IMPORT!$A$2:$A$10000),0)+ROWS($1:6)-1,COLUMN()-1),0)","v":2258275.2090097801},{"$f":"IF(ROWS(GPS_IMPORT!$1:6)<=COUNTIF(GPS_IMPORT!$A$2:$A$10000,$B$5),INDEX(GPS_IMPORT!$2:$10000,MATCH($B$5,(GPS_IMPORT!$A$2:$A$10000),0)+ROWS($1:6)-1,COLUMN()-1),0)","v":875.73469356379996},-5.048688966780901E-3,5.6695532985031605E-3,4.8898739875085084E-3,true]
[7,{"$f":"IF(ROWS(GPS_IMPORT!$1:7)<=COUNTIF(GPS_IMPORT!$A$2:$A$10000,$B$5),INDEX(GPS_IMPORT!$2:$10000,MATCH($B$5,(GPS_IMPORT!$A$2:$A$10000),0)+ROWS($1:7)-1,COLUMN()-1),0)","v":"GS3"},{"$f":"IF(ROWS(GPS_IMPORT!$1:7)<=COUNTIF(GPS_IMPORT!$A$2:$A$10000,$B$5),INDEX(GPS_IMPORT!$2:$10000,MATCH($B$5,(GPS_IMPORT!$A$2:$A$10000),0)+ROWS($1:7)-1,COLUMN()-1),0)","v":"12.18.2018"},{"$f":"IF(ROWS(GPS_IMPORT!$1:7)<=COUNTIF(GPS_IMPORT!$A$2:$A$10000,$B$5),INDEX(GPS_IMPORT!$2:$10000,MATCH($B$5,(GPS_IMPORT!$A$2:$A$10000),0)+ROWS($1:7)-1,COLUMN()-1),0)","v":" 9:25:17.0500"},{"$f":"IF(ROWS(GPS_IMPORT!$1:7)<=COUNTIF(GPS_IMPORT!$A$2:$A$10000,$B$5),INDEX(GPS_IMPORT!$2:$10000,MATCH($B$5,(GPS_IMPORT!$A$2:$A$10000),0)+ROWS($1:7)-1,COLUMN()-1),0)","v":313946.24171187199},{"$f":"IF(ROWS(GPS_IMPORT!$1:7)<=COUNTIF(GPS_IMPORT!$A$2:$A$10000,$B$5),INDEX(GPS_IMPORT!$2:$10000,MATCH($B$5,(GPS_IMPORT!$A$2:$A$10000),0)+ROWS($1:7)-1,COLUMN()-1),0)","v":2258275.2136526201},{"$f":"IF(ROWS(GPS_IMPORT!$1:7)<=COUNTIF(GPS_IMPORT!$A$2:$A$10000,$B$5),INDEX(GPS_IMPORT!$2:$10000,MATCH($B$5,(GPS_IMPORT!$A$2:$A$10000),0)+ROWS($1:7)-1,COLUMN()-1),0)","v":875.74971731603},-1.0832859959919006E-2,1.0267132893204689E-3,-1.0133878242527317E-2,true]
[8,{"$f":"IF(ROWS(GPS_IMPORT!$1:8)<=COUNTIF(GPS_IMPORT!$A$2:$A$10000,$B$5),INDEX(GPS_IMPORT!$2:$10000,MATCH($B$5,(GPS_IMPORT!$A$2:$A$10000),0)+ROWS($1:8)-1,COLUMN()-1),0)","v":"GS3"},{"$f":"IF(ROWS(GPS_IMPORT!$1:8)<=COUNTIF(GPS_IMPORT!$A$2:$A$10000,$B$5),INDEX(GPS_IMPORT!$2:$10000,MATCH($B$5,(GPS_IMPORT!$A$2:$A$10000),0)+ROWS($1:8)-1,COLUMN()-1),0)","v":"12.18.2018"},{"$f":"IF(ROWS(GPS_IMPORT!$1:8)<=COUNTIF(GPS_IMPORT!$A$2:$A$10000,$B$5),INDEX(GPS_IMPORT!$2:$10000,MATCH($B$5,(GPS_IMPORT!$A$2:$A$10000),0)+ROWS($1:8)-1,COLUMN()-1),0)","v":" 9:25:27.9400"},{"$f":"IF(ROWS(GPS_IMPORT!$1:8)<=COUNTIF(GPS_IMPORT!$A$2:$A$10000,$B$5),INDEX(GPS_IMPORT!$2:$10000,MATCH($B$5,(GPS_IMPORT!$A$2:$A$10000),0)+ROWS($1:8)-1,COLUMN()-1),0)","v":313946.229398},{"$f":"IF(ROWS(GPS_IMPORT!$1:8)<=COUNTIF(GPS_IMPORT!$A$2:$A$10000,$B$5),INDEX(GPS_IMPORT!$2:$10000,MATCH($B$5,(GPS_IMPORT!$A$2:$A$10000),0)+ROWS($1:8)-1,COLUMN()-1),0)","v":2258275.2109666602},{"$f":"IF(ROWS(GPS_IMPORT!$1:8)<=COUNTIF(GPS_IMPORT!$A$2:$A$10000,$B$5),INDEX(GPS_IMPORT!$2:$10000,MATCH($B$5,(GPS_IMPORT!$A$2:$A$10000),0)+ROWS($1:8)-1,COLUMN()-1),0)","v":875.76033934347004},1.4810120337642729E-3,3.7126732058823109E-3,-2.0755905682563025E-2,true]
[9,{"$f":"IF(ROWS(GPS_IMPORT!$1:9)<=COUNTIF(GPS_IMPORT!$A$2:$A$10000,$B$5),INDEX(GPS_IMPORT!$2:$10000,MATCH($B$5,(GPS_IMPORT!$A$2:$A$10000),0)+ROWS($1:9)-1,COLUMN()-1),0)","v":"GS3"},{"$f":"IF(ROWS(GPS_IMPORT!$1:9)<=COUNTIF(GPS_IMPORT!$A$2:$A$10000,$B$5),INDEX(GPS_IMPORT!$2:$10000,MATCH($B$5,(GPS_IMPORT!$A$2:$A$10000),0)+ROWS($1:9)-1,COLUMN()-1),0)","v":"12.18.2018"},{"$f":"IF(ROWS(GPS_IMPORT!$1:9)<=COUNTIF(GPS_IMPORT!$A$2:$A$10000,$B$5),INDEX(GPS_IMPORT!$2:$10000,MATCH($B$5,(GPS_IMPORT!$A$2:$A$10000),0)+ROWS($1:9)-1,COLUMN()-1),0)","v":" 9:25:48.6400"},{"$f":"IF(ROWS(GPS_IMPORT!$1:9)<=COUNTIF(GPS_IMPORT!$A$2:$A$10000,$B$5),INDEX(GPS_IMPORT!$2:$10000,MATCH($B$5,(GPS_IMPORT!$A$2:$A$10000),0)+ROWS($1:9)-1,COLUMN()-1),0)","v":313946.22765225498},{"$f":"IF(ROWS(GPS_IMPORT!$1:9)<=COUNTIF(GPS_IMPORT!$A$2:$A$10000,$B$5),INDEX(GPS_IMPORT!$2:$10000,MATCH($B$5,(GPS_IMPORT!$A$2:$A$10000),0)+ROWS($1:9)-1,COLUMN()-1),0)","v":2258275.21080575},{"$f":"IF(ROWS(GPS_IMPORT!$1:9)<=COUNTIF(GPS_IMPORT!$A$2:$A$10000,$B$5),INDEX(GPS_IMPORT!$2:$10000,MATCH($B$5,(GPS_IMPORT!$A$2:$A$10000),0)+ROWS($1:9)-1,COLUMN()-1),0)","v":875.74906009633003},3.2267570495605469E-3,3.8735833950340748E-3,-9.4766585425531957E-3,true]
[10,{"$f":"IF(ROWS(GPS_IMPORT!$1:10)<=COUNTIF(GPS_IMPORT!$A$2:$A$10000,$B$5),INDEX(GPS_IMPORT!$2:$10000,MATCH($B$5,(GPS_IMPORT!$A$2:$A$10000),0)+ROWS($1:10)-1,COLUMN()-1),0)","v":"GS3"},{"$f":"IF(ROWS(GPS_IMPORT!$1:10)<=COUNTIF(GPS_IMPORT!$A$2:$A$10000,$B$5),INDEX(GPS_IMPORT!$2:$10000,MATCH($B$5,(GPS_IMPORT!$A$2:$A$10000),0)+ROWS($1:10)-1,COLUMN()-1),0)","v":"12.18.2018"},{"$f":"IF(ROWS(GPS_IMPORT!$1:10)<=COUNTIF(GPS_IMPORT!$A$2:$A$10000,$B$5),INDEX(GPS_IMPORT!$2:$10000,MATCH($B$5,(GPS_IMPORT!$A$2:$A$10000),0)+ROWS($1:10)-1,COLUMN()-1),0)","v":" 9:26:0.0000"},{"$f":"IF(ROWS(GPS_IMPORT!$1:10)<=COUNTIF(GPS_IMPORT!$A$2:$A$10000,$B$5),INDEX(GPS_IMPORT!$2:$10000,MATCH($B$5,(GPS_IMPORT!$A$2:$A$10000),0)+ROWS($1:10)-1,COLUMN()-1),0)","v":313946.23550482001},{"$f":"IF(ROWS(GPS_IMPORT!$1:10)<=COUNTIF(GPS_IMPORT!$A$2:$A$10000,$B$5),INDEX(GPS_IMPORT!$2:$10000,MATCH($B$5,(GPS_IMPORT!$A$2:$A$10000),0)+ROWS($1:10)-1,COLUMN()-1),0)","v":2258275.2101714099},{"$f":"IF(ROWS(GPS_IMPORT!$1:10)<=COUNTIF(GPS_IMPORT!$A$2:$A$10000,$B$5),INDEX(GPS_IMPORT!$2:$10000,MATCH($B$5,(GPS_IMPORT!$A$2:$A$10000),0)+ROWS($1:10)-1,COLUMN()-1),0)","v":875.73900678256996},-4.6258079819381237E-3,4.507923498749733E-3,5.7665521751459892E-4,true]
[11,{"$f":"IF(ROWS(GPS_IMPORT!$1:11)<=COUNTIF(GPS_IMPORT!$A$2:$A$10000,$B$5),INDEX(GPS_IMPORT!$2:$10000,MATCH($B$5,(GPS_IMPORT!$A$2:$A$10000),0)+ROWS($1:11)-1,COLUMN()-1),0)","v":"GS3"},{"$f":"IF(ROWS(GPS_IMPORT!$1:11)<=COUNTIF(GPS_IMPORT!$A$2:$A$10000,$B$5),INDEX(GPS_IMPORT!$2:$10000,MATCH($B$5,(GPS_IMPORT!$A$2:$A$10000),0)+ROWS($1:11)-1,COLUMN()-1),0)","v":"12.18.2018"},{"$f":"IF(ROWS(GPS_IMPORT!$1:11)<=COUNTIF(GPS_IMPORT!$A$2:$A$10000,$B$5),INDEX(GPS_IMPORT!$2:$10000,MATCH($B$5,(GPS_IMPORT!$A$2:$A$10000),0)+ROWS($1:11)-1,COLUMN()-1),0)","v":" 9:26:11.9800"},{"$f":"IF(ROWS(GPS_IMPORT!$1:11)<=COUNTIF(GPS_IMPORT!$A$2:$A$10000,$B$5),INDEX(GPS_IMPORT!$2:$10000,MATCH($B$5,(GPS_IMPORT!$A$2:$A$10000),0)+ROWS($1:11)-1,COLUMN()-1),0)","v":313946.23836553202},{"$f":"IF(ROWS(GPS_IMPORT!$1:11)<=COUNTIF(GPS_IMPORT!$A$2:$A$10000,$B$5),INDEX(GPS_IMPORT!$2:$10000,MATCH($B$5,(GPS_IMPORT!$A$2:$A$10000),0)+ROWS($1:11)-1,COLUMN()-1),0)","v":2258275.2192111802},{"$f":"IF(ROWS(GPS_IMPORT!$1:11)<=COUNTIF(GPS_IMPORT!$A$2:$A$10000,$B$5),INDEX(GPS_IMPORT!$2:$10000,MATCH($B$5,(GPS_IMPORT!$A$2:$A$10000),0)+ROWS($1:11)-1,COLUMN()-1),0)","v":875.73551195881998},-7.486519985832274E-3,-4.5318468473851681E-3,4.0714789674893836E-3,true]
[12,{"$f":"IF(ROWS(GPS_IMPORT!$1:12)<=COUNTIF(GPS_IMPORT!$A$2:$A$10000,$B$5),INDEX(GPS_IMPORT!$2:$10000,MATCH($B$5,(GPS_IMPORT!$A$2:$A$10000),0)+ROWS($1:12)-1,COLUMN()-1),0)","v":"GS3"},{"$f":"IF(ROWS(GPS_IMPORT!$1:12)<=COUNTIF(GPS_IMPORT!$A$2:$A$10000,$B$5),INDEX(GPS_IMPORT!$2:$10000,MATCH($B$5,(GPS_IMPORT!$A$2:$A$10000),0)+ROWS($1:12)-1,COLUMN()-1),0)","v":"12.18.2018"},{"$f":"IF(ROWS(GPS_IMPORT!$1:12)<=COUNTIF(GPS_IMPORT!$A$2:$A$10000,$B$5),INDEX(GPS_IMPORT!$2:$10000,MATCH($B$5,(GPS_IMPORT!$A$2:$A$10000),0)+ROWS($1:12)-1,COLUMN()-1),0)","v":" 9:26:26.9600"},{"$f":"IF(ROWS(GPS_IMPORT!$1:12)<=COUNTIF(GPS_IMPORT!$A$2:$A$10000,$B$5),INDEX(GPS_IMPORT!$2:$10000,MATCH($B$5,(GPS_IMPORT!$A$2:$A$10000),0)+ROWS($1:12)-1,COLUMN()-1),0)","v":313946.23310235498},{"$f":"IF(ROWS(GPS_IMPORT!$1:12)<=COUNTIF(GPS_IMPORT!$A$2:$A$10000,$B$5),INDEX(GPS_IMPORT!$2:$10000,MATCH($B$5,(GPS_IMPORT!$A$2:$A$10000),0)+ROWS($1:12)-1,COLUMN()-1),0)","v":2258275.2200116501},{"$f":"IF(ROWS(GPS_IMPORT!$1:12)<=COUNTIF(GPS_IMPORT!$A$2:$A$10000,$B$5),INDEX(GPS_IMPORT!$2:$10000,MATCH($B$5,(GPS_IMPORT!$A$2:$A$10000),0)+ROWS($1:12)-1,COLUMN()-1),0)","v":875.72844692262004},-2.223342948127538E-3,-5.3323167376220226E-3,1.1136515167436301E-2,true]
[13,{"$f":"IF(ROWS(GPS_IMPORT!$1:13)<=COUNTIF(GPS_IMPORT!$A$2:$A$10000,$B$5),INDEX(GPS_IMPORT!$2:$10000,MATCH($B$5,(GPS_IMPORT!$A$2:$A$10000),0)+ROWS($1:13)-1,COLUMN()-1),0)","v":0},{"$f":"IF(ROWS(GPS_IMPORT!$1:13)<=COUNTIF(GPS_IMPORT!$A$2:$A$10000,$B$5),INDEX(GPS_IMPORT!$2:$10000,MATCH($B$5,(GPS_IMPORT!$A$2:$A$10000),0)+ROWS($1:13)-1,COLUMN()-1),0)","v":"00:00:00"},{"$f":"IF(ROWS(GPS_IMPORT!$1:13)<=COUNTIF(GPS_IMPORT!$A$2:$A$10000,$B$5),INDEX(GPS_IMPORT!$2:$10000,MATCH($B$5,(GPS_IMPORT!$A$2:$A$10000),0)+ROWS($1:13)-1,COLUMN()-1),0)","v":"00:00:00"},{"$f":"IF(ROWS(GPS_IMPORT!$1:13)<=COUNTIF(GPS_IMPORT!$A$2:$A$10000,$B$5),INDEX(GPS_IMPORT!$2:$10000,MATCH($B$5,(GPS_IMPORT!$A$2:$A$10000),0)+ROWS($1:13)-1,COLUMN()-1),0)","v":0},{"$f":"IF(ROWS(GPS_IMPORT!$1:13)<=COUNTIF(GPS_IMPORT!$A$2:$A$10000,$B$5),INDEX(GPS_IMPORT!$2:$10000,MATCH($B$5,(GPS_IMPORT!$A$2:$A$10000),0)+ROWS($1:13)-1,COLUMN()-1),0)","v":0},{"$f":"IF(ROWS(GPS_IMPORT!$1:13)<=COUNTIF(GPS_IMPORT!$A$2:$A$10000,$B$5),INDEX(GPS_IMPORT!$2:$10000,MATCH($B$5,(GPS_IMPORT!$A$2:$A$10000),0)+ROWS($1:13)-1,COLUMN()-1),0)","v":0},{"$f":"IF(E19>0,E$22-E19,0)","v":0},0,0,false]
[14,{"$f":"IF(ROWS(GPS_IMPORT!$1:14)<=COUNTIF(GPS_IMPORT!$A$2:$A$10000,$B$5),INDEX(GPS_IMPORT!$2:$10000,MATCH($B$5,(GPS_IMPORT!$A$2:$A$10000),0)+ROWS($1:14)-1,COLUMN()-1),0)","v":0},{"$f":"IF(ROWS(GPS_IMPORT!$1:14)<=COUNTIF(GPS_IMPORT!$A$2:$A$10000,$B$5),INDEX(GPS_IMPORT!$2:$10000,MATCH($B$5,(GPS_IMPORT!$A$2:$A$10000),0)+ROWS($1:14)-1,COLUMN()-1),0)","v":"00:00:00"},{"$f":"IF(ROWS(GPS_IMPORT!$1:14)<=COUNTIF(GPS_IMPORT!$A$2:$A$10000,$B$5),INDEX(GPS_IMPORT!$2:$10000,MATCH($B$5,(GPS_IMPORT!$A$2:$A$10000),0)+ROWS($1:14)-1,COLUMN()-1),0)","v":"00:00:00"},{"$f":"IF(ROWS(GPS_IMPORT!$1:14)<=COUNTIF(GPS_IMPORT!$A$2:$A$10000,$B$5),INDEX(GPS_IMPORT!$2:$10000,MATCH($B$5,(GPS_IMPORT!$A$2:$A$10000),0)+ROWS($1:14)-1,COLUMN()-1),0)","v":0},{"$f":"IF(ROWS(GPS_IMPORT!$1:14)<=COUNTIF(GPS_IMPORT!$A$2:$A$10000,$B$5),INDEX(GPS_IMPORT!$2:$10000,MATCH($B$5,(GPS_IMPORT!$A$2:$A$10000),0)+ROWS($1:14)-1,COLUMN()-1),0)","v":0},{"$f":"IF(ROWS(GPS_IMPORT!$1:14)<=COUNTIF(GPS_IMPORT!$A$2:$A$10000,$B$5),INDEX(GPS_IMPORT!$2:$10000,MATCH($B$5,(GPS_IMPORT!$A$2:$A$10000),0)+ROWS($1:14)-1,COLUMN()-1),0)","v":0},0,0,0,false]
[15,{"$f":"IF(ROWS(GPS_IMPORT!$1:15)<=COUNTIF(GPS_IMPORT!$A$2:$A$10000,$B$5),INDEX(GPS_IMPORT!$2:$10000,MATCH($B$5,(GPS_IMPORT!$A$2:$A$10000),0)+ROWS($1:15)-1,COLUMN()-1),0)","v":0},{"$f":"IF(ROWS(GPS_IMPORT!$1:15)<=COUNTIF(GPS_IMPORT!$A$2:$A$10000,$B$5),INDEX(GPS_IMPORT!$2:$10000,MATCH($B$5,(GPS_IMPORT!$A$2:$A$10000),0)+ROWS($1:15)-1,COLUMN()-1),0)","v":"00:00:00"},{"$f":"IF(ROWS(GPS_IMPORT!$1:15)<=COUNTIF(GPS_IMPORT!$A$2:$A$10000,$B$5),INDEX(GPS_IMPORT!$2:$10000,MATCH($B$5,(GPS_IMPORT!$A$2:$A$10000),0)+ROWS($1:15)-1,COLUMN()-1),0)","v":"00:00:00"},{"$f":"IF(ROWS(GPS_IMPORT!$1:15)<=COUNTIF(GPS_IMPORT!$A$2:$A$10000,$B$5),INDEX(GPS_IMPORT!$2:$10000,MATCH($B$5,(GPS_IMPORT!$A$2:$A$10000),0)+ROWS($1:15)-1,COLUMN()-1),0)","v":0},{"$f":"IF(ROWS(GPS_IMPORT!$1:15)<=COUNTIF(GPS_IMPORT!$A$2:$A$10000,$B$5),INDEX(GPS_IMPORT!$2:$10000,MATCH($B$5,(GPS_IMPORT!$A$2:$A$10000),0)+ROWS($1:15)-1,COLUMN()-1),0)","v":0},{"$f":"IF(ROWS(GPS_IMPORT!$1:15)<=COUNTIF(GPS_IMPORT!$A$2:$A$10000,$B$5),INDEX(GPS_IMPORT!$2:$10000,MATCH($B$5,(GPS_IMPORT!$A$2:$A$10000),0)+ROWS($1:15)-1,COLUMN()-1),0)","v":0},0,0,0,false]
[null,null,null,"AVERAGE",{"$f":"(IF($K$7=TRUE,E7,0)+IF($K$8=TRUE,E8,0)+IF($K$9=TRUE,E9,0)+IF($K$10=TRUE,E10,0)+IF($K$11=TRUE,E11,0)+IF($K$12=TRUE,E12,0)+IF($K$13=TRUE,E13,0)+IF($K$14=TRUE,E14,0)+IF($K$15=TRUE,E15,0)+IF($K$16=TRUE,E16,0)+IF($K$17=TRUE,E17,0)+IF($K$18=TRUE,E18,0)+IF($K$19=TRUE,E19,0)+IF($K$20=TRUE,E20,0)+IF($K$21=TRUE,E21,0))/(IF($K$7=TRUE,1,0)+IF($K$8=TRUE,1,0)+IF($K$9=TRUE,1,0)+IF($K$10=TRUE,1,0)+IF($K$11=TRUE,1,0)+IF($K$12=TRUE,1,0)+IF($K$13=TRUE,1,0)+IF($K$14=TRUE,1,0)+IF($K$15=TRUE,1,0)+IF($K$16=TRUE,1,0)+IF($K$17=TRUE,1,0)+IF($K$18=TRUE,1,0)+IF($K$19=TRUE,1,0)+IF($K$20=TRUE,1,0)+IF($K$21=TRUE,1,0))","v":313946.23087901203},{"$f":"(IF($K$7=TRUE,F7,0)+IF($K$8=TRUE,F8,0)+IF($K$9=TRUE,F9,0)+IF($K$10=TRUE,F10,0)+IF($K$11=TRUE,F11,0)+IF($K$12=TRUE,F12,0)+IF($K$13=TRUE,F13,0)+IF($K$14=TRUE,F14,0)+IF($K$15=TRUE,F15,0)+IF($K$16=TRUE,F16,0)+IF($K$17=TRUE,F17,0)+IF($K$18=TRUE,F18,0)+IF($K$19=TRUE,F19,0)+IF($K$20=TRUE,F20,0)+IF($K$21=TRUE,F21,0))/(IF($K$7=TRUE,1,0)+IF($K$8=TRUE,1,0)+IF($K$9=TRUE,1,0)+IF($K$10=TRUE,1,0)+IF($K$11=TRUE,1,0)+IF($K$12=TRUE,1,0)+IF($K$13=TRUE,1,0)+IF($K$14=TRUE,1,0)+IF($K$15=TRUE,1,0)+IF($K$16=TRUE,1,0)+IF($K$17=TRUE,1,0)+IF($K$18=TRUE,1,0)+IF($K$19=TRUE,1,0)+IF($K$20=TRUE,1,0)+IF($K$21=TRUE,1,0))","v":2258275.2146793334},{"$f":"(IF($K$7=TRUE,G7,0)+IF($K$8=TRUE,G8,0)+IF($K$9=TRUE,G9,0)+IF($K$10=TRUE,G10,0)+IF($K$11=TRUE,G11,0)+IF($K$12=TRUE,G12,0)+IF($K$13=TRUE,G13,0)+IF($K$14=TRUE,G14,0)+IF($K$15=TRUE,G15,0)+IF($K$16=TRUE,G16,0)+IF($K$17=TRUE,G17,0)+IF($K$18=TRUE,G18,0)+IF($K$19=TRUE,G19,0)+IF($K$20=TRUE,G20,0)+IF($K$21=TRUE,G21,0))/\n(IF($K$7=TRUE,1,0)+IF($K$8=TRUE,1,0)+IF($K$9=TRUE,1,0)+IF($K$10=TRUE,1,0)+IF($K$11=TRUE,1,0)+IF($K$12=TRUE,1,0)+IF($K$13=TRUE,1,0)+IF($K$14=TRUE,1,0)+IF($K$15=TRUE,1,0)+IF($K$16=TRUE,1,0)+IF($K$17=TRUE,1,0)+IF($K$18=TRUE,1,0)+IF($K$19=TRUE,1,0)+IF($K$20=TRUE,1,0)+IF($K$21=TRUE,1,0))","v":875.73958343778747},"RMSE:","RMSE:","RMSE:"]
[null,null,null,null,null,null,"RMSE IN US SURVEY FEET:",{"$f":"SQRT((\n(IF($K$7=TRUE,H7^2,0))+(IF($K$8=TRUE,H8^2,0))+(IF($K$9=TRUE,H9^2,0))+(IF($K$10=TRUE,H10^2,0))+(IF($K$11=TRUE,H11^2,0))+(IF($K$12=TRUE,H12^2,0))+(IF($K$13=TRUE,H13^2,0))+(IF($K$14=TRUE,H14^2,0))+(IF($K$15=TRUE,H15^2,0))+(IF($K$16=TRUE,H16^2,0))+(IF($K$17=TRUE,H17^2,0))+(IF($K$18=TRUE,H18^2,0))+(IF($K$19=TRUE,H19^2,0))+(IF($K$20=TRUE,H20^2,0))+(IF($K$21=TRUE,H21^2,0)))/\n(IF($K$7=TRUE,1,0)+IF($K$8=TRUE,1,0)+IF($K$9=TRUE,1,0)+IF($K$10=TRUE,1,0)+IF($K$11=TRUE,1,0)+IF($K$12=TRUE,1,0)+IF($K$13=TRUE,1,0)+IF($K$14=TRUE,1,0)+IF($K$15=TRUE,1,0)+IF($K$16=TRUE,1,0)+IF($K$17=TRUE,1,0)+IF($K$18=TRUE,1,0)+IF($K$19=TRUE,1,0)+IF($K$20=TRUE,1,0)+IF($K$21=TRUE,1,0)))","v":5.6725192124726801E-3},{"$f":"SQRT((\n(IF($K$7=TRUE,I7^2,0))+(IF($K$8=TRUE,I8^2,0))+(IF($K$9=TRUE,I9^2,0))+(IF($K$10=TRUE,I10^2,0))+(IF($K$11=TRUE,I11^2,0))+(IF($K$12=TRUE,I12^2,0))+(IF($K$13=TRUE,I13^2,0))+(IF($K$14=TRUE,I14^2,0))+(IF($K$15=TRUE,I15^2,0))+(IF($K$16=TRUE,I16^2,0))+(IF($K$17=TRUE,I17^2,0))+(IF($K$18=TRUE,I18^2,0))+(IF($K$19=TRUE,I19^2,0))+(IF($K$20=TRUE,I20^2,0))+(IF($K$21=TRUE,I21^2,0)))/\n(IF($K$7=TRUE,1,0)+IF($K$8=TRUE,1,0)+IF($K$9=TRUE,1,0)+IF($K$10=TRUE,1,0)+IF($K$11=TRUE,1,0)+IF($K$12=TRUE,1,0)+IF($K$13=TRUE,1,0)+IF($K$14=TRUE,1,0)+IF($K$15=TRUE,1,0)+IF($K$16=TRUE,1,0)+IF($K$17=TRUE,1,0)+IF($K$18=TRUE,1,0)+IF($K$19=TRUE,1,0)+IF($K$20=TRUE,1,0)+IF($K$21=TRUE,1,0)))","v":4.2463065005094629E-3},{"$f":"SQRT((\n(IF($K$7=TRUE,J7^2,0))+(IF($K$8=TRUE,J8^2,0))+(IF($K$9=TRUE,J9^2,0))+(IF($K$10=TRUE,J10^2,0))+(IF($K$11=TRUE,J11^2,0))+(IF($K$12=TRUE,J12^2,0))+(IF($K$13=TRUE,J13^2,0))+(IF($K$14=TRUE,J14^2,0))+(IF($K$15=TRUE,J15^2,0))+(IF($K$16=TRUE,J16^2,0))+(IF($K$17=TRUE,J17^2,0))+(IF($K$18=TRUE,J18^2,0))+(IF($K$19=TRUE,J19^2,0))+(IF($K$20=TRUE,J20^2,0))+(IF($K$21=TRUE,J21^2,0)))/\n(IF($K$7=TRUE,1,0)+IF($K$8=TRUE,1,0)+IF($K$9=TRUE,1,0)+IF($K$10=TRUE,1,0)+IF($K$11=TRUE,1,0)+IF($K$12=TRUE,1,0)+IF($K$13=TRUE,1,0)+IF($K$14=TRUE,1,0)+IF($K$15=TRUE,1,0)+IF($K$16=TRUE,1,0)+IF($K$17=TRUE,1,0)+IF($K$18=TRUE,1,0)+IF($K$19=TRUE,1,0)+IF($K$20=TRUE,1,0)+IF($K$21=TRUE,1,0)))","v":8.9785430772862575E-3}]
[null,null,null,1]
[null,null,"UNITLESS GRID TO GROUND MULTIPLIER",{"$f":"IF(REPORT!C13=\"n/a\",\"0.00000000\",REPORT!C13)","v":0},null,null,null,{"$f":"IF(H23<=0.029,\"PASS\",\"FAIL\")","v":"PASS"},{"$f":"IF(I23<=0.029,\"PASS\",\"FAIL\")","v":"PASS"},{"$f":"IF(J23<=0.039,\"PASS\",\"FAIL\")","v":"PASS"}]
[]
["AVERAGED GPS-DERIVED POSITION",null,null,null,null,null,null,null,"Notes:"]
[null,"MONUMENT COORDINATES",null,"NORTHING","EASTING","ORTHO HEIGHT"]
[null,"US Survey Feet (GRID)",null,{"$f":"$E$22","v":313946.23087901203},{"$f":"$F$22","v":2258275.2146793334},{"$f":"$G$22","v":875.73958343778747}]
[]
["LEVELED ELEVATION"]
["US SURVEY FEET",null,"N/A","(Type the leveled elevation or N/A if no leveled elevation is available)"]
["MONUMENT HELD",null,null,"(Type the monument name from which leveling originated)"]
["LEVELED ELEVATION - GPS DERIVED ELEVATION   = ",null,null,null,{"$f":"IF(C32=\"N/A\",\"N/A\",C32-(F29*D24))","v":"N/A"}]
[]
["FINAL MONUMENT COORDINATES"]
[null,"MONUMENT COORDINATES",null,"NORTHING","EASTING","ELEVATION","FEATURE CODE"]
[null,"US SURVEY FEET (GRID)",null,{"$f":"$E$22*$D$24","v":313946.23087901203},{"$f":"$F$22*$D$24","v":2258275.2146793334},{"$f":"IF($C$32=\"N/A\",($G$22*$D$24),$C$32)","v":875.73958343778747},"AERTAR"]
[null,"US SURVEY FEET (GROUND)",null,{"$f":"$D$38*$D$25","v":0},{"$f":"$E$38*$D$25","v":0},{"$f":"IF($C$32=\"N/A\",($G$22*$D$24),$C$32)","v":875.73958343778747},{"$f":"G38","v":"AERTAR"}]
[]
["∆ North,  ∆ East, and ∆ Ht. are the difference between the average northing, easting, and height for each observation.",null,null,null,null,null,null,null,"Mask Angle:","10°"]

{"sheet":"GS4","index":10,"n_rows":41,"n_cols":11,"rows_kept":41,"cut":false,"hidden":false,"merged":[[0,0,0,10],[26,0,26,6],[27,1,27,2],[27,8,38,10],[28,1,28,2],[30,0,30,6],[35,0,35,6],[36,1,36,2],[37,1,37,2],[38,1,38,2]]}
["VRS GNSS Project Control Monument Coordinate Analysis"]
[]
["Project:",{"$f":"REPORT!B2","v":"TUS-800-22.74"},"GPS Antenna:","LEICA GS14",null,null,null,null,null,"Report Date:",{"$f":"REPORT!C49","v":"2018-12-19"}]
["PID:",{"$f":"REPORT!E2","v":100603},"VRS Network:","ODOT VRS",null,null,null,null,null,"Prepared By:",{"$f":"REPORT!C48","v":"Kolton Wilson"}]
["Point ID:","GS4","No. of Sessions:",{"$f":"COUNTIF(GPS_IMPORT!A2:A1000,$B$5)","v":12},null,null,null,null,null,"Checked By:",{"$f":"REPORT!C52","v":"Joel Swick"}]
["SESSION #","Point","Observation Date","Start Time","Northing(sft)","Easting(sft)","Height(sft)","∆ Northing(sft)","∆ Easting(sft)","∆ Height(sft)","Include in Solution?"]
[1,{"$f":"IF(ROWS(GPS_IMPORT!$1:1)<=COUNTIF(GPS_IMPORT!$A$2:$A$10000,$B$5),INDEX(GPS_IMPORT!$2:$10000,MATCH($B$5,(GPS_IMPORT!$A$2:$A$10000),0)+ROWS($1:1)-1,COLUMN()-1),0)","v":"GS4"},{"$f":"IF(ROWS(GPS_IMPORT!$1:1)<=COUNTIF(GPS_IMPORT!$A$2:$A$10000,$B$5),INDEX(GPS_IMPORT!$2:$10000,MATCH($B$5,(GPS_IMPORT!$A$2:$A$10000),0)+ROWS($1:1)-1,COLUMN()-1),0)","v":"12.18.2018"},{"$f":"IF(ROWS(GPS_IMPORT!$1:1)<=COUNTIF(GPS_IMPORT!$A$2:$A$10000,$B$5),INDEX(GPS_IMPORT!$2:$10000,MATCH($B$5,(GPS_IMPORT!$A$2:$A$10000),0)+ROWS($1:1)-1,COLUMN()-1),0)","v":" 9:35:50.8300"},{"$f":"IF(ROWS(GPS_IMPORT!$1:1)<=COUNTIF(GPS_IMPORT!$A$2:$A$10000,$B$5),INDEX(GPS_IMPORT!$2:$10000,MATCH($B$5,(GPS_IMPORT!$A$2:$A$10000),0)+ROWS($1:1)-1,COLUMN()-1),0)","v":314875.15201425599},{"$f":"IF(ROWS(GPS_IMPORT!$1:1)<=COUNTIF(GPS_IMPORT!$A$2:$A$10000,$B$5),INDEX(GPS_IMPORT!$2:$10000,MATCH($B$5,(GPS_IMPORT!$A$2:$A$10000),0)+ROWS($1:1)-1,COLUMN()-1),0)","v":2264670.3650497999},{"$f":"IF(ROWS(GPS_IMPORT!$1:1)<=COUNTIF(GPS_IMPORT!$A$2:$A$10000,$B$5),INDEX(GPS_IMPORT!$2:$10000,MATCH($B$5,(GPS_IMPORT!$A$2:$A$10000),0)+ROWS($1:1)-1,COLUMN()-1),0)","v":880.86047516168003},{"$f":"IF(E7>0,E$22-E7,0)","v":1.4427418820559978E-2},-2.13665422052145E-4,1.3410065965899776E-3,true]
[2,{"$f":"IF(ROWS(GPS_IMPORT!$1:2)<=COUNTIF(GPS_IMPORT!$A$2:$A$10000,$B$5),INDEX(GPS_IMPORT!$2:$10000,MATCH($B$5,(GPS_IMPORT!$A$2:$A$10000),0)+ROWS($1:2)-1,COLUMN()-1),0)","v":"GS4"},{"$f":"IF(ROWS(GPS_IMPORT!$1:2)<=COUNTIF(GPS_IMPORT!$A$2:$A$10000,$B$5),INDEX(GPS_IMPORT!$2:$10000,MATCH($B$5,(GPS_IMPORT!$A$2:$A$10000),0)+ROWS($1:2)-1,COLUMN()-1),0)","v":"12.18.2018"},{"$f":"IF(ROWS(GPS_IMPORT!$1:2)<=COUNTIF(GPS_IMPORT!$A$2:$A$10000,$B$5),INDEX(GPS_IMPORT!$2:$10000,MATCH($B$5,(GPS_IMPORT!$A$2:$A$10000),0)+ROWS($1:2)-1,COLUMN()-1),0)","v":" 9:36:6.7800"},{"$f":"IF(ROWS(GPS_IMPORT!$1:2)<=COUNTIF(GPS_IMPORT!$A$2:$A$10000,$B$5),INDEX(GPS_IMPORT!$2:$10000,MATCH($B$5,(GPS_IMPORT!$A$2:$A$10000),0)+ROWS($1:2)-1,COLUMN()-1),0)","v":314875.16259658599},{"$f":"IF(ROWS(GPS_IMPORT!$1:2)<=COUNTIF(GPS_IMPORT!$A$2:$A$10000,$B$5),INDEX(GPS_IMPORT!$2:$10000,MATCH($B$5,(GPS_IMPORT!$A$2:$A$10000),0)+ROWS($1:2)-1,COLUMN()-1),0)","v":2264670.3599310801},{"$f":"IF(ROWS(GPS_IMPORT!$1:2)<=COUNTIF(GPS_IMPORT!$A$2:$A$10000,$B$5),INDEX(GPS_IMPORT!$2:$10000,MATCH($B$5,(GPS_IMPORT!$A$2:$A$10000),0)+ROWS($1:2)-1,COLUMN()-1),0)","v":880.85372473954999},3.8450888241641223E-3,4.9050543457269669E-3,8.0914287266296014E-3,true]
[3,{"$f":"IF(ROWS(GPS_IMPORT!$1:3)<=COUNTIF(GPS_IMPORT!$A$2:$A$10000,$B$5),INDEX(GPS_IMPORT!$2:$10000,MATCH($B$5,(GPS_IMPORT!$A$2:$A$10000),0)+ROWS($1:3)-1,COLUMN()-1),0)","v":"GS4"},{"$f":"IF(ROWS(GPS_IMPORT!$1:3)<=COUNTIF(GPS_IMPORT!$A$2:$A$10000,$B$5),INDEX(GPS_IMPORT!$2:$10000,MATCH($B$5,(GPS_IMPORT!$A$2:$A$10000),0)+ROWS($1:3)-1,COLUMN()-1),0)","v":"12.18.2018"},{"$f":"IF(ROWS(GPS_IMPORT!$1:3)<=COUNTIF(GPS_IMPORT!$A$2:$A$10000,$B$5),INDEX(GPS_IMPORT!$2:$10000,MATCH($B$5,(GPS_IMPORT!$A$2:$A$10000),0)+ROWS($1:3)-1,COLUMN()-1),0)","v":" 9:36:16.9700"},{"$f":"IF(ROWS(GPS_IMPORT!$1:3)<=COUNTIF(GPS_IMPORT!$A$2:$A$10000,$B$5),INDEX(GPS_IMPORT!$2:$10000,MATCH($B$5,(GPS_IMPORT!$A$2:$A$10000),0)+ROWS($1:3)-1,COLUMN()-1),0)","v":314875.16483542498},{"$f":"IF(ROWS(GPS_IMPORT!$1:3)<=COUNTIF(GPS_IMPORT!$A$2:$A$10000,$B$5),INDEX(GPS_IMPORT!$2:$10000,MATCH($B$5,(GPS_IMPORT!$A$2:$A$10000),0)+ROWS($1:3)-1,COLUMN()-1),0)","v":2264670.3603956802},{"$f":"IF(ROWS(GPS_IMPORT!$1:3)<=COUNTIF(GPS_IMPORT!$A$2:$A$10000,$B$5),INDEX(GPS_IMPORT!$2:$10000,MATCH($B$5,(GPS_IMPORT!$A$2:$A$10000),0)+ROWS($1:3)-1,COLUMN()-1),0)","v":880.85370189957996},1.6062498325482011E-3,4.4404543004930019E-3,8.1142686966586552E-3,true]
[4,{"$f":"IF(ROWS(GPS_IMPORT!$1:4)<=COUNTIF(GPS_IMPORT!$A$2:$A$10000,$B$5),INDEX(GPS_IMPORT!$2:$10000,MATCH($B$5,(GPS_IMPORT!$A$2:$A$10000),0)+ROWS($1:4)-1,COLUMN()-1),0)","v":"GS4"},{"$f":"IF(ROWS(GPS_IMPORT!$1:4)<=COUNTIF(GPS_IMPORT!$A$2:$A$10000,$B$5),INDEX(GPS_IMPORT!$2:$10000,MATCH($B$5,(GPS_IMPORT!$A$2:$A$10000),0)+ROWS($1:4)-1,COLUMN()-1),0)","v":"12.18.2018"},{"$f":"IF(ROWS(GPS_IMPORT!$1:4)<=COUNTIF(GPS_IMPORT!$A$2:$A$10000,$B$5),INDEX(GPS_IMPORT!$2:$10000,MATCH($B$5,(GPS_IMPORT!$A$2:$A$10000),0)+ROWS($1:4)-1,COLUMN()-1),0)","v":" 9:36:26.7600"},{"$f":"IF(ROWS(GPS_IMPORT!$1:4)<=COUNTIF(GPS_IMPORT!$A$2:$A$10000,$B$5),INDEX(GPS_IMPORT!$2:$10000,MATCH($B$5,(GPS_IMPORT!$A$2:$A$10000),0)+ROWS($1:4)-1,COLUMN()-1),0)","v":314875.16410484602},{"$f":"IF(ROWS(GPS_IMPORT!$1:4)<=COUNTIF(GPS_IMPORT!$A$2:$A$10000,$B$5),INDEX(GPS_IMPORT!$2:$10000,MATCH($B$5,(GPS_IMPORT!$A$2:$A$10000),0)+ROWS($1:4)-1,COLUMN()-1),0)","v":2264670.3633526899},{"$f":"IF(ROWS(GPS_IMPORT!$1:4)<=COUNTIF(GPS_IMPORT!$A$2:$A$10000,$B$5),INDEX(GPS_IMPORT!$2:$10000,MATCH($B$5,(GPS_IMPORT!$A$2:$A$10000),0)+ROWS($1:4)-1,COLUMN()-1),0)","v":880.86384400964005},2.3368287947960198E-3,1.4834445901215076E-3,-2.0278413634287062E-3,true]
[5,{"$f":"IF(ROWS(GPS_IMPORT!$1:5)<=COUNTIF(GPS_IMPORT!$A$2:$A$10000,$B$5),INDEX(GPS_IMPORT!$2:$10000,MATCH($B$5,(GPS_IMPORT!$A$2:$A$10000),0)+ROWS($1:5)-1,COLUMN()-1),0)","v":"GS4"},{"$f":"IF(ROWS(GPS_IMPORT!$1:5)<=COUNTIF(GPS_IMPORT!$A$2:$A$10000,$B$5),INDEX(GPS_IMPORT!$2:$10000,MATCH($B$5,(GPS_IMPORT!$A$2:$A$10000),0)+ROWS($1:5)-1,COLUMN()-1),0)","v":"12.18.2018"},{"$f":"IF(ROWS(GPS_IMPORT!$1:5)<=COUNTIF(GPS_IMPORT!$A$2:$A$10000,$B$5),INDEX(GPS_IMPORT!$2:$10000,MATCH($B$5,(GPS_IMPORT!$A$2:$A$10000),0)+ROWS($1:5)-1,COLUMN()-1),0)","v":" 9:36:43.9700"},{"$f":"IF(ROWS(GPS_IMPORT!$1:5)<=COUNTIF(GPS_IMPORT!$A$2:$A$10000,$B$5),INDEX(GPS_IMPORT!$2:$10000,MATCH($B$5,(GPS_IMPORT!$A$2:$A$10000),0)+ROWS($1:5)-1,COLUMN()-1),0)","v":314875.16643646901},{"$f":"IF(ROWS(GPS_IMPORT!$1:5)<=COUNTIF(GPS_IMPORT!$A$2:$A$10000,$B$5),INDEX(GPS_IMPORT!$2:$10000,MATCH($B$5,(GPS_IMPORT!$A$2:$A$10000),0)+ROWS($1:5)-1,COLUMN()-1),0)","v":2264670.3579541598},{"$f":"IF(ROWS(GPS_IMPORT!$1:5)<=COUNTIF(GPS_IMPORT!$A$2:$A$10000,$B$5),INDEX(GPS_IMPORT!$2:$10000,MATCH($B$5,(GPS_IMPORT!$A$2:$A$10000),0)+ROWS($1:5)-1,COLUMN()-1),0)","v":880.85779669187002},5.2058021537959576E-6,6.8819746375083923E-3,4.0194764065972777E-3,true]
[6,{"$f":"IF(ROWS(GPS_IMPORT!$1:6)<=COUNTIF(GPS_IMPORT!$A$2:$A$10000,$B$5),INDEX(GPS_IMPORT!$2:$10000,MATCH($B$5,(GPS_IMPORT!$A$2:$A$10000),0)+ROWS($1:6)-1,COLUMN()-1),0)","v":"GS4"},{"$f":"IF(ROWS(GPS_IMPORT!$1:6)<=COUNTIF(GPS_IMPORT!$A$2:$A$10000,$B$5),INDEX(GPS_IMPORT!$2:$10000,MATCH($B$5,(GPS_IMPORT!$A$2:$A$10000),0)+ROWS($1:6)-1,COLUMN()-1),0)","v":"12.18.2018"},{"$f":"IF(ROWS(GPS_IMPORT!$1:6)<=COUNTIF(GPS_IMPORT!$A$2:$A$10000,$B$5),INDEX(GPS_IMPORT!$2:$10000,MATCH($B$5,(GPS_IMPORT!$A$2:$A$10000),0)+ROWS($1:6)-1,COLUMN()-1),0)","v":" 9:36:53.9100"},{"$f":"IF(ROWS(GPS_IMPORT!$1:6)<=COUNTIF(GPS_IMPORT!$A$2:$A$10000,$B$5),INDEX(GPS_IMPORT!$2:$10000,MATCH($B$5,(GPS_IMPORT!$A$2:$A$10000),0)+ROWS($1:6)-1,COLUMN()-1),0)","v":314875.165319319},{"$f":"IF(ROWS(GPS_IMPORT!$1:6)<=COUNTIF(GPS_IMPORT!$A$2:$A$10000,$B$5),INDEX(GPS_IMPORT!$2:$10000,MATCH($B$5,(GPS_IMPORT!$A$2:$A$10000),0)+ROWS($1:6)-1,COLUMN()-1),0)","v":2264670.3663568301},{"$f":"IF(ROWS(GPS_IMPORT!$1:6)<=COUNTIF(GPS_IMPORT!$A$2:$A$10000,$B$5),INDEX(GPS_IMPORT!$2:$10000,MATCH($B$5,(GPS_IMPORT!$A$2:$A$10000),0)+ROWS($1:6)-1,COLUMN()-1),0)","v":880.86812187610997},1.1223558103665709E-3,-1.5206956304609776E-3,-6.3057078333486061E-3,true]
[7,{"$f":"IF(ROWS(GPS_IMPORT!$1:7)<=COUNTIF(GPS_IMPORT!$A$2:$A$10000,$B$5),INDEX(GPS_IMPORT!$2:$10000,MATCH($B$5,(GPS_IMPORT!$A$2:$A$10000),0)+ROWS($1:7)-1,COLUMN()-1),0)","v":"GS4"},{"$f":"IF(ROWS(GPS_IMPORT!$1:7)<=COUNTIF(GPS_IMPORT!$A$2:$A$10000,$B$5),INDEX(GPS_IMPORT!$2:$10000,MATCH($B$5,(GPS_IMPORT!$A$2:$A$10000),0)+ROWS($1:7)-1,COLUMN()-1),0)","v":"12.18.2018"},{"$f":"IF(ROWS(GPS_IMPORT!$1:7)<=COUNTIF(GPS_IMPORT!$A$2:$A$10000,$B$5),INDEX(GPS_IMPORT!$2:$10000,MATCH($B$5,(GPS_IMPORT!$A$2:$A$10000),0)+ROWS($1:7)-1,COLUMN()-1),0)","v":" 9:37:2.7800"},{"$f":"IF(ROWS(GPS_IMPORT!$1:7)<=COUNTIF(GPS_IMPORT!$A$2:$A$10000,$B$5),INDEX(GPS_IMPORT!$2:$10000,MATCH($B$5,(GPS_IMPORT!$A$2:$A$10000),0)+ROWS($1:7)-1,COLUMN()-1),0)","v":314875.16932231002},{"$f":"IF(ROWS(GPS_IMPORT!$1:7)<=COUNTIF(GPS_IMPORT!$A$2:$A$10000,$B$5),INDEX(GPS_IMPORT!$2:$10000,MATCH($B$5,(GPS_IMPORT!$A$2:$A$10000),0)+ROWS($1:7)-1,COLUMN()-1),0)","v":2264670.3640270601},{"$f":"IF(ROWS(GPS_IMPORT!$1:7)<=COUNTIF(GPS_IMPORT!$A$2:$A$10000,$B$5),INDEX(GPS_IMPORT!$2:$10000,MATCH($B$5,(GPS_IMPORT!$A$2:$A$10000),0)+ROWS($1:7)-1,COLUMN()-1),0)","v":880.85866356567999},-2.8806352056562901E-3,8.0907437950372696E-4,3.1526025966286397E-3,true]
[8,{"$f":"IF(ROWS(GPS_IMPORT!$1:8)<=COUNTIF(GPS_IMPORT!$A$2:$A$10000,$B$5),INDEX(GPS_IMPORT!$2:$10000,MATCH($B$5,(GPS_IMPORT!$A$2:$A$10000),0)+ROWS($1:8)-1,COLUMN()-1),0)","v":"GS4"},{"$f":"IF(ROWS(GPS_IMPORT!$1:8)<=COUNTIF(GPS_IMPORT!$A$2:$A$10000,$B$5),INDEX(GPS_IMPORT!$2:$10000,MATCH($B$5,(GPS_IMPORT!$A$2:$A$10000),0)+ROWS($1:8)-1,COLUMN()-1),0)","v":"12.18.2018"},{"$f":"IF(ROWS(GPS_IMPORT!$1:8)<=COUNTIF(GPS_IMPORT!$A$2:$A$10000,$B$5),INDEX(GPS_IMPORT!$2:$10000,MATCH($B$5,(GPS_IMPORT!$A$2:$A$10000),0)+ROWS($1:8)-1,COLUMN()-1),0)","v":" 9:37:14.9100"},{"$f":"IF(ROWS(GPS_IMPORT!$1:8)<=COUNTIF(GPS_IMPORT!$A$2:$A$10000,$B$5),INDEX(GPS_IMPORT!$2:$10000,MATCH($B$5,(GPS_IMPORT!$A$2:$A$10000),0)+ROWS($1:8)-1,COLUMN()-1),0)","v":314875.16741408099},{"$f":"IF(ROWS(GPS_IMPORT!$1:8)<=COUNTIF(GPS_IMPORT!$A$2:$A$10000,$B$5),INDEX(GPS_IMPORT!$2:$10000,MATCH($B$5,(GPS_IMPORT!$A$2:$A$10000),0)+ROWS($1:8)-1,COLUMN()-1),0)","v":2264670.36780053},{"$f":"IF(ROWS(GPS_IMPORT!$1:8)<=COUNTIF(GPS_IMPORT!$A$2:$A$10000,$B$5),INDEX(GPS_IMPORT!$2:$10000,MATCH($B$5,(GPS_IMPORT!$A$2:$A$10000),0)+ROWS($1:8)-1,COLUMN()-1),0)","v":880.85958003965004},-9.7240618197247386E-4,-2.9643955640494823E-3,2.236128626577738E-3,true]
[9,{"$f":"IF(ROWS(GPS_IMPORT!$1:9)<=COUNTIF(GPS_IMPORT!$A$2:$A$10000,$B$5),INDEX(GPS_IMPORT!$2:$10000,MATCH($B$5,(GPS_IMPORT!$A$2:$A$10000),0)+ROWS($1:9)-1,COLUMN()-1),0)","v":"GS4"},{"$f":"IF(ROWS(GPS_IMPORT!$1:9)<=COUNTIF(GPS_IMPORT!$A$2:$A$10000,$B$5),INDEX(GPS_IMPORT!$2:$10000,MATCH($B$5,(GPS_IMPORT!$A$2:$A$10000),0)+ROWS($1:9)-1,COLUMN()-1),0)","v":"12.18.2018"},{"$f":"IF(ROWS(GPS_IMPORT!$1:9)<=COUNTIF(GPS_IMPORT!$A$2:$A$10000,$B$5),INDEX(GPS_IMPORT!$2:$10000,MATCH($B$5,(GPS_IMPORT!$A$2:$A$10000),0)+ROWS($1:9)-1,COLUMN()-1),0)","v":" 9:37:33.7800"},{"$f":"IF(ROWS(GPS_IMPORT!$1:9)<=COUNTIF(GPS_IMPORT!$A$2:$A$10000,$B$5),INDEX(GPS_IMPORT!$2:$10000,MATCH($B$5,(GPS_IMPORT!$A$2:$A$10000),0)+ROWS($1:9)-1,COLUMN()-1),0)","v":314875.16818210197},{"$f":"IF(ROWS(GPS_IMPORT!$1:9)<=COUNTIF(GPS_IMPORT!$A$2:$A$10000,$B$5),INDEX(GPS_IMPORT!$2:$10000,MATCH($B$5,(GPS_IMPORT!$A$2:$A$10000),0)+ROWS($1:9)-1,COLUMN()-1),0)","v":2264670.3671788299},{"$f":"IF(ROWS(GPS_IMPORT!$1:9)<=COUNTIF(GPS_IMPORT!$A$2:$A$10000,$B$5),INDEX(GPS_IMPORT!$2:$10000,MATCH($B$5,(GPS_IMPORT!$A$2:$A$10000),0)+ROWS($1:9)-1,COLUMN()-1),0)","v":880.86077817395994},-1.7404271638952196E-3,-2.3426953703165054E-3,1.0379943166753947E-3,true]
[10,{"$f":"IF(ROWS(GPS_IMPORT!$1:10)<=COUNTIF(GPS_IMPORT!$A$2:$A$10000,$B$5),INDEX(GPS_IMPORT!$2:$10000,MATCH($B$5,(GPS_IMPORT!$A$2:$A$10000),0)+ROWS($1:10)-1,COLUMN()-1),0)","v":"GS4"},{"$f":"IF(ROWS(GPS_IMPORT!$1:10)<=COUNTIF(GPS_IMPORT!$A$2:$A$10000,$B$5),INDEX(GPS_IMPORT!$2:$10000,MATCH($B$5,(GPS_IMPORT!$A$2:$A$10000),0)+ROWS($1:10)-1,COLUMN()-1),0)","v":"12.18.2018"},{"$f":"IF(ROWS(GPS_IMPORT!$1:10)<=COUNTIF(GPS_IMPORT!$A$2:$A$10000,$B$5),INDEX(GPS_IMPORT!$2:$10000,MATCH($B$5,(GPS_IMPORT!$A$2:$A$10000),0)+ROWS($1:10)-1,COLUMN()-1),0)","v":" 9:37:45.2300"},{"$f":"IF(ROWS(GPS_IMPORT!$1:10)<=COUNTIF(GPS_IMPORT!$A$2:$A$10000,$B$5),INDEX(GPS_IMPORT!$2:$10000,MATCH($B$5,(GPS_IMPORT!$A$2:$A$10000),0)+ROWS($1:10)-1,COLUMN()-1),0)","v":314875.16819573502},{"$f":"IF(ROWS(GPS_IMPORT!$1:10)<=COUNTIF(GPS_IMPORT!$A$2:$A$10000,$B$5),INDEX(GPS_IMPORT!$2:$10000,MATCH($B$5,(GPS_IMPORT!$A$2:$A$10000),0)+ROWS($1:10)-1,COLUMN()-1),0)","v":2264670.3636613502},{"$f":"IF(ROWS(GPS_IMPORT!$1:10)<=COUNTIF(GPS_IMPORT!$A$2:$A$10000,$B$5),INDEX(GPS_IMPORT!$2:$10000,MATCH($B$5,(GPS_IMPORT!$A$2:$A$10000),0)+ROWS($1:10)-1,COLUMN()-1),0)","v":880.86589855263003},-1.7540602129884064E-3,1.1747842654585838E-3,-4.0823843534099069E-3,true]
[11,{"$f":"IF(ROWS(GPS_IMPORT!$1:11)<=COUNTIF(GPS_IMPORT!$A$2:$A$10000,$B$5),INDEX(GPS_IMPORT!$2:$10000,MATCH($B$5,(GPS_IMPORT!$A$2:$A$10000),0)+ROWS($1:11)-1,COLUMN()-1),0)","v":"GS4"},{"$f":"IF(ROWS(GPS_IMPORT!$1:11)<=COUNTIF(GPS_IMPORT!$A$2:$A$10000,$B$5),INDEX(GPS_IMPORT!$2:$10000,MATCH($B$5,(GPS_IMPORT!$A$2:$A$10000),0)+ROWS($1:11)-1,COLUMN()-1),0)","v":"12.18.2018"},{"$f":"IF(ROWS(GPS_IMPORT!$1:11)<=COUNTIF(GPS_IMPORT!$A$2:$A$10000,$B$5),INDEX(GPS_IMPORT!$2:$10000,MATCH($B$5,(GPS_IMPORT!$A$2:$A$10000),0)+ROWS($1:11)-1,COLUMN()-1),0)","v":" 9:37:56.0100"},{"$f":"IF(ROWS(GPS_IMPORT!$1:11)<=COUNTIF(GPS_IMPORT!$A$2:$A$10000,$B$5),INDEX(GPS_IMPORT!$2:$10000,MATCH($B$5,(GPS_IMPORT!$A$2:$A$10000),0)+ROWS($1:11)-1,COLUMN()-1),0)","v":314875.17342165101},{"$f":"IF(ROWS(GPS_IMPORT!$1:11)<=COUNTIF(GPS_IMPORT!$A$2:$A$10000,$B$5),INDEX(GPS_IMPORT!$2:$10000,MATCH($B$5,(GPS_IMPORT!$A$2:$A$10000),0)+ROWS($1:11)-1,COLUMN()-1),0)","v":2264670.36890106},{"$f":"IF(ROWS(GPS_IMPORT!$1:11)<=COUNTIF(GPS_IMPORT!$A$2:$A$10000,$B$5),INDEX(GPS_IMPORT!$2:$10000,MATCH($B$5,(GPS_IMPORT!$A$2:$A$10000),0)+ROWS($1:11)-1,COLUMN()-1),0)","v":880.86462234686996},-6.9799761986359954E-3,-4.0649254806339741E-3,-2.806178593345976E-3,true]
[12,{"$f":"IF(ROWS(GPS_IMPORT!$1:12)<=COUNTIF(GPS_IMPORT!$A$2:$A$10000,$B$5),INDEX(GPS_IMPORT!$2:$10000,MATCH($B$5,(GPS_IMPORT!$A$2:$A$10000),0)+ROWS($1:12)-1,COLUMN()-1),0)","v":"GS4"},{"$f":"IF(ROWS(GPS_IMPORT!$1:12)<=COUNTIF(GPS_IMPORT!$A$2:$A$10000,$B$5),INDEX(GPS_IMPORT!$2:$10000,MATCH($B$5,(GPS_IMPORT!$A$2:$A$10000),0)+ROWS($1:12)-1,COLUMN()-1),0)","v":"12.18.2018"},{"$f":"IF(ROWS(GPS_IMPORT!$1:12)<=COUNTIF(GPS_IMPORT!$A$2:$A$10000,$B$5),INDEX(GPS_IMPORT!$2:$10000,MATCH($B$5,(GPS_IMPORT!$A$2:$A$10000),0)+ROWS($1:12)-1,COLUMN()-1),0)","v":" 9:38:6.0000"},{"$f":"IF(ROWS(GPS_IMPORT!$1:12)<=COUNTIF(GPS_IMPORT!$A$2:$A$10000,$B$5),INDEX(GPS_IMPORT!$2:$10000,MATCH($B$5,(GPS_IMPORT!$A$2:$A$10000),0)+ROWS($1:12)-1,COLUMN()-1),0)","v":314875.17545731802},{"$f":"IF(ROWS(GPS_IMPORT!$1:12)<=COUNTIF(GPS_IMPORT!$A$2:$A$10000,$B$5),INDEX(GPS_IMPORT!$2:$10000,MATCH($B$5,(GPS_IMPORT!$A$2:$A$10000),0)+ROWS($1:12)-1,COLUMN()-1),0)","v":2264670.3734245398},{"$f":"IF(ROWS(GPS_IMPORT!$1:12)<=COUNTIF(GPS_IMPORT!$A$2:$A$10000,$B$5),INDEX(GPS_IMPORT!$2:$10000,MATCH($B$5,(GPS_IMPORT!$A$2:$A$10000),0)+ROWS($1:12)-1,COLUMN()-1),0)","v":880.87458696210001},-9.0156432124786079E-3,-8.5884053260087967E-3,-1.2770793823392523E-2,true]
[13,{"$f":"IF(ROWS(GPS_IMPORT!$1:13)<=COUNTIF(GPS_IMPORT!$A$2:$A$10000,$B$5),INDEX(GPS_IMPORT!$2:$10000,MATCH($B$5,(GPS_IMPORT!$A$2:$A$10000),0)+ROWS($1:13)-1,COLUMN()-1),0)","v":0},{"$f":"IF(ROWS(GPS_IMPORT!$1:13)<=COUNTIF(GPS_IMPORT!$A$2:$A$10000,$B$5),INDEX(GPS_IMPORT!$2:$10000,MATCH($B$5,(GPS_IMPORT!$A$2:$A$10000),0)+ROWS($1:13)-1,COLUMN()-1),0)","v":"00:00:00"},{"$f":"IF(ROWS(GPS_IMPORT!$1:13)<=COUNTIF(GPS_IMPORT!$A$2:$A$10000,$B$5),INDEX(GPS_IMPORT!$2:$10000,MATCH($B$5,(GPS_IMPORT!$A$2:$A$10000),0)+ROWS($1:13)-1,COLUMN()-1),0)","v":"00:00:00"},{"$f":"IF(ROWS(GPS_IMPORT!$1:13)<=COUNTIF(GPS_IMPORT!$A$2:$A$10000,$B$5),INDEX(GPS_IMPORT!$2:$10000,MATCH($B$5,(GPS_IMPORT!$A$2:$A$10000),0)+ROWS($1:13)-1,COLUMN()-1),0)","v":0},{"$f":"IF(ROWS(GPS_IMPORT!$1:13)<=COUNTIF(GPS_IMPORT!$A$2:$A$10000,$B$5),INDEX(GPS_IMPORT!$2:$10000,MATCH($B$5,(GPS_IMPORT!$A$2:$A$10000),0)+ROWS($1:13)-1,COLUMN()-1),0)","v":0},{"$f":"IF(ROWS(GPS_IMPORT!$1:13)<=COUNTIF(GPS_IMPORT!$A$2:$A$10000,$B$5),INDEX(GPS_IMPORT!$2:$10000,MATCH($B$5,(GPS_IMPORT!$A$2:$A$10000),0)+ROWS($1:13)-1,COLUMN()-1),0)","v":0},{"$f":"IF(E19>0,E$22-E19,0)","v":0},0,0,false]
[14,{"$f":"IF(ROWS(GPS_IMPORT!$1:14)<=COUNTIF(GPS_IMPORT!$A$2:$A$10000,$B$5),INDEX(GPS_IMPORT!$2:$10000,MATCH($B$5,(GPS_IMPORT!$A$2:$A$10000),0)+ROWS($1:14)-1,COLUMN()-1),0)","v":0},{"$f":"IF(ROWS(GPS_IMPORT!$1:14)<=COUNTIF(GPS_IMPORT!$A$2:$A$10000,$B$5),INDEX(GPS_IMPORT!$2:$10000,MATCH($B$5,(GPS_IMPORT!$A$2:$A$10000),0)+ROWS($1:14)-1,COLUMN()-1),0)","v":"00:00:00"},{"$f":"IF(ROWS(GPS_IMPORT!$1:14)<=COUNTIF(GPS_IMPORT!$A$2:$A$10000,$B$5),INDEX(GPS_IMPORT!$2:$10000,MATCH($B$5,(GPS_IMPORT!$A$2:$A$10000),0)+ROWS($1:14)-1,COLUMN()-1),0)","v":"00:00:00"},{"$f":"IF(ROWS(GPS_IMPORT!$1:14)<=COUNTIF(GPS_IMPORT!$A$2:$A$10000,$B$5),INDEX(GPS_IMPORT!$2:$10000,MATCH($B$5,(GPS_IMPORT!$A$2:$A$10000),0)+ROWS($1:14)-1,COLUMN()-1),0)","v":0},{"$f":"IF(ROWS(GPS_IMPORT!$1:14)<=COUNTIF(GPS_IMPORT!$A$2:$A$10000,$B$5),INDEX(GPS_IMPORT!$2:$10000,MATCH($B$5,(GPS_IMPORT!$A$2:$A$10000),0)+ROWS($1:14)-1,COLUMN()-1),0)","v":0},{"$f":"IF(ROWS(GPS_IMPORT!$1:14)<=COUNTIF(GPS_IMPORT!$A$2:$A$10000,$B$5),INDEX(GPS_IMPORT!$2:$10000,MATCH($B$5,(GPS_IMPORT!$A$2:$A$10000),0)+ROWS($1:14)-1,COLUMN()-1),0)","v":0},0,0,0,false]
[15,{"$f":"IF(ROWS(GPS_IMPORT!$1:15)<=COUNTIF(GPS_IMPORT!$A$2:$A$10000,$B$5),INDEX(GPS_IMPORT!$2:$10000,MATCH($B$5,(GPS_IMPORT!$A$2:$A$10000),0)+ROWS($1:15)-1,COLUMN()-1),0)","v":0},{"$f":"IF(ROWS(GPS_IMPORT!$1:15)<=COUNTIF(GPS_IMPORT!$A$2:$A$10000,$B$5),INDEX(GPS_IMPORT!$2:$10000,MATCH($B$5,(GPS_IMPORT!$A$2:$A$10000),0)+ROWS($1:15)-1,COLUMN()-1),0)","v":"00:00:00"},{"$f":"IF(ROWS(GPS_IMPORT!$1:15)<=COUNTIF(GPS_IMPORT!$A$2:$A$10000,$B$5),INDEX(GPS_IMPORT!$2:$10000,MATCH($B$5,(GPS_IMPORT!$A$2:$A$10000),0)+ROWS($1:15)-1,COLUMN()-1),0)","v":"00:00:00"},{"$f":"IF(ROWS(GPS_IMPORT!$1:15)<=COUNTIF(GPS_IMPORT!$A$2:$A$10000,$B$5),INDEX(GPS_IMPORT!$2:$10000,MATCH($B$5,(GPS_IMPORT!$A$2:$A$10000),0)+ROWS($1:15)-1,COLUMN()-1),0)","v":0},{"$f":"IF(ROWS(GPS_IMPORT!$1:15)<=COUNTIF(GPS_IMPORT!$A$2:$A$10000,$B$5),INDEX(GPS_IMPORT!$2:$10000,MATCH($B$5,(GPS_IMPORT!$A$2:$A$10000),0)+ROWS($1:15)-1,COLUMN()-1),0)","v":0},{"$f":"IF(ROWS(GPS_IMPORT!$1:15)<=COUNTIF(GPS_IMPORT!$A$2:$A$10000,$B$5),INDEX(GPS_IMPORT!$2:$10000,MATCH($B$5,(GPS_IMPORT!$A$2:$A$10000),0)+ROWS($1:15)-1,COLUMN()-1),0)","v":0},0,0,0,false]
[null,null,null,"AVERAGE",{"$f":"(IF($K$7=TRUE,E7,0)+IF($K$8=TRUE,E8,0)+IF($K$9=TRUE,E9,0)+IF($K$10=TRUE,E10,0)+IF($K$11=TRUE,E11,0)+IF($K$12=TRUE,E12,0)+IF($K$13=TRUE,E13,0)+IF($K$14=TRUE,E14,0)+IF($K$15=TRUE,E15,0)+IF($K$16=TRUE,E16,0)+IF($K$17=TRUE,E17,0)+IF($K$18=TRUE,E18,0)+IF($K$19=TRUE,E19,0)+IF($K$20=TRUE,E20,0)+IF($K$21=TRUE,E21,0))/(IF($K$7=TRUE,1,0)+IF($K$8=TRUE,1,0)+IF($K$9=TRUE,1,0)+IF($K$10=TRUE,1,0)+IF($K$11=TRUE,1,0)+IF($K$12=TRUE,1,0)+IF($K$13=TRUE,1,0)+IF($K$14=TRUE,1,0)+IF($K$15=TRUE,1,0)+IF($K$16=TRUE,1,0)+IF($K$17=TRUE,1,0)+IF($K$18=TRUE,1,0)+IF($K$19=TRUE,1,0)+IF($K$20=TRUE,1,0)+IF($K$21=TRUE,1,0))","v":314875.16644167481},{"$f":"(IF($K$7=TRUE,F7,0)+IF($K$8=TRUE,F8,0)+IF($K$9=TRUE,F9,0)+IF($K$10=TRUE,F10,0)+IF($K$11=TRUE,F11,0)+IF($K$12=TRUE,F12,0)+IF($K$13=TRUE,F13,0)+IF($K$14=TRUE,F14,0)+IF($K$15=TRUE,F15,0)+IF($K$16=TRUE,F16,0)+IF($K$17=TRUE,F17,0)+IF($K$18=TRUE,F18,0)+IF($K$19=TRUE,F19,0)+IF($K$20=TRUE,F20,0)+IF($K$21=TRUE,F21,0))/(IF($K$7=TRUE,1,0)+IF($K$8=TRUE,1,0)+IF($K$9=TRUE,1,0)+IF($K$10=TRUE,1,0)+IF($K$11=TRUE,1,0)+IF($K$12=TRUE,1,0)+IF($K$13=TRUE,1,0)+IF($K$14=TRUE,1,0)+IF($K$15=TRUE,1,0)+IF($K$16=TRUE,1,0)+IF($K$17=TRUE,1,0)+IF($K$18=TRUE,1,0)+IF($K$19=TRUE,1,0)+IF($K$20=TRUE,1,0)+IF($K$21=TRUE,1,0))","v":2264670.3648361345},{"$f":"(IF($K$7=TRUE,G7,0)+IF($K$8=TRUE,G8,0)+IF($K$9=TRUE,G9,0)+IF($K$10=TRUE,G10,0)+IF($K$11=TRUE,G11,0)+IF($K$12=TRUE,G12,0)+IF($K$13=TRUE,G13,0)+IF($K$14=TRUE,G14,0)+IF($K$15=TRUE,G15,0)+IF($K$16=TRUE,G16,0)+IF($K$17=TRUE,G17,0)+IF($K$18=TRUE,G18,0)+IF($K$19=TRUE,G19,0)+IF($K$20=TRUE,G20,0)+IF($K$21=TRUE,G21,0))/\n(IF($K$7=TRUE,1,0)+IF($K$8=TRUE,1,0)+IF($K$9=TRUE,1,0)+IF($K$10=TRUE,1,0)+IF($K$11=TRUE,1,0)+IF($K$12=TRUE,1,0)+IF($K$13=TRUE,1,0)+IF($K$14=TRUE,1,0)+IF($K$15=TRUE,1,0)+IF($K$16=TRUE,1,0)+IF($K$17=TRUE,1,0)+IF($K$18=TRUE,1,0)+IF($K$19=TRUE,1,0)+IF($K$20=TRUE,1,0)+IF($K$21=TRUE,1,0))","v":880.86181616827662},"RMSE:","RMSE:","RMSE:"]
[null,null,null,null,null,null,"RMSE IN US SURVEY FEET:",{"$f":"SQRT((\n(IF($K$7=TRUE,H7^2,0))+(IF($K$8=TRUE,H8^2,0))+(IF($K$9=TRUE,H9^2,0))+(IF($K$10=TRUE,H10^2,0))+(IF($K$11=TRUE,H11^2,0))+(IF($K$12=TRUE,H12^2,0))+(IF($K$13=TRUE,H13^2,0))+(IF($K$14=TRUE,H14^2,0))+(IF($K$15=TRUE,H15^2,0))+(IF($K$16=TRUE,H16^2,0))+(IF($K$17=TRUE,H17^2,0))+(IF($K$18=TRUE,H18^2,0))+(IF($K$19=TRUE,H19^2,0))+(IF($K$20=TRUE,H20^2,0))+(IF($K$21=TRUE,H21^2,0)))/\n(IF($K$7=TRUE,1,0)+IF($K$8=TRUE,1,0)+IF($K$9=TRUE,1,0)+IF($K$10=TRUE,1,0)+IF($K$11=TRUE,1,0)+IF($K$12=TRUE,1,0)+IF($K$13=TRUE,1,0)+IF($K$14=TRUE,1,0)+IF($K$15=TRUE,1,0)+IF($K$16=TRUE,1,0)+IF($K$17=TRUE,1,0)+IF($K$18=TRUE,1,0)+IF($K$19=TRUE,1,0)+IF($K$20=TRUE,1,0)+IF($K$21=TRUE,1,0)))","v":5.6094189841611004E-3},{"$f":"SQRT((\n(IF($K$7=TRUE,I7^2,0))+(IF($K$8=TRUE,I8^2,0))+(IF($K$9=TRUE,I9^2,0))+(IF($K$10=TRUE,I10^2,0))+(IF($K$11=TRUE,I11^2,0))+(IF($K$12=TRUE,I12^2,0))+(IF($K$13=TRUE,I13^2,0))+(IF($K$14=TRUE,I14^2,0))+(IF($K$15=TRUE,I15^2,0))+(IF($K$16=TRUE,I16^2,0))+(IF($K$17=TRUE,I17^2,0))+(IF($K$18=TRUE,I18^2,0))+(IF($K$19=TRUE,I19^2,0))+(IF($K$20=TRUE,I20^2,0))+(IF($K$21=TRUE,I21^2,0)))/\n(IF($K$7=TRUE,1,0)+IF($K$8=TRUE,1,0)+IF($K$9=TRUE,1,0)+IF($K$10=TRUE,1,0)+IF($K$11=TRUE,1,0)+IF($K$12=TRUE,1,0)+IF($K$13=TRUE,1,0)+IF($K$14=TRUE,1,0)+IF($K$15=TRUE,1,0)+IF($K$16=TRUE,1,0)+IF($K$17=TRUE,1,0)+IF($K$18=TRUE,1,0)+IF($K$19=TRUE,1,0)+IF($K$20=TRUE,1,0)+IF($K$21=TRUE,1,0)))","v":4.1058134668294404E-3},{"$f":"SQRT((\n(IF($K$7=TRUE,J7^2,0))+(IF($K$8=TRUE,J8^2,0))+(IF($K$9=TRUE,J9^2,0))+(IF($K$10=TRUE,J10^2,0))+(IF($K$11=TRUE,J11^2,0))+(IF($K$12=TRUE,J12^2,0))+(IF($K$13=TRUE,J13^2,0))+(IF($K$14=TRUE,J14^2,0))+(IF($K$15=TRUE,J15^2,0))+(IF($K$16=TRUE,J16^2,0))+(IF($K$17=TRUE,J17^2,0))+(IF($K$18=TRUE,J18^2,0))+(IF($K$19=TRUE,J19^2,0))+(IF($K$20=TRUE,J20^2,0))+(IF($K$21=TRUE,J21^2,0)))/\n(IF($K$7=TRUE,1,0)+IF($K$8=TRUE,1,0)+IF($K$9=TRUE,1,0)+IF($K$10=TRUE,1,0)+IF($K$11=TRUE,1,0)+IF($K$12=TRUE,1,0)+IF($K$13=TRUE,1,0)+IF($K$14=TRUE,1,0)+IF($K$15=TRUE,1,0)+IF($K$16=TRUE,1,0)+IF($K$17=TRUE,1,0)+IF($K$18=TRUE,1,0)+IF($K$19=TRUE,1,0)+IF($K$20=TRUE,1,0)+IF($K$21=TRUE,1,0)))","v":5.7503002691484005E-3}]
[null,null,null,1]
[null,null,"UNITLESS GRID TO GROUND MULTIPLIER",{"$f":"IF(REPORT!C13=\"n/a\",\"0.00000000\",REPORT!C13)","v":0},null,null,null,{"$f":"IF(H23<=0.029,\"PASS\",\"FAIL\")","v":"PASS"},{"$f":"IF(I23<=0.029,\"PASS\",\"FAIL\")","v":"PASS"},{"$f":"IF(J23<=0.039,\"PASS\",\"FAIL\")","v":"PASS"}]
[]
["AVERAGED GPS-DERIVED POSITION",null,null,null,null,null,null,null,"Notes:"]
[null,"MONUMENT COORDINATES",null,"NORTHING","EASTING","ORTHO HEIGHT"]
[null,"US Survey Feet (GRID)",null,{"$f":"$E$22","v":314875.16644167481},{"$f":"$F$22","v":2264670.3648361345},{"$f":"$G$22","v":880.86181616827662}]
[]
["LEVELED ELEVATION"]
["US SURVEY FEET",null,"N/A","(Type the leveled elevation or N/A if no leveled elevation is available)"]
["MONUMENT HELD",null,null,"(Type the monument name from which leveling originated)"]
["LEVELED ELEVATION - GPS DERIVED ELEVATION   = ",null,null,null,{"$f":"IF(C32=\"N/A\",\"N/A\",C32-(F29*D24))","v":"N/A"}]
[]
["FINAL MONUMENT COORDINATES"]
[null,"MONUMENT COORDINATES",null,"NORTHING","EASTING","ELEVATION","FEATURE CODE"]
[null,"US SURVEY FEET (GRID)",null,{"$f":"$E$22*$D$24","v":314875.16644167481},{"$f":"$F$22*$D$24","v":2264670.3648361345},{"$f":"IF($C$32=\"N/A\",($G$22*$D$24),$C$32)","v":880.86181616827662},"AERTAR"]
[null,"US SURVEY FEET (GROUND)",null,{"$f":"$D$38*$D$25","v":0},{"$f":"$E$38*$D$25","v":0},{"$f":"IF($C$32=\"N/A\",($G$22*$D$24),$C$32)","v":880.86181616827662},{"$f":"G38","v":"AERTAR"}]
[]
["∆ North,  ∆ East, and ∆ Ht. are the difference between the average northing, easting, and height for each observation.",null,null,null,null,null,null,null,"Mask Angle:","10°"]

{"sheet":"GS5","index":11,"n_rows":41,"n_cols":11,"rows_kept":41,"cut":false,"hidden":false,"merged":[[37,1,37,2],[38,1,38,2],[27,1,27,2],[0,0,0,10],[36,1,36,2],[30,0,30,6],[26,0,26,6],[35,0,35,6],[28,1,28,2],[27,8,38,10]]}
["VRS GNSS Project Control Monument Coordinate Analysis"]
[]
["Project:",{"$f":"REPORT!B2","v":"TUS-800-22.74"},"GPS Antenna:","LEICA GS14",null,null,null,null,null,"Report Date:",{"$f":"REPORT!C49","v":"2018-12-19"}]
["PID:",{"$f":"REPORT!E2","v":100603},"VRS Network:","ODOT VRS",null,null,null,null,null,"Prepared By:",{"$f":"REPORT!C48","v":"Kolton Wilson"}]
["Point ID:","GS5","No. of Sessions:",{"$f":"COUNTIF(GPS_IMPORT!A2:A1000,$B$5)","v":12},null,null,null,null,null,"Checked By:",{"$f":"REPORT!C52","v":"Joel Swick"}]
["SESSION #","Point","Observation Date","Start Time","Northing(sft)","Easting(sft)","Height(sft)","∆ Northing(sft)","∆ Easting(sft)","∆ Height(sft)","Include in Solution?"]
[1,{"$f":"IF(ROWS(GPS_IMPORT!$1:1)<=COUNTIF(GPS_IMPORT!$A$2:$A$10000,$B$5),INDEX(GPS_IMPORT!$2:$10000,MATCH($B$5,(GPS_IMPORT!$A$2:$A$10000),0)+ROWS($1:1)-1,COLUMN()-1),0)","v":"GS5"},{"$f":"IF(ROWS(GPS_IMPORT!$1:1)<=COUNTIF(GPS_IMPORT!$A$2:$A$10000,$B$5),INDEX(GPS_IMPORT!$2:$10000,MATCH($B$5,(GPS_IMPORT!$A$2:$A$10000),0)+ROWS($1:1)-1,COLUMN()-1),0)","v":"12.18.2018"},{"$f":"IF(ROWS(GPS_IMPORT!$1:1)<=COUNTIF(GPS_IMPORT!$A$2:$A$10000,$B$5),INDEX(GPS_IMPORT!$2:$10000,MATCH($B$5,(GPS_IMPORT!$A$2:$A$10000),0)+ROWS($1:1)-1,COLUMN()-1),0)","v":" 9:43:32.0600"},{"$f":"IF(ROWS(GPS_IMPORT!$1:1)<=COUNTIF(GPS_IMPORT!$A$2:$A$10000,$B$5),INDEX(GPS_IMPORT!$2:$10000,MATCH($B$5,(GPS_IMPORT!$A$2:$A$10000),0)+ROWS($1:1)-1,COLUMN()-1),0)","v":316420.73414809798},{"$f":"IF(ROWS(GPS_IMPORT!$1:1)<=COUNTIF(GPS_IMPORT!$A$2:$A$10000,$B$5),INDEX(GPS_IMPORT!$2:$10000,MATCH($B$5,(GPS_IMPORT!$A$2:$A$10000),0)+ROWS($1:1)-1,COLUMN()-1),0)","v":2266072.3733519502},{"$f":"IF(ROWS(GPS_IMPORT!$1:1)<=COUNTIF(GPS_IMPORT!$A$2:$A$10000,$B$5),INDEX(GPS_IMPORT!$2:$10000,MATCH($B$5,(GPS_IMPORT!$A$2:$A$10000),0)+ROWS($1:1)-1,COLUMN()-1),0)","v":880.63428762561},{"$f":"IF(E7>0,E$22-E7,0)","v":-5.6523585808463395E-3},-2.9851966537535191E-3,1.5135406575609522E-2,true]
[2,{"$f":"IF(ROWS(GPS_IMPORT!$1:2)<=COUNTIF(GPS_IMPORT!$A$2:$A$10000,$B$5),INDEX(GPS_IMPORT!$2:$10000,MATCH($B$5,(GPS_IMPORT!$A$2:$A$10000),0)+ROWS($1:2)-1,COLUMN()-1),0)","v":"GS5"},{"$f":"IF(ROWS(GPS_IMPORT!$1:2)<=COUNTIF(GPS_IMPORT!$A$2:$A$10000,$B$5),INDEX(GPS_IMPORT!$2:$10000,MATCH($B$5,(GPS_IMPORT!$A$2:$A$10000),0)+ROWS($1:2)-1,COLUMN()-1),0)","v":"12.18.2018"},{"$f":"IF(ROWS(GPS_IMPORT!$1:2)<=COUNTIF(GPS_IMPORT!$A$2:$A$10000,$B$5),INDEX(GPS_IMPORT!$2:$10000,MATCH($B$5,(GPS_IMPORT!$A$2:$A$10000),0)+ROWS($1:2)-1,COLUMN()-1),0)","v":" 9:43:43.0800"},{"$f":"IF(ROWS(GPS_IMPORT!$1:2)<=COUNTIF(GPS_IMPORT!$A$2:$A$10000,$B$5),INDEX(GPS_IMPORT!$2:$10000,MATCH($B$5,(GPS_IMPORT!$A$2:$A$10000),0)+ROWS($1:2)-1,COLUMN()-1),0)","v":316420.73239817203},{"$f":"IF(ROWS(GPS_IMPORT!$1:2)<=COUNTIF(GPS_IMPORT!$A$2:$A$10000,$B$5),INDEX(GPS_IMPORT!$2:$10000,MATCH($B$5,(GPS_IMPORT!$A$2:$A$10000),0)+ROWS($1:2)-1,COLUMN()-1),0)","v":2266072.3753090799},{"$f":"IF(ROWS(GPS_IMPORT!$1:2)<=COUNTIF(GPS_IMPORT!$A$2:$A$10000,$B$5),INDEX(GPS_IMPORT!$2:$10000,MATCH($B$5,(GPS_IMPORT!$A$2:$A$10000),0)+ROWS($1:2)-1,COLUMN()-1),0)","v":880.63958089748996},-3.902432625181973E-3,-4.9423263408243656E-3,9.8421346956456546E-3,true]
[3,{"$f":"IF(ROWS(GPS_IMPORT!$1:3)<=COUNTIF(GPS_IMPORT!$A$2:$A$10000,$B$5),INDEX(GPS_IMPORT!$2:$10000,MATCH($B$5,(GPS_IMPORT!$A$2:$A$10000),0)+ROWS($1:3)-1,COLUMN()-1),0)","v":"GS5"},{"$f":"IF(ROWS(GPS_IMPORT!$1:3)<=COUNTIF(GPS_IMPORT!$A$2:$A$10000,$B$5),INDEX(GPS_IMPORT!$2:$10000,MATCH($B$5,(GPS_IMPORT!$A$2:$A$10000),0)+ROWS($1:3)-1,COLUMN()-1),0)","v":"12.18.2018"},{"$f":"IF(ROWS(GPS_IMPORT!$1:3)<=COUNTIF(GPS_IMPORT!$A$2:$A$10000,$B$5),INDEX(GPS_IMPORT!$2:$10000,MATCH($B$5,(GPS_IMPORT!$A$2:$A$10000),0)+ROWS($1:3)-1,COLUMN()-1),0)","v":" 9:43:52.7000"},{"$f":"IF(ROWS(GPS_IMPORT!$1:3)<=COUNTIF(GPS_IMPORT!$A$2:$A$10000,$B$5),INDEX(GPS_IMPORT!$2:$10000,MATCH($B$5,(GPS_IMPORT!$A$2:$A$10000),0)+ROWS($1:3)-1,COLUMN()-1),0)","v":316420.72625062102},{"$f":"IF(ROWS(GPS_IMPORT!$1:3)<=COUNTIF(GPS_IMPORT!$A$2:$A$10000,$B$5),INDEX(GPS_IMPORT!$2:$10000,MATCH($B$5,(GPS_IMPORT!$A$2:$A$10000),0)+ROWS($1:3)-1,COLUMN()-1),0)","v":2266072.3681540601},{"$f":"IF(ROWS(GPS_IMPORT!$1:3)<=COUNTIF(GPS_IMPORT!$A$2:$A$10000,$B$5),INDEX(GPS_IMPORT!$2:$10000,MATCH($B$5,(GPS_IMPORT!$A$2:$A$10000),0)+ROWS($1:3)-1,COLUMN()-1),0)","v":880.66066197123996},2.2451183758676052E-3,2.2126934491097927E-3,-1.1238939054351249E-2,true]
[4,{"$f":"IF(ROWS(GPS_IMPORT!$1:4)<=COUNTIF(GPS_IMPORT!$A$2:$A$10000,$B$5),INDEX(GPS_IMPORT!$2:$10000,MATCH($B$5,(GPS_IMPORT!$A$2:$A$10000),0)+ROWS($1:4)-1,COLUMN()-1),0)","v":"GS5"},{"$f":"IF(ROWS(GPS_IMPORT!$1:4)<=COUNTIF(GPS_IMPORT!$A$2:$A$10000,$B$5),INDEX(GPS_IMPORT!$2:$10000,MATCH($B$5,(GPS_IMPORT!$A$2:$A$10000),0)+ROWS($1:4)-1,COLUMN()-1),0)","v":"12.18.2018"},{"$f":"IF(ROWS(GPS_IMPORT!$1:4)<=COUNTIF(GPS_IMPORT!$A$2:$A$10000,$B$5),INDEX(GPS_IMPORT!$2:$10000,MATCH($B$5,(GPS_IMPORT!$A$2:$A$10000),0)+ROWS($1:4)-1,COLUMN()-1),0)","v":" 9:44:6.8600"},{"$f":"IF(ROWS(GPS_IMPORT!$1:4)<=COUNTIF(GPS_IMPORT!$A$2:$A$10000,$B$5),INDEX(GPS_IMPORT!$2:$10000,MATCH($B$5,(GPS_IMPORT!$A$2:$A$10000),0)+ROWS($1:4)-1,COLUMN()-1),0)","v":316420.72218136903},{"$f":"IF(ROWS(GPS_IMPORT!$1:4)<=COUNTIF(GPS_IMPORT!$A$2:$A$10000,$B$5),INDEX(GPS_IMPORT!$2:$10000,MATCH($B$5,(GPS_IMPORT!$A$2:$A$10000),0)+ROWS($1:4)-1,COLUMN()-1),0)","v":2266072.3585198601},{"$f":"IF(ROWS(GPS_IMPORT!$1:4)<=COUNTIF(GPS_IMPORT!$A$2:$A$10000,$B$5),INDEX(GPS_IMPORT!$2:$10000,MATCH($B$5,(GPS_IMPORT!$A$2:$A$10000),0)+ROWS($1:4)-1,COLUMN()-1),0)","v":880.66183525200995},6.3143703737296164E-3,1.1846893467009068E-2,-1.2412219824341264E-2,true]
[5,{"$f":"IF(ROWS(GPS_IMPORT!$1:5)<=COUNTIF(GPS_IMPORT!$A$2:$A$10000,$B$5),INDEX(GPS_IMPORT!$2:$10000,MATCH($B$5,(GPS_IMPORT!$A$2:$A$10000),0)+ROWS($1:5)-1,COLUMN()-1),0)","v":"GS5"},{"$f":"IF(ROWS(GPS_IMPORT!$1:5)<=COUNTIF(GPS_IMPORT!$A$2:$A$10000,$B$5),INDEX(GPS_IMPORT!$2:$10000,MATCH($B$5,(GPS_IMPORT!$A$2:$A$10000),0)+ROWS($1:5)-1,COLUMN()-1),0)","v":"12.18.2018"},{"$f":"IF(ROWS(GPS_IMPORT!$1:5)<=COUNTIF(GPS_IMPORT!$A$2:$A$10000,$B$5),INDEX(GPS_IMPORT!$2:$10000,MATCH($B$5,(GPS_IMPORT!$A$2:$A$10000),0)+ROWS($1:5)-1,COLUMN()-1),0)","v":" 9:44:26.7800"},{"$f":"IF(ROWS(GPS_IMPORT!$1:5)<=COUNTIF(GPS_IMPORT!$A$2:$A$10000,$B$5),INDEX(GPS_IMPORT!$2:$10000,MATCH($B$5,(GPS_IMPORT!$A$2:$A$10000),0)+ROWS($1:5)-1,COLUMN()-1),0)","v":316420.726608795},{"$f":"IF(ROWS(GPS_IMPORT!$1:5)<=COUNTIF(GPS_IMPORT!$A$2:$A$10000,$B$5),INDEX(GPS_IMPORT!$2:$10000,MATCH($B$5,(GPS_IMPORT!$A$2:$A$10000),0)+ROWS($1:5)-1,COLUMN()-1),0)","v":2266072.3694845801},{"$f":"IF(ROWS(GPS_IMPORT!$1:5)<=COUNTIF(GPS_IMPORT!$A$2:$A$10000,$B$5),INDEX(GPS_IMPORT!$2:$10000,MATCH($B$5,(GPS_IMPORT!$A$2:$A$10000),0)+ROWS($1:5)-1,COLUMN()-1),0)","v":880.64329881654999},1.8869444029405713E-3,8.8217342272400856E-4,6.1242156356229316E-3,true]
[6,{"$f":"IF(ROWS(GPS_IMPORT!$1:6)<=COUNTIF(GPS_IMPORT!$A$2:$A$10000,$B$5),INDEX(GPS_IMPORT!$2:$10000,MATCH($B$5,(GPS_IMPORT!$A$2:$A$10000),0)+ROWS($1:6)-1,COLUMN()-1),0)","v":"GS5"},{"$f":"IF(ROWS(GPS_IMPORT!$1:6)<=COUNTIF(GPS_IMPORT!$A$2:$A$10000,$B$5),INDEX(GPS_IMPORT!$2:$10000,MATCH($B$5,(GPS_IMPORT!$A$2:$A$10000),0)+ROWS($1:6)-1,COLUMN()-1),0)","v":"12.18.2018"},{"$f":"IF(ROWS(GPS_IMPORT!$1:6)<=COUNTIF(GPS_IMPORT!$A$2:$A$10000,$B$5),INDEX(GPS_IMPORT!$2:$10000,MATCH($B$5,(GPS_IMPORT!$A$2:$A$10000),0)+ROWS($1:6)-1,COLUMN()-1),0)","v":" 9:44:37.0400"},{"$f":"IF(ROWS(GPS_IMPORT!$1:6)<=COUNTIF(GPS_IMPORT!$A$2:$A$10000,$B$5),INDEX(GPS_IMPORT!$2:$10000,MATCH($B$5,(GPS_IMPORT!$A$2:$A$10000),0)+ROWS($1:6)-1,COLUMN()-1),0)","v":316420.72525363602},{"$f":"IF(ROWS(GPS_IMPORT!$1:6)<=COUNTIF(GPS_IMPORT!$A$2:$A$10000,$B$5),INDEX(GPS_IMPORT!$2:$10000,MATCH($B$5,(GPS_IMPORT!$A$2:$A$10000),0)+ROWS($1:6)-1,COLUMN()-1),0)","v":2266072.37058227},{"$f":"IF(ROWS(GPS_IMPORT!$1:6)<=COUNTIF(GPS_IMPORT!$A$2:$A$10000,$B$5),INDEX(GPS_IMPORT!$2:$10000,MATCH($B$5,(GPS_IMPORT!$A$2:$A$10000),0)+ROWS($1:6)-1,COLUMN()-1),0)","v":880.65192392798997},3.2421033829450607E-3,-2.1551642566919327E-4,-2.5008958043599705E-3,true]
[7,{"$f":"IF(ROWS(GPS_IMPORT!$1:7)<=COUNTIF(GPS_IMPORT!$A$2:$A$10000,$B$5),INDEX(GPS_IMPORT!$2:$10000,MATCH($B$5,(GPS_IMPORT!$A$2:$A$10000),0)+ROWS($1:7)-1,COLUMN()-1),0)","v":"GS5"},{"$f":"IF(ROWS(GPS_IMPORT!$1:7)<=COUNTIF(GPS_IMPORT!$A$2:$A$10000,$B$5),INDEX(GPS_IMPORT!$2:$10000,MATCH($B$5,(GPS_IMPORT!$A$2:$A$10000),0)+ROWS($1:7)-1,COLUMN()-1),0)","v":"12.18.2018"},{"$f":"IF(ROWS(GPS_IMPORT!$1:7)<=COUNTIF(GPS_IMPORT!$A$2:$A$10000,$B$5),INDEX(GPS_IMPORT!$2:$10000,MATCH($B$5,(GPS_IMPORT!$A$2:$A$10000),0)+ROWS($1:7)-1,COLUMN()-1),0)","v":" 9:44:47.3400"},{"$f":"IF(ROWS(GPS_IMPORT!$1:7)<=COUNTIF(GPS_IMPORT!$A$2:$A$10000,$B$5),INDEX(GPS_IMPORT!$2:$10000,MATCH($B$5,(GPS_IMPORT!$A$2:$A$10000),0)+ROWS($1:7)-1,COLUMN()-1),0)","v":316420.728792704},{"$f":"IF(ROWS(GPS_IMPORT!$1:7)<=COUNTIF(GPS_IMPORT!$A$2:$A$10000,$B$5),INDEX(GPS_IMPORT!$2:$10000,MATCH($B$5,(GPS_IMPORT!$A$2:$A$10000),0)+ROWS($1:7)-1,COLUMN()-1),0)","v":2266072.3769967998},{"$f":"IF(ROWS(GPS_IMPORT!$1:7)<=COUNTIF(GPS_IMPORT!$A$2:$A$10000,$B$5),INDEX(GPS_IMPORT!$2:$10000,MATCH($B$5,(GPS_IMPORT!$A$2:$A$10000),0)+ROWS($1:7)-1,COLUMN()-1),0)","v":880.65757805608996},-2.9696460114791989E-4,-6.6300462931394577E-3,-8.1550239043508554E-3,true]
[8,{"$f":"IF(ROWS(GPS_IMPORT!$1:8)<=COUNTIF(GPS_IMPORT!$A$2:$A$10000,$B$5),INDEX(GPS_IMPORT!$2:$10000,MATCH($B$5,(GPS_IMPORT!$A$2:$A$10000),0)+ROWS($1:8)-1,COLUMN()-1),0)","v":"GS5"},{"$f":"IF(ROWS(GPS_IMPORT!$1:8)<=COUNTIF(GPS_IMPORT!$A$2:$A$10000,$B$5),INDEX(GPS_IMPORT!$2:$10000,MATCH($B$5,(GPS_IMPORT!$A$2:$A$10000),0)+ROWS($1:8)-1,COLUMN()-1),0)","v":"12.18.2018"},{"$f":"IF(ROWS(GPS_IMPORT!$1:8)<=COUNTIF(GPS_IMPORT!$A$2:$A$10000,$B$5),INDEX(GPS_IMPORT!$2:$10000,MATCH($B$5,(GPS_IMPORT!$A$2:$A$10000),0)+ROWS($1:8)-1,COLUMN()-1),0)","v":" 9:44:57.1900"},{"$f":"IF(ROWS(GPS_IMPORT!$1:8)<=COUNTIF(GPS_IMPORT!$A$2:$A$10000,$B$5),INDEX(GPS_IMPORT!$2:$10000,MATCH($B$5,(GPS_IMPORT!$A$2:$A$10000),0)+ROWS($1:8)-1,COLUMN()-1),0)","v":316420.72799326398},{"$f":"IF(ROWS(GPS_IMPORT!$1:8)<=COUNTIF(GPS_IMPORT!$A$2:$A$10000,$B$5),INDEX(GPS_IMPORT!$2:$10000,MATCH($B$5,(GPS_IMPORT!$A$2:$A$10000),0)+ROWS($1:8)-1,COLUMN()-1),0)","v":2266072.3699233602},{"$f":"IF(ROWS(GPS_IMPORT!$1:8)<=COUNTIF(GPS_IMPORT!$A$2:$A$10000,$B$5),INDEX(GPS_IMPORT!$2:$10000,MATCH($B$5,(GPS_IMPORT!$A$2:$A$10000),0)+ROWS($1:8)-1,COLUMN()-1),0)","v":880.65887767319998},5.0247542094439268E-4,4.4339336454868317E-4,-9.4546410143721005E-3,true]
[9,{"$f":"IF(ROWS(GPS_IMPORT!$1:9)<=COUNTIF(GPS_IMPORT!$A$2:$A$10000,$B$5),INDEX(GPS_IMPORT!$2:$10000,MATCH($B$5,(GPS_IMPORT!$A$2:$A$10000),0)+ROWS($1:9)-1,COLUMN()-1),0)","v":"GS5"},{"$f":"IF(ROWS(GPS_IMPORT!$1:9)<=COUNTIF(GPS_IMPORT!$A$2:$A$10000,$B$5),INDEX(GPS_IMPORT!$2:$10000,MATCH($B$5,(GPS_IMPORT!$A$2:$A$10000),0)+ROWS($1:9)-1,COLUMN()-1),0)","v":"12.18.2018"},{"$f":"IF(ROWS(GPS_IMPORT!$1:9)<=COUNTIF(GPS_IMPORT!$A$2:$A$10000,$B$5),INDEX(GPS_IMPORT!$2:$10000,MATCH($B$5,(GPS_IMPORT!$A$2:$A$10000),0)+ROWS($1:9)-1,COLUMN()-1),0)","v":" 9:45:10.3900"},{"$f":"IF(ROWS(GPS_IMPORT!$1:9)<=COUNTIF(GPS_IMPORT!$A$2:$A$10000,$B$5),INDEX(GPS_IMPORT!$2:$10000,MATCH($B$5,(GPS_IMPORT!$A$2:$A$10000),0)+ROWS($1:9)-1,COLUMN()-1),0)","v":316420.726315915},{"$f":"IF(ROWS(GPS_IMPORT!$1:9)<=COUNTIF(GPS_IMPORT!$A$2:$A$10000,$B$5),INDEX(GPS_IMPORT!$2:$10000,MATCH($B$5,(GPS_IMPORT!$A$2:$A$10000),0)+ROWS($1:9)-1,COLUMN()-1),0)","v":2266072.36840872},{"$f":"IF(ROWS(GPS_IMPORT!$1:9)<=COUNTIF(GPS_IMPORT!$A$2:$A$10000,$B$5),INDEX(GPS_IMPORT!$2:$10000,MATCH($B$5,(GPS_IMPORT!$A$2:$A$10000),0)+ROWS($1:9)-1,COLUMN()-1),0)","v":880.66252916842996},2.1798243978992105E-3,1.9580335356295109E-3,-1.3106136244346089E-2,true]
[10,{"$f":"IF(ROWS(GPS_IMPORT!$1:10)<=COUNTIF(GPS_IMPORT!$A$2:$A$10000,$B$5),INDEX(GPS_IMPORT!$2:$10000,MATCH($B$5,(GPS_IMPORT!$A$2:$A$10000),0)+ROWS($1:10)-1,COLUMN()-1),0)","v":"GS5"},{"$f":"IF(ROWS(GPS_IMPORT!$1:10)<=COUNTIF(GPS_IMPORT!$A$2:$A$10000,$B$5),INDEX(GPS_IMPORT!$2:$10000,MATCH($B$5,(GPS_IMPORT!$A$2:$A$10000),0)+ROWS($1:10)-1,COLUMN()-1),0)","v":"12.18.2018"},{"$f":"IF(ROWS(GPS_IMPORT!$1:10)<=COUNTIF(GPS_IMPORT!$A$2:$A$10000,$B$5),INDEX(GPS_IMPORT!$2:$10000,MATCH($B$5,(GPS_IMPORT!$A$2:$A$10000),0)+ROWS($1:10)-1,COLUMN()-1),0)","v":" 9:45:21.5800"},{"$f":"IF(ROWS(GPS_IMPORT!$1:10)<=COUNTIF(GPS_IMPORT!$A$2:$A$10000,$B$5),INDEX(GPS_IMPORT!$2:$10000,MATCH($B$5,(GPS_IMPORT!$A$2:$A$10000),0)+ROWS($1:10)-1,COLUMN()-1),0)","v":316420.72868566902},{"$f":"IF(ROWS(GPS_IMPORT!$1:10)<=COUNTIF(GPS_IMPORT!$A$2:$A$10000,$B$5),INDEX(GPS_IMPORT!$2:$10000,MATCH($B$5,(GPS_IMPORT!$A$2:$A$10000),0)+ROWS($1:10)-1,COLUMN()-1),0)","v":2266072.3650620198},{"$f":"IF(ROWS(GPS_IMPORT!$1:10)<=COUNTIF(GPS_IMPORT!$A$2:$A$10000,$B$5),INDEX(GPS_IMPORT!$2:$10000,MATCH($B$5,(GPS_IMPORT!$A$2:$A$10000),0)+ROWS($1:10)-1,COLUMN()-1),0)","v":880.65505891912005},-1.8992961850017309E-4,5.304733756929636E-3,-5.6358869344421691E-3,true]
[11,{"$f":"IF(ROWS(GPS_IMPORT!$1:11)<=COUNTIF(GPS_IMPORT!$A$2:$A$10000,$B$5),INDEX(GPS_IMPORT!$2:$10000,MATCH($B$5,(GPS_IMPORT!$A$2:$A$10000),0)+ROWS($1:11)-1,COLUMN()-1),0)","v":"GS5"},{"$f":"IF(ROWS(GPS_IMPORT!$1:11)<=COUNTIF(GPS_IMPORT!$A$2:$A$10000,$B$5),INDEX(GPS_IMPORT!$2:$10000,MATCH($B$5,(GPS_IMPORT!$A$2:$A$10000),0)+ROWS($1:11)-1,COLUMN()-1),0)","v":"12.18.2018"},{"$f":"IF(ROWS(GPS_IMPORT!$1:11)<=COUNTIF(GPS_IMPORT!$A$2:$A$10000,$B$5),INDEX(GPS_IMPORT!$2:$10000,MATCH($B$5,(GPS_IMPORT!$A$2:$A$10000),0)+ROWS($1:11)-1,COLUMN()-1),0)","v":" 9:45:31.0000"},{"$f":"IF(ROWS(GPS_IMPORT!$1:11)<=COUNTIF(GPS_IMPORT!$A$2:$A$10000,$B$5),INDEX(GPS_IMPORT!$2:$10000,MATCH($B$5,(GPS_IMPORT!$A$2:$A$10000),0)+ROWS($1:11)-1,COLUMN()-1),0)","v":316420.72979754303},{"$f":"IF(ROWS(GPS_IMPORT!$1:11)<=COUNTIF(GPS_IMPORT!$A$2:$A$10000,$B$5),INDEX(GPS_IMPORT!$2:$10000,MATCH($B$5,(GPS_IMPORT!$A$2:$A$10000),0)+ROWS($1:11)-1,COLUMN()-1),0)","v":2266072.3722451101},{"$f":"IF(ROWS(GPS_IMPORT!$1:11)<=COUNTIF(GPS_IMPORT!$A$2:$A$10000,$B$5),INDEX(GPS_IMPORT!$2:$10000,MATCH($B$5,(GPS_IMPORT!$A$2:$A$10000),0)+ROWS($1:11)-1,COLUMN()-1),0)","v":880.63979528153004},-1.3018036261200905E-3,-1.8783565610647202E-3,9.6277506555679793E-3,true]
[12,{"$f":"IF(ROWS(GPS_IMPORT!$1:12)<=COUNTIF(GPS_IMPORT!$A$2:$A$10000,$B$5),INDEX(GPS_IMPORT!$2:$10000,MATCH($B$5,(GPS_IMPORT!$A$2:$A$10000),0)+ROWS($1:12)-1,COLUMN()-1),0)","v":"GS5"},{"$f":"IF(ROWS(GPS_IMPORT!$1:12)<=COUNTIF(GPS_IMPORT!$A$2:$A$10000,$B$5),INDEX(GPS_IMPORT!$2:$10000,MATCH($B$5,(GPS_IMPORT!$A$2:$A$10000),0)+ROWS($1:12)-1,COLUMN()-1),0)","v":"12.18.2018"},{"$f":"IF(ROWS(GPS_IMPORT!$1:12)<=COUNTIF(GPS_IMPORT!$A$2:$A$10000,$B$5),INDEX(GPS_IMPORT!$2:$10000,MATCH($B$5,(GPS_IMPORT!$A$2:$A$10000),0)+ROWS($1:12)-1,COLUMN()-1),0)","v":" 9:45:40.7100"},{"$f":"IF(ROWS(GPS_IMPORT!$1:12)<=COUNTIF(GPS_IMPORT!$A$2:$A$10000,$B$5),INDEX(GPS_IMPORT!$2:$10000,MATCH($B$5,(GPS_IMPORT!$A$2:$A$10000),0)+ROWS($1:12)-1,COLUMN()-1),0)","v":316420.733523086},{"$f":"IF(ROWS(GPS_IMPORT!$1:12)<=COUNTIF(GPS_IMPORT!$A$2:$A$10000,$B$5),INDEX(GPS_IMPORT!$2:$10000,MATCH($B$5,(GPS_IMPORT!$A$2:$A$10000),0)+ROWS($1:12)-1,COLUMN()-1),0)","v":2266072.3763632299},{"$f":"IF(ROWS(GPS_IMPORT!$1:12)<=COUNTIF(GPS_IMPORT!$A$2:$A$10000,$B$5),INDEX(GPS_IMPORT!$2:$10000,MATCH($B$5,(GPS_IMPORT!$A$2:$A$10000),0)+ROWS($1:12)-1,COLUMN()-1),0)","v":880.62764879696999},-5.0273466040380299E-3,-5.9964763931930065E-3,2.17742352156165E-2,true]
[13,{"$f":"IF(ROWS(GPS_IMPORT!$1:13)<=COUNTIF(GPS_IMPORT!$A$2:$A$10000,$B$5),INDEX(GPS_IMPORT!$2:$10000,MATCH($B$5,(GPS_IMPORT!$A$2:$A$10000),0)+ROWS($1:13)-1,COLUMN()-1),0)","v":0},{"$f":"IF(ROWS(GPS_IMPORT!$1:13)<=COUNTIF(GPS_IMPORT!$A$2:$A$10000,$B$5),INDEX(GPS_IMPORT!$2:$10000,MATCH($B$5,(GPS_IMPORT!$A$2:$A$10000),0)+ROWS($1:13)-1,COLUMN()-1),0)","v":"00:00:00"},{"$f":"IF(ROWS(GPS_IMPORT!$1:13)<=COUNTIF(GPS_IMPORT!$A$2:$A$10000,$B$5),INDEX(GPS_IMPORT!$2:$10000,MATCH($B$5,(GPS_IMPORT!$A$2:$A$10000),0)+ROWS($1:13)-1,COLUMN()-1),0)","v":"00:00:00"},{"$f":"IF(ROWS(GPS_IMPORT!$1:13)<=COUNTIF(GPS_IMPORT!$A$2:$A$10000,$B$5),INDEX(GPS_IMPORT!$2:$10000,MATCH($B$5,(GPS_IMPORT!$A$2:$A$10000),0)+ROWS($1:13)-1,COLUMN()-1),0)","v":0},{"$f":"IF(ROWS(GPS_IMPORT!$1:13)<=COUNTIF(GPS_IMPORT!$A$2:$A$10000,$B$5),INDEX(GPS_IMPORT!$2:$10000,MATCH($B$5,(GPS_IMPORT!$A$2:$A$10000),0)+ROWS($1:13)-1,COLUMN()-1),0)","v":0},{"$f":"IF(ROWS(GPS_IMPORT!$1:13)<=COUNTIF(GPS_IMPORT!$A$2:$A$10000,$B$5),INDEX(GPS_IMPORT!$2:$10000,MATCH($B$5,(GPS_IMPORT!$A$2:$A$10000),0)+ROWS($1:13)-1,COLUMN()-1),0)","v":0},{"$f":"IF(E19>0,E$22-E19,0)","v":0},0,0,false]
[14,{"$f":"IF(ROWS(GPS_IMPORT!$1:14)<=COUNTIF(GPS_IMPORT!$A$2:$A$10000,$B$5),INDEX(GPS_IMPORT!$2:$10000,MATCH($B$5,(GPS_IMPORT!$A$2:$A$10000),0)+ROWS($1:14)-1,COLUMN()-1),0)","v":0},{"$f":"IF(ROWS(GPS_IMPORT!$1:14)<=COUNTIF(GPS_IMPORT!$A$2:$A$10000,$B$5),INDEX(GPS_IMPORT!$2:$10000,MATCH($B$5,(GPS_IMPORT!$A$2:$A$10000),0)+ROWS($1:14)-1,COLUMN()-1),0)","v":"00:00:00"},{"$f":"IF(ROWS(GPS_IMPORT!$1:14)<=COUNTIF(GPS_IMPORT!$A$2:$A$10000,$B$5),INDEX(GPS_IMPORT!$2:$10000,MATCH($B$5,(GPS_IMPORT!$A$2:$A$10000),0)+ROWS($1:14)-1,COLUMN()-1),0)","v":"00:00:00"},{"$f":"IF(ROWS(GPS_IMPORT!$1:14)<=COUNTIF(GPS_IMPORT!$A$2:$A$10000,$B$5),INDEX(GPS_IMPORT!$2:$10000,MATCH($B$5,(GPS_IMPORT!$A$2:$A$10000),0)+ROWS($1:14)-1,COLUMN()-1),0)","v":0},{"$f":"IF(ROWS(GPS_IMPORT!$1:14)<=COUNTIF(GPS_IMPORT!$A$2:$A$10000,$B$5),INDEX(GPS_IMPORT!$2:$10000,MATCH($B$5,(GPS_IMPORT!$A$2:$A$10000),0)+ROWS($1:14)-1,COLUMN()-1),0)","v":0},{"$f":"IF(ROWS(GPS_IMPORT!$1:14)<=COUNTIF(GPS_IMPORT!$A$2:$A$10000,$B$5),INDEX(GPS_IMPORT!$2:$10000,MATCH($B$5,(GPS_IMPORT!$A$2:$A$10000),0)+ROWS($1:14)-1,COLUMN()-1),0)","v":0},0,0,0,false]
[15,{"$f":"IF(ROWS(GPS_IMPORT!$1:15)<=COUNTIF(GPS_IMPORT!$A$2:$A$10000,$B$5),INDEX(GPS_IMPORT!$2:$10000,MATCH($B$5,(GPS_IMPORT!$A$2:$A$10000),0)+ROWS($1:15)-1,COLUMN()-1),0)","v":0},{"$f":"IF(ROWS(GPS_IMPORT!$1:15)<=COUNTIF(GPS_IMPORT!$A$2:$A$10000,$B$5),INDEX(GPS_IMPORT!$2:$10000,MATCH($B$5,(GPS_IMPORT!$A$2:$A$10000),0)+ROWS($1:15)-1,COLUMN()-1),0)","v":"00:00:00"},{"$f":"IF(ROWS(GPS_IMPORT!$1:15)<=COUNTIF(GPS_IMPORT!$A$2:$A$10000,$B$5),INDEX(GPS_IMPORT!$2:$10000,MATCH($B$5,(GPS_IMPORT!$A$2:$A$10000),0)+ROWS($1:15)-1,COLUMN()-1),0)","v":"00:00:00"},{"$f":"IF(ROWS(GPS_IMPORT!$1:15)<=COUNTIF(GPS_IMPORT!$A$2:$A$10000,$B$5),INDEX(GPS_IMPORT!$2:$10000,MATCH($B$5,(GPS_IMPORT!$A$2:$A$10000),0)+ROWS($1:15)-1,COLUMN()-1),0)","v":0},{"$f":"IF(ROWS(GPS_IMPORT!$1:15)<=COUNTIF(GPS_IMPORT!$A$2:$A$10000,$B$5),INDEX(GPS_IMPORT!$2:$10000,MATCH($B$5,(GPS_IMPORT!$A$2:$A$10000),0)+ROWS($1:15)-1,COLUMN()-1),0)","v":0},{"$f":"IF(ROWS(GPS_IMPORT!$1:15)<=COUNTIF(GPS_IMPORT!$A$2:$A$10000,$B$5),INDEX(GPS_IMPORT!$2:$10000,MATCH($B$5,(GPS_IMPORT!$A$2:$A$10000),0)+ROWS($1:15)-1,COLUMN()-1),0)","v":0},0,0,0,false]
[null,null,null,"AVERAGE",{"$f":"(IF($K$7=TRUE,E7,0)+IF($K$8=TRUE,E8,0)+IF($K$9=TRUE,E9,0)+IF($K$10=TRUE,E10,0)+IF($K$11=TRUE,E11,0)+IF($K$12=TRUE,E12,0)+IF($K$13=TRUE,E13,0)+IF($K$14=TRUE,E14,0)+IF($K$15=TRUE,E15,0)+IF($K$16=TRUE,E16,0)+IF($K$17=TRUE,E17,0)+IF($K$18=TRUE,E18,0)+IF($K$19=TRUE,E19,0)+IF($K$20=TRUE,E20,0)+IF($K$21=TRUE,E21,0))/(IF($K$7=TRUE,1,0)+IF($K$8=TRUE,1,0)+IF($K$9=TRUE,1,0)+IF($K$10=TRUE,1,0)+IF($K$11=TRUE,1,0)+IF($K$12=TRUE,1,0)+IF($K$13=TRUE,1,0)+IF($K$14=TRUE,1,0)+IF($K$15=TRUE,1,0)+IF($K$16=TRUE,1,0)+IF($K$17=TRUE,1,0)+IF($K$18=TRUE,1,0)+IF($K$19=TRUE,1,0)+IF($K$20=TRUE,1,0)+IF($K$21=TRUE,1,0))","v":316420.7284957394},{"$f":"(IF($K$7=TRUE,F7,0)+IF($K$8=TRUE,F8,0)+IF($K$9=TRUE,F9,0)+IF($K$10=TRUE,F10,0)+IF($K$11=TRUE,F11,0)+IF($K$12=TRUE,F12,0)+IF($K$13=TRUE,F13,0)+IF($K$14=TRUE,F14,0)+IF($K$15=TRUE,F15,0)+IF($K$16=TRUE,F16,0)+IF($K$17=TRUE,F17,0)+IF($K$18=TRUE,F18,0)+IF($K$19=TRUE,F19,0)+IF($K$20=TRUE,F20,0)+IF($K$21=TRUE,F21,0))/(IF($K$7=TRUE,1,0)+IF($K$8=TRUE,1,0)+IF($K$9=TRUE,1,0)+IF($K$10=TRUE,1,0)+IF($K$11=TRUE,1,0)+IF($K$12=TRUE,1,0)+IF($K$13=TRUE,1,0)+IF($K$14=TRUE,1,0)+IF($K$15=TRUE,1,0)+IF($K$16=TRUE,1,0)+IF($K$17=TRUE,1,0)+IF($K$18=TRUE,1,0)+IF($K$19=TRUE,1,0)+IF($K$20=TRUE,1,0)+IF($K$21=TRUE,1,0))","v":2266072.3703667535},{"$f":"(IF($K$7=TRUE,G7,0)+IF($K$8=TRUE,G8,0)+IF($K$9=TRUE,G9,0)+IF($K$10=TRUE,G10,0)+IF($K$11=TRUE,G11,0)+IF($K$12=TRUE,G12,0)+IF($K$13=TRUE,G13,0)+IF($K$14=TRUE,G14,0)+IF($K$15=TRUE,G15,0)+IF($K$16=TRUE,G16,0)+IF($K$17=TRUE,G17,0)+IF($K$18=TRUE,G18,0)+IF($K$19=TRUE,G19,0)+IF($K$20=TRUE,G20,0)+IF($K$21=TRUE,G21,0))/\n(IF($K$7=TRUE,1,0)+IF($K$8=TRUE,1,0)+IF($K$9=TRUE,1,0)+IF($K$10=TRUE,1,0)+IF($K$11=TRUE,1,0)+IF($K$12=TRUE,1,0)+IF($K$13=TRUE,1,0)+IF($K$14=TRUE,1,0)+IF($K$15=TRUE,1,0)+IF($K$16=TRUE,1,0)+IF($K$17=TRUE,1,0)+IF($K$18=TRUE,1,0)+IF($K$19=TRUE,1,0)+IF($K$20=TRUE,1,0)+IF($K$21=TRUE,1,0))","v":880.64942303218561},"RMSE:","RMSE:","RMSE:"]
[null,null,null,null,null,null,"RMSE IN US SURVEY FEET:",{"$f":"SQRT((\n(IF($K$7=TRUE,H7^2,0))+(IF($K$8=TRUE,H8^2,0))+(IF($K$9=TRUE,H9^2,0))+(IF($K$10=TRUE,H10^2,0))+(IF($K$11=TRUE,H11^2,0))+(IF($K$12=TRUE,H12^2,0))+(IF($K$13=TRUE,H13^2,0))+(IF($K$14=TRUE,H14^2,0))+(IF($K$15=TRUE,H15^2,0))+(IF($K$16=TRUE,H16^2,0))+(IF($K$17=TRUE,H17^2,0))+(IF($K$18=TRUE,H18^2,0))+(IF($K$19=TRUE,H19^2,0))+(IF($K$20=TRUE,H20^2,0))+(IF($K$21=TRUE,H21^2,0)))/\n(IF($K$7=TRUE,1,0)+IF($K$8=TRUE,1,0)+IF($K$9=TRUE,1,0)+IF($K$10=TRUE,1,0)+IF($K$11=TRUE,1,0)+IF($K$12=TRUE,1,0)+IF($K$13=TRUE,1,0)+IF($K$14=TRUE,1,0)+IF($K$15=TRUE,1,0)+IF($K$16=TRUE,1,0)+IF($K$17=TRUE,1,0)+IF($K$18=TRUE,1,0)+IF($K$19=TRUE,1,0)+IF($K$20=TRUE,1,0)+IF($K$21=TRUE,1,0)))","v":3.3943463402533749E-3},{"$f":"SQRT((\n(IF($K$7=TRUE,I7^2,0))+(IF($K$8=TRUE,I8^2,0))+(IF($K$9=TRUE,I9^2,0))+(IF($K$10=TRUE,I10^2,0))+(IF($K$11=TRUE,I11^2,0))+(IF($K$12=TRUE,I12^2,0))+(IF($K$13=TRUE,I13^2,0))+(IF($K$14=TRUE,I14^2,0))+(IF($K$15=TRUE,I15^2,0))+(IF($K$16=TRUE,I16^2,0))+(IF($K$17=TRUE,I17^2,0))+(IF($K$18=TRUE,I18^2,0))+(IF($K$19=TRUE,I19^2,0))+(IF($K$20=TRUE,I20^2,0))+(IF($K$21=TRUE,I21^2,0)))/\n(IF($K$7=TRUE,1,0)+IF($K$8=TRUE,1,0)+IF($K$9=TRUE,1,0)+IF($K$10=TRUE,1,0)+IF($K$11=TRUE,1,0)+IF($K$12=TRUE,1,0)+IF($K$13=TRUE,1,0)+IF($K$14=TRUE,1,0)+IF($K$15=TRUE,1,0)+IF($K$16=TRUE,1,0)+IF($K$17=TRUE,1,0)+IF($K$18=TRUE,1,0)+IF($K$19=TRUE,1,0)+IF($K$20=TRUE,1,0)+IF($K$21=TRUE,1,0)))","v":4.9583408070370798E-3},{"$f":"SQRT((\n(IF($K$7=TRUE,J7^2,0))+(IF($K$8=TRUE,J8^2,0))+(IF($K$9=TRUE,J9^2,0))+(IF($K$10=TRUE,J10^2,0))+(IF($K$11=TRUE,J11^2,0))+(IF($K$12=TRUE,J12^2,0))+(IF($K$13=TRUE,J13^2,0))+(IF($K$14=TRUE,J14^2,0))+(IF($K$15=TRUE,J15^2,0))+(IF($K$16=TRUE,J16^2,0))+(IF($K$17=TRUE,J17^2,0))+(IF($K$18=TRUE,J18^2,0))+(IF($K$19=TRUE,J19^2,0))+(IF($K$20=TRUE,J20^2,0))+(IF($K$21=TRUE,J21^2,0)))/\n(IF($K$7=TRUE,1,0)+IF($K$8=TRUE,1,0)+IF($K$9=TRUE,1,0)+IF($K$10=TRUE,1,0)+IF($K$11=TRUE,1,0)+IF($K$12=TRUE,1,0)+IF($K$13=TRUE,1,0)+IF($K$14=TRUE,1,0)+IF($K$15=TRUE,1,0)+IF($K$16=TRUE,1,0)+IF($K$17=TRUE,1,0)+IF($K$18=TRUE,1,0)+IF($K$19=TRUE,1,0)+IF($K$20=TRUE,1,0)+IF($K$21=TRUE,1,0)))","v":1.1461257853025427E-2}]
[null,null,null,1]
[null,null,"UNITLESS GRID TO GROUND MULTIPLIER",{"$f":"IF(REPORT!C13=\"n/a\",\"0.00000000\",REPORT!C13)","v":0},null,null,null,{"$f":"IF(H23<=0.029,\"PASS\",\"FAIL\")","v":"PASS"},{"$f":"IF(I23<=0.029,\"PASS\",\"FAIL\")","v":"PASS"},{"$f":"IF(J23<=0.039,\"PASS\",\"FAIL\")","v":"PASS"}]
[]
["AVERAGED GPS-DERIVED POSITION",null,null,null,null,null,null,null,"Notes:"]
[null,"MONUMENT COORDINATES",null,"NORTHING","EASTING","ORTHO HEIGHT"]
[null,"US Survey Feet (GRID)",null,{"$f":"$E$22","v":316420.7284957394},{"$f":"$F$22","v":2266072.3703667535},{"$f":"$G$22","v":880.64942303218561}]
[]
["LEVELED ELEVATION"]
["US SURVEY FEET",null,"N/A","(Type the leveled elevation or N/A if no leveled elevation is available)"]
["MONUMENT HELD",null,null,"(Type the monument name from which leveling originated)"]
["LEVELED ELEVATION - GPS DERIVED ELEVATION   = ",null,null,null,{"$f":"IF(C32=\"N/A\",\"N/A\",C32-(F29*D24))","v":"N/A"}]
[]
["FINAL MONUMENT COORDINATES"]
[null,"MONUMENT COORDINATES",null,"NORTHING","EASTING","ELEVATION","FEATURE CODE"]
[null,"US SURVEY FEET (GRID)",null,{"$f":"$E$22*$D$24","v":316420.7284957394},{"$f":"$F$22*$D$24","v":2266072.3703667535},{"$f":"IF($C$32=\"N/A\",($G$22*$D$24),$C$32)","v":880.64942303218561},"AERTAR"]
[null,"US SURVEY FEET (GROUND)",null,{"$f":"$D$38*$D$25","v":0},{"$f":"$E$38*$D$25","v":0},{"$f":"IF($C$32=\"N/A\",($G$22*$D$24),$C$32)","v":880.64942303218561},{"$f":"G38","v":"AERTAR"}]
[]
["∆ North,  ∆ East, and ∆ Ht. are the difference between the average northing, easting, and height for each observation.",null,null,null,null,null,null,null,"Mask Angle:","10°"]

{"sheet":"GS6","index":12,"n_rows":41,"n_cols":11,"rows_kept":41,"cut":false,"hidden":false,"merged":[[0,0,0,10],[26,0,26,6],[27,1,27,2],[27,8,38,10],[28,1,28,2],[30,0,30,6],[35,0,35,6],[36,1,36,2],[37,1,37,2],[38,1,38,2]]}
["VRS GNSS Project Control Monument Coordinate Analysis"]
[]
["Project:",{"$f":"REPORT!B2","v":"TUS-800-22.74"},"GPS Antenna:","LEICA GS14",null,null,null,null,null,"Report Date:",{"$f":"REPORT!C49","v":"2018-12-19"}]
["PID:",{"$f":"REPORT!E2","v":100603},"VRS Network:","ODOT VRS",null,null,null,null,null,"Prepared By:",{"$f":"REPORT!C48","v":"Kolton Wilson"}]
["Point ID:","GS6","No. of Sessions:",{"$f":"COUNTIF(GPS_IMPORT!A2:A1000,$B$5)","v":12},null,null,null,null,null,"Checked By:",{"$f":"REPORT!C52","v":"Joel Swick"}]
["SESSION #","Point","Observation Date","Start Time","Northing(sft)","Easting(sft)","Height(sft)","∆ Northing(sft)","∆ Easting(sft)","∆ Height(sft)","Include in Solution?"]
[1,{"$f":"IF(ROWS(GPS_IMPORT!$1:1)<=COUNTIF(GPS_IMPORT!$A$2:$A$10000,$B$5),INDEX(GPS_IMPORT!$2:$10000,MATCH($B$5,(GPS_IMPORT!$A$2:$A$10000),0)+ROWS($1:1)-1,COLUMN()-1),0)","v":"GS6"},{"$f":"IF(ROWS(GPS_IMPORT!$1:1)<=COUNTIF(GPS_IMPORT!$A$2:$A$10000,$B$5),INDEX(GPS_IMPORT!$2:$10000,MATCH($B$5,(GPS_IMPORT!$A$2:$A$10000),0)+ROWS($1:1)-1,COLUMN()-1),0)","v":"12.18.2018"},{"$f":"IF(ROWS(GPS_IMPORT!$1:1)<=COUNTIF(GPS_IMPORT!$A$2:$A$10000,$B$5),INDEX(GPS_IMPORT!$2:$10000,MATCH($B$5,(GPS_IMPORT!$A$2:$A$10000),0)+ROWS($1:1)-1,COLUMN()-1),0)","v":" 9:53:38.8900"},{"$f":"IF(ROWS(GPS_IMPORT!$1:1)<=COUNTIF(GPS_IMPORT!$A$2:$A$10000,$B$5),INDEX(GPS_IMPORT!$2:$10000,MATCH($B$5,(GPS_IMPORT!$A$2:$A$10000),0)+ROWS($1:1)-1,COLUMN()-1),0)","v":311926.79393123102},{"$f":"IF(ROWS(GPS_IMPORT!$1:1)<=COUNTIF(GPS_IMPORT!$A$2:$A$10000,$B$5),INDEX(GPS_IMPORT!$2:$10000,MATCH($B$5,(GPS_IMPORT!$A$2:$A$10000),0)+ROWS($1:1)-1,COLUMN()-1),0)","v":2265883.91403266},{"$f":"IF(ROWS(GPS_IMPORT!$1:1)<=COUNTIF(GPS_IMPORT!$A$2:$A$10000,$B$5),INDEX(GPS_IMPORT!$2:$10000,MATCH($B$5,(GPS_IMPORT!$A$2:$A$10000),0)+ROWS($1:1)-1,COLUMN()-1),0)","v":1041.3150564079899},{"$f":"IF(E7>0,E$22-E7,0)","v":-2.01094412477687E-3},-3.3903336152434349E-3,1.8618949875417456E-2,true]
[2,{"$f":"IF(ROWS(GPS_IMPORT!$1:2)<=COUNTIF(GPS_IMPORT!$A$2:$A$10000,$B$5),INDEX(GPS_IMPORT!$2:$10000,MATCH($B$5,(GPS_IMPORT!$A$2:$A$10000),0)+ROWS($1:2)-1,COLUMN()-1),0)","v":"GS6"},{"$f":"IF(ROWS(GPS_IMPORT!$1:2)<=COUNTIF(GPS_IMPORT!$A$2:$A$10000,$B$5),INDEX(GPS_IMPORT!$2:$10000,MATCH($B$5,(GPS_IMPORT!$A$2:$A$10000),0)+ROWS($1:2)-1,COLUMN()-1),0)","v":"12.18.2018"},{"$f":"IF(ROWS(GPS_IMPORT!$1:2)<=COUNTIF(GPS_IMPORT!$A$2:$A$10000,$B$5),INDEX(GPS_IMPORT!$2:$10000,MATCH($B$5,(GPS_IMPORT!$A$2:$A$10000),0)+ROWS($1:2)-1,COLUMN()-1),0)","v":" 9:53:53.4200"},{"$f":"IF(ROWS(GPS_IMPORT!$1:2)<=COUNTIF(GPS_IMPORT!$A$2:$A$10000,$B$5),INDEX(GPS_IMPORT!$2:$10000,MATCH($B$5,(GPS_IMPORT!$A$2:$A$10000),0)+ROWS($1:2)-1,COLUMN()-1),0)","v":311926.79862916301},{"$f":"IF(ROWS(GPS_IMPORT!$1:2)<=COUNTIF(GPS_IMPORT!$A$2:$A$10000,$B$5),INDEX(GPS_IMPORT!$2:$10000,MATCH($B$5,(GPS_IMPORT!$A$2:$A$10000),0)+ROWS($1:2)-1,COLUMN()-1),0)","v":2265883.9203546802},{"$f":"IF(ROWS(GPS_IMPORT!$1:2)<=COUNTIF(GPS_IMPORT!$A$2:$A$10000,$B$5),INDEX(GPS_IMPORT!$2:$10000,MATCH($B$5,(GPS_IMPORT!$A$2:$A$10000),0)+ROWS($1:2)-1,COLUMN()-1),0)","v":1041.3005520839999},-6.7088761134073138E-3,-9.7123538143932819E-3,3.3123273865385272E-2,true]
[3,{"$f":"IF(ROWS(GPS_IMPORT!$1:3)<=COUNTIF(GPS_IMPORT!$A$2:$A$10000,$B$5),INDEX(GPS_IMPORT!$2:$10000,MATCH($B$5,(GPS_IMPORT!$A$2:$A$10000),0)+ROWS($1:3)-1,COLUMN()-1),0)","v":"GS6"},{"$f":"IF(ROWS(GPS_IMPORT!$1:3)<=COUNTIF(GPS_IMPORT!$A$2:$A$10000,$B$5),INDEX(GPS_IMPORT!$2:$10000,MATCH($B$5,(GPS_IMPORT!$A$2:$A$10000),0)+ROWS($1:3)-1,COLUMN()-1),0)","v":"12.18.2018"},{"$f":"IF(ROWS(GPS_IMPORT!$1:3)<=COUNTIF(GPS_IMPORT!$A$2:$A$10000,$B$5),INDEX(GPS_IMPORT!$2:$10000,MATCH($B$5,(GPS_IMPORT!$A$2:$A$10000),0)+ROWS($1:3)-1,COLUMN()-1),0)","v":" 9:54:5.2200"},{"$f":"IF(ROWS(GPS_IMPORT!$1:3)<=COUNTIF(GPS_IMPORT!$A$2:$A$10000,$B$5),INDEX(GPS_IMPORT!$2:$10000,MATCH($B$5,(GPS_IMPORT!$A$2:$A$10000),0)+ROWS($1:3)-1,COLUMN()-1),0)","v":311926.79956603801},{"$f":"IF(ROWS(GPS_IMPORT!$1:3)<=COUNTIF(GPS_IMPORT!$A$2:$A$10000,$B$5),INDEX(GPS_IMPORT!$2:$10000,MATCH($B$5,(GPS_IMPORT!$A$2:$A$10000),0)+ROWS($1:3)-1,COLUMN()-1),0)","v":2265883.91867196},{"$f":"IF(ROWS(GPS_IMPORT!$1:3)<=COUNTIF(GPS_IMPORT!$A$2:$A$10000,$B$5),INDEX(GPS_IMPORT!$2:$10000,MATCH($B$5,(GPS_IMPORT!$A$2:$A$10000),0)+ROWS($1:3)-1,COLUMN()-1),0)","v":1041.3012681590201},-7.645751116797328E-3,-8.029633667320013E-3,3.2407198845248786E-2,true]
[4,{"$f":"IF(ROWS(GPS_IMPORT!$1:4)<=COUNTIF(GPS_IMPORT!$A$2:$A$10000,$B$5),INDEX(GPS_IMPORT!$2:$10000,MATCH($B$5,(GPS_IMPORT!$A$2:$A$10000),0)+ROWS($1:4)-1,COLUMN()-1),0)","v":"GS6"},{"$f":"IF(ROWS(GPS_IMPORT!$1:4)<=COUNTIF(GPS_IMPORT!$A$2:$A$10000,$B$5),INDEX(GPS_IMPORT!$2:$10000,MATCH($B$5,(GPS_IMPORT!$A$2:$A$10000),0)+ROWS($1:4)-1,COLUMN()-1),0)","v":"12.18.2018"},{"$f":"IF(ROWS(GPS_IMPORT!$1:4)<=COUNTIF(GPS_IMPORT!$A$2:$A$10000,$B$5),INDEX(GPS_IMPORT!$2:$10000,MATCH($B$5,(GPS_IMPORT!$A$2:$A$10000),0)+ROWS($1:4)-1,COLUMN()-1),0)","v":" 9:54:17.0600"},{"$f":"IF(ROWS(GPS_IMPORT!$1:4)<=COUNTIF(GPS_IMPORT!$A$2:$A$10000,$B$5),INDEX(GPS_IMPORT!$2:$10000,MATCH($B$5,(GPS_IMPORT!$A$2:$A$10000),0)+ROWS($1:4)-1,COLUMN()-1),0)","v":311926.79267806699},{"$f":"IF(ROWS(GPS_IMPORT!$1:4)<=COUNTIF(GPS_IMPORT!$A$2:$A$10000,$B$5),INDEX(GPS_IMPORT!$2:$10000,MATCH($B$5,(GPS_IMPORT!$A$2:$A$10000),0)+ROWS($1:4)-1,COLUMN()-1),0)","v":2265883.9137972798},{"$f":"IF(ROWS(GPS_IMPORT!$1:4)<=COUNTIF(GPS_IMPORT!$A$2:$A$10000,$B$5),INDEX(GPS_IMPORT!$2:$10000,MATCH($B$5,(GPS_IMPORT!$A$2:$A$10000),0)+ROWS($1:4)-1,COLUMN()-1),0)","v":1041.33189289593},-7.5778010068461299E-4,-3.1549534760415554E-3,1.7824619353632443E-3,true]
[5,{"$f":"IF(ROWS(GPS_IMPORT!$1:5)<=COUNTIF(GPS_IMPORT!$A$2:$A$10000,$B$5),INDEX(GPS_IMPORT!$2:$10000,MATCH($B$5,(GPS_IMPORT!$A$2:$A$10000),0)+ROWS($1:5)-1,COLUMN()-1),0)","v":"GS6"},{"$f":"IF(ROWS(GPS_IMPORT!$1:5)<=COUNTIF(GPS_IMPORT!$A$2:$A$10000,$B$5),INDEX(GPS_IMPORT!$2:$10000,MATCH($B$5,(GPS_IMPORT!$A$2:$A$10000),0)+ROWS($1:5)-1,COLUMN()-1),0)","v":"12.18.2018"},{"$f":"IF(ROWS(GPS_IMPORT!$1:5)<=COUNTIF(GPS_IMPORT!$A$2:$A$10000,$B$5),INDEX(GPS_IMPORT!$2:$10000,MATCH($B$5,(GPS_IMPORT!$A$2:$A$10000),0)+ROWS($1:5)-1,COLUMN()-1),0)","v":" 9:54:36.7800"},{"$f":"IF(ROWS(GPS_IMPORT!$1:5)<=COUNTIF(GPS_IMPORT!$A$2:$A$10000,$B$5),INDEX(GPS_IMPORT!$2:$10000,MATCH($B$5,(GPS_IMPORT!$A$2:$A$10000),0)+ROWS($1:5)-1,COLUMN()-1),0)","v":311926.78965321102},{"$f":"IF(ROWS(GPS_IMPORT!$1:5)<=COUNTIF(GPS_IMPORT!$A$2:$A$10000,$B$5),INDEX(GPS_IMPORT!$2:$10000,MATCH($B$5,(GPS_IMPORT!$A$2:$A$10000),0)+ROWS($1:5)-1,COLUMN()-1),0)","v":2265883.9079191},{"$f":"IF(ROWS(GPS_IMPORT!$1:5)<=COUNTIF(GPS_IMPORT!$A$2:$A$10000,$B$5),INDEX(GPS_IMPORT!$2:$10000,MATCH($B$5,(GPS_IMPORT!$A$2:$A$10000),0)+ROWS($1:5)-1,COLUMN()-1),0)","v":1041.3372440423},2.2670758771710098E-3,2.723226323723793E-3,-3.5686844346400903E-3,true]
[6,{"$f":"IF(ROWS(GPS_IMPORT!$1:6)<=COUNTIF(GPS_IMPORT!$A$2:$A$10000,$B$5),INDEX(GPS_IMPORT!$2:$10000,MATCH($B$5,(GPS_IMPORT!$A$2:$A$10000),0)+ROWS($1:6)-1,COLUMN()-1),0)","v":"GS6"},{"$f":"IF(ROWS(GPS_IMPORT!$1:6)<=COUNTIF(GPS_IMPORT!$A$2:$A$10000,$B$5),INDEX(GPS_IMPORT!$2:$10000,MATCH($B$5,(GPS_IMPORT!$A$2:$A$10000),0)+ROWS($1:6)-1,COLUMN()-1),0)","v":"12.18.2018"},{"$f":"IF(ROWS(GPS_IMPORT!$1:6)<=COUNTIF(GPS_IMPORT!$A$2:$A$10000,$B$5),INDEX(GPS_IMPORT!$2:$10000,MATCH($B$5,(GPS_IMPORT!$A$2:$A$10000),0)+ROWS($1:6)-1,COLUMN()-1),0)","v":" 9:54:48.9400"},{"$f":"IF(ROWS(GPS_IMPORT!$1:6)<=COUNTIF(GPS_IMPORT!$A$2:$A$10000,$B$5),INDEX(GPS_IMPORT!$2:$10000,MATCH($B$5,(GPS_IMPORT!$A$2:$A$10000),0)+ROWS($1:6)-1,COLUMN()-1),0)","v":311926.78301334602},{"$f":"IF(ROWS(GPS_IMPORT!$1:6)<=COUNTIF(GPS_IMPORT!$A$2:$A$10000,$B$5),INDEX(GPS_IMPORT!$2:$10000,MATCH($B$5,(GPS_IMPORT!$A$2:$A$10000),0)+ROWS($1:6)-1,COLUMN()-1),0)","v":2265883.9064867198},{"$f":"IF(ROWS(GPS_IMPORT!$1:6)<=COUNTIF(GPS_IMPORT!$A$2:$A$10000,$B$5),INDEX(GPS_IMPORT!$2:$10000,MATCH($B$5,(GPS_IMPORT!$A$2:$A$10000),0)+ROWS($1:6)-1,COLUMN()-1),0)","v":1041.3416000779901},8.9069408713839948E-3,4.155606497079134E-3,-7.9247201247198973E-3,true]
[7,{"$f":"IF(ROWS(GPS_IMPORT!$1:7)<=COUNTIF(GPS_IMPORT!$A$2:$A$10000,$B$5),INDEX(GPS_IMPORT!$2:$10000,MATCH($B$5,(GPS_IMPORT!$A$2:$A$10000),0)+ROWS($1:7)-1,COLUMN()-1),0)","v":"GS6"},{"$f":"IF(ROWS(GPS_IMPORT!$1:7)<=COUNTIF(GPS_IMPORT!$A$2:$A$10000,$B$5),INDEX(GPS_IMPORT!$2:$10000,MATCH($B$5,(GPS_IMPORT!$A$2:$A$10000),0)+ROWS($1:7)-1,COLUMN()-1),0)","v":"12.18.2018"},{"$f":"IF(ROWS(GPS_IMPORT!$1:7)<=COUNTIF(GPS_IMPORT!$A$2:$A$10000,$B$5),INDEX(GPS_IMPORT!$2:$10000,MATCH($B$5,(GPS_IMPORT!$A$2:$A$10000),0)+ROWS($1:7)-1,COLUMN()-1),0)","v":" 9:55:0.7900"},{"$f":"IF(ROWS(GPS_IMPORT!$1:7)<=COUNTIF(GPS_IMPORT!$A$2:$A$10000,$B$5),INDEX(GPS_IMPORT!$2:$10000,MATCH($B$5,(GPS_IMPORT!$A$2:$A$10000),0)+ROWS($1:7)-1,COLUMN()-1),0)","v":311926.79010477202},{"$f":"IF(ROWS(GPS_IMPORT!$1:7)<=COUNTIF(GPS_IMPORT!$A$2:$A$10000,$B$5),INDEX(GPS_IMPORT!$2:$10000,MATCH($B$5,(GPS_IMPORT!$A$2:$A$10000),0)+ROWS($1:7)-1,COLUMN()-1),0)","v":2265883.9071517498},{"$f":"IF(ROWS(GPS_IMPORT!$1:7)<=COUNTIF(GPS_IMPORT!$A$2:$A$10000,$B$5),INDEX(GPS_IMPORT!$2:$10000,MATCH($B$5,(GPS_IMPORT!$A$2:$A$10000),0)+ROWS($1:7)-1,COLUMN()-1),0)","v":1041.3480150902201},1.8155148718506098E-3,3.4905765205621719E-3,-1.4339732354756052E-2,true]
[8,{"$f":"IF(ROWS(GPS_IMPORT!$1:8)<=COUNTIF(GPS_IMPORT!$A$2:$A$10000,$B$5),INDEX(GPS_IMPORT!$2:$10000,MATCH($B$5,(GPS_IMPORT!$A$2:$A$10000),0)+ROWS($1:8)-1,COLUMN()-1),0)","v":"GS6"},{"$f":"IF(ROWS(GPS_IMPORT!$1:8)<=COUNTIF(GPS_IMPORT!$A$2:$A$10000,$B$5),INDEX(GPS_IMPORT!$2:$10000,MATCH($B$5,(GPS_IMPORT!$A$2:$A$10000),0)+ROWS($1:8)-1,COLUMN()-1),0)","v":"12.18.2018"},{"$f":"IF(ROWS(GPS_IMPORT!$1:8)<=COUNTIF(GPS_IMPORT!$A$2:$A$10000,$B$5),INDEX(GPS_IMPORT!$2:$10000,MATCH($B$5,(GPS_IMPORT!$A$2:$A$10000),0)+ROWS($1:8)-1,COLUMN()-1),0)","v":" 9:55:12.2200"},{"$f":"IF(ROWS(GPS_IMPORT!$1:8)<=COUNTIF(GPS_IMPORT!$A$2:$A$10000,$B$5),INDEX(GPS_IMPORT!$2:$10000,MATCH($B$5,(GPS_IMPORT!$A$2:$A$10000),0)+ROWS($1:8)-1,COLUMN()-1),0)","v":311926.798098878},{"$f":"IF(ROWS(GPS_IMPORT!$1:8)<=COUNTIF(GPS_IMPORT!$A$2:$A$10000,$B$5),INDEX(GPS_IMPORT!$2:$10000,MATCH($B$5,(GPS_IMPORT!$A$2:$A$10000),0)+ROWS($1:8)-1,COLUMN()-1),0)","v":2265883.9055768298},{"$f":"IF(ROWS(GPS_IMPORT!$1:8)<=COUNTIF(GPS_IMPORT!$A$2:$A$10000,$B$5),INDEX(GPS_IMPORT!$2:$10000,MATCH($B$5,(GPS_IMPORT!$A$2:$A$10000),0)+ROWS($1:8)-1,COLUMN()-1),0)","v":1041.3315587449099},-6.1785911093465984E-3,5.0654965452849865E-3,2.1166129554330837E-3,true]
[9,{"$f":"IF(ROWS(GPS_IMPORT!$1:9)<=COUNTIF(GPS_IMPORT!$A$2:$A$10000,$B$5),INDEX(GPS_IMPORT!$2:$10000,MATCH($B$5,(GPS_IMPORT!$A$2:$A$10000),0)+ROWS($1:9)-1,COLUMN()-1),0)","v":"GS6"},{"$f":"IF(ROWS(GPS_IMPORT!$1:9)<=COUNTIF(GPS_IMPORT!$A$2:$A$10000,$B$5),INDEX(GPS_IMPORT!$2:$10000,MATCH($B$5,(GPS_IMPORT!$A$2:$A$10000),0)+ROWS($1:9)-1,COLUMN()-1),0)","v":"12.18.2018"},{"$f":"IF(ROWS(GPS_IMPORT!$1:9)<=COUNTIF(GPS_IMPORT!$A$2:$A$10000,$B$5),INDEX(GPS_IMPORT!$2:$10000,MATCH($B$5,(GPS_IMPORT!$A$2:$A$10000),0)+ROWS($1:9)-1,COLUMN()-1),0)","v":" 9:55:32.9400"},{"$f":"IF(ROWS(GPS_IMPORT!$1:9)<=COUNTIF(GPS_IMPORT!$A$2:$A$10000,$B$5),INDEX(GPS_IMPORT!$2:$10000,MATCH($B$5,(GPS_IMPORT!$A$2:$A$10000),0)+ROWS($1:9)-1,COLUMN()-1),0)","v":311926.78957276302},{"$f":"IF(ROWS(GPS_IMPORT!$1:9)<=COUNTIF(GPS_IMPORT!$A$2:$A$10000,$B$5),INDEX(GPS_IMPORT!$2:$10000,MATCH($B$5,(GPS_IMPORT!$A$2:$A$10000),0)+ROWS($1:9)-1,COLUMN()-1),0)","v":2265883.90638832},{"$f":"IF(ROWS(GPS_IMPORT!$1:9)<=COUNTIF(GPS_IMPORT!$A$2:$A$10000,$B$5),INDEX(GPS_IMPORT!$2:$10000,MATCH($B$5,(GPS_IMPORT!$A$2:$A$10000),0)+ROWS($1:9)-1,COLUMN()-1),0)","v":1041.34672409883},2.3475238704122603E-3,4.254006315022707E-3,-1.3048740964677563E-2,true]
[10,{"$f":"IF(ROWS(GPS_IMPORT!$1:10)<=COUNTIF(GPS_IMPORT!$A$2:$A$10000,$B$5),INDEX(GPS_IMPORT!$2:$10000,MATCH($B$5,(GPS_IMPORT!$A$2:$A$10000),0)+ROWS($1:10)-1,COLUMN()-1),0)","v":"GS6"},{"$f":"IF(ROWS(GPS_IMPORT!$1:10)<=COUNTIF(GPS_IMPORT!$A$2:$A$10000,$B$5),INDEX(GPS_IMPORT!$2:$10000,MATCH($B$5,(GPS_IMPORT!$A$2:$A$10000),0)+ROWS($1:10)-1,COLUMN()-1),0)","v":"12.18.2018"},{"$f":"IF(ROWS(GPS_IMPORT!$1:10)<=COUNTIF(GPS_IMPORT!$A$2:$A$10000,$B$5),INDEX(GPS_IMPORT!$2:$10000,MATCH($B$5,(GPS_IMPORT!$A$2:$A$10000),0)+ROWS($1:10)-1,COLUMN()-1),0)","v":" 9:55:43.8000"},{"$f":"IF(ROWS(GPS_IMPORT!$1:10)<=COUNTIF(GPS_IMPORT!$A$2:$A$10000,$B$5),INDEX(GPS_IMPORT!$2:$10000,MATCH($B$5,(GPS_IMPORT!$A$2:$A$10000),0)+ROWS($1:10)-1,COLUMN()-1),0)","v":311926.79160840297},{"$f":"IF(ROWS(GPS_IMPORT!$1:10)<=COUNTIF(GPS_IMPORT!$A$2:$A$10000,$B$5),INDEX(GPS_IMPORT!$2:$10000,MATCH($B$5,(GPS_IMPORT!$A$2:$A$10000),0)+ROWS($1:10)-1,COLUMN()-1),0)","v":2265883.90768386},{"$f":"IF(ROWS(GPS_IMPORT!$1:10)<=COUNTIF(GPS_IMPORT!$A$2:$A$10000,$B$5),INDEX(GPS_IMPORT!$2:$10000,MATCH($B$5,(GPS_IMPORT!$A$2:$A$10000),0)+ROWS($1:10)-1,COLUMN()-1),0)","v":1041.34372588474},3.1188392313197255E-4,2.9584662988781929E-3,-1.0050526874692878E-2,true]
[11,{"$f":"IF(ROWS(GPS_IMPORT!$1:11)<=COUNTIF(GPS_IMPORT!$A$2:$A$10000,$B$5),INDEX(GPS_IMPORT!$2:$10000,MATCH($B$5,(GPS_IMPORT!$A$2:$A$10000),0)+ROWS($1:11)-1,COLUMN()-1),0)","v":"GS6"},{"$f":"IF(ROWS(GPS_IMPORT!$1:11)<=COUNTIF(GPS_IMPORT!$A$2:$A$10000,$B$5),INDEX(GPS_IMPORT!$2:$10000,MATCH($B$5,(GPS_IMPORT!$A$2:$A$10000),0)+ROWS($1:11)-1,COLUMN()-1),0)","v":"12.18.2018"},{"$f":"IF(ROWS(GPS_IMPORT!$1:11)<=COUNTIF(GPS_IMPORT!$A$2:$A$10000,$B$5),INDEX(GPS_IMPORT!$2:$10000,MATCH($B$5,(GPS_IMPORT!$A$2:$A$10000),0)+ROWS($1:11)-1,COLUMN()-1),0)","v":" 9:55:55.2000"},{"$f":"IF(ROWS(GPS_IMPORT!$1:11)<=COUNTIF(GPS_IMPORT!$A$2:$A$10000,$B$5),INDEX(GPS_IMPORT!$2:$10000,MATCH($B$5,(GPS_IMPORT!$A$2:$A$10000),0)+ROWS($1:11)-1,COLUMN()-1),0)","v":311926.78892739001},{"$f":"IF(ROWS(GPS_IMPORT!$1:11)<=COUNTIF(GPS_IMPORT!$A$2:$A$10000,$B$5),INDEX(GPS_IMPORT!$2:$10000,MATCH($B$5,(GPS_IMPORT!$A$2:$A$10000),0)+ROWS($1:11)-1,COLUMN()-1),0)","v":2265883.9100304502},{"$f":"IF(ROWS(GPS_IMPORT!$1:11)<=COUNTIF(GPS_IMPORT!$A$2:$A$10000,$B$5),INDEX(GPS_IMPORT!$2:$10000,MATCH($B$5,(GPS_IMPORT!$A$2:$A$10000),0)+ROWS($1:11)-1,COLUMN()-1),0)","v":1041.35051688104},2.9928968870081007E-3,6.1187613755464554E-4,-1.6841523174662143E-2,true]
[12,{"$f":"IF(ROWS(GPS_IMPORT!$1:12)<=COUNTIF(GPS_IMPORT!$A$2:$A$10000,$B$5),INDEX(GPS_IMPORT!$2:$10000,MATCH($B$5,(GPS_IMPORT!$A$2:$A$10000),0)+ROWS($1:12)-1,COLUMN()-1),0)","v":"GS6"},{"$f":"IF(ROWS(GPS_IMPORT!$1:12)<=COUNTIF(GPS_IMPORT!$A$2:$A$10000,$B$5),INDEX(GPS_IMPORT!$2:$10000,MATCH($B$5,(GPS_IMPORT!$A$2:$A$10000),0)+ROWS($1:12)-1,COLUMN()-1),0)","v":"12.18.2018"},{"$f":"IF(ROWS(GPS_IMPORT!$1:12)<=COUNTIF(GPS_IMPORT!$A$2:$A$10000,$B$5),INDEX(GPS_IMPORT!$2:$10000,MATCH($B$5,(GPS_IMPORT!$A$2:$A$10000),0)+ROWS($1:12)-1,COLUMN()-1),0)","v":" 9:56:6.0700"},{"$f":"IF(ROWS(GPS_IMPORT!$1:12)<=COUNTIF(GPS_IMPORT!$A$2:$A$10000,$B$5),INDEX(GPS_IMPORT!$2:$10000,MATCH($B$5,(GPS_IMPORT!$A$2:$A$10000),0)+ROWS($1:12)-1,COLUMN()-1),0)","v":311926.78726018098},{"$f":"IF(ROWS(GPS_IMPORT!$1:12)<=COUNTIF(GPS_IMPORT!$A$2:$A$10000,$B$5),INDEX(GPS_IMPORT!$2:$10000,MATCH($B$5,(GPS_IMPORT!$A$2:$A$10000),0)+ROWS($1:12)-1,COLUMN()-1),0)","v":2265883.9096143101},{"$f":"IF(ROWS(GPS_IMPORT!$1:12)<=COUNTIF(GPS_IMPORT!$A$2:$A$10000,$B$5),INDEX(GPS_IMPORT!$2:$10000,MATCH($B$5,(GPS_IMPORT!$A$2:$A$10000),0)+ROWS($1:12)-1,COLUMN()-1),0)","v":1041.3559499274099},4.6601059148088098E-3,1.028016209602356E-3,-2.2274569544606493E-2,true]
[13,{"$f":"IF(ROWS(GPS_IMPORT!$1:13)<=COUNTIF(GPS_IMPORT!$A$2:$A$10000,$B$5),INDEX(GPS_IMPORT!$2:$10000,MATCH($B$5,(GPS_IMPORT!$A$2:$A$10000),0)+ROWS($1:13)-1,COLUMN()-1),0)","v":0},{"$f":"IF(ROWS(GPS_IMPORT!$1:13)<=COUNTIF(GPS_IMPORT!$A$2:$A$10000,$B$5),INDEX(GPS_IMPORT!$2:$10000,MATCH($B$5,(GPS_IMPORT!$A$2:$A$10000),0)+ROWS($1:13)-1,COLUMN()-1),0)","v":"00:00:00"},{"$f":"IF(ROWS(GPS_IMPORT!$1:13)<=COUNTIF(GPS_IMPORT!$A$2:$A$10000,$B$5),INDEX(GPS_IMPORT!$2:$10000,MATCH($B$5,(GPS_IMPORT!$A$2:$A$10000),0)+ROWS($1:13)-1,COLUMN()-1),0)","v":"00:00:00"},{"$f":"IF(ROWS(GPS_IMPORT!$1:13)<=COUNTIF(GPS_IMPORT!$A$2:$A$10000,$B$5),INDEX(GPS_IMPORT!$2:$10000,MATCH($B$5,(GPS_IMPORT!$A$2:$A$10000),0)+ROWS($1:13)-1,COLUMN()-1),0)","v":0},{"$f":"IF(ROWS(GPS_IMPORT!$1:13)<=COUNTIF(GPS_IMPORT!$A$2:$A$10000,$B$5),INDEX(GPS_IMPORT!$2:$10000,MATCH($B$5,(GPS_IMPORT!$A$2:$A$10000),0)+ROWS($1:13)-1,COLUMN()-1),0)","v":0},{"$f":"IF(ROWS(GPS_IMPORT!$1:13)<=COUNTIF(GPS_IMPORT!$A$2:$A$10000,$B$5),INDEX(GPS_IMPORT!$2:$10000,MATCH($B$5,(GPS_IMPORT!$A$2:$A$10000),0)+ROWS($1:13)-1,COLUMN()-1),0)","v":0},{"$f":"IF(E19>0,E$22-E19,0)","v":0},0,0,false]
[14,{"$f":"IF(ROWS(GPS_IMPORT!$1:14)<=COUNTIF(GPS_IMPORT!$A$2:$A$10000,$B$5),INDEX(GPS_IMPORT!$2:$10000,MATCH($B$5,(GPS_IMPORT!$A$2:$A$10000),0)+ROWS($1:14)-1,COLUMN()-1),0)","v":0},{"$f":"IF(ROWS(GPS_IMPORT!$1:14)<=COUNTIF(GPS_IMPORT!$A$2:$A$10000,$B$5),INDEX(GPS_IMPORT!$2:$10000,MATCH($B$5,(GPS_IMPORT!$A$2:$A$10000),0)+ROWS($1:14)-1,COLUMN()-1),0)","v":"00:00:00"},{"$f":"IF(ROWS(GPS_IMPORT!$1:14)<=COUNTIF(GPS_IMPORT!$A$2:$A$10000,$B$5),INDEX(GPS_IMPORT!$2:$10000,MATCH($B$5,(GPS_IMPORT!$A$2:$A$10000),0)+ROWS($1:14)-1,COLUMN()-1),0)","v":"00:00:00"},{"$f":"IF(ROWS(GPS_IMPORT!$1:14)<=COUNTIF(GPS_IMPORT!$A$2:$A$10000,$B$5),INDEX(GPS_IMPORT!$2:$10000,MATCH($B$5,(GPS_IMPORT!$A$2:$A$10000),0)+ROWS($1:14)-1,COLUMN()-1),0)","v":0},{"$f":"IF(ROWS(GPS_IMPORT!$1:14)<=COUNTIF(GPS_IMPORT!$A$2:$A$10000,$B$5),INDEX(GPS_IMPORT!$2:$10000,MATCH($B$5,(GPS_IMPORT!$A$2:$A$10000),0)+ROWS($1:14)-1,COLUMN()-1),0)","v":0},{"$f":"IF(ROWS(GPS_IMPORT!$1:14)<=COUNTIF(GPS_IMPORT!$A$2:$A$10000,$B$5),INDEX(GPS_IMPORT!$2:$10000,MATCH($B$5,(GPS_IMPORT!$A$2:$A$10000),0)+ROWS($1:14)-1,COLUMN()-1),0)","v":0},0,0,0,false]
[15,{"$f":"IF(ROWS(GPS_IMPORT!$1:15)<=COUNTIF(GPS_IMPORT!$A$2:$A$10000,$B$5),INDEX(GPS_IMPORT!$2:$10000,MATCH($B$5,(GPS_IMPORT!$A$2:$A$10000),0)+ROWS($1:15)-1,COLUMN()-1),0)","v":0},{"$f":"IF(ROWS(GPS_IMPORT!$1:15)<=COUNTIF(GPS_IMPORT!$A$2:$A$10000,$B$5),INDEX(GPS_IMPORT!$2:$10000,MATCH($B$5,(GPS_IMPORT!$A$2:$A$10000),0)+ROWS($1:15)-1,COLUMN()-1),0)","v":"00:00:00"},{"$f":"IF(ROWS(GPS_IMPORT!$1:15)<=COUNTIF(GPS_IMPORT!$A$2:$A$10000,$B$5),INDEX(GPS_IMPORT!$2:$10000,MATCH($B$5,(GPS_IMPORT!$A$2:$A$10000),0)+ROWS($1:15)-1,COLUMN()-1),0)","v":"00:00:00"},{"$f":"IF(ROWS(GPS_IMPORT!$1:15)<=COUNTIF(GPS_IMPORT!$A$2:$A$10000,$B$5),INDEX(GPS_IMPORT!$2:$10000,MATCH($B$5,(GPS_IMPORT!$A$2:$A$10000),0)+ROWS($1:15)-1,COLUMN()-1),0)","v":0},{"$f":"IF(ROWS(GPS_IMPORT!$1:15)<=COUNTIF(GPS_IMPORT!$A$2:$A$10000,$B$5),INDEX(GPS_IMPORT!$2:$10000,MATCH($B$5,(GPS_IMPORT!$A$2:$A$10000),0)+ROWS($1:15)-1,COLUMN()-1),0)","v":0},{"$f":"IF(ROWS(GPS_IMPORT!$1:15)<=COUNTIF(GPS_IMPORT!$A$2:$A$10000,$B$5),INDEX(GPS_IMPORT!$2:$10000,MATCH($B$5,(GPS_IMPORT!$A$2:$A$10000),0)+ROWS($1:15)-1,COLUMN()-1),0)","v":0},0,0,0,false]
[null,null,null,"AVERAGE",{"$f":"(IF($K$7=TRUE,E7,0)+IF($K$8=TRUE,E8,0)+IF($K$9=TRUE,E9,0)+IF($K$10=TRUE,E10,0)+IF($K$11=TRUE,E11,0)+IF($K$12=TRUE,E12,0)+IF($K$13=TRUE,E13,0)+IF($K$14=TRUE,E14,0)+IF($K$15=TRUE,E15,0)+IF($K$16=TRUE,E16,0)+IF($K$17=TRUE,E17,0)+IF($K$18=TRUE,E18,0)+IF($K$19=TRUE,E19,0)+IF($K$20=TRUE,E20,0)+IF($K$21=TRUE,E21,0))/(IF($K$7=TRUE,1,0)+IF($K$8=TRUE,1,0)+IF($K$9=TRUE,1,0)+IF($K$10=TRUE,1,0)+IF($K$11=TRUE,1,0)+IF($K$12=TRUE,1,0)+IF($K$13=TRUE,1,0)+IF($K$14=TRUE,1,0)+IF($K$15=TRUE,1,0)+IF($K$16=TRUE,1,0)+IF($K$17=TRUE,1,0)+IF($K$18=TRUE,1,0)+IF($K$19=TRUE,1,0)+IF($K$20=TRUE,1,0)+IF($K$21=TRUE,1,0))","v":311926.79192028689},{"$f":"(IF($K$7=TRUE,F7,0)+IF($K$8=TRUE,F8,0)+IF($K$9=TRUE,F9,0)+IF($K$10=TRUE,F10,0)+IF($K$11=TRUE,F11,0)+IF($K$12=TRUE,F12,0)+IF($K$13=TRUE,F13,0)+IF($K$14=TRUE,F14,0)+IF($K$15=TRUE,F15,0)+IF($K$16=TRUE,F16,0)+IF($K$17=TRUE,F17,0)+IF($K$18=TRUE,F18,0)+IF($K$19=TRUE,F19,0)+IF($K$20=TRUE,F20,0)+IF($K$21=TRUE,F21,0))/(IF($K$7=TRUE,1,0)+IF($K$8=TRUE,1,0)+IF($K$9=TRUE,1,0)+IF($K$10=TRUE,1,0)+IF($K$11=TRUE,1,0)+IF($K$12=TRUE,1,0)+IF($K$13=TRUE,1,0)+IF($K$14=TRUE,1,0)+IF($K$15=TRUE,1,0)+IF($K$16=TRUE,1,0)+IF($K$17=TRUE,1,0)+IF($K$18=TRUE,1,0)+IF($K$19=TRUE,1,0)+IF($K$20=TRUE,1,0)+IF($K$21=TRUE,1,0))","v":2265883.9106423263},{"$f":"(IF($K$7=TRUE,G7,0)+IF($K$8=TRUE,G8,0)+IF($K$9=TRUE,G9,0)+IF($K$10=TRUE,G10,0)+IF($K$11=TRUE,G11,0)+IF($K$12=TRUE,G12,0)+IF($K$13=TRUE,G13,0)+IF($K$14=TRUE,G14,0)+IF($K$15=TRUE,G15,0)+IF($K$16=TRUE,G16,0)+IF($K$17=TRUE,G17,0)+IF($K$18=TRUE,G18,0)+IF($K$19=TRUE,G19,0)+IF($K$20=TRUE,G20,0)+IF($K$21=TRUE,G21,0))/\n(IF($K$7=TRUE,1,0)+IF($K$8=TRUE,1,0)+IF($K$9=TRUE,1,0)+IF($K$10=TRUE,1,0)+IF($K$11=TRUE,1,0)+IF($K$12=TRUE,1,0)+IF($K$13=TRUE,1,0)+IF($K$14=TRUE,1,0)+IF($K$15=TRUE,1,0)+IF($K$16=TRUE,1,0)+IF($K$17=TRUE,1,0)+IF($K$18=TRUE,1,0)+IF($K$19=TRUE,1,0)+IF($K$20=TRUE,1,0)+IF($K$21=TRUE,1,0))","v":1041.3336753578653},"RMSE:","RMSE:","RMSE:"]
[null,null,null,null,null,null,"RMSE IN US SURVEY FEET:",{"$f":"SQRT((\n(IF($K$7=TRUE,H7^2,0))+(IF($K$8=TRUE,H8^2,0))+(IF($K$9=TRUE,H9^2,0))+(IF($K$10=TRUE,H10^2,0))+(IF($K$11=TRUE,H11^2,0))+(IF($K$12=TRUE,H12^2,0))+(IF($K$13=TRUE,H13^2,0))+(IF($K$14=TRUE,H14^2,0))+(IF($K$15=TRUE,H15^2,0))+(IF($K$16=TRUE,H16^2,0))+(IF($K$17=TRUE,H17^2,0))+(IF($K$18=TRUE,H18^2,0))+(IF($K$19=TRUE,H19^2,0))+(IF($K$20=TRUE,H20^2,0))+(IF($K$21=TRUE,H21^2,0)))/\n(IF($K$7=TRUE,1,0)+IF($K$8=TRUE,1,0)+IF($K$9=TRUE,1,0)+IF($K$10=TRUE,1,0)+IF($K$11=TRUE,1,0)+IF($K$12=TRUE,1,0)+IF($K$13=TRUE,1,0)+IF($K$14=TRUE,1,0)+IF($K$15=TRUE,1,0)+IF($K$16=TRUE,1,0)+IF($K$17=TRUE,1,0)+IF($K$18=TRUE,1,0)+IF($K$19=TRUE,1,0)+IF($K$20=TRUE,1,0)+IF($K$21=TRUE,1,0)))","v":4.746148663932458E-3},{"$f":"SQRT((\n(IF($K$7=TRUE,I7^2,0))+(IF($K$8=TRUE,I8^2,0))+(IF($K$9=TRUE,I9^2,0))+(IF($K$10=TRUE,I10^2,0))+(IF($K$11=TRUE,I11^2,0))+(IF($K$12=TRUE,I12^2,0))+(IF($K$13=TRUE,I13^2,0))+(IF($K$14=TRUE,I14^2,0))+(IF($K$15=TRUE,I15^2,0))+(IF($K$16=TRUE,I16^2,0))+(IF($K$17=TRUE,I17^2,0))+(IF($K$18=TRUE,I18^2,0))+(IF($K$19=TRUE,I19^2,0))+(IF($K$20=TRUE,I20^2,0))+(IF($K$21=TRUE,I21^2,0)))/\n(IF($K$7=TRUE,1,0)+IF($K$8=TRUE,1,0)+IF($K$9=TRUE,1,0)+IF($K$10=TRUE,1,0)+IF($K$11=TRUE,1,0)+IF($K$12=TRUE,1,0)+IF($K$13=TRUE,1,0)+IF($K$14=TRUE,1,0)+IF($K$15=TRUE,1,0)+IF($K$16=TRUE,1,0)+IF($K$17=TRUE,1,0)+IF($K$18=TRUE,1,0)+IF($K$19=TRUE,1,0)+IF($K$20=TRUE,1,0)+IF($K$21=TRUE,1,0)))","v":4.752732861871006E-3},{"$f":"SQRT((\n(IF($K$7=TRUE,J7^2,0))+(IF($K$8=TRUE,J8^2,0))+(IF($K$9=TRUE,J9^2,0))+(IF($K$10=TRUE,J10^2,0))+(IF($K$11=TRUE,J11^2,0))+(IF($K$12=TRUE,J12^2,0))+(IF($K$13=TRUE,J13^2,0))+(IF($K$14=TRUE,J14^2,0))+(IF($K$15=TRUE,J15^2,0))+(IF($K$16=TRUE,J16^2,0))+(IF($K$17=TRUE,J17^2,0))+(IF($K$18=TRUE,J18^2,0))+(IF($K$19=TRUE,J19^2,0))+(IF($K$20=TRUE,J20^2,0))+(IF($K$21=TRUE,J21^2,0)))/\n(IF($K$7=TRUE,1,0)+IF($K$8=TRUE,1,0)+IF($K$9=TRUE,1,0)+IF($K$10=TRUE,1,0)+IF($K$11=TRUE,1,0)+IF($K$12=TRUE,1,0)+IF($K$13=TRUE,1,0)+IF($K$14=TRUE,1,0)+IF($K$15=TRUE,1,0)+IF($K$16=TRUE,1,0)+IF($K$17=TRUE,1,0)+IF($K$18=TRUE,1,0)+IF($K$19=TRUE,1,0)+IF($K$20=TRUE,1,0)+IF($K$21=TRUE,1,0)))","v":1.7874425464174216E-2}]
[null,null,null,1]
[null,null,"UNITLESS GRID TO GROUND MULTIPLIER",{"$f":"IF(REPORT!C13=\"n/a\",\"0.00000000\",REPORT!C13)","v":0},null,null,null,{"$f":"IF(H23<=0.029,\"PASS\",\"FAIL\")","v":"PASS"},{"$f":"IF(I23<=0.029,\"PASS\",\"FAIL\")","v":"PASS"},{"$f":"IF(J23<=0.039,\"PASS\",\"FAIL\")","v":"PASS"}]
[]
["AVERAGED GPS-DERIVED POSITION",null,null,null,null,null,null,null,"Notes:"]
[null,"MONUMENT COORDINATES",null,"NORTHING","EASTING","ORTHO HEIGHT"]
[null,"US Survey Feet (GRID)",null,{"$f":"$E$22","v":311926.79192028689},{"$f":"$F$22","v":2265883.9106423263},{"$f":"$G$22","v":1041.3336753578653}]
[]
["LEVELED ELEVATION"]
["US SURVEY FEET",null,"N/A","(Type the leveled elevation or N/A if no leveled elevation is available)"]
["MONUMENT HELD",null,null,"(Type the monument name from which leveling originated)"]
["LEVELED ELEVATION - GPS DERIVED ELEVATION   = ",null,null,null,{"$f":"IF(C32=\"N/A\",\"N/A\",C32-(F29*D24))","v":"N/A"}]
[]
["FINAL MONUMENT COORDINATES"]
[null,"MONUMENT COORDINATES",null,"NORTHING","EASTING","ELEVATION","FEATURE CODE"]
[null,"US SURVEY FEET (GRID)",null,{"$f":"$E$22*$D$24","v":311926.79192028689},{"$f":"$F$22*$D$24","v":2265883.9106423263},{"$f":"IF($C$32=\"N/A\",($G$22*$D$24),$C$32)","v":1041.3336753578653},"AERTAR"]
[null,"US SURVEY FEET (GROUND)",null,{"$f":"$D$38*$D$25","v":0},{"$f":"$E$38*$D$25","v":0},{"$f":"IF($C$32=\"N/A\",($G$22*$D$24),$C$32)","v":1041.3336753578653},{"$f":"G38","v":"AERTAR"}]
[]
["∆ North,  ∆ East, and ∆ Ht. are the difference between the average northing, easting, and height for each observation.",null,null,null,null,null,null,null,"Mask Angle:","10°"]

{"sheet":"GS7","index":13,"n_rows":41,"n_cols":11,"rows_kept":41,"cut":false,"hidden":false,"merged":[[0,0,0,10],[26,0,26,6],[27,1,27,2],[27,8,38,10],[28,1,28,2],[30,0,30,6],[35,0,35,6],[36,1,36,2],[37,1,37,2],[38,1,38,2]]}
["VRS GNSS Project Control Monument Coordinate Analysis"]
[]
["Project:",{"$f":"REPORT!B2","v":"TUS-800-22.74"},"GPS Antenna:","LEICA GS14",null,null,null,null,null,"Report Date:",{"$f":"REPORT!C49","v":"2018-12-19"}]
["PID:",{"$f":"REPORT!E2","v":100603},"VRS Network:","ODOT VRS",null,null,null,null,null,"Prepared By:",{"$f":"REPORT!C48","v":"Kolton Wilson"}]
["Point ID:","GS7","No. of Sessions:",{"$f":"COUNTIF(GPS_IMPORT!A2:A1000,$B$5)","v":12},null,null,null,null,null,"Checked By:",{"$f":"REPORT!C52","v":"Joel Swick"}]
["SESSION #","gs1","Observation Date","Start Time","Northing(sft)","Easting(sft)","Height(sft)","∆ Northing(sft)","∆ Easting(sft)","∆ Height(sft)","Include in Solution?"]
[1,{"$f":"IF(ROWS(GPS_IMPORT!$1:1)<=COUNTIF(GPS_IMPORT!$A$2:$A$10000,$B$5),INDEX(GPS_IMPORT!$2:$10000,MATCH($B$5,(GPS_IMPORT!$A$2:$A$10000),0)+ROWS($1:1)-1,COLUMN()-1),0)","v":"GS7"},{"$f":"IF(ROWS(GPS_IMPORT!$1:1)<=COUNTIF(GPS_IMPORT!$A$2:$A$10000,$B$5),INDEX(GPS_IMPORT!$2:$10000,MATCH($B$5,(GPS_IMPORT!$A$2:$A$10000),0)+ROWS($1:1)-1,COLUMN()-1),0)","v":"12.18.2018"},{"$f":"IF(ROWS(GPS_IMPORT!$1:1)<=COUNTIF(GPS_IMPORT!$A$2:$A$10000,$B$5),INDEX(GPS_IMPORT!$2:$10000,MATCH($B$5,(GPS_IMPORT!$A$2:$A$10000),0)+ROWS($1:1)-1,COLUMN()-1),0)","v":"10:08:17.080"},{"$f":"IF(ROWS(GPS_IMPORT!$1:1)<=COUNTIF(GPS_IMPORT!$A$2:$A$10000,$B$5),INDEX(GPS_IMPORT!$2:$10000,MATCH($B$5,(GPS_IMPORT!$A$2:$A$10000),0)+ROWS($1:1)-1,COLUMN()-1),0)","v":310823.144461927},{"$f":"IF(ROWS(GPS_IMPORT!$1:1)<=COUNTIF(GPS_IMPORT!$A$2:$A$10000,$B$5),INDEX(GPS_IMPORT!$2:$10000,MATCH($B$5,(GPS_IMPORT!$A$2:$A$10000),0)+ROWS($1:1)-1,COLUMN()-1),0)","v":2269553.9183743899},{"$f":"IF(ROWS(GPS_IMPORT!$1:1)<=COUNTIF(GPS_IMPORT!$A$2:$A$10000,$B$5),INDEX(GPS_IMPORT!$2:$10000,MATCH($B$5,(GPS_IMPORT!$A$2:$A$10000),0)+ROWS($1:1)-1,COLUMN()-1),0)","v":930.60928910317},{"$f":"IF(E7>0,E$22-E7,0)","v":-5.9628701419569552E-3},-7.2950683534145355E-4,-4.2515824736710783E-4,true]
[2,{"$f":"IF(ROWS(GPS_IMPORT!$1:2)<=COUNTIF(GPS_IMPORT!$A$2:$A$10000,$B$5),INDEX(GPS_IMPORT!$2:$10000,MATCH($B$5,(GPS_IMPORT!$A$2:$A$10000),0)+ROWS($1:2)-1,COLUMN()-1),0)","v":"GS7"},{"$f":"IF(ROWS(GPS_IMPORT!$1:2)<=COUNTIF(GPS_IMPORT!$A$2:$A$10000,$B$5),INDEX(GPS_IMPORT!$2:$10000,MATCH($B$5,(GPS_IMPORT!$A$2:$A$10000),0)+ROWS($1:2)-1,COLUMN()-1),0)","v":"12.18.2018"},{"$f":"IF(ROWS(GPS_IMPORT!$1:2)<=COUNTIF(GPS_IMPORT!$A$2:$A$10000,$B$5),INDEX(GPS_IMPORT!$2:$10000,MATCH($B$5,(GPS_IMPORT!$A$2:$A$10000),0)+ROWS($1:2)-1,COLUMN()-1),0)","v":"10:08:28.450"},{"$f":"IF(ROWS(GPS_IMPORT!$1:2)<=COUNTIF(GPS_IMPORT!$A$2:$A$10000,$B$5),INDEX(GPS_IMPORT!$2:$10000,MATCH($B$5,(GPS_IMPORT!$A$2:$A$10000),0)+ROWS($1:2)-1,COLUMN()-1),0)","v":310823.14009389502},{"$f":"IF(ROWS(GPS_IMPORT!$1:2)<=COUNTIF(GPS_IMPORT!$A$2:$A$10000,$B$5),INDEX(GPS_IMPORT!$2:$10000,MATCH($B$5,(GPS_IMPORT!$A$2:$A$10000),0)+ROWS($1:2)-1,COLUMN()-1),0)","v":2269553.91989118},{"$f":"IF(ROWS(GPS_IMPORT!$1:2)<=COUNTIF(GPS_IMPORT!$A$2:$A$10000,$B$5),INDEX(GPS_IMPORT!$2:$10000,MATCH($B$5,(GPS_IMPORT!$A$2:$A$10000),0)+ROWS($1:2)-1,COLUMN()-1),0)","v":930.60871382317998},-1.5948381624184549E-3,-2.2462969645857811E-3,1.5012174264938949E-4,true]
[3,{"$f":"IF(ROWS(GPS_IMPORT!$1:3)<=COUNTIF(GPS_IMPORT!$A$2:$A$10000,$B$5),INDEX(GPS_IMPORT!$2:$10000,MATCH($B$5,(GPS_IMPORT!$A$2:$A$10000),0)+ROWS($1:3)-1,COLUMN()-1),0)","v":"GS7"},{"$f":"IF(ROWS(GPS_IMPORT!$1:3)<=COUNTIF(GPS_IMPORT!$A$2:$A$10000,$B$5),INDEX(GPS_IMPORT!$2:$10000,MATCH($B$5,(GPS_IMPORT!$A$2:$A$10000),0)+ROWS($1:3)-1,COLUMN()-1),0)","v":"12.18.2018"},{"$f":"IF(ROWS(GPS_IMPORT!$1:3)<=COUNTIF(GPS_IMPORT!$A$2:$A$10000,$B$5),INDEX(GPS_IMPORT!$2:$10000,MATCH($B$5,(GPS_IMPORT!$A$2:$A$10000),0)+ROWS($1:3)-1,COLUMN()-1),0)","v":"10:08:40.180"},{"$f":"IF(ROWS(GPS_IMPORT!$1:3)<=COUNTIF(GPS_IMPORT!$A$2:$A$10000,$B$5),INDEX(GPS_IMPORT!$2:$10000,MATCH($B$5,(GPS_IMPORT!$A$2:$A$10000),0)+ROWS($1:3)-1,COLUMN()-1),0)","v":310823.14491071098},{"$f":"IF(ROWS(GPS_IMPORT!$1:3)<=COUNTIF(GPS_IMPORT!$A$2:$A$10000,$B$5),INDEX(GPS_IMPORT!$2:$10000,MATCH($B$5,(GPS_IMPORT!$A$2:$A$10000),0)+ROWS($1:3)-1,COLUMN()-1),0)","v":2269553.9214098901},{"$f":"IF(ROWS(GPS_IMPORT!$1:3)<=COUNTIF(GPS_IMPORT!$A$2:$A$10000,$B$5),INDEX(GPS_IMPORT!$2:$10000,MATCH($B$5,(GPS_IMPORT!$A$2:$A$10000),0)+ROWS($1:3)-1,COLUMN()-1),0)","v":930.60611622367003},-6.4116541179828346E-3,-3.7650070153176785E-3,2.7477212526036965E-3,true]
[4,{"$f":"IF(ROWS(GPS_IMPORT!$1:4)<=COUNTIF(GPS_IMPORT!$A$2:$A$10000,$B$5),INDEX(GPS_IMPORT!$2:$10000,MATCH($B$5,(GPS_IMPORT!$A$2:$A$10000),0)+ROWS($1:4)-1,COLUMN()-1),0)","v":"GS7"},{"$f":"IF(ROWS(GPS_IMPORT!$1:4)<=COUNTIF(GPS_IMPORT!$A$2:$A$10000,$B$5),INDEX(GPS_IMPORT!$2:$10000,MATCH($B$5,(GPS_IMPORT!$A$2:$A$10000),0)+ROWS($1:4)-1,COLUMN()-1),0)","v":"12.18.2018"},{"$f":"IF(ROWS(GPS_IMPORT!$1:4)<=COUNTIF(GPS_IMPORT!$A$2:$A$10000,$B$5),INDEX(GPS_IMPORT!$2:$10000,MATCH($B$5,(GPS_IMPORT!$A$2:$A$10000),0)+ROWS($1:4)-1,COLUMN()-1),0)","v":"10:08:50.820"},{"$f":"IF(ROWS(GPS_IMPORT!$1:4)<=COUNTIF(GPS_IMPORT!$A$2:$A$10000,$B$5),INDEX(GPS_IMPORT!$2:$10000,MATCH($B$5,(GPS_IMPORT!$A$2:$A$10000),0)+ROWS($1:4)-1,COLUMN()-1),0)","v":310823.141376385},{"$f":"IF(ROWS(GPS_IMPORT!$1:4)<=COUNTIF(GPS_IMPORT!$A$2:$A$10000,$B$5),INDEX(GPS_IMPORT!$2:$10000,MATCH($B$5,(GPS_IMPORT!$A$2:$A$10000),0)+ROWS($1:4)-1,COLUMN()-1),0)","v":2269553.91792505},{"$f":"IF(ROWS(GPS_IMPORT!$1:4)<=COUNTIF(GPS_IMPORT!$A$2:$A$10000,$B$5),INDEX(GPS_IMPORT!$2:$10000,MATCH($B$5,(GPS_IMPORT!$A$2:$A$10000),0)+ROWS($1:4)-1,COLUMN()-1),0)","v":930.61113289512002},-2.8773281374014914E-3,-2.8016697615385056E-4,-2.2689501973900406E-3,true]
[5,{"$f":"IF(ROWS(GPS_IMPORT!$1:5)<=COUNTIF(GPS_IMPORT!$A$2:$A$10000,$B$5),INDEX(GPS_IMPORT!$2:$10000,MATCH($B$5,(GPS_IMPORT!$A$2:$A$10000),0)+ROWS($1:5)-1,COLUMN()-1),0)","v":"GS7"},{"$f":"IF(ROWS(GPS_IMPORT!$1:5)<=COUNTIF(GPS_IMPORT!$A$2:$A$10000,$B$5),INDEX(GPS_IMPORT!$2:$10000,MATCH($B$5,(GPS_IMPORT!$A$2:$A$10000),0)+ROWS($1:5)-1,COLUMN()-1),0)","v":"12.18.2018"},{"$f":"IF(ROWS(GPS_IMPORT!$1:5)<=COUNTIF(GPS_IMPORT!$A$2:$A$10000,$B$5),INDEX(GPS_IMPORT!$2:$10000,MATCH($B$5,(GPS_IMPORT!$A$2:$A$10000),0)+ROWS($1:5)-1,COLUMN()-1),0)","v":"10:09:10.950"},{"$f":"IF(ROWS(GPS_IMPORT!$1:5)<=COUNTIF(GPS_IMPORT!$A$2:$A$10000,$B$5),INDEX(GPS_IMPORT!$2:$10000,MATCH($B$5,(GPS_IMPORT!$A$2:$A$10000),0)+ROWS($1:5)-1,COLUMN()-1),0)","v":310823.13534341898},{"$f":"IF(ROWS(GPS_IMPORT!$1:5)<=COUNTIF(GPS_IMPORT!$A$2:$A$10000,$B$5),INDEX(GPS_IMPORT!$2:$10000,MATCH($B$5,(GPS_IMPORT!$A$2:$A$10000),0)+ROWS($1:5)-1,COLUMN()-1),0)","v":2269553.92012427},{"$f":"IF(ROWS(GPS_IMPORT!$1:5)<=COUNTIF(GPS_IMPORT!$A$2:$A$10000,$B$5),INDEX(GPS_IMPORT!$2:$10000,MATCH($B$5,(GPS_IMPORT!$A$2:$A$10000),0)+ROWS($1:5)-1,COLUMN()-1),0)","v":930.61175987440004},3.155637881718576E-3,-2.4793869815766811E-3,-2.8959294774040245E-3,true]
[6,{"$f":"IF(ROWS(GPS_IMPORT!$1:6)<=COUNTIF(GPS_IMPORT!$A$2:$A$10000,$B$5),INDEX(GPS_IMPORT!$2:$10000,MATCH($B$5,(GPS_IMPORT!$A$2:$A$10000),0)+ROWS($1:6)-1,COLUMN()-1),0)","v":"GS7"},{"$f":"IF(ROWS(GPS_IMPORT!$1:6)<=COUNTIF(GPS_IMPORT!$A$2:$A$10000,$B$5),INDEX(GPS_IMPORT!$2:$10000,MATCH($B$5,(GPS_IMPORT!$A$2:$A$10000),0)+ROWS($1:6)-1,COLUMN()-1),0)","v":"12.18.2018"},{"$f":"IF(ROWS(GPS_IMPORT!$1:6)<=COUNTIF(GPS_IMPORT!$A$2:$A$10000,$B$5),INDEX(GPS_IMPORT!$2:$10000,MATCH($B$5,(GPS_IMPORT!$A$2:$A$10000),0)+ROWS($1:6)-1,COLUMN()-1),0)","v":"10:09:21.680"},{"$f":"IF(ROWS(GPS_IMPORT!$1:6)<=COUNTIF(GPS_IMPORT!$A$2:$A$10000,$B$5),INDEX(GPS_IMPORT!$2:$10000,MATCH($B$5,(GPS_IMPORT!$A$2:$A$10000),0)+ROWS($1:6)-1,COLUMN()-1),0)","v":310823.13383582101},{"$f":"IF(ROWS(GPS_IMPORT!$1:6)<=COUNTIF(GPS_IMPORT!$A$2:$A$10000,$B$5),INDEX(GPS_IMPORT!$2:$10000,MATCH($B$5,(GPS_IMPORT!$A$2:$A$10000),0)+ROWS($1:6)-1,COLUMN()-1),0)","v":2269553.9182394198},{"$f":"IF(ROWS(GPS_IMPORT!$1:6)<=COUNTIF(GPS_IMPORT!$A$2:$A$10000,$B$5),INDEX(GPS_IMPORT!$2:$10000,MATCH($B$5,(GPS_IMPORT!$A$2:$A$10000),0)+ROWS($1:6)-1,COLUMN()-1),0)","v":930.59760593233},4.6632358571514487E-3,-5.9453677386045456E-4,1.1258012592634259E-2,true]
[7,{"$f":"IF(ROWS(GPS_IMPORT!$1:7)<=COUNTIF(GPS_IMPORT!$A$2:$A$10000,$B$5),INDEX(GPS_IMPORT!$2:$10000,MATCH($B$5,(GPS_IMPORT!$A$2:$A$10000),0)+ROWS($1:7)-1,COLUMN()-1),0)","v":"GS7"},{"$f":"IF(ROWS(GPS_IMPORT!$1:7)<=COUNTIF(GPS_IMPORT!$A$2:$A$10000,$B$5),INDEX(GPS_IMPORT!$2:$10000,MATCH($B$5,(GPS_IMPORT!$A$2:$A$10000),0)+ROWS($1:7)-1,COLUMN()-1),0)","v":"12.18.2018"},{"$f":"IF(ROWS(GPS_IMPORT!$1:7)<=COUNTIF(GPS_IMPORT!$A$2:$A$10000,$B$5),INDEX(GPS_IMPORT!$2:$10000,MATCH($B$5,(GPS_IMPORT!$A$2:$A$10000),0)+ROWS($1:7)-1,COLUMN()-1),0)","v":"10:09:33.070"},{"$f":"IF(ROWS(GPS_IMPORT!$1:7)<=COUNTIF(GPS_IMPORT!$A$2:$A$10000,$B$5),INDEX(GPS_IMPORT!$2:$10000,MATCH($B$5,(GPS_IMPORT!$A$2:$A$10000),0)+ROWS($1:7)-1,COLUMN()-1),0)","v":310823.13190210599},{"$f":"IF(ROWS(GPS_IMPORT!$1:7)<=COUNTIF(GPS_IMPORT!$A$2:$A$10000,$B$5),INDEX(GPS_IMPORT!$2:$10000,MATCH($B$5,(GPS_IMPORT!$A$2:$A$10000),0)+ROWS($1:7)-1,COLUMN()-1),0)","v":2269553.9172834102},{"$f":"IF(ROWS(GPS_IMPORT!$1:7)<=COUNTIF(GPS_IMPORT!$A$2:$A$10000,$B$5),INDEX(GPS_IMPORT!$2:$10000,MATCH($B$5,(GPS_IMPORT!$A$2:$A$10000),0)+ROWS($1:7)-1,COLUMN()-1),0)","v":930.60195765975004},6.596950872335583E-3,3.6147283390164375E-4,6.9062851725902874E-3,true]
[8,{"$f":"IF(ROWS(GPS_IMPORT!$1:8)<=COUNTIF(GPS_IMPORT!$A$2:$A$10000,$B$5),INDEX(GPS_IMPORT!$2:$10000,MATCH($B$5,(GPS_IMPORT!$A$2:$A$10000),0)+ROWS($1:8)-1,COLUMN()-1),0)","v":"GS7"},{"$f":"IF(ROWS(GPS_IMPORT!$1:8)<=COUNTIF(GPS_IMPORT!$A$2:$A$10000,$B$5),INDEX(GPS_IMPORT!$2:$10000,MATCH($B$5,(GPS_IMPORT!$A$2:$A$10000),0)+ROWS($1:8)-1,COLUMN()-1),0)","v":"12.18.2018"},{"$f":"IF(ROWS(GPS_IMPORT!$1:8)<=COUNTIF(GPS_IMPORT!$A$2:$A$10000,$B$5),INDEX(GPS_IMPORT!$2:$10000,MATCH($B$5,(GPS_IMPORT!$A$2:$A$10000),0)+ROWS($1:8)-1,COLUMN()-1),0)","v":"10:09:45.310"},{"$f":"IF(ROWS(GPS_IMPORT!$1:8)<=COUNTIF(GPS_IMPORT!$A$2:$A$10000,$B$5),INDEX(GPS_IMPORT!$2:$10000,MATCH($B$5,(GPS_IMPORT!$A$2:$A$10000),0)+ROWS($1:8)-1,COLUMN()-1),0)","v":310823.13015496702},{"$f":"IF(ROWS(GPS_IMPORT!$1:8)<=COUNTIF(GPS_IMPORT!$A$2:$A$10000,$B$5),INDEX(GPS_IMPORT!$2:$10000,MATCH($B$5,(GPS_IMPORT!$A$2:$A$10000),0)+ROWS($1:8)-1,COLUMN()-1),0)","v":2269553.9122950402},{"$f":"IF(ROWS(GPS_IMPORT!$1:8)<=COUNTIF(GPS_IMPORT!$A$2:$A$10000,$B$5),INDEX(GPS_IMPORT!$2:$10000,MATCH($B$5,(GPS_IMPORT!$A$2:$A$10000),0)+ROWS($1:8)-1,COLUMN()-1),0)","v":930.60546050726998},8.3440898451954126E-3,5.349842831492424E-3,3.4034376526506094E-3,true]
[9,{"$f":"IF(ROWS(GPS_IMPORT!$1:9)<=COUNTIF(GPS_IMPORT!$A$2:$A$10000,$B$5),INDEX(GPS_IMPORT!$2:$10000,MATCH($B$5,(GPS_IMPORT!$A$2:$A$10000),0)+ROWS($1:9)-1,COLUMN()-1),0)","v":"GS7"},{"$f":"IF(ROWS(GPS_IMPORT!$1:9)<=COUNTIF(GPS_IMPORT!$A$2:$A$10000,$B$5),INDEX(GPS_IMPORT!$2:$10000,MATCH($B$5,(GPS_IMPORT!$A$2:$A$10000),0)+ROWS($1:9)-1,COLUMN()-1),0)","v":"12.18.2018"},{"$f":"IF(ROWS(GPS_IMPORT!$1:9)<=COUNTIF(GPS_IMPORT!$A$2:$A$10000,$B$5),INDEX(GPS_IMPORT!$2:$10000,MATCH($B$5,(GPS_IMPORT!$A$2:$A$10000),0)+ROWS($1:9)-1,COLUMN()-1),0)","v":"10:10:06.090"},{"$f":"IF(ROWS(GPS_IMPORT!$1:9)<=COUNTIF(GPS_IMPORT!$A$2:$A$10000,$B$5),INDEX(GPS_IMPORT!$2:$10000,MATCH($B$5,(GPS_IMPORT!$A$2:$A$10000),0)+ROWS($1:9)-1,COLUMN()-1),0)","v":310823.13807619101},{"$f":"IF(ROWS(GPS_IMPORT!$1:9)<=COUNTIF(GPS_IMPORT!$A$2:$A$10000,$B$5),INDEX(GPS_IMPORT!$2:$10000,MATCH($B$5,(GPS_IMPORT!$A$2:$A$10000),0)+ROWS($1:9)-1,COLUMN()-1),0)","v":2269553.9180773101},{"$f":"IF(ROWS(GPS_IMPORT!$1:9)<=COUNTIF(GPS_IMPORT!$A$2:$A$10000,$B$5),INDEX(GPS_IMPORT!$2:$10000,MATCH($B$5,(GPS_IMPORT!$A$2:$A$10000),0)+ROWS($1:9)-1,COLUMN()-1),0)","v":930.61027102929995},4.2286585085093975E-4,-4.3242704123258591E-4,-1.4070843773197339E-3,true]
[10,{"$f":"IF(ROWS(GPS_IMPORT!$1:10)<=COUNTIF(GPS_IMPORT!$A$2:$A$10000,$B$5),INDEX(GPS_IMPORT!$2:$10000,MATCH($B$5,(GPS_IMPORT!$A$2:$A$10000),0)+ROWS($1:10)-1,COLUMN()-1),0)","v":"GS7"},{"$f":"IF(ROWS(GPS_IMPORT!$1:10)<=COUNTIF(GPS_IMPORT!$A$2:$A$10000,$B$5),INDEX(GPS_IMPORT!$2:$10000,MATCH($B$5,(GPS_IMPORT!$A$2:$A$10000),0)+ROWS($1:10)-1,COLUMN()-1),0)","v":"12.18.2018"},{"$f":"IF(ROWS(GPS_IMPORT!$1:10)<=COUNTIF(GPS_IMPORT!$A$2:$A$10000,$B$5),INDEX(GPS_IMPORT!$2:$10000,MATCH($B$5,(GPS_IMPORT!$A$2:$A$10000),0)+ROWS($1:10)-1,COLUMN()-1),0)","v":"10:10:18.090"},{"$f":"IF(ROWS(GPS_IMPORT!$1:10)<=COUNTIF(GPS_IMPORT!$A$2:$A$10000,$B$5),INDEX(GPS_IMPORT!$2:$10000,MATCH($B$5,(GPS_IMPORT!$A$2:$A$10000),0)+ROWS($1:10)-1,COLUMN()-1),0)","v":310823.14030154701},{"$f":"IF(ROWS(GPS_IMPORT!$1:10)<=COUNTIF(GPS_IMPORT!$A$2:$A$10000,$B$5),INDEX(GPS_IMPORT!$2:$10000,MATCH($B$5,(GPS_IMPORT!$A$2:$A$10000),0)+ROWS($1:10)-1,COLUMN()-1),0)","v":2269553.9189639301},{"$f":"IF(ROWS(GPS_IMPORT!$1:10)<=COUNTIF(GPS_IMPORT!$A$2:$A$10000,$B$5),INDEX(GPS_IMPORT!$2:$10000,MATCH($B$5,(GPS_IMPORT!$A$2:$A$10000),0)+ROWS($1:10)-1,COLUMN()-1),0)","v":930.60847937358005},-1.8024901510216296E-3,-1.3190470635890961E-3,3.8457134257896541E-4,true]
[11,{"$f":"IF(ROWS(GPS_IMPORT!$1:11)<=COUNTIF(GPS_IMPORT!$A$2:$A$10000,$B$5),INDEX(GPS_IMPORT!$2:$10000,MATCH($B$5,(GPS_IMPORT!$A$2:$A$10000),0)+ROWS($1:11)-1,COLUMN()-1),0)","v":"GS7"},{"$f":"IF(ROWS(GPS_IMPORT!$1:11)<=COUNTIF(GPS_IMPORT!$A$2:$A$10000,$B$5),INDEX(GPS_IMPORT!$2:$10000,MATCH($B$5,(GPS_IMPORT!$A$2:$A$10000),0)+ROWS($1:11)-1,COLUMN()-1),0)","v":"12.18.2018"},{"$f":"IF(ROWS(GPS_IMPORT!$1:11)<=COUNTIF(GPS_IMPORT!$A$2:$A$10000,$B$5),INDEX(GPS_IMPORT!$2:$10000,MATCH($B$5,(GPS_IMPORT!$A$2:$A$10000),0)+ROWS($1:11)-1,COLUMN()-1),0)","v":"10:10:32.040"},{"$f":"IF(ROWS(GPS_IMPORT!$1:11)<=COUNTIF(GPS_IMPORT!$A$2:$A$10000,$B$5),INDEX(GPS_IMPORT!$2:$10000,MATCH($B$5,(GPS_IMPORT!$A$2:$A$10000),0)+ROWS($1:11)-1,COLUMN()-1),0)","v":310823.13860444701},{"$f":"IF(ROWS(GPS_IMPORT!$1:11)<=COUNTIF(GPS_IMPORT!$A$2:$A$10000,$B$5),INDEX(GPS_IMPORT!$2:$10000,MATCH($B$5,(GPS_IMPORT!$A$2:$A$10000),0)+ROWS($1:11)-1,COLUMN()-1),0)","v":2269553.9132200498},{"$f":"IF(ROWS(GPS_IMPORT!$1:11)<=COUNTIF(GPS_IMPORT!$A$2:$A$10000,$B$5),INDEX(GPS_IMPORT!$2:$10000,MATCH($B$5,(GPS_IMPORT!$A$2:$A$10000),0)+ROWS($1:11)-1,COLUMN()-1),0)","v":930.62238051157999},-1.0539015056565404E-4,4.4248332269489765E-3,-1.3516566657358453E-2,true]
[12,{"$f":"IF(ROWS(GPS_IMPORT!$1:12)<=COUNTIF(GPS_IMPORT!$A$2:$A$10000,$B$5),INDEX(GPS_IMPORT!$2:$10000,MATCH($B$5,(GPS_IMPORT!$A$2:$A$10000),0)+ROWS($1:12)-1,COLUMN()-1),0)","v":"GS7"},{"$f":"IF(ROWS(GPS_IMPORT!$1:12)<=COUNTIF(GPS_IMPORT!$A$2:$A$10000,$B$5),INDEX(GPS_IMPORT!$2:$10000,MATCH($B$5,(GPS_IMPORT!$A$2:$A$10000),0)+ROWS($1:12)-1,COLUMN()-1),0)","v":"12.18.2018"},{"$f":"IF(ROWS(GPS_IMPORT!$1:12)<=COUNTIF(GPS_IMPORT!$A$2:$A$10000,$B$5),INDEX(GPS_IMPORT!$2:$10000,MATCH($B$5,(GPS_IMPORT!$A$2:$A$10000),0)+ROWS($1:12)-1,COLUMN()-1),0)","v":"10:10:43.990"},{"$f":"IF(ROWS(GPS_IMPORT!$1:12)<=COUNTIF(GPS_IMPORT!$A$2:$A$10000,$B$5),INDEX(GPS_IMPORT!$2:$10000,MATCH($B$5,(GPS_IMPORT!$A$2:$A$10000),0)+ROWS($1:12)-1,COLUMN()-1),0)","v":310823.14292726701},{"$f":"IF(ROWS(GPS_IMPORT!$1:12)<=COUNTIF(GPS_IMPORT!$A$2:$A$10000,$B$5),INDEX(GPS_IMPORT!$2:$10000,MATCH($B$5,(GPS_IMPORT!$A$2:$A$10000),0)+ROWS($1:12)-1,COLUMN()-1),0)","v":2269553.91593466},{"$f":"IF(ROWS(GPS_IMPORT!$1:12)<=COUNTIF(GPS_IMPORT!$A$2:$A$10000,$B$5),INDEX(GPS_IMPORT!$2:$10000,MATCH($B$5,(GPS_IMPORT!$A$2:$A$10000),0)+ROWS($1:12)-1,COLUMN()-1),0)","v":930.61320040572002},-4.4282101443968713E-3,1.7102230340242386E-3,-4.3364607973899183E-3,true]
[13,{"$f":"IF(ROWS(GPS_IMPORT!$1:13)<=COUNTIF(GPS_IMPORT!$A$2:$A$10000,$B$5),INDEX(GPS_IMPORT!$2:$10000,MATCH($B$5,(GPS_IMPORT!$A$2:$A$10000),0)+ROWS($1:13)-1,COLUMN()-1),0)","v":0},{"$f":"IF(ROWS(GPS_IMPORT!$1:13)<=COUNTIF(GPS_IMPORT!$A$2:$A$10000,$B$5),INDEX(GPS_IMPORT!$2:$10000,MATCH($B$5,(GPS_IMPORT!$A$2:$A$10000),0)+ROWS($1:13)-1,COLUMN()-1),0)","v":"00:00:00"},{"$f":"IF(ROWS(GPS_IMPORT!$1:13)<=COUNTIF(GPS_IMPORT!$A$2:$A$10000,$B$5),INDEX(GPS_IMPORT!$2:$10000,MATCH($B$5,(GPS_IMPORT!$A$2:$A$10000),0)+ROWS($1:13)-1,COLUMN()-1),0)","v":"00:00:00"},{"$f":"IF(ROWS(GPS_IMPORT!$1:13)<=COUNTIF(GPS_IMPORT!$A$2:$A$10000,$B$5),INDEX(GPS_IMPORT!$2:$10000,MATCH($B$5,(GPS_IMPORT!$A$2:$A$10000),0)+ROWS($1:13)-1,COLUMN()-1),0)","v":0},{"$f":"IF(ROWS(GPS_IMPORT!$1:13)<=COUNTIF(GPS_IMPORT!$A$2:$A$10000,$B$5),INDEX(GPS_IMPORT!$2:$10000,MATCH($B$5,(GPS_IMPORT!$A$2:$A$10000),0)+ROWS($1:13)-1,COLUMN()-1),0)","v":0},{"$f":"IF(ROWS(GPS_IMPORT!$1:13)<=COUNTIF(GPS_IMPORT!$A$2:$A$10000,$B$5),INDEX(GPS_IMPORT!$2:$10000,MATCH($B$5,(GPS_IMPORT!$A$2:$A$10000),0)+ROWS($1:13)-1,COLUMN()-1),0)","v":0},{"$f":"IF(E19>0,E$22-E19,0)","v":0},0,0,false]
[14,{"$f":"IF(ROWS(GPS_IMPORT!$1:14)<=COUNTIF(GPS_IMPORT!$A$2:$A$10000,$B$5),INDEX(GPS_IMPORT!$2:$10000,MATCH($B$5,(GPS_IMPORT!$A$2:$A$10000),0)+ROWS($1:14)-1,COLUMN()-1),0)","v":0},{"$f":"IF(ROWS(GPS_IMPORT!$1:14)<=COUNTIF(GPS_IMPORT!$A$2:$A$10000,$B$5),INDEX(GPS_IMPORT!$2:$10000,MATCH($B$5,(GPS_IMPORT!$A$2:$A$10000),0)+ROWS($1:14)-1,COLUMN()-1),0)","v":"00:00:00"},{"$f":"IF(ROWS(GPS_IMPORT!$1:14)<=COUNTIF(GPS_IMPORT!$A$2:$A$10000,$B$5),INDEX(GPS_IMPORT!$2:$10000,MATCH($B$5,(GPS_IMPORT!$A$2:$A$10000),0)+ROWS($1:14)-1,COLUMN()-1),0)","v":"00:00:00"},{"$f":"IF(ROWS(GPS_IMPORT!$1:14)<=COUNTIF(GPS_IMPORT!$A$2:$A$10000,$B$5),INDEX(GPS_IMPORT!$2:$10000,MATCH($B$5,(GPS_IMPORT!$A$2:$A$10000),0)+ROWS($1:14)-1,COLUMN()-1),0)","v":0},{"$f":"IF(ROWS(GPS_IMPORT!$1:14)<=COUNTIF(GPS_IMPORT!$A$2:$A$10000,$B$5),INDEX(GPS_IMPORT!$2:$10000,MATCH($B$5,(GPS_IMPORT!$A$2:$A$10000),0)+ROWS($1:14)-1,COLUMN()-1),0)","v":0},{"$f":"IF(ROWS(GPS_IMPORT!$1:14)<=COUNTIF(GPS_IMPORT!$A$2:$A$10000,$B$5),INDEX(GPS_IMPORT!$2:$10000,MATCH($B$5,(GPS_IMPORT!$A$2:$A$10000),0)+ROWS($1:14)-1,COLUMN()-1),0)","v":0},0,0,0,false]
[15,{"$f":"IF(ROWS(GPS_IMPORT!$1:15)<=COUNTIF(GPS_IMPORT!$A$2:$A$10000,$B$5),INDEX(GPS_IMPORT!$2:$10000,MATCH($B$5,(GPS_IMPORT!$A$2:$A$10000),0)+ROWS($1:15)-1,COLUMN()-1),0)","v":0},{"$f":"IF(ROWS(GPS_IMPORT!$1:15)<=COUNTIF(GPS_IMPORT!$A$2:$A$10000,$B$5),INDEX(GPS_IMPORT!$2:$10000,MATCH($B$5,(GPS_IMPORT!$A$2:$A$10000),0)+ROWS($1:15)-1,COLUMN()-1),0)","v":"00:00:00"},{"$f":"IF(ROWS(GPS_IMPORT!$1:15)<=COUNTIF(GPS_IMPORT!$A$2:$A$10000,$B$5),INDEX(GPS_IMPORT!$2:$10000,MATCH($B$5,(GPS_IMPORT!$A$2:$A$10000),0)+ROWS($1:15)-1,COLUMN()-1),0)","v":"00:00:00"},{"$f":"IF(ROWS(GPS_IMPORT!$1:15)<=COUNTIF(GPS_IMPORT!$A$2:$A$10000,$B$5),INDEX(GPS_IMPORT!$2:$10000,MATCH($B$5,(GPS_IMPORT!$A$2:$A$10000),0)+ROWS($1:15)-1,COLUMN()-1),0)","v":0},{"$f":"IF(ROWS(GPS_IMPORT!$1:15)<=COUNTIF(GPS_IMPORT!$A$2:$A$10000,$B$5),INDEX(GPS_IMPORT!$2:$10000,MATCH($B$5,(GPS_IMPORT!$A$2:$A$10000),0)+ROWS($1:15)-1,COLUMN()-1),0)","v":0},{"$f":"IF(ROWS(GPS_IMPORT!$1:15)<=COUNTIF(GPS_IMPORT!$A$2:$A$10000,$B$5),INDEX(GPS_IMPORT!$2:$10000,MATCH($B$5,(GPS_IMPORT!$A$2:$A$10000),0)+ROWS($1:15)-1,COLUMN()-1),0)","v":0},0,0,0,false]
[null,null,null,"AVERAGE",{"$f":"(IF($K$7=TRUE,E7,0)+IF($K$8=TRUE,E8,0)+IF($K$9=TRUE,E9,0)+IF($K$10=TRUE,E10,0)+IF($K$11=TRUE,E11,0)+IF($K$12=TRUE,E12,0)+IF($K$13=TRUE,E13,0)+IF($K$14=TRUE,E14,0)+IF($K$15=TRUE,E15,0)+IF($K$16=TRUE,E16,0)+IF($K$17=TRUE,E17,0)+IF($K$18=TRUE,E18,0)+IF($K$19=TRUE,E19,0)+IF($K$20=TRUE,E20,0)+IF($K$21=TRUE,E21,0))/(IF($K$7=TRUE,1,0)+IF($K$8=TRUE,1,0)+IF($K$9=TRUE,1,0)+IF($K$10=TRUE,1,0)+IF($K$11=TRUE,1,0)+IF($K$12=TRUE,1,0)+IF($K$13=TRUE,1,0)+IF($K$14=TRUE,1,0)+IF($K$15=TRUE,1,0)+IF($K$16=TRUE,1,0)+IF($K$17=TRUE,1,0)+IF($K$18=TRUE,1,0)+IF($K$19=TRUE,1,0)+IF($K$20=TRUE,1,0)+IF($K$21=TRUE,1,0))","v":310823.13849905686},{"$f":"(IF($K$7=TRUE,F7,0)+IF($K$8=TRUE,F8,0)+IF($K$9=TRUE,F9,0)+IF($K$10=TRUE,F10,0)+IF($K$11=TRUE,F11,0)+IF($K$12=TRUE,F12,0)+IF($K$13=TRUE,F13,0)+IF($K$14=TRUE,F14,0)+IF($K$15=TRUE,F15,0)+IF($K$16=TRUE,F16,0)+IF($K$17=TRUE,F17,0)+IF($K$18=TRUE,F18,0)+IF($K$19=TRUE,F19,0)+IF($K$20=TRUE,F20,0)+IF($K$21=TRUE,F21,0))/(IF($K$7=TRUE,1,0)+IF($K$8=TRUE,1,0)+IF($K$9=TRUE,1,0)+IF($K$10=TRUE,1,0)+IF($K$11=TRUE,1,0)+IF($K$12=TRUE,1,0)+IF($K$13=TRUE,1,0)+IF($K$14=TRUE,1,0)+IF($K$15=TRUE,1,0)+IF($K$16=TRUE,1,0)+IF($K$17=TRUE,1,0)+IF($K$18=TRUE,1,0)+IF($K$19=TRUE,1,0)+IF($K$20=TRUE,1,0)+IF($K$21=TRUE,1,0))","v":2269553.917644883},{"$f":"(IF($K$7=TRUE,G7,0)+IF($K$8=TRUE,G8,0)+IF($K$9=TRUE,G9,0)+IF($K$10=TRUE,G10,0)+IF($K$11=TRUE,G11,0)+IF($K$12=TRUE,G12,0)+IF($K$13=TRUE,G13,0)+IF($K$14=TRUE,G14,0)+IF($K$15=TRUE,G15,0)+IF($K$16=TRUE,G16,0)+IF($K$17=TRUE,G17,0)+IF($K$18=TRUE,G18,0)+IF($K$19=TRUE,G19,0)+IF($K$20=TRUE,G20,0)+IF($K$21=TRUE,G21,0))/\n(IF($K$7=TRUE,1,0)+IF($K$8=TRUE,1,0)+IF($K$9=TRUE,1,0)+IF($K$10=TRUE,1,0)+IF($K$11=TRUE,1,0)+IF($K$12=TRUE,1,0)+IF($K$13=TRUE,1,0)+IF($K$14=TRUE,1,0)+IF($K$15=TRUE,1,0)+IF($K$16=TRUE,1,0)+IF($K$17=TRUE,1,0)+IF($K$18=TRUE,1,0)+IF($K$19=TRUE,1,0)+IF($K$20=TRUE,1,0)+IF($K$21=TRUE,1,0))","v":930.60886394492263},"RMSE:","RMSE:","RMSE:"]
[null,null,null,null,null,null,"RMSE IN US SURVEY FEET:",{"$f":"SQRT((\n(IF($K$7=TRUE,H7^2,0))+(IF($K$8=TRUE,H8^2,0))+(IF($K$9=TRUE,H9^2,0))+(IF($K$10=TRUE,H10^2,0))+(IF($K$11=TRUE,H11^2,0))+(IF($K$12=TRUE,H12^2,0))+(IF($K$13=TRUE,H13^2,0))+(IF($K$14=TRUE,H14^2,0))+(IF($K$15=TRUE,H15^2,0))+(IF($K$16=TRUE,H16^2,0))+(IF($K$17=TRUE,H17^2,0))+(IF($K$18=TRUE,H18^2,0))+(IF($K$19=TRUE,H19^2,0))+(IF($K$20=TRUE,H20^2,0))+(IF($K$21=TRUE,H21^2,0)))/\n(IF($K$7=TRUE,1,0)+IF($K$8=TRUE,1,0)+IF($K$9=TRUE,1,0)+IF($K$10=TRUE,1,0)+IF($K$11=TRUE,1,0)+IF($K$12=TRUE,1,0)+IF($K$13=TRUE,1,0)+IF($K$14=TRUE,1,0)+IF($K$15=TRUE,1,0)+IF($K$16=TRUE,1,0)+IF($K$17=TRUE,1,0)+IF($K$18=TRUE,1,0)+IF($K$19=TRUE,1,0)+IF($K$20=TRUE,1,0)+IF($K$21=TRUE,1,0)))","v":4.6132328553201247E-3},{"$f":"SQRT((\n(IF($K$7=TRUE,I7^2,0))+(IF($K$8=TRUE,I8^2,0))+(IF($K$9=TRUE,I9^2,0))+(IF($K$10=TRUE,I10^2,0))+(IF($K$11=TRUE,I11^2,0))+(IF($K$12=TRUE,I12^2,0))+(IF($K$13=TRUE,I13^2,0))+(IF($K$14=TRUE,I14^2,0))+(IF($K$15=TRUE,I15^2,0))+(IF($K$16=TRUE,I16^2,0))+(IF($K$17=TRUE,I17^2,0))+(IF($K$18=TRUE,I18^2,0))+(IF($K$19=TRUE,I19^2,0))+(IF($K$20=TRUE,I20^2,0))+(IF($K$21=TRUE,I21^2,0)))/\n(IF($K$7=TRUE,1,0)+IF($K$8=TRUE,1,0)+IF($K$9=TRUE,1,0)+IF($K$10=TRUE,1,0)+IF($K$11=TRUE,1,0)+IF($K$12=TRUE,1,0)+IF($K$13=TRUE,1,0)+IF($K$14=TRUE,1,0)+IF($K$15=TRUE,1,0)+IF($K$16=TRUE,1,0)+IF($K$17=TRUE,1,0)+IF($K$18=TRUE,1,0)+IF($K$19=TRUE,1,0)+IF($K$20=TRUE,1,0)+IF($K$21=TRUE,1,0)))","v":2.5741504514663143E-3},{"$f":"SQRT((\n(IF($K$7=TRUE,J7^2,0))+(IF($K$8=TRUE,J8^2,0))+(IF($K$9=TRUE,J9^2,0))+(IF($K$10=TRUE,J10^2,0))+(IF($K$11=TRUE,J11^2,0))+(IF($K$12=TRUE,J12^2,0))+(IF($K$13=TRUE,J13^2,0))+(IF($K$14=TRUE,J14^2,0))+(IF($K$15=TRUE,J15^2,0))+(IF($K$16=TRUE,J16^2,0))+(IF($K$17=TRUE,J17^2,0))+(IF($K$18=TRUE,J18^2,0))+(IF($K$19=TRUE,J19^2,0))+(IF($K$20=TRUE,J20^2,0))+(IF($K$21=TRUE,J21^2,0)))/\n(IF($K$7=TRUE,1,0)+IF($K$8=TRUE,1,0)+IF($K$9=TRUE,1,0)+IF($K$10=TRUE,1,0)+IF($K$11=TRUE,1,0)+IF($K$12=TRUE,1,0)+IF($K$13=TRUE,1,0)+IF($K$14=TRUE,1,0)+IF($K$15=TRUE,1,0)+IF($K$16=TRUE,1,0)+IF($K$17=TRUE,1,0)+IF($K$18=TRUE,1,0)+IF($K$19=TRUE,1,0)+IF($K$20=TRUE,1,0)+IF($K$21=TRUE,1,0)))","v":5.8519303722528188E-3}]
[null,null,null,1]
[null,null,"UNITLESS GRID TO GROUND MULTIPLIER",0,null,null,null,{"$f":"IF(H23<=0.029,\"PASS\",\"FAIL\")","v":"PASS"},{"$f":"IF(I23<=0.029,\"PASS\",\"FAIL\")","v":"PASS"},{"$f":"IF(J23<=0.039,\"PASS\",\"FAIL\")","v":"PASS"}]
[]
["AVERAGED GPS-DERIVED POSITION",null,null,null,null,null,null,null,"Notes:"]
[null,"MONUMENT COORDINATES",null,"NORTHING","EASTING","ORTHO HEIGHT"]
[null,"US Survey Feet (GRID)",null,{"$f":"$E$22","v":310823.13849905686},{"$f":"$F$22","v":2269553.917644883},{"$f":"$G$22","v":930.60886394492263}]
[]
["LEVELED ELEVATION"]
["US SURVEY FEET",null,"N/A","(Type the leveled elevation or N/A if no leveled elevation is available)"]
["MONUMENT HELD",null,null,"(Type the monument name from which leveling originated)"]
["LEVELED ELEVATION - GPS DERIVED ELEVATION   = ",null,null,null,{"$f":"IF(C32=\"N/A\",\"N/A\",C32-(F29*D24))","v":"N/A"}]
[]
["FINAL MONUMENT COORDINATES"]
[null,"MONUMENT COORDINATES",null,"NORTHING","EASTING","ELEVATION","FEATURE CODE"]
[null,"US SURVEY FEET (GRID)",null,{"$f":"$E$22*$D$24","v":310823.13849905686},{"$f":"$F$22*$D$24","v":2269553.917644883},{"$f":"IF($C$32=\"N/A\",($G$22*$D$24),$C$32)","v":930.60886394492263},"AERTAR"]
[null,"US SURVEY FEET (GROUND)",null,{"$f":"$D$38*$D$25","v":0},{"$f":"$E$38*$D$25","v":0},{"$f":"IF($C$32=\"N/A\",($G$22*$D$24),$C$32)","v":930.60886394492263},{"$f":"G38","v":"AERTAR"}]
[]
["∆ North,  ∆ East, and ∆ Ht. are the difference between the average northing, easting, and height for each observation.",null,null,null,null,null,null,null,"Mask Angle:","10°"]

{"sheet":"GS8","index":14,"n_rows":41,"n_cols":11,"rows_kept":41,"cut":false,"hidden":false,"merged":[[0,0,0,10],[26,0,26,6],[27,1,27,2],[27,8,38,10],[28,1,28,2],[30,0,30,6],[35,0,35,6],[36,1,36,2],[37,1,37,2],[38,1,38,2]]}
["VRS GNSS Project Control Monument Coordinate Analysis"]
[]
["Project:",{"$f":"REPORT!B2","v":"TUS-800-22.74"},"GPS Antenna:","LEICA GS14",null,null,null,null,null,"Report Date:",{"$f":"REPORT!C49","v":"2018-12-19"}]
["PID:",{"$f":"REPORT!E2","v":100603},"VRS Network:","ODOT VRS",null,null,null,null,null,"Prepared By:",{"$f":"REPORT!C48","v":"Kolton Wilson"}]
["Point ID:","GS8","No. of Sessions:",{"$f":"COUNTIF(GPS_IMPORT!A2:A1000,$B$5)","v":12},null,null,null,null,null,"Checked By:",{"$f":"REPORT!C52","v":"Joel Swick"}]
["SESSION #","Point","Observation Date","Start Time","Northing(sft)","Easting(sft)","Height(sft)","∆ Northing(sft)","∆ Easting(sft)","∆ Height(sft)","Include in Solution?"]
[1,{"$f":"IF(ROWS(GPS_IMPORT!$1:1)<=COUNTIF(GPS_IMPORT!$A$2:$A$10000,$B$5),INDEX(GPS_IMPORT!$2:$10000,MATCH($B$5,(GPS_IMPORT!$A$2:$A$10000),0)+ROWS($1:1)-1,COLUMN()-1),0)","v":"GS8"},{"$f":"IF(ROWS(GPS_IMPORT!$1:1)<=COUNTIF(GPS_IMPORT!$A$2:$A$10000,$B$5),INDEX(GPS_IMPORT!$2:$10000,MATCH($B$5,(GPS_IMPORT!$A$2:$A$10000),0)+ROWS($1:1)-1,COLUMN()-1),0)","v":"12.18.2018"},{"$f":"IF(ROWS(GPS_IMPORT!$1:1)<=COUNTIF(GPS_IMPORT!$A$2:$A$10000,$B$5),INDEX(GPS_IMPORT!$2:$10000,MATCH($B$5,(GPS_IMPORT!$A$2:$A$10000),0)+ROWS($1:1)-1,COLUMN()-1),0)","v":"10:29:50.490"},{"$f":"IF(ROWS(GPS_IMPORT!$1:1)<=COUNTIF(GPS_IMPORT!$A$2:$A$10000,$B$5),INDEX(GPS_IMPORT!$2:$10000,MATCH($B$5,(GPS_IMPORT!$A$2:$A$10000),0)+ROWS($1:1)-1,COLUMN()-1),0)","v":320793.62425246101},{"$f":"IF(ROWS(GPS_IMPORT!$1:1)<=COUNTIF(GPS_IMPORT!$A$2:$A$10000,$B$5),INDEX(GPS_IMPORT!$2:$10000,MATCH($B$5,(GPS_IMPORT!$A$2:$A$10000),0)+ROWS($1:1)-1,COLUMN()-1),0)","v":2266823.8593734102},{"$f":"IF(ROWS(GPS_IMPORT!$1:1)<=COUNTIF(GPS_IMPORT!$A$2:$A$10000,$B$5),INDEX(GPS_IMPORT!$2:$10000,MATCH($B$5,(GPS_IMPORT!$A$2:$A$10000),0)+ROWS($1:1)-1,COLUMN()-1),0)","v":894.87229967100996},{"$f":"IF(E7>0,E$22-E7,0)","v":-2.3711056506726891E-2},1.3916562311351299E-3,-2.2852700850648944E-2,true]
[2,{"$f":"IF(ROWS(GPS_IMPORT!$1:2)<=COUNTIF(GPS_IMPORT!$A$2:$A$10000,$B$5),INDEX(GPS_IMPORT!$2:$10000,MATCH($B$5,(GPS_IMPORT!$A$2:$A$10000),0)+ROWS($1:2)-1,COLUMN()-1),0)","v":"GS8"},{"$f":"IF(ROWS(GPS_IMPORT!$1:2)<=COUNTIF(GPS_IMPORT!$A$2:$A$10000,$B$5),INDEX(GPS_IMPORT!$2:$10000,MATCH($B$5,(GPS_IMPORT!$A$2:$A$10000),0)+ROWS($1:2)-1,COLUMN()-1),0)","v":"12.18.2018"},{"$f":"IF(ROWS(GPS_IMPORT!$1:2)<=COUNTIF(GPS_IMPORT!$A$2:$A$10000,$B$5),INDEX(GPS_IMPORT!$2:$10000,MATCH($B$5,(GPS_IMPORT!$A$2:$A$10000),0)+ROWS($1:2)-1,COLUMN()-1),0)","v":"10:30:01.830"},{"$f":"IF(ROWS(GPS_IMPORT!$1:2)<=COUNTIF(GPS_IMPORT!$A$2:$A$10000,$B$5),INDEX(GPS_IMPORT!$2:$10000,MATCH($B$5,(GPS_IMPORT!$A$2:$A$10000),0)+ROWS($1:2)-1,COLUMN()-1),0)","v":320793.614802072},{"$f":"IF(ROWS(GPS_IMPORT!$1:2)<=COUNTIF(GPS_IMPORT!$A$2:$A$10000,$B$5),INDEX(GPS_IMPORT!$2:$10000,MATCH($B$5,(GPS_IMPORT!$A$2:$A$10000),0)+ROWS($1:2)-1,COLUMN()-1),0)","v":2266823.86019063},{"$f":"IF(ROWS(GPS_IMPORT!$1:2)<=COUNTIF(GPS_IMPORT!$A$2:$A$10000,$B$5),INDEX(GPS_IMPORT!$2:$10000,MATCH($B$5,(GPS_IMPORT!$A$2:$A$10000),0)+ROWS($1:2)-1,COLUMN()-1),0)","v":894.83919282079},-1.4260667492635548E-2,5.7443650439381599E-4,1.0254149369302468E-2,true]
[3,{"$f":"IF(ROWS(GPS_IMPORT!$1:3)<=COUNTIF(GPS_IMPORT!$A$2:$A$10000,$B$5),INDEX(GPS_IMPORT!$2:$10000,MATCH($B$5,(GPS_IMPORT!$A$2:$A$10000),0)+ROWS($1:3)-1,COLUMN()-1),0)","v":"GS8"},{"$f":"IF(ROWS(GPS_IMPORT!$1:3)<=COUNTIF(GPS_IMPORT!$A$2:$A$10000,$B$5),INDEX(GPS_IMPORT!$2:$10000,MATCH($B$5,(GPS_IMPORT!$A$2:$A$10000),0)+ROWS($1:3)-1,COLUMN()-1),0)","v":"12.18.2018"},{"$f":"IF(ROWS(GPS_IMPORT!$1:3)<=COUNTIF(GPS_IMPORT!$A$2:$A$10000,$B$5),INDEX(GPS_IMPORT!$2:$10000,MATCH($B$5,(GPS_IMPORT!$A$2:$A$10000),0)+ROWS($1:3)-1,COLUMN()-1),0)","v":"10:30:14.140"},{"$f":"IF(ROWS(GPS_IMPORT!$1:3)<=COUNTIF(GPS_IMPORT!$A$2:$A$10000,$B$5),INDEX(GPS_IMPORT!$2:$10000,MATCH($B$5,(GPS_IMPORT!$A$2:$A$10000),0)+ROWS($1:3)-1,COLUMN()-1),0)","v":320793.66071773903},{"$f":"IF(ROWS(GPS_IMPORT!$1:3)<=COUNTIF(GPS_IMPORT!$A$2:$A$10000,$B$5),INDEX(GPS_IMPORT!$2:$10000,MATCH($B$5,(GPS_IMPORT!$A$2:$A$10000),0)+ROWS($1:3)-1,COLUMN()-1),0)","v":2266823.8335118899},{"$f":"IF(ROWS(GPS_IMPORT!$1:3)<=COUNTIF(GPS_IMPORT!$A$2:$A$10000,$B$5),INDEX(GPS_IMPORT!$2:$10000,MATCH($B$5,(GPS_IMPORT!$A$2:$A$10000),0)+ROWS($1:3)-1,COLUMN()-1),0)","v":894.83679050834996},-6.0176334518473595E-2,2.7253176551312208E-2,1.2656461809342545E-2,true]
[4,{"$f":"IF(ROWS(GPS_IMPORT!$1:4)<=COUNTIF(GPS_IMPORT!$A$2:$A$10000,$B$5),INDEX(GPS_IMPORT!$2:$10000,MATCH($B$5,(GPS_IMPORT!$A$2:$A$10000),0)+ROWS($1:4)-1,COLUMN()-1),0)","v":"GS8"},{"$f":"IF(ROWS(GPS_IMPORT!$1:4)<=COUNTIF(GPS_IMPORT!$A$2:$A$10000,$B$5),INDEX(GPS_IMPORT!$2:$10000,MATCH($B$5,(GPS_IMPORT!$A$2:$A$10000),0)+ROWS($1:4)-1,COLUMN()-1),0)","v":"12.18.2018"},{"$f":"IF(ROWS(GPS_IMPORT!$1:4)<=COUNTIF(GPS_IMPORT!$A$2:$A$10000,$B$5),INDEX(GPS_IMPORT!$2:$10000,MATCH($B$5,(GPS_IMPORT!$A$2:$A$10000),0)+ROWS($1:4)-1,COLUMN()-1),0)","v":"10:30:23.480"},{"$f":"IF(ROWS(GPS_IMPORT!$1:4)<=COUNTIF(GPS_IMPORT!$A$2:$A$10000,$B$5),INDEX(GPS_IMPORT!$2:$10000,MATCH($B$5,(GPS_IMPORT!$A$2:$A$10000),0)+ROWS($1:4)-1,COLUMN()-1),0)","v":320793.62628645101},{"$f":"IF(ROWS(GPS_IMPORT!$1:4)<=COUNTIF(GPS_IMPORT!$A$2:$A$10000,$B$5),INDEX(GPS_IMPORT!$2:$10000,MATCH($B$5,(GPS_IMPORT!$A$2:$A$10000),0)+ROWS($1:4)-1,COLUMN()-1),0)","v":2266823.8476991099},{"$f":"IF(ROWS(GPS_IMPORT!$1:4)<=COUNTIF(GPS_IMPORT!$A$2:$A$10000,$B$5),INDEX(GPS_IMPORT!$2:$10000,MATCH($B$5,(GPS_IMPORT!$A$2:$A$10000),0)+ROWS($1:4)-1,COLUMN()-1),0)","v":894.86611285679999},-2.5745046499650925E-2,1.306595653295517E-2,-1.6665886640680583E-2,true]
[5,{"$f":"IF(ROWS(GPS_IMPORT!$1:5)<=COUNTIF(GPS_IMPORT!$A$2:$A$10000,$B$5),INDEX(GPS_IMPORT!$2:$10000,MATCH($B$5,(GPS_IMPORT!$A$2:$A$10000),0)+ROWS($1:5)-1,COLUMN()-1),0)","v":"GS8"},{"$f":"IF(ROWS(GPS_IMPORT!$1:5)<=COUNTIF(GPS_IMPORT!$A$2:$A$10000,$B$5),INDEX(GPS_IMPORT!$2:$10000,MATCH($B$5,(GPS_IMPORT!$A$2:$A$10000),0)+ROWS($1:5)-1,COLUMN()-1),0)","v":"12.18.2018"},{"$f":"IF(ROWS(GPS_IMPORT!$1:5)<=COUNTIF(GPS_IMPORT!$A$2:$A$10000,$B$5),INDEX(GPS_IMPORT!$2:$10000,MATCH($B$5,(GPS_IMPORT!$A$2:$A$10000),0)+ROWS($1:5)-1,COLUMN()-1),0)","v":"10:31:01.200"},{"$f":"IF(ROWS(GPS_IMPORT!$1:5)<=COUNTIF(GPS_IMPORT!$A$2:$A$10000,$B$5),INDEX(GPS_IMPORT!$2:$10000,MATCH($B$5,(GPS_IMPORT!$A$2:$A$10000),0)+ROWS($1:5)-1,COLUMN()-1),0)","v":320793.590948581},{"$f":"IF(ROWS(GPS_IMPORT!$1:5)<=COUNTIF(GPS_IMPORT!$A$2:$A$10000,$B$5),INDEX(GPS_IMPORT!$2:$10000,MATCH($B$5,(GPS_IMPORT!$A$2:$A$10000),0)+ROWS($1:5)-1,COLUMN()-1),0)","v":2266823.8682396701},{"$f":"IF(ROWS(GPS_IMPORT!$1:5)<=COUNTIF(GPS_IMPORT!$A$2:$A$10000,$B$5),INDEX(GPS_IMPORT!$2:$10000,MATCH($B$5,(GPS_IMPORT!$A$2:$A$10000),0)+ROWS($1:5)-1,COLUMN()-1),0)","v":894.88585625090002},9.5928235095925629E-3,-7.4746035970747471E-3,-3.6409280740713257E-2,true]
[6,{"$f":"IF(ROWS(GPS_IMPORT!$1:6)<=COUNTIF(GPS_IMPORT!$A$2:$A$10000,$B$5),INDEX(GPS_IMPORT!$2:$10000,MATCH($B$5,(GPS_IMPORT!$A$2:$A$10000),0)+ROWS($1:6)-1,COLUMN()-1),0)","v":"GS8"},{"$f":"IF(ROWS(GPS_IMPORT!$1:6)<=COUNTIF(GPS_IMPORT!$A$2:$A$10000,$B$5),INDEX(GPS_IMPORT!$2:$10000,MATCH($B$5,(GPS_IMPORT!$A$2:$A$10000),0)+ROWS($1:6)-1,COLUMN()-1),0)","v":"12.18.2018"},{"$f":"IF(ROWS(GPS_IMPORT!$1:6)<=COUNTIF(GPS_IMPORT!$A$2:$A$10000,$B$5),INDEX(GPS_IMPORT!$2:$10000,MATCH($B$5,(GPS_IMPORT!$A$2:$A$10000),0)+ROWS($1:6)-1,COLUMN()-1),0)","v":"10:31:11.080"},{"$f":"IF(ROWS(GPS_IMPORT!$1:6)<=COUNTIF(GPS_IMPORT!$A$2:$A$10000,$B$5),INDEX(GPS_IMPORT!$2:$10000,MATCH($B$5,(GPS_IMPORT!$A$2:$A$10000),0)+ROWS($1:6)-1,COLUMN()-1),0)","v":320793.58746722498},{"$f":"IF(ROWS(GPS_IMPORT!$1:6)<=COUNTIF(GPS_IMPORT!$A$2:$A$10000,$B$5),INDEX(GPS_IMPORT!$2:$10000,MATCH($B$5,(GPS_IMPORT!$A$2:$A$10000),0)+ROWS($1:6)-1,COLUMN()-1),0)","v":2266823.8723994801},{"$f":"IF(ROWS(GPS_IMPORT!$1:6)<=COUNTIF(GPS_IMPORT!$A$2:$A$10000,$B$5),INDEX(GPS_IMPORT!$2:$10000,MATCH($B$5,(GPS_IMPORT!$A$2:$A$10000),0)+ROWS($1:6)-1,COLUMN()-1),0)","v":894.86624250226998},1.3074179529212415E-2,-1.1634413618594408E-2,-1.6795532110677414E-2,true]
[7,{"$f":"IF(ROWS(GPS_IMPORT!$1:7)<=COUNTIF(GPS_IMPORT!$A$2:$A$10000,$B$5),INDEX(GPS_IMPORT!$2:$10000,MATCH($B$5,(GPS_IMPORT!$A$2:$A$10000),0)+ROWS($1:7)-1,COLUMN()-1),0)","v":"GS8"},{"$f":"IF(ROWS(GPS_IMPORT!$1:7)<=COUNTIF(GPS_IMPORT!$A$2:$A$10000,$B$5),INDEX(GPS_IMPORT!$2:$10000,MATCH($B$5,(GPS_IMPORT!$A$2:$A$10000),0)+ROWS($1:7)-1,COLUMN()-1),0)","v":"12.18.2018"},{"$f":"IF(ROWS(GPS_IMPORT!$1:7)<=COUNTIF(GPS_IMPORT!$A$2:$A$10000,$B$5),INDEX(GPS_IMPORT!$2:$10000,MATCH($B$5,(GPS_IMPORT!$A$2:$A$10000),0)+ROWS($1:7)-1,COLUMN()-1),0)","v":"10:31:28.080"},{"$f":"IF(ROWS(GPS_IMPORT!$1:7)<=COUNTIF(GPS_IMPORT!$A$2:$A$10000,$B$5),INDEX(GPS_IMPORT!$2:$10000,MATCH($B$5,(GPS_IMPORT!$A$2:$A$10000),0)+ROWS($1:7)-1,COLUMN()-1),0)","v":320793.59134040697},{"$f":"IF(ROWS(GPS_IMPORT!$1:7)<=COUNTIF(GPS_IMPORT!$A$2:$A$10000,$B$5),INDEX(GPS_IMPORT!$2:$10000,MATCH($B$5,(GPS_IMPORT!$A$2:$A$10000),0)+ROWS($1:7)-1,COLUMN()-1),0)","v":2266823.8553417199},{"$f":"IF(ROWS(GPS_IMPORT!$1:7)<=COUNTIF(GPS_IMPORT!$A$2:$A$10000,$B$5),INDEX(GPS_IMPORT!$2:$10000,MATCH($B$5,(GPS_IMPORT!$A$2:$A$10000),0)+ROWS($1:7)-1,COLUMN()-1),0)","v":894.86542509111996},9.2009975342079997E-3,5.423346534371376E-3,-1.5978120960653541E-2,true]
[8,{"$f":"IF(ROWS(GPS_IMPORT!$1:8)<=COUNTIF(GPS_IMPORT!$A$2:$A$10000,$B$5),INDEX(GPS_IMPORT!$2:$10000,MATCH($B$5,(GPS_IMPORT!$A$2:$A$10000),0)+ROWS($1:8)-1,COLUMN()-1),0)","v":"GS8"},{"$f":"IF(ROWS(GPS_IMPORT!$1:8)<=COUNTIF(GPS_IMPORT!$A$2:$A$10000,$B$5),INDEX(GPS_IMPORT!$2:$10000,MATCH($B$5,(GPS_IMPORT!$A$2:$A$10000),0)+ROWS($1:8)-1,COLUMN()-1),0)","v":"12.18.2018"},{"$f":"IF(ROWS(GPS_IMPORT!$1:8)<=COUNTIF(GPS_IMPORT!$A$2:$A$10000,$B$5),INDEX(GPS_IMPORT!$2:$10000,MATCH($B$5,(GPS_IMPORT!$A$2:$A$10000),0)+ROWS($1:8)-1,COLUMN()-1),0)","v":"10:31:37.780"},{"$f":"IF(ROWS(GPS_IMPORT!$1:8)<=COUNTIF(GPS_IMPORT!$A$2:$A$10000,$B$5),INDEX(GPS_IMPORT!$2:$10000,MATCH($B$5,(GPS_IMPORT!$A$2:$A$10000),0)+ROWS($1:8)-1,COLUMN()-1),0)","v":320793.59116015298},{"$f":"IF(ROWS(GPS_IMPORT!$1:8)<=COUNTIF(GPS_IMPORT!$A$2:$A$10000,$B$5),INDEX(GPS_IMPORT!$2:$10000,MATCH($B$5,(GPS_IMPORT!$A$2:$A$10000),0)+ROWS($1:8)-1,COLUMN()-1),0)","v":2266823.8534375401},{"$f":"IF(ROWS(GPS_IMPORT!$1:8)<=COUNTIF(GPS_IMPORT!$A$2:$A$10000,$B$5),INDEX(GPS_IMPORT!$2:$10000,MATCH($B$5,(GPS_IMPORT!$A$2:$A$10000),0)+ROWS($1:8)-1,COLUMN()-1),0)","v":894.87649655718997},9.3812515260651708E-3,7.3275263421237469E-3,-2.7049587030660405E-2,true]
[9,{"$f":"IF(ROWS(GPS_IMPORT!$1:9)<=COUNTIF(GPS_IMPORT!$A$2:$A$10000,$B$5),INDEX(GPS_IMPORT!$2:$10000,MATCH($B$5,(GPS_IMPORT!$A$2:$A$10000),0)+ROWS($1:9)-1,COLUMN()-1),0)","v":"GS8"},{"$f":"IF(ROWS(GPS_IMPORT!$1:9)<=COUNTIF(GPS_IMPORT!$A$2:$A$10000,$B$5),INDEX(GPS_IMPORT!$2:$10000,MATCH($B$5,(GPS_IMPORT!$A$2:$A$10000),0)+ROWS($1:9)-1,COLUMN()-1),0)","v":"12.18.2018"},{"$f":"IF(ROWS(GPS_IMPORT!$1:9)<=COUNTIF(GPS_IMPORT!$A$2:$A$10000,$B$5),INDEX(GPS_IMPORT!$2:$10000,MATCH($B$5,(GPS_IMPORT!$A$2:$A$10000),0)+ROWS($1:9)-1,COLUMN()-1),0)","v":"10:32:06"},{"$f":"IF(ROWS(GPS_IMPORT!$1:9)<=COUNTIF(GPS_IMPORT!$A$2:$A$10000,$B$5),INDEX(GPS_IMPORT!$2:$10000,MATCH($B$5,(GPS_IMPORT!$A$2:$A$10000),0)+ROWS($1:9)-1,COLUMN()-1),0)","v":320793.579715106},{"$f":"IF(ROWS(GPS_IMPORT!$1:9)<=COUNTIF(GPS_IMPORT!$A$2:$A$10000,$B$5),INDEX(GPS_IMPORT!$2:$10000,MATCH($B$5,(GPS_IMPORT!$A$2:$A$10000),0)+ROWS($1:9)-1,COLUMN()-1),0)","v":2266823.8756003999},{"$f":"IF(ROWS(GPS_IMPORT!$1:9)<=COUNTIF(GPS_IMPORT!$A$2:$A$10000,$B$5),INDEX(GPS_IMPORT!$2:$10000,MATCH($B$5,(GPS_IMPORT!$A$2:$A$10000),0)+ROWS($1:9)-1,COLUMN()-1),0)","v":894.81081397844002},2.0826298510655761E-2,-1.4835333451628685E-2,3.8632991719282472E-2,true]
[10,{"$f":"IF(ROWS(GPS_IMPORT!$1:10)<=COUNTIF(GPS_IMPORT!$A$2:$A$10000,$B$5),INDEX(GPS_IMPORT!$2:$10000,MATCH($B$5,(GPS_IMPORT!$A$2:$A$10000),0)+ROWS($1:10)-1,COLUMN()-1),0)","v":"GS8"},{"$f":"IF(ROWS(GPS_IMPORT!$1:10)<=COUNTIF(GPS_IMPORT!$A$2:$A$10000,$B$5),INDEX(GPS_IMPORT!$2:$10000,MATCH($B$5,(GPS_IMPORT!$A$2:$A$10000),0)+ROWS($1:10)-1,COLUMN()-1),0)","v":"12.18.2018"},{"$f":"IF(ROWS(GPS_IMPORT!$1:10)<=COUNTIF(GPS_IMPORT!$A$2:$A$10000,$B$5),INDEX(GPS_IMPORT!$2:$10000,MATCH($B$5,(GPS_IMPORT!$A$2:$A$10000),0)+ROWS($1:10)-1,COLUMN()-1),0)","v":"10:32:17.090"},{"$f":"IF(ROWS(GPS_IMPORT!$1:10)<=COUNTIF(GPS_IMPORT!$A$2:$A$10000,$B$5),INDEX(GPS_IMPORT!$2:$10000,MATCH($B$5,(GPS_IMPORT!$A$2:$A$10000),0)+ROWS($1:10)-1,COLUMN()-1),0)","v":320793.56845676398},{"$f":"IF(ROWS(GPS_IMPORT!$1:10)<=COUNTIF(GPS_IMPORT!$A$2:$A$10000,$B$5),INDEX(GPS_IMPORT!$2:$10000,MATCH($B$5,(GPS_IMPORT!$A$2:$A$10000),0)+ROWS($1:10)-1,COLUMN()-1),0)","v":2266823.8729975098},{"$f":"IF(ROWS(GPS_IMPORT!$1:10)<=COUNTIF(GPS_IMPORT!$A$2:$A$10000,$B$5),INDEX(GPS_IMPORT!$2:$10000,MATCH($B$5,(GPS_IMPORT!$A$2:$A$10000),0)+ROWS($1:10)-1,COLUMN()-1),0)","v":894.81106391032995},3.2084640522953123E-2,-1.2232443317770958E-2,3.838305982935708E-2,true]
[11,{"$f":"IF(ROWS(GPS_IMPORT!$1:11)<=COUNTIF(GPS_IMPORT!$A$2:$A$10000,$B$5),INDEX(GPS_IMPORT!$2:$10000,MATCH($B$5,(GPS_IMPORT!$A$2:$A$10000),0)+ROWS($1:11)-1,COLUMN()-1),0)","v":"GS8"},{"$f":"IF(ROWS(GPS_IMPORT!$1:11)<=COUNTIF(GPS_IMPORT!$A$2:$A$10000,$B$5),INDEX(GPS_IMPORT!$2:$10000,MATCH($B$5,(GPS_IMPORT!$A$2:$A$10000),0)+ROWS($1:11)-1,COLUMN()-1),0)","v":"12.18.2018"},{"$f":"IF(ROWS(GPS_IMPORT!$1:11)<=COUNTIF(GPS_IMPORT!$A$2:$A$10000,$B$5),INDEX(GPS_IMPORT!$2:$10000,MATCH($B$5,(GPS_IMPORT!$A$2:$A$10000),0)+ROWS($1:11)-1,COLUMN()-1),0)","v":"10:32:28.200"},{"$f":"IF(ROWS(GPS_IMPORT!$1:11)<=COUNTIF(GPS_IMPORT!$A$2:$A$10000,$B$5),INDEX(GPS_IMPORT!$2:$10000,MATCH($B$5,(GPS_IMPORT!$A$2:$A$10000),0)+ROWS($1:11)-1,COLUMN()-1),0)","v":320793.57080849097},{"$f":"IF(ROWS(GPS_IMPORT!$1:11)<=COUNTIF(GPS_IMPORT!$A$2:$A$10000,$B$5),INDEX(GPS_IMPORT!$2:$10000,MATCH($B$5,(GPS_IMPORT!$A$2:$A$10000),0)+ROWS($1:11)-1,COLUMN()-1),0)","v":2266823.8696243698},{"$f":"IF(ROWS(GPS_IMPORT!$1:11)<=COUNTIF(GPS_IMPORT!$A$2:$A$10000,$B$5),INDEX(GPS_IMPORT!$2:$10000,MATCH($B$5,(GPS_IMPORT!$A$2:$A$10000),0)+ROWS($1:11)-1,COLUMN()-1),0)","v":894.81362252455006},2.9732913535553962E-2,-8.8593033142387867E-3,3.5824445609250688E-2,true]
[12,{"$f":"IF(ROWS(GPS_IMPORT!$1:12)<=COUNTIF(GPS_IMPORT!$A$2:$A$10000,$B$5),INDEX(GPS_IMPORT!$2:$10000,MATCH($B$5,(GPS_IMPORT!$A$2:$A$10000),0)+ROWS($1:12)-1,COLUMN()-1),0)","v":"GS8"},{"$f":"IF(ROWS(GPS_IMPORT!$1:12)<=COUNTIF(GPS_IMPORT!$A$2:$A$10000,$B$5),INDEX(GPS_IMPORT!$2:$10000,MATCH($B$5,(GPS_IMPORT!$A$2:$A$10000),0)+ROWS($1:12)-1,COLUMN()-1),0)","v":"12.18.2018"},{"$f":"IF(ROWS(GPS_IMPORT!$1:12)<=COUNTIF(GPS_IMPORT!$A$2:$A$10000,$B$5),INDEX(GPS_IMPORT!$2:$10000,MATCH($B$5,(GPS_IMPORT!$A$2:$A$10000),0)+ROWS($1:12)-1,COLUMN()-1),0)","v":"10:32:41.980"},{"$f":"IF(ROWS(GPS_IMPORT!$1:12)<=COUNTIF(GPS_IMPORT!$A$2:$A$10000,$B$5),INDEX(GPS_IMPORT!$2:$10000,MATCH($B$5,(GPS_IMPORT!$A$2:$A$10000),0)+ROWS($1:12)-1,COLUMN()-1),0)","v":320793.54922786402},{"$f":"IF(ROWS(GPS_IMPORT!$1:12)<=COUNTIF(GPS_IMPORT!$A$2:$A$10000,$B$5),INDEX(GPS_IMPORT!$2:$10000,MATCH($B$5,(GPS_IMPORT!$A$2:$A$10000),0)+ROWS($1:12)-1,COLUMN()-1),0)","v":2266823.8676235201},{"$f":"IF(ROWS(GPS_IMPORT!$1:12)<=COUNTIF(GPS_IMPORT!$A$2:$A$10000,$B$5),INDEX(GPS_IMPORT!$2:$10000,MATCH($B$5,(GPS_IMPORT!$A$2:$A$10000),0)+ROWS($1:12)-1,COLUMN()-1),0)","v":894.81004584357004},5.1313540490809828E-2,-6.8584536202251911E-3,3.9401126589268642E-2,false]
[13,{"$f":"IF(ROWS(GPS_IMPORT!$1:13)<=COUNTIF(GPS_IMPORT!$A$2:$A$10000,$B$5),INDEX(GPS_IMPORT!$2:$10000,MATCH($B$5,(GPS_IMPORT!$A$2:$A$10000),0)+ROWS($1:13)-1,COLUMN()-1),0)","v":0},{"$f":"IF(ROWS(GPS_IMPORT!$1:13)<=COUNTIF(GPS_IMPORT!$A$2:$A$10000,$B$5),INDEX(GPS_IMPORT!$2:$10000,MATCH($B$5,(GPS_IMPORT!$A$2:$A$10000),0)+ROWS($1:13)-1,COLUMN()-1),0)","v":"00:00:00"},{"$f":"IF(ROWS(GPS_IMPORT!$1:13)<=COUNTIF(GPS_IMPORT!$A$2:$A$10000,$B$5),INDEX(GPS_IMPORT!$2:$10000,MATCH($B$5,(GPS_IMPORT!$A$2:$A$10000),0)+ROWS($1:13)-1,COLUMN()-1),0)","v":"00:00:00"},{"$f":"IF(ROWS(GPS_IMPORT!$1:13)<=COUNTIF(GPS_IMPORT!$A$2:$A$10000,$B$5),INDEX(GPS_IMPORT!$2:$10000,MATCH($B$5,(GPS_IMPORT!$A$2:$A$10000),0)+ROWS($1:13)-1,COLUMN()-1),0)","v":0},{"$f":"IF(ROWS(GPS_IMPORT!$1:13)<=COUNTIF(GPS_IMPORT!$A$2:$A$10000,$B$5),INDEX(GPS_IMPORT!$2:$10000,MATCH($B$5,(GPS_IMPORT!$A$2:$A$10000),0)+ROWS($1:13)-1,COLUMN()-1),0)","v":0},{"$f":"IF(ROWS(GPS_IMPORT!$1:13)<=COUNTIF(GPS_IMPORT!$A$2:$A$10000,$B$5),INDEX(GPS_IMPORT!$2:$10000,MATCH($B$5,(GPS_IMPORT!$A$2:$A$10000),0)+ROWS($1:13)-1,COLUMN()-1),0)","v":0},{"$f":"IF(E19>0,E$22-E19,0)","v":0},0,0,false]
[14,{"$f":"IF(ROWS(GPS_IMPORT!$1:14)<=COUNTIF(GPS_IMPORT!$A$2:$A$10000,$B$5),INDEX(GPS_IMPORT!$2:$10000,MATCH($B$5,(GPS_IMPORT!$A$2:$A$10000),0)+ROWS($1:14)-1,COLUMN()-1),0)","v":0},{"$f":"IF(ROWS(GPS_IMPORT!$1:14)<=COUNTIF(GPS_IMPORT!$A$2:$A$10000,$B$5),INDEX(GPS_IMPORT!$2:$10000,MATCH($B$5,(GPS_IMPORT!$A$2:$A$10000),0)+ROWS($1:14)-1,COLUMN()-1),0)","v":"00:00:00"},{"$f":"IF(ROWS(GPS_IMPORT!$1:14)<=COUNTIF(GPS_IMPORT!$A$2:$A$10000,$B$5),INDEX(GPS_IMPORT!$2:$10000,MATCH($B$5,(GPS_IMPORT!$A$2:$A$10000),0)+ROWS($1:14)-1,COLUMN()-1),0)","v":"00:00:00"},{"$f":"IF(ROWS(GPS_IMPORT!$1:14)<=COUNTIF(GPS_IMPORT!$A$2:$A$10000,$B$5),INDEX(GPS_IMPORT!$2:$10000,MATCH($B$5,(GPS_IMPORT!$A$2:$A$10000),0)+ROWS($1:14)-1,COLUMN()-1),0)","v":0},{"$f":"IF(ROWS(GPS_IMPORT!$1:14)<=COUNTIF(GPS_IMPORT!$A$2:$A$10000,$B$5),INDEX(GPS_IMPORT!$2:$10000,MATCH($B$5,(GPS_IMPORT!$A$2:$A$10000),0)+ROWS($1:14)-1,COLUMN()-1),0)","v":0},{"$f":"IF(ROWS(GPS_IMPORT!$1:14)<=COUNTIF(GPS_IMPORT!$A$2:$A$10000,$B$5),INDEX(GPS_IMPORT!$2:$10000,MATCH($B$5,(GPS_IMPORT!$A$2:$A$10000),0)+ROWS($1:14)-1,COLUMN()-1),0)","v":0},0,0,0,false]
[15,{"$f":"IF(ROWS(GPS_IMPORT!$1:15)<=COUNTIF(GPS_IMPORT!$A$2:$A$10000,$B$5),INDEX(GPS_IMPORT!$2:$10000,MATCH($B$5,(GPS_IMPORT!$A$2:$A$10000),0)+ROWS($1:15)-1,COLUMN()-1),0)","v":0},{"$f":"IF(ROWS(GPS_IMPORT!$1:15)<=COUNTIF(GPS_IMPORT!$A$2:$A$10000,$B$5),INDEX(GPS_IMPORT!$2:$10000,MATCH($B$5,(GPS_IMPORT!$A$2:$A$10000),0)+ROWS($1:15)-1,COLUMN()-1),0)","v":"00:00:00"},{"$f":"IF(ROWS(GPS_IMPORT!$1:15)<=COUNTIF(GPS_IMPORT!$A$2:$A$10000,$B$5),INDEX(GPS_IMPORT!$2:$10000,MATCH($B$5,(GPS_IMPORT!$A$2:$A$10000),0)+ROWS($1:15)-1,COLUMN()-1),0)","v":"00:00:00"},{"$f":"IF(ROWS(GPS_IMPORT!$1:15)<=COUNTIF(GPS_IMPORT!$A$2:$A$10000,$B$5),INDEX(GPS_IMPORT!$2:$10000,MATCH($B$5,(GPS_IMPORT!$A$2:$A$10000),0)+ROWS($1:15)-1,COLUMN()-1),0)","v":0},{"$f":"IF(ROWS(GPS_IMPORT!$1:15)<=COUNTIF(GPS_IMPORT!$A$2:$A$10000,$B$5),INDEX(GPS_IMPORT!$2:$10000,MATCH($B$5,(GPS_IMPORT!$A$2:$A$10000),0)+ROWS($1:15)-1,COLUMN()-1),0)","v":0},{"$f":"IF(ROWS(GPS_IMPORT!$1:15)<=COUNTIF(GPS_IMPORT!$A$2:$A$10000,$B$5),INDEX(GPS_IMPORT!$2:$10000,MATCH($B$5,(GPS_IMPORT!$A$2:$A$10000),0)+ROWS($1:15)-1,COLUMN()-1),0)","v":0},0,0,0,false]
[null,null,null,"AVERAGE",{"$f":"(IF($K$7=TRUE,E7,0)+IF($K$8=TRUE,E8,0)+IF($K$9=TRUE,E9,0)+IF($K$10=TRUE,E10,0)+IF($K$11=TRUE,E11,0)+IF($K$12=TRUE,E12,0)+IF($K$13=TRUE,E13,0)+IF($K$14=TRUE,E14,0)+IF($K$15=TRUE,E15,0)+IF($K$16=TRUE,E16,0)+IF($K$17=TRUE,E17,0)+IF($K$18=TRUE,E18,0)+IF($K$19=TRUE,E19,0)+IF($K$20=TRUE,E20,0)+IF($K$21=TRUE,E21,0))/(IF($K$7=TRUE,1,0)+IF($K$8=TRUE,1,0)+IF($K$9=TRUE,1,0)+IF($K$10=TRUE,1,0)+IF($K$11=TRUE,1,0)+IF($K$12=TRUE,1,0)+IF($K$13=TRUE,1,0)+IF($K$14=TRUE,1,0)+IF($K$15=TRUE,1,0)+IF($K$16=TRUE,1,0)+IF($K$17=TRUE,1,0)+IF($K$18=TRUE,1,0)+IF($K$19=TRUE,1,0)+IF($K$20=TRUE,1,0)+IF($K$21=TRUE,1,0))","v":320793.60054140451},{"$f":"(IF($K$7=TRUE,F7,0)+IF($K$8=TRUE,F8,0)+IF($K$9=TRUE,F9,0)+IF($K$10=TRUE,F10,0)+IF($K$11=TRUE,F11,0)+IF($K$12=TRUE,F12,0)+IF($K$13=TRUE,F13,0)+IF($K$14=TRUE,F14,0)+IF($K$15=TRUE,F15,0)+IF($K$16=TRUE,F16,0)+IF($K$17=TRUE,F17,0)+IF($K$18=TRUE,F18,0)+IF($K$19=TRUE,F19,0)+IF($K$20=TRUE,F20,0)+IF($K$21=TRUE,F21,0))/(IF($K$7=TRUE,1,0)+IF($K$8=TRUE,1,0)+IF($K$9=TRUE,1,0)+IF($K$10=TRUE,1,0)+IF($K$11=TRUE,1,0)+IF($K$12=TRUE,1,0)+IF($K$13=TRUE,1,0)+IF($K$14=TRUE,1,0)+IF($K$15=TRUE,1,0)+IF($K$16=TRUE,1,0)+IF($K$17=TRUE,1,0)+IF($K$18=TRUE,1,0)+IF($K$19=TRUE,1,0)+IF($K$20=TRUE,1,0)+IF($K$21=TRUE,1,0))","v":2266823.8607650665},{"$f":"(IF($K$7=TRUE,G7,0)+IF($K$8=TRUE,G8,0)+IF($K$9=TRUE,G9,0)+IF($K$10=TRUE,G10,0)+IF($K$11=TRUE,G11,0)+IF($K$12=TRUE,G12,0)+IF($K$13=TRUE,G13,0)+IF($K$14=TRUE,G14,0)+IF($K$15=TRUE,G15,0)+IF($K$16=TRUE,G16,0)+IF($K$17=TRUE,G17,0)+IF($K$18=TRUE,G18,0)+IF($K$19=TRUE,G19,0)+IF($K$20=TRUE,G20,0)+IF($K$21=TRUE,G21,0))/\n(IF($K$7=TRUE,1,0)+IF($K$8=TRUE,1,0)+IF($K$9=TRUE,1,0)+IF($K$10=TRUE,1,0)+IF($K$11=TRUE,1,0)+IF($K$12=TRUE,1,0)+IF($K$13=TRUE,1,0)+IF($K$14=TRUE,1,0)+IF($K$15=TRUE,1,0)+IF($K$16=TRUE,1,0)+IF($K$17=TRUE,1,0)+IF($K$18=TRUE,1,0)+IF($K$19=TRUE,1,0)+IF($K$20=TRUE,1,0)+IF($K$21=TRUE,1,0))","v":894.84944697015931},"RMSE:","RMSE:","RMSE:"]
[null,null,null,null,null,null,"RMSE IN US SURVEY FEET:",{"$f":"SQRT((\n(IF($K$7=TRUE,H7^2,0))+(IF($K$8=TRUE,H8^2,0))+(IF($K$9=TRUE,H9^2,0))+(IF($K$10=TRUE,H10^2,0))+(IF($K$11=TRUE,H11^2,0))+(IF($K$12=TRUE,H12^2,0))+(IF($K$13=TRUE,H13^2,0))+(IF($K$14=TRUE,H14^2,0))+(IF($K$15=TRUE,H15^2,0))+(IF($K$16=TRUE,H16^2,0))+(IF($K$17=TRUE,H17^2,0))+(IF($K$18=TRUE,H18^2,0))+(IF($K$19=TRUE,H19^2,0))+(IF($K$20=TRUE,H20^2,0))+(IF($K$21=TRUE,H21^2,0)))/\n(IF($K$7=TRUE,1,0)+IF($K$8=TRUE,1,0)+IF($K$9=TRUE,1,0)+IF($K$10=TRUE,1,0)+IF($K$11=TRUE,1,0)+IF($K$12=TRUE,1,0)+IF($K$13=TRUE,1,0)+IF($K$14=TRUE,1,0)+IF($K$15=TRUE,1,0)+IF($K$16=TRUE,1,0)+IF($K$17=TRUE,1,0)+IF($K$18=TRUE,1,0)+IF($K$19=TRUE,1,0)+IF($K$20=TRUE,1,0)+IF($K$21=TRUE,1,0)))","v":2.6684021737348226E-2},{"$f":"SQRT((\n(IF($K$7=TRUE,I7^2,0))+(IF($K$8=TRUE,I8^2,0))+(IF($K$9=TRUE,I9^2,0))+(IF($K$10=TRUE,I10^2,0))+(IF($K$11=TRUE,I11^2,0))+(IF($K$12=TRUE,I12^2,0))+(IF($K$13=TRUE,I13^2,0))+(IF($K$14=TRUE,I14^2,0))+(IF($K$15=TRUE,I15^2,0))+(IF($K$16=TRUE,I16^2,0))+(IF($K$17=TRUE,I17^2,0))+(IF($K$18=TRUE,I18^2,0))+(IF($K$19=TRUE,I19^2,0))+(IF($K$20=TRUE,I20^2,0))+(IF($K$21=TRUE,I21^2,0)))/\n(IF($K$7=TRUE,1,0)+IF($K$8=TRUE,1,0)+IF($K$9=TRUE,1,0)+IF($K$10=TRUE,1,0)+IF($K$11=TRUE,1,0)+IF($K$12=TRUE,1,0)+IF($K$13=TRUE,1,0)+IF($K$14=TRUE,1,0)+IF($K$15=TRUE,1,0)+IF($K$16=TRUE,1,0)+IF($K$17=TRUE,1,0)+IF($K$18=TRUE,1,0)+IF($K$19=TRUE,1,0)+IF($K$20=TRUE,1,0)+IF($K$21=TRUE,1,0)))","v":1.2203811584489096E-2},{"$f":"SQRT((\n(IF($K$7=TRUE,J7^2,0))+(IF($K$8=TRUE,J8^2,0))+(IF($K$9=TRUE,J9^2,0))+(IF($K$10=TRUE,J10^2,0))+(IF($K$11=TRUE,J11^2,0))+(IF($K$12=TRUE,J12^2,0))+(IF($K$13=TRUE,J13^2,0))+(IF($K$14=TRUE,J14^2,0))+(IF($K$15=TRUE,J15^2,0))+(IF($K$16=TRUE,J16^2,0))+(IF($K$17=TRUE,J17^2,0))+(IF($K$18=TRUE,J18^2,0))+(IF($K$19=TRUE,J19^2,0))+(IF($K$20=TRUE,J20^2,0))+(IF($K$21=TRUE,J21^2,0)))/\n(IF($K$7=TRUE,1,0)+IF($K$8=TRUE,1,0)+IF($K$9=TRUE,1,0)+IF($K$10=TRUE,1,0)+IF($K$11=TRUE,1,0)+IF($K$12=TRUE,1,0)+IF($K$13=TRUE,1,0)+IF($K$14=TRUE,1,0)+IF($K$15=TRUE,1,0)+IF($K$16=TRUE,1,0)+IF($K$17=TRUE,1,0)+IF($K$18=TRUE,1,0)+IF($K$19=TRUE,1,0)+IF($K$20=TRUE,1,0)+IF($K$21=TRUE,1,0)))","v":2.6814507070316025E-2}]
[null,null,null,1]
[null,null,"UNITLESS GRID TO GROUND MULTIPLIER",{"$f":"IF(REPORT!C13=\"n/a\",\"0.00000000\",REPORT!C13)","v":0},null,null,null,{"$f":"IF(H23<=0.029,\"PASS\",\"FAIL\")","v":"PASS"},{"$f":"IF(I23<=0.029,\"PASS\",\"FAIL\")","v":"PASS"},{"$f":"IF(J23<=0.039,\"PASS\",\"FAIL\")","v":"PASS"}]
[]
["AVERAGED GPS-DERIVED POSITION",null,null,null,null,null,null,null,"Notes:"]
[null,"MONUMENT COORDINATES",null,"NORTHING","EASTING","ORTHO HEIGHT"]
[null,"US Survey Feet (GRID)",null,{"$f":"$E$22","v":320793.60054140451},{"$f":"$F$22","v":2266823.8607650665},{"$f":"$G$22","v":894.84944697015931}]
[]
["LEVELED ELEVATION"]
["US SURVEY FEET",null,"N/A","(Type the leveled elevation or N/A if no leveled elevation is available)"]
["MONUMENT HELD",null,null,"(Type the monument name from which leveling originated)"]
["LEVELED ELEVATION - GPS DERIVED ELEVATION   = ",null,null,null,{"$f":"IF(C32=\"N/A\",\"N/A\",C32-(F29*D24))","v":"N/A"}]
[]
["FINAL MONUMENT COORDINATES"]
[null,"MONUMENT COORDINATES",null,"NORTHING","EASTING","ELEVATION","FEATURE CODE"]
[null,"US SURVEY FEET (GRID)",null,{"$f":"$E$22*$D$24","v":320793.60054140451},{"$f":"$F$22*$D$24","v":2266823.8607650665},{"$f":"IF($C$32=\"N/A\",($G$22*$D$24),$C$32)","v":894.84944697015931},"AERTAR"]
[null,"US SURVEY FEET (GROUND)",null,{"$f":"$D$38*$D$25","v":0},{"$f":"$E$38*$D$25","v":0},{"$f":"IF($C$32=\"N/A\",($G$22*$D$24),$C$32)","v":894.84944697015931},{"$f":"G38","v":"AERTAR"}]
[]
["∆ North,  ∆ East, and ∆ Ht. are the difference between the average northing, easting, and height for each observation.",null,null,null,null,null,null,null,"Mask Angle:","10°"]

{"sheet":"GS9","index":15,"n_rows":41,"n_cols":11,"rows_kept":41,"cut":false,"hidden":false,"merged":[[0,0,0,10],[26,0,26,6],[27,1,27,2],[27,8,38,10],[28,1,28,2],[30,0,30,6],[35,0,35,6],[36,1,36,2],[37,1,37,2],[38,1,38,2]]}
["VRS GNSS Project Control Monument Coordinate Analysis"]
[]
["Project:",{"$f":"REPORT!B2","v":"TUS-800-22.74"},"GPS Antenna:","LEICA GS14",null,null,null,null,null,"Report Date:",{"$f":"REPORT!C49","v":"2018-12-19"}]
["PID:",{"$f":"REPORT!E2","v":100603},"VRS Network:","ODOT VRS",null,null,null,null,null,"Prepared By:",{"$f":"REPORT!C48","v":"Kolton Wilson"}]
["Point ID:","GS9","No. of Sessions:",{"$f":"COUNTIF(GPS_IMPORT!A2:A1000,$B$5)","v":12},null,null,null,null,null,"Checked By:",{"$f":"REPORT!C52","v":"Joel Swick"}]
["SESSION #","Point","Observation Date","Start Time","Northing(sft)","Easting(sft)","Height(sft)","∆ Northing(sft)","∆ Easting(sft)","∆ Height(sft)","Include in Solution?"]
[1,{"$f":"IF(ROWS(GPS_IMPORT!$1:1)<=COUNTIF(GPS_IMPORT!$A$2:$A$10000,$B$5),INDEX(GPS_IMPORT!$2:$10000,MATCH($B$5,(GPS_IMPORT!$A$2:$A$10000),0)+ROWS($1:1)-1,COLUMN()-1),0)","v":"GS9"},{"$f":"IF(ROWS(GPS_IMPORT!$1:1)<=COUNTIF(GPS_IMPORT!$A$2:$A$10000,$B$5),INDEX(GPS_IMPORT!$2:$10000,MATCH($B$5,(GPS_IMPORT!$A$2:$A$10000),0)+ROWS($1:1)-1,COLUMN()-1),0)","v":"12.18.2018"},{"$f":"IF(ROWS(GPS_IMPORT!$1:1)<=COUNTIF(GPS_IMPORT!$A$2:$A$10000,$B$5),INDEX(GPS_IMPORT!$2:$10000,MATCH($B$5,(GPS_IMPORT!$A$2:$A$10000),0)+ROWS($1:1)-1,COLUMN()-1),0)","v":"10:43:24.890"},{"$f":"IF(ROWS(GPS_IMPORT!$1:1)<=COUNTIF(GPS_IMPORT!$A$2:$A$10000,$B$5),INDEX(GPS_IMPORT!$2:$10000,MATCH($B$5,(GPS_IMPORT!$A$2:$A$10000),0)+ROWS($1:1)-1,COLUMN()-1),0)","v":320157.282550723},{"$f":"IF(ROWS(GPS_IMPORT!$1:1)<=COUNTIF(GPS_IMPORT!$A$2:$A$10000,$B$5),INDEX(GPS_IMPORT!$2:$10000,MATCH($B$5,(GPS_IMPORT!$A$2:$A$10000),0)+ROWS($1:1)-1,COLUMN()-1),0)","v":2265885.4674293101},{"$f":"IF(ROWS(GPS_IMPORT!$1:1)<=COUNTIF(GPS_IMPORT!$A$2:$A$10000,$B$5),INDEX(GPS_IMPORT!$2:$10000,MATCH($B$5,(GPS_IMPORT!$A$2:$A$10000),0)+ROWS($1:1)-1,COLUMN()-1),0)","v":888.12034641814},{"$f":"IF(E7>0,E$22-E7,0)","v":2.4482985492795706E-2},-7.3625268414616585E-3,3.4006921933269041E-2,true]
[2,{"$f":"IF(ROWS(GPS_IMPORT!$1:2)<=COUNTIF(GPS_IMPORT!$A$2:$A$10000,$B$5),INDEX(GPS_IMPORT!$2:$10000,MATCH($B$5,(GPS_IMPORT!$A$2:$A$10000),0)+ROWS($1:2)-1,COLUMN()-1),0)","v":"GS9"},{"$f":"IF(ROWS(GPS_IMPORT!$1:2)<=COUNTIF(GPS_IMPORT!$A$2:$A$10000,$B$5),INDEX(GPS_IMPORT!$2:$10000,MATCH($B$5,(GPS_IMPORT!$A$2:$A$10000),0)+ROWS($1:2)-1,COLUMN()-1),0)","v":"12.18.2018"},{"$f":"IF(ROWS(GPS_IMPORT!$1:2)<=COUNTIF(GPS_IMPORT!$A$2:$A$10000,$B$5),INDEX(GPS_IMPORT!$2:$10000,MATCH($B$5,(GPS_IMPORT!$A$2:$A$10000),0)+ROWS($1:2)-1,COLUMN()-1),0)","v":"10:43:37.280"},{"$f":"IF(ROWS(GPS_IMPORT!$1:2)<=COUNTIF(GPS_IMPORT!$A$2:$A$10000,$B$5),INDEX(GPS_IMPORT!$2:$10000,MATCH($B$5,(GPS_IMPORT!$A$2:$A$10000),0)+ROWS($1:2)-1,COLUMN()-1),0)","v":320157.30879510799},{"$f":"IF(ROWS(GPS_IMPORT!$1:2)<=COUNTIF(GPS_IMPORT!$A$2:$A$10000,$B$5),INDEX(GPS_IMPORT!$2:$10000,MATCH($B$5,(GPS_IMPORT!$A$2:$A$10000),0)+ROWS($1:2)-1,COLUMN()-1),0)","v":2265885.46437087},{"$f":"IF(ROWS(GPS_IMPORT!$1:2)<=COUNTIF(GPS_IMPORT!$A$2:$A$10000,$B$5),INDEX(GPS_IMPORT!$2:$10000,MATCH($B$5,(GPS_IMPORT!$A$2:$A$10000),0)+ROWS($1:2)-1,COLUMN()-1),0)","v":888.11985101846005},-1.7613995005376637E-3,-4.3040867894887924E-3,3.4502321613217646E-2,true]
[3,{"$f":"IF(ROWS(GPS_IMPORT!$1:3)<=COUNTIF(GPS_IMPORT!$A$2:$A$10000,$B$5),INDEX(GPS_IMPORT!$2:$10000,MATCH($B$5,(GPS_IMPORT!$A$2:$A$10000),0)+ROWS($1:3)-1,COLUMN()-1),0)","v":"GS9"},{"$f":"IF(ROWS(GPS_IMPORT!$1:3)<=COUNTIF(GPS_IMPORT!$A$2:$A$10000,$B$5),INDEX(GPS_IMPORT!$2:$10000,MATCH($B$5,(GPS_IMPORT!$A$2:$A$10000),0)+ROWS($1:3)-1,COLUMN()-1),0)","v":"12.18.2018"},{"$f":"IF(ROWS(GPS_IMPORT!$1:3)<=COUNTIF(GPS_IMPORT!$A$2:$A$10000,$B$5),INDEX(GPS_IMPORT!$2:$10000,MATCH($B$5,(GPS_IMPORT!$A$2:$A$10000),0)+ROWS($1:3)-1,COLUMN()-1),0)","v":"10:43:47.700"},{"$f":"IF(ROWS(GPS_IMPORT!$1:3)<=COUNTIF(GPS_IMPORT!$A$2:$A$10000,$B$5),INDEX(GPS_IMPORT!$2:$10000,MATCH($B$5,(GPS_IMPORT!$A$2:$A$10000),0)+ROWS($1:3)-1,COLUMN()-1),0)","v":320157.31662503799},{"$f":"IF(ROWS(GPS_IMPORT!$1:3)<=COUNTIF(GPS_IMPORT!$A$2:$A$10000,$B$5),INDEX(GPS_IMPORT!$2:$10000,MATCH($B$5,(GPS_IMPORT!$A$2:$A$10000),0)+ROWS($1:3)-1,COLUMN()-1),0)","v":2265885.4655337399},{"$f":"IF(ROWS(GPS_IMPORT!$1:3)<=COUNTIF(GPS_IMPORT!$A$2:$A$10000,$B$5),INDEX(GPS_IMPORT!$2:$10000,MATCH($B$5,(GPS_IMPORT!$A$2:$A$10000),0)+ROWS($1:3)-1,COLUMN()-1),0)","v":888.12496477887998},-9.5913294935598969E-3,-5.4669566452503204E-3,2.9388561193286478E-2,true]
[4,{"$f":"IF(ROWS(GPS_IMPORT!$1:4)<=COUNTIF(GPS_IMPORT!$A$2:$A$10000,$B$5),INDEX(GPS_IMPORT!$2:$10000,MATCH($B$5,(GPS_IMPORT!$A$2:$A$10000),0)+ROWS($1:4)-1,COLUMN()-1),0)","v":"GS9"},{"$f":"IF(ROWS(GPS_IMPORT!$1:4)<=COUNTIF(GPS_IMPORT!$A$2:$A$10000,$B$5),INDEX(GPS_IMPORT!$2:$10000,MATCH($B$5,(GPS_IMPORT!$A$2:$A$10000),0)+ROWS($1:4)-1,COLUMN()-1),0)","v":"12.18.2018"},{"$f":"IF(ROWS(GPS_IMPORT!$1:4)<=COUNTIF(GPS_IMPORT!$A$2:$A$10000,$B$5),INDEX(GPS_IMPORT!$2:$10000,MATCH($B$5,(GPS_IMPORT!$A$2:$A$10000),0)+ROWS($1:4)-1,COLUMN()-1),0)","v":"10:44:12.860"},{"$f":"IF(ROWS(GPS_IMPORT!$1:4)<=COUNTIF(GPS_IMPORT!$A$2:$A$10000,$B$5),INDEX(GPS_IMPORT!$2:$10000,MATCH($B$5,(GPS_IMPORT!$A$2:$A$10000),0)+ROWS($1:4)-1,COLUMN()-1),0)","v":320157.325250756},{"$f":"IF(ROWS(GPS_IMPORT!$1:4)<=COUNTIF(GPS_IMPORT!$A$2:$A$10000,$B$5),INDEX(GPS_IMPORT!$2:$10000,MATCH($B$5,(GPS_IMPORT!$A$2:$A$10000),0)+ROWS($1:4)-1,COLUMN()-1),0)","v":2265885.4821464},{"$f":"IF(ROWS(GPS_IMPORT!$1:4)<=COUNTIF(GPS_IMPORT!$A$2:$A$10000,$B$5),INDEX(GPS_IMPORT!$2:$10000,MATCH($B$5,(GPS_IMPORT!$A$2:$A$10000),0)+ROWS($1:4)-1,COLUMN()-1),0)","v":888.16922157910994},-1.8217047501821071E-2,-2.2079616785049438E-2,-1.4868239036673003E-2,true]
[5,{"$f":"IF(ROWS(GPS_IMPORT!$1:5)<=COUNTIF(GPS_IMPORT!$A$2:$A$10000,$B$5),INDEX(GPS_IMPORT!$2:$10000,MATCH($B$5,(GPS_IMPORT!$A$2:$A$10000),0)+ROWS($1:5)-1,COLUMN()-1),0)","v":"GS9"},{"$f":"IF(ROWS(GPS_IMPORT!$1:5)<=COUNTIF(GPS_IMPORT!$A$2:$A$10000,$B$5),INDEX(GPS_IMPORT!$2:$10000,MATCH($B$5,(GPS_IMPORT!$A$2:$A$10000),0)+ROWS($1:5)-1,COLUMN()-1),0)","v":"12.18.2018"},{"$f":"IF(ROWS(GPS_IMPORT!$1:5)<=COUNTIF(GPS_IMPORT!$A$2:$A$10000,$B$5),INDEX(GPS_IMPORT!$2:$10000,MATCH($B$5,(GPS_IMPORT!$A$2:$A$10000),0)+ROWS($1:5)-1,COLUMN()-1),0)","v":"10:44:38.870"},{"$f":"IF(ROWS(GPS_IMPORT!$1:5)<=COUNTIF(GPS_IMPORT!$A$2:$A$10000,$B$5),INDEX(GPS_IMPORT!$2:$10000,MATCH($B$5,(GPS_IMPORT!$A$2:$A$10000),0)+ROWS($1:5)-1,COLUMN()-1),0)","v":320157.32542161201},{"$f":"IF(ROWS(GPS_IMPORT!$1:5)<=COUNTIF(GPS_IMPORT!$A$2:$A$10000,$B$5),INDEX(GPS_IMPORT!$2:$10000,MATCH($B$5,(GPS_IMPORT!$A$2:$A$10000),0)+ROWS($1:5)-1,COLUMN()-1),0)","v":2265885.4457468302},{"$f":"IF(ROWS(GPS_IMPORT!$1:5)<=COUNTIF(GPS_IMPORT!$A$2:$A$10000,$B$5),INDEX(GPS_IMPORT!$2:$10000,MATCH($B$5,(GPS_IMPORT!$A$2:$A$10000),0)+ROWS($1:5)-1,COLUMN()-1),0)","v":888.14655008274997},-1.8387903517577797E-2,1.4319953043013811E-2,7.8032573233031144E-3,true]
[6,{"$f":"IF(ROWS(GPS_IMPORT!$1:6)<=COUNTIF(GPS_IMPORT!$A$2:$A$10000,$B$5),INDEX(GPS_IMPORT!$2:$10000,MATCH($B$5,(GPS_IMPORT!$A$2:$A$10000),0)+ROWS($1:6)-1,COLUMN()-1),0)","v":"GS9"},{"$f":"IF(ROWS(GPS_IMPORT!$1:6)<=COUNTIF(GPS_IMPORT!$A$2:$A$10000,$B$5),INDEX(GPS_IMPORT!$2:$10000,MATCH($B$5,(GPS_IMPORT!$A$2:$A$10000),0)+ROWS($1:6)-1,COLUMN()-1),0)","v":"12.18.2018"},{"$f":"IF(ROWS(GPS_IMPORT!$1:6)<=COUNTIF(GPS_IMPORT!$A$2:$A$10000,$B$5),INDEX(GPS_IMPORT!$2:$10000,MATCH($B$5,(GPS_IMPORT!$A$2:$A$10000),0)+ROWS($1:6)-1,COLUMN()-1),0)","v":"10:44:50.090"},{"$f":"IF(ROWS(GPS_IMPORT!$1:6)<=COUNTIF(GPS_IMPORT!$A$2:$A$10000,$B$5),INDEX(GPS_IMPORT!$2:$10000,MATCH($B$5,(GPS_IMPORT!$A$2:$A$10000),0)+ROWS($1:6)-1,COLUMN()-1),0)","v":320157.318493111},{"$f":"IF(ROWS(GPS_IMPORT!$1:6)<=COUNTIF(GPS_IMPORT!$A$2:$A$10000,$B$5),INDEX(GPS_IMPORT!$2:$10000,MATCH($B$5,(GPS_IMPORT!$A$2:$A$10000),0)+ROWS($1:6)-1,COLUMN()-1),0)","v":2265885.4546408299},{"$f":"IF(ROWS(GPS_IMPORT!$1:6)<=COUNTIF(GPS_IMPORT!$A$2:$A$10000,$B$5),INDEX(GPS_IMPORT!$2:$10000,MATCH($B$5,(GPS_IMPORT!$A$2:$A$10000),0)+ROWS($1:6)-1,COLUMN()-1),0)","v":888.17257199008998},-1.1459402507171035E-2,5.4259533062577248E-3,-1.8218650016706306E-2,true]
[7,{"$f":"IF(ROWS(GPS_IMPORT!$1:7)<=COUNTIF(GPS_IMPORT!$A$2:$A$10000,$B$5),INDEX(GPS_IMPORT!$2:$10000,MATCH($B$5,(GPS_IMPORT!$A$2:$A$10000),0)+ROWS($1:7)-1,COLUMN()-1),0)","v":"GS9"},{"$f":"IF(ROWS(GPS_IMPORT!$1:7)<=COUNTIF(GPS_IMPORT!$A$2:$A$10000,$B$5),INDEX(GPS_IMPORT!$2:$10000,MATCH($B$5,(GPS_IMPORT!$A$2:$A$10000),0)+ROWS($1:7)-1,COLUMN()-1),0)","v":"12.18.2018"},{"$f":"IF(ROWS(GPS_IMPORT!$1:7)<=COUNTIF(GPS_IMPORT!$A$2:$A$10000,$B$5),INDEX(GPS_IMPORT!$2:$10000,MATCH($B$5,(GPS_IMPORT!$A$2:$A$10000),0)+ROWS($1:7)-1,COLUMN()-1),0)","v":"10:45:00.900"},{"$f":"IF(ROWS(GPS_IMPORT!$1:7)<=COUNTIF(GPS_IMPORT!$A$2:$A$10000,$B$5),INDEX(GPS_IMPORT!$2:$10000,MATCH($B$5,(GPS_IMPORT!$A$2:$A$10000),0)+ROWS($1:7)-1,COLUMN()-1),0)","v":320157.31255815201},{"$f":"IF(ROWS(GPS_IMPORT!$1:7)<=COUNTIF(GPS_IMPORT!$A$2:$A$10000,$B$5),INDEX(GPS_IMPORT!$2:$10000,MATCH($B$5,(GPS_IMPORT!$A$2:$A$10000),0)+ROWS($1:7)-1,COLUMN()-1),0)","v":2265885.4401054801},{"$f":"IF(ROWS(GPS_IMPORT!$1:7)<=COUNTIF(GPS_IMPORT!$A$2:$A$10000,$B$5),INDEX(GPS_IMPORT!$2:$10000,MATCH($B$5,(GPS_IMPORT!$A$2:$A$10000),0)+ROWS($1:7)-1,COLUMN()-1),0)","v":888.12602035818998},-5.5244435206986964E-3,1.9961303099989891E-2,2.8332981883295361E-2,true]
[8,{"$f":"IF(ROWS(GPS_IMPORT!$1:8)<=COUNTIF(GPS_IMPORT!$A$2:$A$10000,$B$5),INDEX(GPS_IMPORT!$2:$10000,MATCH($B$5,(GPS_IMPORT!$A$2:$A$10000),0)+ROWS($1:8)-1,COLUMN()-1),0)","v":"GS9"},{"$f":"IF(ROWS(GPS_IMPORT!$1:8)<=COUNTIF(GPS_IMPORT!$A$2:$A$10000,$B$5),INDEX(GPS_IMPORT!$2:$10000,MATCH($B$5,(GPS_IMPORT!$A$2:$A$10000),0)+ROWS($1:8)-1,COLUMN()-1),0)","v":"12.18.2018"},{"$f":"IF(ROWS(GPS_IMPORT!$1:8)<=COUNTIF(GPS_IMPORT!$A$2:$A$10000,$B$5),INDEX(GPS_IMPORT!$2:$10000,MATCH($B$5,(GPS_IMPORT!$A$2:$A$10000),0)+ROWS($1:8)-1,COLUMN()-1),0)","v":"10:45:13.980"},{"$f":"IF(ROWS(GPS_IMPORT!$1:8)<=COUNTIF(GPS_IMPORT!$A$2:$A$10000,$B$5),INDEX(GPS_IMPORT!$2:$10000,MATCH($B$5,(GPS_IMPORT!$A$2:$A$10000),0)+ROWS($1:8)-1,COLUMN()-1),0)","v":320157.306491845},{"$f":"IF(ROWS(GPS_IMPORT!$1:8)<=COUNTIF(GPS_IMPORT!$A$2:$A$10000,$B$5),INDEX(GPS_IMPORT!$2:$10000,MATCH($B$5,(GPS_IMPORT!$A$2:$A$10000),0)+ROWS($1:8)-1,COLUMN()-1),0)","v":2265885.4338752301},{"$f":"IF(ROWS(GPS_IMPORT!$1:8)<=COUNTIF(GPS_IMPORT!$A$2:$A$10000,$B$5),INDEX(GPS_IMPORT!$2:$10000,MATCH($B$5,(GPS_IMPORT!$A$2:$A$10000),0)+ROWS($1:8)-1,COLUMN()-1),0)","v":888.14904534392997},5.4186349734663963E-4,2.6191553100943565E-2,5.3079961433013523E-3,true]
[9,{"$f":"IF(ROWS(GPS_IMPORT!$1:9)<=COUNTIF(GPS_IMPORT!$A$2:$A$10000,$B$5),INDEX(GPS_IMPORT!$2:$10000,MATCH($B$5,(GPS_IMPORT!$A$2:$A$10000),0)+ROWS($1:9)-1,COLUMN()-1),0)","v":"GS9"},{"$f":"IF(ROWS(GPS_IMPORT!$1:9)<=COUNTIF(GPS_IMPORT!$A$2:$A$10000,$B$5),INDEX(GPS_IMPORT!$2:$10000,MATCH($B$5,(GPS_IMPORT!$A$2:$A$10000),0)+ROWS($1:9)-1,COLUMN()-1),0)","v":"12.18.2018"},{"$f":"IF(ROWS(GPS_IMPORT!$1:9)<=COUNTIF(GPS_IMPORT!$A$2:$A$10000,$B$5),INDEX(GPS_IMPORT!$2:$10000,MATCH($B$5,(GPS_IMPORT!$A$2:$A$10000),0)+ROWS($1:9)-1,COLUMN()-1),0)","v":"10:45:45.390"},{"$f":"IF(ROWS(GPS_IMPORT!$1:9)<=COUNTIF(GPS_IMPORT!$A$2:$A$10000,$B$5),INDEX(GPS_IMPORT!$2:$10000,MATCH($B$5,(GPS_IMPORT!$A$2:$A$10000),0)+ROWS($1:9)-1,COLUMN()-1),0)","v":320157.29587589501},{"$f":"IF(ROWS(GPS_IMPORT!$1:9)<=COUNTIF(GPS_IMPORT!$A$2:$A$10000,$B$5),INDEX(GPS_IMPORT!$2:$10000,MATCH($B$5,(GPS_IMPORT!$A$2:$A$10000),0)+ROWS($1:9)-1,COLUMN()-1),0)","v":2265885.4466303},{"$f":"IF(ROWS(GPS_IMPORT!$1:9)<=COUNTIF(GPS_IMPORT!$A$2:$A$10000,$B$5),INDEX(GPS_IMPORT!$2:$10000,MATCH($B$5,(GPS_IMPORT!$A$2:$A$10000),0)+ROWS($1:9)-1,COLUMN()-1),0)","v":888.15370529328004},1.1157813481986523E-2,1.3436483219265938E-2,6.4804679323060554E-4,true]
[10,{"$f":"IF(ROWS(GPS_IMPORT!$1:10)<=COUNTIF(GPS_IMPORT!$A$2:$A$10000,$B$5),INDEX(GPS_IMPORT!$2:$10000,MATCH($B$5,(GPS_IMPORT!$A$2:$A$10000),0)+ROWS($1:10)-1,COLUMN()-1),0)","v":"GS9"},{"$f":"IF(ROWS(GPS_IMPORT!$1:10)<=COUNTIF(GPS_IMPORT!$A$2:$A$10000,$B$5),INDEX(GPS_IMPORT!$2:$10000,MATCH($B$5,(GPS_IMPORT!$A$2:$A$10000),0)+ROWS($1:10)-1,COLUMN()-1),0)","v":"12.18.2018"},{"$f":"IF(ROWS(GPS_IMPORT!$1:10)<=COUNTIF(GPS_IMPORT!$A$2:$A$10000,$B$5),INDEX(GPS_IMPORT!$2:$10000,MATCH($B$5,(GPS_IMPORT!$A$2:$A$10000),0)+ROWS($1:10)-1,COLUMN()-1),0)","v":"10:45:58.640"},{"$f":"IF(ROWS(GPS_IMPORT!$1:10)<=COUNTIF(GPS_IMPORT!$A$2:$A$10000,$B$5),INDEX(GPS_IMPORT!$2:$10000,MATCH($B$5,(GPS_IMPORT!$A$2:$A$10000),0)+ROWS($1:10)-1,COLUMN()-1),0)","v":320157.293766091},{"$f":"IF(ROWS(GPS_IMPORT!$1:10)<=COUNTIF(GPS_IMPORT!$A$2:$A$10000,$B$5),INDEX(GPS_IMPORT!$2:$10000,MATCH($B$5,(GPS_IMPORT!$A$2:$A$10000),0)+ROWS($1:10)-1,COLUMN()-1),0)","v":2265885.4655727101},{"$f":"IF(ROWS(GPS_IMPORT!$1:10)<=COUNTIF(GPS_IMPORT!$A$2:$A$10000,$B$5),INDEX(GPS_IMPORT!$2:$10000,MATCH($B$5,(GPS_IMPORT!$A$2:$A$10000),0)+ROWS($1:10)-1,COLUMN()-1),0)","v":888.18867197078998},1.3267617498058826E-2,-5.5059269070625305E-3,-3.4318630716711596E-2,true]
[11,{"$f":"IF(ROWS(GPS_IMPORT!$1:11)<=COUNTIF(GPS_IMPORT!$A$2:$A$10000,$B$5),INDEX(GPS_IMPORT!$2:$10000,MATCH($B$5,(GPS_IMPORT!$A$2:$A$10000),0)+ROWS($1:11)-1,COLUMN()-1),0)","v":"GS9"},{"$f":"IF(ROWS(GPS_IMPORT!$1:11)<=COUNTIF(GPS_IMPORT!$A$2:$A$10000,$B$5),INDEX(GPS_IMPORT!$2:$10000,MATCH($B$5,(GPS_IMPORT!$A$2:$A$10000),0)+ROWS($1:11)-1,COLUMN()-1),0)","v":"12.18.2018"},{"$f":"IF(ROWS(GPS_IMPORT!$1:11)<=COUNTIF(GPS_IMPORT!$A$2:$A$10000,$B$5),INDEX(GPS_IMPORT!$2:$10000,MATCH($B$5,(GPS_IMPORT!$A$2:$A$10000),0)+ROWS($1:11)-1,COLUMN()-1),0)","v":"10:46:11.230"},{"$f":"IF(ROWS(GPS_IMPORT!$1:11)<=COUNTIF(GPS_IMPORT!$A$2:$A$10000,$B$5),INDEX(GPS_IMPORT!$2:$10000,MATCH($B$5,(GPS_IMPORT!$A$2:$A$10000),0)+ROWS($1:11)-1,COLUMN()-1),0)","v":320157.30790198699},{"$f":"IF(ROWS(GPS_IMPORT!$1:11)<=COUNTIF(GPS_IMPORT!$A$2:$A$10000,$B$5),INDEX(GPS_IMPORT!$2:$10000,MATCH($B$5,(GPS_IMPORT!$A$2:$A$10000),0)+ROWS($1:11)-1,COLUMN()-1),0)","v":2265885.4797346601},{"$f":"IF(ROWS(GPS_IMPORT!$1:11)<=COUNTIF(GPS_IMPORT!$A$2:$A$10000,$B$5),INDEX(GPS_IMPORT!$2:$10000,MATCH($B$5,(GPS_IMPORT!$A$2:$A$10000),0)+ROWS($1:11)-1,COLUMN()-1),0)","v":888.19828005031002},-8.6827849736437201E-4,-1.966787688434124E-2,-4.3926710236746658E-2,true]
[12,{"$f":"IF(ROWS(GPS_IMPORT!$1:12)<=COUNTIF(GPS_IMPORT!$A$2:$A$10000,$B$5),INDEX(GPS_IMPORT!$2:$10000,MATCH($B$5,(GPS_IMPORT!$A$2:$A$10000),0)+ROWS($1:12)-1,COLUMN()-1),0)","v":"GS9"},{"$f":"IF(ROWS(GPS_IMPORT!$1:12)<=COUNTIF(GPS_IMPORT!$A$2:$A$10000,$B$5),INDEX(GPS_IMPORT!$2:$10000,MATCH($B$5,(GPS_IMPORT!$A$2:$A$10000),0)+ROWS($1:12)-1,COLUMN()-1),0)","v":"12.18.2018"},{"$f":"IF(ROWS(GPS_IMPORT!$1:12)<=COUNTIF(GPS_IMPORT!$A$2:$A$10000,$B$5),INDEX(GPS_IMPORT!$2:$10000,MATCH($B$5,(GPS_IMPORT!$A$2:$A$10000),0)+ROWS($1:12)-1,COLUMN()-1),0)","v":"10:46:23.640"},{"$f":"IF(ROWS(GPS_IMPORT!$1:12)<=COUNTIF(GPS_IMPORT!$A$2:$A$10000,$B$5),INDEX(GPS_IMPORT!$2:$10000,MATCH($B$5,(GPS_IMPORT!$A$2:$A$10000),0)+ROWS($1:12)-1,COLUMN()-1),0)","v":320157.29067418398},{"$f":"IF(ROWS(GPS_IMPORT!$1:12)<=COUNTIF(GPS_IMPORT!$A$2:$A$10000,$B$5),INDEX(GPS_IMPORT!$2:$10000,MATCH($B$5,(GPS_IMPORT!$A$2:$A$10000),0)+ROWS($1:12)-1,COLUMN()-1),0)","v":2265885.47501504},{"$f":"IF(ROWS(GPS_IMPORT!$1:12)<=COUNTIF(GPS_IMPORT!$A$2:$A$10000,$B$5),INDEX(GPS_IMPORT!$2:$10000,MATCH($B$5,(GPS_IMPORT!$A$2:$A$10000),0)+ROWS($1:12)-1,COLUMN()-1),0)","v":888.18301119695002},1.6359524510335177E-2,-1.4948256779462099E-2,-2.8657856876748156E-2,true]
[13,{"$f":"IF(ROWS(GPS_IMPORT!$1:13)<=COUNTIF(GPS_IMPORT!$A$2:$A$10000,$B$5),INDEX(GPS_IMPORT!$2:$10000,MATCH($B$5,(GPS_IMPORT!$A$2:$A$10000),0)+ROWS($1:13)-1,COLUMN()-1),0)","v":0},{"$f":"IF(ROWS(GPS_IMPORT!$1:13)<=COUNTIF(GPS_IMPORT!$A$2:$A$10000,$B$5),INDEX(GPS_IMPORT!$2:$10000,MATCH($B$5,(GPS_IMPORT!$A$2:$A$10000),0)+ROWS($1:13)-1,COLUMN()-1),0)","v":"00:00:00"},{"$f":"IF(ROWS(GPS_IMPORT!$1:13)<=COUNTIF(GPS_IMPORT!$A$2:$A$10000,$B$5),INDEX(GPS_IMPORT!$2:$10000,MATCH($B$5,(GPS_IMPORT!$A$2:$A$10000),0)+ROWS($1:13)-1,COLUMN()-1),0)","v":"00:00:00"},{"$f":"IF(ROWS(GPS_IMPORT!$1:13)<=COUNTIF(GPS_IMPORT!$A$2:$A$10000,$B$5),INDEX(GPS_IMPORT!$2:$10000,MATCH($B$5,(GPS_IMPORT!$A$2:$A$10000),0)+ROWS($1:13)-1,COLUMN()-1),0)","v":0},{"$f":"IF(ROWS(GPS_IMPORT!$1:13)<=COUNTIF(GPS_IMPORT!$A$2:$A$10000,$B$5),INDEX(GPS_IMPORT!$2:$10000,MATCH($B$5,(GPS_IMPORT!$A$2:$A$10000),0)+ROWS($1:13)-1,COLUMN()-1),0)","v":0},{"$f":"IF(ROWS(GPS_IMPORT!$1:13)<=COUNTIF(GPS_IMPORT!$A$2:$A$10000,$B$5),INDEX(GPS_IMPORT!$2:$10000,MATCH($B$5,(GPS_IMPORT!$A$2:$A$10000),0)+ROWS($1:13)-1,COLUMN()-1),0)","v":0},{"$f":"IF(E19>0,E$22-E19,0)","v":0},0,0,false]
[14,{"$f":"IF(ROWS(GPS_IMPORT!$1:14)<=COUNTIF(GPS_IMPORT!$A$2:$A$10000,$B$5),INDEX(GPS_IMPORT!$2:$10000,MATCH($B$5,(GPS_IMPORT!$A$2:$A$10000),0)+ROWS($1:14)-1,COLUMN()-1),0)","v":0},{"$f":"IF(ROWS(GPS_IMPORT!$1:14)<=COUNTIF(GPS_IMPORT!$A$2:$A$10000,$B$5),INDEX(GPS_IMPORT!$2:$10000,MATCH($B$5,(GPS_IMPORT!$A$2:$A$10000),0)+ROWS($1:14)-1,COLUMN()-1),0)","v":"00:00:00"},{"$f":"IF(ROWS(GPS_IMPORT!$1:14)<=COUNTIF(GPS_IMPORT!$A$2:$A$10000,$B$5),INDEX(GPS_IMPORT!$2:$10000,MATCH($B$5,(GPS_IMPORT!$A$2:$A$10000),0)+ROWS($1:14)-1,COLUMN()-1),0)","v":"00:00:00"},{"$f":"IF(ROWS(GPS_IMPORT!$1:14)<=COUNTIF(GPS_IMPORT!$A$2:$A$10000,$B$5),INDEX(GPS_IMPORT!$2:$10000,MATCH($B$5,(GPS_IMPORT!$A$2:$A$10000),0)+ROWS($1:14)-1,COLUMN()-1),0)","v":0},{"$f":"IF(ROWS(GPS_IMPORT!$1:14)<=COUNTIF(GPS_IMPORT!$A$2:$A$10000,$B$5),INDEX(GPS_IMPORT!$2:$10000,MATCH($B$5,(GPS_IMPORT!$A$2:$A$10000),0)+ROWS($1:14)-1,COLUMN()-1),0)","v":0},{"$f":"IF(ROWS(GPS_IMPORT!$1:14)<=COUNTIF(GPS_IMPORT!$A$2:$A$10000,$B$5),INDEX(GPS_IMPORT!$2:$10000,MATCH($B$5,(GPS_IMPORT!$A$2:$A$10000),0)+ROWS($1:14)-1,COLUMN()-1),0)","v":0},0,0,0,false]
[15,{"$f":"IF(ROWS(GPS_IMPORT!$1:15)<=COUNTIF(GPS_IMPORT!$A$2:$A$10000,$B$5),INDEX(GPS_IMPORT!$2:$10000,MATCH($B$5,(GPS_IMPORT!$A$2:$A$10000),0)+ROWS($1:15)-1,COLUMN()-1),0)","v":0},{"$f":"IF(ROWS(GPS_IMPORT!$1:15)<=COUNTIF(GPS_IMPORT!$A$2:$A$10000,$B$5),INDEX(GPS_IMPORT!$2:$10000,MATCH($B$5,(GPS_IMPORT!$A$2:$A$10000),0)+ROWS($1:15)-1,COLUMN()-1),0)","v":"00:00:00"},{"$f":"IF(ROWS(GPS_IMPORT!$1:15)<=COUNTIF(GPS_IMPORT!$A$2:$A$10000,$B$5),INDEX(GPS_IMPORT!$2:$10000,MATCH($B$5,(GPS_IMPORT!$A$2:$A$10000),0)+ROWS($1:15)-1,COLUMN()-1),0)","v":"00:00:00"},{"$f":"IF(ROWS(GPS_IMPORT!$1:15)<=COUNTIF(GPS_IMPORT!$A$2:$A$10000,$B$5),INDEX(GPS_IMPORT!$2:$10000,MATCH($B$5,(GPS_IMPORT!$A$2:$A$10000),0)+ROWS($1:15)-1,COLUMN()-1),0)","v":0},{"$f":"IF(ROWS(GPS_IMPORT!$1:15)<=COUNTIF(GPS_IMPORT!$A$2:$A$10000,$B$5),INDEX(GPS_IMPORT!$2:$10000,MATCH($B$5,(GPS_IMPORT!$A$2:$A$10000),0)+ROWS($1:15)-1,COLUMN()-1),0)","v":0},{"$f":"IF(ROWS(GPS_IMPORT!$1:15)<=COUNTIF(GPS_IMPORT!$A$2:$A$10000,$B$5),INDEX(GPS_IMPORT!$2:$10000,MATCH($B$5,(GPS_IMPORT!$A$2:$A$10000),0)+ROWS($1:15)-1,COLUMN()-1),0)","v":0},0,0,0,false]
[null,null,null,"AVERAGE",{"$f":"(IF($K$7=TRUE,E7,0)+IF($K$8=TRUE,E8,0)+IF($K$9=TRUE,E9,0)+IF($K$10=TRUE,E10,0)+IF($K$11=TRUE,E11,0)+IF($K$12=TRUE,E12,0)+IF($K$13=TRUE,E13,0)+IF($K$14=TRUE,E14,0)+IF($K$15=TRUE,E15,0)+IF($K$16=TRUE,E16,0)+IF($K$17=TRUE,E17,0)+IF($K$18=TRUE,E18,0)+IF($K$19=TRUE,E19,0)+IF($K$20=TRUE,E20,0)+IF($K$21=TRUE,E21,0))/(IF($K$7=TRUE,1,0)+IF($K$8=TRUE,1,0)+IF($K$9=TRUE,1,0)+IF($K$10=TRUE,1,0)+IF($K$11=TRUE,1,0)+IF($K$12=TRUE,1,0)+IF($K$13=TRUE,1,0)+IF($K$14=TRUE,1,0)+IF($K$15=TRUE,1,0)+IF($K$16=TRUE,1,0)+IF($K$17=TRUE,1,0)+IF($K$18=TRUE,1,0)+IF($K$19=TRUE,1,0)+IF($K$20=TRUE,1,0)+IF($K$21=TRUE,1,0))","v":320157.30703370849},{"$f":"(IF($K$7=TRUE,F7,0)+IF($K$8=TRUE,F8,0)+IF($K$9=TRUE,F9,0)+IF($K$10=TRUE,F10,0)+IF($K$11=TRUE,F11,0)+IF($K$12=TRUE,F12,0)+IF($K$13=TRUE,F13,0)+IF($K$14=TRUE,F14,0)+IF($K$15=TRUE,F15,0)+IF($K$16=TRUE,F16,0)+IF($K$17=TRUE,F17,0)+IF($K$18=TRUE,F18,0)+IF($K$19=TRUE,F19,0)+IF($K$20=TRUE,F20,0)+IF($K$21=TRUE,F21,0))/(IF($K$7=TRUE,1,0)+IF($K$8=TRUE,1,0)+IF($K$9=TRUE,1,0)+IF($K$10=TRUE,1,0)+IF($K$11=TRUE,1,0)+IF($K$12=TRUE,1,0)+IF($K$13=TRUE,1,0)+IF($K$14=TRUE,1,0)+IF($K$15=TRUE,1,0)+IF($K$16=TRUE,1,0)+IF($K$17=TRUE,1,0)+IF($K$18=TRUE,1,0)+IF($K$19=TRUE,1,0)+IF($K$20=TRUE,1,0)+IF($K$21=TRUE,1,0))","v":2265885.4600667832},{"$f":"(IF($K$7=TRUE,G7,0)+IF($K$8=TRUE,G8,0)+IF($K$9=TRUE,G9,0)+IF($K$10=TRUE,G10,0)+IF($K$11=TRUE,G11,0)+IF($K$12=TRUE,G12,0)+IF($K$13=TRUE,G13,0)+IF($K$14=TRUE,G14,0)+IF($K$15=TRUE,G15,0)+IF($K$16=TRUE,G16,0)+IF($K$17=TRUE,G17,0)+IF($K$18=TRUE,G18,0)+IF($K$19=TRUE,G19,0)+IF($K$20=TRUE,G20,0)+IF($K$21=TRUE,G21,0))/\n(IF($K$7=TRUE,1,0)+IF($K$8=TRUE,1,0)+IF($K$9=TRUE,1,0)+IF($K$10=TRUE,1,0)+IF($K$11=TRUE,1,0)+IF($K$12=TRUE,1,0)+IF($K$13=TRUE,1,0)+IF($K$14=TRUE,1,0)+IF($K$15=TRUE,1,0)+IF($K$16=TRUE,1,0)+IF($K$17=TRUE,1,0)+IF($K$18=TRUE,1,0)+IF($K$19=TRUE,1,0)+IF($K$20=TRUE,1,0)+IF($K$21=TRUE,1,0))","v":888.15435334007327},"RMSE:","RMSE:","RMSE:"]
[null,null,null,null,null,null,"RMSE IN US SURVEY FEET:",{"$f":"SQRT((\n(IF($K$7=TRUE,H7^2,0))+(IF($K$8=TRUE,H8^2,0))+(IF($K$9=TRUE,H9^2,0))+(IF($K$10=TRUE,H10^2,0))+(IF($K$11=TRUE,H11^2,0))+(IF($K$12=TRUE,H12^2,0))+(IF($K$13=TRUE,H13^2,0))+(IF($K$14=TRUE,H14^2,0))+(IF($K$15=TRUE,H15^2,0))+(IF($K$16=TRUE,H16^2,0))+(IF($K$17=TRUE,H17^2,0))+(IF($K$18=TRUE,H18^2,0))+(IF($K$19=TRUE,H19^2,0))+(IF($K$20=TRUE,H20^2,0))+(IF($K$21=TRUE,H21^2,0)))/\n(IF($K$7=TRUE,1,0)+IF($K$8=TRUE,1,0)+IF($K$9=TRUE,1,0)+IF($K$10=TRUE,1,0)+IF($K$11=TRUE,1,0)+IF($K$12=TRUE,1,0)+IF($K$13=TRUE,1,0)+IF($K$14=TRUE,1,0)+IF($K$15=TRUE,1,0)+IF($K$16=TRUE,1,0)+IF($K$17=TRUE,1,0)+IF($K$18=TRUE,1,0)+IF($K$19=TRUE,1,0)+IF($K$20=TRUE,1,0)+IF($K$21=TRUE,1,0)))","v":1.3214682324853892E-2},{"$f":"SQRT((\n(IF($K$7=TRUE,I7^2,0))+(IF($K$8=TRUE,I8^2,0))+(IF($K$9=TRUE,I9^2,0))+(IF($K$10=TRUE,I10^2,0))+(IF($K$11=TRUE,I11^2,0))+(IF($K$12=TRUE,I12^2,0))+(IF($K$13=TRUE,I13^2,0))+(IF($K$14=TRUE,I14^2,0))+(IF($K$15=TRUE,I15^2,0))+(IF($K$16=TRUE,I16^2,0))+(IF($K$17=TRUE,I17^2,0))+(IF($K$18=TRUE,I18^2,0))+(IF($K$19=TRUE,I19^2,0))+(IF($K$20=TRUE,I20^2,0))+(IF($K$21=TRUE,I21^2,0)))/\n(IF($K$7=TRUE,1,0)+IF($K$8=TRUE,1,0)+IF($K$9=TRUE,1,0)+IF($K$10=TRUE,1,0)+IF($K$11=TRUE,1,0)+IF($K$12=TRUE,1,0)+IF($K$13=TRUE,1,0)+IF($K$14=TRUE,1,0)+IF($K$15=TRUE,1,0)+IF($K$16=TRUE,1,0)+IF($K$17=TRUE,1,0)+IF($K$18=TRUE,1,0)+IF($K$19=TRUE,1,0)+IF($K$20=TRUE,1,0)+IF($K$21=TRUE,1,0)))","v":1.5083689399848627E-2},{"$f":"SQRT((\n(IF($K$7=TRUE,J7^2,0))+(IF($K$8=TRUE,J8^2,0))+(IF($K$9=TRUE,J9^2,0))+(IF($K$10=TRUE,J10^2,0))+(IF($K$11=TRUE,J11^2,0))+(IF($K$12=TRUE,J12^2,0))+(IF($K$13=TRUE,J13^2,0))+(IF($K$14=TRUE,J14^2,0))+(IF($K$15=TRUE,J15^2,0))+(IF($K$16=TRUE,J16^2,0))+(IF($K$17=TRUE,J17^2,0))+(IF($K$18=TRUE,J18^2,0))+(IF($K$19=TRUE,J19^2,0))+(IF($K$20=TRUE,J20^2,0))+(IF($K$21=TRUE,J21^2,0)))/\n(IF($K$7=TRUE,1,0)+IF($K$8=TRUE,1,0)+IF($K$9=TRUE,1,0)+IF($K$10=TRUE,1,0)+IF($K$11=TRUE,1,0)+IF($K$12=TRUE,1,0)+IF($K$13=TRUE,1,0)+IF($K$14=TRUE,1,0)+IF($K$15=TRUE,1,0)+IF($K$16=TRUE,1,0)+IF($K$17=TRUE,1,0)+IF($K$18=TRUE,1,0)+IF($K$19=TRUE,1,0)+IF($K$20=TRUE,1,0)+IF($K$21=TRUE,1,0)))","v":2.6746327984400395E-2}]
[null,null,null,1]
[null,null,"UNITLESS GRID TO GROUND MULTIPLIER",{"$f":"IF(REPORT!C13=\"n/a\",\"0.00000000\",REPORT!C13)","v":0},null,null,null,{"$f":"IF(H23<=0.029,\"PASS\",\"FAIL\")","v":"PASS"},{"$f":"IF(I23<=0.029,\"PASS\",\"FAIL\")","v":"PASS"},{"$f":"IF(J23<=0.039,\"PASS\",\"FAIL\")","v":"PASS"}]
[]
["AVERAGED GPS-DERIVED POSITION",null,null,null,null,null,null,null,"Notes:"]
[null,"MONUMENT COORDINATES",null,"NORTHING","EASTING","ORTHO HEIGHT"]
[null,"US Survey Feet (GRID)",null,{"$f":"$E$22","v":320157.30703370849},{"$f":"$F$22","v":2265885.4600667832},{"$f":"$G$22","v":888.15435334007327}]
[]
["LEVELED ELEVATION"]
["US SURVEY FEET",null,"N/A","(Type the leveled elevation or N/A if no leveled elevation is available)"]
["MONUMENT HELD",null,null,"(Type the monument name from which leveling originated)"]
["LEVELED ELEVATION - GPS DERIVED ELEVATION   = ",null,null,null,{"$f":"IF(C32=\"N/A\",\"N/A\",C32-(F29*D24))","v":"N/A"}]
[]
["FINAL MONUMENT COORDINATES"]
[null,"MONUMENT COORDINATES",null,"NORTHING","EASTING","ELEVATION","FEATURE CODE"]
[null,"US SURVEY FEET (GRID)",null,{"$f":"$E$22*$D$24","v":320157.30703370849},{"$f":"$F$22*$D$24","v":2265885.4600667832},{"$f":"IF($C$32=\"N/A\",($G$22*$D$24),$C$32)","v":888.15435334007327},"AERTAR"]
[null,"US SURVEY FEET (GROUND)",null,{"$f":"$D$38*$D$25","v":0},{"$f":"$E$38*$D$25","v":0},{"$f":"IF($C$32=\"N/A\",($G$22*$D$24),$C$32)","v":888.15435334007327},{"$f":"G38","v":"AERTAR"}]
[]
["∆ North,  ∆ East, and ∆ Ht. are the difference between the average northing, easting, and height for each observation.",null,null,null,null,null,null,null,"Mask Angle:","10°"]

{"sheet":"GS10","index":16,"n_rows":41,"n_cols":11,"rows_kept":41,"cut":false,"hidden":false,"merged":[[0,0,0,10],[26,0,26,6],[27,1,27,2],[27,8,38,10],[28,1,28,2],[30,0,30,6],[35,0,35,6],[36,1,36,2],[37,1,37,2],[38,1,38,2]]}
["VRS GNSS Project Control Monument Coordinate Analysis"]
[]
["Project:",{"$f":"REPORT!B2","v":"TUS-800-22.74"},"GPS Antenna:","LEICA GS14",null,null,null,null,null,"Report Date:",{"$f":"REPORT!C49","v":"2018-12-19"}]
["PID:",{"$f":"REPORT!E2","v":100603},"VRS Network:","ODOT VRS",null,null,null,null,null,"Prepared By:",{"$f":"REPORT!C48","v":"Kolton Wilson"}]
["Point ID:","GS10","No. of Sessions:",{"$f":"COUNTIF(GPS_IMPORT!A2:A1000,$B$5)","v":12},null,null,null,null,null,"Checked By:",{"$f":"REPORT!C52","v":"Joel Swick"}]
["SESSION #","Point","Observation Date","Start Time","Northing(sft)","Easting(sft)","Height(sft)","∆ Northing(sft)","∆ Easting(sft)","∆ Height(sft)","Include in Solution?"]
[1,{"$f":"IF(ROWS(GPS_IMPORT!$1:1)<=COUNTIF(GPS_IMPORT!$A$2:$A$10000,$B$5),INDEX(GPS_IMPORT!$2:$10000,MATCH($B$5,(GPS_IMPORT!$A$2:$A$10000),0)+ROWS($1:1)-1,COLUMN()-1),0)","v":"GS10"},{"$f":"IF(ROWS(GPS_IMPORT!$1:1)<=COUNTIF(GPS_IMPORT!$A$2:$A$10000,$B$5),INDEX(GPS_IMPORT!$2:$10000,MATCH($B$5,(GPS_IMPORT!$A$2:$A$10000),0)+ROWS($1:1)-1,COLUMN()-1),0)","v":"12.18.2018"},{"$f":"IF(ROWS(GPS_IMPORT!$1:1)<=COUNTIF(GPS_IMPORT!$A$2:$A$10000,$B$5),INDEX(GPS_IMPORT!$2:$10000,MATCH($B$5,(GPS_IMPORT!$A$2:$A$10000),0)+ROWS($1:1)-1,COLUMN()-1),0)","v":"10:53:15.850"},{"$f":"IF(ROWS(GPS_IMPORT!$1:1)<=COUNTIF(GPS_IMPORT!$A$2:$A$10000,$B$5),INDEX(GPS_IMPORT!$2:$10000,MATCH($B$5,(GPS_IMPORT!$A$2:$A$10000),0)+ROWS($1:1)-1,COLUMN()-1),0)","v":323096.45397700701},{"$f":"IF(ROWS(GPS_IMPORT!$1:1)<=COUNTIF(GPS_IMPORT!$A$2:$A$10000,$B$5),INDEX(GPS_IMPORT!$2:$10000,MATCH($B$5,(GPS_IMPORT!$A$2:$A$10000),0)+ROWS($1:1)-1,COLUMN()-1),0)","v":2267173.2202011799},{"$f":"IF(ROWS(GPS_IMPORT!$1:1)<=COUNTIF(GPS_IMPORT!$A$2:$A$10000,$B$5),INDEX(GPS_IMPORT!$2:$10000,MATCH($B$5,(GPS_IMPORT!$A$2:$A$10000),0)+ROWS($1:1)-1,COLUMN()-1),0)","v":887.28019958695995},{"$f":"IF(E7>0,E$22-E7,0)","v":-1.2886200216598809E-2},-3.5240799188613892E-3,4.4020868506322586E-4,true]
[2,{"$f":"IF(ROWS(GPS_IMPORT!$1:2)<=COUNTIF(GPS_IMPORT!$A$2:$A$10000,$B$5),INDEX(GPS_IMPORT!$2:$10000,MATCH($B$5,(GPS_IMPORT!$A$2:$A$10000),0)+ROWS($1:2)-1,COLUMN()-1),0)","v":"GS10"},{"$f":"IF(ROWS(GPS_IMPORT!$1:2)<=COUNTIF(GPS_IMPORT!$A$2:$A$10000,$B$5),INDEX(GPS_IMPORT!$2:$10000,MATCH($B$5,(GPS_IMPORT!$A$2:$A$10000),0)+ROWS($1:2)-1,COLUMN()-1),0)","v":"12.18.2018"},{"$f":"IF(ROWS(GPS_IMPORT!$1:2)<=COUNTIF(GPS_IMPORT!$A$2:$A$10000,$B$5),INDEX(GPS_IMPORT!$2:$10000,MATCH($B$5,(GPS_IMPORT!$A$2:$A$10000),0)+ROWS($1:2)-1,COLUMN()-1),0)","v":"10:53:27.830"},{"$f":"IF(ROWS(GPS_IMPORT!$1:2)<=COUNTIF(GPS_IMPORT!$A$2:$A$10000,$B$5),INDEX(GPS_IMPORT!$2:$10000,MATCH($B$5,(GPS_IMPORT!$A$2:$A$10000),0)+ROWS($1:2)-1,COLUMN()-1),0)","v":323096.45693702699},{"$f":"IF(ROWS(GPS_IMPORT!$1:2)<=COUNTIF(GPS_IMPORT!$A$2:$A$10000,$B$5),INDEX(GPS_IMPORT!$2:$10000,MATCH($B$5,(GPS_IMPORT!$A$2:$A$10000),0)+ROWS($1:2)-1,COLUMN()-1),0)","v":2267173.2113552},{"$f":"IF(ROWS(GPS_IMPORT!$1:2)<=COUNTIF(GPS_IMPORT!$A$2:$A$10000,$B$5),INDEX(GPS_IMPORT!$2:$10000,MATCH($B$5,(GPS_IMPORT!$A$2:$A$10000),0)+ROWS($1:2)-1,COLUMN()-1),0)","v":887.27859783144004},-1.5846220194362104E-2,5.3218998946249485E-3,2.0419642049773756E-3,true]
[3,{"$f":"IF(ROWS(GPS_IMPORT!$1:3)<=COUNTIF(GPS_IMPORT!$A$2:$A$10000,$B$5),INDEX(GPS_IMPORT!$2:$10000,MATCH($B$5,(GPS_IMPORT!$A$2:$A$10000),0)+ROWS($1:3)-1,COLUMN()-1),0)","v":"GS10"},{"$f":"IF(ROWS(GPS_IMPORT!$1:3)<=COUNTIF(GPS_IMPORT!$A$2:$A$10000,$B$5),INDEX(GPS_IMPORT!$2:$10000,MATCH($B$5,(GPS_IMPORT!$A$2:$A$10000),0)+ROWS($1:3)-1,COLUMN()-1),0)","v":"12.18.2018"},{"$f":"IF(ROWS(GPS_IMPORT!$1:3)<=COUNTIF(GPS_IMPORT!$A$2:$A$10000,$B$5),INDEX(GPS_IMPORT!$2:$10000,MATCH($B$5,(GPS_IMPORT!$A$2:$A$10000),0)+ROWS($1:3)-1,COLUMN()-1),0)","v":"10:53:39.060"},{"$f":"IF(ROWS(GPS_IMPORT!$1:3)<=COUNTIF(GPS_IMPORT!$A$2:$A$10000,$B$5),INDEX(GPS_IMPORT!$2:$10000,MATCH($B$5,(GPS_IMPORT!$A$2:$A$10000),0)+ROWS($1:3)-1,COLUMN()-1),0)","v":323096.45011588797},{"$f":"IF(ROWS(GPS_IMPORT!$1:3)<=COUNTIF(GPS_IMPORT!$A$2:$A$10000,$B$5),INDEX(GPS_IMPORT!$2:$10000,MATCH($B$5,(GPS_IMPORT!$A$2:$A$10000),0)+ROWS($1:3)-1,COLUMN()-1),0)","v":2267173.21435729},{"$f":"IF(ROWS(GPS_IMPORT!$1:3)<=COUNTIF(GPS_IMPORT!$A$2:$A$10000,$B$5),INDEX(GPS_IMPORT!$2:$10000,MATCH($B$5,(GPS_IMPORT!$A$2:$A$10000),0)+ROWS($1:3)-1,COLUMN()-1),0)","v":887.26428254906},-9.0250811772421002E-3,2.3198099806904793E-3,1.6357246585016583E-2,true]
[4,{"$f":"IF(ROWS(GPS_IMPORT!$1:4)<=COUNTIF(GPS_IMPORT!$A$2:$A$10000,$B$5),INDEX(GPS_IMPORT!$2:$10000,MATCH($B$5,(GPS_IMPORT!$A$2:$A$10000),0)+ROWS($1:4)-1,COLUMN()-1),0)","v":"GS10"},{"$f":"IF(ROWS(GPS_IMPORT!$1:4)<=COUNTIF(GPS_IMPORT!$A$2:$A$10000,$B$5),INDEX(GPS_IMPORT!$2:$10000,MATCH($B$5,(GPS_IMPORT!$A$2:$A$10000),0)+ROWS($1:4)-1,COLUMN()-1),0)","v":"12.18.2018"},{"$f":"IF(ROWS(GPS_IMPORT!$1:4)<=COUNTIF(GPS_IMPORT!$A$2:$A$10000,$B$5),INDEX(GPS_IMPORT!$2:$10000,MATCH($B$5,(GPS_IMPORT!$A$2:$A$10000),0)+ROWS($1:4)-1,COLUMN()-1),0)","v":"10:53:51.020"},{"$f":"IF(ROWS(GPS_IMPORT!$1:4)<=COUNTIF(GPS_IMPORT!$A$2:$A$10000,$B$5),INDEX(GPS_IMPORT!$2:$10000,MATCH($B$5,(GPS_IMPORT!$A$2:$A$10000),0)+ROWS($1:4)-1,COLUMN()-1),0)","v":323096.44684021903},{"$f":"IF(ROWS(GPS_IMPORT!$1:4)<=COUNTIF(GPS_IMPORT!$A$2:$A$10000,$B$5),INDEX(GPS_IMPORT!$2:$10000,MATCH($B$5,(GPS_IMPORT!$A$2:$A$10000),0)+ROWS($1:4)-1,COLUMN()-1),0)","v":2267173.2125806301},{"$f":"IF(ROWS(GPS_IMPORT!$1:4)<=COUNTIF(GPS_IMPORT!$A$2:$A$10000,$B$5),INDEX(GPS_IMPORT!$2:$10000,MATCH($B$5,(GPS_IMPORT!$A$2:$A$10000),0)+ROWS($1:4)-1,COLUMN()-1),0)","v":887.26887217268995},-5.7494122302159667E-3,4.0964698418974876E-3,1.1767622955062507E-2,true]
[5,{"$f":"IF(ROWS(GPS_IMPORT!$1:5)<=COUNTIF(GPS_IMPORT!$A$2:$A$10000,$B$5),INDEX(GPS_IMPORT!$2:$10000,MATCH($B$5,(GPS_IMPORT!$A$2:$A$10000),0)+ROWS($1:5)-1,COLUMN()-1),0)","v":"GS10"},{"$f":"IF(ROWS(GPS_IMPORT!$1:5)<=COUNTIF(GPS_IMPORT!$A$2:$A$10000,$B$5),INDEX(GPS_IMPORT!$2:$10000,MATCH($B$5,(GPS_IMPORT!$A$2:$A$10000),0)+ROWS($1:5)-1,COLUMN()-1),0)","v":"12.18.2018"},{"$f":"IF(ROWS(GPS_IMPORT!$1:5)<=COUNTIF(GPS_IMPORT!$A$2:$A$10000,$B$5),INDEX(GPS_IMPORT!$2:$10000,MATCH($B$5,(GPS_IMPORT!$A$2:$A$10000),0)+ROWS($1:5)-1,COLUMN()-1),0)","v":"10:54:15.980"},{"$f":"IF(ROWS(GPS_IMPORT!$1:5)<=COUNTIF(GPS_IMPORT!$A$2:$A$10000,$B$5),INDEX(GPS_IMPORT!$2:$10000,MATCH($B$5,(GPS_IMPORT!$A$2:$A$10000),0)+ROWS($1:5)-1,COLUMN()-1),0)","v":323096.44339228398},{"$f":"IF(ROWS(GPS_IMPORT!$1:5)<=COUNTIF(GPS_IMPORT!$A$2:$A$10000,$B$5),INDEX(GPS_IMPORT!$2:$10000,MATCH($B$5,(GPS_IMPORT!$A$2:$A$10000),0)+ROWS($1:5)-1,COLUMN()-1),0)","v":2267173.2168935002},{"$f":"IF(ROWS(GPS_IMPORT!$1:5)<=COUNTIF(GPS_IMPORT!$A$2:$A$10000,$B$5),INDEX(GPS_IMPORT!$2:$10000,MATCH($B$5,(GPS_IMPORT!$A$2:$A$10000),0)+ROWS($1:5)-1,COLUMN()-1),0)","v":887.27780641967001},-2.3014771868474782E-3,-2.1640025079250336E-4,2.8333759750012177E-3,true]
[6,{"$f":"IF(ROWS(GPS_IMPORT!$1:6)<=COUNTIF(GPS_IMPORT!$A$2:$A$10000,$B$5),INDEX(GPS_IMPORT!$2:$10000,MATCH($B$5,(GPS_IMPORT!$A$2:$A$10000),0)+ROWS($1:6)-1,COLUMN()-1),0)","v":"GS10"},{"$f":"IF(ROWS(GPS_IMPORT!$1:6)<=COUNTIF(GPS_IMPORT!$A$2:$A$10000,$B$5),INDEX(GPS_IMPORT!$2:$10000,MATCH($B$5,(GPS_IMPORT!$A$2:$A$10000),0)+ROWS($1:6)-1,COLUMN()-1),0)","v":"12.18.2018"},{"$f":"IF(ROWS(GPS_IMPORT!$1:6)<=COUNTIF(GPS_IMPORT!$A$2:$A$10000,$B$5),INDEX(GPS_IMPORT!$2:$10000,MATCH($B$5,(GPS_IMPORT!$A$2:$A$10000),0)+ROWS($1:6)-1,COLUMN()-1),0)","v":"10:54:28.040"},{"$f":"IF(ROWS(GPS_IMPORT!$1:6)<=COUNTIF(GPS_IMPORT!$A$2:$A$10000,$B$5),INDEX(GPS_IMPORT!$2:$10000,MATCH($B$5,(GPS_IMPORT!$A$2:$A$10000),0)+ROWS($1:6)-1,COLUMN()-1),0)","v":323096.436541114},{"$f":"IF(ROWS(GPS_IMPORT!$1:6)<=COUNTIF(GPS_IMPORT!$A$2:$A$10000,$B$5),INDEX(GPS_IMPORT!$2:$10000,MATCH($B$5,(GPS_IMPORT!$A$2:$A$10000),0)+ROWS($1:6)-1,COLUMN()-1),0)","v":2267173.2145627001},{"$f":"IF(ROWS(GPS_IMPORT!$1:6)<=COUNTIF(GPS_IMPORT!$A$2:$A$10000,$B$5),INDEX(GPS_IMPORT!$2:$10000,MATCH($B$5,(GPS_IMPORT!$A$2:$A$10000),0)+ROWS($1:6)-1,COLUMN()-1),0)","v":887.28244302182998},4.549692792352289E-3,2.1143998019397259E-3,-1.8032261849612041E-3,true]
[7,{"$f":"IF(ROWS(GPS_IMPORT!$1:7)<=COUNTIF(GPS_IMPORT!$A$2:$A$10000,$B$5),INDEX(GPS_IMPORT!$2:$10000,MATCH($B$5,(GPS_IMPORT!$A$2:$A$10000),0)+ROWS($1:7)-1,COLUMN()-1),0)","v":"GS10"},{"$f":"IF(ROWS(GPS_IMPORT!$1:7)<=COUNTIF(GPS_IMPORT!$A$2:$A$10000,$B$5),INDEX(GPS_IMPORT!$2:$10000,MATCH($B$5,(GPS_IMPORT!$A$2:$A$10000),0)+ROWS($1:7)-1,COLUMN()-1),0)","v":"12.18.2018"},{"$f":"IF(ROWS(GPS_IMPORT!$1:7)<=COUNTIF(GPS_IMPORT!$A$2:$A$10000,$B$5),INDEX(GPS_IMPORT!$2:$10000,MATCH($B$5,(GPS_IMPORT!$A$2:$A$10000),0)+ROWS($1:7)-1,COLUMN()-1),0)","v":"10:54:38.720"},{"$f":"IF(ROWS(GPS_IMPORT!$1:7)<=COUNTIF(GPS_IMPORT!$A$2:$A$10000,$B$5),INDEX(GPS_IMPORT!$2:$10000,MATCH($B$5,(GPS_IMPORT!$A$2:$A$10000),0)+ROWS($1:7)-1,COLUMN()-1),0)","v":323096.435783041},{"$f":"IF(ROWS(GPS_IMPORT!$1:7)<=COUNTIF(GPS_IMPORT!$A$2:$A$10000,$B$5),INDEX(GPS_IMPORT!$2:$10000,MATCH($B$5,(GPS_IMPORT!$A$2:$A$10000),0)+ROWS($1:7)-1,COLUMN()-1),0)","v":2267173.2170749898},{"$f":"IF(ROWS(GPS_IMPORT!$1:7)<=COUNTIF(GPS_IMPORT!$A$2:$A$10000,$B$5),INDEX(GPS_IMPORT!$2:$10000,MATCH($B$5,(GPS_IMPORT!$A$2:$A$10000),0)+ROWS($1:7)-1,COLUMN()-1),0)","v":887.27832820064998},5.3077657939866185E-3,-3.978898748755455E-4,2.3115949950351933E-3,true]
[8,{"$f":"IF(ROWS(GPS_IMPORT!$1:8)<=COUNTIF(GPS_IMPORT!$A$2:$A$10000,$B$5),INDEX(GPS_IMPORT!$2:$10000,MATCH($B$5,(GPS_IMPORT!$A$2:$A$10000),0)+ROWS($1:8)-1,COLUMN()-1),0)","v":"GS10"},{"$f":"IF(ROWS(GPS_IMPORT!$1:8)<=COUNTIF(GPS_IMPORT!$A$2:$A$10000,$B$5),INDEX(GPS_IMPORT!$2:$10000,MATCH($B$5,(GPS_IMPORT!$A$2:$A$10000),0)+ROWS($1:8)-1,COLUMN()-1),0)","v":"12.18.2018"},{"$f":"IF(ROWS(GPS_IMPORT!$1:8)<=COUNTIF(GPS_IMPORT!$A$2:$A$10000,$B$5),INDEX(GPS_IMPORT!$2:$10000,MATCH($B$5,(GPS_IMPORT!$A$2:$A$10000),0)+ROWS($1:8)-1,COLUMN()-1),0)","v":"10:54:50.190"},{"$f":"IF(ROWS(GPS_IMPORT!$1:8)<=COUNTIF(GPS_IMPORT!$A$2:$A$10000,$B$5),INDEX(GPS_IMPORT!$2:$10000,MATCH($B$5,(GPS_IMPORT!$A$2:$A$10000),0)+ROWS($1:8)-1,COLUMN()-1),0)","v":323096.43475647899},{"$f":"IF(ROWS(GPS_IMPORT!$1:8)<=COUNTIF(GPS_IMPORT!$A$2:$A$10000,$B$5),INDEX(GPS_IMPORT!$2:$10000,MATCH($B$5,(GPS_IMPORT!$A$2:$A$10000),0)+ROWS($1:8)-1,COLUMN()-1),0)","v":2267173.2159670498},{"$f":"IF(ROWS(GPS_IMPORT!$1:8)<=COUNTIF(GPS_IMPORT!$A$2:$A$10000,$B$5),INDEX(GPS_IMPORT!$2:$10000,MATCH($B$5,(GPS_IMPORT!$A$2:$A$10000),0)+ROWS($1:8)-1,COLUMN()-1),0)","v":887.27630314643},6.3343278015963733E-3,7.1005010977387428E-4,4.336649215019861E-3,true]
[9,{"$f":"IF(ROWS(GPS_IMPORT!$1:9)<=COUNTIF(GPS_IMPORT!$A$2:$A$10000,$B$5),INDEX(GPS_IMPORT!$2:$10000,MATCH($B$5,(GPS_IMPORT!$A$2:$A$10000),0)+ROWS($1:9)-1,COLUMN()-1),0)","v":"GS10"},{"$f":"IF(ROWS(GPS_IMPORT!$1:9)<=COUNTIF(GPS_IMPORT!$A$2:$A$10000,$B$5),INDEX(GPS_IMPORT!$2:$10000,MATCH($B$5,(GPS_IMPORT!$A$2:$A$10000),0)+ROWS($1:9)-1,COLUMN()-1),0)","v":"12.18.2018"},{"$f":"IF(ROWS(GPS_IMPORT!$1:9)<=COUNTIF(GPS_IMPORT!$A$2:$A$10000,$B$5),INDEX(GPS_IMPORT!$2:$10000,MATCH($B$5,(GPS_IMPORT!$A$2:$A$10000),0)+ROWS($1:9)-1,COLUMN()-1),0)","v":"10:55:10.800"},{"$f":"IF(ROWS(GPS_IMPORT!$1:9)<=COUNTIF(GPS_IMPORT!$A$2:$A$10000,$B$5),INDEX(GPS_IMPORT!$2:$10000,MATCH($B$5,(GPS_IMPORT!$A$2:$A$10000),0)+ROWS($1:9)-1,COLUMN()-1),0)","v":323096.44047432003},{"$f":"IF(ROWS(GPS_IMPORT!$1:9)<=COUNTIF(GPS_IMPORT!$A$2:$A$10000,$B$5),INDEX(GPS_IMPORT!$2:$10000,MATCH($B$5,(GPS_IMPORT!$A$2:$A$10000),0)+ROWS($1:9)-1,COLUMN()-1),0)","v":2267173.2169814301},{"$f":"IF(ROWS(GPS_IMPORT!$1:9)<=COUNTIF(GPS_IMPORT!$A$2:$A$10000,$B$5),INDEX(GPS_IMPORT!$2:$10000,MATCH($B$5,(GPS_IMPORT!$A$2:$A$10000),0)+ROWS($1:9)-1,COLUMN()-1),0)","v":887.27513752278003},6.1648676637560129E-4,-3.0433014035224915E-4,5.5022728649873898E-3,true]
[10,{"$f":"IF(ROWS(GPS_IMPORT!$1:10)<=COUNTIF(GPS_IMPORT!$A$2:$A$10000,$B$5),INDEX(GPS_IMPORT!$2:$10000,MATCH($B$5,(GPS_IMPORT!$A$2:$A$10000),0)+ROWS($1:10)-1,COLUMN()-1),0)","v":"GS10"},{"$f":"IF(ROWS(GPS_IMPORT!$1:10)<=COUNTIF(GPS_IMPORT!$A$2:$A$10000,$B$5),INDEX(GPS_IMPORT!$2:$10000,MATCH($B$5,(GPS_IMPORT!$A$2:$A$10000),0)+ROWS($1:10)-1,COLUMN()-1),0)","v":"12.18.2018"},{"$f":"IF(ROWS(GPS_IMPORT!$1:10)<=COUNTIF(GPS_IMPORT!$A$2:$A$10000,$B$5),INDEX(GPS_IMPORT!$2:$10000,MATCH($B$5,(GPS_IMPORT!$A$2:$A$10000),0)+ROWS($1:10)-1,COLUMN()-1),0)","v":"10:55:21.670"},{"$f":"IF(ROWS(GPS_IMPORT!$1:10)<=COUNTIF(GPS_IMPORT!$A$2:$A$10000,$B$5),INDEX(GPS_IMPORT!$2:$10000,MATCH($B$5,(GPS_IMPORT!$A$2:$A$10000),0)+ROWS($1:10)-1,COLUMN()-1),0)","v":323096.43559351697},{"$f":"IF(ROWS(GPS_IMPORT!$1:10)<=COUNTIF(GPS_IMPORT!$A$2:$A$10000,$B$5),INDEX(GPS_IMPORT!$2:$10000,MATCH($B$5,(GPS_IMPORT!$A$2:$A$10000),0)+ROWS($1:10)-1,COLUMN()-1),0)","v":2267173.2215595702},{"$f":"IF(ROWS(GPS_IMPORT!$1:10)<=COUNTIF(GPS_IMPORT!$A$2:$A$10000,$B$5),INDEX(GPS_IMPORT!$2:$10000,MATCH($B$5,(GPS_IMPORT!$A$2:$A$10000),0)+ROWS($1:10)-1,COLUMN()-1),0)","v":887.28868883497},5.4972898215055466E-3,-4.8824702389538288E-3,-8.0490393249874614E-3,true]
[11,{"$f":"IF(ROWS(GPS_IMPORT!$1:11)<=COUNTIF(GPS_IMPORT!$A$2:$A$10000,$B$5),INDEX(GPS_IMPORT!$2:$10000,MATCH($B$5,(GPS_IMPORT!$A$2:$A$10000),0)+ROWS($1:11)-1,COLUMN()-1),0)","v":"GS10"},{"$f":"IF(ROWS(GPS_IMPORT!$1:11)<=COUNTIF(GPS_IMPORT!$A$2:$A$10000,$B$5),INDEX(GPS_IMPORT!$2:$10000,MATCH($B$5,(GPS_IMPORT!$A$2:$A$10000),0)+ROWS($1:11)-1,COLUMN()-1),0)","v":"12.18.2018"},{"$f":"IF(ROWS(GPS_IMPORT!$1:11)<=COUNTIF(GPS_IMPORT!$A$2:$A$10000,$B$5),INDEX(GPS_IMPORT!$2:$10000,MATCH($B$5,(GPS_IMPORT!$A$2:$A$10000),0)+ROWS($1:11)-1,COLUMN()-1),0)","v":"10:55:32.810"},{"$f":"IF(ROWS(GPS_IMPORT!$1:11)<=COUNTIF(GPS_IMPORT!$A$2:$A$10000,$B$5),INDEX(GPS_IMPORT!$2:$10000,MATCH($B$5,(GPS_IMPORT!$A$2:$A$10000),0)+ROWS($1:11)-1,COLUMN()-1),0)","v":323096.43014372699},{"$f":"IF(ROWS(GPS_IMPORT!$1:11)<=COUNTIF(GPS_IMPORT!$A$2:$A$10000,$B$5),INDEX(GPS_IMPORT!$2:$10000,MATCH($B$5,(GPS_IMPORT!$A$2:$A$10000),0)+ROWS($1:11)-1,COLUMN()-1),0)","v":2267173.2214170801},{"$f":"IF(ROWS(GPS_IMPORT!$1:11)<=COUNTIF(GPS_IMPORT!$A$2:$A$10000,$B$5),INDEX(GPS_IMPORT!$2:$10000,MATCH($B$5,(GPS_IMPORT!$A$2:$A$10000),0)+ROWS($1:11)-1,COLUMN()-1),0)","v":887.27843243951997},1.0947079805191606E-2,-4.7399802133440971E-3,2.2073561250408602E-3,true]
[12,{"$f":"IF(ROWS(GPS_IMPORT!$1:12)<=COUNTIF(GPS_IMPORT!$A$2:$A$10000,$B$5),INDEX(GPS_IMPORT!$2:$10000,MATCH($B$5,(GPS_IMPORT!$A$2:$A$10000),0)+ROWS($1:12)-1,COLUMN()-1),0)","v":"GS10"},{"$f":"IF(ROWS(GPS_IMPORT!$1:12)<=COUNTIF(GPS_IMPORT!$A$2:$A$10000,$B$5),INDEX(GPS_IMPORT!$2:$10000,MATCH($B$5,(GPS_IMPORT!$A$2:$A$10000),0)+ROWS($1:12)-1,COLUMN()-1),0)","v":"12.18.2018"},{"$f":"IF(ROWS(GPS_IMPORT!$1:12)<=COUNTIF(GPS_IMPORT!$A$2:$A$10000,$B$5),INDEX(GPS_IMPORT!$2:$10000,MATCH($B$5,(GPS_IMPORT!$A$2:$A$10000),0)+ROWS($1:12)-1,COLUMN()-1),0)","v":"10:55:44.150"},{"$f":"IF(ROWS(GPS_IMPORT!$1:12)<=COUNTIF(GPS_IMPORT!$A$2:$A$10000,$B$5),INDEX(GPS_IMPORT!$2:$10000,MATCH($B$5,(GPS_IMPORT!$A$2:$A$10000),0)+ROWS($1:12)-1,COLUMN()-1),0)","v":323096.42853505799},{"$f":"IF(ROWS(GPS_IMPORT!$1:12)<=COUNTIF(GPS_IMPORT!$A$2:$A$10000,$B$5),INDEX(GPS_IMPORT!$2:$10000,MATCH($B$5,(GPS_IMPORT!$A$2:$A$10000),0)+ROWS($1:12)-1,COLUMN()-1),0)","v":2267173.2171745799},{"$f":"IF(ROWS(GPS_IMPORT!$1:12)<=COUNTIF(GPS_IMPORT!$A$2:$A$10000,$B$5),INDEX(GPS_IMPORT!$2:$10000,MATCH($B$5,(GPS_IMPORT!$A$2:$A$10000),0)+ROWS($1:12)-1,COLUMN()-1),0)","v":887.31858582174004},1.2555748806335032E-2,-4.9747992306947708E-4,-3.7946026095028174E-2,true]
[13,{"$f":"IF(ROWS(GPS_IMPORT!$1:13)<=COUNTIF(GPS_IMPORT!$A$2:$A$10000,$B$5),INDEX(GPS_IMPORT!$2:$10000,MATCH($B$5,(GPS_IMPORT!$A$2:$A$10000),0)+ROWS($1:13)-1,COLUMN()-1),0)","v":0},{"$f":"IF(ROWS(GPS_IMPORT!$1:13)<=COUNTIF(GPS_IMPORT!$A$2:$A$10000,$B$5),INDEX(GPS_IMPORT!$2:$10000,MATCH($B$5,(GPS_IMPORT!$A$2:$A$10000),0)+ROWS($1:13)-1,COLUMN()-1),0)","v":"00:00:00"},{"$f":"IF(ROWS(GPS_IMPORT!$1:13)<=COUNTIF(GPS_IMPORT!$A$2:$A$10000,$B$5),INDEX(GPS_IMPORT!$2:$10000,MATCH($B$5,(GPS_IMPORT!$A$2:$A$10000),0)+ROWS($1:13)-1,COLUMN()-1),0)","v":"00:00:00"},{"$f":"IF(ROWS(GPS_IMPORT!$1:13)<=COUNTIF(GPS_IMPORT!$A$2:$A$10000,$B$5),INDEX(GPS_IMPORT!$2:$10000,MATCH($B$5,(GPS_IMPORT!$A$2:$A$10000),0)+ROWS($1:13)-1,COLUMN()-1),0)","v":0},{"$f":"IF(ROWS(GPS_IMPORT!$1:13)<=COUNTIF(GPS_IMPORT!$A$2:$A$10000,$B$5),INDEX(GPS_IMPORT!$2:$10000,MATCH($B$5,(GPS_IMPORT!$A$2:$A$10000),0)+ROWS($1:13)-1,COLUMN()-1),0)","v":0},{"$f":"IF(ROWS(GPS_IMPORT!$1:13)<=COUNTIF(GPS_IMPORT!$A$2:$A$10000,$B$5),INDEX(GPS_IMPORT!$2:$10000,MATCH($B$5,(GPS_IMPORT!$A$2:$A$10000),0)+ROWS($1:13)-1,COLUMN()-1),0)","v":0},{"$f":"IF(E19>0,E$22-E19,0)","v":0},0,0,false]
[14,{"$f":"IF(ROWS(GPS_IMPORT!$1:14)<=COUNTIF(GPS_IMPORT!$A$2:$A$10000,$B$5),INDEX(GPS_IMPORT!$2:$10000,MATCH($B$5,(GPS_IMPORT!$A$2:$A$10000),0)+ROWS($1:14)-1,COLUMN()-1),0)","v":0},{"$f":"IF(ROWS(GPS_IMPORT!$1:14)<=COUNTIF(GPS_IMPORT!$A$2:$A$10000,$B$5),INDEX(GPS_IMPORT!$2:$10000,MATCH($B$5,(GPS_IMPORT!$A$2:$A$10000),0)+ROWS($1:14)-1,COLUMN()-1),0)","v":"00:00:00"},{"$f":"IF(ROWS(GPS_IMPORT!$1:14)<=COUNTIF(GPS_IMPORT!$A$2:$A$10000,$B$5),INDEX(GPS_IMPORT!$2:$10000,MATCH($B$5,(GPS_IMPORT!$A$2:$A$10000),0)+ROWS($1:14)-1,COLUMN()-1),0)","v":"00:00:00"},{"$f":"IF(ROWS(GPS_IMPORT!$1:14)<=COUNTIF(GPS_IMPORT!$A$2:$A$10000,$B$5),INDEX(GPS_IMPORT!$2:$10000,MATCH($B$5,(GPS_IMPORT!$A$2:$A$10000),0)+ROWS($1:14)-1,COLUMN()-1),0)","v":0},{"$f":"IF(ROWS(GPS_IMPORT!$1:14)<=COUNTIF(GPS_IMPORT!$A$2:$A$10000,$B$5),INDEX(GPS_IMPORT!$2:$10000,MATCH($B$5,(GPS_IMPORT!$A$2:$A$10000),0)+ROWS($1:14)-1,COLUMN()-1),0)","v":0},{"$f":"IF(ROWS(GPS_IMPORT!$1:14)<=COUNTIF(GPS_IMPORT!$A$2:$A$10000,$B$5),INDEX(GPS_IMPORT!$2:$10000,MATCH($B$5,(GPS_IMPORT!$A$2:$A$10000),0)+ROWS($1:14)-1,COLUMN()-1),0)","v":0},0,0,0,false]
[15,{"$f":"IF(ROWS(GPS_IMPORT!$1:15)<=COUNTIF(GPS_IMPORT!$A$2:$A$10000,$B$5),INDEX(GPS_IMPORT!$2:$10000,MATCH($B$5,(GPS_IMPORT!$A$2:$A$10000),0)+ROWS($1:15)-1,COLUMN()-1),0)","v":0},{"$f":"IF(ROWS(GPS_IMPORT!$1:15)<=COUNTIF(GPS_IMPORT!$A$2:$A$10000,$B$5),INDEX(GPS_IMPORT!$2:$10000,MATCH($B$5,(GPS_IMPORT!$A$2:$A$10000),0)+ROWS($1:15)-1,COLUMN()-1),0)","v":"00:00:00"},{"$f":"IF(ROWS(GPS_IMPORT!$1:15)<=COUNTIF(GPS_IMPORT!$A$2:$A$10000,$B$5),INDEX(GPS_IMPORT!$2:$10000,MATCH($B$5,(GPS_IMPORT!$A$2:$A$10000),0)+ROWS($1:15)-1,COLUMN()-1),0)","v":"00:00:00"},{"$f":"IF(ROWS(GPS_IMPORT!$1:15)<=COUNTIF(GPS_IMPORT!$A$2:$A$10000,$B$5),INDEX(GPS_IMPORT!$2:$10000,MATCH($B$5,(GPS_IMPORT!$A$2:$A$10000),0)+ROWS($1:15)-1,COLUMN()-1),0)","v":0},{"$f":"IF(ROWS(GPS_IMPORT!$1:15)<=COUNTIF(GPS_IMPORT!$A$2:$A$10000,$B$5),INDEX(GPS_IMPORT!$2:$10000,MATCH($B$5,(GPS_IMPORT!$A$2:$A$10000),0)+ROWS($1:15)-1,COLUMN()-1),0)","v":0},{"$f":"IF(ROWS(GPS_IMPORT!$1:15)<=COUNTIF(GPS_IMPORT!$A$2:$A$10000,$B$5),INDEX(GPS_IMPORT!$2:$10000,MATCH($B$5,(GPS_IMPORT!$A$2:$A$10000),0)+ROWS($1:15)-1,COLUMN()-1),0)","v":0},0,0,0,false]
[null,null,null,"AVERAGE",{"$f":"(IF($K$7=TRUE,E7,0)+IF($K$8=TRUE,E8,0)+IF($K$9=TRUE,E9,0)+IF($K$10=TRUE,E10,0)+IF($K$11=TRUE,E11,0)+IF($K$12=TRUE,E12,0)+IF($K$13=TRUE,E13,0)+IF($K$14=TRUE,E14,0)+IF($K$15=TRUE,E15,0)+IF($K$16=TRUE,E16,0)+IF($K$17=TRUE,E17,0)+IF($K$18=TRUE,E18,0)+IF($K$19=TRUE,E19,0)+IF($K$20=TRUE,E20,0)+IF($K$21=TRUE,E21,0))/(IF($K$7=TRUE,1,0)+IF($K$8=TRUE,1,0)+IF($K$9=TRUE,1,0)+IF($K$10=TRUE,1,0)+IF($K$11=TRUE,1,0)+IF($K$12=TRUE,1,0)+IF($K$13=TRUE,1,0)+IF($K$14=TRUE,1,0)+IF($K$15=TRUE,1,0)+IF($K$16=TRUE,1,0)+IF($K$17=TRUE,1,0)+IF($K$18=TRUE,1,0)+IF($K$19=TRUE,1,0)+IF($K$20=TRUE,1,0)+IF($K$21=TRUE,1,0))","v":323096.44109080679},{"$f":"(IF($K$7=TRUE,F7,0)+IF($K$8=TRUE,F8,0)+IF($K$9=TRUE,F9,0)+IF($K$10=TRUE,F10,0)+IF($K$11=TRUE,F11,0)+IF($K$12=TRUE,F12,0)+IF($K$13=TRUE,F13,0)+IF($K$14=TRUE,F14,0)+IF($K$15=TRUE,F15,0)+IF($K$16=TRUE,F16,0)+IF($K$17=TRUE,F17,0)+IF($K$18=TRUE,F18,0)+IF($K$19=TRUE,F19,0)+IF($K$20=TRUE,F20,0)+IF($K$21=TRUE,F21,0))/(IF($K$7=TRUE,1,0)+IF($K$8=TRUE,1,0)+IF($K$9=TRUE,1,0)+IF($K$10=TRUE,1,0)+IF($K$11=TRUE,1,0)+IF($K$12=TRUE,1,0)+IF($K$13=TRUE,1,0)+IF($K$14=TRUE,1,0)+IF($K$15=TRUE,1,0)+IF($K$16=TRUE,1,0)+IF($K$17=TRUE,1,0)+IF($K$18=TRUE,1,0)+IF($K$19=TRUE,1,0)+IF($K$20=TRUE,1,0)+IF($K$21=TRUE,1,0))","v":2267173.2166770999},{"$f":"(IF($K$7=TRUE,G7,0)+IF($K$8=TRUE,G8,0)+IF($K$9=TRUE,G9,0)+IF($K$10=TRUE,G10,0)+IF($K$11=TRUE,G11,0)+IF($K$12=TRUE,G12,0)+IF($K$13=TRUE,G13,0)+IF($K$14=TRUE,G14,0)+IF($K$15=TRUE,G15,0)+IF($K$16=TRUE,G16,0)+IF($K$17=TRUE,G17,0)+IF($K$18=TRUE,G18,0)+IF($K$19=TRUE,G19,0)+IF($K$20=TRUE,G20,0)+IF($K$21=TRUE,G21,0))/\n(IF($K$7=TRUE,1,0)+IF($K$8=TRUE,1,0)+IF($K$9=TRUE,1,0)+IF($K$10=TRUE,1,0)+IF($K$11=TRUE,1,0)+IF($K$12=TRUE,1,0)+IF($K$13=TRUE,1,0)+IF($K$14=TRUE,1,0)+IF($K$15=TRUE,1,0)+IF($K$16=TRUE,1,0)+IF($K$17=TRUE,1,0)+IF($K$18=TRUE,1,0)+IF($K$19=TRUE,1,0)+IF($K$20=TRUE,1,0)+IF($K$21=TRUE,1,0))","v":887.28063979564502},"RMSE:","RMSE:","RMSE:"]
[null,null,null,null,null,null,"RMSE IN US SURVEY FEET:",{"$f":"SQRT((\n(IF($K$7=TRUE,H7^2,0))+(IF($K$8=TRUE,H8^2,0))+(IF($K$9=TRUE,H9^2,0))+(IF($K$10=TRUE,H10^2,0))+(IF($K$11=TRUE,H11^2,0))+(IF($K$12=TRUE,H12^2,0))+(IF($K$13=TRUE,H13^2,0))+(IF($K$14=TRUE,H14^2,0))+(IF($K$15=TRUE,H15^2,0))+(IF($K$16=TRUE,H16^2,0))+(IF($K$17=TRUE,H17^2,0))+(IF($K$18=TRUE,H18^2,0))+(IF($K$19=TRUE,H19^2,0))+(IF($K$20=TRUE,H20^2,0))+(IF($K$21=TRUE,H21^2,0)))/\n(IF($K$7=TRUE,1,0)+IF($K$8=TRUE,1,0)+IF($K$9=TRUE,1,0)+IF($K$10=TRUE,1,0)+IF($K$11=TRUE,1,0)+IF($K$12=TRUE,1,0)+IF($K$13=TRUE,1,0)+IF($K$14=TRUE,1,0)+IF($K$15=TRUE,1,0)+IF($K$16=TRUE,1,0)+IF($K$17=TRUE,1,0)+IF($K$18=TRUE,1,0)+IF($K$19=TRUE,1,0)+IF($K$20=TRUE,1,0)+IF($K$21=TRUE,1,0)))","v":8.8225228135686059E-3},{"$f":"SQRT((\n(IF($K$7=TRUE,I7^2,0))+(IF($K$8=TRUE,I8^2,0))+(IF($K$9=TRUE,I9^2,0))+(IF($K$10=TRUE,I10^2,0))+(IF($K$11=TRUE,I11^2,0))+(IF($K$12=TRUE,I12^2,0))+(IF($K$13=TRUE,I13^2,0))+(IF($K$14=TRUE,I14^2,0))+(IF($K$15=TRUE,I15^2,0))+(IF($K$16=TRUE,I16^2,0))+(IF($K$17=TRUE,I17^2,0))+(IF($K$18=TRUE,I18^2,0))+(IF($K$19=TRUE,I19^2,0))+(IF($K$20=TRUE,I20^2,0))+(IF($K$21=TRUE,I21^2,0)))/\n(IF($K$7=TRUE,1,0)+IF($K$8=TRUE,1,0)+IF($K$9=TRUE,1,0)+IF($K$10=TRUE,1,0)+IF($K$11=TRUE,1,0)+IF($K$12=TRUE,1,0)+IF($K$13=TRUE,1,0)+IF($K$14=TRUE,1,0)+IF($K$15=TRUE,1,0)+IF($K$16=TRUE,1,0)+IF($K$17=TRUE,1,0)+IF($K$18=TRUE,1,0)+IF($K$19=TRUE,1,0)+IF($K$20=TRUE,1,0)+IF($K$21=TRUE,1,0)))","v":3.0920647840112377E-3},{"$f":"SQRT((\n(IF($K$7=TRUE,J7^2,0))+(IF($K$8=TRUE,J8^2,0))+(IF($K$9=TRUE,J9^2,0))+(IF($K$10=TRUE,J10^2,0))+(IF($K$11=TRUE,J11^2,0))+(IF($K$12=TRUE,J12^2,0))+(IF($K$13=TRUE,J13^2,0))+(IF($K$14=TRUE,J14^2,0))+(IF($K$15=TRUE,J15^2,0))+(IF($K$16=TRUE,J16^2,0))+(IF($K$17=TRUE,J17^2,0))+(IF($K$18=TRUE,J18^2,0))+(IF($K$19=TRUE,J19^2,0))+(IF($K$20=TRUE,J20^2,0))+(IF($K$21=TRUE,J21^2,0)))/\n(IF($K$7=TRUE,1,0)+IF($K$8=TRUE,1,0)+IF($K$9=TRUE,1,0)+IF($K$10=TRUE,1,0)+IF($K$11=TRUE,1,0)+IF($K$12=TRUE,1,0)+IF($K$13=TRUE,1,0)+IF($K$14=TRUE,1,0)+IF($K$15=TRUE,1,0)+IF($K$16=TRUE,1,0)+IF($K$17=TRUE,1,0)+IF($K$18=TRUE,1,0)+IF($K$19=TRUE,1,0)+IF($K$20=TRUE,1,0)+IF($K$21=TRUE,1,0)))","v":1.2863594843215155E-2}]
[null,null,null,1]
[null,null,"UNITLESS GRID TO GROUND MULTIPLIER",{"$f":"IF(REPORT!C13=\"n/a\",\"0.00000000\",REPORT!C13)","v":0},null,null,null,{"$f":"IF(H23<=0.029,\"PASS\",\"FAIL\")","v":"PASS"},{"$f":"IF(I23<=0.029,\"PASS\",\"FAIL\")","v":"PASS"},{"$f":"IF(J23<=0.039,\"PASS\",\"FAIL\")","v":"PASS"}]
[]
["AVERAGED GPS-DERIVED POSITION",null,null,null,null,null,null,null,"Notes:"]
[null,"MONUMENT COORDINATES",null,"NORTHING","EASTING","ORTHO HEIGHT"]
[null,"US Survey Feet (GRID)",null,{"$f":"$E$22","v":323096.44109080679},{"$f":"$F$22","v":2267173.2166770999},{"$f":"$G$22","v":887.28063979564502}]
[]
["LEVELED ELEVATION"]
["US SURVEY FEET",null,"N/A","(Type the leveled elevation or N/A if no leveled elevation is available)"]
["MONUMENT HELD",null,null,"(Type the monument name from which leveling originated)"]
["LEVELED ELEVATION - GPS DERIVED ELEVATION   = ",null,null,null,{"$f":"IF(C32=\"N/A\",\"N/A\",C32-(F29*D24))","v":"N/A"}]
[]
["FINAL MONUMENT COORDINATES"]
[null,"MONUMENT COORDINATES",null,"NORTHING","EASTING","ELEVATION","FEATURE CODE"]
[null,"US SURVEY FEET (GRID)",null,{"$f":"$E$22*$D$24","v":323096.44109080679},{"$f":"$F$22*$D$24","v":2267173.2166770999},{"$f":"IF($C$32=\"N/A\",($G$22*$D$24),$C$32)","v":887.28063979564502},"AERTAR"]
[null,"US SURVEY FEET (GROUND)",null,{"$f":"$D$38*$D$25","v":0},{"$f":"$E$38*$D$25","v":0},{"$f":"IF($C$32=\"N/A\",($G$22*$D$24),$C$32)","v":887.28063979564502},{"$f":"G38","v":"AERTAR"}]
[]
["∆ North,  ∆ East, and ∆ Ht. are the difference between the average northing, easting, and height for each observation.",null,null,null,null,null,null,null,"Mask Angle:","10°"]

{"sheet":"GS11","index":17,"n_rows":41,"n_cols":11,"rows_kept":41,"cut":false,"hidden":false,"merged":[[0,0,0,10],[26,0,26,6],[27,1,27,2],[27,8,38,10],[28,1,28,2],[30,0,30,6],[35,0,35,6],[36,1,36,2],[37,1,37,2],[38,1,38,2]]}
["VRS GNSS Project Control Monument Coordinate Analysis"]
[]
["Project:",{"$f":"REPORT!B2","v":"TUS-800-22.74"},"GPS Antenna:","LEICA GS14",null,null,null,null,null,"Report Date:",{"$f":"REPORT!C49","v":"2018-12-19"}]
["PID:",{"$f":"REPORT!E2","v":100603},"VRS Network:","ODOT VRS",null,null,null,null,null,"Prepared By:",{"$f":"REPORT!C48","v":"Kolton Wilson"}]
["Point ID:","GS11","No. of Sessions:",{"$f":"COUNTIF(GPS_IMPORT!A2:A1000,$B$5)","v":12},null,null,null,null,null,"Checked By:",{"$f":"REPORT!C52","v":"Joel Swick"}]
["SESSION #","Point","Observation Date","Start Time","Northing(sft)","Easting(sft)","Height(sft)","∆ Northing(sft)","∆ Easting(sft)","∆ Height(sft)","Include in Solution?"]
[1,{"$f":"IF(ROWS(GPS_IMPORT!$1:1)<=COUNTIF(GPS_IMPORT!$A$2:$A$10000,$B$5),INDEX(GPS_IMPORT!$2:$10000,MATCH($B$5,(GPS_IMPORT!$A$2:$A$10000),0)+ROWS($1:1)-1,COLUMN()-1),0)","v":"GS11"},{"$f":"IF(ROWS(GPS_IMPORT!$1:1)<=COUNTIF(GPS_IMPORT!$A$2:$A$10000,$B$5),INDEX(GPS_IMPORT!$2:$10000,MATCH($B$5,(GPS_IMPORT!$A$2:$A$10000),0)+ROWS($1:1)-1,COLUMN()-1),0)","v":"12.18.2018"},{"$f":"IF(ROWS(GPS_IMPORT!$1:1)<=COUNTIF(GPS_IMPORT!$A$2:$A$10000,$B$5),INDEX(GPS_IMPORT!$2:$10000,MATCH($B$5,(GPS_IMPORT!$A$2:$A$10000),0)+ROWS($1:1)-1,COLUMN()-1),0)","v":"11:01:49.410"},{"$f":"IF(ROWS(GPS_IMPORT!$1:1)<=COUNTIF(GPS_IMPORT!$A$2:$A$10000,$B$5),INDEX(GPS_IMPORT!$2:$10000,MATCH($B$5,(GPS_IMPORT!$A$2:$A$10000),0)+ROWS($1:1)-1,COLUMN()-1),0)","v":326771.67356854799},{"$f":"IF(ROWS(GPS_IMPORT!$1:1)<=COUNTIF(GPS_IMPORT!$A$2:$A$10000,$B$5),INDEX(GPS_IMPORT!$2:$10000,MATCH($B$5,(GPS_IMPORT!$A$2:$A$10000),0)+ROWS($1:1)-1,COLUMN()-1),0)","v":2270465.3825085899},{"$f":"IF(ROWS(GPS_IMPORT!$1:1)<=COUNTIF(GPS_IMPORT!$A$2:$A$10000,$B$5),INDEX(GPS_IMPORT!$2:$10000,MATCH($B$5,(GPS_IMPORT!$A$2:$A$10000),0)+ROWS($1:1)-1,COLUMN()-1),0)","v":935.38885427051002},{"$f":"IF(E7>0,E$22-E7,0)","v":-3.2764570787549019E-3},-1.1394986417144537E-2,-9.5967741074218793E-3,true]
[2,{"$f":"IF(ROWS(GPS_IMPORT!$1:2)<=COUNTIF(GPS_IMPORT!$A$2:$A$10000,$B$5),INDEX(GPS_IMPORT!$2:$10000,MATCH($B$5,(GPS_IMPORT!$A$2:$A$10000),0)+ROWS($1:2)-1,COLUMN()-1),0)","v":"GS11"},{"$f":"IF(ROWS(GPS_IMPORT!$1:2)<=COUNTIF(GPS_IMPORT!$A$2:$A$10000,$B$5),INDEX(GPS_IMPORT!$2:$10000,MATCH($B$5,(GPS_IMPORT!$A$2:$A$10000),0)+ROWS($1:2)-1,COLUMN()-1),0)","v":"12.18.2018"},{"$f":"IF(ROWS(GPS_IMPORT!$1:2)<=COUNTIF(GPS_IMPORT!$A$2:$A$10000,$B$5),INDEX(GPS_IMPORT!$2:$10000,MATCH($B$5,(GPS_IMPORT!$A$2:$A$10000),0)+ROWS($1:2)-1,COLUMN()-1),0)","v":"11:02:04.430"},{"$f":"IF(ROWS(GPS_IMPORT!$1:2)<=COUNTIF(GPS_IMPORT!$A$2:$A$10000,$B$5),INDEX(GPS_IMPORT!$2:$10000,MATCH($B$5,(GPS_IMPORT!$A$2:$A$10000),0)+ROWS($1:2)-1,COLUMN()-1),0)","v":326771.66993627499},{"$f":"IF(ROWS(GPS_IMPORT!$1:2)<=COUNTIF(GPS_IMPORT!$A$2:$A$10000,$B$5),INDEX(GPS_IMPORT!$2:$10000,MATCH($B$5,(GPS_IMPORT!$A$2:$A$10000),0)+ROWS($1:2)-1,COLUMN()-1),0)","v":2270465.39495034},{"$f":"IF(ROWS(GPS_IMPORT!$1:2)<=COUNTIF(GPS_IMPORT!$A$2:$A$10000,$B$5),INDEX(GPS_IMPORT!$2:$10000,MATCH($B$5,(GPS_IMPORT!$A$2:$A$10000),0)+ROWS($1:2)-1,COLUMN()-1),0)","v":935.39121238799999},3.5581592237576842E-4,-2.3836736567318439E-2,-1.1954891597383721E-2,true]
[3,{"$f":"IF(ROWS(GPS_IMPORT!$1:3)<=COUNTIF(GPS_IMPORT!$A$2:$A$10000,$B$5),INDEX(GPS_IMPORT!$2:$10000,MATCH($B$5,(GPS_IMPORT!$A$2:$A$10000),0)+ROWS($1:3)-1,COLUMN()-1),0)","v":"GS11"},{"$f":"IF(ROWS(GPS_IMPORT!$1:3)<=COUNTIF(GPS_IMPORT!$A$2:$A$10000,$B$5),INDEX(GPS_IMPORT!$2:$10000,MATCH($B$5,(GPS_IMPORT!$A$2:$A$10000),0)+ROWS($1:3)-1,COLUMN()-1),0)","v":"12.18.2018"},{"$f":"IF(ROWS(GPS_IMPORT!$1:3)<=COUNTIF(GPS_IMPORT!$A$2:$A$10000,$B$5),INDEX(GPS_IMPORT!$2:$10000,MATCH($B$5,(GPS_IMPORT!$A$2:$A$10000),0)+ROWS($1:3)-1,COLUMN()-1),0)","v":"11:02:17.320"},{"$f":"IF(ROWS(GPS_IMPORT!$1:3)<=COUNTIF(GPS_IMPORT!$A$2:$A$10000,$B$5),INDEX(GPS_IMPORT!$2:$10000,MATCH($B$5,(GPS_IMPORT!$A$2:$A$10000),0)+ROWS($1:3)-1,COLUMN()-1),0)","v":326771.66840400698},{"$f":"IF(ROWS(GPS_IMPORT!$1:3)<=COUNTIF(GPS_IMPORT!$A$2:$A$10000,$B$5),INDEX(GPS_IMPORT!$2:$10000,MATCH($B$5,(GPS_IMPORT!$A$2:$A$10000),0)+ROWS($1:3)-1,COLUMN()-1),0)","v":2270465.39162785},{"$f":"IF(ROWS(GPS_IMPORT!$1:3)<=COUNTIF(GPS_IMPORT!$A$2:$A$10000,$B$5),INDEX(GPS_IMPORT!$2:$10000,MATCH($B$5,(GPS_IMPORT!$A$2:$A$10000),0)+ROWS($1:3)-1,COLUMN()-1),0)","v":935.39041319077},1.8880839343182743E-3,-2.0514246542006731E-2,-1.1155694367403157E-2,true]
[4,{"$f":"IF(ROWS(GPS_IMPORT!$1:4)<=COUNTIF(GPS_IMPORT!$A$2:$A$10000,$B$5),INDEX(GPS_IMPORT!$2:$10000,MATCH($B$5,(GPS_IMPORT!$A$2:$A$10000),0)+ROWS($1:4)-1,COLUMN()-1),0)","v":"GS11"},{"$f":"IF(ROWS(GPS_IMPORT!$1:4)<=COUNTIF(GPS_IMPORT!$A$2:$A$10000,$B$5),INDEX(GPS_IMPORT!$2:$10000,MATCH($B$5,(GPS_IMPORT!$A$2:$A$10000),0)+ROWS($1:4)-1,COLUMN()-1),0)","v":"12.18.2018"},{"$f":"IF(ROWS(GPS_IMPORT!$1:4)<=COUNTIF(GPS_IMPORT!$A$2:$A$10000,$B$5),INDEX(GPS_IMPORT!$2:$10000,MATCH($B$5,(GPS_IMPORT!$A$2:$A$10000),0)+ROWS($1:4)-1,COLUMN()-1),0)","v":"11:02:29.760"},{"$f":"IF(ROWS(GPS_IMPORT!$1:4)<=COUNTIF(GPS_IMPORT!$A$2:$A$10000,$B$5),INDEX(GPS_IMPORT!$2:$10000,MATCH($B$5,(GPS_IMPORT!$A$2:$A$10000),0)+ROWS($1:4)-1,COLUMN()-1),0)","v":326771.66337051999},{"$f":"IF(ROWS(GPS_IMPORT!$1:4)<=COUNTIF(GPS_IMPORT!$A$2:$A$10000,$B$5),INDEX(GPS_IMPORT!$2:$10000,MATCH($B$5,(GPS_IMPORT!$A$2:$A$10000),0)+ROWS($1:4)-1,COLUMN()-1),0)","v":2270465.3858366101},{"$f":"IF(ROWS(GPS_IMPORT!$1:4)<=COUNTIF(GPS_IMPORT!$A$2:$A$10000,$B$5),INDEX(GPS_IMPORT!$2:$10000,MATCH($B$5,(GPS_IMPORT!$A$2:$A$10000),0)+ROWS($1:4)-1,COLUMN()-1),0)","v":935.39204654642003},6.9215709227137268E-3,-1.4723006635904312E-2,-1.2789050017431691E-2,true]
[5,{"$f":"IF(ROWS(GPS_IMPORT!$1:5)<=COUNTIF(GPS_IMPORT!$A$2:$A$10000,$B$5),INDEX(GPS_IMPORT!$2:$10000,MATCH($B$5,(GPS_IMPORT!$A$2:$A$10000),0)+ROWS($1:5)-1,COLUMN()-1),0)","v":"GS11"},{"$f":"IF(ROWS(GPS_IMPORT!$1:5)<=COUNTIF(GPS_IMPORT!$A$2:$A$10000,$B$5),INDEX(GPS_IMPORT!$2:$10000,MATCH($B$5,(GPS_IMPORT!$A$2:$A$10000),0)+ROWS($1:5)-1,COLUMN()-1),0)","v":"12.18.2018"},{"$f":"IF(ROWS(GPS_IMPORT!$1:5)<=COUNTIF(GPS_IMPORT!$A$2:$A$10000,$B$5),INDEX(GPS_IMPORT!$2:$10000,MATCH($B$5,(GPS_IMPORT!$A$2:$A$10000),0)+ROWS($1:5)-1,COLUMN()-1),0)","v":"11:03:20.160"},{"$f":"IF(ROWS(GPS_IMPORT!$1:5)<=COUNTIF(GPS_IMPORT!$A$2:$A$10000,$B$5),INDEX(GPS_IMPORT!$2:$10000,MATCH($B$5,(GPS_IMPORT!$A$2:$A$10000),0)+ROWS($1:5)-1,COLUMN()-1),0)","v":326771.686500635},{"$f":"IF(ROWS(GPS_IMPORT!$1:5)<=COUNTIF(GPS_IMPORT!$A$2:$A$10000,$B$5),INDEX(GPS_IMPORT!$2:$10000,MATCH($B$5,(GPS_IMPORT!$A$2:$A$10000),0)+ROWS($1:5)-1,COLUMN()-1),0)","v":2270465.3491960601},{"$f":"IF(ROWS(GPS_IMPORT!$1:5)<=COUNTIF(GPS_IMPORT!$A$2:$A$10000,$B$5),INDEX(GPS_IMPORT!$2:$10000,MATCH($B$5,(GPS_IMPORT!$A$2:$A$10000),0)+ROWS($1:5)-1,COLUMN()-1),0)","v":935.32769655072002},-1.6208544082473963E-2,2.191754337400198E-2,5.1560945682581405E-2,true]
[6,{"$f":"IF(ROWS(GPS_IMPORT!$1:6)<=COUNTIF(GPS_IMPORT!$A$2:$A$10000,$B$5),INDEX(GPS_IMPORT!$2:$10000,MATCH($B$5,(GPS_IMPORT!$A$2:$A$10000),0)+ROWS($1:6)-1,COLUMN()-1),0)","v":"GS11"},{"$f":"IF(ROWS(GPS_IMPORT!$1:6)<=COUNTIF(GPS_IMPORT!$A$2:$A$10000,$B$5),INDEX(GPS_IMPORT!$2:$10000,MATCH($B$5,(GPS_IMPORT!$A$2:$A$10000),0)+ROWS($1:6)-1,COLUMN()-1),0)","v":"12.18.2018"},{"$f":"IF(ROWS(GPS_IMPORT!$1:6)<=COUNTIF(GPS_IMPORT!$A$2:$A$10000,$B$5),INDEX(GPS_IMPORT!$2:$10000,MATCH($B$5,(GPS_IMPORT!$A$2:$A$10000),0)+ROWS($1:6)-1,COLUMN()-1),0)","v":"11:03:31.680"},{"$f":"IF(ROWS(GPS_IMPORT!$1:6)<=COUNTIF(GPS_IMPORT!$A$2:$A$10000,$B$5),INDEX(GPS_IMPORT!$2:$10000,MATCH($B$5,(GPS_IMPORT!$A$2:$A$10000),0)+ROWS($1:6)-1,COLUMN()-1),0)","v":326771.68775088398},{"$f":"IF(ROWS(GPS_IMPORT!$1:6)<=COUNTIF(GPS_IMPORT!$A$2:$A$10000,$B$5),INDEX(GPS_IMPORT!$2:$10000,MATCH($B$5,(GPS_IMPORT!$A$2:$A$10000),0)+ROWS($1:6)-1,COLUMN()-1),0)","v":2270465.3444622601},{"$f":"IF(ROWS(GPS_IMPORT!$1:6)<=COUNTIF(GPS_IMPORT!$A$2:$A$10000,$B$5),INDEX(GPS_IMPORT!$2:$10000,MATCH($B$5,(GPS_IMPORT!$A$2:$A$10000),0)+ROWS($1:6)-1,COLUMN()-1),0)","v":935.33267794321},-1.7458793066907674E-2,2.6651343330740929E-2,4.6579553192600542E-2,true]
[7,{"$f":"IF(ROWS(GPS_IMPORT!$1:7)<=COUNTIF(GPS_IMPORT!$A$2:$A$10000,$B$5),INDEX(GPS_IMPORT!$2:$10000,MATCH($B$5,(GPS_IMPORT!$A$2:$A$10000),0)+ROWS($1:7)-1,COLUMN()-1),0)","v":"GS11"},{"$f":"IF(ROWS(GPS_IMPORT!$1:7)<=COUNTIF(GPS_IMPORT!$A$2:$A$10000,$B$5),INDEX(GPS_IMPORT!$2:$10000,MATCH($B$5,(GPS_IMPORT!$A$2:$A$10000),0)+ROWS($1:7)-1,COLUMN()-1),0)","v":"12.18.2018"},{"$f":"IF(ROWS(GPS_IMPORT!$1:7)<=COUNTIF(GPS_IMPORT!$A$2:$A$10000,$B$5),INDEX(GPS_IMPORT!$2:$10000,MATCH($B$5,(GPS_IMPORT!$A$2:$A$10000),0)+ROWS($1:7)-1,COLUMN()-1),0)","v":"11:03:43.720"},{"$f":"IF(ROWS(GPS_IMPORT!$1:7)<=COUNTIF(GPS_IMPORT!$A$2:$A$10000,$B$5),INDEX(GPS_IMPORT!$2:$10000,MATCH($B$5,(GPS_IMPORT!$A$2:$A$10000),0)+ROWS($1:7)-1,COLUMN()-1),0)","v":326771.67581628897},{"$f":"IF(ROWS(GPS_IMPORT!$1:7)<=COUNTIF(GPS_IMPORT!$A$2:$A$10000,$B$5),INDEX(GPS_IMPORT!$2:$10000,MATCH($B$5,(GPS_IMPORT!$A$2:$A$10000),0)+ROWS($1:7)-1,COLUMN()-1),0)","v":2270465.3632014198},{"$f":"IF(ROWS(GPS_IMPORT!$1:7)<=COUNTIF(GPS_IMPORT!$A$2:$A$10000,$B$5),INDEX(GPS_IMPORT!$2:$10000,MATCH($B$5,(GPS_IMPORT!$A$2:$A$10000),0)+ROWS($1:7)-1,COLUMN()-1),0)","v":935.35208120664004},-5.5241980589926243E-3,7.9121836461126804E-3,2.717628976256492E-2,true]
[8,{"$f":"IF(ROWS(GPS_IMPORT!$1:8)<=COUNTIF(GPS_IMPORT!$A$2:$A$10000,$B$5),INDEX(GPS_IMPORT!$2:$10000,MATCH($B$5,(GPS_IMPORT!$A$2:$A$10000),0)+ROWS($1:8)-1,COLUMN()-1),0)","v":"GS11"},{"$f":"IF(ROWS(GPS_IMPORT!$1:8)<=COUNTIF(GPS_IMPORT!$A$2:$A$10000,$B$5),INDEX(GPS_IMPORT!$2:$10000,MATCH($B$5,(GPS_IMPORT!$A$2:$A$10000),0)+ROWS($1:8)-1,COLUMN()-1),0)","v":"12.18.2018"},{"$f":"IF(ROWS(GPS_IMPORT!$1:8)<=COUNTIF(GPS_IMPORT!$A$2:$A$10000,$B$5),INDEX(GPS_IMPORT!$2:$10000,MATCH($B$5,(GPS_IMPORT!$A$2:$A$10000),0)+ROWS($1:8)-1,COLUMN()-1),0)","v":"11:04:35.290"},{"$f":"IF(ROWS(GPS_IMPORT!$1:8)<=COUNTIF(GPS_IMPORT!$A$2:$A$10000,$B$5),INDEX(GPS_IMPORT!$2:$10000,MATCH($B$5,(GPS_IMPORT!$A$2:$A$10000),0)+ROWS($1:8)-1,COLUMN()-1),0)","v":326771.66873657203},{"$f":"IF(ROWS(GPS_IMPORT!$1:8)<=COUNTIF(GPS_IMPORT!$A$2:$A$10000,$B$5),INDEX(GPS_IMPORT!$2:$10000,MATCH($B$5,(GPS_IMPORT!$A$2:$A$10000),0)+ROWS($1:8)-1,COLUMN()-1),0)","v":2270465.35718136},{"$f":"IF(ROWS(GPS_IMPORT!$1:8)<=COUNTIF(GPS_IMPORT!$A$2:$A$10000,$B$5),INDEX(GPS_IMPORT!$2:$10000,MATCH($B$5,(GPS_IMPORT!$A$2:$A$10000),0)+ROWS($1:8)-1,COLUMN()-1),0)","v":935.34117883272995},1.5555188874714077E-3,1.3932243455201387E-2,3.8078663672649782E-2,true]
[9,{"$f":"IF(ROWS(GPS_IMPORT!$1:9)<=COUNTIF(GPS_IMPORT!$A$2:$A$10000,$B$5),INDEX(GPS_IMPORT!$2:$10000,MATCH($B$5,(GPS_IMPORT!$A$2:$A$10000),0)+ROWS($1:9)-1,COLUMN()-1),0)","v":"GS11"},{"$f":"IF(ROWS(GPS_IMPORT!$1:9)<=COUNTIF(GPS_IMPORT!$A$2:$A$10000,$B$5),INDEX(GPS_IMPORT!$2:$10000,MATCH($B$5,(GPS_IMPORT!$A$2:$A$10000),0)+ROWS($1:9)-1,COLUMN()-1),0)","v":"12.18.2018"},{"$f":"IF(ROWS(GPS_IMPORT!$1:9)<=COUNTIF(GPS_IMPORT!$A$2:$A$10000,$B$5),INDEX(GPS_IMPORT!$2:$10000,MATCH($B$5,(GPS_IMPORT!$A$2:$A$10000),0)+ROWS($1:9)-1,COLUMN()-1),0)","v":"11:05:10.150"},{"$f":"IF(ROWS(GPS_IMPORT!$1:9)<=COUNTIF(GPS_IMPORT!$A$2:$A$10000,$B$5),INDEX(GPS_IMPORT!$2:$10000,MATCH($B$5,(GPS_IMPORT!$A$2:$A$10000),0)+ROWS($1:9)-1,COLUMN()-1),0)","v":326771.65808441403},{"$f":"IF(ROWS(GPS_IMPORT!$1:9)<=COUNTIF(GPS_IMPORT!$A$2:$A$10000,$B$5),INDEX(GPS_IMPORT!$2:$10000,MATCH($B$5,(GPS_IMPORT!$A$2:$A$10000),0)+ROWS($1:9)-1,COLUMN()-1),0)","v":2270465.3692715401},{"$f":"IF(ROWS(GPS_IMPORT!$1:9)<=COUNTIF(GPS_IMPORT!$A$2:$A$10000,$B$5),INDEX(GPS_IMPORT!$2:$10000,MATCH($B$5,(GPS_IMPORT!$A$2:$A$10000),0)+ROWS($1:9)-1,COLUMN()-1),0)","v":935.41280870087996},1.2207676889374852E-2,1.8420633859932423E-3,-3.3551204477362262E-2,true]
[10,{"$f":"IF(ROWS(GPS_IMPORT!$1:10)<=COUNTIF(GPS_IMPORT!$A$2:$A$10000,$B$5),INDEX(GPS_IMPORT!$2:$10000,MATCH($B$5,(GPS_IMPORT!$A$2:$A$10000),0)+ROWS($1:10)-1,COLUMN()-1),0)","v":"GS11"},{"$f":"IF(ROWS(GPS_IMPORT!$1:10)<=COUNTIF(GPS_IMPORT!$A$2:$A$10000,$B$5),INDEX(GPS_IMPORT!$2:$10000,MATCH($B$5,(GPS_IMPORT!$A$2:$A$10000),0)+ROWS($1:10)-1,COLUMN()-1),0)","v":"12.18.2018"},{"$f":"IF(ROWS(GPS_IMPORT!$1:10)<=COUNTIF(GPS_IMPORT!$A$2:$A$10000,$B$5),INDEX(GPS_IMPORT!$2:$10000,MATCH($B$5,(GPS_IMPORT!$A$2:$A$10000),0)+ROWS($1:10)-1,COLUMN()-1),0)","v":"11:05:21.720"},{"$f":"IF(ROWS(GPS_IMPORT!$1:10)<=COUNTIF(GPS_IMPORT!$A$2:$A$10000,$B$5),INDEX(GPS_IMPORT!$2:$10000,MATCH($B$5,(GPS_IMPORT!$A$2:$A$10000),0)+ROWS($1:10)-1,COLUMN()-1),0)","v":326771.66625044402},{"$f":"IF(ROWS(GPS_IMPORT!$1:10)<=COUNTIF(GPS_IMPORT!$A$2:$A$10000,$B$5),INDEX(GPS_IMPORT!$2:$10000,MATCH($B$5,(GPS_IMPORT!$A$2:$A$10000),0)+ROWS($1:10)-1,COLUMN()-1),0)","v":2270465.36521025},{"$f":"IF(ROWS(GPS_IMPORT!$1:10)<=COUNTIF(GPS_IMPORT!$A$2:$A$10000,$B$5),INDEX(GPS_IMPORT!$2:$10000,MATCH($B$5,(GPS_IMPORT!$A$2:$A$10000),0)+ROWS($1:10)-1,COLUMN()-1),0)","v":935.36886646889002},4.0416468982584774E-3,5.9033534489572048E-3,1.0391027512582696E-2,true]
[11,{"$f":"IF(ROWS(GPS_IMPORT!$1:11)<=COUNTIF(GPS_IMPORT!$A$2:$A$10000,$B$5),INDEX(GPS_IMPORT!$2:$10000,MATCH($B$5,(GPS_IMPORT!$A$2:$A$10000),0)+ROWS($1:11)-1,COLUMN()-1),0)","v":"GS11"},{"$f":"IF(ROWS(GPS_IMPORT!$1:11)<=COUNTIF(GPS_IMPORT!$A$2:$A$10000,$B$5),INDEX(GPS_IMPORT!$2:$10000,MATCH($B$5,(GPS_IMPORT!$A$2:$A$10000),0)+ROWS($1:11)-1,COLUMN()-1),0)","v":"12.18.2018"},{"$f":"IF(ROWS(GPS_IMPORT!$1:11)<=COUNTIF(GPS_IMPORT!$A$2:$A$10000,$B$5),INDEX(GPS_IMPORT!$2:$10000,MATCH($B$5,(GPS_IMPORT!$A$2:$A$10000),0)+ROWS($1:11)-1,COLUMN()-1),0)","v":"11:05:32.710"},{"$f":"IF(ROWS(GPS_IMPORT!$1:11)<=COUNTIF(GPS_IMPORT!$A$2:$A$10000,$B$5),INDEX(GPS_IMPORT!$2:$10000,MATCH($B$5,(GPS_IMPORT!$A$2:$A$10000),0)+ROWS($1:11)-1,COLUMN()-1),0)","v":326771.66042147297},{"$f":"IF(ROWS(GPS_IMPORT!$1:11)<=COUNTIF(GPS_IMPORT!$A$2:$A$10000,$B$5),INDEX(GPS_IMPORT!$2:$10000,MATCH($B$5,(GPS_IMPORT!$A$2:$A$10000),0)+ROWS($1:11)-1,COLUMN()-1),0)","v":2270465.3767055799},{"$f":"IF(ROWS(GPS_IMPORT!$1:11)<=COUNTIF(GPS_IMPORT!$A$2:$A$10000,$B$5),INDEX(GPS_IMPORT!$2:$10000,MATCH($B$5,(GPS_IMPORT!$A$2:$A$10000),0)+ROWS($1:11)-1,COLUMN()-1),0)","v":935.42695012145998},9.8706179414875805E-3,-5.5919764563441277E-3,-4.7692625057379701E-2,true]
[12,{"$f":"IF(ROWS(GPS_IMPORT!$1:12)<=COUNTIF(GPS_IMPORT!$A$2:$A$10000,$B$5),INDEX(GPS_IMPORT!$2:$10000,MATCH($B$5,(GPS_IMPORT!$A$2:$A$10000),0)+ROWS($1:12)-1,COLUMN()-1),0)","v":"GS11"},{"$f":"IF(ROWS(GPS_IMPORT!$1:12)<=COUNTIF(GPS_IMPORT!$A$2:$A$10000,$B$5),INDEX(GPS_IMPORT!$2:$10000,MATCH($B$5,(GPS_IMPORT!$A$2:$A$10000),0)+ROWS($1:12)-1,COLUMN()-1),0)","v":"12.18.2018"},{"$f":"IF(ROWS(GPS_IMPORT!$1:12)<=COUNTIF(GPS_IMPORT!$A$2:$A$10000,$B$5),INDEX(GPS_IMPORT!$2:$10000,MATCH($B$5,(GPS_IMPORT!$A$2:$A$10000),0)+ROWS($1:12)-1,COLUMN()-1),0)","v":"11:05:43.830"},{"$f":"IF(ROWS(GPS_IMPORT!$1:12)<=COUNTIF(GPS_IMPORT!$A$2:$A$10000,$B$5),INDEX(GPS_IMPORT!$2:$10000,MATCH($B$5,(GPS_IMPORT!$A$2:$A$10000),0)+ROWS($1:12)-1,COLUMN()-1),0)","v":326771.66466503002},{"$f":"IF(ROWS(GPS_IMPORT!$1:12)<=COUNTIF(GPS_IMPORT!$A$2:$A$10000,$B$5),INDEX(GPS_IMPORT!$2:$10000,MATCH($B$5,(GPS_IMPORT!$A$2:$A$10000),0)+ROWS($1:12)-1,COLUMN()-1),0)","v":2270465.3732113801},{"$f":"IF(ROWS(GPS_IMPORT!$1:12)<=COUNTIF(GPS_IMPORT!$A$2:$A$10000,$B$5),INDEX(GPS_IMPORT!$2:$10000,MATCH($B$5,(GPS_IMPORT!$A$2:$A$10000),0)+ROWS($1:12)-1,COLUMN()-1),0)","v":935.42630373659995},5.6270608911290765E-3,-2.0977766253054142E-3,-4.7046240197346378E-2,true]
[13,{"$f":"IF(ROWS(GPS_IMPORT!$1:13)<=COUNTIF(GPS_IMPORT!$A$2:$A$10000,$B$5),INDEX(GPS_IMPORT!$2:$10000,MATCH($B$5,(GPS_IMPORT!$A$2:$A$10000),0)+ROWS($1:13)-1,COLUMN()-1),0)","v":0},{"$f":"IF(ROWS(GPS_IMPORT!$1:13)<=COUNTIF(GPS_IMPORT!$A$2:$A$10000,$B$5),INDEX(GPS_IMPORT!$2:$10000,MATCH($B$5,(GPS_IMPORT!$A$2:$A$10000),0)+ROWS($1:13)-1,COLUMN()-1),0)","v":"00:00:00"},{"$f":"IF(ROWS(GPS_IMPORT!$1:13)<=COUNTIF(GPS_IMPORT!$A$2:$A$10000,$B$5),INDEX(GPS_IMPORT!$2:$10000,MATCH($B$5,(GPS_IMPORT!$A$2:$A$10000),0)+ROWS($1:13)-1,COLUMN()-1),0)","v":"00:00:00"},{"$f":"IF(ROWS(GPS_IMPORT!$1:13)<=COUNTIF(GPS_IMPORT!$A$2:$A$10000,$B$5),INDEX(GPS_IMPORT!$2:$10000,MATCH($B$5,(GPS_IMPORT!$A$2:$A$10000),0)+ROWS($1:13)-1,COLUMN()-1),0)","v":0},{"$f":"IF(ROWS(GPS_IMPORT!$1:13)<=COUNTIF(GPS_IMPORT!$A$2:$A$10000,$B$5),INDEX(GPS_IMPORT!$2:$10000,MATCH($B$5,(GPS_IMPORT!$A$2:$A$10000),0)+ROWS($1:13)-1,COLUMN()-1),0)","v":0},{"$f":"IF(ROWS(GPS_IMPORT!$1:13)<=COUNTIF(GPS_IMPORT!$A$2:$A$10000,$B$5),INDEX(GPS_IMPORT!$2:$10000,MATCH($B$5,(GPS_IMPORT!$A$2:$A$10000),0)+ROWS($1:13)-1,COLUMN()-1),0)","v":0},{"$f":"IF(E19>0,E$22-E19,0)","v":0},0,0,false]
[14,{"$f":"IF(ROWS(GPS_IMPORT!$1:14)<=COUNTIF(GPS_IMPORT!$A$2:$A$10000,$B$5),INDEX(GPS_IMPORT!$2:$10000,MATCH($B$5,(GPS_IMPORT!$A$2:$A$10000),0)+ROWS($1:14)-1,COLUMN()-1),0)","v":0},{"$f":"IF(ROWS(GPS_IMPORT!$1:14)<=COUNTIF(GPS_IMPORT!$A$2:$A$10000,$B$5),INDEX(GPS_IMPORT!$2:$10000,MATCH($B$5,(GPS_IMPORT!$A$2:$A$10000),0)+ROWS($1:14)-1,COLUMN()-1),0)","v":"00:00:00"},{"$f":"IF(ROWS(GPS_IMPORT!$1:14)<=COUNTIF(GPS_IMPORT!$A$2:$A$10000,$B$5),INDEX(GPS_IMPORT!$2:$10000,MATCH($B$5,(GPS_IMPORT!$A$2:$A$10000),0)+ROWS($1:14)-1,COLUMN()-1),0)","v":"00:00:00"},{"$f":"IF(ROWS(GPS_IMPORT!$1:14)<=COUNTIF(GPS_IMPORT!$A$2:$A$10000,$B$5),INDEX(GPS_IMPORT!$2:$10000,MATCH($B$5,(GPS_IMPORT!$A$2:$A$10000),0)+ROWS($1:14)-1,COLUMN()-1),0)","v":0},{"$f":"IF(ROWS(GPS_IMPORT!$1:14)<=COUNTIF(GPS_IMPORT!$A$2:$A$10000,$B$5),INDEX(GPS_IMPORT!$2:$10000,MATCH($B$5,(GPS_IMPORT!$A$2:$A$10000),0)+ROWS($1:14)-1,COLUMN()-1),0)","v":0},{"$f":"IF(ROWS(GPS_IMPORT!$1:14)<=COUNTIF(GPS_IMPORT!$A$2:$A$10000,$B$5),INDEX(GPS_IMPORT!$2:$10000,MATCH($B$5,(GPS_IMPORT!$A$2:$A$10000),0)+ROWS($1:14)-1,COLUMN()-1),0)","v":0},0,0,0,false]
[15,{"$f":"IF(ROWS(GPS_IMPORT!$1:15)<=COUNTIF(GPS_IMPORT!$A$2:$A$10000,$B$5),INDEX(GPS_IMPORT!$2:$10000,MATCH($B$5,(GPS_IMPORT!$A$2:$A$10000),0)+ROWS($1:15)-1,COLUMN()-1),0)","v":0},{"$f":"IF(ROWS(GPS_IMPORT!$1:15)<=COUNTIF(GPS_IMPORT!$A$2:$A$10000,$B$5),INDEX(GPS_IMPORT!$2:$10000,MATCH($B$5,(GPS_IMPORT!$A$2:$A$10000),0)+ROWS($1:15)-1,COLUMN()-1),0)","v":"00:00:00"},{"$f":"IF(ROWS(GPS_IMPORT!$1:15)<=COUNTIF(GPS_IMPORT!$A$2:$A$10000,$B$5),INDEX(GPS_IMPORT!$2:$10000,MATCH($B$5,(GPS_IMPORT!$A$2:$A$10000),0)+ROWS($1:15)-1,COLUMN()-1),0)","v":"00:00:00"},{"$f":"IF(ROWS(GPS_IMPORT!$1:15)<=COUNTIF(GPS_IMPORT!$A$2:$A$10000,$B$5),INDEX(GPS_IMPORT!$2:$10000,MATCH($B$5,(GPS_IMPORT!$A$2:$A$10000),0)+ROWS($1:15)-1,COLUMN()-1),0)","v":0},{"$f":"IF(ROWS(GPS_IMPORT!$1:15)<=COUNTIF(GPS_IMPORT!$A$2:$A$10000,$B$5),INDEX(GPS_IMPORT!$2:$10000,MATCH($B$5,(GPS_IMPORT!$A$2:$A$10000),0)+ROWS($1:15)-1,COLUMN()-1),0)","v":0},{"$f":"IF(ROWS(GPS_IMPORT!$1:15)<=COUNTIF(GPS_IMPORT!$A$2:$A$10000,$B$5),INDEX(GPS_IMPORT!$2:$10000,MATCH($B$5,(GPS_IMPORT!$A$2:$A$10000),0)+ROWS($1:15)-1,COLUMN()-1),0)","v":0},0,0,0,false]
[null,null,null,"AVERAGE",{"$f":"(IF($K$7=TRUE,E7,0)+IF($K$8=TRUE,E8,0)+IF($K$9=TRUE,E9,0)+IF($K$10=TRUE,E10,0)+IF($K$11=TRUE,E11,0)+IF($K$12=TRUE,E12,0)+IF($K$13=TRUE,E13,0)+IF($K$14=TRUE,E14,0)+IF($K$15=TRUE,E15,0)+IF($K$16=TRUE,E16,0)+IF($K$17=TRUE,E17,0)+IF($K$18=TRUE,E18,0)+IF($K$19=TRUE,E19,0)+IF($K$20=TRUE,E20,0)+IF($K$21=TRUE,E21,0))/(IF($K$7=TRUE,1,0)+IF($K$8=TRUE,1,0)+IF($K$9=TRUE,1,0)+IF($K$10=TRUE,1,0)+IF($K$11=TRUE,1,0)+IF($K$12=TRUE,1,0)+IF($K$13=TRUE,1,0)+IF($K$14=TRUE,1,0)+IF($K$15=TRUE,1,0)+IF($K$16=TRUE,1,0)+IF($K$17=TRUE,1,0)+IF($K$18=TRUE,1,0)+IF($K$19=TRUE,1,0)+IF($K$20=TRUE,1,0)+IF($K$21=TRUE,1,0))","v":326771.67029209092},{"$f":"(IF($K$7=TRUE,F7,0)+IF($K$8=TRUE,F8,0)+IF($K$9=TRUE,F9,0)+IF($K$10=TRUE,F10,0)+IF($K$11=TRUE,F11,0)+IF($K$12=TRUE,F12,0)+IF($K$13=TRUE,F13,0)+IF($K$14=TRUE,F14,0)+IF($K$15=TRUE,F15,0)+IF($K$16=TRUE,F16,0)+IF($K$17=TRUE,F17,0)+IF($K$18=TRUE,F18,0)+IF($K$19=TRUE,F19,0)+IF($K$20=TRUE,F20,0)+IF($K$21=TRUE,F21,0))/(IF($K$7=TRUE,1,0)+IF($K$8=TRUE,1,0)+IF($K$9=TRUE,1,0)+IF($K$10=TRUE,1,0)+IF($K$11=TRUE,1,0)+IF($K$12=TRUE,1,0)+IF($K$13=TRUE,1,0)+IF($K$14=TRUE,1,0)+IF($K$15=TRUE,1,0)+IF($K$16=TRUE,1,0)+IF($K$17=TRUE,1,0)+IF($K$18=TRUE,1,0)+IF($K$19=TRUE,1,0)+IF($K$20=TRUE,1,0)+IF($K$21=TRUE,1,0))","v":2270465.3711136035},{"$f":"(IF($K$7=TRUE,G7,0)+IF($K$8=TRUE,G8,0)+IF($K$9=TRUE,G9,0)+IF($K$10=TRUE,G10,0)+IF($K$11=TRUE,G11,0)+IF($K$12=TRUE,G12,0)+IF($K$13=TRUE,G13,0)+IF($K$14=TRUE,G14,0)+IF($K$15=TRUE,G15,0)+IF($K$16=TRUE,G16,0)+IF($K$17=TRUE,G17,0)+IF($K$18=TRUE,G18,0)+IF($K$19=TRUE,G19,0)+IF($K$20=TRUE,G20,0)+IF($K$21=TRUE,G21,0))/\n(IF($K$7=TRUE,1,0)+IF($K$8=TRUE,1,0)+IF($K$9=TRUE,1,0)+IF($K$10=TRUE,1,0)+IF($K$11=TRUE,1,0)+IF($K$12=TRUE,1,0)+IF($K$13=TRUE,1,0)+IF($K$14=TRUE,1,0)+IF($K$15=TRUE,1,0)+IF($K$16=TRUE,1,0)+IF($K$17=TRUE,1,0)+IF($K$18=TRUE,1,0)+IF($K$19=TRUE,1,0)+IF($K$20=TRUE,1,0)+IF($K$21=TRUE,1,0))","v":935.3792574964026},"RMSE:","RMSE:","RMSE:"]
[null,null,null,null,null,null,"RMSE IN US SURVEY FEET:",{"$f":"SQRT((\n(IF($K$7=TRUE,H7^2,0))+(IF($K$8=TRUE,H8^2,0))+(IF($K$9=TRUE,H9^2,0))+(IF($K$10=TRUE,H10^2,0))+(IF($K$11=TRUE,H11^2,0))+(IF($K$12=TRUE,H12^2,0))+(IF($K$13=TRUE,H13^2,0))+(IF($K$14=TRUE,H14^2,0))+(IF($K$15=TRUE,H15^2,0))+(IF($K$16=TRUE,H16^2,0))+(IF($K$17=TRUE,H17^2,0))+(IF($K$18=TRUE,H18^2,0))+(IF($K$19=TRUE,H19^2,0))+(IF($K$20=TRUE,H20^2,0))+(IF($K$21=TRUE,H21^2,0)))/\n(IF($K$7=TRUE,1,0)+IF($K$8=TRUE,1,0)+IF($K$9=TRUE,1,0)+IF($K$10=TRUE,1,0)+IF($K$11=TRUE,1,0)+IF($K$12=TRUE,1,0)+IF($K$13=TRUE,1,0)+IF($K$14=TRUE,1,0)+IF($K$15=TRUE,1,0)+IF($K$16=TRUE,1,0)+IF($K$17=TRUE,1,0)+IF($K$18=TRUE,1,0)+IF($K$19=TRUE,1,0)+IF($K$20=TRUE,1,0)+IF($K$21=TRUE,1,0)))","v":8.9314646908017457E-3},{"$f":"SQRT((\n(IF($K$7=TRUE,I7^2,0))+(IF($K$8=TRUE,I8^2,0))+(IF($K$9=TRUE,I9^2,0))+(IF($K$10=TRUE,I10^2,0))+(IF($K$11=TRUE,I11^2,0))+(IF($K$12=TRUE,I12^2,0))+(IF($K$13=TRUE,I13^2,0))+(IF($K$14=TRUE,I14^2,0))+(IF($K$15=TRUE,I15^2,0))+(IF($K$16=TRUE,I16^2,0))+(IF($K$17=TRUE,I17^2,0))+(IF($K$18=TRUE,I18^2,0))+(IF($K$19=TRUE,I19^2,0))+(IF($K$20=TRUE,I20^2,0))+(IF($K$21=TRUE,I21^2,0)))/\n(IF($K$7=TRUE,1,0)+IF($K$8=TRUE,1,0)+IF($K$9=TRUE,1,0)+IF($K$10=TRUE,1,0)+IF($K$11=TRUE,1,0)+IF($K$12=TRUE,1,0)+IF($K$13=TRUE,1,0)+IF($K$14=TRUE,1,0)+IF($K$15=TRUE,1,0)+IF($K$16=TRUE,1,0)+IF($K$17=TRUE,1,0)+IF($K$18=TRUE,1,0)+IF($K$19=TRUE,1,0)+IF($K$20=TRUE,1,0)+IF($K$21=TRUE,1,0)))","v":1.542976958880187E-2},{"$f":"SQRT((\n(IF($K$7=TRUE,J7^2,0))+(IF($K$8=TRUE,J8^2,0))+(IF($K$9=TRUE,J9^2,0))+(IF($K$10=TRUE,J10^2,0))+(IF($K$11=TRUE,J11^2,0))+(IF($K$12=TRUE,J12^2,0))+(IF($K$13=TRUE,J13^2,0))+(IF($K$14=TRUE,J14^2,0))+(IF($K$15=TRUE,J15^2,0))+(IF($K$16=TRUE,J16^2,0))+(IF($K$17=TRUE,J17^2,0))+(IF($K$18=TRUE,J18^2,0))+(IF($K$19=TRUE,J19^2,0))+(IF($K$20=TRUE,J20^2,0))+(IF($K$21=TRUE,J21^2,0)))/\n(IF($K$7=TRUE,1,0)+IF($K$8=TRUE,1,0)+IF($K$9=TRUE,1,0)+IF($K$10=TRUE,1,0)+IF($K$11=TRUE,1,0)+IF($K$12=TRUE,1,0)+IF($K$13=TRUE,1,0)+IF($K$14=TRUE,1,0)+IF($K$15=TRUE,1,0)+IF($K$16=TRUE,1,0)+IF($K$17=TRUE,1,0)+IF($K$18=TRUE,1,0)+IF($K$19=TRUE,1,0)+IF($K$20=TRUE,1,0)+IF($K$21=TRUE,1,0)))","v":3.3243219919529804E-2}]
[null,null,null,1]
[null,null,"UNITLESS GRID TO GROUND MULTIPLIER",{"$f":"IF(REPORT!C13=\"n/a\",\"0.00000000\",REPORT!C13)","v":0},null,null,null,{"$f":"IF(H23<=0.029,\"PASS\",\"FAIL\")","v":"PASS"},{"$f":"IF(I23<=0.029,\"PASS\",\"FAIL\")","v":"PASS"},{"$f":"IF(J23<=0.039,\"PASS\",\"FAIL\")","v":"PASS"}]
[]
["AVERAGED GPS-DERIVED POSITION",null,null,null,null,null,null,null,"Notes:"]
[null,"MONUMENT COORDINATES",null,"NORTHING","EASTING","ORTHO HEIGHT"]
[null,"US Survey Feet (GRID)",null,{"$f":"$E$22","v":326771.67029209092},{"$f":"$F$22","v":2270465.3711136035},{"$f":"$G$22","v":935.3792574964026}]
[]
["LEVELED ELEVATION"]
["US SURVEY FEET",null,"N/A","(Type the leveled elevation or N/A if no leveled elevation is available)"]
["MONUMENT HELD",null,null,"(Type the monument name from which leveling originated)"]
["LEVELED ELEVATION - GPS DERIVED ELEVATION   = ",null,null,null,{"$f":"IF(C32=\"N/A\",\"N/A\",C32-(F29*D24))","v":"N/A"}]
[]
["FINAL MONUMENT COORDINATES"]
[null,"MONUMENT COORDINATES",null,"NORTHING","EASTING","ELEVATION","FEATURE CODE"]
[null,"US SURVEY FEET (GRID)",null,{"$f":"$E$22*$D$24","v":326771.67029209092},{"$f":"$F$22*$D$24","v":2270465.3711136035},{"$f":"IF($C$32=\"N/A\",($G$22*$D$24),$C$32)","v":935.3792574964026},"AERTAR"]
[null,"US SURVEY FEET (GROUND)",null,{"$f":"$D$38*$D$25","v":0},{"$f":"$E$38*$D$25","v":0},{"$f":"IF($C$32=\"N/A\",($G$22*$D$24),$C$32)","v":935.3792574964026},{"$f":"G38","v":"AERTAR"}]
[]
["∆ North,  ∆ East, and ∆ Ht. are the difference between the average northing, easting, and height for each observation.",null,null,null,null,null,null,null,"Mask Angle:","10°"]

{"sheet":"GS12","index":18,"n_rows":41,"n_cols":11,"rows_kept":41,"cut":false,"hidden":false,"merged":[[0,0,0,10],[26,0,26,6],[27,1,27,2],[27,8,38,10],[28,1,28,2],[30,0,30,6],[35,0,35,6],[36,1,36,2],[37,1,37,2],[38,1,38,2]]}
["VRS GNSS Project Control Monument Coordinate Analysis"]
[]
["Project:",{"$f":"REPORT!B2","v":"TUS-800-22.74"},"GPS Antenna:","LEICA GS14",null,null,null,null,null,"Report Date:",{"$f":"REPORT!C49","v":"2018-12-19"}]
["PID:",{"$f":"REPORT!E2","v":100603},"VRS Network:","ODOT VRS",null,null,null,null,null,"Prepared By:",{"$f":"REPORT!C48","v":"Kolton Wilson"}]
["Point ID:","GS12","No. of Sessions:",{"$f":"COUNTIF(GPS_IMPORT!A2:A1000,$B$5)","v":12},null,null,null,null,null,"Checked By:",{"$f":"REPORT!C52","v":"Joel Swick"}]
["SESSION #","Point","Observation Date","Start Time","Northing(sft)","Easting(sft)","Height(sft)","∆ Northing(sft)","∆ Easting(sft)","∆ Height(sft)","Include in Solution?"]
[1,{"$f":"IF(ROWS(GPS_IMPORT!$1:1)<=COUNTIF(GPS_IMPORT!$A$2:$A$10000,$B$5),INDEX(GPS_IMPORT!$2:$10000,MATCH($B$5,(GPS_IMPORT!$A$2:$A$10000),0)+ROWS($1:1)-1,COLUMN()-1),0)","v":"GS12"},{"$f":"IF(ROWS(GPS_IMPORT!$1:1)<=COUNTIF(GPS_IMPORT!$A$2:$A$10000,$B$5),INDEX(GPS_IMPORT!$2:$10000,MATCH($B$5,(GPS_IMPORT!$A$2:$A$10000),0)+ROWS($1:1)-1,COLUMN()-1),0)","v":"12.18.2018"},{"$f":"IF(ROWS(GPS_IMPORT!$1:1)<=COUNTIF(GPS_IMPORT!$A$2:$A$10000,$B$5),INDEX(GPS_IMPORT!$2:$10000,MATCH($B$5,(GPS_IMPORT!$A$2:$A$10000),0)+ROWS($1:1)-1,COLUMN()-1),0)","v":"11:08:01.130"},{"$f":"IF(ROWS(GPS_IMPORT!$1:1)<=COUNTIF(GPS_IMPORT!$A$2:$A$10000,$B$5),INDEX(GPS_IMPORT!$2:$10000,MATCH($B$5,(GPS_IMPORT!$A$2:$A$10000),0)+ROWS($1:1)-1,COLUMN()-1),0)","v":328167.64797190001},{"$f":"IF(ROWS(GPS_IMPORT!$1:1)<=COUNTIF(GPS_IMPORT!$A$2:$A$10000,$B$5),INDEX(GPS_IMPORT!$2:$10000,MATCH($B$5,(GPS_IMPORT!$A$2:$A$10000),0)+ROWS($1:1)-1,COLUMN()-1),0)","v":2271461.38672408},{"$f":"IF(ROWS(GPS_IMPORT!$1:1)<=COUNTIF(GPS_IMPORT!$A$2:$A$10000,$B$5),INDEX(GPS_IMPORT!$2:$10000,MATCH($B$5,(GPS_IMPORT!$A$2:$A$10000),0)+ROWS($1:1)-1,COLUMN()-1),0)","v":928.81205837832999},{"$f":"IF(E7>0,E$22-E7,0)","v":4.3052760884165764E-3},8.3438586443662643E-4,-1.9268277693186064E-2,true]
[2,{"$f":"IF(ROWS(GPS_IMPORT!$1:2)<=COUNTIF(GPS_IMPORT!$A$2:$A$10000,$B$5),INDEX(GPS_IMPORT!$2:$10000,MATCH($B$5,(GPS_IMPORT!$A$2:$A$10000),0)+ROWS($1:2)-1,COLUMN()-1),0)","v":"GS12"},{"$f":"IF(ROWS(GPS_IMPORT!$1:2)<=COUNTIF(GPS_IMPORT!$A$2:$A$10000,$B$5),INDEX(GPS_IMPORT!$2:$10000,MATCH($B$5,(GPS_IMPORT!$A$2:$A$10000),0)+ROWS($1:2)-1,COLUMN()-1),0)","v":"12.18.2018"},{"$f":"IF(ROWS(GPS_IMPORT!$1:2)<=COUNTIF(GPS_IMPORT!$A$2:$A$10000,$B$5),INDEX(GPS_IMPORT!$2:$10000,MATCH($B$5,(GPS_IMPORT!$A$2:$A$10000),0)+ROWS($1:2)-1,COLUMN()-1),0)","v":"11:08:13"},{"$f":"IF(ROWS(GPS_IMPORT!$1:2)<=COUNTIF(GPS_IMPORT!$A$2:$A$10000,$B$5),INDEX(GPS_IMPORT!$2:$10000,MATCH($B$5,(GPS_IMPORT!$A$2:$A$10000),0)+ROWS($1:2)-1,COLUMN()-1),0)","v":328167.65847426699},{"$f":"IF(ROWS(GPS_IMPORT!$1:2)<=COUNTIF(GPS_IMPORT!$A$2:$A$10000,$B$5),INDEX(GPS_IMPORT!$2:$10000,MATCH($B$5,(GPS_IMPORT!$A$2:$A$10000),0)+ROWS($1:2)-1,COLUMN()-1),0)","v":2271461.3863661801},{"$f":"IF(ROWS(GPS_IMPORT!$1:2)<=COUNTIF(GPS_IMPORT!$A$2:$A$10000,$B$5),INDEX(GPS_IMPORT!$2:$10000,MATCH($B$5,(GPS_IMPORT!$A$2:$A$10000),0)+ROWS($1:2)-1,COLUMN()-1),0)","v":928.81565172408},-6.1970909009687603E-3,1.1922856792807579E-3,-2.2861623443191093E-2,true]
[3,{"$f":"IF(ROWS(GPS_IMPORT!$1:3)<=COUNTIF(GPS_IMPORT!$A$2:$A$10000,$B$5),INDEX(GPS_IMPORT!$2:$10000,MATCH($B$5,(GPS_IMPORT!$A$2:$A$10000),0)+ROWS($1:3)-1,COLUMN()-1),0)","v":"GS12"},{"$f":"IF(ROWS(GPS_IMPORT!$1:3)<=COUNTIF(GPS_IMPORT!$A$2:$A$10000,$B$5),INDEX(GPS_IMPORT!$2:$10000,MATCH($B$5,(GPS_IMPORT!$A$2:$A$10000),0)+ROWS($1:3)-1,COLUMN()-1),0)","v":"12.18.2018"},{"$f":"IF(ROWS(GPS_IMPORT!$1:3)<=COUNTIF(GPS_IMPORT!$A$2:$A$10000,$B$5),INDEX(GPS_IMPORT!$2:$10000,MATCH($B$5,(GPS_IMPORT!$A$2:$A$10000),0)+ROWS($1:3)-1,COLUMN()-1),0)","v":"11:08:25.090"},{"$f":"IF(ROWS(GPS_IMPORT!$1:3)<=COUNTIF(GPS_IMPORT!$A$2:$A$10000,$B$5),INDEX(GPS_IMPORT!$2:$10000,MATCH($B$5,(GPS_IMPORT!$A$2:$A$10000),0)+ROWS($1:3)-1,COLUMN()-1),0)","v":328167.65937827597},{"$f":"IF(ROWS(GPS_IMPORT!$1:3)<=COUNTIF(GPS_IMPORT!$A$2:$A$10000,$B$5),INDEX(GPS_IMPORT!$2:$10000,MATCH($B$5,(GPS_IMPORT!$A$2:$A$10000),0)+ROWS($1:3)-1,COLUMN()-1),0)","v":2271461.38639986},{"$f":"IF(ROWS(GPS_IMPORT!$1:3)<=COUNTIF(GPS_IMPORT!$A$2:$A$10000,$B$5),INDEX(GPS_IMPORT!$2:$10000,MATCH($B$5,(GPS_IMPORT!$A$2:$A$10000),0)+ROWS($1:3)-1,COLUMN()-1),0)","v":928.81391367124002},-7.1010998799465597E-3,1.158605795353651E-3,-2.1123570603208464E-2,true]
[4,{"$f":"IF(ROWS(GPS_IMPORT!$1:4)<=COUNTIF(GPS_IMPORT!$A$2:$A$10000,$B$5),INDEX(GPS_IMPORT!$2:$10000,MATCH($B$5,(GPS_IMPORT!$A$2:$A$10000),0)+ROWS($1:4)-1,COLUMN()-1),0)","v":"GS12"},{"$f":"IF(ROWS(GPS_IMPORT!$1:4)<=COUNTIF(GPS_IMPORT!$A$2:$A$10000,$B$5),INDEX(GPS_IMPORT!$2:$10000,MATCH($B$5,(GPS_IMPORT!$A$2:$A$10000),0)+ROWS($1:4)-1,COLUMN()-1),0)","v":"12.18.2018"},{"$f":"IF(ROWS(GPS_IMPORT!$1:4)<=COUNTIF(GPS_IMPORT!$A$2:$A$10000,$B$5),INDEX(GPS_IMPORT!$2:$10000,MATCH($B$5,(GPS_IMPORT!$A$2:$A$10000),0)+ROWS($1:4)-1,COLUMN()-1),0)","v":"11:08:37.790"},{"$f":"IF(ROWS(GPS_IMPORT!$1:4)<=COUNTIF(GPS_IMPORT!$A$2:$A$10000,$B$5),INDEX(GPS_IMPORT!$2:$10000,MATCH($B$5,(GPS_IMPORT!$A$2:$A$10000),0)+ROWS($1:4)-1,COLUMN()-1),0)","v":328167.64818169299},{"$f":"IF(ROWS(GPS_IMPORT!$1:4)<=COUNTIF(GPS_IMPORT!$A$2:$A$10000,$B$5),INDEX(GPS_IMPORT!$2:$10000,MATCH($B$5,(GPS_IMPORT!$A$2:$A$10000),0)+ROWS($1:4)-1,COLUMN()-1),0)","v":2271461.3874973599},{"$f":"IF(ROWS(GPS_IMPORT!$1:4)<=COUNTIF(GPS_IMPORT!$A$2:$A$10000,$B$5),INDEX(GPS_IMPORT!$2:$10000,MATCH($B$5,(GPS_IMPORT!$A$2:$A$10000),0)+ROWS($1:4)-1,COLUMN()-1),0)","v":928.80379641168997},4.0954831056296825E-3,6.1105936765670776E-5,-1.1006311053165518E-2,true]
[5,{"$f":"IF(ROWS(GPS_IMPORT!$1:5)<=COUNTIF(GPS_IMPORT!$A$2:$A$10000,$B$5),INDEX(GPS_IMPORT!$2:$10000,MATCH($B$5,(GPS_IMPORT!$A$2:$A$10000),0)+ROWS($1:5)-1,COLUMN()-1),0)","v":"GS12"},{"$f":"IF(ROWS(GPS_IMPORT!$1:5)<=COUNTIF(GPS_IMPORT!$A$2:$A$10000,$B$5),INDEX(GPS_IMPORT!$2:$10000,MATCH($B$5,(GPS_IMPORT!$A$2:$A$10000),0)+ROWS($1:5)-1,COLUMN()-1),0)","v":"12.18.2018"},{"$f":"IF(ROWS(GPS_IMPORT!$1:5)<=COUNTIF(GPS_IMPORT!$A$2:$A$10000,$B$5),INDEX(GPS_IMPORT!$2:$10000,MATCH($B$5,(GPS_IMPORT!$A$2:$A$10000),0)+ROWS($1:5)-1,COLUMN()-1),0)","v":"11:09:00.160"},{"$f":"IF(ROWS(GPS_IMPORT!$1:5)<=COUNTIF(GPS_IMPORT!$A$2:$A$10000,$B$5),INDEX(GPS_IMPORT!$2:$10000,MATCH($B$5,(GPS_IMPORT!$A$2:$A$10000),0)+ROWS($1:5)-1,COLUMN()-1),0)","v":328167.62700860598},{"$f":"IF(ROWS(GPS_IMPORT!$1:5)<=COUNTIF(GPS_IMPORT!$A$2:$A$10000,$B$5),INDEX(GPS_IMPORT!$2:$10000,MATCH($B$5,(GPS_IMPORT!$A$2:$A$10000),0)+ROWS($1:5)-1,COLUMN()-1),0)","v":2271461.3763353899},{"$f":"IF(ROWS(GPS_IMPORT!$1:5)<=COUNTIF(GPS_IMPORT!$A$2:$A$10000,$B$5),INDEX(GPS_IMPORT!$2:$10000,MATCH($B$5,(GPS_IMPORT!$A$2:$A$10000),0)+ROWS($1:5)-1,COLUMN()-1),0)","v":928.75628963828001},2.5268570112530142E-2,1.1223075911402702E-2,3.650046235679838E-2,true]
[6,{"$f":"IF(ROWS(GPS_IMPORT!$1:6)<=COUNTIF(GPS_IMPORT!$A$2:$A$10000,$B$5),INDEX(GPS_IMPORT!$2:$10000,MATCH($B$5,(GPS_IMPORT!$A$2:$A$10000),0)+ROWS($1:6)-1,COLUMN()-1),0)","v":"GS12"},{"$f":"IF(ROWS(GPS_IMPORT!$1:6)<=COUNTIF(GPS_IMPORT!$A$2:$A$10000,$B$5),INDEX(GPS_IMPORT!$2:$10000,MATCH($B$5,(GPS_IMPORT!$A$2:$A$10000),0)+ROWS($1:6)-1,COLUMN()-1),0)","v":"12.18.2018"},{"$f":"IF(ROWS(GPS_IMPORT!$1:6)<=COUNTIF(GPS_IMPORT!$A$2:$A$10000,$B$5),INDEX(GPS_IMPORT!$2:$10000,MATCH($B$5,(GPS_IMPORT!$A$2:$A$10000),0)+ROWS($1:6)-1,COLUMN()-1),0)","v":"11:09:12.100"},{"$f":"IF(ROWS(GPS_IMPORT!$1:6)<=COUNTIF(GPS_IMPORT!$A$2:$A$10000,$B$5),INDEX(GPS_IMPORT!$2:$10000,MATCH($B$5,(GPS_IMPORT!$A$2:$A$10000),0)+ROWS($1:6)-1,COLUMN()-1),0)","v":328167.64202413999},{"$f":"IF(ROWS(GPS_IMPORT!$1:6)<=COUNTIF(GPS_IMPORT!$A$2:$A$10000,$B$5),INDEX(GPS_IMPORT!$2:$10000,MATCH($B$5,(GPS_IMPORT!$A$2:$A$10000),0)+ROWS($1:6)-1,COLUMN()-1),0)","v":2271461.3824640098},{"$f":"IF(ROWS(GPS_IMPORT!$1:6)<=COUNTIF(GPS_IMPORT!$A$2:$A$10000,$B$5),INDEX(GPS_IMPORT!$2:$10000,MATCH($B$5,(GPS_IMPORT!$A$2:$A$10000),0)+ROWS($1:6)-1,COLUMN()-1),0)","v":928.77759364539997},1.0253036103677005E-2,5.0944560207426548E-3,1.5196455236832662E-2,true]
[7,{"$f":"IF(ROWS(GPS_IMPORT!$1:7)<=COUNTIF(GPS_IMPORT!$A$2:$A$10000,$B$5),INDEX(GPS_IMPORT!$2:$10000,MATCH($B$5,(GPS_IMPORT!$A$2:$A$10000),0)+ROWS($1:7)-1,COLUMN()-1),0)","v":"GS12"},{"$f":"IF(ROWS(GPS_IMPORT!$1:7)<=COUNTIF(GPS_IMPORT!$A$2:$A$10000,$B$5),INDEX(GPS_IMPORT!$2:$10000,MATCH($B$5,(GPS_IMPORT!$A$2:$A$10000),0)+ROWS($1:7)-1,COLUMN()-1),0)","v":"12.18.2018"},{"$f":"IF(ROWS(GPS_IMPORT!$1:7)<=COUNTIF(GPS_IMPORT!$A$2:$A$10000,$B$5),INDEX(GPS_IMPORT!$2:$10000,MATCH($B$5,(GPS_IMPORT!$A$2:$A$10000),0)+ROWS($1:7)-1,COLUMN()-1),0)","v":"11:09:24.070"},{"$f":"IF(ROWS(GPS_IMPORT!$1:7)<=COUNTIF(GPS_IMPORT!$A$2:$A$10000,$B$5),INDEX(GPS_IMPORT!$2:$10000,MATCH($B$5,(GPS_IMPORT!$A$2:$A$10000),0)+ROWS($1:7)-1,COLUMN()-1),0)","v":328167.68439645099},{"$f":"IF(ROWS(GPS_IMPORT!$1:7)<=COUNTIF(GPS_IMPORT!$A$2:$A$10000,$B$5),INDEX(GPS_IMPORT!$2:$10000,MATCH($B$5,(GPS_IMPORT!$A$2:$A$10000),0)+ROWS($1:7)-1,COLUMN()-1),0)","v":2271461.3960544802},{"$f":"IF(ROWS(GPS_IMPORT!$1:7)<=COUNTIF(GPS_IMPORT!$A$2:$A$10000,$B$5),INDEX(GPS_IMPORT!$2:$10000,MATCH($B$5,(GPS_IMPORT!$A$2:$A$10000),0)+ROWS($1:7)-1,COLUMN()-1),0)","v":928.80250029314004},-3.2119274896103889E-2,-8.4960144013166428E-3,-9.7101925032347935E-3,true]
[8,{"$f":"IF(ROWS(GPS_IMPORT!$1:8)<=COUNTIF(GPS_IMPORT!$A$2:$A$10000,$B$5),INDEX(GPS_IMPORT!$2:$10000,MATCH($B$5,(GPS_IMPORT!$A$2:$A$10000),0)+ROWS($1:8)-1,COLUMN()-1),0)","v":"GS12"},{"$f":"IF(ROWS(GPS_IMPORT!$1:8)<=COUNTIF(GPS_IMPORT!$A$2:$A$10000,$B$5),INDEX(GPS_IMPORT!$2:$10000,MATCH($B$5,(GPS_IMPORT!$A$2:$A$10000),0)+ROWS($1:8)-1,COLUMN()-1),0)","v":"12.18.2018"},{"$f":"IF(ROWS(GPS_IMPORT!$1:8)<=COUNTIF(GPS_IMPORT!$A$2:$A$10000,$B$5),INDEX(GPS_IMPORT!$2:$10000,MATCH($B$5,(GPS_IMPORT!$A$2:$A$10000),0)+ROWS($1:8)-1,COLUMN()-1),0)","v":"11:09:35.980"},{"$f":"IF(ROWS(GPS_IMPORT!$1:8)<=COUNTIF(GPS_IMPORT!$A$2:$A$10000,$B$5),INDEX(GPS_IMPORT!$2:$10000,MATCH($B$5,(GPS_IMPORT!$A$2:$A$10000),0)+ROWS($1:8)-1,COLUMN()-1),0)","v":328167.64454245102},{"$f":"IF(ROWS(GPS_IMPORT!$1:8)<=COUNTIF(GPS_IMPORT!$A$2:$A$10000,$B$5),INDEX(GPS_IMPORT!$2:$10000,MATCH($B$5,(GPS_IMPORT!$A$2:$A$10000),0)+ROWS($1:8)-1,COLUMN()-1),0)","v":2271461.3836399298},{"$f":"IF(ROWS(GPS_IMPORT!$1:8)<=COUNTIF(GPS_IMPORT!$A$2:$A$10000,$B$5),INDEX(GPS_IMPORT!$2:$10000,MATCH($B$5,(GPS_IMPORT!$A$2:$A$10000),0)+ROWS($1:8)-1,COLUMN()-1),0)","v":928.76485428110004},7.7347250771708786E-3,3.9185360074043274E-3,2.7935819536764939E-2,true]
[9,{"$f":"IF(ROWS(GPS_IMPORT!$1:9)<=COUNTIF(GPS_IMPORT!$A$2:$A$10000,$B$5),INDEX(GPS_IMPORT!$2:$10000,MATCH($B$5,(GPS_IMPORT!$A$2:$A$10000),0)+ROWS($1:9)-1,COLUMN()-1),0)","v":"GS12"},{"$f":"IF(ROWS(GPS_IMPORT!$1:9)<=COUNTIF(GPS_IMPORT!$A$2:$A$10000,$B$5),INDEX(GPS_IMPORT!$2:$10000,MATCH($B$5,(GPS_IMPORT!$A$2:$A$10000),0)+ROWS($1:9)-1,COLUMN()-1),0)","v":"12.18.2018"},{"$f":"IF(ROWS(GPS_IMPORT!$1:9)<=COUNTIF(GPS_IMPORT!$A$2:$A$10000,$B$5),INDEX(GPS_IMPORT!$2:$10000,MATCH($B$5,(GPS_IMPORT!$A$2:$A$10000),0)+ROWS($1:9)-1,COLUMN()-1),0)","v":"11:09:55.060"},{"$f":"IF(ROWS(GPS_IMPORT!$1:9)<=COUNTIF(GPS_IMPORT!$A$2:$A$10000,$B$5),INDEX(GPS_IMPORT!$2:$10000,MATCH($B$5,(GPS_IMPORT!$A$2:$A$10000),0)+ROWS($1:9)-1,COLUMN()-1),0)","v":328167.63826201},{"$f":"IF(ROWS(GPS_IMPORT!$1:9)<=COUNTIF(GPS_IMPORT!$A$2:$A$10000,$B$5),INDEX(GPS_IMPORT!$2:$10000,MATCH($B$5,(GPS_IMPORT!$A$2:$A$10000),0)+ROWS($1:9)-1,COLUMN()-1),0)","v":2271461.3941856902},{"$f":"IF(ROWS(GPS_IMPORT!$1:9)<=COUNTIF(GPS_IMPORT!$A$2:$A$10000,$B$5),INDEX(GPS_IMPORT!$2:$10000,MATCH($B$5,(GPS_IMPORT!$A$2:$A$10000),0)+ROWS($1:9)-1,COLUMN()-1),0)","v":928.81217257512003},1.4015166088938713E-2,-6.6272243857383728E-3,-1.9382474483222722E-2,true]
[10,{"$f":"IF(ROWS(GPS_IMPORT!$1:10)<=COUNTIF(GPS_IMPORT!$A$2:$A$10000,$B$5),INDEX(GPS_IMPORT!$2:$10000,MATCH($B$5,(GPS_IMPORT!$A$2:$A$10000),0)+ROWS($1:10)-1,COLUMN()-1),0)","v":"GS12"},{"$f":"IF(ROWS(GPS_IMPORT!$1:10)<=COUNTIF(GPS_IMPORT!$A$2:$A$10000,$B$5),INDEX(GPS_IMPORT!$2:$10000,MATCH($B$5,(GPS_IMPORT!$A$2:$A$10000),0)+ROWS($1:10)-1,COLUMN()-1),0)","v":"12.18.2018"},{"$f":"IF(ROWS(GPS_IMPORT!$1:10)<=COUNTIF(GPS_IMPORT!$A$2:$A$10000,$B$5),INDEX(GPS_IMPORT!$2:$10000,MATCH($B$5,(GPS_IMPORT!$A$2:$A$10000),0)+ROWS($1:10)-1,COLUMN()-1),0)","v":"11:10:06.800"},{"$f":"IF(ROWS(GPS_IMPORT!$1:10)<=COUNTIF(GPS_IMPORT!$A$2:$A$10000,$B$5),INDEX(GPS_IMPORT!$2:$10000,MATCH($B$5,(GPS_IMPORT!$A$2:$A$10000),0)+ROWS($1:10)-1,COLUMN()-1),0)","v":328167.64095905802},{"$f":"IF(ROWS(GPS_IMPORT!$1:10)<=COUNTIF(GPS_IMPORT!$A$2:$A$10000,$B$5),INDEX(GPS_IMPORT!$2:$10000,MATCH($B$5,(GPS_IMPORT!$A$2:$A$10000),0)+ROWS($1:10)-1,COLUMN()-1),0)","v":2271461.3896474298},{"$f":"IF(ROWS(GPS_IMPORT!$1:10)<=COUNTIF(GPS_IMPORT!$A$2:$A$10000,$B$5),INDEX(GPS_IMPORT!$2:$10000,MATCH($B$5,(GPS_IMPORT!$A$2:$A$10000),0)+ROWS($1:10)-1,COLUMN()-1),0)","v":928.79445195888002},1.1318118078634143E-2,-2.0889639854431152E-3,-1.6618582432101903E-3,true]
[11,{"$f":"IF(ROWS(GPS_IMPORT!$1:11)<=COUNTIF(GPS_IMPORT!$A$2:$A$10000,$B$5),INDEX(GPS_IMPORT!$2:$10000,MATCH($B$5,(GPS_IMPORT!$A$2:$A$10000),0)+ROWS($1:11)-1,COLUMN()-1),0)","v":"GS12"},{"$f":"IF(ROWS(GPS_IMPORT!$1:11)<=COUNTIF(GPS_IMPORT!$A$2:$A$10000,$B$5),INDEX(GPS_IMPORT!$2:$10000,MATCH($B$5,(GPS_IMPORT!$A$2:$A$10000),0)+ROWS($1:11)-1,COLUMN()-1),0)","v":"12.18.2018"},{"$f":"IF(ROWS(GPS_IMPORT!$1:11)<=COUNTIF(GPS_IMPORT!$A$2:$A$10000,$B$5),INDEX(GPS_IMPORT!$2:$10000,MATCH($B$5,(GPS_IMPORT!$A$2:$A$10000),0)+ROWS($1:11)-1,COLUMN()-1),0)","v":"11:11:14.030"},{"$f":"IF(ROWS(GPS_IMPORT!$1:11)<=COUNTIF(GPS_IMPORT!$A$2:$A$10000,$B$5),INDEX(GPS_IMPORT!$2:$10000,MATCH($B$5,(GPS_IMPORT!$A$2:$A$10000),0)+ROWS($1:11)-1,COLUMN()-1),0)","v":328167.66537626099},{"$f":"IF(ROWS(GPS_IMPORT!$1:11)<=COUNTIF(GPS_IMPORT!$A$2:$A$10000,$B$5),INDEX(GPS_IMPORT!$2:$10000,MATCH($B$5,(GPS_IMPORT!$A$2:$A$10000),0)+ROWS($1:11)-1,COLUMN()-1),0)","v":2271461.3900945098},{"$f":"IF(ROWS(GPS_IMPORT!$1:11)<=COUNTIF(GPS_IMPORT!$A$2:$A$10000,$B$5),INDEX(GPS_IMPORT!$2:$10000,MATCH($B$5,(GPS_IMPORT!$A$2:$A$10000),0)+ROWS($1:11)-1,COLUMN()-1),0)","v":928.78349750983},-1.3099084899295121E-2,-2.5360439904034138E-3,9.2925908068082208E-3,true]
[12,{"$f":"IF(ROWS(GPS_IMPORT!$1:12)<=COUNTIF(GPS_IMPORT!$A$2:$A$10000,$B$5),INDEX(GPS_IMPORT!$2:$10000,MATCH($B$5,(GPS_IMPORT!$A$2:$A$10000),0)+ROWS($1:12)-1,COLUMN()-1),0)","v":"GS12"},{"$f":"IF(ROWS(GPS_IMPORT!$1:12)<=COUNTIF(GPS_IMPORT!$A$2:$A$10000,$B$5),INDEX(GPS_IMPORT!$2:$10000,MATCH($B$5,(GPS_IMPORT!$A$2:$A$10000),0)+ROWS($1:12)-1,COLUMN()-1),0)","v":"12.18.2018"},{"$f":"IF(ROWS(GPS_IMPORT!$1:12)<=COUNTIF(GPS_IMPORT!$A$2:$A$10000,$B$5),INDEX(GPS_IMPORT!$2:$10000,MATCH($B$5,(GPS_IMPORT!$A$2:$A$10000),0)+ROWS($1:12)-1,COLUMN()-1),0)","v":"11:11:26.290"},{"$f":"IF(ROWS(GPS_IMPORT!$1:12)<=COUNTIF(GPS_IMPORT!$A$2:$A$10000,$B$5),INDEX(GPS_IMPORT!$2:$10000,MATCH($B$5,(GPS_IMPORT!$A$2:$A$10000),0)+ROWS($1:12)-1,COLUMN()-1),0)","v":328167.67075100099},{"$f":"IF(ROWS(GPS_IMPORT!$1:12)<=COUNTIF(GPS_IMPORT!$A$2:$A$10000,$B$5),INDEX(GPS_IMPORT!$2:$10000,MATCH($B$5,(GPS_IMPORT!$A$2:$A$10000),0)+ROWS($1:12)-1,COLUMN()-1),0)","v":2271461.3912926698},{"$f":"IF(ROWS(GPS_IMPORT!$1:12)<=COUNTIF(GPS_IMPORT!$A$2:$A$10000,$B$5),INDEX(GPS_IMPORT!$2:$10000,MATCH($B$5,(GPS_IMPORT!$A$2:$A$10000),0)+ROWS($1:12)-1,COLUMN()-1),0)","v":928.77670112055},-1.8473824893590063E-2,-3.7342039868235588E-3,1.6088980086806259E-2,true]
[13,{"$f":"IF(ROWS(GPS_IMPORT!$1:13)<=COUNTIF(GPS_IMPORT!$A$2:$A$10000,$B$5),INDEX(GPS_IMPORT!$2:$10000,MATCH($B$5,(GPS_IMPORT!$A$2:$A$10000),0)+ROWS($1:13)-1,COLUMN()-1),0)","v":0},{"$f":"IF(ROWS(GPS_IMPORT!$1:13)<=COUNTIF(GPS_IMPORT!$A$2:$A$10000,$B$5),INDEX(GPS_IMPORT!$2:$10000,MATCH($B$5,(GPS_IMPORT!$A$2:$A$10000),0)+ROWS($1:13)-1,COLUMN()-1),0)","v":"00:00:00"},{"$f":"IF(ROWS(GPS_IMPORT!$1:13)<=COUNTIF(GPS_IMPORT!$A$2:$A$10000,$B$5),INDEX(GPS_IMPORT!$2:$10000,MATCH($B$5,(GPS_IMPORT!$A$2:$A$10000),0)+ROWS($1:13)-1,COLUMN()-1),0)","v":"00:00:00"},{"$f":"IF(ROWS(GPS_IMPORT!$1:13)<=COUNTIF(GPS_IMPORT!$A$2:$A$10000,$B$5),INDEX(GPS_IMPORT!$2:$10000,MATCH($B$5,(GPS_IMPORT!$A$2:$A$10000),0)+ROWS($1:13)-1,COLUMN()-1),0)","v":0},{"$f":"IF(ROWS(GPS_IMPORT!$1:13)<=COUNTIF(GPS_IMPORT!$A$2:$A$10000,$B$5),INDEX(GPS_IMPORT!$2:$10000,MATCH($B$5,(GPS_IMPORT!$A$2:$A$10000),0)+ROWS($1:13)-1,COLUMN()-1),0)","v":0},{"$f":"IF(ROWS(GPS_IMPORT!$1:13)<=COUNTIF(GPS_IMPORT!$A$2:$A$10000,$B$5),INDEX(GPS_IMPORT!$2:$10000,MATCH($B$5,(GPS_IMPORT!$A$2:$A$10000),0)+ROWS($1:13)-1,COLUMN()-1),0)","v":0},{"$f":"IF(E19>0,E$22-E19,0)","v":0},0,0,false]
[14,{"$f":"IF(ROWS(GPS_IMPORT!$1:14)<=COUNTIF(GPS_IMPORT!$A$2:$A$10000,$B$5),INDEX(GPS_IMPORT!$2:$10000,MATCH($B$5,(GPS_IMPORT!$A$2:$A$10000),0)+ROWS($1:14)-1,COLUMN()-1),0)","v":0},{"$f":"IF(ROWS(GPS_IMPORT!$1:14)<=COUNTIF(GPS_IMPORT!$A$2:$A$10000,$B$5),INDEX(GPS_IMPORT!$2:$10000,MATCH($B$5,(GPS_IMPORT!$A$2:$A$10000),0)+ROWS($1:14)-1,COLUMN()-1),0)","v":"00:00:00"},{"$f":"IF(ROWS(GPS_IMPORT!$1:14)<=COUNTIF(GPS_IMPORT!$A$2:$A$10000,$B$5),INDEX(GPS_IMPORT!$2:$10000,MATCH($B$5,(GPS_IMPORT!$A$2:$A$10000),0)+ROWS($1:14)-1,COLUMN()-1),0)","v":"00:00:00"},{"$f":"IF(ROWS(GPS_IMPORT!$1:14)<=COUNTIF(GPS_IMPORT!$A$2:$A$10000,$B$5),INDEX(GPS_IMPORT!$2:$10000,MATCH($B$5,(GPS_IMPORT!$A$2:$A$10000),0)+ROWS($1:14)-1,COLUMN()-1),0)","v":0},{"$f":"IF(ROWS(GPS_IMPORT!$1:14)<=COUNTIF(GPS_IMPORT!$A$2:$A$10000,$B$5),INDEX(GPS_IMPORT!$2:$10000,MATCH($B$5,(GPS_IMPORT!$A$2:$A$10000),0)+ROWS($1:14)-1,COLUMN()-1),0)","v":0},{"$f":"IF(ROWS(GPS_IMPORT!$1:14)<=COUNTIF(GPS_IMPORT!$A$2:$A$10000,$B$5),INDEX(GPS_IMPORT!$2:$10000,MATCH($B$5,(GPS_IMPORT!$A$2:$A$10000),0)+ROWS($1:14)-1,COLUMN()-1),0)","v":0},0,0,0,false]
[15,{"$f":"IF(ROWS(GPS_IMPORT!$1:15)<=COUNTIF(GPS_IMPORT!$A$2:$A$10000,$B$5),INDEX(GPS_IMPORT!$2:$10000,MATCH($B$5,(GPS_IMPORT!$A$2:$A$10000),0)+ROWS($1:15)-1,COLUMN()-1),0)","v":0},{"$f":"IF(ROWS(GPS_IMPORT!$1:15)<=COUNTIF(GPS_IMPORT!$A$2:$A$10000,$B$5),INDEX(GPS_IMPORT!$2:$10000,MATCH($B$5,(GPS_IMPORT!$A$2:$A$10000),0)+ROWS($1:15)-1,COLUMN()-1),0)","v":"00:00:00"},{"$f":"IF(ROWS(GPS_IMPORT!$1:15)<=COUNTIF(GPS_IMPORT!$A$2:$A$10000,$B$5),INDEX(GPS_IMPORT!$2:$10000,MATCH($B$5,(GPS_IMPORT!$A$2:$A$10000),0)+ROWS($1:15)-1,COLUMN()-1),0)","v":"00:00:00"},{"$f":"IF(ROWS(GPS_IMPORT!$1:15)<=COUNTIF(GPS_IMPORT!$A$2:$A$10000,$B$5),INDEX(GPS_IMPORT!$2:$10000,MATCH($B$5,(GPS_IMPORT!$A$2:$A$10000),0)+ROWS($1:15)-1,COLUMN()-1),0)","v":0},{"$f":"IF(ROWS(GPS_IMPORT!$1:15)<=COUNTIF(GPS_IMPORT!$A$2:$A$10000,$B$5),INDEX(GPS_IMPORT!$2:$10000,MATCH($B$5,(GPS_IMPORT!$A$2:$A$10000),0)+ROWS($1:15)-1,COLUMN()-1),0)","v":0},{"$f":"IF(ROWS(GPS_IMPORT!$1:15)<=COUNTIF(GPS_IMPORT!$A$2:$A$10000,$B$5),INDEX(GPS_IMPORT!$2:$10000,MATCH($B$5,(GPS_IMPORT!$A$2:$A$10000),0)+ROWS($1:15)-1,COLUMN()-1),0)","v":0},0,0,0,false]
[null,null,null,"AVERAGE",{"$f":"(IF($K$7=TRUE,E7,0)+IF($K$8=TRUE,E8,0)+IF($K$9=TRUE,E9,0)+IF($K$10=TRUE,E10,0)+IF($K$11=TRUE,E11,0)+IF($K$12=TRUE,E12,0)+IF($K$13=TRUE,E13,0)+IF($K$14=TRUE,E14,0)+IF($K$15=TRUE,E15,0)+IF($K$16=TRUE,E16,0)+IF($K$17=TRUE,E17,0)+IF($K$18=TRUE,E18,0)+IF($K$19=TRUE,E19,0)+IF($K$20=TRUE,E20,0)+IF($K$21=TRUE,E21,0))/(IF($K$7=TRUE,1,0)+IF($K$8=TRUE,1,0)+IF($K$9=TRUE,1,0)+IF($K$10=TRUE,1,0)+IF($K$11=TRUE,1,0)+IF($K$12=TRUE,1,0)+IF($K$13=TRUE,1,0)+IF($K$14=TRUE,1,0)+IF($K$15=TRUE,1,0)+IF($K$16=TRUE,1,0)+IF($K$17=TRUE,1,0)+IF($K$18=TRUE,1,0)+IF($K$19=TRUE,1,0)+IF($K$20=TRUE,1,0)+IF($K$21=TRUE,1,0))","v":328167.65227717609},{"$f":"(IF($K$7=TRUE,F7,0)+IF($K$8=TRUE,F8,0)+IF($K$9=TRUE,F9,0)+IF($K$10=TRUE,F10,0)+IF($K$11=TRUE,F11,0)+IF($K$12=TRUE,F12,0)+IF($K$13=TRUE,F13,0)+IF($K$14=TRUE,F14,0)+IF($K$15=TRUE,F15,0)+IF($K$16=TRUE,F16,0)+IF($K$17=TRUE,F17,0)+IF($K$18=TRUE,F18,0)+IF($K$19=TRUE,F19,0)+IF($K$20=TRUE,F20,0)+IF($K$21=TRUE,F21,0))/(IF($K$7=TRUE,1,0)+IF($K$8=TRUE,1,0)+IF($K$9=TRUE,1,0)+IF($K$10=TRUE,1,0)+IF($K$11=TRUE,1,0)+IF($K$12=TRUE,1,0)+IF($K$13=TRUE,1,0)+IF($K$14=TRUE,1,0)+IF($K$15=TRUE,1,0)+IF($K$16=TRUE,1,0)+IF($K$17=TRUE,1,0)+IF($K$18=TRUE,1,0)+IF($K$19=TRUE,1,0)+IF($K$20=TRUE,1,0)+IF($K$21=TRUE,1,0))","v":2271461.3875584658},{"$f":"(IF($K$7=TRUE,G7,0)+IF($K$8=TRUE,G8,0)+IF($K$9=TRUE,G9,0)+IF($K$10=TRUE,G10,0)+IF($K$11=TRUE,G11,0)+IF($K$12=TRUE,G12,0)+IF($K$13=TRUE,G13,0)+IF($K$14=TRUE,G14,0)+IF($K$15=TRUE,G15,0)+IF($K$16=TRUE,G16,0)+IF($K$17=TRUE,G17,0)+IF($K$18=TRUE,G18,0)+IF($K$19=TRUE,G19,0)+IF($K$20=TRUE,G20,0)+IF($K$21=TRUE,G21,0))/\n(IF($K$7=TRUE,1,0)+IF($K$8=TRUE,1,0)+IF($K$9=TRUE,1,0)+IF($K$10=TRUE,1,0)+IF($K$11=TRUE,1,0)+IF($K$12=TRUE,1,0)+IF($K$13=TRUE,1,0)+IF($K$14=TRUE,1,0)+IF($K$15=TRUE,1,0)+IF($K$16=TRUE,1,0)+IF($K$17=TRUE,1,0)+IF($K$18=TRUE,1,0)+IF($K$19=TRUE,1,0)+IF($K$20=TRUE,1,0)+IF($K$21=TRUE,1,0))","v":928.79279010063681},"RMSE:","RMSE:","RMSE:"]
[null,null,null,null,null,null,"RMSE IN US SURVEY FEET:",{"$f":"SQRT((\n(IF($K$7=TRUE,H7^2,0))+(IF($K$8=TRUE,H8^2,0))+(IF($K$9=TRUE,H9^2,0))+(IF($K$10=TRUE,H10^2,0))+(IF($K$11=TRUE,H11^2,0))+(IF($K$12=TRUE,H12^2,0))+(IF($K$13=TRUE,H13^2,0))+(IF($K$14=TRUE,H14^2,0))+(IF($K$15=TRUE,H15^2,0))+(IF($K$16=TRUE,H16^2,0))+(IF($K$17=TRUE,H17^2,0))+(IF($K$18=TRUE,H18^2,0))+(IF($K$19=TRUE,H19^2,0))+(IF($K$20=TRUE,H20^2,0))+(IF($K$21=TRUE,H21^2,0)))/\n(IF($K$7=TRUE,1,0)+IF($K$8=TRUE,1,0)+IF($K$9=TRUE,1,0)+IF($K$10=TRUE,1,0)+IF($K$11=TRUE,1,0)+IF($K$12=TRUE,1,0)+IF($K$13=TRUE,1,0)+IF($K$14=TRUE,1,0)+IF($K$15=TRUE,1,0)+IF($K$16=TRUE,1,0)+IF($K$17=TRUE,1,0)+IF($K$18=TRUE,1,0)+IF($K$19=TRUE,1,0)+IF($K$20=TRUE,1,0)+IF($K$21=TRUE,1,0)))","v":1.5266057187685774E-2},{"$f":"SQRT((\n(IF($K$7=TRUE,I7^2,0))+(IF($K$8=TRUE,I8^2,0))+(IF($K$9=TRUE,I9^2,0))+(IF($K$10=TRUE,I10^2,0))+(IF($K$11=TRUE,I11^2,0))+(IF($K$12=TRUE,I12^2,0))+(IF($K$13=TRUE,I13^2,0))+(IF($K$14=TRUE,I14^2,0))+(IF($K$15=TRUE,I15^2,0))+(IF($K$16=TRUE,I16^2,0))+(IF($K$17=TRUE,I17^2,0))+(IF($K$18=TRUE,I18^2,0))+(IF($K$19=TRUE,I19^2,0))+(IF($K$20=TRUE,I20^2,0))+(IF($K$21=TRUE,I21^2,0)))/\n(IF($K$7=TRUE,1,0)+IF($K$8=TRUE,1,0)+IF($K$9=TRUE,1,0)+IF($K$10=TRUE,1,0)+IF($K$11=TRUE,1,0)+IF($K$12=TRUE,1,0)+IF($K$13=TRUE,1,0)+IF($K$14=TRUE,1,0)+IF($K$15=TRUE,1,0)+IF($K$16=TRUE,1,0)+IF($K$17=TRUE,1,0)+IF($K$18=TRUE,1,0)+IF($K$19=TRUE,1,0)+IF($K$20=TRUE,1,0)+IF($K$21=TRUE,1,0)))","v":5.0955177899575897E-3},{"$f":"SQRT((\n(IF($K$7=TRUE,J7^2,0))+(IF($K$8=TRUE,J8^2,0))+(IF($K$9=TRUE,J9^2,0))+(IF($K$10=TRUE,J10^2,0))+(IF($K$11=TRUE,J11^2,0))+(IF($K$12=TRUE,J12^2,0))+(IF($K$13=TRUE,J13^2,0))+(IF($K$14=TRUE,J14^2,0))+(IF($K$15=TRUE,J15^2,0))+(IF($K$16=TRUE,J16^2,0))+(IF($K$17=TRUE,J17^2,0))+(IF($K$18=TRUE,J18^2,0))+(IF($K$19=TRUE,J19^2,0))+(IF($K$20=TRUE,J20^2,0))+(IF($K$21=TRUE,J21^2,0)))/\n(IF($K$7=TRUE,1,0)+IF($K$8=TRUE,1,0)+IF($K$9=TRUE,1,0)+IF($K$10=TRUE,1,0)+IF($K$11=TRUE,1,0)+IF($K$12=TRUE,1,0)+IF($K$13=TRUE,1,0)+IF($K$14=TRUE,1,0)+IF($K$15=TRUE,1,0)+IF($K$16=TRUE,1,0)+IF($K$17=TRUE,1,0)+IF($K$18=TRUE,1,0)+IF($K$19=TRUE,1,0)+IF($K$20=TRUE,1,0)+IF($K$21=TRUE,1,0)))","v":1.9627421165857015E-2}]
[null,null,null,1]
[null,null,"UNITLESS GRID TO GROUND MULTIPLIER",{"$f":"IF(REPORT!C13=\"n/a\",\"0.00000000\",REPORT!C13)","v":0},null,null,null,{"$f":"IF(H23<=0.029,\"PASS\",\"FAIL\")","v":"PASS"},{"$f":"IF(I23<=0.029,\"PASS\",\"FAIL\")","v":"PASS"},{"$f":"IF(J23<=0.039,\"PASS\",\"FAIL\")","v":"PASS"}]
[]
["AVERAGED GPS-DERIVED POSITION",null,null,null,null,null,null,null,"Notes:"]
[null,"MONUMENT COORDINATES",null,"NORTHING","EASTING","ORTHO HEIGHT"]
[null,"US Survey Feet (GRID)",null,{"$f":"$E$22","v":328167.65227717609},{"$f":"$F$22","v":2271461.3875584658},{"$f":"$G$22","v":928.79279010063681}]
[]
["LEVELED ELEVATION"]
["US SURVEY FEET",null,"N/A","(Type the leveled elevation or N/A if no leveled elevation is available)"]
["MONUMENT HELD",null,null,"(Type the monument name from which leveling originated)"]
["LEVELED ELEVATION - GPS DERIVED ELEVATION   = ",null,null,null,{"$f":"IF(C32=\"N/A\",\"N/A\",C32-(F29*D24))","v":"N/A"}]
[]
["FINAL MONUMENT COORDINATES"]
[null,"MONUMENT COORDINATES",null,"NORTHING","EASTING","ELEVATION","FEATURE CODE"]
[null,"US SURVEY FEET (GRID)",null,{"$f":"$E$22*$D$24","v":328167.65227717609},{"$f":"$F$22*$D$24","v":2271461.3875584658},{"$f":"IF($C$32=\"N/A\",($G$22*$D$24),$C$32)","v":928.79279010063681},"AERPP"]
[null,"US SURVEY FEET (GROUND)",null,{"$f":"$D$38*$D$25","v":0},{"$f":"$E$38*$D$25","v":0},{"$f":"IF($C$32=\"N/A\",($G$22*$D$24),$C$32)","v":928.79279010063681},{"$f":"G38","v":"AERPP"}]
[]
["∆ North,  ∆ East, and ∆ Ht. are the difference between the average northing, easting, and height for each observation.",null,null,null,null,null,null,null,"Mask Angle:","10°"]

{"sheet":"GS13","index":19,"n_rows":41,"n_cols":11,"rows_kept":41,"cut":false,"hidden":false,"merged":[[0,0,0,10],[26,0,26,6],[27,1,27,2],[27,8,38,10],[28,1,28,2],[30,0,30,6],[35,0,35,6],[36,1,36,2],[37,1,37,2],[38,1,38,2]]}
["VRS GNSS Project Control Monument Coordinate Analysis"]
[]
["Project:",{"$f":"REPORT!B2","v":"TUS-800-22.74"},"GPS Antenna:","LEICA GS14",null,null,null,null,null,"Report Date:",{"$f":"REPORT!C49","v":"2018-12-19"}]
["PID:",{"$f":"REPORT!E2","v":100603},"VRS Network:","ODOT VRS",null,null,null,null,null,"Prepared By:",{"$f":"REPORT!C48","v":"Kolton Wilson"}]
["Point ID:","GS13","No. of Sessions:",{"$f":"COUNTIF(GPS_IMPORT!A2:A1000,$B$5)","v":14},null,null,null,null,null,"Checked By:",{"$f":"REPORT!C52","v":"Joel Swick"}]
["SESSION #","Point","Observation Date","Start Time","Northing(sft)","Easting(sft)","Height(sft)","∆ Northing(sft)","∆ Easting(sft)","∆ Height(sft)","Include in Solution?"]
[1,{"$f":"IF(ROWS(GPS_IMPORT!$1:1)<=COUNTIF(GPS_IMPORT!$A$2:$A$10000,$B$5),INDEX(GPS_IMPORT!$2:$10000,MATCH($B$5,(GPS_IMPORT!$A$2:$A$10000),0)+ROWS($1:1)-1,COLUMN()-1),0)","v":"GS13"},{"$f":"IF(ROWS(GPS_IMPORT!$1:1)<=COUNTIF(GPS_IMPORT!$A$2:$A$10000,$B$5),INDEX(GPS_IMPORT!$2:$10000,MATCH($B$5,(GPS_IMPORT!$A$2:$A$10000),0)+ROWS($1:1)-1,COLUMN()-1),0)","v":"12.18.2018"},{"$f":"IF(ROWS(GPS_IMPORT!$1:1)<=COUNTIF(GPS_IMPORT!$A$2:$A$10000,$B$5),INDEX(GPS_IMPORT!$2:$10000,MATCH($B$5,(GPS_IMPORT!$A$2:$A$10000),0)+ROWS($1:1)-1,COLUMN()-1),0)","v":"11:18:21.900"},{"$f":"IF(ROWS(GPS_IMPORT!$1:1)<=COUNTIF(GPS_IMPORT!$A$2:$A$10000,$B$5),INDEX(GPS_IMPORT!$2:$10000,MATCH($B$5,(GPS_IMPORT!$A$2:$A$10000),0)+ROWS($1:1)-1,COLUMN()-1),0)","v":332046.725291254},{"$f":"IF(ROWS(GPS_IMPORT!$1:1)<=COUNTIF(GPS_IMPORT!$A$2:$A$10000,$B$5),INDEX(GPS_IMPORT!$2:$10000,MATCH($B$5,(GPS_IMPORT!$A$2:$A$10000),0)+ROWS($1:1)-1,COLUMN()-1),0)","v":2273761.1079049399},{"$f":"IF(ROWS(GPS_IMPORT!$1:1)<=COUNTIF(GPS_IMPORT!$A$2:$A$10000,$B$5),INDEX(GPS_IMPORT!$2:$10000,MATCH($B$5,(GPS_IMPORT!$A$2:$A$10000),0)+ROWS($1:1)-1,COLUMN()-1),0)","v":907.68047339096995},{"$f":"IF(E7>0,E$22-E7,0)","v":5.3550169104710221E-4},1.8893135711550713E-4,-1.1652576994947594E-2,true]
[2,{"$f":"IF(ROWS(GPS_IMPORT!$1:2)<=COUNTIF(GPS_IMPORT!$A$2:$A$10000,$B$5),INDEX(GPS_IMPORT!$2:$10000,MATCH($B$5,(GPS_IMPORT!$A$2:$A$10000),0)+ROWS($1:2)-1,COLUMN()-1),0)","v":"GS13"},{"$f":"IF(ROWS(GPS_IMPORT!$1:2)<=COUNTIF(GPS_IMPORT!$A$2:$A$10000,$B$5),INDEX(GPS_IMPORT!$2:$10000,MATCH($B$5,(GPS_IMPORT!$A$2:$A$10000),0)+ROWS($1:2)-1,COLUMN()-1),0)","v":"12.18.2018"},{"$f":"IF(ROWS(GPS_IMPORT!$1:2)<=COUNTIF(GPS_IMPORT!$A$2:$A$10000,$B$5),INDEX(GPS_IMPORT!$2:$10000,MATCH($B$5,(GPS_IMPORT!$A$2:$A$10000),0)+ROWS($1:2)-1,COLUMN()-1),0)","v":"11:18:33.810"},{"$f":"IF(ROWS(GPS_IMPORT!$1:2)<=COUNTIF(GPS_IMPORT!$A$2:$A$10000,$B$5),INDEX(GPS_IMPORT!$2:$10000,MATCH($B$5,(GPS_IMPORT!$A$2:$A$10000),0)+ROWS($1:2)-1,COLUMN()-1),0)","v":332046.72618725401},{"$f":"IF(ROWS(GPS_IMPORT!$1:2)<=COUNTIF(GPS_IMPORT!$A$2:$A$10000,$B$5),INDEX(GPS_IMPORT!$2:$10000,MATCH($B$5,(GPS_IMPORT!$A$2:$A$10000),0)+ROWS($1:2)-1,COLUMN()-1),0)","v":2273761.1102779601},{"$f":"IF(ROWS(GPS_IMPORT!$1:2)<=COUNTIF(GPS_IMPORT!$A$2:$A$10000,$B$5),INDEX(GPS_IMPORT!$2:$10000,MATCH($B$5,(GPS_IMPORT!$A$2:$A$10000),0)+ROWS($1:2)-1,COLUMN()-1),0)","v":907.67435589109004},-3.6049832124263048E-4,-2.1840888075530529E-3,-5.5350771150415312E-3,true]
[3,{"$f":"IF(ROWS(GPS_IMPORT!$1:3)<=COUNTIF(GPS_IMPORT!$A$2:$A$10000,$B$5),INDEX(GPS_IMPORT!$2:$10000,MATCH($B$5,(GPS_IMPORT!$A$2:$A$10000),0)+ROWS($1:3)-1,COLUMN()-1),0)","v":"GS13"},{"$f":"IF(ROWS(GPS_IMPORT!$1:3)<=COUNTIF(GPS_IMPORT!$A$2:$A$10000,$B$5),INDEX(GPS_IMPORT!$2:$10000,MATCH($B$5,(GPS_IMPORT!$A$2:$A$10000),0)+ROWS($1:3)-1,COLUMN()-1),0)","v":"12.18.2018"},{"$f":"IF(ROWS(GPS_IMPORT!$1:3)<=COUNTIF(GPS_IMPORT!$A$2:$A$10000,$B$5),INDEX(GPS_IMPORT!$2:$10000,MATCH($B$5,(GPS_IMPORT!$A$2:$A$10000),0)+ROWS($1:3)-1,COLUMN()-1),0)","v":"11:18:46.030"},{"$f":"IF(ROWS(GPS_IMPORT!$1:3)<=COUNTIF(GPS_IMPORT!$A$2:$A$10000,$B$5),INDEX(GPS_IMPORT!$2:$10000,MATCH($B$5,(GPS_IMPORT!$A$2:$A$10000),0)+ROWS($1:3)-1,COLUMN()-1),0)","v":332046.73575345101},{"$f":"IF(ROWS(GPS_IMPORT!$1:3)<=COUNTIF(GPS_IMPORT!$A$2:$A$10000,$B$5),INDEX(GPS_IMPORT!$2:$10000,MATCH($B$5,(GPS_IMPORT!$A$2:$A$10000),0)+ROWS($1:3)-1,COLUMN()-1),0)","v":2273761.1103322301},{"$f":"IF(ROWS(GPS_IMPORT!$1:3)<=COUNTIF(GPS_IMPORT!$A$2:$A$10000,$B$5),INDEX(GPS_IMPORT!$2:$10000,MATCH($B$5,(GPS_IMPORT!$A$2:$A$10000),0)+ROWS($1:3)-1,COLUMN()-1),0)","v":907.66685117863005},-9.9266953184269369E-3,-2.2383588366210461E-3,1.9696353449489834E-3,true]
[4,{"$f":"IF(ROWS(GPS_IMPORT!$1:4)<=COUNTIF(GPS_IMPORT!$A$2:$A$10000,$B$5),INDEX(GPS_IMPORT!$2:$10000,MATCH($B$5,(GPS_IMPORT!$A$2:$A$10000),0)+ROWS($1:4)-1,COLUMN()-1),0)","v":"GS13"},{"$f":"IF(ROWS(GPS_IMPORT!$1:4)<=COUNTIF(GPS_IMPORT!$A$2:$A$10000,$B$5),INDEX(GPS_IMPORT!$2:$10000,MATCH($B$5,(GPS_IMPORT!$A$2:$A$10000),0)+ROWS($1:4)-1,COLUMN()-1),0)","v":"12.18.2018"},{"$f":"IF(ROWS(GPS_IMPORT!$1:4)<=COUNTIF(GPS_IMPORT!$A$2:$A$10000,$B$5),INDEX(GPS_IMPORT!$2:$10000,MATCH($B$5,(GPS_IMPORT!$A$2:$A$10000),0)+ROWS($1:4)-1,COLUMN()-1),0)","v":"11:18:58.830"},{"$f":"IF(ROWS(GPS_IMPORT!$1:4)<=COUNTIF(GPS_IMPORT!$A$2:$A$10000,$B$5),INDEX(GPS_IMPORT!$2:$10000,MATCH($B$5,(GPS_IMPORT!$A$2:$A$10000),0)+ROWS($1:4)-1,COLUMN()-1),0)","v":332046.73151434201},{"$f":"IF(ROWS(GPS_IMPORT!$1:4)<=COUNTIF(GPS_IMPORT!$A$2:$A$10000,$B$5),INDEX(GPS_IMPORT!$2:$10000,MATCH($B$5,(GPS_IMPORT!$A$2:$A$10000),0)+ROWS($1:4)-1,COLUMN()-1),0)","v":2273761.1063077501},{"$f":"IF(ROWS(GPS_IMPORT!$1:4)<=COUNTIF(GPS_IMPORT!$A$2:$A$10000,$B$5),INDEX(GPS_IMPORT!$2:$10000,MATCH($B$5,(GPS_IMPORT!$A$2:$A$10000),0)+ROWS($1:4)-1,COLUMN()-1),0)","v":907.66510532507004},-5.6875863228924572E-3,1.786121167242527E-3,3.7154889049588746E-3,true]
[5,{"$f":"IF(ROWS(GPS_IMPORT!$1:5)<=COUNTIF(GPS_IMPORT!$A$2:$A$10000,$B$5),INDEX(GPS_IMPORT!$2:$10000,MATCH($B$5,(GPS_IMPORT!$A$2:$A$10000),0)+ROWS($1:5)-1,COLUMN()-1),0)","v":"GS13"},{"$f":"IF(ROWS(GPS_IMPORT!$1:5)<=COUNTIF(GPS_IMPORT!$A$2:$A$10000,$B$5),INDEX(GPS_IMPORT!$2:$10000,MATCH($B$5,(GPS_IMPORT!$A$2:$A$10000),0)+ROWS($1:5)-1,COLUMN()-1),0)","v":"12.18.2018"},{"$f":"IF(ROWS(GPS_IMPORT!$1:5)<=COUNTIF(GPS_IMPORT!$A$2:$A$10000,$B$5),INDEX(GPS_IMPORT!$2:$10000,MATCH($B$5,(GPS_IMPORT!$A$2:$A$10000),0)+ROWS($1:5)-1,COLUMN()-1),0)","v":"11:19:18.810"},{"$f":"IF(ROWS(GPS_IMPORT!$1:5)<=COUNTIF(GPS_IMPORT!$A$2:$A$10000,$B$5),INDEX(GPS_IMPORT!$2:$10000,MATCH($B$5,(GPS_IMPORT!$A$2:$A$10000),0)+ROWS($1:5)-1,COLUMN()-1),0)","v":332046.72652637598},{"$f":"IF(ROWS(GPS_IMPORT!$1:5)<=COUNTIF(GPS_IMPORT!$A$2:$A$10000,$B$5),INDEX(GPS_IMPORT!$2:$10000,MATCH($B$5,(GPS_IMPORT!$A$2:$A$10000),0)+ROWS($1:5)-1,COLUMN()-1),0)","v":2273761.1077861101},{"$f":"IF(ROWS(GPS_IMPORT!$1:5)<=COUNTIF(GPS_IMPORT!$A$2:$A$10000,$B$5),INDEX(GPS_IMPORT!$2:$10000,MATCH($B$5,(GPS_IMPORT!$A$2:$A$10000),0)+ROWS($1:5)-1,COLUMN()-1),0)","v":907.65970493603004},-6.9962028646841645E-4,3.0776113271713257E-4,9.115877944964268E-3,true]
[6,{"$f":"IF(ROWS(GPS_IMPORT!$1:6)<=COUNTIF(GPS_IMPORT!$A$2:$A$10000,$B$5),INDEX(GPS_IMPORT!$2:$10000,MATCH($B$5,(GPS_IMPORT!$A$2:$A$10000),0)+ROWS($1:6)-1,COLUMN()-1),0)","v":"GS13"},{"$f":"IF(ROWS(GPS_IMPORT!$1:6)<=COUNTIF(GPS_IMPORT!$A$2:$A$10000,$B$5),INDEX(GPS_IMPORT!$2:$10000,MATCH($B$5,(GPS_IMPORT!$A$2:$A$10000),0)+ROWS($1:6)-1,COLUMN()-1),0)","v":"12.18.2018"},{"$f":"IF(ROWS(GPS_IMPORT!$1:6)<=COUNTIF(GPS_IMPORT!$A$2:$A$10000,$B$5),INDEX(GPS_IMPORT!$2:$10000,MATCH($B$5,(GPS_IMPORT!$A$2:$A$10000),0)+ROWS($1:6)-1,COLUMN()-1),0)","v":"11:19:29.730"},{"$f":"IF(ROWS(GPS_IMPORT!$1:6)<=COUNTIF(GPS_IMPORT!$A$2:$A$10000,$B$5),INDEX(GPS_IMPORT!$2:$10000,MATCH($B$5,(GPS_IMPORT!$A$2:$A$10000),0)+ROWS($1:6)-1,COLUMN()-1),0)","v":332046.72635600599},{"$f":"IF(ROWS(GPS_IMPORT!$1:6)<=COUNTIF(GPS_IMPORT!$A$2:$A$10000,$B$5),INDEX(GPS_IMPORT!$2:$10000,MATCH($B$5,(GPS_IMPORT!$A$2:$A$10000),0)+ROWS($1:6)-1,COLUMN()-1),0)","v":2273761.11096856},{"$f":"IF(ROWS(GPS_IMPORT!$1:6)<=COUNTIF(GPS_IMPORT!$A$2:$A$10000,$B$5),INDEX(GPS_IMPORT!$2:$10000,MATCH($B$5,(GPS_IMPORT!$A$2:$A$10000),0)+ROWS($1:6)-1,COLUMN()-1),0)","v":907.64541763298996},-5.2925030468031764E-4,-2.8746887110173702E-3,2.3403180985042127E-2,true]
[7,{"$f":"IF(ROWS(GPS_IMPORT!$1:7)<=COUNTIF(GPS_IMPORT!$A$2:$A$10000,$B$5),INDEX(GPS_IMPORT!$2:$10000,MATCH($B$5,(GPS_IMPORT!$A$2:$A$10000),0)+ROWS($1:7)-1,COLUMN()-1),0)","v":"GS13"},{"$f":"IF(ROWS(GPS_IMPORT!$1:7)<=COUNTIF(GPS_IMPORT!$A$2:$A$10000,$B$5),INDEX(GPS_IMPORT!$2:$10000,MATCH($B$5,(GPS_IMPORT!$A$2:$A$10000),0)+ROWS($1:7)-1,COLUMN()-1),0)","v":"12.18.2018"},{"$f":"IF(ROWS(GPS_IMPORT!$1:7)<=COUNTIF(GPS_IMPORT!$A$2:$A$10000,$B$5),INDEX(GPS_IMPORT!$2:$10000,MATCH($B$5,(GPS_IMPORT!$A$2:$A$10000),0)+ROWS($1:7)-1,COLUMN()-1),0)","v":"11:19:42.030"},{"$f":"IF(ROWS(GPS_IMPORT!$1:7)<=COUNTIF(GPS_IMPORT!$A$2:$A$10000,$B$5),INDEX(GPS_IMPORT!$2:$10000,MATCH($B$5,(GPS_IMPORT!$A$2:$A$10000),0)+ROWS($1:7)-1,COLUMN()-1),0)","v":332046.723159616},{"$f":"IF(ROWS(GPS_IMPORT!$1:7)<=COUNTIF(GPS_IMPORT!$A$2:$A$10000,$B$5),INDEX(GPS_IMPORT!$2:$10000,MATCH($B$5,(GPS_IMPORT!$A$2:$A$10000),0)+ROWS($1:7)-1,COLUMN()-1),0)","v":2273761.1104654698},{"$f":"IF(ROWS(GPS_IMPORT!$1:7)<=COUNTIF(GPS_IMPORT!$A$2:$A$10000,$B$5),INDEX(GPS_IMPORT!$2:$10000,MATCH($B$5,(GPS_IMPORT!$A$2:$A$10000),0)+ROWS($1:7)-1,COLUMN()-1),0)","v":907.66047503560003},2.6671396917663515E-3,-2.3715985007584095E-3,8.3457783749736336E-3,true]
[8,{"$f":"IF(ROWS(GPS_IMPORT!$1:8)<=COUNTIF(GPS_IMPORT!$A$2:$A$10000,$B$5),INDEX(GPS_IMPORT!$2:$10000,MATCH($B$5,(GPS_IMPORT!$A$2:$A$10000),0)+ROWS($1:8)-1,COLUMN()-1),0)","v":"GS13"},{"$f":"IF(ROWS(GPS_IMPORT!$1:8)<=COUNTIF(GPS_IMPORT!$A$2:$A$10000,$B$5),INDEX(GPS_IMPORT!$2:$10000,MATCH($B$5,(GPS_IMPORT!$A$2:$A$10000),0)+ROWS($1:8)-1,COLUMN()-1),0)","v":"12.18.2018"},{"$f":"IF(ROWS(GPS_IMPORT!$1:8)<=COUNTIF(GPS_IMPORT!$A$2:$A$10000,$B$5),INDEX(GPS_IMPORT!$2:$10000,MATCH($B$5,(GPS_IMPORT!$A$2:$A$10000),0)+ROWS($1:8)-1,COLUMN()-1),0)","v":"11:19:53.890"},{"$f":"IF(ROWS(GPS_IMPORT!$1:8)<=COUNTIF(GPS_IMPORT!$A$2:$A$10000,$B$5),INDEX(GPS_IMPORT!$2:$10000,MATCH($B$5,(GPS_IMPORT!$A$2:$A$10000),0)+ROWS($1:8)-1,COLUMN()-1),0)","v":332046.72245278303},{"$f":"IF(ROWS(GPS_IMPORT!$1:8)<=COUNTIF(GPS_IMPORT!$A$2:$A$10000,$B$5),INDEX(GPS_IMPORT!$2:$10000,MATCH($B$5,(GPS_IMPORT!$A$2:$A$10000),0)+ROWS($1:8)-1,COLUMN()-1),0)","v":2273761.1084681302},{"$f":"IF(ROWS(GPS_IMPORT!$1:8)<=COUNTIF(GPS_IMPORT!$A$2:$A$10000,$B$5),INDEX(GPS_IMPORT!$2:$10000,MATCH($B$5,(GPS_IMPORT!$A$2:$A$10000),0)+ROWS($1:8)-1,COLUMN()-1),0)","v":907.66258555255001},3.3739726641215384E-3,-3.7425896152853966E-4,6.2352614249903127E-3,true]
[9,{"$f":"IF(ROWS(GPS_IMPORT!$1:9)<=COUNTIF(GPS_IMPORT!$A$2:$A$10000,$B$5),INDEX(GPS_IMPORT!$2:$10000,MATCH($B$5,(GPS_IMPORT!$A$2:$A$10000),0)+ROWS($1:9)-1,COLUMN()-1),0)","v":"GS13"},{"$f":"IF(ROWS(GPS_IMPORT!$1:9)<=COUNTIF(GPS_IMPORT!$A$2:$A$10000,$B$5),INDEX(GPS_IMPORT!$2:$10000,MATCH($B$5,(GPS_IMPORT!$A$2:$A$10000),0)+ROWS($1:9)-1,COLUMN()-1),0)","v":"12.18.2018"},{"$f":"IF(ROWS(GPS_IMPORT!$1:9)<=COUNTIF(GPS_IMPORT!$A$2:$A$10000,$B$5),INDEX(GPS_IMPORT!$2:$10000,MATCH($B$5,(GPS_IMPORT!$A$2:$A$10000),0)+ROWS($1:9)-1,COLUMN()-1),0)","v":"11:20:04.750"},{"$f":"IF(ROWS(GPS_IMPORT!$1:9)<=COUNTIF(GPS_IMPORT!$A$2:$A$10000,$B$5),INDEX(GPS_IMPORT!$2:$10000,MATCH($B$5,(GPS_IMPORT!$A$2:$A$10000),0)+ROWS($1:9)-1,COLUMN()-1),0)","v":332046.72764932498},{"$f":"IF(ROWS(GPS_IMPORT!$1:9)<=COUNTIF(GPS_IMPORT!$A$2:$A$10000,$B$5),INDEX(GPS_IMPORT!$2:$10000,MATCH($B$5,(GPS_IMPORT!$A$2:$A$10000),0)+ROWS($1:9)-1,COLUMN()-1),0)","v":2273761.1127419402},{"$f":"IF(ROWS(GPS_IMPORT!$1:9)<=COUNTIF(GPS_IMPORT!$A$2:$A$10000,$B$5),INDEX(GPS_IMPORT!$2:$10000,MATCH($B$5,(GPS_IMPORT!$A$2:$A$10000),0)+ROWS($1:9)-1,COLUMN()-1),0)","v":907.65445338719996},-1.8225692911073565E-3,-4.6480689197778702E-3,1.4367426775038439E-2,true]
[10,{"$f":"IF(ROWS(GPS_IMPORT!$1:10)<=COUNTIF(GPS_IMPORT!$A$2:$A$10000,$B$5),INDEX(GPS_IMPORT!$2:$10000,MATCH($B$5,(GPS_IMPORT!$A$2:$A$10000),0)+ROWS($1:10)-1,COLUMN()-1),0)","v":"GS13"},{"$f":"IF(ROWS(GPS_IMPORT!$1:10)<=COUNTIF(GPS_IMPORT!$A$2:$A$10000,$B$5),INDEX(GPS_IMPORT!$2:$10000,MATCH($B$5,(GPS_IMPORT!$A$2:$A$10000),0)+ROWS($1:10)-1,COLUMN()-1),0)","v":"12.18.2018"},{"$f":"IF(ROWS(GPS_IMPORT!$1:10)<=COUNTIF(GPS_IMPORT!$A$2:$A$10000,$B$5),INDEX(GPS_IMPORT!$2:$10000,MATCH($B$5,(GPS_IMPORT!$A$2:$A$10000),0)+ROWS($1:10)-1,COLUMN()-1),0)","v":"11:20:25.930"},{"$f":"IF(ROWS(GPS_IMPORT!$1:10)<=COUNTIF(GPS_IMPORT!$A$2:$A$10000,$B$5),INDEX(GPS_IMPORT!$2:$10000,MATCH($B$5,(GPS_IMPORT!$A$2:$A$10000),0)+ROWS($1:10)-1,COLUMN()-1),0)","v":332046.721632539},{"$f":"IF(ROWS(GPS_IMPORT!$1:10)<=COUNTIF(GPS_IMPORT!$A$2:$A$10000,$B$5),INDEX(GPS_IMPORT!$2:$10000,MATCH($B$5,(GPS_IMPORT!$A$2:$A$10000),0)+ROWS($1:10)-1,COLUMN()-1),0)","v":2273761.1032213899},{"$f":"IF(ROWS(GPS_IMPORT!$1:10)<=COUNTIF(GPS_IMPORT!$A$2:$A$10000,$B$5),INDEX(GPS_IMPORT!$2:$10000,MATCH($B$5,(GPS_IMPORT!$A$2:$A$10000),0)+ROWS($1:10)-1,COLUMN()-1),0)","v":907.68261220197996},4.1942166863009334E-3,4.8724813386797905E-3,-1.3791388004960936E-2,true]
[11,{"$f":"IF(ROWS(GPS_IMPORT!$1:11)<=COUNTIF(GPS_IMPORT!$A$2:$A$10000,$B$5),INDEX(GPS_IMPORT!$2:$10000,MATCH($B$5,(GPS_IMPORT!$A$2:$A$10000),0)+ROWS($1:11)-1,COLUMN()-1),0)","v":"GS13"},{"$f":"IF(ROWS(GPS_IMPORT!$1:11)<=COUNTIF(GPS_IMPORT!$A$2:$A$10000,$B$5),INDEX(GPS_IMPORT!$2:$10000,MATCH($B$5,(GPS_IMPORT!$A$2:$A$10000),0)+ROWS($1:11)-1,COLUMN()-1),0)","v":"12.18.2018"},{"$f":"IF(ROWS(GPS_IMPORT!$1:11)<=COUNTIF(GPS_IMPORT!$A$2:$A$10000,$B$5),INDEX(GPS_IMPORT!$2:$10000,MATCH($B$5,(GPS_IMPORT!$A$2:$A$10000),0)+ROWS($1:11)-1,COLUMN()-1),0)","v":"11:20:38.030"},{"$f":"IF(ROWS(GPS_IMPORT!$1:11)<=COUNTIF(GPS_IMPORT!$A$2:$A$10000,$B$5),INDEX(GPS_IMPORT!$2:$10000,MATCH($B$5,(GPS_IMPORT!$A$2:$A$10000),0)+ROWS($1:11)-1,COLUMN()-1),0)","v":332046.720687302},{"$f":"IF(ROWS(GPS_IMPORT!$1:11)<=COUNTIF(GPS_IMPORT!$A$2:$A$10000,$B$5),INDEX(GPS_IMPORT!$2:$10000,MATCH($B$5,(GPS_IMPORT!$A$2:$A$10000),0)+ROWS($1:11)-1,COLUMN()-1),0)","v":2273761.10427301},{"$f":"IF(ROWS(GPS_IMPORT!$1:11)<=COUNTIF(GPS_IMPORT!$A$2:$A$10000,$B$5),INDEX(GPS_IMPORT!$2:$10000,MATCH($B$5,(GPS_IMPORT!$A$2:$A$10000),0)+ROWS($1:11)-1,COLUMN()-1),0)","v":907.68870854547004},5.1394536858424544E-3,3.8208612240850925E-3,-1.9887731495032313E-2,true]
[12,{"$f":"IF(ROWS(GPS_IMPORT!$1:12)<=COUNTIF(GPS_IMPORT!$A$2:$A$10000,$B$5),INDEX(GPS_IMPORT!$2:$10000,MATCH($B$5,(GPS_IMPORT!$A$2:$A$10000),0)+ROWS($1:12)-1,COLUMN()-1),0)","v":"GS13"},{"$f":"IF(ROWS(GPS_IMPORT!$1:12)<=COUNTIF(GPS_IMPORT!$A$2:$A$10000,$B$5),INDEX(GPS_IMPORT!$2:$10000,MATCH($B$5,(GPS_IMPORT!$A$2:$A$10000),0)+ROWS($1:12)-1,COLUMN()-1),0)","v":"12.18.2018"},{"$f":"IF(ROWS(GPS_IMPORT!$1:12)<=COUNTIF(GPS_IMPORT!$A$2:$A$10000,$B$5),INDEX(GPS_IMPORT!$2:$10000,MATCH($B$5,(GPS_IMPORT!$A$2:$A$10000),0)+ROWS($1:12)-1,COLUMN()-1),0)","v":"11:20:50.150"},{"$f":"IF(ROWS(GPS_IMPORT!$1:12)<=COUNTIF(GPS_IMPORT!$A$2:$A$10000,$B$5),INDEX(GPS_IMPORT!$2:$10000,MATCH($B$5,(GPS_IMPORT!$A$2:$A$10000),0)+ROWS($1:12)-1,COLUMN()-1),0)","v":332046.72271082102},{"$f":"IF(ROWS(GPS_IMPORT!$1:12)<=COUNTIF(GPS_IMPORT!$A$2:$A$10000,$B$5),INDEX(GPS_IMPORT!$2:$10000,MATCH($B$5,(GPS_IMPORT!$A$2:$A$10000),0)+ROWS($1:12)-1,COLUMN()-1),0)","v":2273761.1043789699},{"$f":"IF(ROWS(GPS_IMPORT!$1:12)<=COUNTIF(GPS_IMPORT!$A$2:$A$10000,$B$5),INDEX(GPS_IMPORT!$2:$10000,MATCH($B$5,(GPS_IMPORT!$A$2:$A$10000),0)+ROWS($1:12)-1,COLUMN()-1),0)","v":907.68510669012005},3.1159346690401435E-3,3.7149013951420784E-3,-1.6285876145047951E-2,true]
[13,{"$f":"IF(ROWS(GPS_IMPORT!$1:13)<=COUNTIF(GPS_IMPORT!$A$2:$A$10000,$B$5),INDEX(GPS_IMPORT!$2:$10000,MATCH($B$5,(GPS_IMPORT!$A$2:$A$10000),0)+ROWS($1:13)-1,COLUMN()-1),0)","v":"GS13"},{"$f":"IF(ROWS(GPS_IMPORT!$1:13)<=COUNTIF(GPS_IMPORT!$A$2:$A$10000,$B$5),INDEX(GPS_IMPORT!$2:$10000,MATCH($B$5,(GPS_IMPORT!$A$2:$A$10000),0)+ROWS($1:13)-1,COLUMN()-1),0)","v":"12.18.2018"},{"$f":"IF(ROWS(GPS_IMPORT!$1:13)<=COUNTIF(GPS_IMPORT!$A$2:$A$10000,$B$5),INDEX(GPS_IMPORT!$2:$10000,MATCH($B$5,(GPS_IMPORT!$A$2:$A$10000),0)+ROWS($1:13)-1,COLUMN()-1),0)","v":"11:21:04.020"},{"$f":"IF(ROWS(GPS_IMPORT!$1:13)<=COUNTIF(GPS_IMPORT!$A$2:$A$10000,$B$5),INDEX(GPS_IMPORT!$2:$10000,MATCH($B$5,(GPS_IMPORT!$A$2:$A$10000),0)+ROWS($1:13)-1,COLUMN()-1),0)","v":332046.72549768898},{"$f":"IF(ROWS(GPS_IMPORT!$1:13)<=COUNTIF(GPS_IMPORT!$A$2:$A$10000,$B$5),INDEX(GPS_IMPORT!$2:$10000,MATCH($B$5,(GPS_IMPORT!$A$2:$A$10000),0)+ROWS($1:13)-1,COLUMN()-1),0)","v":2273761.1055083401},{"$f":"IF(ROWS(GPS_IMPORT!$1:13)<=COUNTIF(GPS_IMPORT!$A$2:$A$10000,$B$5),INDEX(GPS_IMPORT!$2:$10000,MATCH($B$5,(GPS_IMPORT!$A$2:$A$10000),0)+ROWS($1:13)-1,COLUMN()-1),0)","v":907.68477472379004},{"$f":"IF(E19>0,E$22-E19,0)","v":3.290667082183063E-4},2.5855312123894691E-3,-1.5953909815038969E-2,false]
[14,{"$f":"IF(ROWS(GPS_IMPORT!$1:14)<=COUNTIF(GPS_IMPORT!$A$2:$A$10000,$B$5),INDEX(GPS_IMPORT!$2:$10000,MATCH($B$5,(GPS_IMPORT!$A$2:$A$10000),0)+ROWS($1:14)-1,COLUMN()-1),0)","v":"GS13"},{"$f":"IF(ROWS(GPS_IMPORT!$1:14)<=COUNTIF(GPS_IMPORT!$A$2:$A$10000,$B$5),INDEX(GPS_IMPORT!$2:$10000,MATCH($B$5,(GPS_IMPORT!$A$2:$A$10000),0)+ROWS($1:14)-1,COLUMN()-1),0)","v":"12.18.2018"},{"$f":"IF(ROWS(GPS_IMPORT!$1:14)<=COUNTIF(GPS_IMPORT!$A$2:$A$10000,$B$5),INDEX(GPS_IMPORT!$2:$10000,MATCH($B$5,(GPS_IMPORT!$A$2:$A$10000),0)+ROWS($1:14)-1,COLUMN()-1),0)","v":"11:21:17.950"},{"$f":"IF(ROWS(GPS_IMPORT!$1:14)<=COUNTIF(GPS_IMPORT!$A$2:$A$10000,$B$5),INDEX(GPS_IMPORT!$2:$10000,MATCH($B$5,(GPS_IMPORT!$A$2:$A$10000),0)+ROWS($1:14)-1,COLUMN()-1),0)","v":332046.723522457},{"$f":"IF(ROWS(GPS_IMPORT!$1:14)<=COUNTIF(GPS_IMPORT!$A$2:$A$10000,$B$5),INDEX(GPS_IMPORT!$2:$10000,MATCH($B$5,(GPS_IMPORT!$A$2:$A$10000),0)+ROWS($1:14)-1,COLUMN()-1),0)","v":2273761.1057923501},{"$f":"IF(ROWS(GPS_IMPORT!$1:14)<=COUNTIF(GPS_IMPORT!$A$2:$A$10000,$B$5),INDEX(GPS_IMPORT!$2:$10000,MATCH($B$5,(GPS_IMPORT!$A$2:$A$10000),0)+ROWS($1:14)-1,COLUMN()-1),0)","v":907.70200599026998},2.3042986867949367E-3,2.3015211336314678E-3,-3.3185176294978191E-2,false]
[15,{"$f":"IF(ROWS(GPS_IMPORT!$1:15)<=COUNTIF(GPS_IMPORT!$A$2:$A$10000,$B$5),INDEX(GPS_IMPORT!$2:$10000,MATCH($B$5,(GPS_IMPORT!$A$2:$A$10000),0)+ROWS($1:15)-1,COLUMN()-1),0)","v":0},{"$f":"IF(ROWS(GPS_IMPORT!$1:15)<=COUNTIF(GPS_IMPORT!$A$2:$A$10000,$B$5),INDEX(GPS_IMPORT!$2:$10000,MATCH($B$5,(GPS_IMPORT!$A$2:$A$10000),0)+ROWS($1:15)-1,COLUMN()-1),0)","v":"00:00:00"},{"$f":"IF(ROWS(GPS_IMPORT!$1:15)<=COUNTIF(GPS_IMPORT!$A$2:$A$10000,$B$5),INDEX(GPS_IMPORT!$2:$10000,MATCH($B$5,(GPS_IMPORT!$A$2:$A$10000),0)+ROWS($1:15)-1,COLUMN()-1),0)","v":"00:00:00"},{"$f":"IF(ROWS(GPS_IMPORT!$1:15)<=COUNTIF(GPS_IMPORT!$A$2:$A$10000,$B$5),INDEX(GPS_IMPORT!$2:$10000,MATCH($B$5,(GPS_IMPORT!$A$2:$A$10000),0)+ROWS($1:15)-1,COLUMN()-1),0)","v":0},{"$f":"IF(ROWS(GPS_IMPORT!$1:15)<=COUNTIF(GPS_IMPORT!$A$2:$A$10000,$B$5),INDEX(GPS_IMPORT!$2:$10000,MATCH($B$5,(GPS_IMPORT!$A$2:$A$10000),0)+ROWS($1:15)-1,COLUMN()-1),0)","v":0},{"$f":"IF(ROWS(GPS_IMPORT!$1:15)<=COUNTIF(GPS_IMPORT!$A$2:$A$10000,$B$5),INDEX(GPS_IMPORT!$2:$10000,MATCH($B$5,(GPS_IMPORT!$A$2:$A$10000),0)+ROWS($1:15)-1,COLUMN()-1),0)","v":0},0,0,0,false]
[null,null,null,"AVERAGE",{"$f":"(IF($K$7=TRUE,E7,0)+IF($K$8=TRUE,E8,0)+IF($K$9=TRUE,E9,0)+IF($K$10=TRUE,E10,0)+IF($K$11=TRUE,E11,0)+IF($K$12=TRUE,E12,0)+IF($K$13=TRUE,E13,0)+IF($K$14=TRUE,E14,0)+IF($K$15=TRUE,E15,0)+IF($K$16=TRUE,E16,0)+IF($K$17=TRUE,E17,0)+IF($K$18=TRUE,E18,0)+IF($K$19=TRUE,E19,0)+IF($K$20=TRUE,E20,0)+IF($K$21=TRUE,E21,0))/(IF($K$7=TRUE,1,0)+IF($K$8=TRUE,1,0)+IF($K$9=TRUE,1,0)+IF($K$10=TRUE,1,0)+IF($K$11=TRUE,1,0)+IF($K$12=TRUE,1,0)+IF($K$13=TRUE,1,0)+IF($K$14=TRUE,1,0)+IF($K$15=TRUE,1,0)+IF($K$16=TRUE,1,0)+IF($K$17=TRUE,1,0)+IF($K$18=TRUE,1,0)+IF($K$19=TRUE,1,0)+IF($K$20=TRUE,1,0)+IF($K$21=TRUE,1,0))","v":332046.72582675569},{"$f":"(IF($K$7=TRUE,F7,0)+IF($K$8=TRUE,F8,0)+IF($K$9=TRUE,F9,0)+IF($K$10=TRUE,F10,0)+IF($K$11=TRUE,F11,0)+IF($K$12=TRUE,F12,0)+IF($K$13=TRUE,F13,0)+IF($K$14=TRUE,F14,0)+IF($K$15=TRUE,F15,0)+IF($K$16=TRUE,F16,0)+IF($K$17=TRUE,F17,0)+IF($K$18=TRUE,F18,0)+IF($K$19=TRUE,F19,0)+IF($K$20=TRUE,F20,0)+IF($K$21=TRUE,F21,0))/(IF($K$7=TRUE,1,0)+IF($K$8=TRUE,1,0)+IF($K$9=TRUE,1,0)+IF($K$10=TRUE,1,0)+IF($K$11=TRUE,1,0)+IF($K$12=TRUE,1,0)+IF($K$13=TRUE,1,0)+IF($K$14=TRUE,1,0)+IF($K$15=TRUE,1,0)+IF($K$16=TRUE,1,0)+IF($K$17=TRUE,1,0)+IF($K$18=TRUE,1,0)+IF($K$19=TRUE,1,0)+IF($K$20=TRUE,1,0)+IF($K$21=TRUE,1,0))","v":2273761.1080938713},{"$f":"(IF($K$7=TRUE,G7,0)+IF($K$8=TRUE,G8,0)+IF($K$9=TRUE,G9,0)+IF($K$10=TRUE,G10,0)+IF($K$11=TRUE,G11,0)+IF($K$12=TRUE,G12,0)+IF($K$13=TRUE,G13,0)+IF($K$14=TRUE,G14,0)+IF($K$15=TRUE,G15,0)+IF($K$16=TRUE,G16,0)+IF($K$17=TRUE,G17,0)+IF($K$18=TRUE,G18,0)+IF($K$19=TRUE,G19,0)+IF($K$20=TRUE,G20,0)+IF($K$21=TRUE,G21,0))/\n(IF($K$7=TRUE,1,0)+IF($K$8=TRUE,1,0)+IF($K$9=TRUE,1,0)+IF($K$10=TRUE,1,0)+IF($K$11=TRUE,1,0)+IF($K$12=TRUE,1,0)+IF($K$13=TRUE,1,0)+IF($K$14=TRUE,1,0)+IF($K$15=TRUE,1,0)+IF($K$16=TRUE,1,0)+IF($K$17=TRUE,1,0)+IF($K$18=TRUE,1,0)+IF($K$19=TRUE,1,0)+IF($K$20=TRUE,1,0)+IF($K$21=TRUE,1,0))","v":907.668820813975},"RMSE:","RMSE:","RMSE:"]
[null,null,null,null,null,null,"RMSE IN US SURVEY FEET:",{"$f":"SQRT((\n(IF($K$7=TRUE,H7^2,0))+(IF($K$8=TRUE,H8^2,0))+(IF($K$9=TRUE,H9^2,0))+(IF($K$10=TRUE,H10^2,0))+(IF($K$11=TRUE,H11^2,0))+(IF($K$12=TRUE,H12^2,0))+(IF($K$13=TRUE,H13^2,0))+(IF($K$14=TRUE,H14^2,0))+(IF($K$15=TRUE,H15^2,0))+(IF($K$16=TRUE,H16^2,0))+(IF($K$17=TRUE,H17^2,0))+(IF($K$18=TRUE,H18^2,0))+(IF($K$19=TRUE,H19^2,0))+(IF($K$20=TRUE,H20^2,0))+(IF($K$21=TRUE,H21^2,0)))/\n(IF($K$7=TRUE,1,0)+IF($K$8=TRUE,1,0)+IF($K$9=TRUE,1,0)+IF($K$10=TRUE,1,0)+IF($K$11=TRUE,1,0)+IF($K$12=TRUE,1,0)+IF($K$13=TRUE,1,0)+IF($K$14=TRUE,1,0)+IF($K$15=TRUE,1,0)+IF($K$16=TRUE,1,0)+IF($K$17=TRUE,1,0)+IF($K$18=TRUE,1,0)+IF($K$19=TRUE,1,0)+IF($K$20=TRUE,1,0)+IF($K$21=TRUE,1,0)))","v":4.1594048533917039E-3},{"$f":"SQRT((\n(IF($K$7=TRUE,I7^2,0))+(IF($K$8=TRUE,I8^2,0))+(IF($K$9=TRUE,I9^2,0))+(IF($K$10=TRUE,I10^2,0))+(IF($K$11=TRUE,I11^2,0))+(IF($K$12=TRUE,I12^2,0))+(IF($K$13=TRUE,I13^2,0))+(IF($K$14=TRUE,I14^2,0))+(IF($K$15=TRUE,I15^2,0))+(IF($K$16=TRUE,I16^2,0))+(IF($K$17=TRUE,I17^2,0))+(IF($K$18=TRUE,I18^2,0))+(IF($K$19=TRUE,I19^2,0))+(IF($K$20=TRUE,I20^2,0))+(IF($K$21=TRUE,I21^2,0)))/\n(IF($K$7=TRUE,1,0)+IF($K$8=TRUE,1,0)+IF($K$9=TRUE,1,0)+IF($K$10=TRUE,1,0)+IF($K$11=TRUE,1,0)+IF($K$12=TRUE,1,0)+IF($K$13=TRUE,1,0)+IF($K$14=TRUE,1,0)+IF($K$15=TRUE,1,0)+IF($K$16=TRUE,1,0)+IF($K$17=TRUE,1,0)+IF($K$18=TRUE,1,0)+IF($K$19=TRUE,1,0)+IF($K$20=TRUE,1,0)+IF($K$21=TRUE,1,0)))","v":2.8993477908806028E-3},{"$f":"SQRT((\n(IF($K$7=TRUE,J7^2,0))+(IF($K$8=TRUE,J8^2,0))+(IF($K$9=TRUE,J9^2,0))+(IF($K$10=TRUE,J10^2,0))+(IF($K$11=TRUE,J11^2,0))+(IF($K$12=TRUE,J12^2,0))+(IF($K$13=TRUE,J13^2,0))+(IF($K$14=TRUE,J14^2,0))+(IF($K$15=TRUE,J15^2,0))+(IF($K$16=TRUE,J16^2,0))+(IF($K$17=TRUE,J17^2,0))+(IF($K$18=TRUE,J18^2,0))+(IF($K$19=TRUE,J19^2,0))+(IF($K$20=TRUE,J20^2,0))+(IF($K$21=TRUE,J21^2,0)))/\n(IF($K$7=TRUE,1,0)+IF($K$8=TRUE,1,0)+IF($K$9=TRUE,1,0)+IF($K$10=TRUE,1,0)+IF($K$11=TRUE,1,0)+IF($K$12=TRUE,1,0)+IF($K$13=TRUE,1,0)+IF($K$14=TRUE,1,0)+IF($K$15=TRUE,1,0)+IF($K$16=TRUE,1,0)+IF($K$17=TRUE,1,0)+IF($K$18=TRUE,1,0)+IF($K$19=TRUE,1,0)+IF($K$20=TRUE,1,0)+IF($K$21=TRUE,1,0)))","v":1.2847890631687595E-2}]
[null,null,null,1]
[null,null,"UNITLESS GRID TO GROUND MULTIPLIER",{"$f":"IF(REPORT!C13=\"n/a\",\"0.00000000\",REPORT!C13)","v":0},null,null,null,{"$f":"IF(H23<=0.029,\"PASS\",\"FAIL\")","v":"PASS"},{"$f":"IF(I23<=0.029,\"PASS\",\"FAIL\")","v":"PASS"},{"$f":"IF(J23<=0.039,\"PASS\",\"FAIL\")","v":"PASS"}]
[]
["AVERAGED GPS-DERIVED POSITION",null,null,null,null,null,null,null,"Notes:"]
[null,"MONUMENT COORDINATES",null,"NORTHING","EASTING","ORTHO HEIGHT"]
[null,"US Survey Feet (GRID)",null,{"$f":"$E$22","v":332046.72582675569},{"$f":"F22","v":2273761.1080938713},{"$f":"G22","v":907.668820813975}]
[]
["LEVELED ELEVATION"]
["US SURVEY FEET",null,"N/A","(Type the leveled elevation or N/A if no leveled elevation is available)"]
["MONUMENT HELD",null,null,"(Type the monument name from which leveling originated)"]
["LEVELED ELEVATION - GPS DERIVED ELEVATION   = ",null,null,null,{"$f":"IF(C32=\"N/A\",\"N/A\",C32-(F29*D24))","v":"N/A"}]
[]
["FINAL MONUMENT COORDINATES"]
[null,"MONUMENT COORDINATES",null,"NORTHING","EASTING","ELEVATION","FEATURE CODE"]
[null,"US SURVEY FEET (GRID)",null,{"$f":"$E$22*$D$24","v":332046.72582675569},{"$f":"$F$22*$D$24","v":2273761.1080938713},{"$f":"IF($C$32=\"N/A\",($G$22*$D$24),$C$32)","v":907.668820813975},"AERTAR"]
[null,"US SURVEY FEET (GROUND)",null,{"$f":"$D$38*$D$25","v":0},{"$f":"$E$38*$D$25","v":0},{"$f":"IF($C$32=\"N/A\",($G$22*$D$24),$C$32)","v":907.668820813975},{"$f":"G38","v":"AERTAR"}]
[]
["∆ North,  ∆ East, and ∆ Ht. are the difference between the average northing, easting, and height for each observation.",null,null,null,null,null,null,null,"Mask Angle:","10°"]

{"sheet":"GS14","index":20,"n_rows":41,"n_cols":11,"rows_kept":41,"cut":false,"hidden":false,"merged":[[0,0,0,10],[26,0,26,6],[27,1,27,2],[27,8,38,10],[28,1,28,2],[30,0,30,6],[35,0,35,6],[36,1,36,2],[37,1,37,2],[38,1,38,2]]}
["VRS GNSS Project Control Monument Coordinate Analysis"]
[]
["Project:",{"$f":"REPORT!B2","v":"TUS-800-22.74"},"GPS Antenna:","LEICA GS14",null,null,null,null,null,"Report Date:",{"$f":"REPORT!C49","v":"2018-12-19"}]
["PID:",{"$f":"REPORT!E2","v":100603},"VRS Network:","ODOT VRS",null,null,null,null,null,"Prepared By:",{"$f":"REPORT!C48","v":"Kolton Wilson"}]
["Point ID:","GS14","No. of Sessions:",{"$f":"COUNTIF(GPS_IMPORT!A2:A1000,$B$5)","v":12},null,null,null,null,null,"Checked By:",{"$f":"REPORT!C52","v":"Joel Swick"}]
["SESSION #","Point","Observation Date","Start Time","Northing(sft)","Easting(sft)","Height(sft)","∆ Northing(sft)","∆ Easting(sft)","∆ Height(sft)","Include in Solution?"]
[1,{"$f":"IF(ROWS(GPS_IMPORT!$1:1)<=COUNTIF(GPS_IMPORT!$A$2:$A$10000,$B$5),INDEX(GPS_IMPORT!$2:$10000,MATCH($B$5,(GPS_IMPORT!$A$2:$A$10000),0)+ROWS($1:1)-1,COLUMN()-1),0)","v":"GS14"},{"$f":"IF(ROWS(GPS_IMPORT!$1:1)<=COUNTIF(GPS_IMPORT!$A$2:$A$10000,$B$5),INDEX(GPS_IMPORT!$2:$10000,MATCH($B$5,(GPS_IMPORT!$A$2:$A$10000),0)+ROWS($1:1)-1,COLUMN()-1),0)","v":"12.18.2018"},{"$f":"IF(ROWS(GPS_IMPORT!$1:1)<=COUNTIF(GPS_IMPORT!$A$2:$A$10000,$B$5),INDEX(GPS_IMPORT!$2:$10000,MATCH($B$5,(GPS_IMPORT!$A$2:$A$10000),0)+ROWS($1:1)-1,COLUMN()-1),0)","v":"11:24:35.930"},{"$f":"IF(ROWS(GPS_IMPORT!$1:1)<=COUNTIF(GPS_IMPORT!$A$2:$A$10000,$B$5),INDEX(GPS_IMPORT!$2:$10000,MATCH($B$5,(GPS_IMPORT!$A$2:$A$10000),0)+ROWS($1:1)-1,COLUMN()-1),0)","v":334532.58943039598},{"$f":"IF(ROWS(GPS_IMPORT!$1:1)<=COUNTIF(GPS_IMPORT!$A$2:$A$10000,$B$5),INDEX(GPS_IMPORT!$2:$10000,MATCH($B$5,(GPS_IMPORT!$A$2:$A$10000),0)+ROWS($1:1)-1,COLUMN()-1),0)","v":2275980.4883043398},{"$f":"IF(ROWS(GPS_IMPORT!$1:1)<=COUNTIF(GPS_IMPORT!$A$2:$A$10000,$B$5),INDEX(GPS_IMPORT!$2:$10000,MATCH($B$5,(GPS_IMPORT!$A$2:$A$10000),0)+ROWS($1:1)-1,COLUMN()-1),0)","v":901.94798711354997},{"$f":"IF(E7>0,E$22-E7,0)","v":-4.5944259618408978E-3},3.5280641168355942E-3,1.3731364212617336E-2,true]
[2,{"$f":"IF(ROWS(GPS_IMPORT!$1:2)<=COUNTIF(GPS_IMPORT!$A$2:$A$10000,$B$5),INDEX(GPS_IMPORT!$2:$10000,MATCH($B$5,(GPS_IMPORT!$A$2:$A$10000),0)+ROWS($1:2)-1,COLUMN()-1),0)","v":"GS14"},{"$f":"IF(ROWS(GPS_IMPORT!$1:2)<=COUNTIF(GPS_IMPORT!$A$2:$A$10000,$B$5),INDEX(GPS_IMPORT!$2:$10000,MATCH($B$5,(GPS_IMPORT!$A$2:$A$10000),0)+ROWS($1:2)-1,COLUMN()-1),0)","v":"12.18.2018"},{"$f":"IF(ROWS(GPS_IMPORT!$1:2)<=COUNTIF(GPS_IMPORT!$A$2:$A$10000,$B$5),INDEX(GPS_IMPORT!$2:$10000,MATCH($B$5,(GPS_IMPORT!$A$2:$A$10000),0)+ROWS($1:2)-1,COLUMN()-1),0)","v":"11:24:47.760"},{"$f":"IF(ROWS(GPS_IMPORT!$1:2)<=COUNTIF(GPS_IMPORT!$A$2:$A$10000,$B$5),INDEX(GPS_IMPORT!$2:$10000,MATCH($B$5,(GPS_IMPORT!$A$2:$A$10000),0)+ROWS($1:2)-1,COLUMN()-1),0)","v":334532.58584810799},{"$f":"IF(ROWS(GPS_IMPORT!$1:2)<=COUNTIF(GPS_IMPORT!$A$2:$A$10000,$B$5),INDEX(GPS_IMPORT!$2:$10000,MATCH($B$5,(GPS_IMPORT!$A$2:$A$10000),0)+ROWS($1:2)-1,COLUMN()-1),0)","v":2275980.49092534},{"$f":"IF(ROWS(GPS_IMPORT!$1:2)<=COUNTIF(GPS_IMPORT!$A$2:$A$10000,$B$5),INDEX(GPS_IMPORT!$2:$10000,MATCH($B$5,(GPS_IMPORT!$A$2:$A$10000),0)+ROWS($1:2)-1,COLUMN()-1),0)","v":901.94194815567005},-1.0121379746124148E-3,9.0706394985318184E-4,1.9770322092540482E-2,true]
[3,{"$f":"IF(ROWS(GPS_IMPORT!$1:3)<=COUNTIF(GPS_IMPORT!$A$2:$A$10000,$B$5),INDEX(GPS_IMPORT!$2:$10000,MATCH($B$5,(GPS_IMPORT!$A$2:$A$10000),0)+ROWS($1:3)-1,COLUMN()-1),0)","v":"GS14"},{"$f":"IF(ROWS(GPS_IMPORT!$1:3)<=COUNTIF(GPS_IMPORT!$A$2:$A$10000,$B$5),INDEX(GPS_IMPORT!$2:$10000,MATCH($B$5,(GPS_IMPORT!$A$2:$A$10000),0)+ROWS($1:3)-1,COLUMN()-1),0)","v":"12.18.2018"},{"$f":"IF(ROWS(GPS_IMPORT!$1:3)<=COUNTIF(GPS_IMPORT!$A$2:$A$10000,$B$5),INDEX(GPS_IMPORT!$2:$10000,MATCH($B$5,(GPS_IMPORT!$A$2:$A$10000),0)+ROWS($1:3)-1,COLUMN()-1),0)","v":"11:24:59.710"},{"$f":"IF(ROWS(GPS_IMPORT!$1:3)<=COUNTIF(GPS_IMPORT!$A$2:$A$10000,$B$5),INDEX(GPS_IMPORT!$2:$10000,MATCH($B$5,(GPS_IMPORT!$A$2:$A$10000),0)+ROWS($1:3)-1,COLUMN()-1),0)","v":334532.58060811099},{"$f":"IF(ROWS(GPS_IMPORT!$1:3)<=COUNTIF(GPS_IMPORT!$A$2:$A$10000,$B$5),INDEX(GPS_IMPORT!$2:$10000,MATCH($B$5,(GPS_IMPORT!$A$2:$A$10000),0)+ROWS($1:3)-1,COLUMN()-1),0)","v":2275980.4905196899},{"$f":"IF(ROWS(GPS_IMPORT!$1:3)<=COUNTIF(GPS_IMPORT!$A$2:$A$10000,$B$5),INDEX(GPS_IMPORT!$2:$10000,MATCH($B$5,(GPS_IMPORT!$A$2:$A$10000),0)+ROWS($1:3)-1,COLUMN()-1),0)","v":901.94588911504002},4.227859026286751E-3,1.3127140700817108E-3,1.5829362722570295E-2,true]
[4,{"$f":"IF(ROWS(GPS_IMPORT!$1:4)<=COUNTIF(GPS_IMPORT!$A$2:$A$10000,$B$5),INDEX(GPS_IMPORT!$2:$10000,MATCH($B$5,(GPS_IMPORT!$A$2:$A$10000),0)+ROWS($1:4)-1,COLUMN()-1),0)","v":"GS14"},{"$f":"IF(ROWS(GPS_IMPORT!$1:4)<=COUNTIF(GPS_IMPORT!$A$2:$A$10000,$B$5),INDEX(GPS_IMPORT!$2:$10000,MATCH($B$5,(GPS_IMPORT!$A$2:$A$10000),0)+ROWS($1:4)-1,COLUMN()-1),0)","v":"12.18.2018"},{"$f":"IF(ROWS(GPS_IMPORT!$1:4)<=COUNTIF(GPS_IMPORT!$A$2:$A$10000,$B$5),INDEX(GPS_IMPORT!$2:$10000,MATCH($B$5,(GPS_IMPORT!$A$2:$A$10000),0)+ROWS($1:4)-1,COLUMN()-1),0)","v":"11:25:11.700"},{"$f":"IF(ROWS(GPS_IMPORT!$1:4)<=COUNTIF(GPS_IMPORT!$A$2:$A$10000,$B$5),INDEX(GPS_IMPORT!$2:$10000,MATCH($B$5,(GPS_IMPORT!$A$2:$A$10000),0)+ROWS($1:4)-1,COLUMN()-1),0)","v":334532.579199053},{"$f":"IF(ROWS(GPS_IMPORT!$1:4)<=COUNTIF(GPS_IMPORT!$A$2:$A$10000,$B$5),INDEX(GPS_IMPORT!$2:$10000,MATCH($B$5,(GPS_IMPORT!$A$2:$A$10000),0)+ROWS($1:4)-1,COLUMN()-1),0)","v":2275980.4899816802},{"$f":"IF(ROWS(GPS_IMPORT!$1:4)<=COUNTIF(GPS_IMPORT!$A$2:$A$10000,$B$5),INDEX(GPS_IMPORT!$2:$10000,MATCH($B$5,(GPS_IMPORT!$A$2:$A$10000),0)+ROWS($1:4)-1,COLUMN()-1),0)","v":901.94284665709995},5.6369170197285712E-3,1.8507237546145916E-3,1.8871820662639038E-2,true]
[5,{"$f":"IF(ROWS(GPS_IMPORT!$1:5)<=COUNTIF(GPS_IMPORT!$A$2:$A$10000,$B$5),INDEX(GPS_IMPORT!$2:$10000,MATCH($B$5,(GPS_IMPORT!$A$2:$A$10000),0)+ROWS($1:5)-1,COLUMN()-1),0)","v":"GS14"},{"$f":"IF(ROWS(GPS_IMPORT!$1:5)<=COUNTIF(GPS_IMPORT!$A$2:$A$10000,$B$5),INDEX(GPS_IMPORT!$2:$10000,MATCH($B$5,(GPS_IMPORT!$A$2:$A$10000),0)+ROWS($1:5)-1,COLUMN()-1),0)","v":"12.18.2018"},{"$f":"IF(ROWS(GPS_IMPORT!$1:5)<=COUNTIF(GPS_IMPORT!$A$2:$A$10000,$B$5),INDEX(GPS_IMPORT!$2:$10000,MATCH($B$5,(GPS_IMPORT!$A$2:$A$10000),0)+ROWS($1:5)-1,COLUMN()-1),0)","v":"11:25:30.030"},{"$f":"IF(ROWS(GPS_IMPORT!$1:5)<=COUNTIF(GPS_IMPORT!$A$2:$A$10000,$B$5),INDEX(GPS_IMPORT!$2:$10000,MATCH($B$5,(GPS_IMPORT!$A$2:$A$10000),0)+ROWS($1:5)-1,COLUMN()-1),0)","v":334532.58448146802},{"$f":"IF(ROWS(GPS_IMPORT!$1:5)<=COUNTIF(GPS_IMPORT!$A$2:$A$10000,$B$5),INDEX(GPS_IMPORT!$2:$10000,MATCH($B$5,(GPS_IMPORT!$A$2:$A$10000),0)+ROWS($1:5)-1,COLUMN()-1),0)","v":2275980.4906849698},{"$f":"IF(ROWS(GPS_IMPORT!$1:5)<=COUNTIF(GPS_IMPORT!$A$2:$A$10000,$B$5),INDEX(GPS_IMPORT!$2:$10000,MATCH($B$5,(GPS_IMPORT!$A$2:$A$10000),0)+ROWS($1:5)-1,COLUMN()-1),0)","v":901.95881315766997},3.5450200084596872E-4,1.1474341154098511E-3,2.9053200926227873E-3,true]
[6,{"$f":"IF(ROWS(GPS_IMPORT!$1:6)<=COUNTIF(GPS_IMPORT!$A$2:$A$10000,$B$5),INDEX(GPS_IMPORT!$2:$10000,MATCH($B$5,(GPS_IMPORT!$A$2:$A$10000),0)+ROWS($1:6)-1,COLUMN()-1),0)","v":"GS14"},{"$f":"IF(ROWS(GPS_IMPORT!$1:6)<=COUNTIF(GPS_IMPORT!$A$2:$A$10000,$B$5),INDEX(GPS_IMPORT!$2:$10000,MATCH($B$5,(GPS_IMPORT!$A$2:$A$10000),0)+ROWS($1:6)-1,COLUMN()-1),0)","v":"12.18.2018"},{"$f":"IF(ROWS(GPS_IMPORT!$1:6)<=COUNTIF(GPS_IMPORT!$A$2:$A$10000,$B$5),INDEX(GPS_IMPORT!$2:$10000,MATCH($B$5,(GPS_IMPORT!$A$2:$A$10000),0)+ROWS($1:6)-1,COLUMN()-1),0)","v":"11:25:42.210"},{"$f":"IF(ROWS(GPS_IMPORT!$1:6)<=COUNTIF(GPS_IMPORT!$A$2:$A$10000,$B$5),INDEX(GPS_IMPORT!$2:$10000,MATCH($B$5,(GPS_IMPORT!$A$2:$A$10000),0)+ROWS($1:6)-1,COLUMN()-1),0)","v":334532.58808138798},{"$f":"IF(ROWS(GPS_IMPORT!$1:6)<=COUNTIF(GPS_IMPORT!$A$2:$A$10000,$B$5),INDEX(GPS_IMPORT!$2:$10000,MATCH($B$5,(GPS_IMPORT!$A$2:$A$10000),0)+ROWS($1:6)-1,COLUMN()-1),0)","v":2275980.49409043},{"$f":"IF(ROWS(GPS_IMPORT!$1:6)<=COUNTIF(GPS_IMPORT!$A$2:$A$10000,$B$5),INDEX(GPS_IMPORT!$2:$10000,MATCH($B$5,(GPS_IMPORT!$A$2:$A$10000),0)+ROWS($1:6)-1,COLUMN()-1),0)","v":901.96905210918999},-3.2454179599881172E-3,-2.2580260410904884E-3,-7.3336314274001779E-3,true]
[7,{"$f":"IF(ROWS(GPS_IMPORT!$1:7)<=COUNTIF(GPS_IMPORT!$A$2:$A$10000,$B$5),INDEX(GPS_IMPORT!$2:$10000,MATCH($B$5,(GPS_IMPORT!$A$2:$A$10000),0)+ROWS($1:7)-1,COLUMN()-1),0)","v":"GS14"},{"$f":"IF(ROWS(GPS_IMPORT!$1:7)<=COUNTIF(GPS_IMPORT!$A$2:$A$10000,$B$5),INDEX(GPS_IMPORT!$2:$10000,MATCH($B$5,(GPS_IMPORT!$A$2:$A$10000),0)+ROWS($1:7)-1,COLUMN()-1),0)","v":"12.18.2018"},{"$f":"IF(ROWS(GPS_IMPORT!$1:7)<=COUNTIF(GPS_IMPORT!$A$2:$A$10000,$B$5),INDEX(GPS_IMPORT!$2:$10000,MATCH($B$5,(GPS_IMPORT!$A$2:$A$10000),0)+ROWS($1:7)-1,COLUMN()-1),0)","v":"11:25:53.860"},{"$f":"IF(ROWS(GPS_IMPORT!$1:7)<=COUNTIF(GPS_IMPORT!$A$2:$A$10000,$B$5),INDEX(GPS_IMPORT!$2:$10000,MATCH($B$5,(GPS_IMPORT!$A$2:$A$10000),0)+ROWS($1:7)-1,COLUMN()-1),0)","v":334532.59226557799},{"$f":"IF(ROWS(GPS_IMPORT!$1:7)<=COUNTIF(GPS_IMPORT!$A$2:$A$10000,$B$5),INDEX(GPS_IMPORT!$2:$10000,MATCH($B$5,(GPS_IMPORT!$A$2:$A$10000),0)+ROWS($1:7)-1,COLUMN()-1),0)","v":2275980.49389331},{"$f":"IF(ROWS(GPS_IMPORT!$1:7)<=COUNTIF(GPS_IMPORT!$A$2:$A$10000,$B$5),INDEX(GPS_IMPORT!$2:$10000,MATCH($B$5,(GPS_IMPORT!$A$2:$A$10000),0)+ROWS($1:7)-1,COLUMN()-1),0)","v":901.9725404308},-7.4296079692430794E-3,-2.0609060302376747E-3,-1.0821953037407184E-2,true]
[8,{"$f":"IF(ROWS(GPS_IMPORT!$1:8)<=COUNTIF(GPS_IMPORT!$A$2:$A$10000,$B$5),INDEX(GPS_IMPORT!$2:$10000,MATCH($B$5,(GPS_IMPORT!$A$2:$A$10000),0)+ROWS($1:8)-1,COLUMN()-1),0)","v":"GS14"},{"$f":"IF(ROWS(GPS_IMPORT!$1:8)<=COUNTIF(GPS_IMPORT!$A$2:$A$10000,$B$5),INDEX(GPS_IMPORT!$2:$10000,MATCH($B$5,(GPS_IMPORT!$A$2:$A$10000),0)+ROWS($1:8)-1,COLUMN()-1),0)","v":"12.18.2018"},{"$f":"IF(ROWS(GPS_IMPORT!$1:8)<=COUNTIF(GPS_IMPORT!$A$2:$A$10000,$B$5),INDEX(GPS_IMPORT!$2:$10000,MATCH($B$5,(GPS_IMPORT!$A$2:$A$10000),0)+ROWS($1:8)-1,COLUMN()-1),0)","v":"11:26:07.310"},{"$f":"IF(ROWS(GPS_IMPORT!$1:8)<=COUNTIF(GPS_IMPORT!$A$2:$A$10000,$B$5),INDEX(GPS_IMPORT!$2:$10000,MATCH($B$5,(GPS_IMPORT!$A$2:$A$10000),0)+ROWS($1:8)-1,COLUMN()-1),0)","v":334532.58824832999},{"$f":"IF(ROWS(GPS_IMPORT!$1:8)<=COUNTIF(GPS_IMPORT!$A$2:$A$10000,$B$5),INDEX(GPS_IMPORT!$2:$10000,MATCH($B$5,(GPS_IMPORT!$A$2:$A$10000),0)+ROWS($1:8)-1,COLUMN()-1),0)","v":2275980.4961274499},{"$f":"IF(ROWS(GPS_IMPORT!$1:8)<=COUNTIF(GPS_IMPORT!$A$2:$A$10000,$B$5),INDEX(GPS_IMPORT!$2:$10000,MATCH($B$5,(GPS_IMPORT!$A$2:$A$10000),0)+ROWS($1:8)-1,COLUMN()-1),0)","v":901.9913485198},-3.4123599762097001E-3,-4.2950459755957127E-3,-2.9630042037410931E-2,true]
[9,{"$f":"IF(ROWS(GPS_IMPORT!$1:9)<=COUNTIF(GPS_IMPORT!$A$2:$A$10000,$B$5),INDEX(GPS_IMPORT!$2:$10000,MATCH($B$5,(GPS_IMPORT!$A$2:$A$10000),0)+ROWS($1:9)-1,COLUMN()-1),0)","v":"GS14"},{"$f":"IF(ROWS(GPS_IMPORT!$1:9)<=COUNTIF(GPS_IMPORT!$A$2:$A$10000,$B$5),INDEX(GPS_IMPORT!$2:$10000,MATCH($B$5,(GPS_IMPORT!$A$2:$A$10000),0)+ROWS($1:9)-1,COLUMN()-1),0)","v":"12.18.2018"},{"$f":"IF(ROWS(GPS_IMPORT!$1:9)<=COUNTIF(GPS_IMPORT!$A$2:$A$10000,$B$5),INDEX(GPS_IMPORT!$2:$10000,MATCH($B$5,(GPS_IMPORT!$A$2:$A$10000),0)+ROWS($1:9)-1,COLUMN()-1),0)","v":"11:26:28.130"},{"$f":"IF(ROWS(GPS_IMPORT!$1:9)<=COUNTIF(GPS_IMPORT!$A$2:$A$10000,$B$5),INDEX(GPS_IMPORT!$2:$10000,MATCH($B$5,(GPS_IMPORT!$A$2:$A$10000),0)+ROWS($1:9)-1,COLUMN()-1),0)","v":334532.58501348901},{"$f":"IF(ROWS(GPS_IMPORT!$1:9)<=COUNTIF(GPS_IMPORT!$A$2:$A$10000,$B$5),INDEX(GPS_IMPORT!$2:$10000,MATCH($B$5,(GPS_IMPORT!$A$2:$A$10000),0)+ROWS($1:9)-1,COLUMN()-1),0)","v":2275980.4935058402},{"$f":"IF(ROWS(GPS_IMPORT!$1:9)<=COUNTIF(GPS_IMPORT!$A$2:$A$10000,$B$5),INDEX(GPS_IMPORT!$2:$10000,MATCH($B$5,(GPS_IMPORT!$A$2:$A$10000),0)+ROWS($1:9)-1,COLUMN()-1),0)","v":901.97041235686004},-1.7751898849382997E-4,-1.6734362579882145E-3,-8.693879097450008E-3,true]
[10,{"$f":"IF(ROWS(GPS_IMPORT!$1:10)<=COUNTIF(GPS_IMPORT!$A$2:$A$10000,$B$5),INDEX(GPS_IMPORT!$2:$10000,MATCH($B$5,(GPS_IMPORT!$A$2:$A$10000),0)+ROWS($1:10)-1,COLUMN()-1),0)","v":"GS14"},{"$f":"IF(ROWS(GPS_IMPORT!$1:10)<=COUNTIF(GPS_IMPORT!$A$2:$A$10000,$B$5),INDEX(GPS_IMPORT!$2:$10000,MATCH($B$5,(GPS_IMPORT!$A$2:$A$10000),0)+ROWS($1:10)-1,COLUMN()-1),0)","v":"12.18.2018"},{"$f":"IF(ROWS(GPS_IMPORT!$1:10)<=COUNTIF(GPS_IMPORT!$A$2:$A$10000,$B$5),INDEX(GPS_IMPORT!$2:$10000,MATCH($B$5,(GPS_IMPORT!$A$2:$A$10000),0)+ROWS($1:10)-1,COLUMN()-1),0)","v":"11:26:38.910"},{"$f":"IF(ROWS(GPS_IMPORT!$1:10)<=COUNTIF(GPS_IMPORT!$A$2:$A$10000,$B$5),INDEX(GPS_IMPORT!$2:$10000,MATCH($B$5,(GPS_IMPORT!$A$2:$A$10000),0)+ROWS($1:10)-1,COLUMN()-1),0)","v":334532.58076317201},{"$f":"IF(ROWS(GPS_IMPORT!$1:10)<=COUNTIF(GPS_IMPORT!$A$2:$A$10000,$B$5),INDEX(GPS_IMPORT!$2:$10000,MATCH($B$5,(GPS_IMPORT!$A$2:$A$10000),0)+ROWS($1:10)-1,COLUMN()-1),0)","v":2275980.4970031199},{"$f":"IF(ROWS(GPS_IMPORT!$1:10)<=COUNTIF(GPS_IMPORT!$A$2:$A$10000,$B$5),INDEX(GPS_IMPORT!$2:$10000,MATCH($B$5,(GPS_IMPORT!$A$2:$A$10000),0)+ROWS($1:10)-1,COLUMN()-1),0)","v":901.96368689523001},4.0727980085648596E-3,-5.1707159727811813E-3,-1.968417467423933E-3,true]
[11,{"$f":"IF(ROWS(GPS_IMPORT!$1:11)<=COUNTIF(GPS_IMPORT!$A$2:$A$10000,$B$5),INDEX(GPS_IMPORT!$2:$10000,MATCH($B$5,(GPS_IMPORT!$A$2:$A$10000),0)+ROWS($1:11)-1,COLUMN()-1),0)","v":"GS14"},{"$f":"IF(ROWS(GPS_IMPORT!$1:11)<=COUNTIF(GPS_IMPORT!$A$2:$A$10000,$B$5),INDEX(GPS_IMPORT!$2:$10000,MATCH($B$5,(GPS_IMPORT!$A$2:$A$10000),0)+ROWS($1:11)-1,COLUMN()-1),0)","v":"12.18.2018"},{"$f":"IF(ROWS(GPS_IMPORT!$1:11)<=COUNTIF(GPS_IMPORT!$A$2:$A$10000,$B$5),INDEX(GPS_IMPORT!$2:$10000,MATCH($B$5,(GPS_IMPORT!$A$2:$A$10000),0)+ROWS($1:11)-1,COLUMN()-1),0)","v":"11:26:50.960"},{"$f":"IF(ROWS(GPS_IMPORT!$1:11)<=COUNTIF(GPS_IMPORT!$A$2:$A$10000,$B$5),INDEX(GPS_IMPORT!$2:$10000,MATCH($B$5,(GPS_IMPORT!$A$2:$A$10000),0)+ROWS($1:11)-1,COLUMN()-1),0)","v":334532.58273155801},{"$f":"IF(ROWS(GPS_IMPORT!$1:11)<=COUNTIF(GPS_IMPORT!$A$2:$A$10000,$B$5),INDEX(GPS_IMPORT!$2:$10000,MATCH($B$5,(GPS_IMPORT!$A$2:$A$10000),0)+ROWS($1:11)-1,COLUMN()-1),0)","v":2275980.4918126902},{"$f":"IF(ROWS(GPS_IMPORT!$1:11)<=COUNTIF(GPS_IMPORT!$A$2:$A$10000,$B$5),INDEX(GPS_IMPORT!$2:$10000,MATCH($B$5,(GPS_IMPORT!$A$2:$A$10000),0)+ROWS($1:11)-1,COLUMN()-1),0)","v":901.96521301455005},2.1044120076112449E-3,1.9713770598173141E-5,-3.4945367874570366E-3,true]
[12,{"$f":"IF(ROWS(GPS_IMPORT!$1:12)<=COUNTIF(GPS_IMPORT!$A$2:$A$10000,$B$5),INDEX(GPS_IMPORT!$2:$10000,MATCH($B$5,(GPS_IMPORT!$A$2:$A$10000),0)+ROWS($1:12)-1,COLUMN()-1),0)","v":"GS14"},{"$f":"IF(ROWS(GPS_IMPORT!$1:12)<=COUNTIF(GPS_IMPORT!$A$2:$A$10000,$B$5),INDEX(GPS_IMPORT!$2:$10000,MATCH($B$5,(GPS_IMPORT!$A$2:$A$10000),0)+ROWS($1:12)-1,COLUMN()-1),0)","v":"12.18.2018"},{"$f":"IF(ROWS(GPS_IMPORT!$1:12)<=COUNTIF(GPS_IMPORT!$A$2:$A$10000,$B$5),INDEX(GPS_IMPORT!$2:$10000,MATCH($B$5,(GPS_IMPORT!$A$2:$A$10000),0)+ROWS($1:12)-1,COLUMN()-1),0)","v":"11:27:02.810"},{"$f":"IF(ROWS(GPS_IMPORT!$1:12)<=COUNTIF(GPS_IMPORT!$A$2:$A$10000,$B$5),INDEX(GPS_IMPORT!$2:$10000,MATCH($B$5,(GPS_IMPORT!$A$2:$A$10000),0)+ROWS($1:12)-1,COLUMN()-1),0)","v":334532.58136098902},{"$f":"IF(ROWS(GPS_IMPORT!$1:12)<=COUNTIF(GPS_IMPORT!$A$2:$A$10000,$B$5),INDEX(GPS_IMPORT!$2:$10000,MATCH($B$5,(GPS_IMPORT!$A$2:$A$10000),0)+ROWS($1:12)-1,COLUMN()-1),0)","v":2275980.4851399902},{"$f":"IF(ROWS(GPS_IMPORT!$1:12)<=COUNTIF(GPS_IMPORT!$A$2:$A$10000,$B$5),INDEX(GPS_IMPORT!$2:$10000,MATCH($B$5,(GPS_IMPORT!$A$2:$A$10000),0)+ROWS($1:12)-1,COLUMN()-1),0)","v":901.97088420769001},3.4749810001812875E-3,6.6924137063324451E-3,-9.1657299274174875E-3,true]
[13,{"$f":"IF(ROWS(GPS_IMPORT!$1:13)<=COUNTIF(GPS_IMPORT!$A$2:$A$10000,$B$5),INDEX(GPS_IMPORT!$2:$10000,MATCH($B$5,(GPS_IMPORT!$A$2:$A$10000),0)+ROWS($1:13)-1,COLUMN()-1),0)","v":0},{"$f":"IF(ROWS(GPS_IMPORT!$1:13)<=COUNTIF(GPS_IMPORT!$A$2:$A$10000,$B$5),INDEX(GPS_IMPORT!$2:$10000,MATCH($B$5,(GPS_IMPORT!$A$2:$A$10000),0)+ROWS($1:13)-1,COLUMN()-1),0)","v":"00:00:00"},{"$f":"IF(ROWS(GPS_IMPORT!$1:13)<=COUNTIF(GPS_IMPORT!$A$2:$A$10000,$B$5),INDEX(GPS_IMPORT!$2:$10000,MATCH($B$5,(GPS_IMPORT!$A$2:$A$10000),0)+ROWS($1:13)-1,COLUMN()-1),0)","v":"00:00:00"},{"$f":"IF(ROWS(GPS_IMPORT!$1:13)<=COUNTIF(GPS_IMPORT!$A$2:$A$10000,$B$5),INDEX(GPS_IMPORT!$2:$10000,MATCH($B$5,(GPS_IMPORT!$A$2:$A$10000),0)+ROWS($1:13)-1,COLUMN()-1),0)","v":0},{"$f":"IF(ROWS(GPS_IMPORT!$1:13)<=COUNTIF(GPS_IMPORT!$A$2:$A$10000,$B$5),INDEX(GPS_IMPORT!$2:$10000,MATCH($B$5,(GPS_IMPORT!$A$2:$A$10000),0)+ROWS($1:13)-1,COLUMN()-1),0)","v":0},{"$f":"IF(ROWS(GPS_IMPORT!$1:13)<=COUNTIF(GPS_IMPORT!$A$2:$A$10000,$B$5),INDEX(GPS_IMPORT!$2:$10000,MATCH($B$5,(GPS_IMPORT!$A$2:$A$10000),0)+ROWS($1:13)-1,COLUMN()-1),0)","v":0},{"$f":"IF(E19>0,E$22-E19,0)","v":0},0,0,false]
[14,{"$f":"IF(ROWS(GPS_IMPORT!$1:14)<=COUNTIF(GPS_IMPORT!$A$2:$A$10000,$B$5),INDEX(GPS_IMPORT!$2:$10000,MATCH($B$5,(GPS_IMPORT!$A$2:$A$10000),0)+ROWS($1:14)-1,COLUMN()-1),0)","v":0},{"$f":"IF(ROWS(GPS_IMPORT!$1:14)<=COUNTIF(GPS_IMPORT!$A$2:$A$10000,$B$5),INDEX(GPS_IMPORT!$2:$10000,MATCH($B$5,(GPS_IMPORT!$A$2:$A$10000),0)+ROWS($1:14)-1,COLUMN()-1),0)","v":"00:00:00"},{"$f":"IF(ROWS(GPS_IMPORT!$1:14)<=COUNTIF(GPS_IMPORT!$A$2:$A$10000,$B$5),INDEX(GPS_IMPORT!$2:$10000,MATCH($B$5,(GPS_IMPORT!$A$2:$A$10000),0)+ROWS($1:14)-1,COLUMN()-1),0)","v":"00:00:00"},{"$f":"IF(ROWS(GPS_IMPORT!$1:14)<=COUNTIF(GPS_IMPORT!$A$2:$A$10000,$B$5),INDEX(GPS_IMPORT!$2:$10000,MATCH($B$5,(GPS_IMPORT!$A$2:$A$10000),0)+ROWS($1:14)-1,COLUMN()-1),0)","v":0},{"$f":"IF(ROWS(GPS_IMPORT!$1:14)<=COUNTIF(GPS_IMPORT!$A$2:$A$10000,$B$5),INDEX(GPS_IMPORT!$2:$10000,MATCH($B$5,(GPS_IMPORT!$A$2:$A$10000),0)+ROWS($1:14)-1,COLUMN()-1),0)","v":0},{"$f":"IF(ROWS(GPS_IMPORT!$1:14)<=COUNTIF(GPS_IMPORT!$A$2:$A$10000,$B$5),INDEX(GPS_IMPORT!$2:$10000,MATCH($B$5,(GPS_IMPORT!$A$2:$A$10000),0)+ROWS($1:14)-1,COLUMN()-1),0)","v":0},0,0,0,false]
[15,{"$f":"IF(ROWS(GPS_IMPORT!$1:15)<=COUNTIF(GPS_IMPORT!$A$2:$A$10000,$B$5),INDEX(GPS_IMPORT!$2:$10000,MATCH($B$5,(GPS_IMPORT!$A$2:$A$10000),0)+ROWS($1:15)-1,COLUMN()-1),0)","v":0},{"$f":"IF(ROWS(GPS_IMPORT!$1:15)<=COUNTIF(GPS_IMPORT!$A$2:$A$10000,$B$5),INDEX(GPS_IMPORT!$2:$10000,MATCH($B$5,(GPS_IMPORT!$A$2:$A$10000),0)+ROWS($1:15)-1,COLUMN()-1),0)","v":"00:00:00"},{"$f":"IF(ROWS(GPS_IMPORT!$1:15)<=COUNTIF(GPS_IMPORT!$A$2:$A$10000,$B$5),INDEX(GPS_IMPORT!$2:$10000,MATCH($B$5,(GPS_IMPORT!$A$2:$A$10000),0)+ROWS($1:15)-1,COLUMN()-1),0)","v":"00:00:00"},{"$f":"IF(ROWS(GPS_IMPORT!$1:15)<=COUNTIF(GPS_IMPORT!$A$2:$A$10000,$B$5),INDEX(GPS_IMPORT!$2:$10000,MATCH($B$5,(GPS_IMPORT!$A$2:$A$10000),0)+ROWS($1:15)-1,COLUMN()-1),0)","v":0},{"$f":"IF(ROWS(GPS_IMPORT!$1:15)<=COUNTIF(GPS_IMPORT!$A$2:$A$10000,$B$5),INDEX(GPS_IMPORT!$2:$10000,MATCH($B$5,(GPS_IMPORT!$A$2:$A$10000),0)+ROWS($1:15)-1,COLUMN()-1),0)","v":0},{"$f":"IF(ROWS(GPS_IMPORT!$1:15)<=COUNTIF(GPS_IMPORT!$A$2:$A$10000,$B$5),INDEX(GPS_IMPORT!$2:$10000,MATCH($B$5,(GPS_IMPORT!$A$2:$A$10000),0)+ROWS($1:15)-1,COLUMN()-1),0)","v":0},0,0,0,false]
[null,null,null,"AVERAGE",{"$f":"(IF($K$7=TRUE,E7,0)+IF($K$8=TRUE,E8,0)+IF($K$9=TRUE,E9,0)+IF($K$10=TRUE,E10,0)+IF($K$11=TRUE,E11,0)+IF($K$12=TRUE,E12,0)+IF($K$13=TRUE,E13,0)+IF($K$14=TRUE,E14,0)+IF($K$15=TRUE,E15,0)+IF($K$16=TRUE,E16,0)+IF($K$17=TRUE,E17,0)+IF($K$18=TRUE,E18,0)+IF($K$19=TRUE,E19,0)+IF($K$20=TRUE,E20,0)+IF($K$21=TRUE,E21,0))/(IF($K$7=TRUE,1,0)+IF($K$8=TRUE,1,0)+IF($K$9=TRUE,1,0)+IF($K$10=TRUE,1,0)+IF($K$11=TRUE,1,0)+IF($K$12=TRUE,1,0)+IF($K$13=TRUE,1,0)+IF($K$14=TRUE,1,0)+IF($K$15=TRUE,1,0)+IF($K$16=TRUE,1,0)+IF($K$17=TRUE,1,0)+IF($K$18=TRUE,1,0)+IF($K$19=TRUE,1,0)+IF($K$20=TRUE,1,0)+IF($K$21=TRUE,1,0))","v":334532.58483597002},{"$f":"(IF($K$7=TRUE,F7,0)+IF($K$8=TRUE,F8,0)+IF($K$9=TRUE,F9,0)+IF($K$10=TRUE,F10,0)+IF($K$11=TRUE,F11,0)+IF($K$12=TRUE,F12,0)+IF($K$13=TRUE,F13,0)+IF($K$14=TRUE,F14,0)+IF($K$15=TRUE,F15,0)+IF($K$16=TRUE,F16,0)+IF($K$17=TRUE,F17,0)+IF($K$18=TRUE,F18,0)+IF($K$19=TRUE,F19,0)+IF($K$20=TRUE,F20,0)+IF($K$21=TRUE,F21,0))/(IF($K$7=TRUE,1,0)+IF($K$8=TRUE,1,0)+IF($K$9=TRUE,1,0)+IF($K$10=TRUE,1,0)+IF($K$11=TRUE,1,0)+IF($K$12=TRUE,1,0)+IF($K$13=TRUE,1,0)+IF($K$14=TRUE,1,0)+IF($K$15=TRUE,1,0)+IF($K$16=TRUE,1,0)+IF($K$17=TRUE,1,0)+IF($K$18=TRUE,1,0)+IF($K$19=TRUE,1,0)+IF($K$20=TRUE,1,0)+IF($K$21=TRUE,1,0))","v":2275980.4918324039},{"$f":"(IF($K$7=TRUE,G7,0)+IF($K$8=TRUE,G8,0)+IF($K$9=TRUE,G9,0)+IF($K$10=TRUE,G10,0)+IF($K$11=TRUE,G11,0)+IF($K$12=TRUE,G12,0)+IF($K$13=TRUE,G13,0)+IF($K$14=TRUE,G14,0)+IF($K$15=TRUE,G15,0)+IF($K$16=TRUE,G16,0)+IF($K$17=TRUE,G17,0)+IF($K$18=TRUE,G18,0)+IF($K$19=TRUE,G19,0)+IF($K$20=TRUE,G20,0)+IF($K$21=TRUE,G21,0))/\n(IF($K$7=TRUE,1,0)+IF($K$8=TRUE,1,0)+IF($K$9=TRUE,1,0)+IF($K$10=TRUE,1,0)+IF($K$11=TRUE,1,0)+IF($K$12=TRUE,1,0)+IF($K$13=TRUE,1,0)+IF($K$14=TRUE,1,0)+IF($K$15=TRUE,1,0)+IF($K$16=TRUE,1,0)+IF($K$17=TRUE,1,0)+IF($K$18=TRUE,1,0)+IF($K$19=TRUE,1,0)+IF($K$20=TRUE,1,0)+IF($K$21=TRUE,1,0))","v":901.96171847776259},"RMSE:","RMSE:","RMSE:"]
[null,null,null,null,null,null,"RMSE IN US SURVEY FEET:",{"$f":"SQRT((\n(IF($K$7=TRUE,H7^2,0))+(IF($K$8=TRUE,H8^2,0))+(IF($K$9=TRUE,H9^2,0))+(IF($K$10=TRUE,H10^2,0))+(IF($K$11=TRUE,H11^2,0))+(IF($K$12=TRUE,H12^2,0))+(IF($K$13=TRUE,H13^2,0))+(IF($K$14=TRUE,H14^2,0))+(IF($K$15=TRUE,H15^2,0))+(IF($K$16=TRUE,H16^2,0))+(IF($K$17=TRUE,H17^2,0))+(IF($K$18=TRUE,H18^2,0))+(IF($K$19=TRUE,H19^2,0))+(IF($K$20=TRUE,H20^2,0))+(IF($K$21=TRUE,H21^2,0)))/\n(IF($K$7=TRUE,1,0)+IF($K$8=TRUE,1,0)+IF($K$9=TRUE,1,0)+IF($K$10=TRUE,1,0)+IF($K$11=TRUE,1,0)+IF($K$12=TRUE,1,0)+IF($K$13=TRUE,1,0)+IF($K$14=TRUE,1,0)+IF($K$15=TRUE,1,0)+IF($K$16=TRUE,1,0)+IF($K$17=TRUE,1,0)+IF($K$18=TRUE,1,0)+IF($K$19=TRUE,1,0)+IF($K$20=TRUE,1,0)+IF($K$21=TRUE,1,0)))","v":3.8988002714370417E-3},{"$f":"SQRT((\n(IF($K$7=TRUE,I7^2,0))+(IF($K$8=TRUE,I8^2,0))+(IF($K$9=TRUE,I9^2,0))+(IF($K$10=TRUE,I10^2,0))+(IF($K$11=TRUE,I11^2,0))+(IF($K$12=TRUE,I12^2,0))+(IF($K$13=TRUE,I13^2,0))+(IF($K$14=TRUE,I14^2,0))+(IF($K$15=TRUE,I15^2,0))+(IF($K$16=TRUE,I16^2,0))+(IF($K$17=TRUE,I17^2,0))+(IF($K$18=TRUE,I18^2,0))+(IF($K$19=TRUE,I19^2,0))+(IF($K$20=TRUE,I20^2,0))+(IF($K$21=TRUE,I21^2,0)))/\n(IF($K$7=TRUE,1,0)+IF($K$8=TRUE,1,0)+IF($K$9=TRUE,1,0)+IF($K$10=TRUE,1,0)+IF($K$11=TRUE,1,0)+IF($K$12=TRUE,1,0)+IF($K$13=TRUE,1,0)+IF($K$14=TRUE,1,0)+IF($K$15=TRUE,1,0)+IF($K$16=TRUE,1,0)+IF($K$17=TRUE,1,0)+IF($K$18=TRUE,1,0)+IF($K$19=TRUE,1,0)+IF($K$20=TRUE,1,0)+IF($K$21=TRUE,1,0)))","v":3.1866115853009802E-3},{"$f":"SQRT((\n(IF($K$7=TRUE,J7^2,0))+(IF($K$8=TRUE,J8^2,0))+(IF($K$9=TRUE,J9^2,0))+(IF($K$10=TRUE,J10^2,0))+(IF($K$11=TRUE,J11^2,0))+(IF($K$12=TRUE,J12^2,0))+(IF($K$13=TRUE,J13^2,0))+(IF($K$14=TRUE,J14^2,0))+(IF($K$15=TRUE,J15^2,0))+(IF($K$16=TRUE,J16^2,0))+(IF($K$17=TRUE,J17^2,0))+(IF($K$18=TRUE,J18^2,0))+(IF($K$19=TRUE,J19^2,0))+(IF($K$20=TRUE,J20^2,0))+(IF($K$21=TRUE,J21^2,0)))/\n(IF($K$7=TRUE,1,0)+IF($K$8=TRUE,1,0)+IF($K$9=TRUE,1,0)+IF($K$10=TRUE,1,0)+IF($K$11=TRUE,1,0)+IF($K$12=TRUE,1,0)+IF($K$13=TRUE,1,0)+IF($K$14=TRUE,1,0)+IF($K$15=TRUE,1,0)+IF($K$16=TRUE,1,0)+IF($K$17=TRUE,1,0)+IF($K$18=TRUE,1,0)+IF($K$19=TRUE,1,0)+IF($K$20=TRUE,1,0)+IF($K$21=TRUE,1,0)))","v":1.419826287817272E-2}]
[null,null,null,1]
[null,null,"UNITLESS GRID TO GROUND MULTIPLIER",{"$f":"IF(REPORT!C13=\"n/a\",\"0.00000000\",REPORT!C13)","v":0},null,null,null,{"$f":"IF(H23<=0.029,\"PASS\",\"FAIL\")","v":"PASS"},{"$f":"IF(I23<=0.029,\"PASS\",\"FAIL\")","v":"PASS"},{"$f":"IF(J23<=0.039,\"PASS\",\"FAIL\")","v":"PASS"}]
[]
["AVERAGED GPS-DERIVED POSITION",null,null,null,null,null,null,null,"Notes:"]
[null,"MONUMENT COORDINATES",null,"NORTHING","EASTING","ORTHO HEIGHT"]
[null,"US Survey Feet (GRID)",null,{"$f":"$E$22","v":334532.58483597002},{"$f":"$F$22","v":2275980.4918324039},{"$f":"$G$22","v":901.96171847776259}]
[]
["LEVELED ELEVATION"]
["US SURVEY FEET",null,"N/A","(Type the leveled elevation or N/A if no leveled elevation is available)"]
["MONUMENT HELD",null,null,"(Type the monument name from which leveling originated)"]
["LEVELED ELEVATION - GPS DERIVED ELEVATION   = ",null,null,null,{"$f":"IF(C32=\"N/A\",\"N/A\",C32-(F29*D24))","v":"N/A"}]
[]
["FINAL MONUMENT COORDINATES"]
[null,"MONUMENT COORDINATES",null,"NORTHING","EASTING","ELEVATION","FEATURE CODE"]
[null,"US SURVEY FEET (GRID)",null,{"$f":"$E$22*$D$24","v":334532.58483597002},{"$f":"$F$22*$D$24","v":2275980.4918324039},{"$f":"IF($C$32=\"N/A\",($G$22*$D$24),$C$32)","v":901.96171847776259},"AERPP"]
[null,"US SURVEY FEET (GROUND)",null,{"$f":"$D$38*$D$25","v":0},{"$f":"$E$38*$D$25","v":0},{"$f":"IF($C$32=\"N/A\",($G$22*$D$24),$C$32)","v":901.96171847776259},{"$f":"G38","v":"AERPP"}]
[]
["∆ North,  ∆ East, and ∆ Ht. are the difference between the average northing, easting, and height for each observation.",null,null,null,null,null,null,null,"Mask Angle:","10°"]

{"sheet":"GS15","index":21,"n_rows":41,"n_cols":11,"rows_kept":41,"cut":false,"hidden":false,"merged":[[0,0,0,10],[26,0,26,6],[27,1,27,2],[27,8,38,10],[28,1,28,2],[30,0,30,6],[35,0,35,6],[36,1,36,2],[37,1,37,2],[38,1,38,2]]}
["VRS GNSS Project Control Monument Coordinate Analysis"]
[]
["Project:",{"$f":"REPORT!B2","v":"TUS-800-22.74"},"GPS Antenna:","LEICA GS14",null,null,null,null,null,"Report Date:",{"$f":"REPORT!C49","v":"2018-12-19"}]
["PID:",{"$f":"REPORT!E2","v":100603},"VRS Network:","ODOT VRS",null,null,null,null,null,"Prepared By:",{"$f":"REPORT!C48","v":"Kolton Wilson"}]
["Point ID:","GS15","No. of Sessions:",{"$f":"COUNTIF(GPS_IMPORT!A2:A1000,$B$5)","v":12},null,null,null,null,null,"Checked By:",{"$f":"REPORT!C52","v":"Joel Swick"}]
["SESSION #","Point","Observation Date","Start Time","Northing(sft)","Easting(sft)","Height(sft)","∆ Northing(sft)","∆ Easting(sft)","∆ Height(sft)","Include in Solution?"]
[1,{"$f":"IF(ROWS(GPS_IMPORT!$1:1)<=COUNTIF(GPS_IMPORT!$A$2:$A$10000,$B$5),INDEX(GPS_IMPORT!$2:$10000,MATCH($B$5,(GPS_IMPORT!$A$2:$A$10000),0)+ROWS($1:1)-1,COLUMN()-1),0)","v":"GS15"},{"$f":"IF(ROWS(GPS_IMPORT!$1:1)<=COUNTIF(GPS_IMPORT!$A$2:$A$10000,$B$5),INDEX(GPS_IMPORT!$2:$10000,MATCH($B$5,(GPS_IMPORT!$A$2:$A$10000),0)+ROWS($1:1)-1,COLUMN()-1),0)","v":"12.18.2018"},{"$f":"IF(ROWS(GPS_IMPORT!$1:1)<=COUNTIF(GPS_IMPORT!$A$2:$A$10000,$B$5),INDEX(GPS_IMPORT!$2:$10000,MATCH($B$5,(GPS_IMPORT!$A$2:$A$10000),0)+ROWS($1:1)-1,COLUMN()-1),0)","v":"11:34:05.200"},{"$f":"IF(ROWS(GPS_IMPORT!$1:1)<=COUNTIF(GPS_IMPORT!$A$2:$A$10000,$B$5),INDEX(GPS_IMPORT!$2:$10000,MATCH($B$5,(GPS_IMPORT!$A$2:$A$10000),0)+ROWS($1:1)-1,COLUMN()-1),0)","v":336356.413223646},{"$f":"IF(ROWS(GPS_IMPORT!$1:1)<=COUNTIF(GPS_IMPORT!$A$2:$A$10000,$B$5),INDEX(GPS_IMPORT!$2:$10000,MATCH($B$5,(GPS_IMPORT!$A$2:$A$10000),0)+ROWS($1:1)-1,COLUMN()-1),0)","v":2276998.8708637902},{"$f":"IF(ROWS(GPS_IMPORT!$1:1)<=COUNTIF(GPS_IMPORT!$A$2:$A$10000,$B$5),INDEX(GPS_IMPORT!$2:$10000,MATCH($B$5,(GPS_IMPORT!$A$2:$A$10000),0)+ROWS($1:1)-1,COLUMN()-1),0)","v":923.07409550123998},{"$f":"IF(E7>0,E$22-E7,0)","v":1.1637878080364317E-2},4.9268435686826706E-3,-5.4883526684079698E-4,true]
[2,{"$f":"IF(ROWS(GPS_IMPORT!$1:2)<=COUNTIF(GPS_IMPORT!$A$2:$A$10000,$B$5),INDEX(GPS_IMPORT!$2:$10000,MATCH($B$5,(GPS_IMPORT!$A$2:$A$10000),0)+ROWS($1:2)-1,COLUMN()-1),0)","v":"GS15"},{"$f":"IF(ROWS(GPS_IMPORT!$1:2)<=COUNTIF(GPS_IMPORT!$A$2:$A$10000,$B$5),INDEX(GPS_IMPORT!$2:$10000,MATCH($B$5,(GPS_IMPORT!$A$2:$A$10000),0)+ROWS($1:2)-1,COLUMN()-1),0)","v":"12.18.2018"},{"$f":"IF(ROWS(GPS_IMPORT!$1:2)<=COUNTIF(GPS_IMPORT!$A$2:$A$10000,$B$5),INDEX(GPS_IMPORT!$2:$10000,MATCH($B$5,(GPS_IMPORT!$A$2:$A$10000),0)+ROWS($1:2)-1,COLUMN()-1),0)","v":"11:34:17.300"},{"$f":"IF(ROWS(GPS_IMPORT!$1:2)<=COUNTIF(GPS_IMPORT!$A$2:$A$10000,$B$5),INDEX(GPS_IMPORT!$2:$10000,MATCH($B$5,(GPS_IMPORT!$A$2:$A$10000),0)+ROWS($1:2)-1,COLUMN()-1),0)","v":336356.420965},{"$f":"IF(ROWS(GPS_IMPORT!$1:2)<=COUNTIF(GPS_IMPORT!$A$2:$A$10000,$B$5),INDEX(GPS_IMPORT!$2:$10000,MATCH($B$5,(GPS_IMPORT!$A$2:$A$10000),0)+ROWS($1:2)-1,COLUMN()-1),0)","v":2276998.8740819502},{"$f":"IF(ROWS(GPS_IMPORT!$1:2)<=COUNTIF(GPS_IMPORT!$A$2:$A$10000,$B$5),INDEX(GPS_IMPORT!$2:$10000,MATCH($B$5,(GPS_IMPORT!$A$2:$A$10000),0)+ROWS($1:2)-1,COLUMN()-1),0)","v":923.08119628085001},3.8965240819379687E-3,1.7086835578083992E-3,-7.649614876868327E-3,true]
[3,{"$f":"IF(ROWS(GPS_IMPORT!$1:3)<=COUNTIF(GPS_IMPORT!$A$2:$A$10000,$B$5),INDEX(GPS_IMPORT!$2:$10000,MATCH($B$5,(GPS_IMPORT!$A$2:$A$10000),0)+ROWS($1:3)-1,COLUMN()-1),0)","v":"GS15"},{"$f":"IF(ROWS(GPS_IMPORT!$1:3)<=COUNTIF(GPS_IMPORT!$A$2:$A$10000,$B$5),INDEX(GPS_IMPORT!$2:$10000,MATCH($B$5,(GPS_IMPORT!$A$2:$A$10000),0)+ROWS($1:3)-1,COLUMN()-1),0)","v":"12.18.2018"},{"$f":"IF(ROWS(GPS_IMPORT!$1:3)<=COUNTIF(GPS_IMPORT!$A$2:$A$10000,$B$5),INDEX(GPS_IMPORT!$2:$10000,MATCH($B$5,(GPS_IMPORT!$A$2:$A$10000),0)+ROWS($1:3)-1,COLUMN()-1),0)","v":"11:34:30.270"},{"$f":"IF(ROWS(GPS_IMPORT!$1:3)<=COUNTIF(GPS_IMPORT!$A$2:$A$10000,$B$5),INDEX(GPS_IMPORT!$2:$10000,MATCH($B$5,(GPS_IMPORT!$A$2:$A$10000),0)+ROWS($1:3)-1,COLUMN()-1),0)","v":336356.41887935298},{"$f":"IF(ROWS(GPS_IMPORT!$1:3)<=COUNTIF(GPS_IMPORT!$A$2:$A$10000,$B$5),INDEX(GPS_IMPORT!$2:$10000,MATCH($B$5,(GPS_IMPORT!$A$2:$A$10000),0)+ROWS($1:3)-1,COLUMN()-1),0)","v":2276998.8778492701},{"$f":"IF(ROWS(GPS_IMPORT!$1:3)<=COUNTIF(GPS_IMPORT!$A$2:$A$10000,$B$5),INDEX(GPS_IMPORT!$2:$10000,MATCH($B$5,(GPS_IMPORT!$A$2:$A$10000),0)+ROWS($1:3)-1,COLUMN()-1),0)","v":923.07860713593004},5.98217110382393E-3,-2.0586363971233368E-3,-5.060469956902125E-3,true]
[4,{"$f":"IF(ROWS(GPS_IMPORT!$1:4)<=COUNTIF(GPS_IMPORT!$A$2:$A$10000,$B$5),INDEX(GPS_IMPORT!$2:$10000,MATCH($B$5,(GPS_IMPORT!$A$2:$A$10000),0)+ROWS($1:4)-1,COLUMN()-1),0)","v":"GS15"},{"$f":"IF(ROWS(GPS_IMPORT!$1:4)<=COUNTIF(GPS_IMPORT!$A$2:$A$10000,$B$5),INDEX(GPS_IMPORT!$2:$10000,MATCH($B$5,(GPS_IMPORT!$A$2:$A$10000),0)+ROWS($1:4)-1,COLUMN()-1),0)","v":"12.18.2018"},{"$f":"IF(ROWS(GPS_IMPORT!$1:4)<=COUNTIF(GPS_IMPORT!$A$2:$A$10000,$B$5),INDEX(GPS_IMPORT!$2:$10000,MATCH($B$5,(GPS_IMPORT!$A$2:$A$10000),0)+ROWS($1:4)-1,COLUMN()-1),0)","v":"11:34:43.460"},{"$f":"IF(ROWS(GPS_IMPORT!$1:4)<=COUNTIF(GPS_IMPORT!$A$2:$A$10000,$B$5),INDEX(GPS_IMPORT!$2:$10000,MATCH($B$5,(GPS_IMPORT!$A$2:$A$10000),0)+ROWS($1:4)-1,COLUMN()-1),0)","v":336356.41480588302},{"$f":"IF(ROWS(GPS_IMPORT!$1:4)<=COUNTIF(GPS_IMPORT!$A$2:$A$10000,$B$5),INDEX(GPS_IMPORT!$2:$10000,MATCH($B$5,(GPS_IMPORT!$A$2:$A$10000),0)+ROWS($1:4)-1,COLUMN()-1),0)","v":2276998.8801988098},{"$f":"IF(ROWS(GPS_IMPORT!$1:4)<=COUNTIF(GPS_IMPORT!$A$2:$A$10000,$B$5),INDEX(GPS_IMPORT!$2:$10000,MATCH($B$5,(GPS_IMPORT!$A$2:$A$10000),0)+ROWS($1:4)-1,COLUMN()-1),0)","v":923.08136500022999},1.0055641061626375E-2,-4.4081760570406914E-3,-7.8183342568536318E-3,true]
[5,{"$f":"IF(ROWS(GPS_IMPORT!$1:5)<=COUNTIF(GPS_IMPORT!$A$2:$A$10000,$B$5),INDEX(GPS_IMPORT!$2:$10000,MATCH($B$5,(GPS_IMPORT!$A$2:$A$10000),0)+ROWS($1:5)-1,COLUMN()-1),0)","v":"GS15"},{"$f":"IF(ROWS(GPS_IMPORT!$1:5)<=COUNTIF(GPS_IMPORT!$A$2:$A$10000,$B$5),INDEX(GPS_IMPORT!$2:$10000,MATCH($B$5,(GPS_IMPORT!$A$2:$A$10000),0)+ROWS($1:5)-1,COLUMN()-1),0)","v":"12.18.2018"},{"$f":"IF(ROWS(GPS_IMPORT!$1:5)<=COUNTIF(GPS_IMPORT!$A$2:$A$10000,$B$5),INDEX(GPS_IMPORT!$2:$10000,MATCH($B$5,(GPS_IMPORT!$A$2:$A$10000),0)+ROWS($1:5)-1,COLUMN()-1),0)","v":"11:35:01.800"},{"$f":"IF(ROWS(GPS_IMPORT!$1:5)<=COUNTIF(GPS_IMPORT!$A$2:$A$10000,$B$5),INDEX(GPS_IMPORT!$2:$10000,MATCH($B$5,(GPS_IMPORT!$A$2:$A$10000),0)+ROWS($1:5)-1,COLUMN()-1),0)","v":336356.42706681101},{"$f":"IF(ROWS(GPS_IMPORT!$1:5)<=COUNTIF(GPS_IMPORT!$A$2:$A$10000,$B$5),INDEX(GPS_IMPORT!$2:$10000,MATCH($B$5,(GPS_IMPORT!$A$2:$A$10000),0)+ROWS($1:5)-1,COLUMN()-1),0)","v":2276998.8760834602},{"$f":"IF(ROWS(GPS_IMPORT!$1:5)<=COUNTIF(GPS_IMPORT!$A$2:$A$10000,$B$5),INDEX(GPS_IMPORT!$2:$10000,MATCH($B$5,(GPS_IMPORT!$A$2:$A$10000),0)+ROWS($1:5)-1,COLUMN()-1),0)","v":923.08312051532005},-2.2052869317121804E-3,-2.9282644391059875E-4,-9.5738493469070818E-3,true]
[6,{"$f":"IF(ROWS(GPS_IMPORT!$1:6)<=COUNTIF(GPS_IMPORT!$A$2:$A$10000,$B$5),INDEX(GPS_IMPORT!$2:$10000,MATCH($B$5,(GPS_IMPORT!$A$2:$A$10000),0)+ROWS($1:6)-1,COLUMN()-1),0)","v":"GS15"},{"$f":"IF(ROWS(GPS_IMPORT!$1:6)<=COUNTIF(GPS_IMPORT!$A$2:$A$10000,$B$5),INDEX(GPS_IMPORT!$2:$10000,MATCH($B$5,(GPS_IMPORT!$A$2:$A$10000),0)+ROWS($1:6)-1,COLUMN()-1),0)","v":"12.18.2018"},{"$f":"IF(ROWS(GPS_IMPORT!$1:6)<=COUNTIF(GPS_IMPORT!$A$2:$A$10000,$B$5),INDEX(GPS_IMPORT!$2:$10000,MATCH($B$5,(GPS_IMPORT!$A$2:$A$10000),0)+ROWS($1:6)-1,COLUMN()-1),0)","v":"11:35:13.070"},{"$f":"IF(ROWS(GPS_IMPORT!$1:6)<=COUNTIF(GPS_IMPORT!$A$2:$A$10000,$B$5),INDEX(GPS_IMPORT!$2:$10000,MATCH($B$5,(GPS_IMPORT!$A$2:$A$10000),0)+ROWS($1:6)-1,COLUMN()-1),0)","v":336356.43060648802},{"$f":"IF(ROWS(GPS_IMPORT!$1:6)<=COUNTIF(GPS_IMPORT!$A$2:$A$10000,$B$5),INDEX(GPS_IMPORT!$2:$10000,MATCH($B$5,(GPS_IMPORT!$A$2:$A$10000),0)+ROWS($1:6)-1,COLUMN()-1),0)","v":2276998.8810497802},{"$f":"IF(ROWS(GPS_IMPORT!$1:6)<=COUNTIF(GPS_IMPORT!$A$2:$A$10000,$B$5),INDEX(GPS_IMPORT!$2:$10000,MATCH($B$5,(GPS_IMPORT!$A$2:$A$10000),0)+ROWS($1:6)-1,COLUMN()-1),0)","v":923.08391075072996},-5.7449639425612986E-3,-5.2591464482247829E-3,-1.0364084756815828E-2,true]
[7,{"$f":"IF(ROWS(GPS_IMPORT!$1:7)<=COUNTIF(GPS_IMPORT!$A$2:$A$10000,$B$5),INDEX(GPS_IMPORT!$2:$10000,MATCH($B$5,(GPS_IMPORT!$A$2:$A$10000),0)+ROWS($1:7)-1,COLUMN()-1),0)","v":"GS15"},{"$f":"IF(ROWS(GPS_IMPORT!$1:7)<=COUNTIF(GPS_IMPORT!$A$2:$A$10000,$B$5),INDEX(GPS_IMPORT!$2:$10000,MATCH($B$5,(GPS_IMPORT!$A$2:$A$10000),0)+ROWS($1:7)-1,COLUMN()-1),0)","v":"12.18.2018"},{"$f":"IF(ROWS(GPS_IMPORT!$1:7)<=COUNTIF(GPS_IMPORT!$A$2:$A$10000,$B$5),INDEX(GPS_IMPORT!$2:$10000,MATCH($B$5,(GPS_IMPORT!$A$2:$A$10000),0)+ROWS($1:7)-1,COLUMN()-1),0)","v":"11:35:25.210"},{"$f":"IF(ROWS(GPS_IMPORT!$1:7)<=COUNTIF(GPS_IMPORT!$A$2:$A$10000,$B$5),INDEX(GPS_IMPORT!$2:$10000,MATCH($B$5,(GPS_IMPORT!$A$2:$A$10000),0)+ROWS($1:7)-1,COLUMN()-1),0)","v":336356.42458738497},{"$f":"IF(ROWS(GPS_IMPORT!$1:7)<=COUNTIF(GPS_IMPORT!$A$2:$A$10000,$B$5),INDEX(GPS_IMPORT!$2:$10000,MATCH($B$5,(GPS_IMPORT!$A$2:$A$10000),0)+ROWS($1:7)-1,COLUMN()-1),0)","v":2276998.8765590498},{"$f":"IF(ROWS(GPS_IMPORT!$1:7)<=COUNTIF(GPS_IMPORT!$A$2:$A$10000,$B$5),INDEX(GPS_IMPORT!$2:$10000,MATCH($B$5,(GPS_IMPORT!$A$2:$A$10000),0)+ROWS($1:7)-1,COLUMN()-1),0)","v":923.08419565909003},2.741391072049737E-4,-7.6841609552502632E-4,-1.064899311688805E-2,true]
[8,{"$f":"IF(ROWS(GPS_IMPORT!$1:8)<=COUNTIF(GPS_IMPORT!$A$2:$A$10000,$B$5),INDEX(GPS_IMPORT!$2:$10000,MATCH($B$5,(GPS_IMPORT!$A$2:$A$10000),0)+ROWS($1:8)-1,COLUMN()-1),0)","v":"GS15"},{"$f":"IF(ROWS(GPS_IMPORT!$1:8)<=COUNTIF(GPS_IMPORT!$A$2:$A$10000,$B$5),INDEX(GPS_IMPORT!$2:$10000,MATCH($B$5,(GPS_IMPORT!$A$2:$A$10000),0)+ROWS($1:8)-1,COLUMN()-1),0)","v":"12.18.2018"},{"$f":"IF(ROWS(GPS_IMPORT!$1:8)<=COUNTIF(GPS_IMPORT!$A$2:$A$10000,$B$5),INDEX(GPS_IMPORT!$2:$10000,MATCH($B$5,(GPS_IMPORT!$A$2:$A$10000),0)+ROWS($1:8)-1,COLUMN()-1),0)","v":"11:35:37.300"},{"$f":"IF(ROWS(GPS_IMPORT!$1:8)<=COUNTIF(GPS_IMPORT!$A$2:$A$10000,$B$5),INDEX(GPS_IMPORT!$2:$10000,MATCH($B$5,(GPS_IMPORT!$A$2:$A$10000),0)+ROWS($1:8)-1,COLUMN()-1),0)","v":336356.432342179},{"$f":"IF(ROWS(GPS_IMPORT!$1:8)<=COUNTIF(GPS_IMPORT!$A$2:$A$10000,$B$5),INDEX(GPS_IMPORT!$2:$10000,MATCH($B$5,(GPS_IMPORT!$A$2:$A$10000),0)+ROWS($1:8)-1,COLUMN()-1),0)","v":2276998.8763711401},{"$f":"IF(ROWS(GPS_IMPORT!$1:8)<=COUNTIF(GPS_IMPORT!$A$2:$A$10000,$B$5),INDEX(GPS_IMPORT!$2:$10000,MATCH($B$5,(GPS_IMPORT!$A$2:$A$10000),0)+ROWS($1:8)-1,COLUMN()-1),0)","v":923.07469687226001},-7.4806549237109721E-3,-5.8050639927387238E-4,-1.1502062868657958E-3,true]
[9,{"$f":"IF(ROWS(GPS_IMPORT!$1:9)<=COUNTIF(GPS_IMPORT!$A$2:$A$10000,$B$5),INDEX(GPS_IMPORT!$2:$10000,MATCH($B$5,(GPS_IMPORT!$A$2:$A$10000),0)+ROWS($1:9)-1,COLUMN()-1),0)","v":"GS15"},{"$f":"IF(ROWS(GPS_IMPORT!$1:9)<=COUNTIF(GPS_IMPORT!$A$2:$A$10000,$B$5),INDEX(GPS_IMPORT!$2:$10000,MATCH($B$5,(GPS_IMPORT!$A$2:$A$10000),0)+ROWS($1:9)-1,COLUMN()-1),0)","v":"12.18.2018"},{"$f":"IF(ROWS(GPS_IMPORT!$1:9)<=COUNTIF(GPS_IMPORT!$A$2:$A$10000,$B$5),INDEX(GPS_IMPORT!$2:$10000,MATCH($B$5,(GPS_IMPORT!$A$2:$A$10000),0)+ROWS($1:9)-1,COLUMN()-1),0)","v":"11:35:55.980"},{"$f":"IF(ROWS(GPS_IMPORT!$1:9)<=COUNTIF(GPS_IMPORT!$A$2:$A$10000,$B$5),INDEX(GPS_IMPORT!$2:$10000,MATCH($B$5,(GPS_IMPORT!$A$2:$A$10000),0)+ROWS($1:9)-1,COLUMN()-1),0)","v":336356.434798047},{"$f":"IF(ROWS(GPS_IMPORT!$1:9)<=COUNTIF(GPS_IMPORT!$A$2:$A$10000,$B$5),INDEX(GPS_IMPORT!$2:$10000,MATCH($B$5,(GPS_IMPORT!$A$2:$A$10000),0)+ROWS($1:9)-1,COLUMN()-1),0)","v":2276998.8719419301},{"$f":"IF(ROWS(GPS_IMPORT!$1:9)<=COUNTIF(GPS_IMPORT!$A$2:$A$10000,$B$5),INDEX(GPS_IMPORT!$2:$10000,MATCH($B$5,(GPS_IMPORT!$A$2:$A$10000),0)+ROWS($1:9)-1,COLUMN()-1),0)","v":923.06107346522003},-9.936522925272584E-3,3.8487035781145096E-3,1.2473200753106539E-2,true]
[10,{"$f":"IF(ROWS(GPS_IMPORT!$1:10)<=COUNTIF(GPS_IMPORT!$A$2:$A$10000,$B$5),INDEX(GPS_IMPORT!$2:$10000,MATCH($B$5,(GPS_IMPORT!$A$2:$A$10000),0)+ROWS($1:10)-1,COLUMN()-1),0)","v":"GS15"},{"$f":"IF(ROWS(GPS_IMPORT!$1:10)<=COUNTIF(GPS_IMPORT!$A$2:$A$10000,$B$5),INDEX(GPS_IMPORT!$2:$10000,MATCH($B$5,(GPS_IMPORT!$A$2:$A$10000),0)+ROWS($1:10)-1,COLUMN()-1),0)","v":"12.18.2018"},{"$f":"IF(ROWS(GPS_IMPORT!$1:10)<=COUNTIF(GPS_IMPORT!$A$2:$A$10000,$B$5),INDEX(GPS_IMPORT!$2:$10000,MATCH($B$5,(GPS_IMPORT!$A$2:$A$10000),0)+ROWS($1:10)-1,COLUMN()-1),0)","v":"11:36:08.100"},{"$f":"IF(ROWS(GPS_IMPORT!$1:10)<=COUNTIF(GPS_IMPORT!$A$2:$A$10000,$B$5),INDEX(GPS_IMPORT!$2:$10000,MATCH($B$5,(GPS_IMPORT!$A$2:$A$10000),0)+ROWS($1:10)-1,COLUMN()-1),0)","v":336356.43069054699},{"$f":"IF(ROWS(GPS_IMPORT!$1:10)<=COUNTIF(GPS_IMPORT!$A$2:$A$10000,$B$5),INDEX(GPS_IMPORT!$2:$10000,MATCH($B$5,(GPS_IMPORT!$A$2:$A$10000),0)+ROWS($1:10)-1,COLUMN()-1),0)","v":2276998.8726609},{"$f":"IF(ROWS(GPS_IMPORT!$1:10)<=COUNTIF(GPS_IMPORT!$A$2:$A$10000,$B$5),INDEX(GPS_IMPORT!$2:$10000,MATCH($B$5,(GPS_IMPORT!$A$2:$A$10000),0)+ROWS($1:10)-1,COLUMN()-1),0)","v":923.05095638594003},-5.829022906254977E-3,3.1297337263822556E-3,2.2590280033114141E-2,true]
[11,{"$f":"IF(ROWS(GPS_IMPORT!$1:11)<=COUNTIF(GPS_IMPORT!$A$2:$A$10000,$B$5),INDEX(GPS_IMPORT!$2:$10000,MATCH($B$5,(GPS_IMPORT!$A$2:$A$10000),0)+ROWS($1:11)-1,COLUMN()-1),0)","v":"GS15"},{"$f":"IF(ROWS(GPS_IMPORT!$1:11)<=COUNTIF(GPS_IMPORT!$A$2:$A$10000,$B$5),INDEX(GPS_IMPORT!$2:$10000,MATCH($B$5,(GPS_IMPORT!$A$2:$A$10000),0)+ROWS($1:11)-1,COLUMN()-1),0)","v":"12.18.2018"},{"$f":"IF(ROWS(GPS_IMPORT!$1:11)<=COUNTIF(GPS_IMPORT!$A$2:$A$10000,$B$5),INDEX(GPS_IMPORT!$2:$10000,MATCH($B$5,(GPS_IMPORT!$A$2:$A$10000),0)+ROWS($1:11)-1,COLUMN()-1),0)","v":"11:36:19.940"},{"$f":"IF(ROWS(GPS_IMPORT!$1:11)<=COUNTIF(GPS_IMPORT!$A$2:$A$10000,$B$5),INDEX(GPS_IMPORT!$2:$10000,MATCH($B$5,(GPS_IMPORT!$A$2:$A$10000),0)+ROWS($1:11)-1,COLUMN()-1),0)","v":336356.413565161},{"$f":"IF(ROWS(GPS_IMPORT!$1:11)<=COUNTIF(GPS_IMPORT!$A$2:$A$10000,$B$5),INDEX(GPS_IMPORT!$2:$10000,MATCH($B$5,(GPS_IMPORT!$A$2:$A$10000),0)+ROWS($1:11)-1,COLUMN()-1),0)","v":2276998.8827687302},{"$f":"IF(ROWS(GPS_IMPORT!$1:11)<=COUNTIF(GPS_IMPORT!$A$2:$A$10000,$B$5),INDEX(GPS_IMPORT!$2:$10000,MATCH($B$5,(GPS_IMPORT!$A$2:$A$10000),0)+ROWS($1:11)-1,COLUMN()-1),0)","v":923.07038834675996},1.1296363081783056E-2,-6.9780964404344559E-3,3.1583192131847682E-3,true]
[12,{"$f":"IF(ROWS(GPS_IMPORT!$1:12)<=COUNTIF(GPS_IMPORT!$A$2:$A$10000,$B$5),INDEX(GPS_IMPORT!$2:$10000,MATCH($B$5,(GPS_IMPORT!$A$2:$A$10000),0)+ROWS($1:12)-1,COLUMN()-1),0)","v":"GS15"},{"$f":"IF(ROWS(GPS_IMPORT!$1:12)<=COUNTIF(GPS_IMPORT!$A$2:$A$10000,$B$5),INDEX(GPS_IMPORT!$2:$10000,MATCH($B$5,(GPS_IMPORT!$A$2:$A$10000),0)+ROWS($1:12)-1,COLUMN()-1),0)","v":"12.18.2018"},{"$f":"IF(ROWS(GPS_IMPORT!$1:12)<=COUNTIF(GPS_IMPORT!$A$2:$A$10000,$B$5),INDEX(GPS_IMPORT!$2:$10000,MATCH($B$5,(GPS_IMPORT!$A$2:$A$10000),0)+ROWS($1:12)-1,COLUMN()-1),0)","v":"11:36:32.790"},{"$f":"IF(ROWS(GPS_IMPORT!$1:12)<=COUNTIF(GPS_IMPORT!$A$2:$A$10000,$B$5),INDEX(GPS_IMPORT!$2:$10000,MATCH($B$5,(GPS_IMPORT!$A$2:$A$10000),0)+ROWS($1:12)-1,COLUMN()-1),0)","v":336356.43680778902},{"$f":"IF(ROWS(GPS_IMPORT!$1:12)<=COUNTIF(GPS_IMPORT!$A$2:$A$10000,$B$5),INDEX(GPS_IMPORT!$2:$10000,MATCH($B$5,(GPS_IMPORT!$A$2:$A$10000),0)+ROWS($1:12)-1,COLUMN()-1),0)","v":2276998.8690587902},{"$f":"IF(ROWS(GPS_IMPORT!$1:12)<=COUNTIF(GPS_IMPORT!$A$2:$A$10000,$B$5),INDEX(GPS_IMPORT!$2:$10000,MATCH($B$5,(GPS_IMPORT!$A$2:$A$10000),0)+ROWS($1:12)-1,COLUMN()-1),0)","v":923.05895407810999},-1.1946264945436269E-2,6.731843575835228E-3,1.4592587863148765E-2,true]
[13,{"$f":"IF(ROWS(GPS_IMPORT!$1:13)<=COUNTIF(GPS_IMPORT!$A$2:$A$10000,$B$5),INDEX(GPS_IMPORT!$2:$10000,MATCH($B$5,(GPS_IMPORT!$A$2:$A$10000),0)+ROWS($1:13)-1,COLUMN()-1),0)","v":0},{"$f":"IF(ROWS(GPS_IMPORT!$1:13)<=COUNTIF(GPS_IMPORT!$A$2:$A$10000,$B$5),INDEX(GPS_IMPORT!$2:$10000,MATCH($B$5,(GPS_IMPORT!$A$2:$A$10000),0)+ROWS($1:13)-1,COLUMN()-1),0)","v":"00:00:00"},{"$f":"IF(ROWS(GPS_IMPORT!$1:13)<=COUNTIF(GPS_IMPORT!$A$2:$A$10000,$B$5),INDEX(GPS_IMPORT!$2:$10000,MATCH($B$5,(GPS_IMPORT!$A$2:$A$10000),0)+ROWS($1:13)-1,COLUMN()-1),0)","v":"00:00:00"},{"$f":"IF(ROWS(GPS_IMPORT!$1:13)<=COUNTIF(GPS_IMPORT!$A$2:$A$10000,$B$5),INDEX(GPS_IMPORT!$2:$10000,MATCH($B$5,(GPS_IMPORT!$A$2:$A$10000),0)+ROWS($1:13)-1,COLUMN()-1),0)","v":0},{"$f":"IF(ROWS(GPS_IMPORT!$1:13)<=COUNTIF(GPS_IMPORT!$A$2:$A$10000,$B$5),INDEX(GPS_IMPORT!$2:$10000,MATCH($B$5,(GPS_IMPORT!$A$2:$A$10000),0)+ROWS($1:13)-1,COLUMN()-1),0)","v":0},{"$f":"IF(ROWS(GPS_IMPORT!$1:13)<=COUNTIF(GPS_IMPORT!$A$2:$A$10000,$B$5),INDEX(GPS_IMPORT!$2:$10000,MATCH($B$5,(GPS_IMPORT!$A$2:$A$10000),0)+ROWS($1:13)-1,COLUMN()-1),0)","v":0},{"$f":"IF(E19>0,E$22-E19,0)","v":0},0,0,false]
[14,{"$f":"IF(ROWS(GPS_IMPORT!$1:14)<=COUNTIF(GPS_IMPORT!$A$2:$A$10000,$B$5),INDEX(GPS_IMPORT!$2:$10000,MATCH($B$5,(GPS_IMPORT!$A$2:$A$10000),0)+ROWS($1:14)-1,COLUMN()-1),0)","v":0},{"$f":"IF(ROWS(GPS_IMPORT!$1:14)<=COUNTIF(GPS_IMPORT!$A$2:$A$10000,$B$5),INDEX(GPS_IMPORT!$2:$10000,MATCH($B$5,(GPS_IMPORT!$A$2:$A$10000),0)+ROWS($1:14)-1,COLUMN()-1),0)","v":"00:00:00"},{"$f":"IF(ROWS(GPS_IMPORT!$1:14)<=COUNTIF(GPS_IMPORT!$A$2:$A$10000,$B$5),INDEX(GPS_IMPORT!$2:$10000,MATCH($B$5,(GPS_IMPORT!$A$2:$A$10000),0)+ROWS($1:14)-1,COLUMN()-1),0)","v":"00:00:00"},{"$f":"IF(ROWS(GPS_IMPORT!$1:14)<=COUNTIF(GPS_IMPORT!$A$2:$A$10000,$B$5),INDEX(GPS_IMPORT!$2:$10000,MATCH($B$5,(GPS_IMPORT!$A$2:$A$10000),0)+ROWS($1:14)-1,COLUMN()-1),0)","v":0},{"$f":"IF(ROWS(GPS_IMPORT!$1:14)<=COUNTIF(GPS_IMPORT!$A$2:$A$10000,$B$5),INDEX(GPS_IMPORT!$2:$10000,MATCH($B$5,(GPS_IMPORT!$A$2:$A$10000),0)+ROWS($1:14)-1,COLUMN()-1),0)","v":0},{"$f":"IF(ROWS(GPS_IMPORT!$1:14)<=COUNTIF(GPS_IMPORT!$A$2:$A$10000,$B$5),INDEX(GPS_IMPORT!$2:$10000,MATCH($B$5,(GPS_IMPORT!$A$2:$A$10000),0)+ROWS($1:14)-1,COLUMN()-1),0)","v":0},0,0,0,false]
[15,{"$f":"IF(ROWS(GPS_IMPORT!$1:15)<=COUNTIF(GPS_IMPORT!$A$2:$A$10000,$B$5),INDEX(GPS_IMPORT!$2:$10000,MATCH($B$5,(GPS_IMPORT!$A$2:$A$10000),0)+ROWS($1:15)-1,COLUMN()-1),0)","v":0},{"$f":"IF(ROWS(GPS_IMPORT!$1:15)<=COUNTIF(GPS_IMPORT!$A$2:$A$10000,$B$5),INDEX(GPS_IMPORT!$2:$10000,MATCH($B$5,(GPS_IMPORT!$A$2:$A$10000),0)+ROWS($1:15)-1,COLUMN()-1),0)","v":"00:00:00"},{"$f":"IF(ROWS(GPS_IMPORT!$1:15)<=COUNTIF(GPS_IMPORT!$A$2:$A$10000,$B$5),INDEX(GPS_IMPORT!$2:$10000,MATCH($B$5,(GPS_IMPORT!$A$2:$A$10000),0)+ROWS($1:15)-1,COLUMN()-1),0)","v":"00:00:00"},{"$f":"IF(ROWS(GPS_IMPORT!$1:15)<=COUNTIF(GPS_IMPORT!$A$2:$A$10000,$B$5),INDEX(GPS_IMPORT!$2:$10000,MATCH($B$5,(GPS_IMPORT!$A$2:$A$10000),0)+ROWS($1:15)-1,COLUMN()-1),0)","v":0},{"$f":"IF(ROWS(GPS_IMPORT!$1:15)<=COUNTIF(GPS_IMPORT!$A$2:$A$10000,$B$5),INDEX(GPS_IMPORT!$2:$10000,MATCH($B$5,(GPS_IMPORT!$A$2:$A$10000),0)+ROWS($1:15)-1,COLUMN()-1),0)","v":0},{"$f":"IF(ROWS(GPS_IMPORT!$1:15)<=COUNTIF(GPS_IMPORT!$A$2:$A$10000,$B$5),INDEX(GPS_IMPORT!$2:$10000,MATCH($B$5,(GPS_IMPORT!$A$2:$A$10000),0)+ROWS($1:15)-1,COLUMN()-1),0)","v":0},0,0,0,false]
[null,null,null,"AVERAGE",{"$f":"(IF($K$7=TRUE,E7,0)+IF($K$8=TRUE,E8,0)+IF($K$9=TRUE,E9,0)+IF($K$10=TRUE,E10,0)+IF($K$11=TRUE,E11,0)+IF($K$12=TRUE,E12,0)+IF($K$13=TRUE,E13,0)+IF($K$14=TRUE,E14,0)+IF($K$15=TRUE,E15,0)+IF($K$16=TRUE,E16,0)+IF($K$17=TRUE,E17,0)+IF($K$18=TRUE,E18,0)+IF($K$19=TRUE,E19,0)+IF($K$20=TRUE,E20,0)+IF($K$21=TRUE,E21,0))/(IF($K$7=TRUE,1,0)+IF($K$8=TRUE,1,0)+IF($K$9=TRUE,1,0)+IF($K$10=TRUE,1,0)+IF($K$11=TRUE,1,0)+IF($K$12=TRUE,1,0)+IF($K$13=TRUE,1,0)+IF($K$14=TRUE,1,0)+IF($K$15=TRUE,1,0)+IF($K$16=TRUE,1,0)+IF($K$17=TRUE,1,0)+IF($K$18=TRUE,1,0)+IF($K$19=TRUE,1,0)+IF($K$20=TRUE,1,0)+IF($K$21=TRUE,1,0))","v":336356.42486152408},{"$f":"(IF($K$7=TRUE,F7,0)+IF($K$8=TRUE,F8,0)+IF($K$9=TRUE,F9,0)+IF($K$10=TRUE,F10,0)+IF($K$11=TRUE,F11,0)+IF($K$12=TRUE,F12,0)+IF($K$13=TRUE,F13,0)+IF($K$14=TRUE,F14,0)+IF($K$15=TRUE,F15,0)+IF($K$16=TRUE,F16,0)+IF($K$17=TRUE,F17,0)+IF($K$18=TRUE,F18,0)+IF($K$19=TRUE,F19,0)+IF($K$20=TRUE,F20,0)+IF($K$21=TRUE,F21,0))/(IF($K$7=TRUE,1,0)+IF($K$8=TRUE,1,0)+IF($K$9=TRUE,1,0)+IF($K$10=TRUE,1,0)+IF($K$11=TRUE,1,0)+IF($K$12=TRUE,1,0)+IF($K$13=TRUE,1,0)+IF($K$14=TRUE,1,0)+IF($K$15=TRUE,1,0)+IF($K$16=TRUE,1,0)+IF($K$17=TRUE,1,0)+IF($K$18=TRUE,1,0)+IF($K$19=TRUE,1,0)+IF($K$20=TRUE,1,0)+IF($K$21=TRUE,1,0))","v":2276998.8757906337},{"$f":"(IF($K$7=TRUE,G7,0)+IF($K$8=TRUE,G8,0)+IF($K$9=TRUE,G9,0)+IF($K$10=TRUE,G10,0)+IF($K$11=TRUE,G11,0)+IF($K$12=TRUE,G12,0)+IF($K$13=TRUE,G13,0)+IF($K$14=TRUE,G14,0)+IF($K$15=TRUE,G15,0)+IF($K$16=TRUE,G16,0)+IF($K$17=TRUE,G17,0)+IF($K$18=TRUE,G18,0)+IF($K$19=TRUE,G19,0)+IF($K$20=TRUE,G20,0)+IF($K$21=TRUE,G21,0))/\n(IF($K$7=TRUE,1,0)+IF($K$8=TRUE,1,0)+IF($K$9=TRUE,1,0)+IF($K$10=TRUE,1,0)+IF($K$11=TRUE,1,0)+IF($K$12=TRUE,1,0)+IF($K$13=TRUE,1,0)+IF($K$14=TRUE,1,0)+IF($K$15=TRUE,1,0)+IF($K$16=TRUE,1,0)+IF($K$17=TRUE,1,0)+IF($K$18=TRUE,1,0)+IF($K$19=TRUE,1,0)+IF($K$20=TRUE,1,0)+IF($K$21=TRUE,1,0))","v":923.07354666597314},"RMSE:","RMSE:","RMSE:"]
[null,null,null,null,null,null,"RMSE IN US SURVEY FEET:",{"$f":"SQRT((\n(IF($K$7=TRUE,H7^2,0))+(IF($K$8=TRUE,H8^2,0))+(IF($K$9=TRUE,H9^2,0))+(IF($K$10=TRUE,H10^2,0))+(IF($K$11=TRUE,H11^2,0))+(IF($K$12=TRUE,H12^2,0))+(IF($K$13=TRUE,H13^2,0))+(IF($K$14=TRUE,H14^2,0))+(IF($K$15=TRUE,H15^2,0))+(IF($K$16=TRUE,H16^2,0))+(IF($K$17=TRUE,H17^2,0))+(IF($K$18=TRUE,H18^2,0))+(IF($K$19=TRUE,H19^2,0))+(IF($K$20=TRUE,H20^2,0))+(IF($K$21=TRUE,H21^2,0)))/\n(IF($K$7=TRUE,1,0)+IF($K$8=TRUE,1,0)+IF($K$9=TRUE,1,0)+IF($K$10=TRUE,1,0)+IF($K$11=TRUE,1,0)+IF($K$12=TRUE,1,0)+IF($K$13=TRUE,1,0)+IF($K$14=TRUE,1,0)+IF($K$15=TRUE,1,0)+IF($K$16=TRUE,1,0)+IF($K$17=TRUE,1,0)+IF($K$18=TRUE,1,0)+IF($K$19=TRUE,1,0)+IF($K$20=TRUE,1,0)+IF($K$21=TRUE,1,0)))","v":8.0852834768311878E-3},{"$f":"SQRT((\n(IF($K$7=TRUE,I7^2,0))+(IF($K$8=TRUE,I8^2,0))+(IF($K$9=TRUE,I9^2,0))+(IF($K$10=TRUE,I10^2,0))+(IF($K$11=TRUE,I11^2,0))+(IF($K$12=TRUE,I12^2,0))+(IF($K$13=TRUE,I13^2,0))+(IF($K$14=TRUE,I14^2,0))+(IF($K$15=TRUE,I15^2,0))+(IF($K$16=TRUE,I16^2,0))+(IF($K$17=TRUE,I17^2,0))+(IF($K$18=TRUE,I18^2,0))+(IF($K$19=TRUE,I19^2,0))+(IF($K$20=TRUE,I20^2,0))+(IF($K$21=TRUE,I21^2,0)))/\n(IF($K$7=TRUE,1,0)+IF($K$8=TRUE,1,0)+IF($K$9=TRUE,1,0)+IF($K$10=TRUE,1,0)+IF($K$11=TRUE,1,0)+IF($K$12=TRUE,1,0)+IF($K$13=TRUE,1,0)+IF($K$14=TRUE,1,0)+IF($K$15=TRUE,1,0)+IF($K$16=TRUE,1,0)+IF($K$17=TRUE,1,0)+IF($K$18=TRUE,1,0)+IF($K$19=TRUE,1,0)+IF($K$20=TRUE,1,0)+IF($K$21=TRUE,1,0)))","v":4.0636037677347315E-3},{"$f":"SQRT((\n(IF($K$7=TRUE,J7^2,0))+(IF($K$8=TRUE,J8^2,0))+(IF($K$9=TRUE,J9^2,0))+(IF($K$10=TRUE,J10^2,0))+(IF($K$11=TRUE,J11^2,0))+(IF($K$12=TRUE,J12^2,0))+(IF($K$13=TRUE,J13^2,0))+(IF($K$14=TRUE,J14^2,0))+(IF($K$15=TRUE,J15^2,0))+(IF($K$16=TRUE,J16^2,0))+(IF($K$17=TRUE,J17^2,0))+(IF($K$18=TRUE,J18^2,0))+(IF($K$19=TRUE,J19^2,0))+(IF($K$20=TRUE,J20^2,0))+(IF($K$21=TRUE,J21^2,0)))/\n(IF($K$7=TRUE,1,0)+IF($K$8=TRUE,1,0)+IF($K$9=TRUE,1,0)+IF($K$10=TRUE,1,0)+IF($K$11=TRUE,1,0)+IF($K$12=TRUE,1,0)+IF($K$13=TRUE,1,0)+IF($K$14=TRUE,1,0)+IF($K$15=TRUE,1,0)+IF($K$16=TRUE,1,0)+IF($K$17=TRUE,1,0)+IF($K$18=TRUE,1,0)+IF($K$19=TRUE,1,0)+IF($K$20=TRUE,1,0)+IF($K$21=TRUE,1,0)))","v":1.0599408385686144E-2}]
[null,null,null,1]
[null,null,"UNITLESS GRID TO GROUND MULTIPLIER",{"$f":"IF(REPORT!C13=\"n/a\",\"0.00000000\",REPORT!C13)","v":0},null,null,null,{"$f":"IF(H23<=0.029,\"PASS\",\"FAIL\")","v":"PASS"},{"$f":"IF(I23<=0.029,\"PASS\",\"FAIL\")","v":"PASS"},{"$f":"IF(J23<=0.039,\"PASS\",\"FAIL\")","v":"PASS"}]
[]
["AVERAGED GPS-DERIVED POSITION",null,null,null,null,null,null,null,"Notes:"]
[null,"MONUMENT COORDINATES",null,"NORTHING","EASTING","ORTHO HEIGHT"]
[null,"US Survey Feet (GRID)",null,{"$f":"$E$22","v":336356.42486152408},{"$f":"$F$22","v":2276998.8757906337},{"$f":"$G$22","v":923.07354666597314}]
[]
["LEVELED ELEVATION"]
["US SURVEY FEET",null,"N/A","(Type the leveled elevation or N/A if no leveled elevation is available)"]
["MONUMENT HELD",null,null,"(Type the monument name from which leveling originated)"]
["LEVELED ELEVATION - GPS DERIVED ELEVATION   = ",null,null,null,{"$f":"IF(C32=\"N/A\",\"N/A\",C32-(F29*D24))","v":"N/A"}]
[]
["FINAL MONUMENT COORDINATES"]
[null,"MONUMENT COORDINATES",null,"NORTHING","EASTING","ELEVATION","FEATURE CODE"]
[null,"US SURVEY FEET (GRID)",null,{"$f":"$E$22*$D$24","v":336356.42486152408},{"$f":"$F$22*$D$24","v":2276998.8757906337},{"$f":"IF($C$32=\"N/A\",($G$22*$D$24),$C$32)","v":923.07354666597314},"AERTAR"]
[null,"US SURVEY FEET (GROUND)",null,{"$f":"$D$38*$D$25","v":0},{"$f":"$E$38*$D$25","v":0},{"$f":"IF($C$32=\"N/A\",($G$22*$D$24),$C$32)","v":923.07354666597314},{"$f":"G38","v":"AERTAR"}]
[]
["∆ North,  ∆ East, and ∆ Ht. are the difference between the average northing, easting, and height for each observation.",null,null,null,null,null,null,null,"Mask Angle:","10°"]

{"sheet":"GS16","index":22,"n_rows":41,"n_cols":11,"rows_kept":41,"cut":false,"hidden":false,"merged":[[0,0,0,10],[26,0,26,6],[27,1,27,2],[27,8,38,10],[28,1,28,2],[30,0,30,6],[35,0,35,6],[36,1,36,2],[37,1,37,2],[38,1,38,2]]}
["VRS GNSS Project Control Monument Coordinate Analysis"]
[]
["Project:",{"$f":"REPORT!B2","v":"TUS-800-22.74"},"GPS Antenna:","LEICA GS14",null,null,null,null,null,"Report Date:",{"$f":"REPORT!C49","v":"2018-12-19"}]
["PID:",{"$f":"REPORT!E2","v":100603},"VRS Network:","ODOT VRS",null,null,null,null,null,"Prepared By:",{"$f":"REPORT!C48","v":"Kolton Wilson"}]
["Point ID:","GS16","No. of Sessions:",{"$f":"COUNTIF(GPS_IMPORT!A2:A1000,$B$5)","v":12},null,null,null,null,null,"Checked By:",{"$f":"REPORT!C52","v":"Joel Swick"}]
["SESSION #","Point","Observation Date","Start Time","Northing(sft)","Easting(sft)","Height(sft)","∆ Northing(sft)","∆ Easting(sft)","∆ Height(sft)","Include in Solution?"]
[1,{"$f":"IF(ROWS(GPS_IMPORT!$1:1)<=COUNTIF(GPS_IMPORT!$A$2:$A$10000,$B$5),INDEX(GPS_IMPORT!$2:$10000,MATCH($B$5,(GPS_IMPORT!$A$2:$A$10000),0)+ROWS($1:1)-1,COLUMN()-1),0)","v":"GS16"},{"$f":"IF(ROWS(GPS_IMPORT!$1:1)<=COUNTIF(GPS_IMPORT!$A$2:$A$10000,$B$5),INDEX(GPS_IMPORT!$2:$10000,MATCH($B$5,(GPS_IMPORT!$A$2:$A$10000),0)+ROWS($1:1)-1,COLUMN()-1),0)","v":"12.18.2018"},{"$f":"IF(ROWS(GPS_IMPORT!$1:1)<=COUNTIF(GPS_IMPORT!$A$2:$A$10000,$B$5),INDEX(GPS_IMPORT!$2:$10000,MATCH($B$5,(GPS_IMPORT!$A$2:$A$10000),0)+ROWS($1:1)-1,COLUMN()-1),0)","v":"11:43:15.230"},{"$f":"IF(ROWS(GPS_IMPORT!$1:1)<=COUNTIF(GPS_IMPORT!$A$2:$A$10000,$B$5),INDEX(GPS_IMPORT!$2:$10000,MATCH($B$5,(GPS_IMPORT!$A$2:$A$10000),0)+ROWS($1:1)-1,COLUMN()-1),0)","v":337228.729194229},{"$f":"IF(ROWS(GPS_IMPORT!$1:1)<=COUNTIF(GPS_IMPORT!$A$2:$A$10000,$B$5),INDEX(GPS_IMPORT!$2:$10000,MATCH($B$5,(GPS_IMPORT!$A$2:$A$10000),0)+ROWS($1:1)-1,COLUMN()-1),0)","v":2279034.5811553402},{"$f":"IF(ROWS(GPS_IMPORT!$1:1)<=COUNTIF(GPS_IMPORT!$A$2:$A$10000,$B$5),INDEX(GPS_IMPORT!$2:$10000,MATCH($B$5,(GPS_IMPORT!$A$2:$A$10000),0)+ROWS($1:1)-1,COLUMN()-1),0)","v":902.40730281357003},{"$f":"IF(E7>0,E$22-E7,0)","v":1.7848773277364671E-3},7.7060922048985958E-3,1.4128602442610827E-2,true]
[2,{"$f":"IF(ROWS(GPS_IMPORT!$1:2)<=COUNTIF(GPS_IMPORT!$A$2:$A$10000,$B$5),INDEX(GPS_IMPORT!$2:$10000,MATCH($B$5,(GPS_IMPORT!$A$2:$A$10000),0)+ROWS($1:2)-1,COLUMN()-1),0)","v":"GS16"},{"$f":"IF(ROWS(GPS_IMPORT!$1:2)<=COUNTIF(GPS_IMPORT!$A$2:$A$10000,$B$5),INDEX(GPS_IMPORT!$2:$10000,MATCH($B$5,(GPS_IMPORT!$A$2:$A$10000),0)+ROWS($1:2)-1,COLUMN()-1),0)","v":"12.18.2018"},{"$f":"IF(ROWS(GPS_IMPORT!$1:2)<=COUNTIF(GPS_IMPORT!$A$2:$A$10000,$B$5),INDEX(GPS_IMPORT!$2:$10000,MATCH($B$5,(GPS_IMPORT!$A$2:$A$10000),0)+ROWS($1:2)-1,COLUMN()-1),0)","v":"11:43:26"},{"$f":"IF(ROWS(GPS_IMPORT!$1:2)<=COUNTIF(GPS_IMPORT!$A$2:$A$10000,$B$5),INDEX(GPS_IMPORT!$2:$10000,MATCH($B$5,(GPS_IMPORT!$A$2:$A$10000),0)+ROWS($1:2)-1,COLUMN()-1),0)","v":337228.73144797701},{"$f":"IF(ROWS(GPS_IMPORT!$1:2)<=COUNTIF(GPS_IMPORT!$A$2:$A$10000,$B$5),INDEX(GPS_IMPORT!$2:$10000,MATCH($B$5,(GPS_IMPORT!$A$2:$A$10000),0)+ROWS($1:2)-1,COLUMN()-1),0)","v":2279034.5776929799},{"$f":"IF(ROWS(GPS_IMPORT!$1:2)<=COUNTIF(GPS_IMPORT!$A$2:$A$10000,$B$5),INDEX(GPS_IMPORT!$2:$10000,MATCH($B$5,(GPS_IMPORT!$A$2:$A$10000),0)+ROWS($1:2)-1,COLUMN()-1),0)","v":902.40861880824002},-4.6887068310752511E-4,1.1168452445417643E-2,1.2812607772616502E-2,true]
[3,{"$f":"IF(ROWS(GPS_IMPORT!$1:3)<=COUNTIF(GPS_IMPORT!$A$2:$A$10000,$B$5),INDEX(GPS_IMPORT!$2:$10000,MATCH($B$5,(GPS_IMPORT!$A$2:$A$10000),0)+ROWS($1:3)-1,COLUMN()-1),0)","v":"GS16"},{"$f":"IF(ROWS(GPS_IMPORT!$1:3)<=COUNTIF(GPS_IMPORT!$A$2:$A$10000,$B$5),INDEX(GPS_IMPORT!$2:$10000,MATCH($B$5,(GPS_IMPORT!$A$2:$A$10000),0)+ROWS($1:3)-1,COLUMN()-1),0)","v":"12.18.2018"},{"$f":"IF(ROWS(GPS_IMPORT!$1:3)<=COUNTIF(GPS_IMPORT!$A$2:$A$10000,$B$5),INDEX(GPS_IMPORT!$2:$10000,MATCH($B$5,(GPS_IMPORT!$A$2:$A$10000),0)+ROWS($1:3)-1,COLUMN()-1),0)","v":"11:43:38.380"},{"$f":"IF(ROWS(GPS_IMPORT!$1:3)<=COUNTIF(GPS_IMPORT!$A$2:$A$10000,$B$5),INDEX(GPS_IMPORT!$2:$10000,MATCH($B$5,(GPS_IMPORT!$A$2:$A$10000),0)+ROWS($1:3)-1,COLUMN()-1),0)","v":337228.72959106398},{"$f":"IF(ROWS(GPS_IMPORT!$1:3)<=COUNTIF(GPS_IMPORT!$A$2:$A$10000,$B$5),INDEX(GPS_IMPORT!$2:$10000,MATCH($B$5,(GPS_IMPORT!$A$2:$A$10000),0)+ROWS($1:3)-1,COLUMN()-1),0)","v":2279034.5849818899},{"$f":"IF(ROWS(GPS_IMPORT!$1:3)<=COUNTIF(GPS_IMPORT!$A$2:$A$10000,$B$5),INDEX(GPS_IMPORT!$2:$10000,MATCH($B$5,(GPS_IMPORT!$A$2:$A$10000),0)+ROWS($1:3)-1,COLUMN()-1),0)","v":902.42872535631},1.3880423502996564E-3,3.8795424625277519E-3,-7.2939402973588585E-3,true]
[4,{"$f":"IF(ROWS(GPS_IMPORT!$1:4)<=COUNTIF(GPS_IMPORT!$A$2:$A$10000,$B$5),INDEX(GPS_IMPORT!$2:$10000,MATCH($B$5,(GPS_IMPORT!$A$2:$A$10000),0)+ROWS($1:4)-1,COLUMN()-1),0)","v":"GS16"},{"$f":"IF(ROWS(GPS_IMPORT!$1:4)<=COUNTIF(GPS_IMPORT!$A$2:$A$10000,$B$5),INDEX(GPS_IMPORT!$2:$10000,MATCH($B$5,(GPS_IMPORT!$A$2:$A$10000),0)+ROWS($1:4)-1,COLUMN()-1),0)","v":"12.18.2018"},{"$f":"IF(ROWS(GPS_IMPORT!$1:4)<=COUNTIF(GPS_IMPORT!$A$2:$A$10000,$B$5),INDEX(GPS_IMPORT!$2:$10000,MATCH($B$5,(GPS_IMPORT!$A$2:$A$10000),0)+ROWS($1:4)-1,COLUMN()-1),0)","v":"11:43:50.170"},{"$f":"IF(ROWS(GPS_IMPORT!$1:4)<=COUNTIF(GPS_IMPORT!$A$2:$A$10000,$B$5),INDEX(GPS_IMPORT!$2:$10000,MATCH($B$5,(GPS_IMPORT!$A$2:$A$10000),0)+ROWS($1:4)-1,COLUMN()-1),0)","v":337228.73079375701},{"$f":"IF(ROWS(GPS_IMPORT!$1:4)<=COUNTIF(GPS_IMPORT!$A$2:$A$10000,$B$5),INDEX(GPS_IMPORT!$2:$10000,MATCH($B$5,(GPS_IMPORT!$A$2:$A$10000),0)+ROWS($1:4)-1,COLUMN()-1),0)","v":2279034.5890997401},{"$f":"IF(ROWS(GPS_IMPORT!$1:4)<=COUNTIF(GPS_IMPORT!$A$2:$A$10000,$B$5),INDEX(GPS_IMPORT!$2:$10000,MATCH($B$5,(GPS_IMPORT!$A$2:$A$10000),0)+ROWS($1:4)-1,COLUMN()-1),0)","v":902.42427533299997},1.8534931587055326E-4,-2.3830775171518326E-4,-2.8439169873308856E-3,true]
[5,{"$f":"IF(ROWS(GPS_IMPORT!$1:5)<=COUNTIF(GPS_IMPORT!$A$2:$A$10000,$B$5),INDEX(GPS_IMPORT!$2:$10000,MATCH($B$5,(GPS_IMPORT!$A$2:$A$10000),0)+ROWS($1:5)-1,COLUMN()-1),0)","v":"GS16"},{"$f":"IF(ROWS(GPS_IMPORT!$1:5)<=COUNTIF(GPS_IMPORT!$A$2:$A$10000,$B$5),INDEX(GPS_IMPORT!$2:$10000,MATCH($B$5,(GPS_IMPORT!$A$2:$A$10000),0)+ROWS($1:5)-1,COLUMN()-1),0)","v":"12.18.2018"},{"$f":"IF(ROWS(GPS_IMPORT!$1:5)<=COUNTIF(GPS_IMPORT!$A$2:$A$10000,$B$5),INDEX(GPS_IMPORT!$2:$10000,MATCH($B$5,(GPS_IMPORT!$A$2:$A$10000),0)+ROWS($1:5)-1,COLUMN()-1),0)","v":"11:44:07.610"},{"$f":"IF(ROWS(GPS_IMPORT!$1:5)<=COUNTIF(GPS_IMPORT!$A$2:$A$10000,$B$5),INDEX(GPS_IMPORT!$2:$10000,MATCH($B$5,(GPS_IMPORT!$A$2:$A$10000),0)+ROWS($1:5)-1,COLUMN()-1),0)","v":337228.729147373},{"$f":"IF(ROWS(GPS_IMPORT!$1:5)<=COUNTIF(GPS_IMPORT!$A$2:$A$10000,$B$5),INDEX(GPS_IMPORT!$2:$10000,MATCH($B$5,(GPS_IMPORT!$A$2:$A$10000),0)+ROWS($1:5)-1,COLUMN()-1),0)","v":2279034.5900672399},{"$f":"IF(ROWS(GPS_IMPORT!$1:5)<=COUNTIF(GPS_IMPORT!$A$2:$A$10000,$B$5),INDEX(GPS_IMPORT!$2:$10000,MATCH($B$5,(GPS_IMPORT!$A$2:$A$10000),0)+ROWS($1:5)-1,COLUMN()-1),0)","v":902.41461264228997},1.8317333306185901E-3,-1.2058075517416E-3,6.8187737226708123E-3,true]
[6,{"$f":"IF(ROWS(GPS_IMPORT!$1:6)<=COUNTIF(GPS_IMPORT!$A$2:$A$10000,$B$5),INDEX(GPS_IMPORT!$2:$10000,MATCH($B$5,(GPS_IMPORT!$A$2:$A$10000),0)+ROWS($1:6)-1,COLUMN()-1),0)","v":"GS16"},{"$f":"IF(ROWS(GPS_IMPORT!$1:6)<=COUNTIF(GPS_IMPORT!$A$2:$A$10000,$B$5),INDEX(GPS_IMPORT!$2:$10000,MATCH($B$5,(GPS_IMPORT!$A$2:$A$10000),0)+ROWS($1:6)-1,COLUMN()-1),0)","v":"12.18.2018"},{"$f":"IF(ROWS(GPS_IMPORT!$1:6)<=COUNTIF(GPS_IMPORT!$A$2:$A$10000,$B$5),INDEX(GPS_IMPORT!$2:$10000,MATCH($B$5,(GPS_IMPORT!$A$2:$A$10000),0)+ROWS($1:6)-1,COLUMN()-1),0)","v":"11:44:18.780"},{"$f":"IF(ROWS(GPS_IMPORT!$1:6)<=COUNTIF(GPS_IMPORT!$A$2:$A$10000,$B$5),INDEX(GPS_IMPORT!$2:$10000,MATCH($B$5,(GPS_IMPORT!$A$2:$A$10000),0)+ROWS($1:6)-1,COLUMN()-1),0)","v":337228.72970346501},{"$f":"IF(ROWS(GPS_IMPORT!$1:6)<=COUNTIF(GPS_IMPORT!$A$2:$A$10000,$B$5),INDEX(GPS_IMPORT!$2:$10000,MATCH($B$5,(GPS_IMPORT!$A$2:$A$10000),0)+ROWS($1:6)-1,COLUMN()-1),0)","v":2279034.5891547501},{"$f":"IF(ROWS(GPS_IMPORT!$1:6)<=COUNTIF(GPS_IMPORT!$A$2:$A$10000,$B$5),INDEX(GPS_IMPORT!$2:$10000,MATCH($B$5,(GPS_IMPORT!$A$2:$A$10000),0)+ROWS($1:6)-1,COLUMN()-1),0)","v":902.41464788152996},1.2756413198076189E-3,-2.9331771656870842E-4,6.7835344826789878E-3,true]
[7,{"$f":"IF(ROWS(GPS_IMPORT!$1:7)<=COUNTIF(GPS_IMPORT!$A$2:$A$10000,$B$5),INDEX(GPS_IMPORT!$2:$10000,MATCH($B$5,(GPS_IMPORT!$A$2:$A$10000),0)+ROWS($1:7)-1,COLUMN()-1),0)","v":"GS16"},{"$f":"IF(ROWS(GPS_IMPORT!$1:7)<=COUNTIF(GPS_IMPORT!$A$2:$A$10000,$B$5),INDEX(GPS_IMPORT!$2:$10000,MATCH($B$5,(GPS_IMPORT!$A$2:$A$10000),0)+ROWS($1:7)-1,COLUMN()-1),0)","v":"12.18.2018"},{"$f":"IF(ROWS(GPS_IMPORT!$1:7)<=COUNTIF(GPS_IMPORT!$A$2:$A$10000,$B$5),INDEX(GPS_IMPORT!$2:$10000,MATCH($B$5,(GPS_IMPORT!$A$2:$A$10000),0)+ROWS($1:7)-1,COLUMN()-1),0)","v":"11:44:30.120"},{"$f":"IF(ROWS(GPS_IMPORT!$1:7)<=COUNTIF(GPS_IMPORT!$A$2:$A$10000,$B$5),INDEX(GPS_IMPORT!$2:$10000,MATCH($B$5,(GPS_IMPORT!$A$2:$A$10000),0)+ROWS($1:7)-1,COLUMN()-1),0)","v":337228.731882644},{"$f":"IF(ROWS(GPS_IMPORT!$1:7)<=COUNTIF(GPS_IMPORT!$A$2:$A$10000,$B$5),INDEX(GPS_IMPORT!$2:$10000,MATCH($B$5,(GPS_IMPORT!$A$2:$A$10000),0)+ROWS($1:7)-1,COLUMN()-1),0)","v":2279034.5889348499},{"$f":"IF(ROWS(GPS_IMPORT!$1:7)<=COUNTIF(GPS_IMPORT!$A$2:$A$10000,$B$5),INDEX(GPS_IMPORT!$2:$10000,MATCH($B$5,(GPS_IMPORT!$A$2:$A$10000),0)+ROWS($1:7)-1,COLUMN()-1),0)","v":902.42441768635001},-9.0353767154738307E-4,-7.3417555540800095E-5,-2.9862703373737531E-3,true]
[8,{"$f":"IF(ROWS(GPS_IMPORT!$1:8)<=COUNTIF(GPS_IMPORT!$A$2:$A$10000,$B$5),INDEX(GPS_IMPORT!$2:$10000,MATCH($B$5,(GPS_IMPORT!$A$2:$A$10000),0)+ROWS($1:8)-1,COLUMN()-1),0)","v":"GS16"},{"$f":"IF(ROWS(GPS_IMPORT!$1:8)<=COUNTIF(GPS_IMPORT!$A$2:$A$10000,$B$5),INDEX(GPS_IMPORT!$2:$10000,MATCH($B$5,(GPS_IMPORT!$A$2:$A$10000),0)+ROWS($1:8)-1,COLUMN()-1),0)","v":"12.18.2018"},{"$f":"IF(ROWS(GPS_IMPORT!$1:8)<=COUNTIF(GPS_IMPORT!$A$2:$A$10000,$B$5),INDEX(GPS_IMPORT!$2:$10000,MATCH($B$5,(GPS_IMPORT!$A$2:$A$10000),0)+ROWS($1:8)-1,COLUMN()-1),0)","v":"11:44:42.200"},{"$f":"IF(ROWS(GPS_IMPORT!$1:8)<=COUNTIF(GPS_IMPORT!$A$2:$A$10000,$B$5),INDEX(GPS_IMPORT!$2:$10000,MATCH($B$5,(GPS_IMPORT!$A$2:$A$10000),0)+ROWS($1:8)-1,COLUMN()-1),0)","v":337228.73582827498},{"$f":"IF(ROWS(GPS_IMPORT!$1:8)<=COUNTIF(GPS_IMPORT!$A$2:$A$10000,$B$5),INDEX(GPS_IMPORT!$2:$10000,MATCH($B$5,(GPS_IMPORT!$A$2:$A$10000),0)+ROWS($1:8)-1,COLUMN()-1),0)","v":2279034.5895428001},{"$f":"IF(ROWS(GPS_IMPORT!$1:8)<=COUNTIF(GPS_IMPORT!$A$2:$A$10000,$B$5),INDEX(GPS_IMPORT!$2:$10000,MATCH($B$5,(GPS_IMPORT!$A$2:$A$10000),0)+ROWS($1:8)-1,COLUMN()-1),0)","v":902.41586699500999},-4.8491686466149986E-3,-6.8136770278215408E-4,5.5644210026457586E-3,true]
[9,{"$f":"IF(ROWS(GPS_IMPORT!$1:9)<=COUNTIF(GPS_IMPORT!$A$2:$A$10000,$B$5),INDEX(GPS_IMPORT!$2:$10000,MATCH($B$5,(GPS_IMPORT!$A$2:$A$10000),0)+ROWS($1:9)-1,COLUMN()-1),0)","v":"GS16"},{"$f":"IF(ROWS(GPS_IMPORT!$1:9)<=COUNTIF(GPS_IMPORT!$A$2:$A$10000,$B$5),INDEX(GPS_IMPORT!$2:$10000,MATCH($B$5,(GPS_IMPORT!$A$2:$A$10000),0)+ROWS($1:9)-1,COLUMN()-1),0)","v":"12.18.2018"},{"$f":"IF(ROWS(GPS_IMPORT!$1:9)<=COUNTIF(GPS_IMPORT!$A$2:$A$10000,$B$5),INDEX(GPS_IMPORT!$2:$10000,MATCH($B$5,(GPS_IMPORT!$A$2:$A$10000),0)+ROWS($1:9)-1,COLUMN()-1),0)","v":"11:44:58.710"},{"$f":"IF(ROWS(GPS_IMPORT!$1:9)<=COUNTIF(GPS_IMPORT!$A$2:$A$10000,$B$5),INDEX(GPS_IMPORT!$2:$10000,MATCH($B$5,(GPS_IMPORT!$A$2:$A$10000),0)+ROWS($1:9)-1,COLUMN()-1),0)","v":337228.73212708102},{"$f":"IF(ROWS(GPS_IMPORT!$1:9)<=COUNTIF(GPS_IMPORT!$A$2:$A$10000,$B$5),INDEX(GPS_IMPORT!$2:$10000,MATCH($B$5,(GPS_IMPORT!$A$2:$A$10000),0)+ROWS($1:9)-1,COLUMN()-1),0)","v":2279034.5932277599},{"$f":"IF(ROWS(GPS_IMPORT!$1:9)<=COUNTIF(GPS_IMPORT!$A$2:$A$10000,$B$5),INDEX(GPS_IMPORT!$2:$10000,MATCH($B$5,(GPS_IMPORT!$A$2:$A$10000),0)+ROWS($1:9)-1,COLUMN()-1),0)","v":902.43089644577003},-1.1479746899567544E-3,-4.3663275428116322E-3,-9.4650297573934949E-3,true]
[10,{"$f":"IF(ROWS(GPS_IMPORT!$1:10)<=COUNTIF(GPS_IMPORT!$A$2:$A$10000,$B$5),INDEX(GPS_IMPORT!$2:$10000,MATCH($B$5,(GPS_IMPORT!$A$2:$A$10000),0)+ROWS($1:10)-1,COLUMN()-1),0)","v":"GS16"},{"$f":"IF(ROWS(GPS_IMPORT!$1:10)<=COUNTIF(GPS_IMPORT!$A$2:$A$10000,$B$5),INDEX(GPS_IMPORT!$2:$10000,MATCH($B$5,(GPS_IMPORT!$A$2:$A$10000),0)+ROWS($1:10)-1,COLUMN()-1),0)","v":"12.18.2018"},{"$f":"IF(ROWS(GPS_IMPORT!$1:10)<=COUNTIF(GPS_IMPORT!$A$2:$A$10000,$B$5),INDEX(GPS_IMPORT!$2:$10000,MATCH($B$5,(GPS_IMPORT!$A$2:$A$10000),0)+ROWS($1:10)-1,COLUMN()-1),0)","v":"11:45:10.250"},{"$f":"IF(ROWS(GPS_IMPORT!$1:10)<=COUNTIF(GPS_IMPORT!$A$2:$A$10000,$B$5),INDEX(GPS_IMPORT!$2:$10000,MATCH($B$5,(GPS_IMPORT!$A$2:$A$10000),0)+ROWS($1:10)-1,COLUMN()-1),0)","v":337228.737403356},{"$f":"IF(ROWS(GPS_IMPORT!$1:10)<=COUNTIF(GPS_IMPORT!$A$2:$A$10000,$B$5),INDEX(GPS_IMPORT!$2:$10000,MATCH($B$5,(GPS_IMPORT!$A$2:$A$10000),0)+ROWS($1:10)-1,COLUMN()-1),0)","v":2279034.5920120599},{"$f":"IF(ROWS(GPS_IMPORT!$1:10)<=COUNTIF(GPS_IMPORT!$A$2:$A$10000,$B$5),INDEX(GPS_IMPORT!$2:$10000,MATCH($B$5,(GPS_IMPORT!$A$2:$A$10000),0)+ROWS($1:10)-1,COLUMN()-1),0)","v":902.41699754747003},-6.4242496737278998E-3,-3.1506274826824665E-3,4.4338685426055235E-3,true]
[11,{"$f":"IF(ROWS(GPS_IMPORT!$1:11)<=COUNTIF(GPS_IMPORT!$A$2:$A$10000,$B$5),INDEX(GPS_IMPORT!$2:$10000,MATCH($B$5,(GPS_IMPORT!$A$2:$A$10000),0)+ROWS($1:11)-1,COLUMN()-1),0)","v":"GS16"},{"$f":"IF(ROWS(GPS_IMPORT!$1:11)<=COUNTIF(GPS_IMPORT!$A$2:$A$10000,$B$5),INDEX(GPS_IMPORT!$2:$10000,MATCH($B$5,(GPS_IMPORT!$A$2:$A$10000),0)+ROWS($1:11)-1,COLUMN()-1),0)","v":"12.18.2018"},{"$f":"IF(ROWS(GPS_IMPORT!$1:11)<=COUNTIF(GPS_IMPORT!$A$2:$A$10000,$B$5),INDEX(GPS_IMPORT!$2:$10000,MATCH($B$5,(GPS_IMPORT!$A$2:$A$10000),0)+ROWS($1:11)-1,COLUMN()-1),0)","v":"11:45:22.120"},{"$f":"IF(ROWS(GPS_IMPORT!$1:11)<=COUNTIF(GPS_IMPORT!$A$2:$A$10000,$B$5),INDEX(GPS_IMPORT!$2:$10000,MATCH($B$5,(GPS_IMPORT!$A$2:$A$10000),0)+ROWS($1:11)-1,COLUMN()-1),0)","v":337228.72696878202},{"$f":"IF(ROWS(GPS_IMPORT!$1:11)<=COUNTIF(GPS_IMPORT!$A$2:$A$10000,$B$5),INDEX(GPS_IMPORT!$2:$10000,MATCH($B$5,(GPS_IMPORT!$A$2:$A$10000),0)+ROWS($1:11)-1,COLUMN()-1),0)","v":2279034.5937332301},{"$f":"IF(ROWS(GPS_IMPORT!$1:11)<=COUNTIF(GPS_IMPORT!$A$2:$A$10000,$B$5),INDEX(GPS_IMPORT!$2:$10000,MATCH($B$5,(GPS_IMPORT!$A$2:$A$10000),0)+ROWS($1:11)-1,COLUMN()-1),0)","v":902.41945151949005},4.0103243081830442E-3,-4.8717977479100227E-3,1.9798965225845677E-3,true]
[12,{"$f":"IF(ROWS(GPS_IMPORT!$1:12)<=COUNTIF(GPS_IMPORT!$A$2:$A$10000,$B$5),INDEX(GPS_IMPORT!$2:$10000,MATCH($B$5,(GPS_IMPORT!$A$2:$A$10000),0)+ROWS($1:12)-1,COLUMN()-1),0)","v":"GS16"},{"$f":"IF(ROWS(GPS_IMPORT!$1:12)<=COUNTIF(GPS_IMPORT!$A$2:$A$10000,$B$5),INDEX(GPS_IMPORT!$2:$10000,MATCH($B$5,(GPS_IMPORT!$A$2:$A$10000),0)+ROWS($1:12)-1,COLUMN()-1),0)","v":"12.18.2018"},{"$f":"IF(ROWS(GPS_IMPORT!$1:12)<=COUNTIF(GPS_IMPORT!$A$2:$A$10000,$B$5),INDEX(GPS_IMPORT!$2:$10000,MATCH($B$5,(GPS_IMPORT!$A$2:$A$10000),0)+ROWS($1:12)-1,COLUMN()-1),0)","v":"11:45:34.230"},{"$f":"IF(ROWS(GPS_IMPORT!$1:12)<=COUNTIF(GPS_IMPORT!$A$2:$A$10000,$B$5),INDEX(GPS_IMPORT!$2:$10000,MATCH($B$5,(GPS_IMPORT!$A$2:$A$10000),0)+ROWS($1:12)-1,COLUMN()-1),0)","v":337228.72766127298},{"$f":"IF(ROWS(GPS_IMPORT!$1:12)<=COUNTIF(GPS_IMPORT!$A$2:$A$10000,$B$5),INDEX(GPS_IMPORT!$2:$10000,MATCH($B$5,(GPS_IMPORT!$A$2:$A$10000),0)+ROWS($1:12)-1,COLUMN()-1),0)","v":2279034.5967345499},{"$f":"IF(ROWS(GPS_IMPORT!$1:12)<=COUNTIF(GPS_IMPORT!$A$2:$A$10000,$B$5),INDEX(GPS_IMPORT!$2:$10000,MATCH($B$5,(GPS_IMPORT!$A$2:$A$10000),0)+ROWS($1:12)-1,COLUMN()-1),0)","v":902.45136396312},3.3178333542309701E-3,-7.873117458075285E-3,-2.9932547107364371E-2,true]
[13,{"$f":"IF(ROWS(GPS_IMPORT!$1:13)<=COUNTIF(GPS_IMPORT!$A$2:$A$10000,$B$5),INDEX(GPS_IMPORT!$2:$10000,MATCH($B$5,(GPS_IMPORT!$A$2:$A$10000),0)+ROWS($1:13)-1,COLUMN()-1),0)","v":0},{"$f":"IF(ROWS(GPS_IMPORT!$1:13)<=COUNTIF(GPS_IMPORT!$A$2:$A$10000,$B$5),INDEX(GPS_IMPORT!$2:$10000,MATCH($B$5,(GPS_IMPORT!$A$2:$A$10000),0)+ROWS($1:13)-1,COLUMN()-1),0)","v":"00:00:00"},{"$f":"IF(ROWS(GPS_IMPORT!$1:13)<=COUNTIF(GPS_IMPORT!$A$2:$A$10000,$B$5),INDEX(GPS_IMPORT!$2:$10000,MATCH($B$5,(GPS_IMPORT!$A$2:$A$10000),0)+ROWS($1:13)-1,COLUMN()-1),0)","v":"00:00:00"},{"$f":"IF(ROWS(GPS_IMPORT!$1:13)<=COUNTIF(GPS_IMPORT!$A$2:$A$10000,$B$5),INDEX(GPS_IMPORT!$2:$10000,MATCH($B$5,(GPS_IMPORT!$A$2:$A$10000),0)+ROWS($1:13)-1,COLUMN()-1),0)","v":0},{"$f":"IF(ROWS(GPS_IMPORT!$1:13)<=COUNTIF(GPS_IMPORT!$A$2:$A$10000,$B$5),INDEX(GPS_IMPORT!$2:$10000,MATCH($B$5,(GPS_IMPORT!$A$2:$A$10000),0)+ROWS($1:13)-1,COLUMN()-1),0)","v":0},{"$f":"IF(ROWS(GPS_IMPORT!$1:13)<=COUNTIF(GPS_IMPORT!$A$2:$A$10000,$B$5),INDEX(GPS_IMPORT!$2:$10000,MATCH($B$5,(GPS_IMPORT!$A$2:$A$10000),0)+ROWS($1:13)-1,COLUMN()-1),0)","v":0},{"$f":"IF(E19>0,E$22-E19,0)","v":0},0,0,false]
[14,{"$f":"IF(ROWS(GPS_IMPORT!$1:14)<=COUNTIF(GPS_IMPORT!$A$2:$A$10000,$B$5),INDEX(GPS_IMPORT!$2:$10000,MATCH($B$5,(GPS_IMPORT!$A$2:$A$10000),0)+ROWS($1:14)-1,COLUMN()-1),0)","v":0},{"$f":"IF(ROWS(GPS_IMPORT!$1:14)<=COUNTIF(GPS_IMPORT!$A$2:$A$10000,$B$5),INDEX(GPS_IMPORT!$2:$10000,MATCH($B$5,(GPS_IMPORT!$A$2:$A$10000),0)+ROWS($1:14)-1,COLUMN()-1),0)","v":"00:00:00"},{"$f":"IF(ROWS(GPS_IMPORT!$1:14)<=COUNTIF(GPS_IMPORT!$A$2:$A$10000,$B$5),INDEX(GPS_IMPORT!$2:$10000,MATCH($B$5,(GPS_IMPORT!$A$2:$A$10000),0)+ROWS($1:14)-1,COLUMN()-1),0)","v":"00:00:00"},{"$f":"IF(ROWS(GPS_IMPORT!$1:14)<=COUNTIF(GPS_IMPORT!$A$2:$A$10000,$B$5),INDEX(GPS_IMPORT!$2:$10000,MATCH($B$5,(GPS_IMPORT!$A$2:$A$10000),0)+ROWS($1:14)-1,COLUMN()-1),0)","v":0},{"$f":"IF(ROWS(GPS_IMPORT!$1:14)<=COUNTIF(GPS_IMPORT!$A$2:$A$10000,$B$5),INDEX(GPS_IMPORT!$2:$10000,MATCH($B$5,(GPS_IMPORT!$A$2:$A$10000),0)+ROWS($1:14)-1,COLUMN()-1),0)","v":0},{"$f":"IF(ROWS(GPS_IMPORT!$1:14)<=COUNTIF(GPS_IMPORT!$A$2:$A$10000,$B$5),INDEX(GPS_IMPORT!$2:$10000,MATCH($B$5,(GPS_IMPORT!$A$2:$A$10000),0)+ROWS($1:14)-1,COLUMN()-1),0)","v":0},0,0,0,false]
[15,{"$f":"IF(ROWS(GPS_IMPORT!$1:15)<=COUNTIF(GPS_IMPORT!$A$2:$A$10000,$B$5),INDEX(GPS_IMPORT!$2:$10000,MATCH($B$5,(GPS_IMPORT!$A$2:$A$10000),0)+ROWS($1:15)-1,COLUMN()-1),0)","v":0},{"$f":"IF(ROWS(GPS_IMPORT!$1:15)<=COUNTIF(GPS_IMPORT!$A$2:$A$10000,$B$5),INDEX(GPS_IMPORT!$2:$10000,MATCH($B$5,(GPS_IMPORT!$A$2:$A$10000),0)+ROWS($1:15)-1,COLUMN()-1),0)","v":"00:00:00"},{"$f":"IF(ROWS(GPS_IMPORT!$1:15)<=COUNTIF(GPS_IMPORT!$A$2:$A$10000,$B$5),INDEX(GPS_IMPORT!$2:$10000,MATCH($B$5,(GPS_IMPORT!$A$2:$A$10000),0)+ROWS($1:15)-1,COLUMN()-1),0)","v":"00:00:00"},{"$f":"IF(ROWS(GPS_IMPORT!$1:15)<=COUNTIF(GPS_IMPORT!$A$2:$A$10000,$B$5),INDEX(GPS_IMPORT!$2:$10000,MATCH($B$5,(GPS_IMPORT!$A$2:$A$10000),0)+ROWS($1:15)-1,COLUMN()-1),0)","v":0},{"$f":"IF(ROWS(GPS_IMPORT!$1:15)<=COUNTIF(GPS_IMPORT!$A$2:$A$10000,$B$5),INDEX(GPS_IMPORT!$2:$10000,MATCH($B$5,(GPS_IMPORT!$A$2:$A$10000),0)+ROWS($1:15)-1,COLUMN()-1),0)","v":0},{"$f":"IF(ROWS(GPS_IMPORT!$1:15)<=COUNTIF(GPS_IMPORT!$A$2:$A$10000,$B$5),INDEX(GPS_IMPORT!$2:$10000,MATCH($B$5,(GPS_IMPORT!$A$2:$A$10000),0)+ROWS($1:15)-1,COLUMN()-1),0)","v":0},0,0,0,false]
[null,null,null,"AVERAGE",{"$f":"(IF($K$7=TRUE,E7,0)+IF($K$8=TRUE,E8,0)+IF($K$9=TRUE,E9,0)+IF($K$10=TRUE,E10,0)+IF($K$11=TRUE,E11,0)+IF($K$12=TRUE,E12,0)+IF($K$13=TRUE,E13,0)+IF($K$14=TRUE,E14,0)+IF($K$15=TRUE,E15,0)+IF($K$16=TRUE,E16,0)+IF($K$17=TRUE,E17,0)+IF($K$18=TRUE,E18,0)+IF($K$19=TRUE,E19,0)+IF($K$20=TRUE,E20,0)+IF($K$21=TRUE,E21,0))/(IF($K$7=TRUE,1,0)+IF($K$8=TRUE,1,0)+IF($K$9=TRUE,1,0)+IF($K$10=TRUE,1,0)+IF($K$11=TRUE,1,0)+IF($K$12=TRUE,1,0)+IF($K$13=TRUE,1,0)+IF($K$14=TRUE,1,0)+IF($K$15=TRUE,1,0)+IF($K$16=TRUE,1,0)+IF($K$17=TRUE,1,0)+IF($K$18=TRUE,1,0)+IF($K$19=TRUE,1,0)+IF($K$20=TRUE,1,0)+IF($K$21=TRUE,1,0))","v":337228.73097910633},{"$f":"(IF($K$7=TRUE,F7,0)+IF($K$8=TRUE,F8,0)+IF($K$9=TRUE,F9,0)+IF($K$10=TRUE,F10,0)+IF($K$11=TRUE,F11,0)+IF($K$12=TRUE,F12,0)+IF($K$13=TRUE,F13,0)+IF($K$14=TRUE,F14,0)+IF($K$15=TRUE,F15,0)+IF($K$16=TRUE,F16,0)+IF($K$17=TRUE,F17,0)+IF($K$18=TRUE,F18,0)+IF($K$19=TRUE,F19,0)+IF($K$20=TRUE,F20,0)+IF($K$21=TRUE,F21,0))/(IF($K$7=TRUE,1,0)+IF($K$8=TRUE,1,0)+IF($K$9=TRUE,1,0)+IF($K$10=TRUE,1,0)+IF($K$11=TRUE,1,0)+IF($K$12=TRUE,1,0)+IF($K$13=TRUE,1,0)+IF($K$14=TRUE,1,0)+IF($K$15=TRUE,1,0)+IF($K$16=TRUE,1,0)+IF($K$17=TRUE,1,0)+IF($K$18=TRUE,1,0)+IF($K$19=TRUE,1,0)+IF($K$20=TRUE,1,0)+IF($K$21=TRUE,1,0))","v":2279034.5888614324},{"$f":"(IF($K$7=TRUE,G7,0)+IF($K$8=TRUE,G8,0)+IF($K$9=TRUE,G9,0)+IF($K$10=TRUE,G10,0)+IF($K$11=TRUE,G11,0)+IF($K$12=TRUE,G12,0)+IF($K$13=TRUE,G13,0)+IF($K$14=TRUE,G14,0)+IF($K$15=TRUE,G15,0)+IF($K$16=TRUE,G16,0)+IF($K$17=TRUE,G17,0)+IF($K$18=TRUE,G18,0)+IF($K$19=TRUE,G19,0)+IF($K$20=TRUE,G20,0)+IF($K$21=TRUE,G21,0))/\n(IF($K$7=TRUE,1,0)+IF($K$8=TRUE,1,0)+IF($K$9=TRUE,1,0)+IF($K$10=TRUE,1,0)+IF($K$11=TRUE,1,0)+IF($K$12=TRUE,1,0)+IF($K$13=TRUE,1,0)+IF($K$14=TRUE,1,0)+IF($K$15=TRUE,1,0)+IF($K$16=TRUE,1,0)+IF($K$17=TRUE,1,0)+IF($K$18=TRUE,1,0)+IF($K$19=TRUE,1,0)+IF($K$20=TRUE,1,0)+IF($K$21=TRUE,1,0))","v":902.42143141601264},"RMSE:","RMSE:","RMSE:"]
[null,null,null,null,null,null,"RMSE IN US SURVEY FEET:",{"$f":"SQRT((\n(IF($K$7=TRUE,H7^2,0))+(IF($K$8=TRUE,H8^2,0))+(IF($K$9=TRUE,H9^2,0))+(IF($K$10=TRUE,H10^2,0))+(IF($K$11=TRUE,H11^2,0))+(IF($K$12=TRUE,H12^2,0))+(IF($K$13=TRUE,H13^2,0))+(IF($K$14=TRUE,H14^2,0))+(IF($K$15=TRUE,H15^2,0))+(IF($K$16=TRUE,H16^2,0))+(IF($K$17=TRUE,H17^2,0))+(IF($K$18=TRUE,H18^2,0))+(IF($K$19=TRUE,H19^2,0))+(IF($K$20=TRUE,H20^2,0))+(IF($K$21=TRUE,H21^2,0)))/\n(IF($K$7=TRUE,1,0)+IF($K$8=TRUE,1,0)+IF($K$9=TRUE,1,0)+IF($K$10=TRUE,1,0)+IF($K$11=TRUE,1,0)+IF($K$12=TRUE,1,0)+IF($K$13=TRUE,1,0)+IF($K$14=TRUE,1,0)+IF($K$15=TRUE,1,0)+IF($K$16=TRUE,1,0)+IF($K$17=TRUE,1,0)+IF($K$18=TRUE,1,0)+IF($K$19=TRUE,1,0)+IF($K$20=TRUE,1,0)+IF($K$21=TRUE,1,0)))","v":2.9490043004462953E-3},{"$f":"SQRT((\n(IF($K$7=TRUE,I7^2,0))+(IF($K$8=TRUE,I8^2,0))+(IF($K$9=TRUE,I9^2,0))+(IF($K$10=TRUE,I10^2,0))+(IF($K$11=TRUE,I11^2,0))+(IF($K$12=TRUE,I12^2,0))+(IF($K$13=TRUE,I13^2,0))+(IF($K$14=TRUE,I14^2,0))+(IF($K$15=TRUE,I15^2,0))+(IF($K$16=TRUE,I16^2,0))+(IF($K$17=TRUE,I17^2,0))+(IF($K$18=TRUE,I18^2,0))+(IF($K$19=TRUE,I19^2,0))+(IF($K$20=TRUE,I20^2,0))+(IF($K$21=TRUE,I21^2,0)))/\n(IF($K$7=TRUE,1,0)+IF($K$8=TRUE,1,0)+IF($K$9=TRUE,1,0)+IF($K$10=TRUE,1,0)+IF($K$11=TRUE,1,0)+IF($K$12=TRUE,1,0)+IF($K$13=TRUE,1,0)+IF($K$14=TRUE,1,0)+IF($K$15=TRUE,1,0)+IF($K$16=TRUE,1,0)+IF($K$17=TRUE,1,0)+IF($K$18=TRUE,1,0)+IF($K$19=TRUE,1,0)+IF($K$20=TRUE,1,0)+IF($K$21=TRUE,1,0)))","v":5.1311722845801726E-3},{"$f":"SQRT((\n(IF($K$7=TRUE,J7^2,0))+(IF($K$8=TRUE,J8^2,0))+(IF($K$9=TRUE,J9^2,0))+(IF($K$10=TRUE,J10^2,0))+(IF($K$11=TRUE,J11^2,0))+(IF($K$12=TRUE,J12^2,0))+(IF($K$13=TRUE,J13^2,0))+(IF($K$14=TRUE,J14^2,0))+(IF($K$15=TRUE,J15^2,0))+(IF($K$16=TRUE,J16^2,0))+(IF($K$17=TRUE,J17^2,0))+(IF($K$18=TRUE,J18^2,0))+(IF($K$19=TRUE,J19^2,0))+(IF($K$20=TRUE,J20^2,0))+(IF($K$21=TRUE,J21^2,0)))/\n(IF($K$7=TRUE,1,0)+IF($K$8=TRUE,1,0)+IF($K$9=TRUE,1,0)+IF($K$10=TRUE,1,0)+IF($K$11=TRUE,1,0)+IF($K$12=TRUE,1,0)+IF($K$13=TRUE,1,0)+IF($K$14=TRUE,1,0)+IF($K$15=TRUE,1,0)+IF($K$16=TRUE,1,0)+IF($K$17=TRUE,1,0)+IF($K$18=TRUE,1,0)+IF($K$19=TRUE,1,0)+IF($K$20=TRUE,1,0)+IF($K$21=TRUE,1,0)))","v":1.1425795762680862E-2}]
[null,null,null,1]
[null,null,"UNITLESS GRID TO GROUND MULTIPLIER",{"$f":"IF(REPORT!C13=\"n/a\",\"0.00000000\",REPORT!C13)","v":0},null,null,null,{"$f":"IF(H23<=0.029,\"PASS\",\"FAIL\")","v":"PASS"},{"$f":"IF(I23<=0.029,\"PASS\",\"FAIL\")","v":"PASS"},{"$f":"IF(J23<=0.039,\"PASS\",\"FAIL\")","v":"PASS"}]
[]
["AVERAGED GPS-DERIVED POSITION",null,null,null,null,null,null,null,"Notes:"]
[null,"MONUMENT COORDINATES",null,"NORTHING","EASTING","ORTHO HEIGHT"]
[null,"US Survey Feet (GRID)",null,{"$f":"$E$22","v":337228.73097910633},{"$f":"$F$22","v":2279034.5888614324},{"$f":"$G$22","v":902.42143141601264}]
[]
["LEVELED ELEVATION"]
["US SURVEY FEET",null,"N/A","(Type the leveled elevation or N/A if no leveled elevation is available)"]
["MONUMENT HELD",null,null,"(Type the monument name from which leveling originated)"]
["LEVELED ELEVATION - GPS DERIVED ELEVATION   = ",null,null,null,{"$f":"IF(C32=\"N/A\",\"N/A\",C32-(F29*D24))","v":"N/A"}]
[]
["FINAL MONUMENT COORDINATES"]
[null,"MONUMENT COORDINATES",null,"NORTHING","EASTING","ELEVATION","FEATURE CODE"]
[null,"US SURVEY FEET (GRID)",null,{"$f":"$E$22*$D$24","v":337228.73097910633},{"$f":"$F$22*$D$24","v":2279034.5888614324},{"$f":"IF($C$32=\"N/A\",($G$22*$D$24),$C$32)","v":902.42143141601264},"AERTAR"]
[null,"US SURVEY FEET (GROUND)",null,{"$f":"$D$38*$D$25","v":0},{"$f":"$E$38*$D$25","v":0},{"$f":"IF($C$32=\"N/A\",($G$22*$D$24),$C$32)","v":902.42143141601264},{"$f":"G38","v":"AERTAR"}]
[]
["∆ North,  ∆ East, and ∆ Ht. are the difference between the average northing, easting, and height for each observation.",null,null,null,null,null,null,null,"Mask Angle:","10°"]

{"sheet":"GS17","index":23,"n_rows":41,"n_cols":11,"rows_kept":41,"cut":false,"hidden":false,"merged":[[0,0,0,10],[26,0,26,6],[27,1,27,2],[27,8,38,10],[28,1,28,2],[30,0,30,6],[35,0,35,6],[36,1,36,2],[37,1,37,2],[38,1,38,2]]}
["VRS GNSS Project Control Monument Coordinate Analysis"]
[]
["Project:",{"$f":"REPORT!B2","v":"TUS-800-22.74"},"GPS Antenna:","LEICA GS14",null,null,null,null,null,"Report Date:",{"$f":"REPORT!C49","v":"2018-12-19"}]
["PID:",{"$f":"REPORT!E2","v":100603},"VRS Network:","ODOT VRS",null,null,null,null,null,"Prepared By:",{"$f":"REPORT!C48","v":"Kolton Wilson"}]
["Point ID:","GS17","No. of Sessions:",{"$f":"COUNTIF(GPS_IMPORT!A2:A1000,$B$5)","v":12},null,null,null,null,null,"Checked By:",{"$f":"REPORT!C52","v":"Joel Swick"}]
["SESSION #","Point","Observation Date","Start Time","Northing(sft)","Easting(sft)","Height(sft)","∆ Northing(sft)","∆ Easting(sft)","∆ Height(sft)","Include in Solution?"]
[1,{"$f":"IF(ROWS(GPS_IMPORT!$1:1)<=COUNTIF(GPS_IMPORT!$A$2:$A$10000,$B$5),INDEX(GPS_IMPORT!$2:$10000,MATCH($B$5,(GPS_IMPORT!$A$2:$A$10000),0)+ROWS($1:1)-1,COLUMN()-1),0)","v":"GS17"},{"$f":"IF(ROWS(GPS_IMPORT!$1:1)<=COUNTIF(GPS_IMPORT!$A$2:$A$10000,$B$5),INDEX(GPS_IMPORT!$2:$10000,MATCH($B$5,(GPS_IMPORT!$A$2:$A$10000),0)+ROWS($1:1)-1,COLUMN()-1),0)","v":"12.18.2018"},{"$f":"IF(ROWS(GPS_IMPORT!$1:1)<=COUNTIF(GPS_IMPORT!$A$2:$A$10000,$B$5),INDEX(GPS_IMPORT!$2:$10000,MATCH($B$5,(GPS_IMPORT!$A$2:$A$10000),0)+ROWS($1:1)-1,COLUMN()-1),0)","v":"11:54:49.040"},{"$f":"IF(ROWS(GPS_IMPORT!$1:1)<=COUNTIF(GPS_IMPORT!$A$2:$A$10000,$B$5),INDEX(GPS_IMPORT!$2:$10000,MATCH($B$5,(GPS_IMPORT!$A$2:$A$10000),0)+ROWS($1:1)-1,COLUMN()-1),0)","v":340270.83905002102},{"$f":"IF(ROWS(GPS_IMPORT!$1:1)<=COUNTIF(GPS_IMPORT!$A$2:$A$10000,$B$5),INDEX(GPS_IMPORT!$2:$10000,MATCH($B$5,(GPS_IMPORT!$A$2:$A$10000),0)+ROWS($1:1)-1,COLUMN()-1),0)","v":2284093.2388305101},{"$f":"IF(ROWS(GPS_IMPORT!$1:1)<=COUNTIF(GPS_IMPORT!$A$2:$A$10000,$B$5),INDEX(GPS_IMPORT!$2:$10000,MATCH($B$5,(GPS_IMPORT!$A$2:$A$10000),0)+ROWS($1:1)-1,COLUMN()-1),0)","v":902.80321642393994},{"$f":"IF(E7>0,E$22-E7,0)","v":6.1437461990863085E-3},-3.124140202999115E-4,-1.1736781868194157E-2,true]
[2,{"$f":"IF(ROWS(GPS_IMPORT!$1:2)<=COUNTIF(GPS_IMPORT!$A$2:$A$10000,$B$5),INDEX(GPS_IMPORT!$2:$10000,MATCH($B$5,(GPS_IMPORT!$A$2:$A$10000),0)+ROWS($1:2)-1,COLUMN()-1),0)","v":"GS17"},{"$f":"IF(ROWS(GPS_IMPORT!$1:2)<=COUNTIF(GPS_IMPORT!$A$2:$A$10000,$B$5),INDEX(GPS_IMPORT!$2:$10000,MATCH($B$5,(GPS_IMPORT!$A$2:$A$10000),0)+ROWS($1:2)-1,COLUMN()-1),0)","v":"12.18.2018"},{"$f":"IF(ROWS(GPS_IMPORT!$1:2)<=COUNTIF(GPS_IMPORT!$A$2:$A$10000,$B$5),INDEX(GPS_IMPORT!$2:$10000,MATCH($B$5,(GPS_IMPORT!$A$2:$A$10000),0)+ROWS($1:2)-1,COLUMN()-1),0)","v":"11:55:01.150"},{"$f":"IF(ROWS(GPS_IMPORT!$1:2)<=COUNTIF(GPS_IMPORT!$A$2:$A$10000,$B$5),INDEX(GPS_IMPORT!$2:$10000,MATCH($B$5,(GPS_IMPORT!$A$2:$A$10000),0)+ROWS($1:2)-1,COLUMN()-1),0)","v":340270.848137867},{"$f":"IF(ROWS(GPS_IMPORT!$1:2)<=COUNTIF(GPS_IMPORT!$A$2:$A$10000,$B$5),INDEX(GPS_IMPORT!$2:$10000,MATCH($B$5,(GPS_IMPORT!$A$2:$A$10000),0)+ROWS($1:2)-1,COLUMN()-1),0)","v":2284093.2374749901},{"$f":"IF(ROWS(GPS_IMPORT!$1:2)<=COUNTIF(GPS_IMPORT!$A$2:$A$10000,$B$5),INDEX(GPS_IMPORT!$2:$10000,MATCH($B$5,(GPS_IMPORT!$A$2:$A$10000),0)+ROWS($1:2)-1,COLUMN()-1),0)","v":902.79430379778},-2.9440997750498354E-3,1.0431059636175632E-3,-2.8241557082537838E-3,true]
[3,{"$f":"IF(ROWS(GPS_IMPORT!$1:3)<=COUNTIF(GPS_IMPORT!$A$2:$A$10000,$B$5),INDEX(GPS_IMPORT!$2:$10000,MATCH($B$5,(GPS_IMPORT!$A$2:$A$10000),0)+ROWS($1:3)-1,COLUMN()-1),0)","v":"GS17"},{"$f":"IF(ROWS(GPS_IMPORT!$1:3)<=COUNTIF(GPS_IMPORT!$A$2:$A$10000,$B$5),INDEX(GPS_IMPORT!$2:$10000,MATCH($B$5,(GPS_IMPORT!$A$2:$A$10000),0)+ROWS($1:3)-1,COLUMN()-1),0)","v":"12.18.2018"},{"$f":"IF(ROWS(GPS_IMPORT!$1:3)<=COUNTIF(GPS_IMPORT!$A$2:$A$10000,$B$5),INDEX(GPS_IMPORT!$2:$10000,MATCH($B$5,(GPS_IMPORT!$A$2:$A$10000),0)+ROWS($1:3)-1,COLUMN()-1),0)","v":"11:55:13.840"},{"$f":"IF(ROWS(GPS_IMPORT!$1:3)<=COUNTIF(GPS_IMPORT!$A$2:$A$10000,$B$5),INDEX(GPS_IMPORT!$2:$10000,MATCH($B$5,(GPS_IMPORT!$A$2:$A$10000),0)+ROWS($1:3)-1,COLUMN()-1),0)","v":340270.85303623299},{"$f":"IF(ROWS(GPS_IMPORT!$1:3)<=COUNTIF(GPS_IMPORT!$A$2:$A$10000,$B$5),INDEX(GPS_IMPORT!$2:$10000,MATCH($B$5,(GPS_IMPORT!$A$2:$A$10000),0)+ROWS($1:3)-1,COLUMN()-1),0)","v":2284093.2357169599},{"$f":"IF(ROWS(GPS_IMPORT!$1:3)<=COUNTIF(GPS_IMPORT!$A$2:$A$10000,$B$5),INDEX(GPS_IMPORT!$2:$10000,MATCH($B$5,(GPS_IMPORT!$A$2:$A$10000),0)+ROWS($1:3)-1,COLUMN()-1),0)","v":902.79914214026996},-7.8424657694995403E-3,2.8011361137032509E-3,-7.662498198214962E-3,true]
[4,{"$f":"IF(ROWS(GPS_IMPORT!$1:4)<=COUNTIF(GPS_IMPORT!$A$2:$A$10000,$B$5),INDEX(GPS_IMPORT!$2:$10000,MATCH($B$5,(GPS_IMPORT!$A$2:$A$10000),0)+ROWS($1:4)-1,COLUMN()-1),0)","v":"GS17"},{"$f":"IF(ROWS(GPS_IMPORT!$1:4)<=COUNTIF(GPS_IMPORT!$A$2:$A$10000,$B$5),INDEX(GPS_IMPORT!$2:$10000,MATCH($B$5,(GPS_IMPORT!$A$2:$A$10000),0)+ROWS($1:4)-1,COLUMN()-1),0)","v":"12.18.2018"},{"$f":"IF(ROWS(GPS_IMPORT!$1:4)<=COUNTIF(GPS_IMPORT!$A$2:$A$10000,$B$5),INDEX(GPS_IMPORT!$2:$10000,MATCH($B$5,(GPS_IMPORT!$A$2:$A$10000),0)+ROWS($1:4)-1,COLUMN()-1),0)","v":"11:55:27.080"},{"$f":"IF(ROWS(GPS_IMPORT!$1:4)<=COUNTIF(GPS_IMPORT!$A$2:$A$10000,$B$5),INDEX(GPS_IMPORT!$2:$10000,MATCH($B$5,(GPS_IMPORT!$A$2:$A$10000),0)+ROWS($1:4)-1,COLUMN()-1),0)","v":340270.86407670297},{"$f":"IF(ROWS(GPS_IMPORT!$1:4)<=COUNTIF(GPS_IMPORT!$A$2:$A$10000,$B$5),INDEX(GPS_IMPORT!$2:$10000,MATCH($B$5,(GPS_IMPORT!$A$2:$A$10000),0)+ROWS($1:4)-1,COLUMN()-1),0)","v":2284093.2364036301},{"$f":"IF(ROWS(GPS_IMPORT!$1:4)<=COUNTIF(GPS_IMPORT!$A$2:$A$10000,$B$5),INDEX(GPS_IMPORT!$2:$10000,MATCH($B$5,(GPS_IMPORT!$A$2:$A$10000),0)+ROWS($1:4)-1,COLUMN()-1),0)","v":902.77934678714996},-1.8882935750298202E-2,2.1144659258425236E-3,1.2132854921787839E-2,true]
[5,{"$f":"IF(ROWS(GPS_IMPORT!$1:5)<=COUNTIF(GPS_IMPORT!$A$2:$A$10000,$B$5),INDEX(GPS_IMPORT!$2:$10000,MATCH($B$5,(GPS_IMPORT!$A$2:$A$10000),0)+ROWS($1:5)-1,COLUMN()-1),0)","v":"GS17"},{"$f":"IF(ROWS(GPS_IMPORT!$1:5)<=COUNTIF(GPS_IMPORT!$A$2:$A$10000,$B$5),INDEX(GPS_IMPORT!$2:$10000,MATCH($B$5,(GPS_IMPORT!$A$2:$A$10000),0)+ROWS($1:5)-1,COLUMN()-1),0)","v":"12.18.2018"},{"$f":"IF(ROWS(GPS_IMPORT!$1:5)<=COUNTIF(GPS_IMPORT!$A$2:$A$10000,$B$5),INDEX(GPS_IMPORT!$2:$10000,MATCH($B$5,(GPS_IMPORT!$A$2:$A$10000),0)+ROWS($1:5)-1,COLUMN()-1),0)","v":"11:55:48.220"},{"$f":"IF(ROWS(GPS_IMPORT!$1:5)<=COUNTIF(GPS_IMPORT!$A$2:$A$10000,$B$5),INDEX(GPS_IMPORT!$2:$10000,MATCH($B$5,(GPS_IMPORT!$A$2:$A$10000),0)+ROWS($1:5)-1,COLUMN()-1),0)","v":340270.84494939703},{"$f":"IF(ROWS(GPS_IMPORT!$1:5)<=COUNTIF(GPS_IMPORT!$A$2:$A$10000,$B$5),INDEX(GPS_IMPORT!$2:$10000,MATCH($B$5,(GPS_IMPORT!$A$2:$A$10000),0)+ROWS($1:5)-1,COLUMN()-1),0)","v":2284093.2417819202},{"$f":"IF(ROWS(GPS_IMPORT!$1:5)<=COUNTIF(GPS_IMPORT!$A$2:$A$10000,$B$5),INDEX(GPS_IMPORT!$2:$10000,MATCH($B$5,(GPS_IMPORT!$A$2:$A$10000),0)+ROWS($1:5)-1,COLUMN()-1),0)","v":902.78514046363},2.4437019601464272E-4,-3.2638241536915302E-3,6.3391784417490271E-3,true]
[6,{"$f":"IF(ROWS(GPS_IMPORT!$1:6)<=COUNTIF(GPS_IMPORT!$A$2:$A$10000,$B$5),INDEX(GPS_IMPORT!$2:$10000,MATCH($B$5,(GPS_IMPORT!$A$2:$A$10000),0)+ROWS($1:6)-1,COLUMN()-1),0)","v":"GS17"},{"$f":"IF(ROWS(GPS_IMPORT!$1:6)<=COUNTIF(GPS_IMPORT!$A$2:$A$10000,$B$5),INDEX(GPS_IMPORT!$2:$10000,MATCH($B$5,(GPS_IMPORT!$A$2:$A$10000),0)+ROWS($1:6)-1,COLUMN()-1),0)","v":"12.18.2018"},{"$f":"IF(ROWS(GPS_IMPORT!$1:6)<=COUNTIF(GPS_IMPORT!$A$2:$A$10000,$B$5),INDEX(GPS_IMPORT!$2:$10000,MATCH($B$5,(GPS_IMPORT!$A$2:$A$10000),0)+ROWS($1:6)-1,COLUMN()-1),0)","v":"11:56:00.290"},{"$f":"IF(ROWS(GPS_IMPORT!$1:6)<=COUNTIF(GPS_IMPORT!$A$2:$A$10000,$B$5),INDEX(GPS_IMPORT!$2:$10000,MATCH($B$5,(GPS_IMPORT!$A$2:$A$10000),0)+ROWS($1:6)-1,COLUMN()-1),0)","v":340270.84249073599},{"$f":"IF(ROWS(GPS_IMPORT!$1:6)<=COUNTIF(GPS_IMPORT!$A$2:$A$10000,$B$5),INDEX(GPS_IMPORT!$2:$10000,MATCH($B$5,(GPS_IMPORT!$A$2:$A$10000),0)+ROWS($1:6)-1,COLUMN()-1),0)","v":2284093.23866928},{"$f":"IF(ROWS(GPS_IMPORT!$1:6)<=COUNTIF(GPS_IMPORT!$A$2:$A$10000,$B$5),INDEX(GPS_IMPORT!$2:$10000,MATCH($B$5,(GPS_IMPORT!$A$2:$A$10000),0)+ROWS($1:6)-1,COLUMN()-1),0)","v":902.78978559985001},2.7030312339775264E-3,-1.5118392184376717E-4,1.6940422217430751E-3,true]
[7,{"$f":"IF(ROWS(GPS_IMPORT!$1:7)<=COUNTIF(GPS_IMPORT!$A$2:$A$10000,$B$5),INDEX(GPS_IMPORT!$2:$10000,MATCH($B$5,(GPS_IMPORT!$A$2:$A$10000),0)+ROWS($1:7)-1,COLUMN()-1),0)","v":"GS17"},{"$f":"IF(ROWS(GPS_IMPORT!$1:7)<=COUNTIF(GPS_IMPORT!$A$2:$A$10000,$B$5),INDEX(GPS_IMPORT!$2:$10000,MATCH($B$5,(GPS_IMPORT!$A$2:$A$10000),0)+ROWS($1:7)-1,COLUMN()-1),0)","v":"12.18.2018"},{"$f":"IF(ROWS(GPS_IMPORT!$1:7)<=COUNTIF(GPS_IMPORT!$A$2:$A$10000,$B$5),INDEX(GPS_IMPORT!$2:$10000,MATCH($B$5,(GPS_IMPORT!$A$2:$A$10000),0)+ROWS($1:7)-1,COLUMN()-1),0)","v":"11:56:15.930"},{"$f":"IF(ROWS(GPS_IMPORT!$1:7)<=COUNTIF(GPS_IMPORT!$A$2:$A$10000,$B$5),INDEX(GPS_IMPORT!$2:$10000,MATCH($B$5,(GPS_IMPORT!$A$2:$A$10000),0)+ROWS($1:7)-1,COLUMN()-1),0)","v":340270.83921299502},{"$f":"IF(ROWS(GPS_IMPORT!$1:7)<=COUNTIF(GPS_IMPORT!$A$2:$A$10000,$B$5),INDEX(GPS_IMPORT!$2:$10000,MATCH($B$5,(GPS_IMPORT!$A$2:$A$10000),0)+ROWS($1:7)-1,COLUMN()-1),0)","v":2284093.2412961302},{"$f":"IF(ROWS(GPS_IMPORT!$1:7)<=COUNTIF(GPS_IMPORT!$A$2:$A$10000,$B$5),INDEX(GPS_IMPORT!$2:$10000,MATCH($B$5,(GPS_IMPORT!$A$2:$A$10000),0)+ROWS($1:7)-1,COLUMN()-1),0)","v":902.78119925676003},5.9807721991091967E-3,-2.7780341915786266E-3,1.02803853117166E-2,true]
[8,{"$f":"IF(ROWS(GPS_IMPORT!$1:8)<=COUNTIF(GPS_IMPORT!$A$2:$A$10000,$B$5),INDEX(GPS_IMPORT!$2:$10000,MATCH($B$5,(GPS_IMPORT!$A$2:$A$10000),0)+ROWS($1:8)-1,COLUMN()-1),0)","v":"GS17"},{"$f":"IF(ROWS(GPS_IMPORT!$1:8)<=COUNTIF(GPS_IMPORT!$A$2:$A$10000,$B$5),INDEX(GPS_IMPORT!$2:$10000,MATCH($B$5,(GPS_IMPORT!$A$2:$A$10000),0)+ROWS($1:8)-1,COLUMN()-1),0)","v":"12.18.2018"},{"$f":"IF(ROWS(GPS_IMPORT!$1:8)<=COUNTIF(GPS_IMPORT!$A$2:$A$10000,$B$5),INDEX(GPS_IMPORT!$2:$10000,MATCH($B$5,(GPS_IMPORT!$A$2:$A$10000),0)+ROWS($1:8)-1,COLUMN()-1),0)","v":"11:56:28"},{"$f":"IF(ROWS(GPS_IMPORT!$1:8)<=COUNTIF(GPS_IMPORT!$A$2:$A$10000,$B$5),INDEX(GPS_IMPORT!$2:$10000,MATCH($B$5,(GPS_IMPORT!$A$2:$A$10000),0)+ROWS($1:8)-1,COLUMN()-1),0)","v":340270.83718978602},{"$f":"IF(ROWS(GPS_IMPORT!$1:8)<=COUNTIF(GPS_IMPORT!$A$2:$A$10000,$B$5),INDEX(GPS_IMPORT!$2:$10000,MATCH($B$5,(GPS_IMPORT!$A$2:$A$10000),0)+ROWS($1:8)-1,COLUMN()-1),0)","v":2284093.2398209302},{"$f":"IF(ROWS(GPS_IMPORT!$1:8)<=COUNTIF(GPS_IMPORT!$A$2:$A$10000,$B$5),INDEX(GPS_IMPORT!$2:$10000,MATCH($B$5,(GPS_IMPORT!$A$2:$A$10000),0)+ROWS($1:8)-1,COLUMN()-1),0)","v":902.80579396095004},8.0039812019094825E-3,-1.3028341345489025E-3,-1.4314318878291488E-2,true]
[9,{"$f":"IF(ROWS(GPS_IMPORT!$1:9)<=COUNTIF(GPS_IMPORT!$A$2:$A$10000,$B$5),INDEX(GPS_IMPORT!$2:$10000,MATCH($B$5,(GPS_IMPORT!$A$2:$A$10000),0)+ROWS($1:9)-1,COLUMN()-1),0)","v":"GS17"},{"$f":"IF(ROWS(GPS_IMPORT!$1:9)<=COUNTIF(GPS_IMPORT!$A$2:$A$10000,$B$5),INDEX(GPS_IMPORT!$2:$10000,MATCH($B$5,(GPS_IMPORT!$A$2:$A$10000),0)+ROWS($1:9)-1,COLUMN()-1),0)","v":"12.18.2018"},{"$f":"IF(ROWS(GPS_IMPORT!$1:9)<=COUNTIF(GPS_IMPORT!$A$2:$A$10000,$B$5),INDEX(GPS_IMPORT!$2:$10000,MATCH($B$5,(GPS_IMPORT!$A$2:$A$10000),0)+ROWS($1:9)-1,COLUMN()-1),0)","v":"11:56:44.860"},{"$f":"IF(ROWS(GPS_IMPORT!$1:9)<=COUNTIF(GPS_IMPORT!$A$2:$A$10000,$B$5),INDEX(GPS_IMPORT!$2:$10000,MATCH($B$5,(GPS_IMPORT!$A$2:$A$10000),0)+ROWS($1:9)-1,COLUMN()-1),0)","v":340270.85932024702},{"$f":"IF(ROWS(GPS_IMPORT!$1:9)<=COUNTIF(GPS_IMPORT!$A$2:$A$10000,$B$5),INDEX(GPS_IMPORT!$2:$10000,MATCH($B$5,(GPS_IMPORT!$A$2:$A$10000),0)+ROWS($1:9)-1,COLUMN()-1),0)","v":2284093.2359807501},{"$f":"IF(ROWS(GPS_IMPORT!$1:9)<=COUNTIF(GPS_IMPORT!$A$2:$A$10000,$B$5),INDEX(GPS_IMPORT!$2:$10000,MATCH($B$5,(GPS_IMPORT!$A$2:$A$10000),0)+ROWS($1:9)-1,COLUMN()-1),0)","v":902.76329193333004},-1.4126479800324887E-2,2.5373459793627262E-3,2.8187708741711504E-2,true]
[10,{"$f":"IF(ROWS(GPS_IMPORT!$1:10)<=COUNTIF(GPS_IMPORT!$A$2:$A$10000,$B$5),INDEX(GPS_IMPORT!$2:$10000,MATCH($B$5,(GPS_IMPORT!$A$2:$A$10000),0)+ROWS($1:10)-1,COLUMN()-1),0)","v":"GS17"},{"$f":"IF(ROWS(GPS_IMPORT!$1:10)<=COUNTIF(GPS_IMPORT!$A$2:$A$10000,$B$5),INDEX(GPS_IMPORT!$2:$10000,MATCH($B$5,(GPS_IMPORT!$A$2:$A$10000),0)+ROWS($1:10)-1,COLUMN()-1),0)","v":"12.18.2018"},{"$f":"IF(ROWS(GPS_IMPORT!$1:10)<=COUNTIF(GPS_IMPORT!$A$2:$A$10000,$B$5),INDEX(GPS_IMPORT!$2:$10000,MATCH($B$5,(GPS_IMPORT!$A$2:$A$10000),0)+ROWS($1:10)-1,COLUMN()-1),0)","v":"11:56:57.080"},{"$f":"IF(ROWS(GPS_IMPORT!$1:10)<=COUNTIF(GPS_IMPORT!$A$2:$A$10000,$B$5),INDEX(GPS_IMPORT!$2:$10000,MATCH($B$5,(GPS_IMPORT!$A$2:$A$10000),0)+ROWS($1:10)-1,COLUMN()-1),0)","v":340270.83932664699},{"$f":"IF(ROWS(GPS_IMPORT!$1:10)<=COUNTIF(GPS_IMPORT!$A$2:$A$10000,$B$5),INDEX(GPS_IMPORT!$2:$10000,MATCH($B$5,(GPS_IMPORT!$A$2:$A$10000),0)+ROWS($1:10)-1,COLUMN()-1),0)","v":2284093.23992647},{"$f":"IF(ROWS(GPS_IMPORT!$1:10)<=COUNTIF(GPS_IMPORT!$A$2:$A$10000,$B$5),INDEX(GPS_IMPORT!$2:$10000,MATCH($B$5,(GPS_IMPORT!$A$2:$A$10000),0)+ROWS($1:10)-1,COLUMN()-1),0)","v":902.78925231485005},5.8671202277764678E-3,-1.4083739370107651E-3,2.2273272217034901E-3,true]
[11,{"$f":"IF(ROWS(GPS_IMPORT!$1:11)<=COUNTIF(GPS_IMPORT!$A$2:$A$10000,$B$5),INDEX(GPS_IMPORT!$2:$10000,MATCH($B$5,(GPS_IMPORT!$A$2:$A$10000),0)+ROWS($1:11)-1,COLUMN()-1),0)","v":"GS17"},{"$f":"IF(ROWS(GPS_IMPORT!$1:11)<=COUNTIF(GPS_IMPORT!$A$2:$A$10000,$B$5),INDEX(GPS_IMPORT!$2:$10000,MATCH($B$5,(GPS_IMPORT!$A$2:$A$10000),0)+ROWS($1:11)-1,COLUMN()-1),0)","v":"12.18.2018"},{"$f":"IF(ROWS(GPS_IMPORT!$1:11)<=COUNTIF(GPS_IMPORT!$A$2:$A$10000,$B$5),INDEX(GPS_IMPORT!$2:$10000,MATCH($B$5,(GPS_IMPORT!$A$2:$A$10000),0)+ROWS($1:11)-1,COLUMN()-1),0)","v":"11:57:08.980"},{"$f":"IF(ROWS(GPS_IMPORT!$1:11)<=COUNTIF(GPS_IMPORT!$A$2:$A$10000,$B$5),INDEX(GPS_IMPORT!$2:$10000,MATCH($B$5,(GPS_IMPORT!$A$2:$A$10000),0)+ROWS($1:11)-1,COLUMN()-1),0)","v":340270.83902915299},{"$f":"IF(ROWS(GPS_IMPORT!$1:11)<=COUNTIF(GPS_IMPORT!$A$2:$A$10000,$B$5),INDEX(GPS_IMPORT!$2:$10000,MATCH($B$5,(GPS_IMPORT!$A$2:$A$10000),0)+ROWS($1:11)-1,COLUMN()-1),0)","v":2284093.2361336602},{"$f":"IF(ROWS(GPS_IMPORT!$1:11)<=COUNTIF(GPS_IMPORT!$A$2:$A$10000,$B$5),INDEX(GPS_IMPORT!$2:$10000,MATCH($B$5,(GPS_IMPORT!$A$2:$A$10000),0)+ROWS($1:11)-1,COLUMN()-1),0)","v":902.80141394252996},6.1646142276003957E-3,2.3844358511269093E-3,-9.9343004582124195E-3,true]
[12,{"$f":"IF(ROWS(GPS_IMPORT!$1:12)<=COUNTIF(GPS_IMPORT!$A$2:$A$10000,$B$5),INDEX(GPS_IMPORT!$2:$10000,MATCH($B$5,(GPS_IMPORT!$A$2:$A$10000),0)+ROWS($1:12)-1,COLUMN()-1),0)","v":"GS17"},{"$f":"IF(ROWS(GPS_IMPORT!$1:12)<=COUNTIF(GPS_IMPORT!$A$2:$A$10000,$B$5),INDEX(GPS_IMPORT!$2:$10000,MATCH($B$5,(GPS_IMPORT!$A$2:$A$10000),0)+ROWS($1:12)-1,COLUMN()-1),0)","v":"12.18.2018"},{"$f":"IF(ROWS(GPS_IMPORT!$1:12)<=COUNTIF(GPS_IMPORT!$A$2:$A$10000,$B$5),INDEX(GPS_IMPORT!$2:$10000,MATCH($B$5,(GPS_IMPORT!$A$2:$A$10000),0)+ROWS($1:12)-1,COLUMN()-1),0)","v":"11:57:19.750"},{"$f":"IF(ROWS(GPS_IMPORT!$1:12)<=COUNTIF(GPS_IMPORT!$A$2:$A$10000,$B$5),INDEX(GPS_IMPORT!$2:$10000,MATCH($B$5,(GPS_IMPORT!$A$2:$A$10000),0)+ROWS($1:12)-1,COLUMN()-1),0)","v":340270.83650542202},{"$f":"IF(ROWS(GPS_IMPORT!$1:12)<=COUNTIF(GPS_IMPORT!$A$2:$A$10000,$B$5),INDEX(GPS_IMPORT!$2:$10000,MATCH($B$5,(GPS_IMPORT!$A$2:$A$10000),0)+ROWS($1:12)-1,COLUMN()-1),0)","v":2284093.2401819201},{"$f":"IF(ROWS(GPS_IMPORT!$1:12)<=COUNTIF(GPS_IMPORT!$A$2:$A$10000,$B$5),INDEX(GPS_IMPORT!$2:$10000,MATCH($B$5,(GPS_IMPORT!$A$2:$A$10000),0)+ROWS($1:12)-1,COLUMN()-1),0)","v":902.80586908381997},8.6883452022448182E-3,-1.6638240776956081E-3,-1.4389441748221543E-2,true]
[13,{"$f":"IF(ROWS(GPS_IMPORT!$1:13)<=COUNTIF(GPS_IMPORT!$A$2:$A$10000,$B$5),INDEX(GPS_IMPORT!$2:$10000,MATCH($B$5,(GPS_IMPORT!$A$2:$A$10000),0)+ROWS($1:13)-1,COLUMN()-1),0)","v":0},{"$f":"IF(ROWS(GPS_IMPORT!$1:13)<=COUNTIF(GPS_IMPORT!$A$2:$A$10000,$B$5),INDEX(GPS_IMPORT!$2:$10000,MATCH($B$5,(GPS_IMPORT!$A$2:$A$10000),0)+ROWS($1:13)-1,COLUMN()-1),0)","v":"00:00:00"},{"$f":"IF(ROWS(GPS_IMPORT!$1:13)<=COUNTIF(GPS_IMPORT!$A$2:$A$10000,$B$5),INDEX(GPS_IMPORT!$2:$10000,MATCH($B$5,(GPS_IMPORT!$A$2:$A$10000),0)+ROWS($1:13)-1,COLUMN()-1),0)","v":"00:00:00"},{"$f":"IF(ROWS(GPS_IMPORT!$1:13)<=COUNTIF(GPS_IMPORT!$A$2:$A$10000,$B$5),INDEX(GPS_IMPORT!$2:$10000,MATCH($B$5,(GPS_IMPORT!$A$2:$A$10000),0)+ROWS($1:13)-1,COLUMN()-1),0)","v":0},{"$f":"IF(ROWS(GPS_IMPORT!$1:13)<=COUNTIF(GPS_IMPORT!$A$2:$A$10000,$B$5),INDEX(GPS_IMPORT!$2:$10000,MATCH($B$5,(GPS_IMPORT!$A$2:$A$10000),0)+ROWS($1:13)-1,COLUMN()-1),0)","v":0},{"$f":"IF(ROWS(GPS_IMPORT!$1:13)<=COUNTIF(GPS_IMPORT!$A$2:$A$10000,$B$5),INDEX(GPS_IMPORT!$2:$10000,MATCH($B$5,(GPS_IMPORT!$A$2:$A$10000),0)+ROWS($1:13)-1,COLUMN()-1),0)","v":0},{"$f":"IF(E19>0,E$22-E19,0)","v":0},0,0,false]
[14,{"$f":"IF(ROWS(GPS_IMPORT!$1:14)<=COUNTIF(GPS_IMPORT!$A$2:$A$10000,$B$5),INDEX(GPS_IMPORT!$2:$10000,MATCH($B$5,(GPS_IMPORT!$A$2:$A$10000),0)+ROWS($1:14)-1,COLUMN()-1),0)","v":0},{"$f":"IF(ROWS(GPS_IMPORT!$1:14)<=COUNTIF(GPS_IMPORT!$A$2:$A$10000,$B$5),INDEX(GPS_IMPORT!$2:$10000,MATCH($B$5,(GPS_IMPORT!$A$2:$A$10000),0)+ROWS($1:14)-1,COLUMN()-1),0)","v":"00:00:00"},{"$f":"IF(ROWS(GPS_IMPORT!$1:14)<=COUNTIF(GPS_IMPORT!$A$2:$A$10000,$B$5),INDEX(GPS_IMPORT!$2:$10000,MATCH($B$5,(GPS_IMPORT!$A$2:$A$10000),0)+ROWS($1:14)-1,COLUMN()-1),0)","v":"00:00:00"},{"$f":"IF(ROWS(GPS_IMPORT!$1:14)<=COUNTIF(GPS_IMPORT!$A$2:$A$10000,$B$5),INDEX(GPS_IMPORT!$2:$10000,MATCH($B$5,(GPS_IMPORT!$A$2:$A$10000),0)+ROWS($1:14)-1,COLUMN()-1),0)","v":0},{"$f":"IF(ROWS(GPS_IMPORT!$1:14)<=COUNTIF(GPS_IMPORT!$A$2:$A$10000,$B$5),INDEX(GPS_IMPORT!$2:$10000,MATCH($B$5,(GPS_IMPORT!$A$2:$A$10000),0)+ROWS($1:14)-1,COLUMN()-1),0)","v":0},{"$f":"IF(ROWS(GPS_IMPORT!$1:14)<=COUNTIF(GPS_IMPORT!$A$2:$A$10000,$B$5),INDEX(GPS_IMPORT!$2:$10000,MATCH($B$5,(GPS_IMPORT!$A$2:$A$10000),0)+ROWS($1:14)-1,COLUMN()-1),0)","v":0},0,0,0,false]
[15,{"$f":"IF(ROWS(GPS_IMPORT!$1:15)<=COUNTIF(GPS_IMPORT!$A$2:$A$10000,$B$5),INDEX(GPS_IMPORT!$2:$10000,MATCH($B$5,(GPS_IMPORT!$A$2:$A$10000),0)+ROWS($1:15)-1,COLUMN()-1),0)","v":0},{"$f":"IF(ROWS(GPS_IMPORT!$1:15)<=COUNTIF(GPS_IMPORT!$A$2:$A$10000,$B$5),INDEX(GPS_IMPORT!$2:$10000,MATCH($B$5,(GPS_IMPORT!$A$2:$A$10000),0)+ROWS($1:15)-1,COLUMN()-1),0)","v":"00:00:00"},{"$f":"IF(ROWS(GPS_IMPORT!$1:15)<=COUNTIF(GPS_IMPORT!$A$2:$A$10000,$B$5),INDEX(GPS_IMPORT!$2:$10000,MATCH($B$5,(GPS_IMPORT!$A$2:$A$10000),0)+ROWS($1:15)-1,COLUMN()-1),0)","v":"00:00:00"},{"$f":"IF(ROWS(GPS_IMPORT!$1:15)<=COUNTIF(GPS_IMPORT!$A$2:$A$10000,$B$5),INDEX(GPS_IMPORT!$2:$10000,MATCH($B$5,(GPS_IMPORT!$A$2:$A$10000),0)+ROWS($1:15)-1,COLUMN()-1),0)","v":0},{"$f":"IF(ROWS(GPS_IMPORT!$1:15)<=COUNTIF(GPS_IMPORT!$A$2:$A$10000,$B$5),INDEX(GPS_IMPORT!$2:$10000,MATCH($B$5,(GPS_IMPORT!$A$2:$A$10000),0)+ROWS($1:15)-1,COLUMN()-1),0)","v":0},{"$f":"IF(ROWS(GPS_IMPORT!$1:15)<=COUNTIF(GPS_IMPORT!$A$2:$A$10000,$B$5),INDEX(GPS_IMPORT!$2:$10000,MATCH($B$5,(GPS_IMPORT!$A$2:$A$10000),0)+ROWS($1:15)-1,COLUMN()-1),0)","v":0},0,0,0,false]
[null,null,null,"AVERAGE",{"$f":"(IF($K$7=TRUE,E7,0)+IF($K$8=TRUE,E8,0)+IF($K$9=TRUE,E9,0)+IF($K$10=TRUE,E10,0)+IF($K$11=TRUE,E11,0)+IF($K$12=TRUE,E12,0)+IF($K$13=TRUE,E13,0)+IF($K$14=TRUE,E14,0)+IF($K$15=TRUE,E15,0)+IF($K$16=TRUE,E16,0)+IF($K$17=TRUE,E17,0)+IF($K$18=TRUE,E18,0)+IF($K$19=TRUE,E19,0)+IF($K$20=TRUE,E20,0)+IF($K$21=TRUE,E21,0))/(IF($K$7=TRUE,1,0)+IF($K$8=TRUE,1,0)+IF($K$9=TRUE,1,0)+IF($K$10=TRUE,1,0)+IF($K$11=TRUE,1,0)+IF($K$12=TRUE,1,0)+IF($K$13=TRUE,1,0)+IF($K$14=TRUE,1,0)+IF($K$15=TRUE,1,0)+IF($K$16=TRUE,1,0)+IF($K$17=TRUE,1,0)+IF($K$18=TRUE,1,0)+IF($K$19=TRUE,1,0)+IF($K$20=TRUE,1,0)+IF($K$21=TRUE,1,0))","v":340270.84519376722},{"$f":"(IF($K$7=TRUE,F7,0)+IF($K$8=TRUE,F8,0)+IF($K$9=TRUE,F9,0)+IF($K$10=TRUE,F10,0)+IF($K$11=TRUE,F11,0)+IF($K$12=TRUE,F12,0)+IF($K$13=TRUE,F13,0)+IF($K$14=TRUE,F14,0)+IF($K$15=TRUE,F15,0)+IF($K$16=TRUE,F16,0)+IF($K$17=TRUE,F17,0)+IF($K$18=TRUE,F18,0)+IF($K$19=TRUE,F19,0)+IF($K$20=TRUE,F20,0)+IF($K$21=TRUE,F21,0))/(IF($K$7=TRUE,1,0)+IF($K$8=TRUE,1,0)+IF($K$9=TRUE,1,0)+IF($K$10=TRUE,1,0)+IF($K$11=TRUE,1,0)+IF($K$12=TRUE,1,0)+IF($K$13=TRUE,1,0)+IF($K$14=TRUE,1,0)+IF($K$15=TRUE,1,0)+IF($K$16=TRUE,1,0)+IF($K$17=TRUE,1,0)+IF($K$18=TRUE,1,0)+IF($K$19=TRUE,1,0)+IF($K$20=TRUE,1,0)+IF($K$21=TRUE,1,0))","v":2284093.238518096},{"$f":"(IF($K$7=TRUE,G7,0)+IF($K$8=TRUE,G8,0)+IF($K$9=TRUE,G9,0)+IF($K$10=TRUE,G10,0)+IF($K$11=TRUE,G11,0)+IF($K$12=TRUE,G12,0)+IF($K$13=TRUE,G13,0)+IF($K$14=TRUE,G14,0)+IF($K$15=TRUE,G15,0)+IF($K$16=TRUE,G16,0)+IF($K$17=TRUE,G17,0)+IF($K$18=TRUE,G18,0)+IF($K$19=TRUE,G19,0)+IF($K$20=TRUE,G20,0)+IF($K$21=TRUE,G21,0))/\n(IF($K$7=TRUE,1,0)+IF($K$8=TRUE,1,0)+IF($K$9=TRUE,1,0)+IF($K$10=TRUE,1,0)+IF($K$11=TRUE,1,0)+IF($K$12=TRUE,1,0)+IF($K$13=TRUE,1,0)+IF($K$14=TRUE,1,0)+IF($K$15=TRUE,1,0)+IF($K$16=TRUE,1,0)+IF($K$17=TRUE,1,0)+IF($K$18=TRUE,1,0)+IF($K$19=TRUE,1,0)+IF($K$20=TRUE,1,0)+IF($K$21=TRUE,1,0))","v":902.79147964207175},"RMSE:","RMSE:","RMSE:"]
[null,null,null,null,null,null,"RMSE IN US SURVEY FEET:",{"$f":"SQRT((\n(IF($K$7=TRUE,H7^2,0))+(IF($K$8=TRUE,H8^2,0))+(IF($K$9=TRUE,H9^2,0))+(IF($K$10=TRUE,H10^2,0))+(IF($K$11=TRUE,H11^2,0))+(IF($K$12=TRUE,H12^2,0))+(IF($K$13=TRUE,H13^2,0))+(IF($K$14=TRUE,H14^2,0))+(IF($K$15=TRUE,H15^2,0))+(IF($K$16=TRUE,H16^2,0))+(IF($K$17=TRUE,H17^2,0))+(IF($K$18=TRUE,H18^2,0))+(IF($K$19=TRUE,H19^2,0))+(IF($K$20=TRUE,H20^2,0))+(IF($K$21=TRUE,H21^2,0)))/\n(IF($K$7=TRUE,1,0)+IF($K$8=TRUE,1,0)+IF($K$9=TRUE,1,0)+IF($K$10=TRUE,1,0)+IF($K$11=TRUE,1,0)+IF($K$12=TRUE,1,0)+IF($K$13=TRUE,1,0)+IF($K$14=TRUE,1,0)+IF($K$15=TRUE,1,0)+IF($K$16=TRUE,1,0)+IF($K$17=TRUE,1,0)+IF($K$18=TRUE,1,0)+IF($K$19=TRUE,1,0)+IF($K$20=TRUE,1,0)+IF($K$21=TRUE,1,0)))","v":8.7519172223732809E-3},{"$f":"SQRT((\n(IF($K$7=TRUE,I7^2,0))+(IF($K$8=TRUE,I8^2,0))+(IF($K$9=TRUE,I9^2,0))+(IF($K$10=TRUE,I10^2,0))+(IF($K$11=TRUE,I11^2,0))+(IF($K$12=TRUE,I12^2,0))+(IF($K$13=TRUE,I13^2,0))+(IF($K$14=TRUE,I14^2,0))+(IF($K$15=TRUE,I15^2,0))+(IF($K$16=TRUE,I16^2,0))+(IF($K$17=TRUE,I17^2,0))+(IF($K$18=TRUE,I18^2,0))+(IF($K$19=TRUE,I19^2,0))+(IF($K$20=TRUE,I20^2,0))+(IF($K$21=TRUE,I21^2,0)))/\n(IF($K$7=TRUE,1,0)+IF($K$8=TRUE,1,0)+IF($K$9=TRUE,1,0)+IF($K$10=TRUE,1,0)+IF($K$11=TRUE,1,0)+IF($K$12=TRUE,1,0)+IF($K$13=TRUE,1,0)+IF($K$14=TRUE,1,0)+IF($K$15=TRUE,1,0)+IF($K$16=TRUE,1,0)+IF($K$17=TRUE,1,0)+IF($K$18=TRUE,1,0)+IF($K$19=TRUE,1,0)+IF($K$20=TRUE,1,0)+IF($K$21=TRUE,1,0)))","v":2.0507873354260074E-3},{"$f":"SQRT((\n(IF($K$7=TRUE,J7^2,0))+(IF($K$8=TRUE,J8^2,0))+(IF($K$9=TRUE,J9^2,0))+(IF($K$10=TRUE,J10^2,0))+(IF($K$11=TRUE,J11^2,0))+(IF($K$12=TRUE,J12^2,0))+(IF($K$13=TRUE,J13^2,0))+(IF($K$14=TRUE,J14^2,0))+(IF($K$15=TRUE,J15^2,0))+(IF($K$16=TRUE,J16^2,0))+(IF($K$17=TRUE,J17^2,0))+(IF($K$18=TRUE,J18^2,0))+(IF($K$19=TRUE,J19^2,0))+(IF($K$20=TRUE,J20^2,0))+(IF($K$21=TRUE,J21^2,0)))/\n(IF($K$7=TRUE,1,0)+IF($K$8=TRUE,1,0)+IF($K$9=TRUE,1,0)+IF($K$10=TRUE,1,0)+IF($K$11=TRUE,1,0)+IF($K$12=TRUE,1,0)+IF($K$13=TRUE,1,0)+IF($K$14=TRUE,1,0)+IF($K$15=TRUE,1,0)+IF($K$16=TRUE,1,0)+IF($K$17=TRUE,1,0)+IF($K$18=TRUE,1,0)+IF($K$19=TRUE,1,0)+IF($K$20=TRUE,1,0)+IF($K$21=TRUE,1,0)))","v":1.2283265142829449E-2}]
[null,null,null,1]
[null,null,"UNITLESS GRID TO GROUND MULTIPLIER",{"$f":"IF(REPORT!C13=\"n/a\",\"0.00000000\",REPORT!C13)","v":0},null,null,null,{"$f":"IF(H23<=0.029,\"PASS\",\"FAIL\")","v":"PASS"},{"$f":"IF(I23<=0.029,\"PASS\",\"FAIL\")","v":"PASS"},{"$f":"IF(J23<=0.039,\"PASS\",\"FAIL\")","v":"PASS"}]
[]
["AVERAGED GPS-DERIVED POSITION",null,null,null,null,null,null,null,"Notes:"]
[null,"MONUMENT COORDINATES",null,"NORTHING","EASTING","ORTHO HEIGHT"]
[null,"US Survey Feet (GRID)",null,{"$f":"$E$22","v":340270.84519376722},{"$f":"$F$22","v":2284093.238518096},{"$f":"$G$22","v":902.79147964207175}]
[]
["LEVELED ELEVATION"]
["US SURVEY FEET",null,"N/A","(Type the leveled elevation or N/A if no leveled elevation is available)"]
["MONUMENT HELD",null,null,"(Type the monument name from which leveling originated)"]
["LEVELED ELEVATION - GPS DERIVED ELEVATION   = ",null,null,null,{"$f":"IF(C32=\"N/A\",\"N/A\",C32-(F29*D24))","v":"N/A"}]
[]
["FINAL MONUMENT COORDINATES"]
[null,"MONUMENT COORDINATES",null,"NORTHING","EASTING","ELEVATION","FEATURE CODE"]
[null,"US SURVEY FEET (GRID)",null,{"$f":"$E$22*$D$24","v":340270.84519376722},{"$f":"$F$22*$D$24","v":2284093.238518096},{"$f":"IF($C$32=\"N/A\",($G$22*$D$24),$C$32)","v":902.79147964207175},"AERTAR"]
[null,"US SURVEY FEET (GROUND)",null,{"$f":"$D$38*$D$25","v":0},{"$f":"$E$38*$D$25","v":0},{"$f":"IF($C$32=\"N/A\",($G$22*$D$24),$C$32)","v":902.79147964207175},{"$f":"G38","v":"AERTAR"}]
[]
["∆ North,  ∆ East, and ∆ Ht. are the difference between the average northing, easting, and height for each observation.",null,null,null,null,null,null,null,"Mask Angle:","10°"]

{"sheet":"GS18","index":24,"n_rows":41,"n_cols":11,"rows_kept":41,"cut":false,"hidden":false,"merged":[[0,0,0,10],[26,0,26,6],[27,1,27,2],[27,8,38,10],[28,1,28,2],[30,0,30,6],[35,0,35,6],[36,1,36,2],[37,1,37,2],[38,1,38,2]]}
["VRS GNSS Project Control Monument Coordinate Analysis"]
[]
["Project:",{"$f":"REPORT!B2","v":"TUS-800-22.74"},"GPS Antenna:","LEICA GS14",null,null,null,null,null,"Report Date:",{"$f":"REPORT!C49","v":"2018-12-19"}]
["PID:",{"$f":"REPORT!E2","v":100603},"VRS Network:","ODOT VRS",null,null,null,null,null,"Prepared By:",{"$f":"REPORT!C48","v":"Kolton Wilson"}]
["Point ID:","GS18","No. of Sessions:",{"$f":"COUNTIF(GPS_IMPORT!A2:A1000,$B$5)","v":13},null,null,null,null,null,"Checked By:",{"$f":"REPORT!C52","v":"Joel Swick"}]
["SESSION #","Point","Observation Date","Start Time","Northing(sft)","Easting(sft)","Height(sft)","∆ Northing(sft)","∆ Easting(sft)","∆ Height(sft)","Include in Solution?"]
[1,{"$f":"IF(ROWS(GPS_IMPORT!$1:1)<=COUNTIF(GPS_IMPORT!$A$2:$A$10000,$B$5),INDEX(GPS_IMPORT!$2:$10000,MATCH($B$5,(GPS_IMPORT!$A$2:$A$10000),0)+ROWS($1:1)-1,COLUMN()-1),0)","v":"GS18"},{"$f":"IF(ROWS(GPS_IMPORT!$1:1)<=COUNTIF(GPS_IMPORT!$A$2:$A$10000,$B$5),INDEX(GPS_IMPORT!$2:$10000,MATCH($B$5,(GPS_IMPORT!$A$2:$A$10000),0)+ROWS($1:1)-1,COLUMN()-1),0)","v":"12.18.2018"},{"$f":"IF(ROWS(GPS_IMPORT!$1:1)<=COUNTIF(GPS_IMPORT!$A$2:$A$10000,$B$5),INDEX(GPS_IMPORT!$2:$10000,MATCH($B$5,(GPS_IMPORT!$A$2:$A$10000),0)+ROWS($1:1)-1,COLUMN()-1),0)","v":"12:03:07.060"},{"$f":"IF(ROWS(GPS_IMPORT!$1:1)<=COUNTIF(GPS_IMPORT!$A$2:$A$10000,$B$5),INDEX(GPS_IMPORT!$2:$10000,MATCH($B$5,(GPS_IMPORT!$A$2:$A$10000),0)+ROWS($1:1)-1,COLUMN()-1),0)","v":341748.212057575},{"$f":"IF(ROWS(GPS_IMPORT!$1:1)<=COUNTIF(GPS_IMPORT!$A$2:$A$10000,$B$5),INDEX(GPS_IMPORT!$2:$10000,MATCH($B$5,(GPS_IMPORT!$A$2:$A$10000),0)+ROWS($1:1)-1,COLUMN()-1),0)","v":2284933.7420573402},{"$f":"IF(ROWS(GPS_IMPORT!$1:1)<=COUNTIF(GPS_IMPORT!$A$2:$A$10000,$B$5),INDEX(GPS_IMPORT!$2:$10000,MATCH($B$5,(GPS_IMPORT!$A$2:$A$10000),0)+ROWS($1:1)-1,COLUMN()-1),0)","v":933.15901457315999},{"$f":"IF(E7>0,E$22-E7,0)","v":-6.0530396294780076E-3},2.8747241012752056E-3,-1.5027176694047739E-2,true]
[2,{"$f":"IF(ROWS(GPS_IMPORT!$1:2)<=COUNTIF(GPS_IMPORT!$A$2:$A$10000,$B$5),INDEX(GPS_IMPORT!$2:$10000,MATCH($B$5,(GPS_IMPORT!$A$2:$A$10000),0)+ROWS($1:2)-1,COLUMN()-1),0)","v":"GS18"},{"$f":"IF(ROWS(GPS_IMPORT!$1:2)<=COUNTIF(GPS_IMPORT!$A$2:$A$10000,$B$5),INDEX(GPS_IMPORT!$2:$10000,MATCH($B$5,(GPS_IMPORT!$A$2:$A$10000),0)+ROWS($1:2)-1,COLUMN()-1),0)","v":"12.18.2018"},{"$f":"IF(ROWS(GPS_IMPORT!$1:2)<=COUNTIF(GPS_IMPORT!$A$2:$A$10000,$B$5),INDEX(GPS_IMPORT!$2:$10000,MATCH($B$5,(GPS_IMPORT!$A$2:$A$10000),0)+ROWS($1:2)-1,COLUMN()-1),0)","v":"12:03:21.990"},{"$f":"IF(ROWS(GPS_IMPORT!$1:2)<=COUNTIF(GPS_IMPORT!$A$2:$A$10000,$B$5),INDEX(GPS_IMPORT!$2:$10000,MATCH($B$5,(GPS_IMPORT!$A$2:$A$10000),0)+ROWS($1:2)-1,COLUMN()-1),0)","v":341748.20657405298},{"$f":"IF(ROWS(GPS_IMPORT!$1:2)<=COUNTIF(GPS_IMPORT!$A$2:$A$10000,$B$5),INDEX(GPS_IMPORT!$2:$10000,MATCH($B$5,(GPS_IMPORT!$A$2:$A$10000),0)+ROWS($1:2)-1,COLUMN()-1),0)","v":2284933.74460389},{"$f":"IF(ROWS(GPS_IMPORT!$1:2)<=COUNTIF(GPS_IMPORT!$A$2:$A$10000,$B$5),INDEX(GPS_IMPORT!$2:$10000,MATCH($B$5,(GPS_IMPORT!$A$2:$A$10000),0)+ROWS($1:2)-1,COLUMN()-1),0)","v":933.18663193861005},-5.6951760780066252E-4,3.2817432656884193E-4,-4.264454214410307E-2,true]
[3,{"$f":"IF(ROWS(GPS_IMPORT!$1:3)<=COUNTIF(GPS_IMPORT!$A$2:$A$10000,$B$5),INDEX(GPS_IMPORT!$2:$10000,MATCH($B$5,(GPS_IMPORT!$A$2:$A$10000),0)+ROWS($1:3)-1,COLUMN()-1),0)","v":"GS18"},{"$f":"IF(ROWS(GPS_IMPORT!$1:3)<=COUNTIF(GPS_IMPORT!$A$2:$A$10000,$B$5),INDEX(GPS_IMPORT!$2:$10000,MATCH($B$5,(GPS_IMPORT!$A$2:$A$10000),0)+ROWS($1:3)-1,COLUMN()-1),0)","v":"12.18.2018"},{"$f":"IF(ROWS(GPS_IMPORT!$1:3)<=COUNTIF(GPS_IMPORT!$A$2:$A$10000,$B$5),INDEX(GPS_IMPORT!$2:$10000,MATCH($B$5,(GPS_IMPORT!$A$2:$A$10000),0)+ROWS($1:3)-1,COLUMN()-1),0)","v":"12:03:33.990"},{"$f":"IF(ROWS(GPS_IMPORT!$1:3)<=COUNTIF(GPS_IMPORT!$A$2:$A$10000,$B$5),INDEX(GPS_IMPORT!$2:$10000,MATCH($B$5,(GPS_IMPORT!$A$2:$A$10000),0)+ROWS($1:3)-1,COLUMN()-1),0)","v":341748.21384367801},{"$f":"IF(ROWS(GPS_IMPORT!$1:3)<=COUNTIF(GPS_IMPORT!$A$2:$A$10000,$B$5),INDEX(GPS_IMPORT!$2:$10000,MATCH($B$5,(GPS_IMPORT!$A$2:$A$10000),0)+ROWS($1:3)-1,COLUMN()-1),0)","v":2284933.7412459701},{"$f":"IF(ROWS(GPS_IMPORT!$1:3)<=COUNTIF(GPS_IMPORT!$A$2:$A$10000,$B$5),INDEX(GPS_IMPORT!$2:$10000,MATCH($B$5,(GPS_IMPORT!$A$2:$A$10000),0)+ROWS($1:3)-1,COLUMN()-1),0)","v":933.14213007393005},-7.8391426359303296E-3,3.6860941909253597E-3,1.8573225358977652E-3,true]
[4,{"$f":"IF(ROWS(GPS_IMPORT!$1:4)<=COUNTIF(GPS_IMPORT!$A$2:$A$10000,$B$5),INDEX(GPS_IMPORT!$2:$10000,MATCH($B$5,(GPS_IMPORT!$A$2:$A$10000),0)+ROWS($1:4)-1,COLUMN()-1),0)","v":"GS18"},{"$f":"IF(ROWS(GPS_IMPORT!$1:4)<=COUNTIF(GPS_IMPORT!$A$2:$A$10000,$B$5),INDEX(GPS_IMPORT!$2:$10000,MATCH($B$5,(GPS_IMPORT!$A$2:$A$10000),0)+ROWS($1:4)-1,COLUMN()-1),0)","v":"12.18.2018"},{"$f":"IF(ROWS(GPS_IMPORT!$1:4)<=COUNTIF(GPS_IMPORT!$A$2:$A$10000,$B$5),INDEX(GPS_IMPORT!$2:$10000,MATCH($B$5,(GPS_IMPORT!$A$2:$A$10000),0)+ROWS($1:4)-1,COLUMN()-1),0)","v":"12:03:44.960"},{"$f":"IF(ROWS(GPS_IMPORT!$1:4)<=COUNTIF(GPS_IMPORT!$A$2:$A$10000,$B$5),INDEX(GPS_IMPORT!$2:$10000,MATCH($B$5,(GPS_IMPORT!$A$2:$A$10000),0)+ROWS($1:4)-1,COLUMN()-1),0)","v":341748.22140399902},{"$f":"IF(ROWS(GPS_IMPORT!$1:4)<=COUNTIF(GPS_IMPORT!$A$2:$A$10000,$B$5),INDEX(GPS_IMPORT!$2:$10000,MATCH($B$5,(GPS_IMPORT!$A$2:$A$10000),0)+ROWS($1:4)-1,COLUMN()-1),0)","v":2284933.7499529999},{"$f":"IF(ROWS(GPS_IMPORT!$1:4)<=COUNTIF(GPS_IMPORT!$A$2:$A$10000,$B$5),INDEX(GPS_IMPORT!$2:$10000,MATCH($B$5,(GPS_IMPORT!$A$2:$A$10000),0)+ROWS($1:4)-1,COLUMN()-1),0)","v":933.12797221468998},-1.5399463649373502E-2,-5.0209355540573597E-3,1.6015181775969722E-2,true]
[5,{"$f":"IF(ROWS(GPS_IMPORT!$1:5)<=COUNTIF(GPS_IMPORT!$A$2:$A$10000,$B$5),INDEX(GPS_IMPORT!$2:$10000,MATCH($B$5,(GPS_IMPORT!$A$2:$A$10000),0)+ROWS($1:5)-1,COLUMN()-1),0)","v":"GS18"},{"$f":"IF(ROWS(GPS_IMPORT!$1:5)<=COUNTIF(GPS_IMPORT!$A$2:$A$10000,$B$5),INDEX(GPS_IMPORT!$2:$10000,MATCH($B$5,(GPS_IMPORT!$A$2:$A$10000),0)+ROWS($1:5)-1,COLUMN()-1),0)","v":"12.18.2018"},{"$f":"IF(ROWS(GPS_IMPORT!$1:5)<=COUNTIF(GPS_IMPORT!$A$2:$A$10000,$B$5),INDEX(GPS_IMPORT!$2:$10000,MATCH($B$5,(GPS_IMPORT!$A$2:$A$10000),0)+ROWS($1:5)-1,COLUMN()-1),0)","v":"12:04:00.990"},{"$f":"IF(ROWS(GPS_IMPORT!$1:5)<=COUNTIF(GPS_IMPORT!$A$2:$A$10000,$B$5),INDEX(GPS_IMPORT!$2:$10000,MATCH($B$5,(GPS_IMPORT!$A$2:$A$10000),0)+ROWS($1:5)-1,COLUMN()-1),0)","v":341748.21326264401},{"$f":"IF(ROWS(GPS_IMPORT!$1:5)<=COUNTIF(GPS_IMPORT!$A$2:$A$10000,$B$5),INDEX(GPS_IMPORT!$2:$10000,MATCH($B$5,(GPS_IMPORT!$A$2:$A$10000),0)+ROWS($1:5)-1,COLUMN()-1),0)","v":2284933.7577144001},{"$f":"IF(ROWS(GPS_IMPORT!$1:5)<=COUNTIF(GPS_IMPORT!$A$2:$A$10000,$B$5),INDEX(GPS_IMPORT!$2:$10000,MATCH($B$5,(GPS_IMPORT!$A$2:$A$10000),0)+ROWS($1:5)-1,COLUMN()-1),0)","v":933.11703205627998},-7.2581086424179375E-3,-1.2782335747033358E-2,2.6955340185963905E-2,true]
[6,{"$f":"IF(ROWS(GPS_IMPORT!$1:6)<=COUNTIF(GPS_IMPORT!$A$2:$A$10000,$B$5),INDEX(GPS_IMPORT!$2:$10000,MATCH($B$5,(GPS_IMPORT!$A$2:$A$10000),0)+ROWS($1:6)-1,COLUMN()-1),0)","v":"GS18"},{"$f":"IF(ROWS(GPS_IMPORT!$1:6)<=COUNTIF(GPS_IMPORT!$A$2:$A$10000,$B$5),INDEX(GPS_IMPORT!$2:$10000,MATCH($B$5,(GPS_IMPORT!$A$2:$A$10000),0)+ROWS($1:6)-1,COLUMN()-1),0)","v":"12.18.2018"},{"$f":"IF(ROWS(GPS_IMPORT!$1:6)<=COUNTIF(GPS_IMPORT!$A$2:$A$10000,$B$5),INDEX(GPS_IMPORT!$2:$10000,MATCH($B$5,(GPS_IMPORT!$A$2:$A$10000),0)+ROWS($1:6)-1,COLUMN()-1),0)","v":"12:04:13"},{"$f":"IF(ROWS(GPS_IMPORT!$1:6)<=COUNTIF(GPS_IMPORT!$A$2:$A$10000,$B$5),INDEX(GPS_IMPORT!$2:$10000,MATCH($B$5,(GPS_IMPORT!$A$2:$A$10000),0)+ROWS($1:6)-1,COLUMN()-1),0)","v":341748.208054744},{"$f":"IF(ROWS(GPS_IMPORT!$1:6)<=COUNTIF(GPS_IMPORT!$A$2:$A$10000,$B$5),INDEX(GPS_IMPORT!$2:$10000,MATCH($B$5,(GPS_IMPORT!$A$2:$A$10000),0)+ROWS($1:6)-1,COLUMN()-1),0)","v":2284933.7511231699},{"$f":"IF(ROWS(GPS_IMPORT!$1:6)<=COUNTIF(GPS_IMPORT!$A$2:$A$10000,$B$5),INDEX(GPS_IMPORT!$2:$10000,MATCH($B$5,(GPS_IMPORT!$A$2:$A$10000),0)+ROWS($1:6)-1,COLUMN()-1),0)","v":933.09373893694999},-2.0502086263149977E-3,-6.1911055818200111E-3,5.0248459515955801E-2,true]
[7,{"$f":"IF(ROWS(GPS_IMPORT!$1:7)<=COUNTIF(GPS_IMPORT!$A$2:$A$10000,$B$5),INDEX(GPS_IMPORT!$2:$10000,MATCH($B$5,(GPS_IMPORT!$A$2:$A$10000),0)+ROWS($1:7)-1,COLUMN()-1),0)","v":"GS18"},{"$f":"IF(ROWS(GPS_IMPORT!$1:7)<=COUNTIF(GPS_IMPORT!$A$2:$A$10000,$B$5),INDEX(GPS_IMPORT!$2:$10000,MATCH($B$5,(GPS_IMPORT!$A$2:$A$10000),0)+ROWS($1:7)-1,COLUMN()-1),0)","v":"12.18.2018"},{"$f":"IF(ROWS(GPS_IMPORT!$1:7)<=COUNTIF(GPS_IMPORT!$A$2:$A$10000,$B$5),INDEX(GPS_IMPORT!$2:$10000,MATCH($B$5,(GPS_IMPORT!$A$2:$A$10000),0)+ROWS($1:7)-1,COLUMN()-1),0)","v":"12:04:23.850"},{"$f":"IF(ROWS(GPS_IMPORT!$1:7)<=COUNTIF(GPS_IMPORT!$A$2:$A$10000,$B$5),INDEX(GPS_IMPORT!$2:$10000,MATCH($B$5,(GPS_IMPORT!$A$2:$A$10000),0)+ROWS($1:7)-1,COLUMN()-1),0)","v":341748.20292394003},{"$f":"IF(ROWS(GPS_IMPORT!$1:7)<=COUNTIF(GPS_IMPORT!$A$2:$A$10000,$B$5),INDEX(GPS_IMPORT!$2:$10000,MATCH($B$5,(GPS_IMPORT!$A$2:$A$10000),0)+ROWS($1:7)-1,COLUMN()-1),0)","v":2284933.7510829698},{"$f":"IF(ROWS(GPS_IMPORT!$1:7)<=COUNTIF(GPS_IMPORT!$A$2:$A$10000,$B$5),INDEX(GPS_IMPORT!$2:$10000,MATCH($B$5,(GPS_IMPORT!$A$2:$A$10000),0)+ROWS($1:7)-1,COLUMN()-1),0)","v":933.12797724406005},3.0805953429080546E-3,-6.1509055085480213E-3,1.6010152405897315E-2,true]
[8,{"$f":"IF(ROWS(GPS_IMPORT!$1:8)<=COUNTIF(GPS_IMPORT!$A$2:$A$10000,$B$5),INDEX(GPS_IMPORT!$2:$10000,MATCH($B$5,(GPS_IMPORT!$A$2:$A$10000),0)+ROWS($1:8)-1,COLUMN()-1),0)","v":"GS18"},{"$f":"IF(ROWS(GPS_IMPORT!$1:8)<=COUNTIF(GPS_IMPORT!$A$2:$A$10000,$B$5),INDEX(GPS_IMPORT!$2:$10000,MATCH($B$5,(GPS_IMPORT!$A$2:$A$10000),0)+ROWS($1:8)-1,COLUMN()-1),0)","v":"12.18.2018"},{"$f":"IF(ROWS(GPS_IMPORT!$1:8)<=COUNTIF(GPS_IMPORT!$A$2:$A$10000,$B$5),INDEX(GPS_IMPORT!$2:$10000,MATCH($B$5,(GPS_IMPORT!$A$2:$A$10000),0)+ROWS($1:8)-1,COLUMN()-1),0)","v":"12:04:35.700"},{"$f":"IF(ROWS(GPS_IMPORT!$1:8)<=COUNTIF(GPS_IMPORT!$A$2:$A$10000,$B$5),INDEX(GPS_IMPORT!$2:$10000,MATCH($B$5,(GPS_IMPORT!$A$2:$A$10000),0)+ROWS($1:8)-1,COLUMN()-1),0)","v":341748.20083978801},{"$f":"IF(ROWS(GPS_IMPORT!$1:8)<=COUNTIF(GPS_IMPORT!$A$2:$A$10000,$B$5),INDEX(GPS_IMPORT!$2:$10000,MATCH($B$5,(GPS_IMPORT!$A$2:$A$10000),0)+ROWS($1:8)-1,COLUMN()-1),0)","v":2284933.7442478202},{"$f":"IF(ROWS(GPS_IMPORT!$1:8)<=COUNTIF(GPS_IMPORT!$A$2:$A$10000,$B$5),INDEX(GPS_IMPORT!$2:$10000,MATCH($B$5,(GPS_IMPORT!$A$2:$A$10000),0)+ROWS($1:8)-1,COLUMN()-1),0)","v":933.15584488362003},5.1647473592311144E-3,6.8424409255385399E-4,-1.1857487154088631E-2,true]
[9,{"$f":"IF(ROWS(GPS_IMPORT!$1:9)<=COUNTIF(GPS_IMPORT!$A$2:$A$10000,$B$5),INDEX(GPS_IMPORT!$2:$10000,MATCH($B$5,(GPS_IMPORT!$A$2:$A$10000),0)+ROWS($1:9)-1,COLUMN()-1),0)","v":"GS18"},{"$f":"IF(ROWS(GPS_IMPORT!$1:9)<=COUNTIF(GPS_IMPORT!$A$2:$A$10000,$B$5),INDEX(GPS_IMPORT!$2:$10000,MATCH($B$5,(GPS_IMPORT!$A$2:$A$10000),0)+ROWS($1:9)-1,COLUMN()-1),0)","v":"12.18.2018"},{"$f":"IF(ROWS(GPS_IMPORT!$1:9)<=COUNTIF(GPS_IMPORT!$A$2:$A$10000,$B$5),INDEX(GPS_IMPORT!$2:$10000,MATCH($B$5,(GPS_IMPORT!$A$2:$A$10000),0)+ROWS($1:9)-1,COLUMN()-1),0)","v":"12:04:58.120"},{"$f":"IF(ROWS(GPS_IMPORT!$1:9)<=COUNTIF(GPS_IMPORT!$A$2:$A$10000,$B$5),INDEX(GPS_IMPORT!$2:$10000,MATCH($B$5,(GPS_IMPORT!$A$2:$A$10000),0)+ROWS($1:9)-1,COLUMN()-1),0)","v":341748.19580982497},{"$f":"IF(ROWS(GPS_IMPORT!$1:9)<=COUNTIF(GPS_IMPORT!$A$2:$A$10000,$B$5),INDEX(GPS_IMPORT!$2:$10000,MATCH($B$5,(GPS_IMPORT!$A$2:$A$10000),0)+ROWS($1:9)-1,COLUMN()-1),0)","v":2284933.7420349801},{"$f":"IF(ROWS(GPS_IMPORT!$1:9)<=COUNTIF(GPS_IMPORT!$A$2:$A$10000,$B$5),INDEX(GPS_IMPORT!$2:$10000,MATCH($B$5,(GPS_IMPORT!$A$2:$A$10000),0)+ROWS($1:9)-1,COLUMN()-1),0)","v":933.15530528899001},1.0194710397627205E-2,2.8970842249691486E-3,-1.131789252406179E-2,true]
[10,{"$f":"IF(ROWS(GPS_IMPORT!$1:10)<=COUNTIF(GPS_IMPORT!$A$2:$A$10000,$B$5),INDEX(GPS_IMPORT!$2:$10000,MATCH($B$5,(GPS_IMPORT!$A$2:$A$10000),0)+ROWS($1:10)-1,COLUMN()-1),0)","v":"GS18"},{"$f":"IF(ROWS(GPS_IMPORT!$1:10)<=COUNTIF(GPS_IMPORT!$A$2:$A$10000,$B$5),INDEX(GPS_IMPORT!$2:$10000,MATCH($B$5,(GPS_IMPORT!$A$2:$A$10000),0)+ROWS($1:10)-1,COLUMN()-1),0)","v":"12.18.2018"},{"$f":"IF(ROWS(GPS_IMPORT!$1:10)<=COUNTIF(GPS_IMPORT!$A$2:$A$10000,$B$5),INDEX(GPS_IMPORT!$2:$10000,MATCH($B$5,(GPS_IMPORT!$A$2:$A$10000),0)+ROWS($1:10)-1,COLUMN()-1),0)","v":"12:05:08.780"},{"$f":"IF(ROWS(GPS_IMPORT!$1:10)<=COUNTIF(GPS_IMPORT!$A$2:$A$10000,$B$5),INDEX(GPS_IMPORT!$2:$10000,MATCH($B$5,(GPS_IMPORT!$A$2:$A$10000),0)+ROWS($1:10)-1,COLUMN()-1),0)","v":341748.19827461499},{"$f":"IF(ROWS(GPS_IMPORT!$1:10)<=COUNTIF(GPS_IMPORT!$A$2:$A$10000,$B$5),INDEX(GPS_IMPORT!$2:$10000,MATCH($B$5,(GPS_IMPORT!$A$2:$A$10000),0)+ROWS($1:10)-1,COLUMN()-1),0)","v":2284933.73895327},{"$f":"IF(ROWS(GPS_IMPORT!$1:10)<=COUNTIF(GPS_IMPORT!$A$2:$A$10000,$B$5),INDEX(GPS_IMPORT!$2:$10000,MATCH($B$5,(GPS_IMPORT!$A$2:$A$10000),0)+ROWS($1:10)-1,COLUMN()-1),0)","v":933.15252795495996},7.7299203840084374E-3,5.978794302791357E-3,-8.5405584940190238E-3,true]
[11,{"$f":"IF(ROWS(GPS_IMPORT!$1:11)<=COUNTIF(GPS_IMPORT!$A$2:$A$10000,$B$5),INDEX(GPS_IMPORT!$2:$10000,MATCH($B$5,(GPS_IMPORT!$A$2:$A$10000),0)+ROWS($1:11)-1,COLUMN()-1),0)","v":"GS18"},{"$f":"IF(ROWS(GPS_IMPORT!$1:11)<=COUNTIF(GPS_IMPORT!$A$2:$A$10000,$B$5),INDEX(GPS_IMPORT!$2:$10000,MATCH($B$5,(GPS_IMPORT!$A$2:$A$10000),0)+ROWS($1:11)-1,COLUMN()-1),0)","v":"12.18.2018"},{"$f":"IF(ROWS(GPS_IMPORT!$1:11)<=COUNTIF(GPS_IMPORT!$A$2:$A$10000,$B$5),INDEX(GPS_IMPORT!$2:$10000,MATCH($B$5,(GPS_IMPORT!$A$2:$A$10000),0)+ROWS($1:11)-1,COLUMN()-1),0)","v":"12:05:19.770"},{"$f":"IF(ROWS(GPS_IMPORT!$1:11)<=COUNTIF(GPS_IMPORT!$A$2:$A$10000,$B$5),INDEX(GPS_IMPORT!$2:$10000,MATCH($B$5,(GPS_IMPORT!$A$2:$A$10000),0)+ROWS($1:11)-1,COLUMN()-1),0)","v":341748.199003288},{"$f":"IF(ROWS(GPS_IMPORT!$1:11)<=COUNTIF(GPS_IMPORT!$A$2:$A$10000,$B$5),INDEX(GPS_IMPORT!$2:$10000,MATCH($B$5,(GPS_IMPORT!$A$2:$A$10000),0)+ROWS($1:11)-1,COLUMN()-1),0)","v":2284933.7392790299},{"$f":"IF(ROWS(GPS_IMPORT!$1:11)<=COUNTIF(GPS_IMPORT!$A$2:$A$10000,$B$5),INDEX(GPS_IMPORT!$2:$10000,MATCH($B$5,(GPS_IMPORT!$A$2:$A$10000),0)+ROWS($1:11)-1,COLUMN()-1),0)","v":933.16478255583002},7.0012473734095693E-3,5.6530344299972057E-3,-2.0795159364070059E-2,true]
[12,{"$f":"IF(ROWS(GPS_IMPORT!$1:12)<=COUNTIF(GPS_IMPORT!$A$2:$A$10000,$B$5),INDEX(GPS_IMPORT!$2:$10000,MATCH($B$5,(GPS_IMPORT!$A$2:$A$10000),0)+ROWS($1:12)-1,COLUMN()-1),0)","v":"GS18"},{"$f":"IF(ROWS(GPS_IMPORT!$1:12)<=COUNTIF(GPS_IMPORT!$A$2:$A$10000,$B$5),INDEX(GPS_IMPORT!$2:$10000,MATCH($B$5,(GPS_IMPORT!$A$2:$A$10000),0)+ROWS($1:12)-1,COLUMN()-1),0)","v":"12.18.2018"},{"$f":"IF(ROWS(GPS_IMPORT!$1:12)<=COUNTIF(GPS_IMPORT!$A$2:$A$10000,$B$5),INDEX(GPS_IMPORT!$2:$10000,MATCH($B$5,(GPS_IMPORT!$A$2:$A$10000),0)+ROWS($1:12)-1,COLUMN()-1),0)","v":"12:05:30.790"},{"$f":"IF(ROWS(GPS_IMPORT!$1:12)<=COUNTIF(GPS_IMPORT!$A$2:$A$10000,$B$5),INDEX(GPS_IMPORT!$2:$10000,MATCH($B$5,(GPS_IMPORT!$A$2:$A$10000),0)+ROWS($1:12)-1,COLUMN()-1),0)","v":341748.20000627497},{"$f":"IF(ROWS(GPS_IMPORT!$1:12)<=COUNTIF(GPS_IMPORT!$A$2:$A$10000,$B$5),INDEX(GPS_IMPORT!$2:$10000,MATCH($B$5,(GPS_IMPORT!$A$2:$A$10000),0)+ROWS($1:12)-1,COLUMN()-1),0)","v":2284933.7368889302},{"$f":"IF(ROWS(GPS_IMPORT!$1:12)<=COUNTIF(GPS_IMPORT!$A$2:$A$10000,$B$5),INDEX(GPS_IMPORT!$2:$10000,MATCH($B$5,(GPS_IMPORT!$A$2:$A$10000),0)+ROWS($1:12)-1,COLUMN()-1),0)","v":933.14489103650999},5.9982603997923434E-3,8.043134119361639E-3,-9.0364004404364096E-4,true]
[13,{"$f":"IF(ROWS(GPS_IMPORT!$1:13)<=COUNTIF(GPS_IMPORT!$A$2:$A$10000,$B$5),INDEX(GPS_IMPORT!$2:$10000,MATCH($B$5,(GPS_IMPORT!$A$2:$A$10000),0)+ROWS($1:13)-1,COLUMN()-1),0)","v":"GS18"},{"$f":"IF(ROWS(GPS_IMPORT!$1:13)<=COUNTIF(GPS_IMPORT!$A$2:$A$10000,$B$5),INDEX(GPS_IMPORT!$2:$10000,MATCH($B$5,(GPS_IMPORT!$A$2:$A$10000),0)+ROWS($1:13)-1,COLUMN()-1),0)","v":"12.18.2018"},{"$f":"IF(ROWS(GPS_IMPORT!$1:13)<=COUNTIF(GPS_IMPORT!$A$2:$A$10000,$B$5),INDEX(GPS_IMPORT!$2:$10000,MATCH($B$5,(GPS_IMPORT!$A$2:$A$10000),0)+ROWS($1:13)-1,COLUMN()-1),0)","v":"12:05:47.860"},{"$f":"IF(ROWS(GPS_IMPORT!$1:13)<=COUNTIF(GPS_IMPORT!$A$2:$A$10000,$B$5),INDEX(GPS_IMPORT!$2:$10000,MATCH($B$5,(GPS_IMPORT!$A$2:$A$10000),0)+ROWS($1:13)-1,COLUMN()-1),0)","v":341748.20269853302},{"$f":"IF(ROWS(GPS_IMPORT!$1:13)<=COUNTIF(GPS_IMPORT!$A$2:$A$10000,$B$5),INDEX(GPS_IMPORT!$2:$10000,MATCH($B$5,(GPS_IMPORT!$A$2:$A$10000),0)+ROWS($1:13)-1,COLUMN()-1),0)","v":2284933.7476557},{"$f":"IF(ROWS(GPS_IMPORT!$1:13)<=COUNTIF(GPS_IMPORT!$A$2:$A$10000,$B$5),INDEX(GPS_IMPORT!$2:$10000,MATCH($B$5,(GPS_IMPORT!$A$2:$A$10000),0)+ROWS($1:13)-1,COLUMN()-1),0)","v":933.15450480539005},{"$f":"IF(E19>0,E$22-E19,0)","v":3.3060023561120033E-3},-2.7236356399953365E-3,-1.0517408924101801E-2,false]
[14,{"$f":"IF(ROWS(GPS_IMPORT!$1:14)<=COUNTIF(GPS_IMPORT!$A$2:$A$10000,$B$5),INDEX(GPS_IMPORT!$2:$10000,MATCH($B$5,(GPS_IMPORT!$A$2:$A$10000),0)+ROWS($1:14)-1,COLUMN()-1),0)","v":0},{"$f":"IF(ROWS(GPS_IMPORT!$1:14)<=COUNTIF(GPS_IMPORT!$A$2:$A$10000,$B$5),INDEX(GPS_IMPORT!$2:$10000,MATCH($B$5,(GPS_IMPORT!$A$2:$A$10000),0)+ROWS($1:14)-1,COLUMN()-1),0)","v":"00:00:00"},{"$f":"IF(ROWS(GPS_IMPORT!$1:14)<=COUNTIF(GPS_IMPORT!$A$2:$A$10000,$B$5),INDEX(GPS_IMPORT!$2:$10000,MATCH($B$5,(GPS_IMPORT!$A$2:$A$10000),0)+ROWS($1:14)-1,COLUMN()-1),0)","v":"00:00:00"},{"$f":"IF(ROWS(GPS_IMPORT!$1:14)<=COUNTIF(GPS_IMPORT!$A$2:$A$10000,$B$5),INDEX(GPS_IMPORT!$2:$10000,MATCH($B$5,(GPS_IMPORT!$A$2:$A$10000),0)+ROWS($1:14)-1,COLUMN()-1),0)","v":0},{"$f":"IF(ROWS(GPS_IMPORT!$1:14)<=COUNTIF(GPS_IMPORT!$A$2:$A$10000,$B$5),INDEX(GPS_IMPORT!$2:$10000,MATCH($B$5,(GPS_IMPORT!$A$2:$A$10000),0)+ROWS($1:14)-1,COLUMN()-1),0)","v":0},{"$f":"IF(ROWS(GPS_IMPORT!$1:14)<=COUNTIF(GPS_IMPORT!$A$2:$A$10000,$B$5),INDEX(GPS_IMPORT!$2:$10000,MATCH($B$5,(GPS_IMPORT!$A$2:$A$10000),0)+ROWS($1:14)-1,COLUMN()-1),0)","v":0},0,0,0,false]
[15,{"$f":"IF(ROWS(GPS_IMPORT!$1:15)<=COUNTIF(GPS_IMPORT!$A$2:$A$10000,$B$5),INDEX(GPS_IMPORT!$2:$10000,MATCH($B$5,(GPS_IMPORT!$A$2:$A$10000),0)+ROWS($1:15)-1,COLUMN()-1),0)","v":0},{"$f":"IF(ROWS(GPS_IMPORT!$1:15)<=COUNTIF(GPS_IMPORT!$A$2:$A$10000,$B$5),INDEX(GPS_IMPORT!$2:$10000,MATCH($B$5,(GPS_IMPORT!$A$2:$A$10000),0)+ROWS($1:15)-1,COLUMN()-1),0)","v":"00:00:00"},{"$f":"IF(ROWS(GPS_IMPORT!$1:15)<=COUNTIF(GPS_IMPORT!$A$2:$A$10000,$B$5),INDEX(GPS_IMPORT!$2:$10000,MATCH($B$5,(GPS_IMPORT!$A$2:$A$10000),0)+ROWS($1:15)-1,COLUMN()-1),0)","v":"00:00:00"},{"$f":"IF(ROWS(GPS_IMPORT!$1:15)<=COUNTIF(GPS_IMPORT!$A$2:$A$10000,$B$5),INDEX(GPS_IMPORT!$2:$10000,MATCH($B$5,(GPS_IMPORT!$A$2:$A$10000),0)+ROWS($1:15)-1,COLUMN()-1),0)","v":0},{"$f":"IF(ROWS(GPS_IMPORT!$1:15)<=COUNTIF(GPS_IMPORT!$A$2:$A$10000,$B$5),INDEX(GPS_IMPORT!$2:$10000,MATCH($B$5,(GPS_IMPORT!$A$2:$A$10000),0)+ROWS($1:15)-1,COLUMN()-1),0)","v":0},{"$f":"IF(ROWS(GPS_IMPORT!$1:15)<=COUNTIF(GPS_IMPORT!$A$2:$A$10000,$B$5),INDEX(GPS_IMPORT!$2:$10000,MATCH($B$5,(GPS_IMPORT!$A$2:$A$10000),0)+ROWS($1:15)-1,COLUMN()-1),0)","v":0},0,0,0,false]
[null,null,null,"AVERAGE",{"$f":"(IF($K$7=TRUE,E7,0)+IF($K$8=TRUE,E8,0)+IF($K$9=TRUE,E9,0)+IF($K$10=TRUE,E10,0)+IF($K$11=TRUE,E11,0)+IF($K$12=TRUE,E12,0)+IF($K$13=TRUE,E13,0)+IF($K$14=TRUE,E14,0)+IF($K$15=TRUE,E15,0)+IF($K$16=TRUE,E16,0)+IF($K$17=TRUE,E17,0)+IF($K$18=TRUE,E18,0)+IF($K$19=TRUE,E19,0)+IF($K$20=TRUE,E20,0)+IF($K$21=TRUE,E21,0))/(IF($K$7=TRUE,1,0)+IF($K$8=TRUE,1,0)+IF($K$9=TRUE,1,0)+IF($K$10=TRUE,1,0)+IF($K$11=TRUE,1,0)+IF($K$12=TRUE,1,0)+IF($K$13=TRUE,1,0)+IF($K$14=TRUE,1,0)+IF($K$15=TRUE,1,0)+IF($K$16=TRUE,1,0)+IF($K$17=TRUE,1,0)+IF($K$18=TRUE,1,0)+IF($K$19=TRUE,1,0)+IF($K$20=TRUE,1,0)+IF($K$21=TRUE,1,0))","v":341748.20600453537},{"$f":"(IF($K$7=TRUE,F7,0)+IF($K$8=TRUE,F8,0)+IF($K$9=TRUE,F9,0)+IF($K$10=TRUE,F10,0)+IF($K$11=TRUE,F11,0)+IF($K$12=TRUE,F12,0)+IF($K$13=TRUE,F13,0)+IF($K$14=TRUE,F14,0)+IF($K$15=TRUE,F15,0)+IF($K$16=TRUE,F16,0)+IF($K$17=TRUE,F17,0)+IF($K$18=TRUE,F18,0)+IF($K$19=TRUE,F19,0)+IF($K$20=TRUE,F20,0)+IF($K$21=TRUE,F21,0))/(IF($K$7=TRUE,1,0)+IF($K$8=TRUE,1,0)+IF($K$9=TRUE,1,0)+IF($K$10=TRUE,1,0)+IF($K$11=TRUE,1,0)+IF($K$12=TRUE,1,0)+IF($K$13=TRUE,1,0)+IF($K$14=TRUE,1,0)+IF($K$15=TRUE,1,0)+IF($K$16=TRUE,1,0)+IF($K$17=TRUE,1,0)+IF($K$18=TRUE,1,0)+IF($K$19=TRUE,1,0)+IF($K$20=TRUE,1,0)+IF($K$21=TRUE,1,0))","v":2284933.7449320643},{"$f":"(IF($K$7=TRUE,G7,0)+IF($K$8=TRUE,G8,0)+IF($K$9=TRUE,G9,0)+IF($K$10=TRUE,G10,0)+IF($K$11=TRUE,G11,0)+IF($K$12=TRUE,G12,0)+IF($K$13=TRUE,G13,0)+IF($K$14=TRUE,G14,0)+IF($K$15=TRUE,G15,0)+IF($K$16=TRUE,G16,0)+IF($K$17=TRUE,G17,0)+IF($K$18=TRUE,G18,0)+IF($K$19=TRUE,G19,0)+IF($K$20=TRUE,G20,0)+IF($K$21=TRUE,G21,0))/\n(IF($K$7=TRUE,1,0)+IF($K$8=TRUE,1,0)+IF($K$9=TRUE,1,0)+IF($K$10=TRUE,1,0)+IF($K$11=TRUE,1,0)+IF($K$12=TRUE,1,0)+IF($K$13=TRUE,1,0)+IF($K$14=TRUE,1,0)+IF($K$15=TRUE,1,0)+IF($K$16=TRUE,1,0)+IF($K$17=TRUE,1,0)+IF($K$18=TRUE,1,0)+IF($K$19=TRUE,1,0)+IF($K$20=TRUE,1,0)+IF($K$21=TRUE,1,0))","v":933.14398739646595},"RMSE:","RMSE:","RMSE:"]
[null,null,null,null,null,null,"RMSE IN US SURVEY FEET:",{"$f":"SQRT((\n(IF($K$7=TRUE,H7^2,0))+(IF($K$8=TRUE,H8^2,0))+(IF($K$9=TRUE,H9^2,0))+(IF($K$10=TRUE,H10^2,0))+(IF($K$11=TRUE,H11^2,0))+(IF($K$12=TRUE,H12^2,0))+(IF($K$13=TRUE,H13^2,0))+(IF($K$14=TRUE,H14^2,0))+(IF($K$15=TRUE,H15^2,0))+(IF($K$16=TRUE,H16^2,0))+(IF($K$17=TRUE,H17^2,0))+(IF($K$18=TRUE,H18^2,0))+(IF($K$19=TRUE,H19^2,0))+(IF($K$20=TRUE,H20^2,0))+(IF($K$21=TRUE,H21^2,0)))/\n(IF($K$7=TRUE,1,0)+IF($K$8=TRUE,1,0)+IF($K$9=TRUE,1,0)+IF($K$10=TRUE,1,0)+IF($K$11=TRUE,1,0)+IF($K$12=TRUE,1,0)+IF($K$13=TRUE,1,0)+IF($K$14=TRUE,1,0)+IF($K$15=TRUE,1,0)+IF($K$16=TRUE,1,0)+IF($K$17=TRUE,1,0)+IF($K$18=TRUE,1,0)+IF($K$19=TRUE,1,0)+IF($K$20=TRUE,1,0)+IF($K$21=TRUE,1,0)))","v":7.51269946094856E-3},{"$f":"SQRT((\n(IF($K$7=TRUE,I7^2,0))+(IF($K$8=TRUE,I8^2,0))+(IF($K$9=TRUE,I9^2,0))+(IF($K$10=TRUE,I10^2,0))+(IF($K$11=TRUE,I11^2,0))+(IF($K$12=TRUE,I12^2,0))+(IF($K$13=TRUE,I13^2,0))+(IF($K$14=TRUE,I14^2,0))+(IF($K$15=TRUE,I15^2,0))+(IF($K$16=TRUE,I16^2,0))+(IF($K$17=TRUE,I17^2,0))+(IF($K$18=TRUE,I18^2,0))+(IF($K$19=TRUE,I19^2,0))+(IF($K$20=TRUE,I20^2,0))+(IF($K$21=TRUE,I21^2,0)))/\n(IF($K$7=TRUE,1,0)+IF($K$8=TRUE,1,0)+IF($K$9=TRUE,1,0)+IF($K$10=TRUE,1,0)+IF($K$11=TRUE,1,0)+IF($K$12=TRUE,1,0)+IF($K$13=TRUE,1,0)+IF($K$14=TRUE,1,0)+IF($K$15=TRUE,1,0)+IF($K$16=TRUE,1,0)+IF($K$17=TRUE,1,0)+IF($K$18=TRUE,1,0)+IF($K$19=TRUE,1,0)+IF($K$20=TRUE,1,0)+IF($K$21=TRUE,1,0)))","v":5.9719931649623338E-3},{"$f":"SQRT((\n(IF($K$7=TRUE,J7^2,0))+(IF($K$8=TRUE,J8^2,0))+(IF($K$9=TRUE,J9^2,0))+(IF($K$10=TRUE,J10^2,0))+(IF($K$11=TRUE,J11^2,0))+(IF($K$12=TRUE,J12^2,0))+(IF($K$13=TRUE,J13^2,0))+(IF($K$14=TRUE,J14^2,0))+(IF($K$15=TRUE,J15^2,0))+(IF($K$16=TRUE,J16^2,0))+(IF($K$17=TRUE,J17^2,0))+(IF($K$18=TRUE,J18^2,0))+(IF($K$19=TRUE,J19^2,0))+(IF($K$20=TRUE,J20^2,0))+(IF($K$21=TRUE,J21^2,0)))/\n(IF($K$7=TRUE,1,0)+IF($K$8=TRUE,1,0)+IF($K$9=TRUE,1,0)+IF($K$10=TRUE,1,0)+IF($K$11=TRUE,1,0)+IF($K$12=TRUE,1,0)+IF($K$13=TRUE,1,0)+IF($K$14=TRUE,1,0)+IF($K$15=TRUE,1,0)+IF($K$16=TRUE,1,0)+IF($K$17=TRUE,1,0)+IF($K$18=TRUE,1,0)+IF($K$19=TRUE,1,0)+IF($K$20=TRUE,1,0)+IF($K$21=TRUE,1,0)))","v":2.3429011195548053E-2}]
[null,null,null,1]
[null,null,"UNITLESS GRID TO GROUND MULTIPLIER",{"$f":"IF(REPORT!C13=\"n/a\",\"0.00000000\",REPORT!C13)","v":0},null,null,null,{"$f":"IF(H23<=0.029,\"PASS\",\"FAIL\")","v":"PASS"},{"$f":"IF(I23<=0.029,\"PASS\",\"FAIL\")","v":"PASS"},{"$f":"IF(J23<=0.039,\"PASS\",\"FAIL\")","v":"PASS"}]
[]
["AVERAGED GPS-DERIVED POSITION",null,null,null,null,null,null,null,"Notes:"]
[null,"MONUMENT COORDINATES",null,"NORTHING","EASTING","ORTHO HEIGHT"]
[null,"US Survey Feet (GRID)",null,{"$f":"$E$22","v":341748.20600453537},{"$f":"$F$22","v":2284933.7449320643},{"$f":"$G$22","v":933.14398739646595}]
[]
["LEVELED ELEVATION"]
["US SURVEY FEET",null,"N/A","(Type the leveled elevation or N/A if no leveled elevation is available)"]
["MONUMENT HELD",null,null,"(Type the monument name from which leveling originated)"]
["LEVELED ELEVATION - GPS DERIVED ELEVATION   = ",null,null,null,{"$f":"IF(C32=\"N/A\",\"N/A\",C32-(F29*D24))","v":"N/A"}]
[]
["FINAL MONUMENT COORDINATES"]
[null,"MONUMENT COORDINATES",null,"NORTHING","EASTING","ELEVATION","FEATURE CODE"]
[null,"US SURVEY FEET (GRID)",null,{"$f":"$E$22*$D$24","v":341748.20600453537},{"$f":"$F$22*$D$24","v":2284933.7449320643},{"$f":"IF($C$32=\"N/A\",($G$22*$D$24),$C$32)","v":933.14398739646595},"AERTAR"]
[null,"US SURVEY FEET (GROUND)",null,{"$f":"$D$38*$D$25","v":0},{"$f":"$E$38*$D$25","v":0},{"$f":"IF($C$32=\"N/A\",($G$22*$D$24),$C$32)","v":933.14398739646595},{"$f":"G38","v":"AERTAR"}]
[]
["∆ North,  ∆ East, and ∆ Ht. are the difference between the average northing, easting, and height for each observation.",null,null,null,null,null,null,null,"Mask Angle:","10°"]

{"sheet":"GS19","index":25,"n_rows":41,"n_cols":11,"rows_kept":41,"cut":false,"hidden":false,"merged":[[0,0,0,10],[26,0,26,6],[27,1,27,2],[27,8,38,10],[28,1,28,2],[30,0,30,6],[35,0,35,6],[36,1,36,2],[37,1,37,2],[38,1,38,2]]}
["VRS GNSS Project Control Monument Coordinate Analysis"]
[]
["Project:",{"$f":"REPORT!B2","v":"TUS-800-22.74"},"GPS Antenna:","LEICA GS14",null,null,null,null,null,"Report Date:",{"$f":"REPORT!C49","v":"2018-12-19"}]
["PID:",{"$f":"REPORT!E2","v":100603},"VRS Network:","ODOT VRS",null,null,null,null,null,"Prepared By:",{"$f":"REPORT!C48","v":"Kolton Wilson"}]
["Point ID:","GS19","No. of Sessions:",{"$f":"COUNTIF(GPS_IMPORT!A2:A1000,$B$5)","v":12},null,null,null,null,null,"Checked By:",{"$f":"REPORT!C52","v":"Joel Swick"}]
["SESSION #","Point","Observation Date","Start Time","Northing(sft)","Easting(sft)","Height(sft)","∆ Northing(sft)","∆ Easting(sft)","∆ Height(sft)","Include in Solution?"]
[1,{"$f":"IF(ROWS(GPS_IMPORT!$1:1)<=COUNTIF(GPS_IMPORT!$A$2:$A$10000,$B$5),INDEX(GPS_IMPORT!$2:$10000,MATCH($B$5,(GPS_IMPORT!$A$2:$A$10000),0)+ROWS($1:1)-1,COLUMN()-1),0)","v":"GS19"},{"$f":"IF(ROWS(GPS_IMPORT!$1:1)<=COUNTIF(GPS_IMPORT!$A$2:$A$10000,$B$5),INDEX(GPS_IMPORT!$2:$10000,MATCH($B$5,(GPS_IMPORT!$A$2:$A$10000),0)+ROWS($1:1)-1,COLUMN()-1),0)","v":"12.18.2018"},{"$f":"IF(ROWS(GPS_IMPORT!$1:1)<=COUNTIF(GPS_IMPORT!$A$2:$A$10000,$B$5),INDEX(GPS_IMPORT!$2:$10000,MATCH($B$5,(GPS_IMPORT!$A$2:$A$10000),0)+ROWS($1:1)-1,COLUMN()-1),0)","v":"12:11:57.110"},{"$f":"IF(ROWS(GPS_IMPORT!$1:1)<=COUNTIF(GPS_IMPORT!$A$2:$A$10000,$B$5),INDEX(GPS_IMPORT!$2:$10000,MATCH($B$5,(GPS_IMPORT!$A$2:$A$10000),0)+ROWS($1:1)-1,COLUMN()-1),0)","v":342830.78487837903},{"$f":"IF(ROWS(GPS_IMPORT!$1:1)<=COUNTIF(GPS_IMPORT!$A$2:$A$10000,$B$5),INDEX(GPS_IMPORT!$2:$10000,MATCH($B$5,(GPS_IMPORT!$A$2:$A$10000),0)+ROWS($1:1)-1,COLUMN()-1),0)","v":2286284.3924303902},{"$f":"IF(ROWS(GPS_IMPORT!$1:1)<=COUNTIF(GPS_IMPORT!$A$2:$A$10000,$B$5),INDEX(GPS_IMPORT!$2:$10000,MATCH($B$5,(GPS_IMPORT!$A$2:$A$10000),0)+ROWS($1:1)-1,COLUMN()-1),0)","v":930.02063429596001},{"$f":"IF(E7>0,E$22-E7,0)","v":8.4570427425205708E-3},4.3716770596802235E-3,7.1285799449469778E-3,true]
[2,{"$f":"IF(ROWS(GPS_IMPORT!$1:2)<=COUNTIF(GPS_IMPORT!$A$2:$A$10000,$B$5),INDEX(GPS_IMPORT!$2:$10000,MATCH($B$5,(GPS_IMPORT!$A$2:$A$10000),0)+ROWS($1:2)-1,COLUMN()-1),0)","v":"GS19"},{"$f":"IF(ROWS(GPS_IMPORT!$1:2)<=COUNTIF(GPS_IMPORT!$A$2:$A$10000,$B$5),INDEX(GPS_IMPORT!$2:$10000,MATCH($B$5,(GPS_IMPORT!$A$2:$A$10000),0)+ROWS($1:2)-1,COLUMN()-1),0)","v":"12.18.2018"},{"$f":"IF(ROWS(GPS_IMPORT!$1:2)<=COUNTIF(GPS_IMPORT!$A$2:$A$10000,$B$5),INDEX(GPS_IMPORT!$2:$10000,MATCH($B$5,(GPS_IMPORT!$A$2:$A$10000),0)+ROWS($1:2)-1,COLUMN()-1),0)","v":"12:12:12.290"},{"$f":"IF(ROWS(GPS_IMPORT!$1:2)<=COUNTIF(GPS_IMPORT!$A$2:$A$10000,$B$5),INDEX(GPS_IMPORT!$2:$10000,MATCH($B$5,(GPS_IMPORT!$A$2:$A$10000),0)+ROWS($1:2)-1,COLUMN()-1),0)","v":342830.79086647998},{"$f":"IF(ROWS(GPS_IMPORT!$1:2)<=COUNTIF(GPS_IMPORT!$A$2:$A$10000,$B$5),INDEX(GPS_IMPORT!$2:$10000,MATCH($B$5,(GPS_IMPORT!$A$2:$A$10000),0)+ROWS($1:2)-1,COLUMN()-1),0)","v":2286284.39196209},{"$f":"IF(ROWS(GPS_IMPORT!$1:2)<=COUNTIF(GPS_IMPORT!$A$2:$A$10000,$B$5),INDEX(GPS_IMPORT!$2:$10000,MATCH($B$5,(GPS_IMPORT!$A$2:$A$10000),0)+ROWS($1:2)-1,COLUMN()-1),0)","v":929.99610016122995},2.4689417914487422E-3,4.8399772495031357E-3,3.1662714675007919E-2,true]
[3,{"$f":"IF(ROWS(GPS_IMPORT!$1:3)<=COUNTIF(GPS_IMPORT!$A$2:$A$10000,$B$5),INDEX(GPS_IMPORT!$2:$10000,MATCH($B$5,(GPS_IMPORT!$A$2:$A$10000),0)+ROWS($1:3)-1,COLUMN()-1),0)","v":"GS19"},{"$f":"IF(ROWS(GPS_IMPORT!$1:3)<=COUNTIF(GPS_IMPORT!$A$2:$A$10000,$B$5),INDEX(GPS_IMPORT!$2:$10000,MATCH($B$5,(GPS_IMPORT!$A$2:$A$10000),0)+ROWS($1:3)-1,COLUMN()-1),0)","v":"12.18.2018"},{"$f":"IF(ROWS(GPS_IMPORT!$1:3)<=COUNTIF(GPS_IMPORT!$A$2:$A$10000,$B$5),INDEX(GPS_IMPORT!$2:$10000,MATCH($B$5,(GPS_IMPORT!$A$2:$A$10000),0)+ROWS($1:3)-1,COLUMN()-1),0)","v":"12:12:22.750"},{"$f":"IF(ROWS(GPS_IMPORT!$1:3)<=COUNTIF(GPS_IMPORT!$A$2:$A$10000,$B$5),INDEX(GPS_IMPORT!$2:$10000,MATCH($B$5,(GPS_IMPORT!$A$2:$A$10000),0)+ROWS($1:3)-1,COLUMN()-1),0)","v":342830.79169207503},{"$f":"IF(ROWS(GPS_IMPORT!$1:3)<=COUNTIF(GPS_IMPORT!$A$2:$A$10000,$B$5),INDEX(GPS_IMPORT!$2:$10000,MATCH($B$5,(GPS_IMPORT!$A$2:$A$10000),0)+ROWS($1:3)-1,COLUMN()-1),0)","v":2286284.3949252302},{"$f":"IF(ROWS(GPS_IMPORT!$1:3)<=COUNTIF(GPS_IMPORT!$A$2:$A$10000,$B$5),INDEX(GPS_IMPORT!$2:$10000,MATCH($B$5,(GPS_IMPORT!$A$2:$A$10000),0)+ROWS($1:3)-1,COLUMN()-1),0)","v":930.04391509545997},1.6433467390015721E-3,1.876837108284235E-3,-1.6152219555010561E-2,true]
[4,{"$f":"IF(ROWS(GPS_IMPORT!$1:4)<=COUNTIF(GPS_IMPORT!$A$2:$A$10000,$B$5),INDEX(GPS_IMPORT!$2:$10000,MATCH($B$5,(GPS_IMPORT!$A$2:$A$10000),0)+ROWS($1:4)-1,COLUMN()-1),0)","v":"GS19"},{"$f":"IF(ROWS(GPS_IMPORT!$1:4)<=COUNTIF(GPS_IMPORT!$A$2:$A$10000,$B$5),INDEX(GPS_IMPORT!$2:$10000,MATCH($B$5,(GPS_IMPORT!$A$2:$A$10000),0)+ROWS($1:4)-1,COLUMN()-1),0)","v":"12.18.2018"},{"$f":"IF(ROWS(GPS_IMPORT!$1:4)<=COUNTIF(GPS_IMPORT!$A$2:$A$10000,$B$5),INDEX(GPS_IMPORT!$2:$10000,MATCH($B$5,(GPS_IMPORT!$A$2:$A$10000),0)+ROWS($1:4)-1,COLUMN()-1),0)","v":"12:12:33.750"},{"$f":"IF(ROWS(GPS_IMPORT!$1:4)<=COUNTIF(GPS_IMPORT!$A$2:$A$10000,$B$5),INDEX(GPS_IMPORT!$2:$10000,MATCH($B$5,(GPS_IMPORT!$A$2:$A$10000),0)+ROWS($1:4)-1,COLUMN()-1),0)","v":342830.78336268599},{"$f":"IF(ROWS(GPS_IMPORT!$1:4)<=COUNTIF(GPS_IMPORT!$A$2:$A$10000,$B$5),INDEX(GPS_IMPORT!$2:$10000,MATCH($B$5,(GPS_IMPORT!$A$2:$A$10000),0)+ROWS($1:4)-1,COLUMN()-1),0)","v":2286284.3875965099},{"$f":"IF(ROWS(GPS_IMPORT!$1:4)<=COUNTIF(GPS_IMPORT!$A$2:$A$10000,$B$5),INDEX(GPS_IMPORT!$2:$10000,MATCH($B$5,(GPS_IMPORT!$A$2:$A$10000),0)+ROWS($1:4)-1,COLUMN()-1),0)","v":930.06386631952},9.9727357737720013E-3,9.2055574059486389E-3,-3.6103443615047581E-2,true]
[5,{"$f":"IF(ROWS(GPS_IMPORT!$1:5)<=COUNTIF(GPS_IMPORT!$A$2:$A$10000,$B$5),INDEX(GPS_IMPORT!$2:$10000,MATCH($B$5,(GPS_IMPORT!$A$2:$A$10000),0)+ROWS($1:5)-1,COLUMN()-1),0)","v":"GS19"},{"$f":"IF(ROWS(GPS_IMPORT!$1:5)<=COUNTIF(GPS_IMPORT!$A$2:$A$10000,$B$5),INDEX(GPS_IMPORT!$2:$10000,MATCH($B$5,(GPS_IMPORT!$A$2:$A$10000),0)+ROWS($1:5)-1,COLUMN()-1),0)","v":"12.18.2018"},{"$f":"IF(ROWS(GPS_IMPORT!$1:5)<=COUNTIF(GPS_IMPORT!$A$2:$A$10000,$B$5),INDEX(GPS_IMPORT!$2:$10000,MATCH($B$5,(GPS_IMPORT!$A$2:$A$10000),0)+ROWS($1:5)-1,COLUMN()-1),0)","v":"12:12:52.980"},{"$f":"IF(ROWS(GPS_IMPORT!$1:5)<=COUNTIF(GPS_IMPORT!$A$2:$A$10000,$B$5),INDEX(GPS_IMPORT!$2:$10000,MATCH($B$5,(GPS_IMPORT!$A$2:$A$10000),0)+ROWS($1:5)-1,COLUMN()-1),0)","v":342830.79165547597},{"$f":"IF(ROWS(GPS_IMPORT!$1:5)<=COUNTIF(GPS_IMPORT!$A$2:$A$10000,$B$5),INDEX(GPS_IMPORT!$2:$10000,MATCH($B$5,(GPS_IMPORT!$A$2:$A$10000),0)+ROWS($1:5)-1,COLUMN()-1),0)","v":2286284.3973632501},{"$f":"IF(ROWS(GPS_IMPORT!$1:5)<=COUNTIF(GPS_IMPORT!$A$2:$A$10000,$B$5),INDEX(GPS_IMPORT!$2:$10000,MATCH($B$5,(GPS_IMPORT!$A$2:$A$10000),0)+ROWS($1:5)-1,COLUMN()-1),0)","v":930.03827681020005},1.6799457953311503E-3,-5.6118285283446312E-4,-1.0513934295090621E-2,true]
[6,{"$f":"IF(ROWS(GPS_IMPORT!$1:6)<=COUNTIF(GPS_IMPORT!$A$2:$A$10000,$B$5),INDEX(GPS_IMPORT!$2:$10000,MATCH($B$5,(GPS_IMPORT!$A$2:$A$10000),0)+ROWS($1:6)-1,COLUMN()-1),0)","v":"GS19"},{"$f":"IF(ROWS(GPS_IMPORT!$1:6)<=COUNTIF(GPS_IMPORT!$A$2:$A$10000,$B$5),INDEX(GPS_IMPORT!$2:$10000,MATCH($B$5,(GPS_IMPORT!$A$2:$A$10000),0)+ROWS($1:6)-1,COLUMN()-1),0)","v":"12.18.2018"},{"$f":"IF(ROWS(GPS_IMPORT!$1:6)<=COUNTIF(GPS_IMPORT!$A$2:$A$10000,$B$5),INDEX(GPS_IMPORT!$2:$10000,MATCH($B$5,(GPS_IMPORT!$A$2:$A$10000),0)+ROWS($1:6)-1,COLUMN()-1),0)","v":"12:13:03.980"},{"$f":"IF(ROWS(GPS_IMPORT!$1:6)<=COUNTIF(GPS_IMPORT!$A$2:$A$10000,$B$5),INDEX(GPS_IMPORT!$2:$10000,MATCH($B$5,(GPS_IMPORT!$A$2:$A$10000),0)+ROWS($1:6)-1,COLUMN()-1),0)","v":342830.79415444698},{"$f":"IF(ROWS(GPS_IMPORT!$1:6)<=COUNTIF(GPS_IMPORT!$A$2:$A$10000,$B$5),INDEX(GPS_IMPORT!$2:$10000,MATCH($B$5,(GPS_IMPORT!$A$2:$A$10000),0)+ROWS($1:6)-1,COLUMN()-1),0)","v":2286284.39843969},{"$f":"IF(ROWS(GPS_IMPORT!$1:6)<=COUNTIF(GPS_IMPORT!$A$2:$A$10000,$B$5),INDEX(GPS_IMPORT!$2:$10000,MATCH($B$5,(GPS_IMPORT!$A$2:$A$10000),0)+ROWS($1:6)-1,COLUMN()-1),0)","v":930.03291244873003},-8.1902521196752787E-4,-1.6376227140426636E-3,-5.1495728250756656E-3,true]
[7,{"$f":"IF(ROWS(GPS_IMPORT!$1:7)<=COUNTIF(GPS_IMPORT!$A$2:$A$10000,$B$5),INDEX(GPS_IMPORT!$2:$10000,MATCH($B$5,(GPS_IMPORT!$A$2:$A$10000),0)+ROWS($1:7)-1,COLUMN()-1),0)","v":"GS19"},{"$f":"IF(ROWS(GPS_IMPORT!$1:7)<=COUNTIF(GPS_IMPORT!$A$2:$A$10000,$B$5),INDEX(GPS_IMPORT!$2:$10000,MATCH($B$5,(GPS_IMPORT!$A$2:$A$10000),0)+ROWS($1:7)-1,COLUMN()-1),0)","v":"12.18.2018"},{"$f":"IF(ROWS(GPS_IMPORT!$1:7)<=COUNTIF(GPS_IMPORT!$A$2:$A$10000,$B$5),INDEX(GPS_IMPORT!$2:$10000,MATCH($B$5,(GPS_IMPORT!$A$2:$A$10000),0)+ROWS($1:7)-1,COLUMN()-1),0)","v":"12:13:14.900"},{"$f":"IF(ROWS(GPS_IMPORT!$1:7)<=COUNTIF(GPS_IMPORT!$A$2:$A$10000,$B$5),INDEX(GPS_IMPORT!$2:$10000,MATCH($B$5,(GPS_IMPORT!$A$2:$A$10000),0)+ROWS($1:7)-1,COLUMN()-1),0)","v":342830.79179578897},{"$f":"IF(ROWS(GPS_IMPORT!$1:7)<=COUNTIF(GPS_IMPORT!$A$2:$A$10000,$B$5),INDEX(GPS_IMPORT!$2:$10000,MATCH($B$5,(GPS_IMPORT!$A$2:$A$10000),0)+ROWS($1:7)-1,COLUMN()-1),0)","v":2286284.40217687},{"$f":"IF(ROWS(GPS_IMPORT!$1:7)<=COUNTIF(GPS_IMPORT!$A$2:$A$10000,$B$5),INDEX(GPS_IMPORT!$2:$10000,MATCH($B$5,(GPS_IMPORT!$A$2:$A$10000),0)+ROWS($1:7)-1,COLUMN()-1),0)","v":930.03221254960999},1.5396327944472432E-3,-5.3748027421534061E-3,-4.4496737050394586E-3,true]
[8,{"$f":"IF(ROWS(GPS_IMPORT!$1:8)<=COUNTIF(GPS_IMPORT!$A$2:$A$10000,$B$5),INDEX(GPS_IMPORT!$2:$10000,MATCH($B$5,(GPS_IMPORT!$A$2:$A$10000),0)+ROWS($1:8)-1,COLUMN()-1),0)","v":"GS19"},{"$f":"IF(ROWS(GPS_IMPORT!$1:8)<=COUNTIF(GPS_IMPORT!$A$2:$A$10000,$B$5),INDEX(GPS_IMPORT!$2:$10000,MATCH($B$5,(GPS_IMPORT!$A$2:$A$10000),0)+ROWS($1:8)-1,COLUMN()-1),0)","v":"12.18.2018"},{"$f":"IF(ROWS(GPS_IMPORT!$1:8)<=COUNTIF(GPS_IMPORT!$A$2:$A$10000,$B$5),INDEX(GPS_IMPORT!$2:$10000,MATCH($B$5,(GPS_IMPORT!$A$2:$A$10000),0)+ROWS($1:8)-1,COLUMN()-1),0)","v":"12:13:26.820"},{"$f":"IF(ROWS(GPS_IMPORT!$1:8)<=COUNTIF(GPS_IMPORT!$A$2:$A$10000,$B$5),INDEX(GPS_IMPORT!$2:$10000,MATCH($B$5,(GPS_IMPORT!$A$2:$A$10000),0)+ROWS($1:8)-1,COLUMN()-1),0)","v":342830.79655156698},{"$f":"IF(ROWS(GPS_IMPORT!$1:8)<=COUNTIF(GPS_IMPORT!$A$2:$A$10000,$B$5),INDEX(GPS_IMPORT!$2:$10000,MATCH($B$5,(GPS_IMPORT!$A$2:$A$10000),0)+ROWS($1:8)-1,COLUMN()-1),0)","v":2286284.3837339398},{"$f":"IF(ROWS(GPS_IMPORT!$1:8)<=COUNTIF(GPS_IMPORT!$A$2:$A$10000,$B$5),INDEX(GPS_IMPORT!$2:$10000,MATCH($B$5,(GPS_IMPORT!$A$2:$A$10000),0)+ROWS($1:8)-1,COLUMN()-1),0)","v":930.06548406453999},-3.2161452108994126E-3,1.3068127445876598E-2,-3.7721188635032377E-2,true]
[9,{"$f":"IF(ROWS(GPS_IMPORT!$1:9)<=COUNTIF(GPS_IMPORT!$A$2:$A$10000,$B$5),INDEX(GPS_IMPORT!$2:$10000,MATCH($B$5,(GPS_IMPORT!$A$2:$A$10000),0)+ROWS($1:9)-1,COLUMN()-1),0)","v":"GS19"},{"$f":"IF(ROWS(GPS_IMPORT!$1:9)<=COUNTIF(GPS_IMPORT!$A$2:$A$10000,$B$5),INDEX(GPS_IMPORT!$2:$10000,MATCH($B$5,(GPS_IMPORT!$A$2:$A$10000),0)+ROWS($1:9)-1,COLUMN()-1),0)","v":"12.18.2018"},{"$f":"IF(ROWS(GPS_IMPORT!$1:9)<=COUNTIF(GPS_IMPORT!$A$2:$A$10000,$B$5),INDEX(GPS_IMPORT!$2:$10000,MATCH($B$5,(GPS_IMPORT!$A$2:$A$10000),0)+ROWS($1:9)-1,COLUMN()-1),0)","v":"12:13:47.620"},{"$f":"IF(ROWS(GPS_IMPORT!$1:9)<=COUNTIF(GPS_IMPORT!$A$2:$A$10000,$B$5),INDEX(GPS_IMPORT!$2:$10000,MATCH($B$5,(GPS_IMPORT!$A$2:$A$10000),0)+ROWS($1:9)-1,COLUMN()-1),0)","v":342830.79213901202},{"$f":"IF(ROWS(GPS_IMPORT!$1:9)<=COUNTIF(GPS_IMPORT!$A$2:$A$10000,$B$5),INDEX(GPS_IMPORT!$2:$10000,MATCH($B$5,(GPS_IMPORT!$A$2:$A$10000),0)+ROWS($1:9)-1,COLUMN()-1),0)","v":2286284.3935025199},{"$f":"IF(ROWS(GPS_IMPORT!$1:9)<=COUNTIF(GPS_IMPORT!$A$2:$A$10000,$B$5),INDEX(GPS_IMPORT!$2:$10000,MATCH($B$5,(GPS_IMPORT!$A$2:$A$10000),0)+ROWS($1:9)-1,COLUMN()-1),0)","v":930.02962511578005},1.196409750264138E-3,3.2995473593473434E-3,-1.8622398750949287E-3,true]
[10,{"$f":"IF(ROWS(GPS_IMPORT!$1:10)<=COUNTIF(GPS_IMPORT!$A$2:$A$10000,$B$5),INDEX(GPS_IMPORT!$2:$10000,MATCH($B$5,(GPS_IMPORT!$A$2:$A$10000),0)+ROWS($1:10)-1,COLUMN()-1),0)","v":"GS19"},{"$f":"IF(ROWS(GPS_IMPORT!$1:10)<=COUNTIF(GPS_IMPORT!$A$2:$A$10000,$B$5),INDEX(GPS_IMPORT!$2:$10000,MATCH($B$5,(GPS_IMPORT!$A$2:$A$10000),0)+ROWS($1:10)-1,COLUMN()-1),0)","v":"12.18.2018"},{"$f":"IF(ROWS(GPS_IMPORT!$1:10)<=COUNTIF(GPS_IMPORT!$A$2:$A$10000,$B$5),INDEX(GPS_IMPORT!$2:$10000,MATCH($B$5,(GPS_IMPORT!$A$2:$A$10000),0)+ROWS($1:10)-1,COLUMN()-1),0)","v":"12:13:58.820"},{"$f":"IF(ROWS(GPS_IMPORT!$1:10)<=COUNTIF(GPS_IMPORT!$A$2:$A$10000,$B$5),INDEX(GPS_IMPORT!$2:$10000,MATCH($B$5,(GPS_IMPORT!$A$2:$A$10000),0)+ROWS($1:10)-1,COLUMN()-1),0)","v":342830.799938543},{"$f":"IF(ROWS(GPS_IMPORT!$1:10)<=COUNTIF(GPS_IMPORT!$A$2:$A$10000,$B$5),INDEX(GPS_IMPORT!$2:$10000,MATCH($B$5,(GPS_IMPORT!$A$2:$A$10000),0)+ROWS($1:10)-1,COLUMN()-1),0)","v":2286284.3967577899},{"$f":"IF(ROWS(GPS_IMPORT!$1:10)<=COUNTIF(GPS_IMPORT!$A$2:$A$10000,$B$5),INDEX(GPS_IMPORT!$2:$10000,MATCH($B$5,(GPS_IMPORT!$A$2:$A$10000),0)+ROWS($1:10)-1,COLUMN()-1),0)","v":930.02980497556996},-6.603121233638376E-3,4.4277403503656387E-5,-2.0420996650045709E-3,true]
[11,{"$f":"IF(ROWS(GPS_IMPORT!$1:11)<=COUNTIF(GPS_IMPORT!$A$2:$A$10000,$B$5),INDEX(GPS_IMPORT!$2:$10000,MATCH($B$5,(GPS_IMPORT!$A$2:$A$10000),0)+ROWS($1:11)-1,COLUMN()-1),0)","v":"GS19"},{"$f":"IF(ROWS(GPS_IMPORT!$1:11)<=COUNTIF(GPS_IMPORT!$A$2:$A$10000,$B$5),INDEX(GPS_IMPORT!$2:$10000,MATCH($B$5,(GPS_IMPORT!$A$2:$A$10000),0)+ROWS($1:11)-1,COLUMN()-1),0)","v":"12.18.2018"},{"$f":"IF(ROWS(GPS_IMPORT!$1:11)<=COUNTIF(GPS_IMPORT!$A$2:$A$10000,$B$5),INDEX(GPS_IMPORT!$2:$10000,MATCH($B$5,(GPS_IMPORT!$A$2:$A$10000),0)+ROWS($1:11)-1,COLUMN()-1),0)","v":"12:14:10.130"},{"$f":"IF(ROWS(GPS_IMPORT!$1:11)<=COUNTIF(GPS_IMPORT!$A$2:$A$10000,$B$5),INDEX(GPS_IMPORT!$2:$10000,MATCH($B$5,(GPS_IMPORT!$A$2:$A$10000),0)+ROWS($1:11)-1,COLUMN()-1),0)","v":342830.80004126398},{"$f":"IF(ROWS(GPS_IMPORT!$1:11)<=COUNTIF(GPS_IMPORT!$A$2:$A$10000,$B$5),INDEX(GPS_IMPORT!$2:$10000,MATCH($B$5,(GPS_IMPORT!$A$2:$A$10000),0)+ROWS($1:11)-1,COLUMN()-1),0)","v":2286284.4119166401},{"$f":"IF(ROWS(GPS_IMPORT!$1:11)<=COUNTIF(GPS_IMPORT!$A$2:$A$10000,$B$5),INDEX(GPS_IMPORT!$2:$10000,MATCH($B$5,(GPS_IMPORT!$A$2:$A$10000),0)+ROWS($1:11)-1,COLUMN()-1),0)","v":930.00893685893004},-6.7058422137051821E-3,-1.5114572830498219E-2,1.8826016974912818E-2,true]
[12,{"$f":"IF(ROWS(GPS_IMPORT!$1:12)<=COUNTIF(GPS_IMPORT!$A$2:$A$10000,$B$5),INDEX(GPS_IMPORT!$2:$10000,MATCH($B$5,(GPS_IMPORT!$A$2:$A$10000),0)+ROWS($1:12)-1,COLUMN()-1),0)","v":"GS19"},{"$f":"IF(ROWS(GPS_IMPORT!$1:12)<=COUNTIF(GPS_IMPORT!$A$2:$A$10000,$B$5),INDEX(GPS_IMPORT!$2:$10000,MATCH($B$5,(GPS_IMPORT!$A$2:$A$10000),0)+ROWS($1:12)-1,COLUMN()-1),0)","v":"12.18.2018"},{"$f":"IF(ROWS(GPS_IMPORT!$1:12)<=COUNTIF(GPS_IMPORT!$A$2:$A$10000,$B$5),INDEX(GPS_IMPORT!$2:$10000,MATCH($B$5,(GPS_IMPORT!$A$2:$A$10000),0)+ROWS($1:12)-1,COLUMN()-1),0)","v":"12:14:20.990"},{"$f":"IF(ROWS(GPS_IMPORT!$1:12)<=COUNTIF(GPS_IMPORT!$A$2:$A$10000,$B$5),INDEX(GPS_IMPORT!$2:$10000,MATCH($B$5,(GPS_IMPORT!$A$2:$A$10000),0)+ROWS($1:12)-1,COLUMN()-1),0)","v":342830.80294934398},{"$f":"IF(ROWS(GPS_IMPORT!$1:12)<=COUNTIF(GPS_IMPORT!$A$2:$A$10000,$B$5),INDEX(GPS_IMPORT!$2:$10000,MATCH($B$5,(GPS_IMPORT!$A$2:$A$10000),0)+ROWS($1:12)-1,COLUMN()-1),0)","v":2286284.41081989},{"$f":"IF(ROWS(GPS_IMPORT!$1:12)<=COUNTIF(GPS_IMPORT!$A$2:$A$10000,$B$5),INDEX(GPS_IMPORT!$2:$10000,MATCH($B$5,(GPS_IMPORT!$A$2:$A$10000),0)+ROWS($1:12)-1,COLUMN()-1),0)","v":929.97138581533},-9.6139222150668502E-3,-1.4017822686582804E-2,5.6377060574959614E-2,true]
[13,{"$f":"IF(ROWS(GPS_IMPORT!$1:13)<=COUNTIF(GPS_IMPORT!$A$2:$A$10000,$B$5),INDEX(GPS_IMPORT!$2:$10000,MATCH($B$5,(GPS_IMPORT!$A$2:$A$10000),0)+ROWS($1:13)-1,COLUMN()-1),0)","v":0},{"$f":"IF(ROWS(GPS_IMPORT!$1:13)<=COUNTIF(GPS_IMPORT!$A$2:$A$10000,$B$5),INDEX(GPS_IMPORT!$2:$10000,MATCH($B$5,(GPS_IMPORT!$A$2:$A$10000),0)+ROWS($1:13)-1,COLUMN()-1),0)","v":"00:00:00"},{"$f":"IF(ROWS(GPS_IMPORT!$1:13)<=COUNTIF(GPS_IMPORT!$A$2:$A$10000,$B$5),INDEX(GPS_IMPORT!$2:$10000,MATCH($B$5,(GPS_IMPORT!$A$2:$A$10000),0)+ROWS($1:13)-1,COLUMN()-1),0)","v":"00:00:00"},{"$f":"IF(ROWS(GPS_IMPORT!$1:13)<=COUNTIF(GPS_IMPORT!$A$2:$A$10000,$B$5),INDEX(GPS_IMPORT!$2:$10000,MATCH($B$5,(GPS_IMPORT!$A$2:$A$10000),0)+ROWS($1:13)-1,COLUMN()-1),0)","v":0},{"$f":"IF(ROWS(GPS_IMPORT!$1:13)<=COUNTIF(GPS_IMPORT!$A$2:$A$10000,$B$5),INDEX(GPS_IMPORT!$2:$10000,MATCH($B$5,(GPS_IMPORT!$A$2:$A$10000),0)+ROWS($1:13)-1,COLUMN()-1),0)","v":0},{"$f":"IF(ROWS(GPS_IMPORT!$1:13)<=COUNTIF(GPS_IMPORT!$A$2:$A$10000,$B$5),INDEX(GPS_IMPORT!$2:$10000,MATCH($B$5,(GPS_IMPORT!$A$2:$A$10000),0)+ROWS($1:13)-1,COLUMN()-1),0)","v":0},{"$f":"IF(E19>0,E$22-E19,0)","v":0},0,0,false]
[14,{"$f":"IF(ROWS(GPS_IMPORT!$1:14)<=COUNTIF(GPS_IMPORT!$A$2:$A$10000,$B$5),INDEX(GPS_IMPORT!$2:$10000,MATCH($B$5,(GPS_IMPORT!$A$2:$A$10000),0)+ROWS($1:14)-1,COLUMN()-1),0)","v":0},{"$f":"IF(ROWS(GPS_IMPORT!$1:14)<=COUNTIF(GPS_IMPORT!$A$2:$A$10000,$B$5),INDEX(GPS_IMPORT!$2:$10000,MATCH($B$5,(GPS_IMPORT!$A$2:$A$10000),0)+ROWS($1:14)-1,COLUMN()-1),0)","v":"00:00:00"},{"$f":"IF(ROWS(GPS_IMPORT!$1:14)<=COUNTIF(GPS_IMPORT!$A$2:$A$10000,$B$5),INDEX(GPS_IMPORT!$2:$10000,MATCH($B$5,(GPS_IMPORT!$A$2:$A$10000),0)+ROWS($1:14)-1,COLUMN()-1),0)","v":"00:00:00"},{"$f":"IF(ROWS(GPS_IMPORT!$1:14)<=COUNTIF(GPS_IMPORT!$A$2:$A$10000,$B$5),INDEX(GPS_IMPORT!$2:$10000,MATCH($B$5,(GPS_IMPORT!$A$2:$A$10000),0)+ROWS($1:14)-1,COLUMN()-1),0)","v":0},{"$f":"IF(ROWS(GPS_IMPORT!$1:14)<=COUNTIF(GPS_IMPORT!$A$2:$A$10000,$B$5),INDEX(GPS_IMPORT!$2:$10000,MATCH($B$5,(GPS_IMPORT!$A$2:$A$10000),0)+ROWS($1:14)-1,COLUMN()-1),0)","v":0},{"$f":"IF(ROWS(GPS_IMPORT!$1:14)<=COUNTIF(GPS_IMPORT!$A$2:$A$10000,$B$5),INDEX(GPS_IMPORT!$2:$10000,MATCH($B$5,(GPS_IMPORT!$A$2:$A$10000),0)+ROWS($1:14)-1,COLUMN()-1),0)","v":0},0,0,0,false]
[15,{"$f":"IF(ROWS(GPS_IMPORT!$1:15)<=COUNTIF(GPS_IMPORT!$A$2:$A$10000,$B$5),INDEX(GPS_IMPORT!$2:$10000,MATCH($B$5,(GPS_IMPORT!$A$2:$A$10000),0)+ROWS($1:15)-1,COLUMN()-1),0)","v":0},{"$f":"IF(ROWS(GPS_IMPORT!$1:15)<=COUNTIF(GPS_IMPORT!$A$2:$A$10000,$B$5),INDEX(GPS_IMPORT!$2:$10000,MATCH($B$5,(GPS_IMPORT!$A$2:$A$10000),0)+ROWS($1:15)-1,COLUMN()-1),0)","v":"00:00:00"},{"$f":"IF(ROWS(GPS_IMPORT!$1:15)<=COUNTIF(GPS_IMPORT!$A$2:$A$10000,$B$5),INDEX(GPS_IMPORT!$2:$10000,MATCH($B$5,(GPS_IMPORT!$A$2:$A$10000),0)+ROWS($1:15)-1,COLUMN()-1),0)","v":"00:00:00"},{"$f":"IF(ROWS(GPS_IMPORT!$1:15)<=COUNTIF(GPS_IMPORT!$A$2:$A$10000,$B$5),INDEX(GPS_IMPORT!$2:$10000,MATCH($B$5,(GPS_IMPORT!$A$2:$A$10000),0)+ROWS($1:15)-1,COLUMN()-1),0)","v":0},{"$f":"IF(ROWS(GPS_IMPORT!$1:15)<=COUNTIF(GPS_IMPORT!$A$2:$A$10000,$B$5),INDEX(GPS_IMPORT!$2:$10000,MATCH($B$5,(GPS_IMPORT!$A$2:$A$10000),0)+ROWS($1:15)-1,COLUMN()-1),0)","v":0},{"$f":"IF(ROWS(GPS_IMPORT!$1:15)<=COUNTIF(GPS_IMPORT!$A$2:$A$10000,$B$5),INDEX(GPS_IMPORT!$2:$10000,MATCH($B$5,(GPS_IMPORT!$A$2:$A$10000),0)+ROWS($1:15)-1,COLUMN()-1),0)","v":0},0,0,0,false]
[null,null,null,"AVERAGE",{"$f":"(IF($K$7=TRUE,E7,0)+IF($K$8=TRUE,E8,0)+IF($K$9=TRUE,E9,0)+IF($K$10=TRUE,E10,0)+IF($K$11=TRUE,E11,0)+IF($K$12=TRUE,E12,0)+IF($K$13=TRUE,E13,0)+IF($K$14=TRUE,E14,0)+IF($K$15=TRUE,E15,0)+IF($K$16=TRUE,E16,0)+IF($K$17=TRUE,E17,0)+IF($K$18=TRUE,E18,0)+IF($K$19=TRUE,E19,0)+IF($K$20=TRUE,E20,0)+IF($K$21=TRUE,E21,0))/(IF($K$7=TRUE,1,0)+IF($K$8=TRUE,1,0)+IF($K$9=TRUE,1,0)+IF($K$10=TRUE,1,0)+IF($K$11=TRUE,1,0)+IF($K$12=TRUE,1,0)+IF($K$13=TRUE,1,0)+IF($K$14=TRUE,1,0)+IF($K$15=TRUE,1,0)+IF($K$16=TRUE,1,0)+IF($K$17=TRUE,1,0)+IF($K$18=TRUE,1,0)+IF($K$19=TRUE,1,0)+IF($K$20=TRUE,1,0)+IF($K$21=TRUE,1,0))","v":342830.79333542177},{"$f":"(IF($K$7=TRUE,F7,0)+IF($K$8=TRUE,F8,0)+IF($K$9=TRUE,F9,0)+IF($K$10=TRUE,F10,0)+IF($K$11=TRUE,F11,0)+IF($K$12=TRUE,F12,0)+IF($K$13=TRUE,F13,0)+IF($K$14=TRUE,F14,0)+IF($K$15=TRUE,F15,0)+IF($K$16=TRUE,F16,0)+IF($K$17=TRUE,F17,0)+IF($K$18=TRUE,F18,0)+IF($K$19=TRUE,F19,0)+IF($K$20=TRUE,F20,0)+IF($K$21=TRUE,F21,0))/(IF($K$7=TRUE,1,0)+IF($K$8=TRUE,1,0)+IF($K$9=TRUE,1,0)+IF($K$10=TRUE,1,0)+IF($K$11=TRUE,1,0)+IF($K$12=TRUE,1,0)+IF($K$13=TRUE,1,0)+IF($K$14=TRUE,1,0)+IF($K$15=TRUE,1,0)+IF($K$16=TRUE,1,0)+IF($K$17=TRUE,1,0)+IF($K$18=TRUE,1,0)+IF($K$19=TRUE,1,0)+IF($K$20=TRUE,1,0)+IF($K$21=TRUE,1,0))","v":2286284.3968020673},{"$f":"(IF($K$7=TRUE,G7,0)+IF($K$8=TRUE,G8,0)+IF($K$9=TRUE,G9,0)+IF($K$10=TRUE,G10,0)+IF($K$11=TRUE,G11,0)+IF($K$12=TRUE,G12,0)+IF($K$13=TRUE,G13,0)+IF($K$14=TRUE,G14,0)+IF($K$15=TRUE,G15,0)+IF($K$16=TRUE,G16,0)+IF($K$17=TRUE,G17,0)+IF($K$18=TRUE,G18,0)+IF($K$19=TRUE,G19,0)+IF($K$20=TRUE,G20,0)+IF($K$21=TRUE,G21,0))/\n(IF($K$7=TRUE,1,0)+IF($K$8=TRUE,1,0)+IF($K$9=TRUE,1,0)+IF($K$10=TRUE,1,0)+IF($K$11=TRUE,1,0)+IF($K$12=TRUE,1,0)+IF($K$13=TRUE,1,0)+IF($K$14=TRUE,1,0)+IF($K$15=TRUE,1,0)+IF($K$16=TRUE,1,0)+IF($K$17=TRUE,1,0)+IF($K$18=TRUE,1,0)+IF($K$19=TRUE,1,0)+IF($K$20=TRUE,1,0)+IF($K$21=TRUE,1,0))","v":930.02776287590495},"RMSE:","RMSE:","RMSE:"]
[null,null,null,null,null,null,"RMSE IN US SURVEY FEET:",{"$f":"SQRT((\n(IF($K$7=TRUE,H7^2,0))+(IF($K$8=TRUE,H8^2,0))+(IF($K$9=TRUE,H9^2,0))+(IF($K$10=TRUE,H10^2,0))+(IF($K$11=TRUE,H11^2,0))+(IF($K$12=TRUE,H12^2,0))+(IF($K$13=TRUE,H13^2,0))+(IF($K$14=TRUE,H14^2,0))+(IF($K$15=TRUE,H15^2,0))+(IF($K$16=TRUE,H16^2,0))+(IF($K$17=TRUE,H17^2,0))+(IF($K$18=TRUE,H18^2,0))+(IF($K$19=TRUE,H19^2,0))+(IF($K$20=TRUE,H20^2,0))+(IF($K$21=TRUE,H21^2,0)))/\n(IF($K$7=TRUE,1,0)+IF($K$8=TRUE,1,0)+IF($K$9=TRUE,1,0)+IF($K$10=TRUE,1,0)+IF($K$11=TRUE,1,0)+IF($K$12=TRUE,1,0)+IF($K$13=TRUE,1,0)+IF($K$14=TRUE,1,0)+IF($K$15=TRUE,1,0)+IF($K$16=TRUE,1,0)+IF($K$17=TRUE,1,0)+IF($K$18=TRUE,1,0)+IF($K$19=TRUE,1,0)+IF($K$20=TRUE,1,0)+IF($K$21=TRUE,1,0)))","v":5.6155201498316112E-3},{"$f":"SQRT((\n(IF($K$7=TRUE,I7^2,0))+(IF($K$8=TRUE,I8^2,0))+(IF($K$9=TRUE,I9^2,0))+(IF($K$10=TRUE,I10^2,0))+(IF($K$11=TRUE,I11^2,0))+(IF($K$12=TRUE,I12^2,0))+(IF($K$13=TRUE,I13^2,0))+(IF($K$14=TRUE,I14^2,0))+(IF($K$15=TRUE,I15^2,0))+(IF($K$16=TRUE,I16^2,0))+(IF($K$17=TRUE,I17^2,0))+(IF($K$18=TRUE,I18^2,0))+(IF($K$19=TRUE,I19^2,0))+(IF($K$20=TRUE,I20^2,0))+(IF($K$21=TRUE,I21^2,0)))/\n(IF($K$7=TRUE,1,0)+IF($K$8=TRUE,1,0)+IF($K$9=TRUE,1,0)+IF($K$10=TRUE,1,0)+IF($K$11=TRUE,1,0)+IF($K$12=TRUE,1,0)+IF($K$13=TRUE,1,0)+IF($K$14=TRUE,1,0)+IF($K$15=TRUE,1,0)+IF($K$16=TRUE,1,0)+IF($K$17=TRUE,1,0)+IF($K$18=TRUE,1,0)+IF($K$19=TRUE,1,0)+IF($K$20=TRUE,1,0)+IF($K$21=TRUE,1,0)))","v":8.0067761748390098E-3},{"$f":"SQRT((\n(IF($K$7=TRUE,J7^2,0))+(IF($K$8=TRUE,J8^2,0))+(IF($K$9=TRUE,J9^2,0))+(IF($K$10=TRUE,J10^2,0))+(IF($K$11=TRUE,J11^2,0))+(IF($K$12=TRUE,J12^2,0))+(IF($K$13=TRUE,J13^2,0))+(IF($K$14=TRUE,J14^2,0))+(IF($K$15=TRUE,J15^2,0))+(IF($K$16=TRUE,J16^2,0))+(IF($K$17=TRUE,J17^2,0))+(IF($K$18=TRUE,J18^2,0))+(IF($K$19=TRUE,J19^2,0))+(IF($K$20=TRUE,J20^2,0))+(IF($K$21=TRUE,J21^2,0)))/\n(IF($K$7=TRUE,1,0)+IF($K$8=TRUE,1,0)+IF($K$9=TRUE,1,0)+IF($K$10=TRUE,1,0)+IF($K$11=TRUE,1,0)+IF($K$12=TRUE,1,0)+IF($K$13=TRUE,1,0)+IF($K$14=TRUE,1,0)+IF($K$15=TRUE,1,0)+IF($K$16=TRUE,1,0)+IF($K$17=TRUE,1,0)+IF($K$18=TRUE,1,0)+IF($K$19=TRUE,1,0)+IF($K$20=TRUE,1,0)+IF($K$21=TRUE,1,0)))","v":2.5393364545701173E-2}]
[null,null,null,1]
[null,null,"UNITLESS GRID TO GROUND MULTIPLIER",{"$f":"IF(REPORT!C13=\"n/a\",\"0.00000000\",REPORT!C13)","v":0},null,null,null,{"$f":"IF(H23<=0.029,\"PASS\",\"FAIL\")","v":"PASS"},{"$f":"IF(I23<=0.029,\"PASS\",\"FAIL\")","v":"PASS"},{"$f":"IF(J23<=0.039,\"PASS\",\"FAIL\")","v":"PASS"}]
[]
["AVERAGED GPS-DERIVED POSITION",null,null,null,null,null,null,null,"Notes:"]
[null,"MONUMENT COORDINATES",null,"NORTHING","EASTING","ORTHO HEIGHT"]
[null,"US Survey Feet (GRID)",null,{"$f":"$E$22","v":342830.79333542177},{"$f":"$F$22","v":2286284.3968020673},{"$f":"$G$22","v":930.02776287590495}]
[]
["LEVELED ELEVATION"]
["US SURVEY FEET",null,"N/A","(Type the leveled elevation or N/A if no leveled elevation is available)"]
["MONUMENT HELD",null,null,"(Type the monument name from which leveling originated)"]
["LEVELED ELEVATION - GPS DERIVED ELEVATION   = ",null,null,null,{"$f":"IF(C32=\"N/A\",\"N/A\",C32-(F29*D24))","v":"N/A"}]
[]
["FINAL MONUMENT COORDINATES"]
[null,"MONUMENT COORDINATES",null,"NORTHING","EASTING","ELEVATION","FEATURE CODE"]
[null,"US SURVEY FEET (GRID)",null,{"$f":"$E$22*$D$24","v":342830.79333542177},{"$f":"$F$22*$D$24","v":2286284.3968020673},{"$f":"IF($C$32=\"N/A\",($G$22*$D$24),$C$32)","v":930.02776287590495},"AERTAR"]
[null,"US SURVEY FEET (GROUND)",null,{"$f":"$D$38*$D$25","v":0},{"$f":"$E$38*$D$25","v":0},{"$f":"IF($C$32=\"N/A\",($G$22*$D$24),$C$32)","v":930.02776287590495},{"$f":"G38","v":"AERTAR"}]
[]
["∆ North,  ∆ East, and ∆ Ht. are the difference between the average northing, easting, and height for each observation.",null,null,null,null,null,null,null,"Mask Angle:","10°"]

{"sheet":"GS20","index":26,"n_rows":41,"n_cols":11,"rows_kept":41,"cut":false,"hidden":false,"merged":[[0,0,0,10],[26,0,26,6],[27,1,27,2],[27,8,38,10],[28,1,28,2],[30,0,30,6],[35,0,35,6],[36,1,36,2],[37,1,37,2],[38,1,38,2]]}
["VRS GNSS Project Control Monument Coordinate Analysis"]
[]
["Project:",{"$f":"REPORT!B2","v":"TUS-800-22.74"},"GPS Antenna:","LEICA GS14",null,null,null,null,null,"Report Date:",{"$f":"REPORT!C49","v":"2018-12-19"}]
["PID:",{"$f":"REPORT!E2","v":100603},"VRS Network:","ODOT VRS",null,null,null,null,null,"Prepared By:",{"$f":"REPORT!C48","v":"Kolton Wilson"}]
["Point ID:","GS20","No. of Sessions:",{"$f":"COUNTIF(GPS_IMPORT!A2:A1000,$B$5)","v":12},null,null,null,null,null,"Checked By:",{"$f":"REPORT!C52","v":"Joel Swick"}]
["SESSION #","Point","Observation Date","Start Time","Northing(sft)","Easting(sft)","Height(sft)","∆ Northing(sft)","∆ Easting(sft)","∆ Height(sft)","Include in Solution?"]
[1,{"$f":"IF(ROWS(GPS_IMPORT!$1:1)<=COUNTIF(GPS_IMPORT!$A$2:$A$10000,$B$5),INDEX(GPS_IMPORT!$2:$10000,MATCH($B$5,(GPS_IMPORT!$A$2:$A$10000),0)+ROWS($1:1)-1,COLUMN()-1),0)","v":"GS20"},{"$f":"IF(ROWS(GPS_IMPORT!$1:1)<=COUNTIF(GPS_IMPORT!$A$2:$A$10000,$B$5),INDEX(GPS_IMPORT!$2:$10000,MATCH($B$5,(GPS_IMPORT!$A$2:$A$10000),0)+ROWS($1:1)-1,COLUMN()-1),0)","v":"12.18.2018"},{"$f":"IF(ROWS(GPS_IMPORT!$1:1)<=COUNTIF(GPS_IMPORT!$A$2:$A$10000,$B$5),INDEX(GPS_IMPORT!$2:$10000,MATCH($B$5,(GPS_IMPORT!$A$2:$A$10000),0)+ROWS($1:1)-1,COLUMN()-1),0)","v":"12:23:01.680"},{"$f":"IF(ROWS(GPS_IMPORT!$1:1)<=COUNTIF(GPS_IMPORT!$A$2:$A$10000,$B$5),INDEX(GPS_IMPORT!$2:$10000,MATCH($B$5,(GPS_IMPORT!$A$2:$A$10000),0)+ROWS($1:1)-1,COLUMN()-1),0)","v":343756.45767838601},{"$f":"IF(ROWS(GPS_IMPORT!$1:1)<=COUNTIF(GPS_IMPORT!$A$2:$A$10000,$B$5),INDEX(GPS_IMPORT!$2:$10000,MATCH($B$5,(GPS_IMPORT!$A$2:$A$10000),0)+ROWS($1:1)-1,COLUMN()-1),0)","v":2284585.6462130598},{"$f":"IF(ROWS(GPS_IMPORT!$1:1)<=COUNTIF(GPS_IMPORT!$A$2:$A$10000,$B$5),INDEX(GPS_IMPORT!$2:$10000,MATCH($B$5,(GPS_IMPORT!$A$2:$A$10000),0)+ROWS($1:1)-1,COLUMN()-1),0)","v":972.66472065374001},{"$f":"IF(E7>0,E$22-E7,0)","v":1.8628115067258477E-2},8.5077178664505482E-3,-2.5145011961740238E-2,true]
[2,{"$f":"IF(ROWS(GPS_IMPORT!$1:2)<=COUNTIF(GPS_IMPORT!$A$2:$A$10000,$B$5),INDEX(GPS_IMPORT!$2:$10000,MATCH($B$5,(GPS_IMPORT!$A$2:$A$10000),0)+ROWS($1:2)-1,COLUMN()-1),0)","v":"GS20"},{"$f":"IF(ROWS(GPS_IMPORT!$1:2)<=COUNTIF(GPS_IMPORT!$A$2:$A$10000,$B$5),INDEX(GPS_IMPORT!$2:$10000,MATCH($B$5,(GPS_IMPORT!$A$2:$A$10000),0)+ROWS($1:2)-1,COLUMN()-1),0)","v":"12.18.2018"},{"$f":"IF(ROWS(GPS_IMPORT!$1:2)<=COUNTIF(GPS_IMPORT!$A$2:$A$10000,$B$5),INDEX(GPS_IMPORT!$2:$10000,MATCH($B$5,(GPS_IMPORT!$A$2:$A$10000),0)+ROWS($1:2)-1,COLUMN()-1),0)","v":"12:23:14.070"},{"$f":"IF(ROWS(GPS_IMPORT!$1:2)<=COUNTIF(GPS_IMPORT!$A$2:$A$10000,$B$5),INDEX(GPS_IMPORT!$2:$10000,MATCH($B$5,(GPS_IMPORT!$A$2:$A$10000),0)+ROWS($1:2)-1,COLUMN()-1),0)","v":343756.46126238798},{"$f":"IF(ROWS(GPS_IMPORT!$1:2)<=COUNTIF(GPS_IMPORT!$A$2:$A$10000,$B$5),INDEX(GPS_IMPORT!$2:$10000,MATCH($B$5,(GPS_IMPORT!$A$2:$A$10000),0)+ROWS($1:2)-1,COLUMN()-1),0)","v":2284585.6509664599},{"$f":"IF(ROWS(GPS_IMPORT!$1:2)<=COUNTIF(GPS_IMPORT!$A$2:$A$10000,$B$5),INDEX(GPS_IMPORT!$2:$10000,MATCH($B$5,(GPS_IMPORT!$A$2:$A$10000),0)+ROWS($1:2)-1,COLUMN()-1),0)","v":972.64079910375995},1.5044113097246736E-2,3.7543177604675293E-3,-1.2234619816808845E-3,true]
[3,{"$f":"IF(ROWS(GPS_IMPORT!$1:3)<=COUNTIF(GPS_IMPORT!$A$2:$A$10000,$B$5),INDEX(GPS_IMPORT!$2:$10000,MATCH($B$5,(GPS_IMPORT!$A$2:$A$10000),0)+ROWS($1:3)-1,COLUMN()-1),0)","v":"GS20"},{"$f":"IF(ROWS(GPS_IMPORT!$1:3)<=COUNTIF(GPS_IMPORT!$A$2:$A$10000,$B$5),INDEX(GPS_IMPORT!$2:$10000,MATCH($B$5,(GPS_IMPORT!$A$2:$A$10000),0)+ROWS($1:3)-1,COLUMN()-1),0)","v":"12.18.2018"},{"$f":"IF(ROWS(GPS_IMPORT!$1:3)<=COUNTIF(GPS_IMPORT!$A$2:$A$10000,$B$5),INDEX(GPS_IMPORT!$2:$10000,MATCH($B$5,(GPS_IMPORT!$A$2:$A$10000),0)+ROWS($1:3)-1,COLUMN()-1),0)","v":"12:23:25.940"},{"$f":"IF(ROWS(GPS_IMPORT!$1:3)<=COUNTIF(GPS_IMPORT!$A$2:$A$10000,$B$5),INDEX(GPS_IMPORT!$2:$10000,MATCH($B$5,(GPS_IMPORT!$A$2:$A$10000),0)+ROWS($1:3)-1,COLUMN()-1),0)","v":343756.47238322097},{"$f":"IF(ROWS(GPS_IMPORT!$1:3)<=COUNTIF(GPS_IMPORT!$A$2:$A$10000,$B$5),INDEX(GPS_IMPORT!$2:$10000,MATCH($B$5,(GPS_IMPORT!$A$2:$A$10000),0)+ROWS($1:3)-1,COLUMN()-1),0)","v":2284585.6541819801},{"$f":"IF(ROWS(GPS_IMPORT!$1:3)<=COUNTIF(GPS_IMPORT!$A$2:$A$10000,$B$5),INDEX(GPS_IMPORT!$2:$10000,MATCH($B$5,(GPS_IMPORT!$A$2:$A$10000),0)+ROWS($1:3)-1,COLUMN()-1),0)","v":972.64298983713002},3.9232801063917577E-3,5.3879758343100548E-4,-3.4141953517519141E-3,true]
[4,{"$f":"IF(ROWS(GPS_IMPORT!$1:4)<=COUNTIF(GPS_IMPORT!$A$2:$A$10000,$B$5),INDEX(GPS_IMPORT!$2:$10000,MATCH($B$5,(GPS_IMPORT!$A$2:$A$10000),0)+ROWS($1:4)-1,COLUMN()-1),0)","v":"GS20"},{"$f":"IF(ROWS(GPS_IMPORT!$1:4)<=COUNTIF(GPS_IMPORT!$A$2:$A$10000,$B$5),INDEX(GPS_IMPORT!$2:$10000,MATCH($B$5,(GPS_IMPORT!$A$2:$A$10000),0)+ROWS($1:4)-1,COLUMN()-1),0)","v":"12.18.2018"},{"$f":"IF(ROWS(GPS_IMPORT!$1:4)<=COUNTIF(GPS_IMPORT!$A$2:$A$10000,$B$5),INDEX(GPS_IMPORT!$2:$10000,MATCH($B$5,(GPS_IMPORT!$A$2:$A$10000),0)+ROWS($1:4)-1,COLUMN()-1),0)","v":"12:23:37.050"},{"$f":"IF(ROWS(GPS_IMPORT!$1:4)<=COUNTIF(GPS_IMPORT!$A$2:$A$10000,$B$5),INDEX(GPS_IMPORT!$2:$10000,MATCH($B$5,(GPS_IMPORT!$A$2:$A$10000),0)+ROWS($1:4)-1,COLUMN()-1),0)","v":343756.47417649499},{"$f":"IF(ROWS(GPS_IMPORT!$1:4)<=COUNTIF(GPS_IMPORT!$A$2:$A$10000,$B$5),INDEX(GPS_IMPORT!$2:$10000,MATCH($B$5,(GPS_IMPORT!$A$2:$A$10000),0)+ROWS($1:4)-1,COLUMN()-1),0)","v":2284585.6539133601},{"$f":"IF(ROWS(GPS_IMPORT!$1:4)<=COUNTIF(GPS_IMPORT!$A$2:$A$10000,$B$5),INDEX(GPS_IMPORT!$2:$10000,MATCH($B$5,(GPS_IMPORT!$A$2:$A$10000),0)+ROWS($1:4)-1,COLUMN()-1),0)","v":972.63329301937995},2.1300060907378793E-3,8.0741755664348602E-4,6.2826223983165619E-3,true]
[5,{"$f":"IF(ROWS(GPS_IMPORT!$1:5)<=COUNTIF(GPS_IMPORT!$A$2:$A$10000,$B$5),INDEX(GPS_IMPORT!$2:$10000,MATCH($B$5,(GPS_IMPORT!$A$2:$A$10000),0)+ROWS($1:5)-1,COLUMN()-1),0)","v":"GS20"},{"$f":"IF(ROWS(GPS_IMPORT!$1:5)<=COUNTIF(GPS_IMPORT!$A$2:$A$10000,$B$5),INDEX(GPS_IMPORT!$2:$10000,MATCH($B$5,(GPS_IMPORT!$A$2:$A$10000),0)+ROWS($1:5)-1,COLUMN()-1),0)","v":"12.18.2018"},{"$f":"IF(ROWS(GPS_IMPORT!$1:5)<=COUNTIF(GPS_IMPORT!$A$2:$A$10000,$B$5),INDEX(GPS_IMPORT!$2:$10000,MATCH($B$5,(GPS_IMPORT!$A$2:$A$10000),0)+ROWS($1:5)-1,COLUMN()-1),0)","v":"12:23:58.840"},{"$f":"IF(ROWS(GPS_IMPORT!$1:5)<=COUNTIF(GPS_IMPORT!$A$2:$A$10000,$B$5),INDEX(GPS_IMPORT!$2:$10000,MATCH($B$5,(GPS_IMPORT!$A$2:$A$10000),0)+ROWS($1:5)-1,COLUMN()-1),0)","v":343756.474242169},{"$f":"IF(ROWS(GPS_IMPORT!$1:5)<=COUNTIF(GPS_IMPORT!$A$2:$A$10000,$B$5),INDEX(GPS_IMPORT!$2:$10000,MATCH($B$5,(GPS_IMPORT!$A$2:$A$10000),0)+ROWS($1:5)-1,COLUMN()-1),0)","v":2284585.65147823},{"$f":"IF(ROWS(GPS_IMPORT!$1:5)<=COUNTIF(GPS_IMPORT!$A$2:$A$10000,$B$5),INDEX(GPS_IMPORT!$2:$10000,MATCH($B$5,(GPS_IMPORT!$A$2:$A$10000),0)+ROWS($1:5)-1,COLUMN()-1),0)","v":972.64866102111},2.0643320749513805E-3,3.2425476238131523E-3,-9.0853793317364762E-3,true]
[6,{"$f":"IF(ROWS(GPS_IMPORT!$1:6)<=COUNTIF(GPS_IMPORT!$A$2:$A$10000,$B$5),INDEX(GPS_IMPORT!$2:$10000,MATCH($B$5,(GPS_IMPORT!$A$2:$A$10000),0)+ROWS($1:6)-1,COLUMN()-1),0)","v":"GS20"},{"$f":"IF(ROWS(GPS_IMPORT!$1:6)<=COUNTIF(GPS_IMPORT!$A$2:$A$10000,$B$5),INDEX(GPS_IMPORT!$2:$10000,MATCH($B$5,(GPS_IMPORT!$A$2:$A$10000),0)+ROWS($1:6)-1,COLUMN()-1),0)","v":"12.18.2018"},{"$f":"IF(ROWS(GPS_IMPORT!$1:6)<=COUNTIF(GPS_IMPORT!$A$2:$A$10000,$B$5),INDEX(GPS_IMPORT!$2:$10000,MATCH($B$5,(GPS_IMPORT!$A$2:$A$10000),0)+ROWS($1:6)-1,COLUMN()-1),0)","v":"12:24:10.020"},{"$f":"IF(ROWS(GPS_IMPORT!$1:6)<=COUNTIF(GPS_IMPORT!$A$2:$A$10000,$B$5),INDEX(GPS_IMPORT!$2:$10000,MATCH($B$5,(GPS_IMPORT!$A$2:$A$10000),0)+ROWS($1:6)-1,COLUMN()-1),0)","v":343756.47557802399},{"$f":"IF(ROWS(GPS_IMPORT!$1:6)<=COUNTIF(GPS_IMPORT!$A$2:$A$10000,$B$5),INDEX(GPS_IMPORT!$2:$10000,MATCH($B$5,(GPS_IMPORT!$A$2:$A$10000),0)+ROWS($1:6)-1,COLUMN()-1),0)","v":2284585.6576215001},{"$f":"IF(ROWS(GPS_IMPORT!$1:6)<=COUNTIF(GPS_IMPORT!$A$2:$A$10000,$B$5),INDEX(GPS_IMPORT!$2:$10000,MATCH($B$5,(GPS_IMPORT!$A$2:$A$10000),0)+ROWS($1:6)-1,COLUMN()-1),0)","v":972.63596705257999},7.284770836122334E-4,-2.900722436606884E-3,3.6085891982793328E-3,true]
[7,{"$f":"IF(ROWS(GPS_IMPORT!$1:7)<=COUNTIF(GPS_IMPORT!$A$2:$A$10000,$B$5),INDEX(GPS_IMPORT!$2:$10000,MATCH($B$5,(GPS_IMPORT!$A$2:$A$10000),0)+ROWS($1:7)-1,COLUMN()-1),0)","v":"GS20"},{"$f":"IF(ROWS(GPS_IMPORT!$1:7)<=COUNTIF(GPS_IMPORT!$A$2:$A$10000,$B$5),INDEX(GPS_IMPORT!$2:$10000,MATCH($B$5,(GPS_IMPORT!$A$2:$A$10000),0)+ROWS($1:7)-1,COLUMN()-1),0)","v":"12.18.2018"},{"$f":"IF(ROWS(GPS_IMPORT!$1:7)<=COUNTIF(GPS_IMPORT!$A$2:$A$10000,$B$5),INDEX(GPS_IMPORT!$2:$10000,MATCH($B$5,(GPS_IMPORT!$A$2:$A$10000),0)+ROWS($1:7)-1,COLUMN()-1),0)","v":"12:24:21.170"},{"$f":"IF(ROWS(GPS_IMPORT!$1:7)<=COUNTIF(GPS_IMPORT!$A$2:$A$10000,$B$5),INDEX(GPS_IMPORT!$2:$10000,MATCH($B$5,(GPS_IMPORT!$A$2:$A$10000),0)+ROWS($1:7)-1,COLUMN()-1),0)","v":343756.48595070001},{"$f":"IF(ROWS(GPS_IMPORT!$1:7)<=COUNTIF(GPS_IMPORT!$A$2:$A$10000,$B$5),INDEX(GPS_IMPORT!$2:$10000,MATCH($B$5,(GPS_IMPORT!$A$2:$A$10000),0)+ROWS($1:7)-1,COLUMN()-1),0)","v":2284585.65932969},{"$f":"IF(ROWS(GPS_IMPORT!$1:7)<=COUNTIF(GPS_IMPORT!$A$2:$A$10000,$B$5),INDEX(GPS_IMPORT!$2:$10000,MATCH($B$5,(GPS_IMPORT!$A$2:$A$10000),0)+ROWS($1:7)-1,COLUMN()-1),0)","v":972.64933464587},-9.6441989298909903E-3,-4.608912393450737E-3,-9.7590040917339138E-3,true]
[8,{"$f":"IF(ROWS(GPS_IMPORT!$1:8)<=COUNTIF(GPS_IMPORT!$A$2:$A$10000,$B$5),INDEX(GPS_IMPORT!$2:$10000,MATCH($B$5,(GPS_IMPORT!$A$2:$A$10000),0)+ROWS($1:8)-1,COLUMN()-1),0)","v":"GS20"},{"$f":"IF(ROWS(GPS_IMPORT!$1:8)<=COUNTIF(GPS_IMPORT!$A$2:$A$10000,$B$5),INDEX(GPS_IMPORT!$2:$10000,MATCH($B$5,(GPS_IMPORT!$A$2:$A$10000),0)+ROWS($1:8)-1,COLUMN()-1),0)","v":"12.18.2018"},{"$f":"IF(ROWS(GPS_IMPORT!$1:8)<=COUNTIF(GPS_IMPORT!$A$2:$A$10000,$B$5),INDEX(GPS_IMPORT!$2:$10000,MATCH($B$5,(GPS_IMPORT!$A$2:$A$10000),0)+ROWS($1:8)-1,COLUMN()-1),0)","v":"12:24:33.120"},{"$f":"IF(ROWS(GPS_IMPORT!$1:8)<=COUNTIF(GPS_IMPORT!$A$2:$A$10000,$B$5),INDEX(GPS_IMPORT!$2:$10000,MATCH($B$5,(GPS_IMPORT!$A$2:$A$10000),0)+ROWS($1:8)-1,COLUMN()-1),0)","v":343756.48086265102},{"$f":"IF(ROWS(GPS_IMPORT!$1:8)<=COUNTIF(GPS_IMPORT!$A$2:$A$10000,$B$5),INDEX(GPS_IMPORT!$2:$10000,MATCH($B$5,(GPS_IMPORT!$A$2:$A$10000),0)+ROWS($1:8)-1,COLUMN()-1),0)","v":2284585.6559351599},{"$f":"IF(ROWS(GPS_IMPORT!$1:8)<=COUNTIF(GPS_IMPORT!$A$2:$A$10000,$B$5),INDEX(GPS_IMPORT!$2:$10000,MATCH($B$5,(GPS_IMPORT!$A$2:$A$10000),0)+ROWS($1:8)-1,COLUMN()-1),0)","v":972.65116478883999},-4.5561499428004026E-3,-1.2143822386860847E-3,-1.158914706172709E-2,true]
[9,{"$f":"IF(ROWS(GPS_IMPORT!$1:9)<=COUNTIF(GPS_IMPORT!$A$2:$A$10000,$B$5),INDEX(GPS_IMPORT!$2:$10000,MATCH($B$5,(GPS_IMPORT!$A$2:$A$10000),0)+ROWS($1:9)-1,COLUMN()-1),0)","v":"GS20"},{"$f":"IF(ROWS(GPS_IMPORT!$1:9)<=COUNTIF(GPS_IMPORT!$A$2:$A$10000,$B$5),INDEX(GPS_IMPORT!$2:$10000,MATCH($B$5,(GPS_IMPORT!$A$2:$A$10000),0)+ROWS($1:9)-1,COLUMN()-1),0)","v":"12.18.2018"},{"$f":"IF(ROWS(GPS_IMPORT!$1:9)<=COUNTIF(GPS_IMPORT!$A$2:$A$10000,$B$5),INDEX(GPS_IMPORT!$2:$10000,MATCH($B$5,(GPS_IMPORT!$A$2:$A$10000),0)+ROWS($1:9)-1,COLUMN()-1),0)","v":"12:24:51"},{"$f":"IF(ROWS(GPS_IMPORT!$1:9)<=COUNTIF(GPS_IMPORT!$A$2:$A$10000,$B$5),INDEX(GPS_IMPORT!$2:$10000,MATCH($B$5,(GPS_IMPORT!$A$2:$A$10000),0)+ROWS($1:9)-1,COLUMN()-1),0)","v":343756.47304741602},{"$f":"IF(ROWS(GPS_IMPORT!$1:9)<=COUNTIF(GPS_IMPORT!$A$2:$A$10000,$B$5),INDEX(GPS_IMPORT!$2:$10000,MATCH($B$5,(GPS_IMPORT!$A$2:$A$10000),0)+ROWS($1:9)-1,COLUMN()-1),0)","v":2284585.6598735298},{"$f":"IF(ROWS(GPS_IMPORT!$1:9)<=COUNTIF(GPS_IMPORT!$A$2:$A$10000,$B$5),INDEX(GPS_IMPORT!$2:$10000,MATCH($B$5,(GPS_IMPORT!$A$2:$A$10000),0)+ROWS($1:9)-1,COLUMN()-1),0)","v":972.63086848723003},3.2590850605629385E-3,-5.1527521573007107E-3,8.7071545482331203E-3,true]
[10,{"$f":"IF(ROWS(GPS_IMPORT!$1:10)<=COUNTIF(GPS_IMPORT!$A$2:$A$10000,$B$5),INDEX(GPS_IMPORT!$2:$10000,MATCH($B$5,(GPS_IMPORT!$A$2:$A$10000),0)+ROWS($1:10)-1,COLUMN()-1),0)","v":"GS20"},{"$f":"IF(ROWS(GPS_IMPORT!$1:10)<=COUNTIF(GPS_IMPORT!$A$2:$A$10000,$B$5),INDEX(GPS_IMPORT!$2:$10000,MATCH($B$5,(GPS_IMPORT!$A$2:$A$10000),0)+ROWS($1:10)-1,COLUMN()-1),0)","v":"12.18.2018"},{"$f":"IF(ROWS(GPS_IMPORT!$1:10)<=COUNTIF(GPS_IMPORT!$A$2:$A$10000,$B$5),INDEX(GPS_IMPORT!$2:$10000,MATCH($B$5,(GPS_IMPORT!$A$2:$A$10000),0)+ROWS($1:10)-1,COLUMN()-1),0)","v":"12:25:02.830"},{"$f":"IF(ROWS(GPS_IMPORT!$1:10)<=COUNTIF(GPS_IMPORT!$A$2:$A$10000,$B$5),INDEX(GPS_IMPORT!$2:$10000,MATCH($B$5,(GPS_IMPORT!$A$2:$A$10000),0)+ROWS($1:10)-1,COLUMN()-1),0)","v":343756.474256074},{"$f":"IF(ROWS(GPS_IMPORT!$1:10)<=COUNTIF(GPS_IMPORT!$A$2:$A$10000,$B$5),INDEX(GPS_IMPORT!$2:$10000,MATCH($B$5,(GPS_IMPORT!$A$2:$A$10000),0)+ROWS($1:10)-1,COLUMN()-1),0)","v":2284585.6566985198},{"$f":"IF(ROWS(GPS_IMPORT!$1:10)<=COUNTIF(GPS_IMPORT!$A$2:$A$10000,$B$5),INDEX(GPS_IMPORT!$2:$10000,MATCH($B$5,(GPS_IMPORT!$A$2:$A$10000),0)+ROWS($1:10)-1,COLUMN()-1),0)","v":972.62969609562003},2.0504270796664059E-3,-1.9777421839535236E-3,9.8795461582312782E-3,true]
[11,{"$f":"IF(ROWS(GPS_IMPORT!$1:11)<=COUNTIF(GPS_IMPORT!$A$2:$A$10000,$B$5),INDEX(GPS_IMPORT!$2:$10000,MATCH($B$5,(GPS_IMPORT!$A$2:$A$10000),0)+ROWS($1:11)-1,COLUMN()-1),0)","v":"GS20"},{"$f":"IF(ROWS(GPS_IMPORT!$1:11)<=COUNTIF(GPS_IMPORT!$A$2:$A$10000,$B$5),INDEX(GPS_IMPORT!$2:$10000,MATCH($B$5,(GPS_IMPORT!$A$2:$A$10000),0)+ROWS($1:11)-1,COLUMN()-1),0)","v":"12.18.2018"},{"$f":"IF(ROWS(GPS_IMPORT!$1:11)<=COUNTIF(GPS_IMPORT!$A$2:$A$10000,$B$5),INDEX(GPS_IMPORT!$2:$10000,MATCH($B$5,(GPS_IMPORT!$A$2:$A$10000),0)+ROWS($1:11)-1,COLUMN()-1),0)","v":"12:25:16.150"},{"$f":"IF(ROWS(GPS_IMPORT!$1:11)<=COUNTIF(GPS_IMPORT!$A$2:$A$10000,$B$5),INDEX(GPS_IMPORT!$2:$10000,MATCH($B$5,(GPS_IMPORT!$A$2:$A$10000),0)+ROWS($1:11)-1,COLUMN()-1),0)","v":343756.49132862798},{"$f":"IF(ROWS(GPS_IMPORT!$1:11)<=COUNTIF(GPS_IMPORT!$A$2:$A$10000,$B$5),INDEX(GPS_IMPORT!$2:$10000,MATCH($B$5,(GPS_IMPORT!$A$2:$A$10000),0)+ROWS($1:11)-1,COLUMN()-1),0)","v":2284585.6545049101},{"$f":"IF(ROWS(GPS_IMPORT!$1:11)<=COUNTIF(GPS_IMPORT!$A$2:$A$10000,$B$5),INDEX(GPS_IMPORT!$2:$10000,MATCH($B$5,(GPS_IMPORT!$A$2:$A$10000),0)+ROWS($1:11)-1,COLUMN()-1),0)","v":972.62384868792003},-1.5022126899566501E-2,2.158675342798233E-4,1.5726953858234083E-2,true]
[12,{"$f":"IF(ROWS(GPS_IMPORT!$1:12)<=COUNTIF(GPS_IMPORT!$A$2:$A$10000,$B$5),INDEX(GPS_IMPORT!$2:$10000,MATCH($B$5,(GPS_IMPORT!$A$2:$A$10000),0)+ROWS($1:12)-1,COLUMN()-1),0)","v":"GS20"},{"$f":"IF(ROWS(GPS_IMPORT!$1:12)<=COUNTIF(GPS_IMPORT!$A$2:$A$10000,$B$5),INDEX(GPS_IMPORT!$2:$10000,MATCH($B$5,(GPS_IMPORT!$A$2:$A$10000),0)+ROWS($1:12)-1,COLUMN()-1),0)","v":"12.18.2018"},{"$f":"IF(ROWS(GPS_IMPORT!$1:12)<=COUNTIF(GPS_IMPORT!$A$2:$A$10000,$B$5),INDEX(GPS_IMPORT!$2:$10000,MATCH($B$5,(GPS_IMPORT!$A$2:$A$10000),0)+ROWS($1:12)-1,COLUMN()-1),0)","v":"12:25:27.820"},{"$f":"IF(ROWS(GPS_IMPORT!$1:12)<=COUNTIF(GPS_IMPORT!$A$2:$A$10000,$B$5),INDEX(GPS_IMPORT!$2:$10000,MATCH($B$5,(GPS_IMPORT!$A$2:$A$10000),0)+ROWS($1:12)-1,COLUMN()-1),0)","v":343756.49491186102},{"$f":"IF(ROWS(GPS_IMPORT!$1:12)<=COUNTIF(GPS_IMPORT!$A$2:$A$10000,$B$5),INDEX(GPS_IMPORT!$2:$10000,MATCH($B$5,(GPS_IMPORT!$A$2:$A$10000),0)+ROWS($1:12)-1,COLUMN()-1),0)","v":2284585.6559329298},{"$f":"IF(ROWS(GPS_IMPORT!$1:12)<=COUNTIF(GPS_IMPORT!$A$2:$A$10000,$B$5),INDEX(GPS_IMPORT!$2:$10000,MATCH($B$5,(GPS_IMPORT!$A$2:$A$10000),0)+ROWS($1:12)-1,COLUMN()-1),0)","v":972.62356430815998},-1.8605359946377575E-2,-1.212152186781168E-3,1.6011333618280332E-2,true]
[13,{"$f":"IF(ROWS(GPS_IMPORT!$1:13)<=COUNTIF(GPS_IMPORT!$A$2:$A$10000,$B$5),INDEX(GPS_IMPORT!$2:$10000,MATCH($B$5,(GPS_IMPORT!$A$2:$A$10000),0)+ROWS($1:13)-1,COLUMN()-1),0)","v":0},{"$f":"IF(ROWS(GPS_IMPORT!$1:13)<=COUNTIF(GPS_IMPORT!$A$2:$A$10000,$B$5),INDEX(GPS_IMPORT!$2:$10000,MATCH($B$5,(GPS_IMPORT!$A$2:$A$10000),0)+ROWS($1:13)-1,COLUMN()-1),0)","v":"00:00:00"},{"$f":"IF(ROWS(GPS_IMPORT!$1:13)<=COUNTIF(GPS_IMPORT!$A$2:$A$10000,$B$5),INDEX(GPS_IMPORT!$2:$10000,MATCH($B$5,(GPS_IMPORT!$A$2:$A$10000),0)+ROWS($1:13)-1,COLUMN()-1),0)","v":"00:00:00"},{"$f":"IF(ROWS(GPS_IMPORT!$1:13)<=COUNTIF(GPS_IMPORT!$A$2:$A$10000,$B$5),INDEX(GPS_IMPORT!$2:$10000,MATCH($B$5,(GPS_IMPORT!$A$2:$A$10000),0)+ROWS($1:13)-1,COLUMN()-1),0)","v":0},{"$f":"IF(ROWS(GPS_IMPORT!$1:13)<=COUNTIF(GPS_IMPORT!$A$2:$A$10000,$B$5),INDEX(GPS_IMPORT!$2:$10000,MATCH($B$5,(GPS_IMPORT!$A$2:$A$10000),0)+ROWS($1:13)-1,COLUMN()-1),0)","v":0},{"$f":"IF(ROWS(GPS_IMPORT!$1:13)<=COUNTIF(GPS_IMPORT!$A$2:$A$10000,$B$5),INDEX(GPS_IMPORT!$2:$10000,MATCH($B$5,(GPS_IMPORT!$A$2:$A$10000),0)+ROWS($1:13)-1,COLUMN()-1),0)","v":0},{"$f":"IF(E19>0,E$22-E19,0)","v":0},0,0,false]
[14,{"$f":"IF(ROWS(GPS_IMPORT!$1:14)<=COUNTIF(GPS_IMPORT!$A$2:$A$10000,$B$5),INDEX(GPS_IMPORT!$2:$10000,MATCH($B$5,(GPS_IMPORT!$A$2:$A$10000),0)+ROWS($1:14)-1,COLUMN()-1),0)","v":0},{"$f":"IF(ROWS(GPS_IMPORT!$1:14)<=COUNTIF(GPS_IMPORT!$A$2:$A$10000,$B$5),INDEX(GPS_IMPORT!$2:$10000,MATCH($B$5,(GPS_IMPORT!$A$2:$A$10000),0)+ROWS($1:14)-1,COLUMN()-1),0)","v":"00:00:00"},{"$f":"IF(ROWS(GPS_IMPORT!$1:14)<=COUNTIF(GPS_IMPORT!$A$2:$A$10000,$B$5),INDEX(GPS_IMPORT!$2:$10000,MATCH($B$5,(GPS_IMPORT!$A$2:$A$10000),0)+ROWS($1:14)-1,COLUMN()-1),0)","v":"00:00:00"},{"$f":"IF(ROWS(GPS_IMPORT!$1:14)<=COUNTIF(GPS_IMPORT!$A$2:$A$10000,$B$5),INDEX(GPS_IMPORT!$2:$10000,MATCH($B$5,(GPS_IMPORT!$A$2:$A$10000),0)+ROWS($1:14)-1,COLUMN()-1),0)","v":0},{"$f":"IF(ROWS(GPS_IMPORT!$1:14)<=COUNTIF(GPS_IMPORT!$A$2:$A$10000,$B$5),INDEX(GPS_IMPORT!$2:$10000,MATCH($B$5,(GPS_IMPORT!$A$2:$A$10000),0)+ROWS($1:14)-1,COLUMN()-1),0)","v":0},{"$f":"IF(ROWS(GPS_IMPORT!$1:14)<=COUNTIF(GPS_IMPORT!$A$2:$A$10000,$B$5),INDEX(GPS_IMPORT!$2:$10000,MATCH($B$5,(GPS_IMPORT!$A$2:$A$10000),0)+ROWS($1:14)-1,COLUMN()-1),0)","v":0},0,0,0,false]
[15,{"$f":"IF(ROWS(GPS_IMPORT!$1:15)<=COUNTIF(GPS_IMPORT!$A$2:$A$10000,$B$5),INDEX(GPS_IMPORT!$2:$10000,MATCH($B$5,(GPS_IMPORT!$A$2:$A$10000),0)+ROWS($1:15)-1,COLUMN()-1),0)","v":0},{"$f":"IF(ROWS(GPS_IMPORT!$1:15)<=COUNTIF(GPS_IMPORT!$A$2:$A$10000,$B$5),INDEX(GPS_IMPORT!$2:$10000,MATCH($B$5,(GPS_IMPORT!$A$2:$A$10000),0)+ROWS($1:15)-1,COLUMN()-1),0)","v":"00:00:00"},{"$f":"IF(ROWS(GPS_IMPORT!$1:15)<=COUNTIF(GPS_IMPORT!$A$2:$A$10000,$B$5),INDEX(GPS_IMPORT!$2:$10000,MATCH($B$5,(GPS_IMPORT!$A$2:$A$10000),0)+ROWS($1:15)-1,COLUMN()-1),0)","v":"00:00:00"},{"$f":"IF(ROWS(GPS_IMPORT!$1:15)<=COUNTIF(GPS_IMPORT!$A$2:$A$10000,$B$5),INDEX(GPS_IMPORT!$2:$10000,MATCH($B$5,(GPS_IMPORT!$A$2:$A$10000),0)+ROWS($1:15)-1,COLUMN()-1),0)","v":0},{"$f":"IF(ROWS(GPS_IMPORT!$1:15)<=COUNTIF(GPS_IMPORT!$A$2:$A$10000,$B$5),INDEX(GPS_IMPORT!$2:$10000,MATCH($B$5,(GPS_IMPORT!$A$2:$A$10000),0)+ROWS($1:15)-1,COLUMN()-1),0)","v":0},{"$f":"IF(ROWS(GPS_IMPORT!$1:15)<=COUNTIF(GPS_IMPORT!$A$2:$A$10000,$B$5),INDEX(GPS_IMPORT!$2:$10000,MATCH($B$5,(GPS_IMPORT!$A$2:$A$10000),0)+ROWS($1:15)-1,COLUMN()-1),0)","v":0},0,0,0,false]
[null,null,null,"AVERAGE",{"$f":"(IF($K$7=TRUE,E7,0)+IF($K$8=TRUE,E8,0)+IF($K$9=TRUE,E9,0)+IF($K$10=TRUE,E10,0)+IF($K$11=TRUE,E11,0)+IF($K$12=TRUE,E12,0)+IF($K$13=TRUE,E13,0)+IF($K$14=TRUE,E14,0)+IF($K$15=TRUE,E15,0)+IF($K$16=TRUE,E16,0)+IF($K$17=TRUE,E17,0)+IF($K$18=TRUE,E18,0)+IF($K$19=TRUE,E19,0)+IF($K$20=TRUE,E20,0)+IF($K$21=TRUE,E21,0))/(IF($K$7=TRUE,1,0)+IF($K$8=TRUE,1,0)+IF($K$9=TRUE,1,0)+IF($K$10=TRUE,1,0)+IF($K$11=TRUE,1,0)+IF($K$12=TRUE,1,0)+IF($K$13=TRUE,1,0)+IF($K$14=TRUE,1,0)+IF($K$15=TRUE,1,0)+IF($K$16=TRUE,1,0)+IF($K$17=TRUE,1,0)+IF($K$18=TRUE,1,0)+IF($K$19=TRUE,1,0)+IF($K$20=TRUE,1,0)+IF($K$21=TRUE,1,0))","v":343756.47630650108},{"$f":"(IF($K$7=TRUE,F7,0)+IF($K$8=TRUE,F8,0)+IF($K$9=TRUE,F9,0)+IF($K$10=TRUE,F10,0)+IF($K$11=TRUE,F11,0)+IF($K$12=TRUE,F12,0)+IF($K$13=TRUE,F13,0)+IF($K$14=TRUE,F14,0)+IF($K$15=TRUE,F15,0)+IF($K$16=TRUE,F16,0)+IF($K$17=TRUE,F17,0)+IF($K$18=TRUE,F18,0)+IF($K$19=TRUE,F19,0)+IF($K$20=TRUE,F20,0)+IF($K$21=TRUE,F21,0))/(IF($K$7=TRUE,1,0)+IF($K$8=TRUE,1,0)+IF($K$9=TRUE,1,0)+IF($K$10=TRUE,1,0)+IF($K$11=TRUE,1,0)+IF($K$12=TRUE,1,0)+IF($K$13=TRUE,1,0)+IF($K$14=TRUE,1,0)+IF($K$15=TRUE,1,0)+IF($K$16=TRUE,1,0)+IF($K$17=TRUE,1,0)+IF($K$18=TRUE,1,0)+IF($K$19=TRUE,1,0)+IF($K$20=TRUE,1,0)+IF($K$21=TRUE,1,0))","v":2284585.6547207776},{"$f":"(IF($K$7=TRUE,G7,0)+IF($K$8=TRUE,G8,0)+IF($K$9=TRUE,G9,0)+IF($K$10=TRUE,G10,0)+IF($K$11=TRUE,G11,0)+IF($K$12=TRUE,G12,0)+IF($K$13=TRUE,G13,0)+IF($K$14=TRUE,G14,0)+IF($K$15=TRUE,G15,0)+IF($K$16=TRUE,G16,0)+IF($K$17=TRUE,G17,0)+IF($K$18=TRUE,G18,0)+IF($K$19=TRUE,G19,0)+IF($K$20=TRUE,G20,0)+IF($K$21=TRUE,G21,0))/\n(IF($K$7=TRUE,1,0)+IF($K$8=TRUE,1,0)+IF($K$9=TRUE,1,0)+IF($K$10=TRUE,1,0)+IF($K$11=TRUE,1,0)+IF($K$12=TRUE,1,0)+IF($K$13=TRUE,1,0)+IF($K$14=TRUE,1,0)+IF($K$15=TRUE,1,0)+IF($K$16=TRUE,1,0)+IF($K$17=TRUE,1,0)+IF($K$18=TRUE,1,0)+IF($K$19=TRUE,1,0)+IF($K$20=TRUE,1,0)+IF($K$21=TRUE,1,0))","v":972.63957564177826},"RMSE:","RMSE:","RMSE:"]
[null,null,null,null,null,null,"RMSE IN US SURVEY FEET:",{"$f":"SQRT((\n(IF($K$7=TRUE,H7^2,0))+(IF($K$8=TRUE,H8^2,0))+(IF($K$9=TRUE,H9^2,0))+(IF($K$10=TRUE,H10^2,0))+(IF($K$11=TRUE,H11^2,0))+(IF($K$12=TRUE,H12^2,0))+(IF($K$13=TRUE,H13^2,0))+(IF($K$14=TRUE,H14^2,0))+(IF($K$15=TRUE,H15^2,0))+(IF($K$16=TRUE,H16^2,0))+(IF($K$17=TRUE,H17^2,0))+(IF($K$18=TRUE,H18^2,0))+(IF($K$19=TRUE,H19^2,0))+(IF($K$20=TRUE,H20^2,0))+(IF($K$21=TRUE,H21^2,0)))/\n(IF($K$7=TRUE,1,0)+IF($K$8=TRUE,1,0)+IF($K$9=TRUE,1,0)+IF($K$10=TRUE,1,0)+IF($K$11=TRUE,1,0)+IF($K$12=TRUE,1,0)+IF($K$13=TRUE,1,0)+IF($K$14=TRUE,1,0)+IF($K$15=TRUE,1,0)+IF($K$16=TRUE,1,0)+IF($K$17=TRUE,1,0)+IF($K$18=TRUE,1,0)+IF($K$19=TRUE,1,0)+IF($K$20=TRUE,1,0)+IF($K$21=TRUE,1,0)))","v":1.0402210845220753E-2},{"$f":"SQRT((\n(IF($K$7=TRUE,I7^2,0))+(IF($K$8=TRUE,I8^2,0))+(IF($K$9=TRUE,I9^2,0))+(IF($K$10=TRUE,I10^2,0))+(IF($K$11=TRUE,I11^2,0))+(IF($K$12=TRUE,I12^2,0))+(IF($K$13=TRUE,I13^2,0))+(IF($K$14=TRUE,I14^2,0))+(IF($K$15=TRUE,I15^2,0))+(IF($K$16=TRUE,I16^2,0))+(IF($K$17=TRUE,I17^2,0))+(IF($K$18=TRUE,I18^2,0))+(IF($K$19=TRUE,I19^2,0))+(IF($K$20=TRUE,I20^2,0))+(IF($K$21=TRUE,I21^2,0)))/\n(IF($K$7=TRUE,1,0)+IF($K$8=TRUE,1,0)+IF($K$9=TRUE,1,0)+IF($K$10=TRUE,1,0)+IF($K$11=TRUE,1,0)+IF($K$12=TRUE,1,0)+IF($K$13=TRUE,1,0)+IF($K$14=TRUE,1,0)+IF($K$15=TRUE,1,0)+IF($K$16=TRUE,1,0)+IF($K$17=TRUE,1,0)+IF($K$18=TRUE,1,0)+IF($K$19=TRUE,1,0)+IF($K$20=TRUE,1,0)+IF($K$21=TRUE,1,0)))","v":3.6633514387383122E-3},{"$f":"SQRT((\n(IF($K$7=TRUE,J7^2,0))+(IF($K$8=TRUE,J8^2,0))+(IF($K$9=TRUE,J9^2,0))+(IF($K$10=TRUE,J10^2,0))+(IF($K$11=TRUE,J11^2,0))+(IF($K$12=TRUE,J12^2,0))+(IF($K$13=TRUE,J13^2,0))+(IF($K$14=TRUE,J14^2,0))+(IF($K$15=TRUE,J15^2,0))+(IF($K$16=TRUE,J16^2,0))+(IF($K$17=TRUE,J17^2,0))+(IF($K$18=TRUE,J18^2,0))+(IF($K$19=TRUE,J19^2,0))+(IF($K$20=TRUE,J20^2,0))+(IF($K$21=TRUE,J21^2,0)))/\n(IF($K$7=TRUE,1,0)+IF($K$8=TRUE,1,0)+IF($K$9=TRUE,1,0)+IF($K$10=TRUE,1,0)+IF($K$11=TRUE,1,0)+IF($K$12=TRUE,1,0)+IF($K$13=TRUE,1,0)+IF($K$14=TRUE,1,0)+IF($K$15=TRUE,1,0)+IF($K$16=TRUE,1,0)+IF($K$17=TRUE,1,0)+IF($K$18=TRUE,1,0)+IF($K$19=TRUE,1,0)+IF($K$20=TRUE,1,0)+IF($K$21=TRUE,1,0)))","v":1.185723737665126E-2}]
[null,null,null,1]
[null,null,"UNITLESS GRID TO GROUND MULTIPLIER",{"$f":"IF(REPORT!C13=\"n/a\",\"0.00000000\",REPORT!C13)","v":0},null,null,null,{"$f":"IF(H23<=0.029,\"PASS\",\"FAIL\")","v":"PASS"},{"$f":"IF(I23<=0.029,\"PASS\",\"FAIL\")","v":"PASS"},{"$f":"IF(J23<=0.039,\"PASS\",\"FAIL\")","v":"PASS"}]
[]
["AVERAGED GPS-DERIVED POSITION",null,null,null,null,null,null,null,"Notes:"]
[null,"MONUMENT COORDINATES",null,"NORTHING","EASTING","ORTHO HEIGHT"]
[null,"US Survey Feet (GRID)",null,{"$f":"$E$22","v":343756.47630650108},{"$f":"$F$22","v":2284585.6547207776},{"$f":"$G$22","v":972.63957564177826}]
[]
["LEVELED ELEVATION"]
["US SURVEY FEET",null,"N/A","(Type the leveled elevation or N/A if no leveled elevation is available)"]
["MONUMENT HELD",null,null,"(Type the monument name from which leveling originated)"]
["LEVELED ELEVATION - GPS DERIVED ELEVATION   = ",null,null,null,{"$f":"IF(C32=\"N/A\",\"N/A\",C32-(F29*D24))","v":"N/A"}]
[]
["FINAL MONUMENT COORDINATES"]
[null,"MONUMENT COORDINATES",null,"NORTHING","EASTING","ELEVATION","FEATURE CODE"]
[null,"US SURVEY FEET (GRID)",null,{"$f":"$E$22*$D$24","v":343756.47630650108},{"$f":"$F$22*$D$24","v":2284585.6547207776},{"$f":"IF($C$32=\"N/A\",($G$22*$D$24),$C$32)","v":972.63957564177826},"AERTAR"]
[null,"US SURVEY FEET (GROUND)",null,{"$f":"$D$38*$D$25","v":0},{"$f":"$E$38*$D$25","v":0},{"$f":"IF($C$32=\"N/A\",($G$22*$D$24),$C$32)","v":972.63957564177826},{"$f":"G38","v":"AERTAR"}]
[]
["∆ North,  ∆ East, and ∆ Ht. are the difference between the average northing, easting, and height for each observation.",null,null,null,null,null,null,null,"Mask Angle:","10°"]

{"sheet":"GS21","index":27,"n_rows":41,"n_cols":11,"rows_kept":41,"cut":false,"hidden":false,"merged":[[0,0,0,10],[26,0,26,6],[27,1,27,2],[27,8,38,10],[28,1,28,2],[30,0,30,6],[35,0,35,6],[36,1,36,2],[37,1,37,2],[38,1,38,2]]}
["VRS GNSS Project Control Monument Coordinate Analysis"]
[]
["Project:",{"$f":"REPORT!B2","v":"TUS-800-22.74"},"GPS Antenna:","LEICA GS14",null,null,null,null,null,"Report Date:",{"$f":"REPORT!C49","v":"2018-12-19"}]
["PID:",{"$f":"REPORT!E2","v":100603},"VRS Network:","ODOT VRS",null,null,null,null,null,"Prepared By:",{"$f":"REPORT!C48","v":"Kolton Wilson"}]
["Point ID:","GS21","No. of Sessions:",{"$f":"COUNTIF(GPS_IMPORT!A2:A1000,$B$5)","v":12},null,null,null,null,null,"Checked By:",{"$f":"REPORT!C52","v":"Joel Swick"}]
["SESSION #","Point","Observation Date","Start Time","Northing(sft)","Easting(sft)","Height(sft)","∆ Northing(sft)","∆ Easting(sft)","∆ Height(sft)","Include in Solution?"]
[1,{"$f":"IF(ROWS(GPS_IMPORT!$1:1)<=COUNTIF(GPS_IMPORT!$A$2:$A$10000,$B$5),INDEX(GPS_IMPORT!$2:$10000,MATCH($B$5,(GPS_IMPORT!$A$2:$A$10000),0)+ROWS($1:1)-1,COLUMN()-1),0)","v":"GS21"},{"$f":"IF(ROWS(GPS_IMPORT!$1:1)<=COUNTIF(GPS_IMPORT!$A$2:$A$10000,$B$5),INDEX(GPS_IMPORT!$2:$10000,MATCH($B$5,(GPS_IMPORT!$A$2:$A$10000),0)+ROWS($1:1)-1,COLUMN()-1),0)","v":"12.18.2018"},{"$f":"IF(ROWS(GPS_IMPORT!$1:1)<=COUNTIF(GPS_IMPORT!$A$2:$A$10000,$B$5),INDEX(GPS_IMPORT!$2:$10000,MATCH($B$5,(GPS_IMPORT!$A$2:$A$10000),0)+ROWS($1:1)-1,COLUMN()-1),0)","v":"12:32:39.580"},{"$f":"IF(ROWS(GPS_IMPORT!$1:1)<=COUNTIF(GPS_IMPORT!$A$2:$A$10000,$B$5),INDEX(GPS_IMPORT!$2:$10000,MATCH($B$5,(GPS_IMPORT!$A$2:$A$10000),0)+ROWS($1:1)-1,COLUMN()-1),0)","v":345088.59927522403},{"$f":"IF(ROWS(GPS_IMPORT!$1:1)<=COUNTIF(GPS_IMPORT!$A$2:$A$10000,$B$5),INDEX(GPS_IMPORT!$2:$10000,MATCH($B$5,(GPS_IMPORT!$A$2:$A$10000),0)+ROWS($1:1)-1,COLUMN()-1),0)","v":2283322.6590171},{"$f":"IF(ROWS(GPS_IMPORT!$1:1)<=COUNTIF(GPS_IMPORT!$A$2:$A$10000,$B$5),INDEX(GPS_IMPORT!$2:$10000,MATCH($B$5,(GPS_IMPORT!$A$2:$A$10000),0)+ROWS($1:1)-1,COLUMN()-1),0)","v":979.37042344452004},{"$f":"IF(E7>0,E$22-E7,0)","v":1.2279828253667802E-2},1.021982729434967E-2,-2.9227769086674016E-2,true]
[2,{"$f":"IF(ROWS(GPS_IMPORT!$1:2)<=COUNTIF(GPS_IMPORT!$A$2:$A$10000,$B$5),INDEX(GPS_IMPORT!$2:$10000,MATCH($B$5,(GPS_IMPORT!$A$2:$A$10000),0)+ROWS($1:2)-1,COLUMN()-1),0)","v":"GS21"},{"$f":"IF(ROWS(GPS_IMPORT!$1:2)<=COUNTIF(GPS_IMPORT!$A$2:$A$10000,$B$5),INDEX(GPS_IMPORT!$2:$10000,MATCH($B$5,(GPS_IMPORT!$A$2:$A$10000),0)+ROWS($1:2)-1,COLUMN()-1),0)","v":"12.18.2018"},{"$f":"IF(ROWS(GPS_IMPORT!$1:2)<=COUNTIF(GPS_IMPORT!$A$2:$A$10000,$B$5),INDEX(GPS_IMPORT!$2:$10000,MATCH($B$5,(GPS_IMPORT!$A$2:$A$10000),0)+ROWS($1:2)-1,COLUMN()-1),0)","v":"12:32:53.390"},{"$f":"IF(ROWS(GPS_IMPORT!$1:2)<=COUNTIF(GPS_IMPORT!$A$2:$A$10000,$B$5),INDEX(GPS_IMPORT!$2:$10000,MATCH($B$5,(GPS_IMPORT!$A$2:$A$10000),0)+ROWS($1:2)-1,COLUMN()-1),0)","v":345088.599094212},{"$f":"IF(ROWS(GPS_IMPORT!$1:2)<=COUNTIF(GPS_IMPORT!$A$2:$A$10000,$B$5),INDEX(GPS_IMPORT!$2:$10000,MATCH($B$5,(GPS_IMPORT!$A$2:$A$10000),0)+ROWS($1:2)-1,COLUMN()-1),0)","v":2283322.6552152401},{"$f":"IF(ROWS(GPS_IMPORT!$1:2)<=COUNTIF(GPS_IMPORT!$A$2:$A$10000,$B$5),INDEX(GPS_IMPORT!$2:$10000,MATCH($B$5,(GPS_IMPORT!$A$2:$A$10000),0)+ROWS($1:2)-1,COLUMN()-1),0)","v":979.36772961157999},1.2460840283893049E-2,1.4021687209606171E-2,-2.6533936146620363E-2,true]
[3,{"$f":"IF(ROWS(GPS_IMPORT!$1:3)<=COUNTIF(GPS_IMPORT!$A$2:$A$10000,$B$5),INDEX(GPS_IMPORT!$2:$10000,MATCH($B$5,(GPS_IMPORT!$A$2:$A$10000),0)+ROWS($1:3)-1,COLUMN()-1),0)","v":"GS21"},{"$f":"IF(ROWS(GPS_IMPORT!$1:3)<=COUNTIF(GPS_IMPORT!$A$2:$A$10000,$B$5),INDEX(GPS_IMPORT!$2:$10000,MATCH($B$5,(GPS_IMPORT!$A$2:$A$10000),0)+ROWS($1:3)-1,COLUMN()-1),0)","v":"12.18.2018"},{"$f":"IF(ROWS(GPS_IMPORT!$1:3)<=COUNTIF(GPS_IMPORT!$A$2:$A$10000,$B$5),INDEX(GPS_IMPORT!$2:$10000,MATCH($B$5,(GPS_IMPORT!$A$2:$A$10000),0)+ROWS($1:3)-1,COLUMN()-1),0)","v":"12:33:09.200"},{"$f":"IF(ROWS(GPS_IMPORT!$1:3)<=COUNTIF(GPS_IMPORT!$A$2:$A$10000,$B$5),INDEX(GPS_IMPORT!$2:$10000,MATCH($B$5,(GPS_IMPORT!$A$2:$A$10000),0)+ROWS($1:3)-1,COLUMN()-1),0)","v":345088.61867311702},{"$f":"IF(ROWS(GPS_IMPORT!$1:3)<=COUNTIF(GPS_IMPORT!$A$2:$A$10000,$B$5),INDEX(GPS_IMPORT!$2:$10000,MATCH($B$5,(GPS_IMPORT!$A$2:$A$10000),0)+ROWS($1:3)-1,COLUMN()-1),0)","v":2283322.66895709},{"$f":"IF(ROWS(GPS_IMPORT!$1:3)<=COUNTIF(GPS_IMPORT!$A$2:$A$10000,$B$5),INDEX(GPS_IMPORT!$2:$10000,MATCH($B$5,(GPS_IMPORT!$A$2:$A$10000),0)+ROWS($1:3)-1,COLUMN()-1),0)","v":979.3589231126},-7.1180647355504334E-3,2.7983728796243668E-4,-1.7727437166627169E-2,true]
[4,{"$f":"IF(ROWS(GPS_IMPORT!$1:4)<=COUNTIF(GPS_IMPORT!$A$2:$A$10000,$B$5),INDEX(GPS_IMPORT!$2:$10000,MATCH($B$5,(GPS_IMPORT!$A$2:$A$10000),0)+ROWS($1:4)-1,COLUMN()-1),0)","v":"GS21"},{"$f":"IF(ROWS(GPS_IMPORT!$1:4)<=COUNTIF(GPS_IMPORT!$A$2:$A$10000,$B$5),INDEX(GPS_IMPORT!$2:$10000,MATCH($B$5,(GPS_IMPORT!$A$2:$A$10000),0)+ROWS($1:4)-1,COLUMN()-1),0)","v":"12.18.2018"},{"$f":"IF(ROWS(GPS_IMPORT!$1:4)<=COUNTIF(GPS_IMPORT!$A$2:$A$10000,$B$5),INDEX(GPS_IMPORT!$2:$10000,MATCH($B$5,(GPS_IMPORT!$A$2:$A$10000),0)+ROWS($1:4)-1,COLUMN()-1),0)","v":"12:33:21.730"},{"$f":"IF(ROWS(GPS_IMPORT!$1:4)<=COUNTIF(GPS_IMPORT!$A$2:$A$10000,$B$5),INDEX(GPS_IMPORT!$2:$10000,MATCH($B$5,(GPS_IMPORT!$A$2:$A$10000),0)+ROWS($1:4)-1,COLUMN()-1),0)","v":345088.61331472697},{"$f":"IF(ROWS(GPS_IMPORT!$1:4)<=COUNTIF(GPS_IMPORT!$A$2:$A$10000,$B$5),INDEX(GPS_IMPORT!$2:$10000,MATCH($B$5,(GPS_IMPORT!$A$2:$A$10000),0)+ROWS($1:4)-1,COLUMN()-1),0)","v":2283322.6523772799},{"$f":"IF(ROWS(GPS_IMPORT!$1:4)<=COUNTIF(GPS_IMPORT!$A$2:$A$10000,$B$5),INDEX(GPS_IMPORT!$2:$10000,MATCH($B$5,(GPS_IMPORT!$A$2:$A$10000),0)+ROWS($1:4)-1,COLUMN()-1),0)","v":979.33362801428996},-1.7596746911294758E-3,1.685964735224843E-2,7.5676611434118968E-3,true]
[5,{"$f":"IF(ROWS(GPS_IMPORT!$1:5)<=COUNTIF(GPS_IMPORT!$A$2:$A$10000,$B$5),INDEX(GPS_IMPORT!$2:$10000,MATCH($B$5,(GPS_IMPORT!$A$2:$A$10000),0)+ROWS($1:5)-1,COLUMN()-1),0)","v":"GS21"},{"$f":"IF(ROWS(GPS_IMPORT!$1:5)<=COUNTIF(GPS_IMPORT!$A$2:$A$10000,$B$5),INDEX(GPS_IMPORT!$2:$10000,MATCH($B$5,(GPS_IMPORT!$A$2:$A$10000),0)+ROWS($1:5)-1,COLUMN()-1),0)","v":"12.18.2018"},{"$f":"IF(ROWS(GPS_IMPORT!$1:5)<=COUNTIF(GPS_IMPORT!$A$2:$A$10000,$B$5),INDEX(GPS_IMPORT!$2:$10000,MATCH($B$5,(GPS_IMPORT!$A$2:$A$10000),0)+ROWS($1:5)-1,COLUMN()-1),0)","v":"12:33:48.450"},{"$f":"IF(ROWS(GPS_IMPORT!$1:5)<=COUNTIF(GPS_IMPORT!$A$2:$A$10000,$B$5),INDEX(GPS_IMPORT!$2:$10000,MATCH($B$5,(GPS_IMPORT!$A$2:$A$10000),0)+ROWS($1:5)-1,COLUMN()-1),0)","v":345088.60426965199},{"$f":"IF(ROWS(GPS_IMPORT!$1:5)<=COUNTIF(GPS_IMPORT!$A$2:$A$10000,$B$5),INDEX(GPS_IMPORT!$2:$10000,MATCH($B$5,(GPS_IMPORT!$A$2:$A$10000),0)+ROWS($1:5)-1,COLUMN()-1),0)","v":2283322.6548821498},{"$f":"IF(ROWS(GPS_IMPORT!$1:5)<=COUNTIF(GPS_IMPORT!$A$2:$A$10000,$B$5),INDEX(GPS_IMPORT!$2:$10000,MATCH($B$5,(GPS_IMPORT!$A$2:$A$10000),0)+ROWS($1:5)-1,COLUMN()-1),0)","v":979.36490823231998},7.2854002937674522E-3,1.435477752238512E-2,-2.3712556886607672E-2,true]
[6,{"$f":"IF(ROWS(GPS_IMPORT!$1:6)<=COUNTIF(GPS_IMPORT!$A$2:$A$10000,$B$5),INDEX(GPS_IMPORT!$2:$10000,MATCH($B$5,(GPS_IMPORT!$A$2:$A$10000),0)+ROWS($1:6)-1,COLUMN()-1),0)","v":"GS21"},{"$f":"IF(ROWS(GPS_IMPORT!$1:6)<=COUNTIF(GPS_IMPORT!$A$2:$A$10000,$B$5),INDEX(GPS_IMPORT!$2:$10000,MATCH($B$5,(GPS_IMPORT!$A$2:$A$10000),0)+ROWS($1:6)-1,COLUMN()-1),0)","v":"12.18.2018"},{"$f":"IF(ROWS(GPS_IMPORT!$1:6)<=COUNTIF(GPS_IMPORT!$A$2:$A$10000,$B$5),INDEX(GPS_IMPORT!$2:$10000,MATCH($B$5,(GPS_IMPORT!$A$2:$A$10000),0)+ROWS($1:6)-1,COLUMN()-1),0)","v":"12:34:00.560"},{"$f":"IF(ROWS(GPS_IMPORT!$1:6)<=COUNTIF(GPS_IMPORT!$A$2:$A$10000,$B$5),INDEX(GPS_IMPORT!$2:$10000,MATCH($B$5,(GPS_IMPORT!$A$2:$A$10000),0)+ROWS($1:6)-1,COLUMN()-1),0)","v":345088.613740823},{"$f":"IF(ROWS(GPS_IMPORT!$1:6)<=COUNTIF(GPS_IMPORT!$A$2:$A$10000,$B$5),INDEX(GPS_IMPORT!$2:$10000,MATCH($B$5,(GPS_IMPORT!$A$2:$A$10000),0)+ROWS($1:6)-1,COLUMN()-1),0)","v":2283322.6688744598},{"$f":"IF(ROWS(GPS_IMPORT!$1:6)<=COUNTIF(GPS_IMPORT!$A$2:$A$10000,$B$5),INDEX(GPS_IMPORT!$2:$10000,MATCH($B$5,(GPS_IMPORT!$A$2:$A$10000),0)+ROWS($1:6)-1,COLUMN()-1),0)","v":979.34344640178006},-2.1857707179151475E-3,3.6246748641133308E-4,-2.2507263466877703E-3,true]
[7,{"$f":"IF(ROWS(GPS_IMPORT!$1:7)<=COUNTIF(GPS_IMPORT!$A$2:$A$10000,$B$5),INDEX(GPS_IMPORT!$2:$10000,MATCH($B$5,(GPS_IMPORT!$A$2:$A$10000),0)+ROWS($1:7)-1,COLUMN()-1),0)","v":"GS21"},{"$f":"IF(ROWS(GPS_IMPORT!$1:7)<=COUNTIF(GPS_IMPORT!$A$2:$A$10000,$B$5),INDEX(GPS_IMPORT!$2:$10000,MATCH($B$5,(GPS_IMPORT!$A$2:$A$10000),0)+ROWS($1:7)-1,COLUMN()-1),0)","v":"12.18.2018"},{"$f":"IF(ROWS(GPS_IMPORT!$1:7)<=COUNTIF(GPS_IMPORT!$A$2:$A$10000,$B$5),INDEX(GPS_IMPORT!$2:$10000,MATCH($B$5,(GPS_IMPORT!$A$2:$A$10000),0)+ROWS($1:7)-1,COLUMN()-1),0)","v":"12:34:15.220"},{"$f":"IF(ROWS(GPS_IMPORT!$1:7)<=COUNTIF(GPS_IMPORT!$A$2:$A$10000,$B$5),INDEX(GPS_IMPORT!$2:$10000,MATCH($B$5,(GPS_IMPORT!$A$2:$A$10000),0)+ROWS($1:7)-1,COLUMN()-1),0)","v":345088.60928112897},{"$f":"IF(ROWS(GPS_IMPORT!$1:7)<=COUNTIF(GPS_IMPORT!$A$2:$A$10000,$B$5),INDEX(GPS_IMPORT!$2:$10000,MATCH($B$5,(GPS_IMPORT!$A$2:$A$10000),0)+ROWS($1:7)-1,COLUMN()-1),0)","v":2283322.67344474},{"$f":"IF(ROWS(GPS_IMPORT!$1:7)<=COUNTIF(GPS_IMPORT!$A$2:$A$10000,$B$5),INDEX(GPS_IMPORT!$2:$10000,MATCH($B$5,(GPS_IMPORT!$A$2:$A$10000),0)+ROWS($1:7)-1,COLUMN()-1),0)","v":979.32734084781998},2.2739233099855483E-3,-4.2078127153217793E-3,1.3854827613386078E-2,true]
[8,{"$f":"IF(ROWS(GPS_IMPORT!$1:8)<=COUNTIF(GPS_IMPORT!$A$2:$A$10000,$B$5),INDEX(GPS_IMPORT!$2:$10000,MATCH($B$5,(GPS_IMPORT!$A$2:$A$10000),0)+ROWS($1:8)-1,COLUMN()-1),0)","v":"GS21"},{"$f":"IF(ROWS(GPS_IMPORT!$1:8)<=COUNTIF(GPS_IMPORT!$A$2:$A$10000,$B$5),INDEX(GPS_IMPORT!$2:$10000,MATCH($B$5,(GPS_IMPORT!$A$2:$A$10000),0)+ROWS($1:8)-1,COLUMN()-1),0)","v":"12.18.2018"},{"$f":"IF(ROWS(GPS_IMPORT!$1:8)<=COUNTIF(GPS_IMPORT!$A$2:$A$10000,$B$5),INDEX(GPS_IMPORT!$2:$10000,MATCH($B$5,(GPS_IMPORT!$A$2:$A$10000),0)+ROWS($1:8)-1,COLUMN()-1),0)","v":"12:34:28.210"},{"$f":"IF(ROWS(GPS_IMPORT!$1:8)<=COUNTIF(GPS_IMPORT!$A$2:$A$10000,$B$5),INDEX(GPS_IMPORT!$2:$10000,MATCH($B$5,(GPS_IMPORT!$A$2:$A$10000),0)+ROWS($1:8)-1,COLUMN()-1),0)","v":345088.61066292197},{"$f":"IF(ROWS(GPS_IMPORT!$1:8)<=COUNTIF(GPS_IMPORT!$A$2:$A$10000,$B$5),INDEX(GPS_IMPORT!$2:$10000,MATCH($B$5,(GPS_IMPORT!$A$2:$A$10000),0)+ROWS($1:8)-1,COLUMN()-1),0)","v":2283322.67521333},{"$f":"IF(ROWS(GPS_IMPORT!$1:8)<=COUNTIF(GPS_IMPORT!$A$2:$A$10000,$B$5),INDEX(GPS_IMPORT!$2:$10000,MATCH($B$5,(GPS_IMPORT!$A$2:$A$10000),0)+ROWS($1:8)-1,COLUMN()-1),0)","v":979.34570926362005},8.9213030878454447E-4,-5.9764026664197445E-3,-4.5135881866826821E-3,true]
[9,{"$f":"IF(ROWS(GPS_IMPORT!$1:9)<=COUNTIF(GPS_IMPORT!$A$2:$A$10000,$B$5),INDEX(GPS_IMPORT!$2:$10000,MATCH($B$5,(GPS_IMPORT!$A$2:$A$10000),0)+ROWS($1:9)-1,COLUMN()-1),0)","v":"GS21"},{"$f":"IF(ROWS(GPS_IMPORT!$1:9)<=COUNTIF(GPS_IMPORT!$A$2:$A$10000,$B$5),INDEX(GPS_IMPORT!$2:$10000,MATCH($B$5,(GPS_IMPORT!$A$2:$A$10000),0)+ROWS($1:9)-1,COLUMN()-1),0)","v":"12.18.2018"},{"$f":"IF(ROWS(GPS_IMPORT!$1:9)<=COUNTIF(GPS_IMPORT!$A$2:$A$10000,$B$5),INDEX(GPS_IMPORT!$2:$10000,MATCH($B$5,(GPS_IMPORT!$A$2:$A$10000),0)+ROWS($1:9)-1,COLUMN()-1),0)","v":"12:34:50.340"},{"$f":"IF(ROWS(GPS_IMPORT!$1:9)<=COUNTIF(GPS_IMPORT!$A$2:$A$10000,$B$5),INDEX(GPS_IMPORT!$2:$10000,MATCH($B$5,(GPS_IMPORT!$A$2:$A$10000),0)+ROWS($1:9)-1,COLUMN()-1),0)","v":345088.62050324603},{"$f":"IF(ROWS(GPS_IMPORT!$1:9)<=COUNTIF(GPS_IMPORT!$A$2:$A$10000,$B$5),INDEX(GPS_IMPORT!$2:$10000,MATCH($B$5,(GPS_IMPORT!$A$2:$A$10000),0)+ROWS($1:9)-1,COLUMN()-1),0)","v":2283322.6744870502},{"$f":"IF(ROWS(GPS_IMPORT!$1:9)<=COUNTIF(GPS_IMPORT!$A$2:$A$10000,$B$5),INDEX(GPS_IMPORT!$2:$10000,MATCH($B$5,(GPS_IMPORT!$A$2:$A$10000),0)+ROWS($1:9)-1,COLUMN()-1),0)","v":979.33685588693004},-8.9481937466189265E-3,-5.2501228637993336E-3,4.3397885033300554E-3,true]
[10,{"$f":"IF(ROWS(GPS_IMPORT!$1:10)<=COUNTIF(GPS_IMPORT!$A$2:$A$10000,$B$5),INDEX(GPS_IMPORT!$2:$10000,MATCH($B$5,(GPS_IMPORT!$A$2:$A$10000),0)+ROWS($1:10)-1,COLUMN()-1),0)","v":"GS21"},{"$f":"IF(ROWS(GPS_IMPORT!$1:10)<=COUNTIF(GPS_IMPORT!$A$2:$A$10000,$B$5),INDEX(GPS_IMPORT!$2:$10000,MATCH($B$5,(GPS_IMPORT!$A$2:$A$10000),0)+ROWS($1:10)-1,COLUMN()-1),0)","v":"12.18.2018"},{"$f":"IF(ROWS(GPS_IMPORT!$1:10)<=COUNTIF(GPS_IMPORT!$A$2:$A$10000,$B$5),INDEX(GPS_IMPORT!$2:$10000,MATCH($B$5,(GPS_IMPORT!$A$2:$A$10000),0)+ROWS($1:10)-1,COLUMN()-1),0)","v":"12:35:02.850"},{"$f":"IF(ROWS(GPS_IMPORT!$1:10)<=COUNTIF(GPS_IMPORT!$A$2:$A$10000,$B$5),INDEX(GPS_IMPORT!$2:$10000,MATCH($B$5,(GPS_IMPORT!$A$2:$A$10000),0)+ROWS($1:10)-1,COLUMN()-1),0)","v":345088.61525092},{"$f":"IF(ROWS(GPS_IMPORT!$1:10)<=COUNTIF(GPS_IMPORT!$A$2:$A$10000,$B$5),INDEX(GPS_IMPORT!$2:$10000,MATCH($B$5,(GPS_IMPORT!$A$2:$A$10000),0)+ROWS($1:10)-1,COLUMN()-1),0)","v":2283322.6846858501},{"$f":"IF(ROWS(GPS_IMPORT!$1:10)<=COUNTIF(GPS_IMPORT!$A$2:$A$10000,$B$5),INDEX(GPS_IMPORT!$2:$10000,MATCH($B$5,(GPS_IMPORT!$A$2:$A$10000),0)+ROWS($1:10)-1,COLUMN()-1),0)","v":979.33305698453},-3.6958677228540182E-3,-1.5448922757059336E-2,8.1386909033653865E-3,true]
[11,{"$f":"IF(ROWS(GPS_IMPORT!$1:11)<=COUNTIF(GPS_IMPORT!$A$2:$A$10000,$B$5),INDEX(GPS_IMPORT!$2:$10000,MATCH($B$5,(GPS_IMPORT!$A$2:$A$10000),0)+ROWS($1:11)-1,COLUMN()-1),0)","v":"GS21"},{"$f":"IF(ROWS(GPS_IMPORT!$1:11)<=COUNTIF(GPS_IMPORT!$A$2:$A$10000,$B$5),INDEX(GPS_IMPORT!$2:$10000,MATCH($B$5,(GPS_IMPORT!$A$2:$A$10000),0)+ROWS($1:11)-1,COLUMN()-1),0)","v":"12.18.2018"},{"$f":"IF(ROWS(GPS_IMPORT!$1:11)<=COUNTIF(GPS_IMPORT!$A$2:$A$10000,$B$5),INDEX(GPS_IMPORT!$2:$10000,MATCH($B$5,(GPS_IMPORT!$A$2:$A$10000),0)+ROWS($1:11)-1,COLUMN()-1),0)","v":"12:35:15.160"},{"$f":"IF(ROWS(GPS_IMPORT!$1:11)<=COUNTIF(GPS_IMPORT!$A$2:$A$10000,$B$5),INDEX(GPS_IMPORT!$2:$10000,MATCH($B$5,(GPS_IMPORT!$A$2:$A$10000),0)+ROWS($1:11)-1,COLUMN()-1),0)","v":345088.61576872098},{"$f":"IF(ROWS(GPS_IMPORT!$1:11)<=COUNTIF(GPS_IMPORT!$A$2:$A$10000,$B$5),INDEX(GPS_IMPORT!$2:$10000,MATCH($B$5,(GPS_IMPORT!$A$2:$A$10000),0)+ROWS($1:11)-1,COLUMN()-1),0)","v":2283322.68357429},{"$f":"IF(ROWS(GPS_IMPORT!$1:11)<=COUNTIF(GPS_IMPORT!$A$2:$A$10000,$B$5),INDEX(GPS_IMPORT!$2:$10000,MATCH($B$5,(GPS_IMPORT!$A$2:$A$10000),0)+ROWS($1:11)-1,COLUMN()-1),0)","v":979.31209752940003},-4.2136686970479786E-3,-1.4337362721562386E-2,2.909814603333416E-2,true]
[12,{"$f":"IF(ROWS(GPS_IMPORT!$1:12)<=COUNTIF(GPS_IMPORT!$A$2:$A$10000,$B$5),INDEX(GPS_IMPORT!$2:$10000,MATCH($B$5,(GPS_IMPORT!$A$2:$A$10000),0)+ROWS($1:12)-1,COLUMN()-1),0)","v":"GS21"},{"$f":"IF(ROWS(GPS_IMPORT!$1:12)<=COUNTIF(GPS_IMPORT!$A$2:$A$10000,$B$5),INDEX(GPS_IMPORT!$2:$10000,MATCH($B$5,(GPS_IMPORT!$A$2:$A$10000),0)+ROWS($1:12)-1,COLUMN()-1),0)","v":"12.18.2018"},{"$f":"IF(ROWS(GPS_IMPORT!$1:12)<=COUNTIF(GPS_IMPORT!$A$2:$A$10000,$B$5),INDEX(GPS_IMPORT!$2:$10000,MATCH($B$5,(GPS_IMPORT!$A$2:$A$10000),0)+ROWS($1:12)-1,COLUMN()-1),0)","v":"12:35:28.190"},{"$f":"IF(ROWS(GPS_IMPORT!$1:12)<=COUNTIF(GPS_IMPORT!$A$2:$A$10000,$B$5),INDEX(GPS_IMPORT!$2:$10000,MATCH($B$5,(GPS_IMPORT!$A$2:$A$10000),0)+ROWS($1:12)-1,COLUMN()-1),0)","v":345088.618825935},{"$f":"IF(ROWS(GPS_IMPORT!$1:12)<=COUNTIF(GPS_IMPORT!$A$2:$A$10000,$B$5),INDEX(GPS_IMPORT!$2:$10000,MATCH($B$5,(GPS_IMPORT!$A$2:$A$10000),0)+ROWS($1:12)-1,COLUMN()-1),0)","v":2283322.6801145501},{"$f":"IF(ROWS(GPS_IMPORT!$1:12)<=COUNTIF(GPS_IMPORT!$A$2:$A$10000,$B$5),INDEX(GPS_IMPORT!$2:$10000,MATCH($B$5,(GPS_IMPORT!$A$2:$A$10000),0)+ROWS($1:12)-1,COLUMN()-1),0)","v":979.30022877580996},-7.2708827210590243E-3,-1.0877622757107019E-2,4.0966899623413155E-2,true]
[13,{"$f":"IF(ROWS(GPS_IMPORT!$1:13)<=COUNTIF(GPS_IMPORT!$A$2:$A$10000,$B$5),INDEX(GPS_IMPORT!$2:$10000,MATCH($B$5,(GPS_IMPORT!$A$2:$A$10000),0)+ROWS($1:13)-1,COLUMN()-1),0)","v":0},{"$f":"IF(ROWS(GPS_IMPORT!$1:13)<=COUNTIF(GPS_IMPORT!$A$2:$A$10000,$B$5),INDEX(GPS_IMPORT!$2:$10000,MATCH($B$5,(GPS_IMPORT!$A$2:$A$10000),0)+ROWS($1:13)-1,COLUMN()-1),0)","v":"00:00:00"},{"$f":"IF(ROWS(GPS_IMPORT!$1:13)<=COUNTIF(GPS_IMPORT!$A$2:$A$10000,$B$5),INDEX(GPS_IMPORT!$2:$10000,MATCH($B$5,(GPS_IMPORT!$A$2:$A$10000),0)+ROWS($1:13)-1,COLUMN()-1),0)","v":"00:00:00"},{"$f":"IF(ROWS(GPS_IMPORT!$1:13)<=COUNTIF(GPS_IMPORT!$A$2:$A$10000,$B$5),INDEX(GPS_IMPORT!$2:$10000,MATCH($B$5,(GPS_IMPORT!$A$2:$A$10000),0)+ROWS($1:13)-1,COLUMN()-1),0)","v":0},{"$f":"IF(ROWS(GPS_IMPORT!$1:13)<=COUNTIF(GPS_IMPORT!$A$2:$A$10000,$B$5),INDEX(GPS_IMPORT!$2:$10000,MATCH($B$5,(GPS_IMPORT!$A$2:$A$10000),0)+ROWS($1:13)-1,COLUMN()-1),0)","v":0},{"$f":"IF(ROWS(GPS_IMPORT!$1:13)<=COUNTIF(GPS_IMPORT!$A$2:$A$10000,$B$5),INDEX(GPS_IMPORT!$2:$10000,MATCH($B$5,(GPS_IMPORT!$A$2:$A$10000),0)+ROWS($1:13)-1,COLUMN()-1),0)","v":0},{"$f":"IF(E19>0,E$22-E19,0)","v":0},0,0,false]
[14,{"$f":"IF(ROWS(GPS_IMPORT!$1:14)<=COUNTIF(GPS_IMPORT!$A$2:$A$10000,$B$5),INDEX(GPS_IMPORT!$2:$10000,MATCH($B$5,(GPS_IMPORT!$A$2:$A$10000),0)+ROWS($1:14)-1,COLUMN()-1),0)","v":0},{"$f":"IF(ROWS(GPS_IMPORT!$1:14)<=COUNTIF(GPS_IMPORT!$A$2:$A$10000,$B$5),INDEX(GPS_IMPORT!$2:$10000,MATCH($B$5,(GPS_IMPORT!$A$2:$A$10000),0)+ROWS($1:14)-1,COLUMN()-1),0)","v":"00:00:00"},{"$f":"IF(ROWS(GPS_IMPORT!$1:14)<=COUNTIF(GPS_IMPORT!$A$2:$A$10000,$B$5),INDEX(GPS_IMPORT!$2:$10000,MATCH($B$5,(GPS_IMPORT!$A$2:$A$10000),0)+ROWS($1:14)-1,COLUMN()-1),0)","v":"00:00:00"},{"$f":"IF(ROWS(GPS_IMPORT!$1:14)<=COUNTIF(GPS_IMPORT!$A$2:$A$10000,$B$5),INDEX(GPS_IMPORT!$2:$10000,MATCH($B$5,(GPS_IMPORT!$A$2:$A$10000),0)+ROWS($1:14)-1,COLUMN()-1),0)","v":0},{"$f":"IF(ROWS(GPS_IMPORT!$1:14)<=COUNTIF(GPS_IMPORT!$A$2:$A$10000,$B$5),INDEX(GPS_IMPORT!$2:$10000,MATCH($B$5,(GPS_IMPORT!$A$2:$A$10000),0)+ROWS($1:14)-1,COLUMN()-1),0)","v":0},{"$f":"IF(ROWS(GPS_IMPORT!$1:14)<=COUNTIF(GPS_IMPORT!$A$2:$A$10000,$B$5),INDEX(GPS_IMPORT!$2:$10000,MATCH($B$5,(GPS_IMPORT!$A$2:$A$10000),0)+ROWS($1:14)-1,COLUMN()-1),0)","v":0},0,0,0,false]
[15,{"$f":"IF(ROWS(GPS_IMPORT!$1:15)<=COUNTIF(GPS_IMPORT!$A$2:$A$10000,$B$5),INDEX(GPS_IMPORT!$2:$10000,MATCH($B$5,(GPS_IMPORT!$A$2:$A$10000),0)+ROWS($1:15)-1,COLUMN()-1),0)","v":0},{"$f":"IF(ROWS(GPS_IMPORT!$1:15)<=COUNTIF(GPS_IMPORT!$A$2:$A$10000,$B$5),INDEX(GPS_IMPORT!$2:$10000,MATCH($B$5,(GPS_IMPORT!$A$2:$A$10000),0)+ROWS($1:15)-1,COLUMN()-1),0)","v":"00:00:00"},{"$f":"IF(ROWS(GPS_IMPORT!$1:15)<=COUNTIF(GPS_IMPORT!$A$2:$A$10000,$B$5),INDEX(GPS_IMPORT!$2:$10000,MATCH($B$5,(GPS_IMPORT!$A$2:$A$10000),0)+ROWS($1:15)-1,COLUMN()-1),0)","v":"00:00:00"},{"$f":"IF(ROWS(GPS_IMPORT!$1:15)<=COUNTIF(GPS_IMPORT!$A$2:$A$10000,$B$5),INDEX(GPS_IMPORT!$2:$10000,MATCH($B$5,(GPS_IMPORT!$A$2:$A$10000),0)+ROWS($1:15)-1,COLUMN()-1),0)","v":0},{"$f":"IF(ROWS(GPS_IMPORT!$1:15)<=COUNTIF(GPS_IMPORT!$A$2:$A$10000,$B$5),INDEX(GPS_IMPORT!$2:$10000,MATCH($B$5,(GPS_IMPORT!$A$2:$A$10000),0)+ROWS($1:15)-1,COLUMN()-1),0)","v":0},{"$f":"IF(ROWS(GPS_IMPORT!$1:15)<=COUNTIF(GPS_IMPORT!$A$2:$A$10000,$B$5),INDEX(GPS_IMPORT!$2:$10000,MATCH($B$5,(GPS_IMPORT!$A$2:$A$10000),0)+ROWS($1:15)-1,COLUMN()-1),0)","v":0},0,0,0,false]
[null,null,null,"AVERAGE",{"$f":"(IF($K$7=TRUE,E7,0)+IF($K$8=TRUE,E8,0)+IF($K$9=TRUE,E9,0)+IF($K$10=TRUE,E10,0)+IF($K$11=TRUE,E11,0)+IF($K$12=TRUE,E12,0)+IF($K$13=TRUE,E13,0)+IF($K$14=TRUE,E14,0)+IF($K$15=TRUE,E15,0)+IF($K$16=TRUE,E16,0)+IF($K$17=TRUE,E17,0)+IF($K$18=TRUE,E18,0)+IF($K$19=TRUE,E19,0)+IF($K$20=TRUE,E20,0)+IF($K$21=TRUE,E21,0))/(IF($K$7=TRUE,1,0)+IF($K$8=TRUE,1,0)+IF($K$9=TRUE,1,0)+IF($K$10=TRUE,1,0)+IF($K$11=TRUE,1,0)+IF($K$12=TRUE,1,0)+IF($K$13=TRUE,1,0)+IF($K$14=TRUE,1,0)+IF($K$15=TRUE,1,0)+IF($K$16=TRUE,1,0)+IF($K$17=TRUE,1,0)+IF($K$18=TRUE,1,0)+IF($K$19=TRUE,1,0)+IF($K$20=TRUE,1,0)+IF($K$21=TRUE,1,0))","v":345088.61155505228},{"$f":"(IF($K$7=TRUE,F7,0)+IF($K$8=TRUE,F8,0)+IF($K$9=TRUE,F9,0)+IF($K$10=TRUE,F10,0)+IF($K$11=TRUE,F11,0)+IF($K$12=TRUE,F12,0)+IF($K$13=TRUE,F13,0)+IF($K$14=TRUE,F14,0)+IF($K$15=TRUE,F15,0)+IF($K$16=TRUE,F16,0)+IF($K$17=TRUE,F17,0)+IF($K$18=TRUE,F18,0)+IF($K$19=TRUE,F19,0)+IF($K$20=TRUE,F20,0)+IF($K$21=TRUE,F21,0))/(IF($K$7=TRUE,1,0)+IF($K$8=TRUE,1,0)+IF($K$9=TRUE,1,0)+IF($K$10=TRUE,1,0)+IF($K$11=TRUE,1,0)+IF($K$12=TRUE,1,0)+IF($K$13=TRUE,1,0)+IF($K$14=TRUE,1,0)+IF($K$15=TRUE,1,0)+IF($K$16=TRUE,1,0)+IF($K$17=TRUE,1,0)+IF($K$18=TRUE,1,0)+IF($K$19=TRUE,1,0)+IF($K$20=TRUE,1,0)+IF($K$21=TRUE,1,0))","v":2283322.6692369273},{"$f":"(IF($K$7=TRUE,G7,0)+IF($K$8=TRUE,G8,0)+IF($K$9=TRUE,G9,0)+IF($K$10=TRUE,G10,0)+IF($K$11=TRUE,G11,0)+IF($K$12=TRUE,G12,0)+IF($K$13=TRUE,G13,0)+IF($K$14=TRUE,G14,0)+IF($K$15=TRUE,G15,0)+IF($K$16=TRUE,G16,0)+IF($K$17=TRUE,G17,0)+IF($K$18=TRUE,G18,0)+IF($K$19=TRUE,G19,0)+IF($K$20=TRUE,G20,0)+IF($K$21=TRUE,G21,0))/\n(IF($K$7=TRUE,1,0)+IF($K$8=TRUE,1,0)+IF($K$9=TRUE,1,0)+IF($K$10=TRUE,1,0)+IF($K$11=TRUE,1,0)+IF($K$12=TRUE,1,0)+IF($K$13=TRUE,1,0)+IF($K$14=TRUE,1,0)+IF($K$15=TRUE,1,0)+IF($K$16=TRUE,1,0)+IF($K$17=TRUE,1,0)+IF($K$18=TRUE,1,0)+IF($K$19=TRUE,1,0)+IF($K$20=TRUE,1,0)+IF($K$21=TRUE,1,0))","v":979.34119567543337},"RMSE:","RMSE:","RMSE:"]
[null,null,null,null,null,null,"RMSE IN US SURVEY FEET:",{"$f":"SQRT((\n(IF($K$7=TRUE,H7^2,0))+(IF($K$8=TRUE,H8^2,0))+(IF($K$9=TRUE,H9^2,0))+(IF($K$10=TRUE,H10^2,0))+(IF($K$11=TRUE,H11^2,0))+(IF($K$12=TRUE,H12^2,0))+(IF($K$13=TRUE,H13^2,0))+(IF($K$14=TRUE,H14^2,0))+(IF($K$15=TRUE,H15^2,0))+(IF($K$16=TRUE,H16^2,0))+(IF($K$17=TRUE,H17^2,0))+(IF($K$18=TRUE,H18^2,0))+(IF($K$19=TRUE,H19^2,0))+(IF($K$20=TRUE,H20^2,0))+(IF($K$21=TRUE,H21^2,0)))/\n(IF($K$7=TRUE,1,0)+IF($K$8=TRUE,1,0)+IF($K$9=TRUE,1,0)+IF($K$10=TRUE,1,0)+IF($K$11=TRUE,1,0)+IF($K$12=TRUE,1,0)+IF($K$13=TRUE,1,0)+IF($K$14=TRUE,1,0)+IF($K$15=TRUE,1,0)+IF($K$16=TRUE,1,0)+IF($K$17=TRUE,1,0)+IF($K$18=TRUE,1,0)+IF($K$19=TRUE,1,0)+IF($K$20=TRUE,1,0)+IF($K$21=TRUE,1,0)))","v":7.0000098028584262E-3},{"$f":"SQRT((\n(IF($K$7=TRUE,I7^2,0))+(IF($K$8=TRUE,I8^2,0))+(IF($K$9=TRUE,I9^2,0))+(IF($K$10=TRUE,I10^2,0))+(IF($K$11=TRUE,I11^2,0))+(IF($K$12=TRUE,I12^2,0))+(IF($K$13=TRUE,I13^2,0))+(IF($K$14=TRUE,I14^2,0))+(IF($K$15=TRUE,I15^2,0))+(IF($K$16=TRUE,I16^2,0))+(IF($K$17=TRUE,I17^2,0))+(IF($K$18=TRUE,I18^2,0))+(IF($K$19=TRUE,I19^2,0))+(IF($K$20=TRUE,I20^2,0))+(IF($K$21=TRUE,I21^2,0)))/\n(IF($K$7=TRUE,1,0)+IF($K$8=TRUE,1,0)+IF($K$9=TRUE,1,0)+IF($K$10=TRUE,1,0)+IF($K$11=TRUE,1,0)+IF($K$12=TRUE,1,0)+IF($K$13=TRUE,1,0)+IF($K$14=TRUE,1,0)+IF($K$15=TRUE,1,0)+IF($K$16=TRUE,1,0)+IF($K$17=TRUE,1,0)+IF($K$18=TRUE,1,0)+IF($K$19=TRUE,1,0)+IF($K$20=TRUE,1,0)+IF($K$21=TRUE,1,0)))","v":1.0935829293537536E-2},{"$f":"SQRT((\n(IF($K$7=TRUE,J7^2,0))+(IF($K$8=TRUE,J8^2,0))+(IF($K$9=TRUE,J9^2,0))+(IF($K$10=TRUE,J10^2,0))+(IF($K$11=TRUE,J11^2,0))+(IF($K$12=TRUE,J12^2,0))+(IF($K$13=TRUE,J13^2,0))+(IF($K$14=TRUE,J14^2,0))+(IF($K$15=TRUE,J15^2,0))+(IF($K$16=TRUE,J16^2,0))+(IF($K$17=TRUE,J17^2,0))+(IF($K$18=TRUE,J18^2,0))+(IF($K$19=TRUE,J19^2,0))+(IF($K$20=TRUE,J20^2,0))+(IF($K$21=TRUE,J21^2,0)))/\n(IF($K$7=TRUE,1,0)+IF($K$8=TRUE,1,0)+IF($K$9=TRUE,1,0)+IF($K$10=TRUE,1,0)+IF($K$11=TRUE,1,0)+IF($K$12=TRUE,1,0)+IF($K$13=TRUE,1,0)+IF($K$14=TRUE,1,0)+IF($K$15=TRUE,1,0)+IF($K$16=TRUE,1,0)+IF($K$17=TRUE,1,0)+IF($K$18=TRUE,1,0)+IF($K$19=TRUE,1,0)+IF($K$20=TRUE,1,0)+IF($K$21=TRUE,1,0)))","v":2.1054660307172648E-2}]
[null,null,null,1]
[null,null,"UNITLESS GRID TO GROUND MULTIPLIER",{"$f":"IF(REPORT!C13=\"n/a\",\"0.00000000\",REPORT!C13)","v":0},null,null,null,{"$f":"IF(H23<=0.029,\"PASS\",\"FAIL\")","v":"PASS"},{"$f":"IF(I23<=0.029,\"PASS\",\"FAIL\")","v":"PASS"},{"$f":"IF(J23<=0.039,\"PASS\",\"FAIL\")","v":"PASS"}]
[]
["AVERAGED GPS-DERIVED POSITION",null,null,null,null,null,null,null,"Notes:"]
[null,"MONUMENT COORDINATES",null,"NORTHING","EASTING","ORTHO HEIGHT"]
[null,"US Survey Feet (GRID)",null,{"$f":"$E$22","v":345088.61155505228},{"$f":"$F$22","v":2283322.6692369273},{"$f":"$G$22","v":979.34119567543337}]
[]
["LEVELED ELEVATION"]
["US SURVEY FEET",null,"N/A","(Type the leveled elevation or N/A if no leveled elevation is available)"]
["MONUMENT HELD",null,null,"(Type the monument name from which leveling originated)"]
["LEVELED ELEVATION - GPS DERIVED ELEVATION   = ",null,null,null,{"$f":"IF(C32=\"N/A\",\"N/A\",C32-(F29*D24))","v":"N/A"}]
[]
["FINAL MONUMENT COORDINATES"]
[null,"MONUMENT COORDINATES",null,"NORTHING","EASTING","ELEVATION","FEATURE CODE"]
[null,"US SURVEY FEET (GRID)",null,{"$f":"$E$22*$D$24","v":345088.61155505228},{"$f":"$F$22*$D$24","v":2283322.6692369273},{"$f":"IF($C$32=\"N/A\",($G$22*$D$24),$C$32)","v":979.34119567543337},"AERTAR"]
[null,"US SURVEY FEET (GROUND)",null,{"$f":"$D$38*$D$25","v":0},{"$f":"$E$38*$D$25","v":0},{"$f":"IF($C$32=\"N/A\",($G$22*$D$24),$C$32)","v":979.34119567543337},{"$f":"G38","v":"AERTAR"}]
[]
["∆ North,  ∆ East, and ∆ Ht. are the difference between the average northing, easting, and height for each observation.",null,null,null,null,null,null,null,"Mask Angle:","10°"]

{"sheet":"GS22","index":28,"n_rows":41,"n_cols":11,"rows_kept":41,"cut":false,"hidden":false,"merged":[[0,0,0,10],[26,0,26,6],[27,1,27,2],[27,8,38,10],[28,1,28,2],[30,0,30,6],[35,0,35,6],[36,1,36,2],[37,1,37,2],[38,1,38,2]]}
["VRS GNSS Project Control Monument Coordinate Analysis"]
[]
["Project:",{"$f":"REPORT!B2","v":"TUS-800-22.74"},"GPS Antenna:","LEICA GS14",null,null,null,null,null,"Report Date:",{"$f":"REPORT!C49","v":"2018-12-19"}]
["PID:",{"$f":"REPORT!E2","v":100603},"VRS Network:","ODOT VRS",null,null,null,null,null,"Prepared By:",{"$f":"REPORT!C48","v":"Kolton Wilson"}]
["Point ID:","GS22","No. of Sessions:",{"$f":"COUNTIF(GPS_IMPORT!A2:A1000,$B$5)","v":12},null,null,null,null,null,"Checked By:",{"$f":"REPORT!C52","v":"Joel Swick"}]
["SESSION #","Point","Observation Date","Start Time","Northing(sft)","Easting(sft)","Height(sft)","∆ Northing(sft)","∆ Easting(sft)","∆ Height(sft)","Include in Solution?"]
[1,{"$f":"IF(ROWS(GPS_IMPORT!$1:1)<=COUNTIF(GPS_IMPORT!$A$2:$A$10000,$B$5),INDEX(GPS_IMPORT!$2:$10000,MATCH($B$5,(GPS_IMPORT!$A$2:$A$10000),0)+ROWS($1:1)-1,COLUMN()-1),0)","v":"GS22"},{"$f":"IF(ROWS(GPS_IMPORT!$1:1)<=COUNTIF(GPS_IMPORT!$A$2:$A$10000,$B$5),INDEX(GPS_IMPORT!$2:$10000,MATCH($B$5,(GPS_IMPORT!$A$2:$A$10000),0)+ROWS($1:1)-1,COLUMN()-1),0)","v":"12.18.2018"},{"$f":"IF(ROWS(GPS_IMPORT!$1:1)<=COUNTIF(GPS_IMPORT!$A$2:$A$10000,$B$5),INDEX(GPS_IMPORT!$2:$10000,MATCH($B$5,(GPS_IMPORT!$A$2:$A$10000),0)+ROWS($1:1)-1,COLUMN()-1),0)","v":"12:41:47.610"},{"$f":"IF(ROWS(GPS_IMPORT!$1:1)<=COUNTIF(GPS_IMPORT!$A$2:$A$10000,$B$5),INDEX(GPS_IMPORT!$2:$10000,MATCH($B$5,(GPS_IMPORT!$A$2:$A$10000),0)+ROWS($1:1)-1,COLUMN()-1),0)","v":348538.28383697802},{"$f":"IF(ROWS(GPS_IMPORT!$1:1)<=COUNTIF(GPS_IMPORT!$A$2:$A$10000,$B$5),INDEX(GPS_IMPORT!$2:$10000,MATCH($B$5,(GPS_IMPORT!$A$2:$A$10000),0)+ROWS($1:1)-1,COLUMN()-1),0)","v":2281373.30692391},{"$f":"IF(ROWS(GPS_IMPORT!$1:1)<=COUNTIF(GPS_IMPORT!$A$2:$A$10000,$B$5),INDEX(GPS_IMPORT!$2:$10000,MATCH($B$5,(GPS_IMPORT!$A$2:$A$10000),0)+ROWS($1:1)-1,COLUMN()-1),0)","v":1125.6599070792299},{"$f":"IF(E7>0,E$22-E7,0)","v":2.9643837944604456E-2},-2.2711171768605709E-3,-2.8359222399103601E-3,true]
[2,{"$f":"IF(ROWS(GPS_IMPORT!$1:2)<=COUNTIF(GPS_IMPORT!$A$2:$A$10000,$B$5),INDEX(GPS_IMPORT!$2:$10000,MATCH($B$5,(GPS_IMPORT!$A$2:$A$10000),0)+ROWS($1:2)-1,COLUMN()-1),0)","v":"GS22"},{"$f":"IF(ROWS(GPS_IMPORT!$1:2)<=COUNTIF(GPS_IMPORT!$A$2:$A$10000,$B$5),INDEX(GPS_IMPORT!$2:$10000,MATCH($B$5,(GPS_IMPORT!$A$2:$A$10000),0)+ROWS($1:2)-1,COLUMN()-1),0)","v":"12.18.2018"},{"$f":"IF(ROWS(GPS_IMPORT!$1:2)<=COUNTIF(GPS_IMPORT!$A$2:$A$10000,$B$5),INDEX(GPS_IMPORT!$2:$10000,MATCH($B$5,(GPS_IMPORT!$A$2:$A$10000),0)+ROWS($1:2)-1,COLUMN()-1),0)","v":"12:41:59.230"},{"$f":"IF(ROWS(GPS_IMPORT!$1:2)<=COUNTIF(GPS_IMPORT!$A$2:$A$10000,$B$5),INDEX(GPS_IMPORT!$2:$10000,MATCH($B$5,(GPS_IMPORT!$A$2:$A$10000),0)+ROWS($1:2)-1,COLUMN()-1),0)","v":348538.29239588499},{"$f":"IF(ROWS(GPS_IMPORT!$1:2)<=COUNTIF(GPS_IMPORT!$A$2:$A$10000,$B$5),INDEX(GPS_IMPORT!$2:$10000,MATCH($B$5,(GPS_IMPORT!$A$2:$A$10000),0)+ROWS($1:2)-1,COLUMN()-1),0)","v":2281373.31085493},{"$f":"IF(ROWS(GPS_IMPORT!$1:2)<=COUNTIF(GPS_IMPORT!$A$2:$A$10000,$B$5),INDEX(GPS_IMPORT!$2:$10000,MATCH($B$5,(GPS_IMPORT!$A$2:$A$10000),0)+ROWS($1:2)-1,COLUMN()-1),0)","v":1125.67560968726},2.1084930980578065E-2,-6.2021370977163315E-3,-1.8538530270006959E-2,true]
[3,{"$f":"IF(ROWS(GPS_IMPORT!$1:3)<=COUNTIF(GPS_IMPORT!$A$2:$A$10000,$B$5),INDEX(GPS_IMPORT!$2:$10000,MATCH($B$5,(GPS_IMPORT!$A$2:$A$10000),0)+ROWS($1:3)-1,COLUMN()-1),0)","v":"GS22"},{"$f":"IF(ROWS(GPS_IMPORT!$1:3)<=COUNTIF(GPS_IMPORT!$A$2:$A$10000,$B$5),INDEX(GPS_IMPORT!$2:$10000,MATCH($B$5,(GPS_IMPORT!$A$2:$A$10000),0)+ROWS($1:3)-1,COLUMN()-1),0)","v":"12.18.2018"},{"$f":"IF(ROWS(GPS_IMPORT!$1:3)<=COUNTIF(GPS_IMPORT!$A$2:$A$10000,$B$5),INDEX(GPS_IMPORT!$2:$10000,MATCH($B$5,(GPS_IMPORT!$A$2:$A$10000),0)+ROWS($1:3)-1,COLUMN()-1),0)","v":"12:42:11.250"},{"$f":"IF(ROWS(GPS_IMPORT!$1:3)<=COUNTIF(GPS_IMPORT!$A$2:$A$10000,$B$5),INDEX(GPS_IMPORT!$2:$10000,MATCH($B$5,(GPS_IMPORT!$A$2:$A$10000),0)+ROWS($1:3)-1,COLUMN()-1),0)","v":348538.29198134999},{"$f":"IF(ROWS(GPS_IMPORT!$1:3)<=COUNTIF(GPS_IMPORT!$A$2:$A$10000,$B$5),INDEX(GPS_IMPORT!$2:$10000,MATCH($B$5,(GPS_IMPORT!$A$2:$A$10000),0)+ROWS($1:3)-1,COLUMN()-1),0)","v":2281373.3122410998},{"$f":"IF(ROWS(GPS_IMPORT!$1:3)<=COUNTIF(GPS_IMPORT!$A$2:$A$10000,$B$5),INDEX(GPS_IMPORT!$2:$10000,MATCH($B$5,(GPS_IMPORT!$A$2:$A$10000),0)+ROWS($1:3)-1,COLUMN()-1),0)","v":1125.6794079357801},2.1499465976376086E-2,-7.5883069075644016E-3,-2.2336778790077005E-2,true]
[4,{"$f":"IF(ROWS(GPS_IMPORT!$1:4)<=COUNTIF(GPS_IMPORT!$A$2:$A$10000,$B$5),INDEX(GPS_IMPORT!$2:$10000,MATCH($B$5,(GPS_IMPORT!$A$2:$A$10000),0)+ROWS($1:4)-1,COLUMN()-1),0)","v":"GS22"},{"$f":"IF(ROWS(GPS_IMPORT!$1:4)<=COUNTIF(GPS_IMPORT!$A$2:$A$10000,$B$5),INDEX(GPS_IMPORT!$2:$10000,MATCH($B$5,(GPS_IMPORT!$A$2:$A$10000),0)+ROWS($1:4)-1,COLUMN()-1),0)","v":"12.18.2018"},{"$f":"IF(ROWS(GPS_IMPORT!$1:4)<=COUNTIF(GPS_IMPORT!$A$2:$A$10000,$B$5),INDEX(GPS_IMPORT!$2:$10000,MATCH($B$5,(GPS_IMPORT!$A$2:$A$10000),0)+ROWS($1:4)-1,COLUMN()-1),0)","v":"12:42:22.110"},{"$f":"IF(ROWS(GPS_IMPORT!$1:4)<=COUNTIF(GPS_IMPORT!$A$2:$A$10000,$B$5),INDEX(GPS_IMPORT!$2:$10000,MATCH($B$5,(GPS_IMPORT!$A$2:$A$10000),0)+ROWS($1:4)-1,COLUMN()-1),0)","v":348538.32400091301},{"$f":"IF(ROWS(GPS_IMPORT!$1:4)<=COUNTIF(GPS_IMPORT!$A$2:$A$10000,$B$5),INDEX(GPS_IMPORT!$2:$10000,MATCH($B$5,(GPS_IMPORT!$A$2:$A$10000),0)+ROWS($1:4)-1,COLUMN()-1),0)","v":2281373.2842191998},{"$f":"IF(ROWS(GPS_IMPORT!$1:4)<=COUNTIF(GPS_IMPORT!$A$2:$A$10000,$B$5),INDEX(GPS_IMPORT!$2:$10000,MATCH($B$5,(GPS_IMPORT!$A$2:$A$10000),0)+ROWS($1:4)-1,COLUMN()-1),0)","v":1125.6476101533799},-1.0520097042899579E-2,2.0433593075722456E-2,9.461003610113039E-3,true]
[5,{"$f":"IF(ROWS(GPS_IMPORT!$1:5)<=COUNTIF(GPS_IMPORT!$A$2:$A$10000,$B$5),INDEX(GPS_IMPORT!$2:$10000,MATCH($B$5,(GPS_IMPORT!$A$2:$A$10000),0)+ROWS($1:5)-1,COLUMN()-1),0)","v":"GS22"},{"$f":"IF(ROWS(GPS_IMPORT!$1:5)<=COUNTIF(GPS_IMPORT!$A$2:$A$10000,$B$5),INDEX(GPS_IMPORT!$2:$10000,MATCH($B$5,(GPS_IMPORT!$A$2:$A$10000),0)+ROWS($1:5)-1,COLUMN()-1),0)","v":"12.18.2018"},{"$f":"IF(ROWS(GPS_IMPORT!$1:5)<=COUNTIF(GPS_IMPORT!$A$2:$A$10000,$B$5),INDEX(GPS_IMPORT!$2:$10000,MATCH($B$5,(GPS_IMPORT!$A$2:$A$10000),0)+ROWS($1:5)-1,COLUMN()-1),0)","v":"12:42:38.050"},{"$f":"IF(ROWS(GPS_IMPORT!$1:5)<=COUNTIF(GPS_IMPORT!$A$2:$A$10000,$B$5),INDEX(GPS_IMPORT!$2:$10000,MATCH($B$5,(GPS_IMPORT!$A$2:$A$10000),0)+ROWS($1:5)-1,COLUMN()-1),0)","v":348538.323058362},{"$f":"IF(ROWS(GPS_IMPORT!$1:5)<=COUNTIF(GPS_IMPORT!$A$2:$A$10000,$B$5),INDEX(GPS_IMPORT!$2:$10000,MATCH($B$5,(GPS_IMPORT!$A$2:$A$10000),0)+ROWS($1:5)-1,COLUMN()-1),0)","v":2281373.30093444},{"$f":"IF(ROWS(GPS_IMPORT!$1:5)<=COUNTIF(GPS_IMPORT!$A$2:$A$10000,$B$5),INDEX(GPS_IMPORT!$2:$10000,MATCH($B$5,(GPS_IMPORT!$A$2:$A$10000),0)+ROWS($1:5)-1,COLUMN()-1),0)","v":1125.6456939824},-9.5775460358709097E-3,3.7183528766036034E-3,1.1377174590052164E-2,true]
[6,{"$f":"IF(ROWS(GPS_IMPORT!$1:6)<=COUNTIF(GPS_IMPORT!$A$2:$A$10000,$B$5),INDEX(GPS_IMPORT!$2:$10000,MATCH($B$5,(GPS_IMPORT!$A$2:$A$10000),0)+ROWS($1:6)-1,COLUMN()-1),0)","v":"GS22"},{"$f":"IF(ROWS(GPS_IMPORT!$1:6)<=COUNTIF(GPS_IMPORT!$A$2:$A$10000,$B$5),INDEX(GPS_IMPORT!$2:$10000,MATCH($B$5,(GPS_IMPORT!$A$2:$A$10000),0)+ROWS($1:6)-1,COLUMN()-1),0)","v":"12.18.2018"},{"$f":"IF(ROWS(GPS_IMPORT!$1:6)<=COUNTIF(GPS_IMPORT!$A$2:$A$10000,$B$5),INDEX(GPS_IMPORT!$2:$10000,MATCH($B$5,(GPS_IMPORT!$A$2:$A$10000),0)+ROWS($1:6)-1,COLUMN()-1),0)","v":"12:42:48.020"},{"$f":"IF(ROWS(GPS_IMPORT!$1:6)<=COUNTIF(GPS_IMPORT!$A$2:$A$10000,$B$5),INDEX(GPS_IMPORT!$2:$10000,MATCH($B$5,(GPS_IMPORT!$A$2:$A$10000),0)+ROWS($1:6)-1,COLUMN()-1),0)","v":348538.311797195},{"$f":"IF(ROWS(GPS_IMPORT!$1:6)<=COUNTIF(GPS_IMPORT!$A$2:$A$10000,$B$5),INDEX(GPS_IMPORT!$2:$10000,MATCH($B$5,(GPS_IMPORT!$A$2:$A$10000),0)+ROWS($1:6)-1,COLUMN()-1),0)","v":2281373.2901428202},{"$f":"IF(ROWS(GPS_IMPORT!$1:6)<=COUNTIF(GPS_IMPORT!$A$2:$A$10000,$B$5),INDEX(GPS_IMPORT!$2:$10000,MATCH($B$5,(GPS_IMPORT!$A$2:$A$10000),0)+ROWS($1:6)-1,COLUMN()-1),0)","v":1125.6357122654499},1.6836209688335657E-3,1.4509972650557756E-2,2.1358891540103286E-2,true]
[7,{"$f":"IF(ROWS(GPS_IMPORT!$1:7)<=COUNTIF(GPS_IMPORT!$A$2:$A$10000,$B$5),INDEX(GPS_IMPORT!$2:$10000,MATCH($B$5,(GPS_IMPORT!$A$2:$A$10000),0)+ROWS($1:7)-1,COLUMN()-1),0)","v":"GS22"},{"$f":"IF(ROWS(GPS_IMPORT!$1:7)<=COUNTIF(GPS_IMPORT!$A$2:$A$10000,$B$5),INDEX(GPS_IMPORT!$2:$10000,MATCH($B$5,(GPS_IMPORT!$A$2:$A$10000),0)+ROWS($1:7)-1,COLUMN()-1),0)","v":"12.18.2018"},{"$f":"IF(ROWS(GPS_IMPORT!$1:7)<=COUNTIF(GPS_IMPORT!$A$2:$A$10000,$B$5),INDEX(GPS_IMPORT!$2:$10000,MATCH($B$5,(GPS_IMPORT!$A$2:$A$10000),0)+ROWS($1:7)-1,COLUMN()-1),0)","v":"12:42:59.090"},{"$f":"IF(ROWS(GPS_IMPORT!$1:7)<=COUNTIF(GPS_IMPORT!$A$2:$A$10000,$B$5),INDEX(GPS_IMPORT!$2:$10000,MATCH($B$5,(GPS_IMPORT!$A$2:$A$10000),0)+ROWS($1:7)-1,COLUMN()-1),0)","v":348538.31603161601},{"$f":"IF(ROWS(GPS_IMPORT!$1:7)<=COUNTIF(GPS_IMPORT!$A$2:$A$10000,$B$5),INDEX(GPS_IMPORT!$2:$10000,MATCH($B$5,(GPS_IMPORT!$A$2:$A$10000),0)+ROWS($1:7)-1,COLUMN()-1),0)","v":2281373.2832696601},{"$f":"IF(ROWS(GPS_IMPORT!$1:7)<=COUNTIF(GPS_IMPORT!$A$2:$A$10000,$B$5),INDEX(GPS_IMPORT!$2:$10000,MATCH($B$5,(GPS_IMPORT!$A$2:$A$10000),0)+ROWS($1:7)-1,COLUMN()-1),0)","v":1125.63862669123},-2.5508000398986042E-3,2.1383132785558701E-2,1.8444465760012463E-2,true]
[8,{"$f":"IF(ROWS(GPS_IMPORT!$1:8)<=COUNTIF(GPS_IMPORT!$A$2:$A$10000,$B$5),INDEX(GPS_IMPORT!$2:$10000,MATCH($B$5,(GPS_IMPORT!$A$2:$A$10000),0)+ROWS($1:8)-1,COLUMN()-1),0)","v":"GS22"},{"$f":"IF(ROWS(GPS_IMPORT!$1:8)<=COUNTIF(GPS_IMPORT!$A$2:$A$10000,$B$5),INDEX(GPS_IMPORT!$2:$10000,MATCH($B$5,(GPS_IMPORT!$A$2:$A$10000),0)+ROWS($1:8)-1,COLUMN()-1),0)","v":"12.18.2018"},{"$f":"IF(ROWS(GPS_IMPORT!$1:8)<=COUNTIF(GPS_IMPORT!$A$2:$A$10000,$B$5),INDEX(GPS_IMPORT!$2:$10000,MATCH($B$5,(GPS_IMPORT!$A$2:$A$10000),0)+ROWS($1:8)-1,COLUMN()-1),0)","v":"12:43:10.130"},{"$f":"IF(ROWS(GPS_IMPORT!$1:8)<=COUNTIF(GPS_IMPORT!$A$2:$A$10000,$B$5),INDEX(GPS_IMPORT!$2:$10000,MATCH($B$5,(GPS_IMPORT!$A$2:$A$10000),0)+ROWS($1:8)-1,COLUMN()-1),0)","v":348538.32069180702},{"$f":"IF(ROWS(GPS_IMPORT!$1:8)<=COUNTIF(GPS_IMPORT!$A$2:$A$10000,$B$5),INDEX(GPS_IMPORT!$2:$10000,MATCH($B$5,(GPS_IMPORT!$A$2:$A$10000),0)+ROWS($1:8)-1,COLUMN()-1),0)","v":2281373.3015473299},{"$f":"IF(ROWS(GPS_IMPORT!$1:8)<=COUNTIF(GPS_IMPORT!$A$2:$A$10000,$B$5),INDEX(GPS_IMPORT!$2:$10000,MATCH($B$5,(GPS_IMPORT!$A$2:$A$10000),0)+ROWS($1:8)-1,COLUMN()-1),0)","v":1125.6465226714499},-7.2109910543076694E-3,3.1054629944264889E-3,1.0548485540084584E-2,true]
[9,{"$f":"IF(ROWS(GPS_IMPORT!$1:9)<=COUNTIF(GPS_IMPORT!$A$2:$A$10000,$B$5),INDEX(GPS_IMPORT!$2:$10000,MATCH($B$5,(GPS_IMPORT!$A$2:$A$10000),0)+ROWS($1:9)-1,COLUMN()-1),0)","v":"GS22"},{"$f":"IF(ROWS(GPS_IMPORT!$1:9)<=COUNTIF(GPS_IMPORT!$A$2:$A$10000,$B$5),INDEX(GPS_IMPORT!$2:$10000,MATCH($B$5,(GPS_IMPORT!$A$2:$A$10000),0)+ROWS($1:9)-1,COLUMN()-1),0)","v":"12.18.2018"},{"$f":"IF(ROWS(GPS_IMPORT!$1:9)<=COUNTIF(GPS_IMPORT!$A$2:$A$10000,$B$5),INDEX(GPS_IMPORT!$2:$10000,MATCH($B$5,(GPS_IMPORT!$A$2:$A$10000),0)+ROWS($1:9)-1,COLUMN()-1),0)","v":"12:43:28.800"},{"$f":"IF(ROWS(GPS_IMPORT!$1:9)<=COUNTIF(GPS_IMPORT!$A$2:$A$10000,$B$5),INDEX(GPS_IMPORT!$2:$10000,MATCH($B$5,(GPS_IMPORT!$A$2:$A$10000),0)+ROWS($1:9)-1,COLUMN()-1),0)","v":348538.32000217302},{"$f":"IF(ROWS(GPS_IMPORT!$1:9)<=COUNTIF(GPS_IMPORT!$A$2:$A$10000,$B$5),INDEX(GPS_IMPORT!$2:$10000,MATCH($B$5,(GPS_IMPORT!$A$2:$A$10000),0)+ROWS($1:9)-1,COLUMN()-1),0)","v":2281373.3101861398},{"$f":"IF(ROWS(GPS_IMPORT!$1:9)<=COUNTIF(GPS_IMPORT!$A$2:$A$10000,$B$5),INDEX(GPS_IMPORT!$2:$10000,MATCH($B$5,(GPS_IMPORT!$A$2:$A$10000),0)+ROWS($1:9)-1,COLUMN()-1),0)","v":1125.6537252913399},-6.5213570487685502E-3,-5.5333469063043594E-3,3.3458656500897632E-3,true]
[10,{"$f":"IF(ROWS(GPS_IMPORT!$1:10)<=COUNTIF(GPS_IMPORT!$A$2:$A$10000,$B$5),INDEX(GPS_IMPORT!$2:$10000,MATCH($B$5,(GPS_IMPORT!$A$2:$A$10000),0)+ROWS($1:10)-1,COLUMN()-1),0)","v":"GS22"},{"$f":"IF(ROWS(GPS_IMPORT!$1:10)<=COUNTIF(GPS_IMPORT!$A$2:$A$10000,$B$5),INDEX(GPS_IMPORT!$2:$10000,MATCH($B$5,(GPS_IMPORT!$A$2:$A$10000),0)+ROWS($1:10)-1,COLUMN()-1),0)","v":"12.18.2018"},{"$f":"IF(ROWS(GPS_IMPORT!$1:10)<=COUNTIF(GPS_IMPORT!$A$2:$A$10000,$B$5),INDEX(GPS_IMPORT!$2:$10000,MATCH($B$5,(GPS_IMPORT!$A$2:$A$10000),0)+ROWS($1:10)-1,COLUMN()-1),0)","v":"12:43:39.790"},{"$f":"IF(ROWS(GPS_IMPORT!$1:10)<=COUNTIF(GPS_IMPORT!$A$2:$A$10000,$B$5),INDEX(GPS_IMPORT!$2:$10000,MATCH($B$5,(GPS_IMPORT!$A$2:$A$10000),0)+ROWS($1:10)-1,COLUMN()-1),0)","v":348538.32861073897},{"$f":"IF(ROWS(GPS_IMPORT!$1:10)<=COUNTIF(GPS_IMPORT!$A$2:$A$10000,$B$5),INDEX(GPS_IMPORT!$2:$10000,MATCH($B$5,(GPS_IMPORT!$A$2:$A$10000),0)+ROWS($1:10)-1,COLUMN()-1),0)","v":2281373.3125746599},{"$f":"IF(ROWS(GPS_IMPORT!$1:10)<=COUNTIF(GPS_IMPORT!$A$2:$A$10000,$B$5),INDEX(GPS_IMPORT!$2:$10000,MATCH($B$5,(GPS_IMPORT!$A$2:$A$10000),0)+ROWS($1:10)-1,COLUMN()-1),0)","v":1125.6572166531901},-1.5129923005588353E-2,-7.9218670725822449E-3,-1.454962000480009E-4,true]
[11,{"$f":"IF(ROWS(GPS_IMPORT!$1:11)<=COUNTIF(GPS_IMPORT!$A$2:$A$10000,$B$5),INDEX(GPS_IMPORT!$2:$10000,MATCH($B$5,(GPS_IMPORT!$A$2:$A$10000),0)+ROWS($1:11)-1,COLUMN()-1),0)","v":"GS22"},{"$f":"IF(ROWS(GPS_IMPORT!$1:11)<=COUNTIF(GPS_IMPORT!$A$2:$A$10000,$B$5),INDEX(GPS_IMPORT!$2:$10000,MATCH($B$5,(GPS_IMPORT!$A$2:$A$10000),0)+ROWS($1:11)-1,COLUMN()-1),0)","v":"12.18.2018"},{"$f":"IF(ROWS(GPS_IMPORT!$1:11)<=COUNTIF(GPS_IMPORT!$A$2:$A$10000,$B$5),INDEX(GPS_IMPORT!$2:$10000,MATCH($B$5,(GPS_IMPORT!$A$2:$A$10000),0)+ROWS($1:11)-1,COLUMN()-1),0)","v":"12:43:49.740"},{"$f":"IF(ROWS(GPS_IMPORT!$1:11)<=COUNTIF(GPS_IMPORT!$A$2:$A$10000,$B$5),INDEX(GPS_IMPORT!$2:$10000,MATCH($B$5,(GPS_IMPORT!$A$2:$A$10000),0)+ROWS($1:11)-1,COLUMN()-1),0)","v":348538.32832826098},{"$f":"IF(ROWS(GPS_IMPORT!$1:11)<=COUNTIF(GPS_IMPORT!$A$2:$A$10000,$B$5),INDEX(GPS_IMPORT!$2:$10000,MATCH($B$5,(GPS_IMPORT!$A$2:$A$10000),0)+ROWS($1:11)-1,COLUMN()-1),0)","v":2281373.31414937},{"$f":"IF(ROWS(GPS_IMPORT!$1:11)<=COUNTIF(GPS_IMPORT!$A$2:$A$10000,$B$5),INDEX(GPS_IMPORT!$2:$10000,MATCH($B$5,(GPS_IMPORT!$A$2:$A$10000),0)+ROWS($1:11)-1,COLUMN()-1),0)","v":1125.6587866160801},-1.4847445010673255E-2,-9.4965770840644836E-3,-1.7154590900645417E-3,true]
[12,{"$f":"IF(ROWS(GPS_IMPORT!$1:12)<=COUNTIF(GPS_IMPORT!$A$2:$A$10000,$B$5),INDEX(GPS_IMPORT!$2:$10000,MATCH($B$5,(GPS_IMPORT!$A$2:$A$10000),0)+ROWS($1:12)-1,COLUMN()-1),0)","v":"GS22"},{"$f":"IF(ROWS(GPS_IMPORT!$1:12)<=COUNTIF(GPS_IMPORT!$A$2:$A$10000,$B$5),INDEX(GPS_IMPORT!$2:$10000,MATCH($B$5,(GPS_IMPORT!$A$2:$A$10000),0)+ROWS($1:12)-1,COLUMN()-1),0)","v":"12.18.2018"},{"$f":"IF(ROWS(GPS_IMPORT!$1:12)<=COUNTIF(GPS_IMPORT!$A$2:$A$10000,$B$5),INDEX(GPS_IMPORT!$2:$10000,MATCH($B$5,(GPS_IMPORT!$A$2:$A$10000),0)+ROWS($1:12)-1,COLUMN()-1),0)","v":"12:44:01.120"},{"$f":"IF(ROWS(GPS_IMPORT!$1:12)<=COUNTIF(GPS_IMPORT!$A$2:$A$10000,$B$5),INDEX(GPS_IMPORT!$2:$10000,MATCH($B$5,(GPS_IMPORT!$A$2:$A$10000),0)+ROWS($1:12)-1,COLUMN()-1),0)","v":348538.32103451202},{"$f":"IF(ROWS(GPS_IMPORT!$1:12)<=COUNTIF(GPS_IMPORT!$A$2:$A$10000,$B$5),INDEX(GPS_IMPORT!$2:$10000,MATCH($B$5,(GPS_IMPORT!$A$2:$A$10000),0)+ROWS($1:12)-1,COLUMN()-1),0)","v":2281373.3287899601},{"$f":"IF(ROWS(GPS_IMPORT!$1:12)<=COUNTIF(GPS_IMPORT!$A$2:$A$10000,$B$5),INDEX(GPS_IMPORT!$2:$10000,MATCH($B$5,(GPS_IMPORT!$A$2:$A$10000),0)+ROWS($1:12)-1,COLUMN()-1),0)","v":1125.6860348570899},-7.5536960503086448E-3,-2.4137167260050774E-2,-2.8963700099893686E-2,true]
[13,{"$f":"IF(ROWS(GPS_IMPORT!$1:13)<=COUNTIF(GPS_IMPORT!$A$2:$A$10000,$B$5),INDEX(GPS_IMPORT!$2:$10000,MATCH($B$5,(GPS_IMPORT!$A$2:$A$10000),0)+ROWS($1:13)-1,COLUMN()-1),0)","v":0},{"$f":"IF(ROWS(GPS_IMPORT!$1:13)<=COUNTIF(GPS_IMPORT!$A$2:$A$10000,$B$5),INDEX(GPS_IMPORT!$2:$10000,MATCH($B$5,(GPS_IMPORT!$A$2:$A$10000),0)+ROWS($1:13)-1,COLUMN()-1),0)","v":"00:00:00"},{"$f":"IF(ROWS(GPS_IMPORT!$1:13)<=COUNTIF(GPS_IMPORT!$A$2:$A$10000,$B$5),INDEX(GPS_IMPORT!$2:$10000,MATCH($B$5,(GPS_IMPORT!$A$2:$A$10000),0)+ROWS($1:13)-1,COLUMN()-1),0)","v":"00:00:00"},{"$f":"IF(ROWS(GPS_IMPORT!$1:13)<=COUNTIF(GPS_IMPORT!$A$2:$A$10000,$B$5),INDEX(GPS_IMPORT!$2:$10000,MATCH($B$5,(GPS_IMPORT!$A$2:$A$10000),0)+ROWS($1:13)-1,COLUMN()-1),0)","v":0},{"$f":"IF(ROWS(GPS_IMPORT!$1:13)<=COUNTIF(GPS_IMPORT!$A$2:$A$10000,$B$5),INDEX(GPS_IMPORT!$2:$10000,MATCH($B$5,(GPS_IMPORT!$A$2:$A$10000),0)+ROWS($1:13)-1,COLUMN()-1),0)","v":0},{"$f":"IF(ROWS(GPS_IMPORT!$1:13)<=COUNTIF(GPS_IMPORT!$A$2:$A$10000,$B$5),INDEX(GPS_IMPORT!$2:$10000,MATCH($B$5,(GPS_IMPORT!$A$2:$A$10000),0)+ROWS($1:13)-1,COLUMN()-1),0)","v":0},{"$f":"IF(E19>0,E$22-E19,0)","v":0},0,0,false]
[14,{"$f":"IF(ROWS(GPS_IMPORT!$1:14)<=COUNTIF(GPS_IMPORT!$A$2:$A$10000,$B$5),INDEX(GPS_IMPORT!$2:$10000,MATCH($B$5,(GPS_IMPORT!$A$2:$A$10000),0)+ROWS($1:14)-1,COLUMN()-1),0)","v":0},{"$f":"IF(ROWS(GPS_IMPORT!$1:14)<=COUNTIF(GPS_IMPORT!$A$2:$A$10000,$B$5),INDEX(GPS_IMPORT!$2:$10000,MATCH($B$5,(GPS_IMPORT!$A$2:$A$10000),0)+ROWS($1:14)-1,COLUMN()-1),0)","v":"00:00:00"},{"$f":"IF(ROWS(GPS_IMPORT!$1:14)<=COUNTIF(GPS_IMPORT!$A$2:$A$10000,$B$5),INDEX(GPS_IMPORT!$2:$10000,MATCH($B$5,(GPS_IMPORT!$A$2:$A$10000),0)+ROWS($1:14)-1,COLUMN()-1),0)","v":"00:00:00"},{"$f":"IF(ROWS(GPS_IMPORT!$1:14)<=COUNTIF(GPS_IMPORT!$A$2:$A$10000,$B$5),INDEX(GPS_IMPORT!$2:$10000,MATCH($B$5,(GPS_IMPORT!$A$2:$A$10000),0)+ROWS($1:14)-1,COLUMN()-1),0)","v":0},{"$f":"IF(ROWS(GPS_IMPORT!$1:14)<=COUNTIF(GPS_IMPORT!$A$2:$A$10000,$B$5),INDEX(GPS_IMPORT!$2:$10000,MATCH($B$5,(GPS_IMPORT!$A$2:$A$10000),0)+ROWS($1:14)-1,COLUMN()-1),0)","v":0},{"$f":"IF(ROWS(GPS_IMPORT!$1:14)<=COUNTIF(GPS_IMPORT!$A$2:$A$10000,$B$5),INDEX(GPS_IMPORT!$2:$10000,MATCH($B$5,(GPS_IMPORT!$A$2:$A$10000),0)+ROWS($1:14)-1,COLUMN()-1),0)","v":0},0,0,0,false]
[15,{"$f":"IF(ROWS(GPS_IMPORT!$1:15)<=COUNTIF(GPS_IMPORT!$A$2:$A$10000,$B$5),INDEX(GPS_IMPORT!$2:$10000,MATCH($B$5,(GPS_IMPORT!$A$2:$A$10000),0)+ROWS($1:15)-1,COLUMN()-1),0)","v":0},{"$f":"IF(ROWS(GPS_IMPORT!$1:15)<=COUNTIF(GPS_IMPORT!$A$2:$A$10000,$B$5),INDEX(GPS_IMPORT!$2:$10000,MATCH($B$5,(GPS_IMPORT!$A$2:$A$10000),0)+ROWS($1:15)-1,COLUMN()-1),0)","v":"00:00:00"},{"$f":"IF(ROWS(GPS_IMPORT!$1:15)<=COUNTIF(GPS_IMPORT!$A$2:$A$10000,$B$5),INDEX(GPS_IMPORT!$2:$10000,MATCH($B$5,(GPS_IMPORT!$A$2:$A$10000),0)+ROWS($1:15)-1,COLUMN()-1),0)","v":"00:00:00"},{"$f":"IF(ROWS(GPS_IMPORT!$1:15)<=COUNTIF(GPS_IMPORT!$A$2:$A$10000,$B$5),INDEX(GPS_IMPORT!$2:$10000,MATCH($B$5,(GPS_IMPORT!$A$2:$A$10000),0)+ROWS($1:15)-1,COLUMN()-1),0)","v":0},{"$f":"IF(ROWS(GPS_IMPORT!$1:15)<=COUNTIF(GPS_IMPORT!$A$2:$A$10000,$B$5),INDEX(GPS_IMPORT!$2:$10000,MATCH($B$5,(GPS_IMPORT!$A$2:$A$10000),0)+ROWS($1:15)-1,COLUMN()-1),0)","v":0},{"$f":"IF(ROWS(GPS_IMPORT!$1:15)<=COUNTIF(GPS_IMPORT!$A$2:$A$10000,$B$5),INDEX(GPS_IMPORT!$2:$10000,MATCH($B$5,(GPS_IMPORT!$A$2:$A$10000),0)+ROWS($1:15)-1,COLUMN()-1),0)","v":0},0,0,0,false]
[null,null,null,"AVERAGE",{"$f":"(IF($K$7=TRUE,E7,0)+IF($K$8=TRUE,E8,0)+IF($K$9=TRUE,E9,0)+IF($K$10=TRUE,E10,0)+IF($K$11=TRUE,E11,0)+IF($K$12=TRUE,E12,0)+IF($K$13=TRUE,E13,0)+IF($K$14=TRUE,E14,0)+IF($K$15=TRUE,E15,0)+IF($K$16=TRUE,E16,0)+IF($K$17=TRUE,E17,0)+IF($K$18=TRUE,E18,0)+IF($K$19=TRUE,E19,0)+IF($K$20=TRUE,E20,0)+IF($K$21=TRUE,E21,0))/(IF($K$7=TRUE,1,0)+IF($K$8=TRUE,1,0)+IF($K$9=TRUE,1,0)+IF($K$10=TRUE,1,0)+IF($K$11=TRUE,1,0)+IF($K$12=TRUE,1,0)+IF($K$13=TRUE,1,0)+IF($K$14=TRUE,1,0)+IF($K$15=TRUE,1,0)+IF($K$16=TRUE,1,0)+IF($K$17=TRUE,1,0)+IF($K$18=TRUE,1,0)+IF($K$19=TRUE,1,0)+IF($K$20=TRUE,1,0)+IF($K$21=TRUE,1,0))","v":348538.31348081597},{"$f":"(IF($K$7=TRUE,F7,0)+IF($K$8=TRUE,F8,0)+IF($K$9=TRUE,F9,0)+IF($K$10=TRUE,F10,0)+IF($K$11=TRUE,F11,0)+IF($K$12=TRUE,F12,0)+IF($K$13=TRUE,F13,0)+IF($K$14=TRUE,F14,0)+IF($K$15=TRUE,F15,0)+IF($K$16=TRUE,F16,0)+IF($K$17=TRUE,F17,0)+IF($K$18=TRUE,F18,0)+IF($K$19=TRUE,F19,0)+IF($K$20=TRUE,F20,0)+IF($K$21=TRUE,F21,0))/(IF($K$7=TRUE,1,0)+IF($K$8=TRUE,1,0)+IF($K$9=TRUE,1,0)+IF($K$10=TRUE,1,0)+IF($K$11=TRUE,1,0)+IF($K$12=TRUE,1,0)+IF($K$13=TRUE,1,0)+IF($K$14=TRUE,1,0)+IF($K$15=TRUE,1,0)+IF($K$16=TRUE,1,0)+IF($K$17=TRUE,1,0)+IF($K$18=TRUE,1,0)+IF($K$19=TRUE,1,0)+IF($K$20=TRUE,1,0)+IF($K$21=TRUE,1,0))","v":2281373.3046527929},{"$f":"(IF($K$7=TRUE,G7,0)+IF($K$8=TRUE,G8,0)+IF($K$9=TRUE,G9,0)+IF($K$10=TRUE,G10,0)+IF($K$11=TRUE,G11,0)+IF($K$12=TRUE,G12,0)+IF($K$13=TRUE,G13,0)+IF($K$14=TRUE,G14,0)+IF($K$15=TRUE,G15,0)+IF($K$16=TRUE,G16,0)+IF($K$17=TRUE,G17,0)+IF($K$18=TRUE,G18,0)+IF($K$19=TRUE,G19,0)+IF($K$20=TRUE,G20,0)+IF($K$21=TRUE,G21,0))/\n(IF($K$7=TRUE,1,0)+IF($K$8=TRUE,1,0)+IF($K$9=TRUE,1,0)+IF($K$10=TRUE,1,0)+IF($K$11=TRUE,1,0)+IF($K$12=TRUE,1,0)+IF($K$13=TRUE,1,0)+IF($K$14=TRUE,1,0)+IF($K$15=TRUE,1,0)+IF($K$16=TRUE,1,0)+IF($K$17=TRUE,1,0)+IF($K$18=TRUE,1,0)+IF($K$19=TRUE,1,0)+IF($K$20=TRUE,1,0)+IF($K$21=TRUE,1,0))","v":1125.65707115699},"RMSE:","RMSE:","RMSE:"]
[null,null,null,null,null,null,"RMSE IN US SURVEY FEET:",{"$f":"SQRT((\n(IF($K$7=TRUE,H7^2,0))+(IF($K$8=TRUE,H8^2,0))+(IF($K$9=TRUE,H9^2,0))+(IF($K$10=TRUE,H10^2,0))+(IF($K$11=TRUE,H11^2,0))+(IF($K$12=TRUE,H12^2,0))+(IF($K$13=TRUE,H13^2,0))+(IF($K$14=TRUE,H14^2,0))+(IF($K$15=TRUE,H15^2,0))+(IF($K$16=TRUE,H16^2,0))+(IF($K$17=TRUE,H17^2,0))+(IF($K$18=TRUE,H18^2,0))+(IF($K$19=TRUE,H19^2,0))+(IF($K$20=TRUE,H20^2,0))+(IF($K$21=TRUE,H21^2,0)))/\n(IF($K$7=TRUE,1,0)+IF($K$8=TRUE,1,0)+IF($K$9=TRUE,1,0)+IF($K$10=TRUE,1,0)+IF($K$11=TRUE,1,0)+IF($K$12=TRUE,1,0)+IF($K$13=TRUE,1,0)+IF($K$14=TRUE,1,0)+IF($K$15=TRUE,1,0)+IF($K$16=TRUE,1,0)+IF($K$17=TRUE,1,0)+IF($K$18=TRUE,1,0)+IF($K$19=TRUE,1,0)+IF($K$20=TRUE,1,0)+IF($K$21=TRUE,1,0)))","v":1.4714639754752842E-2},{"$f":"SQRT((\n(IF($K$7=TRUE,I7^2,0))+(IF($K$8=TRUE,I8^2,0))+(IF($K$9=TRUE,I9^2,0))+(IF($K$10=TRUE,I10^2,0))+(IF($K$11=TRUE,I11^2,0))+(IF($K$12=TRUE,I12^2,0))+(IF($K$13=TRUE,I13^2,0))+(IF($K$14=TRUE,I14^2,0))+(IF($K$15=TRUE,I15^2,0))+(IF($K$16=TRUE,I16^2,0))+(IF($K$17=TRUE,I17^2,0))+(IF($K$18=TRUE,I18^2,0))+(IF($K$19=TRUE,I19^2,0))+(IF($K$20=TRUE,I20^2,0))+(IF($K$21=TRUE,I21^2,0)))/\n(IF($K$7=TRUE,1,0)+IF($K$8=TRUE,1,0)+IF($K$9=TRUE,1,0)+IF($K$10=TRUE,1,0)+IF($K$11=TRUE,1,0)+IF($K$12=TRUE,1,0)+IF($K$13=TRUE,1,0)+IF($K$14=TRUE,1,0)+IF($K$15=TRUE,1,0)+IF($K$16=TRUE,1,0)+IF($K$17=TRUE,1,0)+IF($K$18=TRUE,1,0)+IF($K$19=TRUE,1,0)+IF($K$20=TRUE,1,0)+IF($K$21=TRUE,1,0)))","v":1.2832731761792405E-2},{"$f":"SQRT((\n(IF($K$7=TRUE,J7^2,0))+(IF($K$8=TRUE,J8^2,0))+(IF($K$9=TRUE,J9^2,0))+(IF($K$10=TRUE,J10^2,0))+(IF($K$11=TRUE,J11^2,0))+(IF($K$12=TRUE,J12^2,0))+(IF($K$13=TRUE,J13^2,0))+(IF($K$14=TRUE,J14^2,0))+(IF($K$15=TRUE,J15^2,0))+(IF($K$16=TRUE,J16^2,0))+(IF($K$17=TRUE,J17^2,0))+(IF($K$18=TRUE,J18^2,0))+(IF($K$19=TRUE,J19^2,0))+(IF($K$20=TRUE,J20^2,0))+(IF($K$21=TRUE,J21^2,0)))/\n(IF($K$7=TRUE,1,0)+IF($K$8=TRUE,1,0)+IF($K$9=TRUE,1,0)+IF($K$10=TRUE,1,0)+IF($K$11=TRUE,1,0)+IF($K$12=TRUE,1,0)+IF($K$13=TRUE,1,0)+IF($K$14=TRUE,1,0)+IF($K$15=TRUE,1,0)+IF($K$16=TRUE,1,0)+IF($K$17=TRUE,1,0)+IF($K$18=TRUE,1,0)+IF($K$19=TRUE,1,0)+IF($K$20=TRUE,1,0)+IF($K$21=TRUE,1,0)))","v":1.5357755258189059E-2}]
[null,null,null,1]
[null,null,"UNITLESS GRID TO GROUND MULTIPLIER",{"$f":"IF(REPORT!C13=\"n/a\",\"0.00000000\",REPORT!C13)","v":0},null,null,null,{"$f":"IF(H23<=0.029,\"PASS\",\"FAIL\")","v":"PASS"},{"$f":"IF(I23<=0.029,\"PASS\",\"FAIL\")","v":"PASS"},{"$f":"IF(J23<=0.039,\"PASS\",\"FAIL\")","v":"PASS"}]
[]
["AVERAGED GPS-DERIVED POSITION",null,null,null,null,null,null,null,"Notes:"]
[null,"MONUMENT COORDINATES",null,"NORTHING","EASTING","ORTHO HEIGHT"]
[null,"US Survey Feet (GRID)",null,{"$f":"$E$22","v":348538.31348081597},{"$f":"$F$22","v":2281373.3046527929},{"$f":"$G$22","v":1125.65707115699}]
[]
["LEVELED ELEVATION"]
["US SURVEY FEET",null,"N/A","(Type the leveled elevation or N/A if no leveled elevation is available)"]
["MONUMENT HELD",null,null,"(Type the monument name from which leveling originated)"]
["LEVELED ELEVATION - GPS DERIVED ELEVATION   = ",null,null,null,{"$f":"IF(C32=\"N/A\",\"N/A\",C32-(F29*D24))","v":"N/A"}]
[]
["FINAL MONUMENT COORDINATES"]
[null,"MONUMENT COORDINATES",null,"NORTHING","EASTING","ELEVATION","FEATURE CODE"]
[null,"US SURVEY FEET (GRID)",null,{"$f":"$E$22*$D$24","v":348538.31348081597},{"$f":"$F$22*$D$24","v":2281373.3046527929},{"$f":"IF($C$32=\"N/A\",($G$22*$D$24),$C$32)","v":1125.65707115699},"AERTAR"]
[null,"US SURVEY FEET (GROUND)",null,{"$f":"$D$38*$D$25","v":0},{"$f":"$E$38*$D$25","v":0},{"$f":"IF($C$32=\"N/A\",($G$22*$D$24),$C$32)","v":1125.65707115699},{"$f":"G38","v":"AERTAR"}]
[]
["∆ North,  ∆ East, and ∆ Ht. are the difference between the average northing, easting, and height for each observation.",null,null,null,null,null,null,null,"Mask Angle:","10°"]

{"sheet":"GS23","index":29,"n_rows":41,"n_cols":16,"rows_kept":41,"cut":false,"hidden":false,"merged":[[0,0,0,10],[26,0,26,6],[27,1,27,2],[27,8,38,10],[28,1,28,2],[30,0,30,6],[35,0,35,6],[36,1,36,2],[37,1,37,2],[38,1,38,2]]}
["VRS GNSS Project Control Monument Coordinate Analysis"]
[]
["Project:",{"$f":"REPORT!B2","v":"TUS-800-22.74"},"GPS Antenna:","LEICA GS14",null,null,null,null,null,"Report Date:",{"$f":"REPORT!C49","v":"2018-12-19"}]
["PID:",{"$f":"REPORT!E2","v":100603},"VRS Network:","ODOT VRS",null,null,null,null,null,"Prepared By:",{"$f":"REPORT!C48","v":"Kolton Wilson"}]
["Point ID:","GS23","No. of Sessions:",{"$f":"COUNTIF(GPS_IMPORT!A2:A1000,$B$5)","v":12},null,null,null,null,null,"Checked By:",{"$f":"REPORT!C52","v":"Joel Swick"}]
["SESSION #","Point","Observation Date","Start Time","Northing(sft)","Easting(sft)","Height(sft)","∆ Northing(sft)","∆ Easting(sft)","∆ Height(sft)","Include in Solution?"]
[1,{"$f":"IF(ROWS(GPS_IMPORT!$1:1)<=COUNTIF(GPS_IMPORT!$A$2:$A$10000,$B$5),INDEX(GPS_IMPORT!$2:$10000,MATCH($B$5,(GPS_IMPORT!$A$2:$A$10000),0)+ROWS($1:1)-1,COLUMN()-1),0)","v":"GS23"},{"$f":"IF(ROWS(GPS_IMPORT!$1:1)<=COUNTIF(GPS_IMPORT!$A$2:$A$10000,$B$5),INDEX(GPS_IMPORT!$2:$10000,MATCH($B$5,(GPS_IMPORT!$A$2:$A$10000),0)+ROWS($1:1)-1,COLUMN()-1),0)","v":"12.18.2018"},{"$f":"IF(ROWS(GPS_IMPORT!$1:1)<=COUNTIF(GPS_IMPORT!$A$2:$A$10000,$B$5),INDEX(GPS_IMPORT!$2:$10000,MATCH($B$5,(GPS_IMPORT!$A$2:$A$10000),0)+ROWS($1:1)-1,COLUMN()-1),0)","v":"12:51:22.400"},{"$f":"IF(ROWS(GPS_IMPORT!$1:1)<=COUNTIF(GPS_IMPORT!$A$2:$A$10000,$B$5),INDEX(GPS_IMPORT!$2:$10000,MATCH($B$5,(GPS_IMPORT!$A$2:$A$10000),0)+ROWS($1:1)-1,COLUMN()-1),0)","v":349349.98446368001},{"$f":"IF(ROWS(GPS_IMPORT!$1:1)<=COUNTIF(GPS_IMPORT!$A$2:$A$10000,$B$5),INDEX(GPS_IMPORT!$2:$10000,MATCH($B$5,(GPS_IMPORT!$A$2:$A$10000),0)+ROWS($1:1)-1,COLUMN()-1),0)","v":2283466.0914952201},{"$f":"IF(ROWS(GPS_IMPORT!$1:1)<=COUNTIF(GPS_IMPORT!$A$2:$A$10000,$B$5),INDEX(GPS_IMPORT!$2:$10000,MATCH($B$5,(GPS_IMPORT!$A$2:$A$10000),0)+ROWS($1:1)-1,COLUMN()-1),0)","v":978.63749086786004},{"$f":"IF(E7>0,E$22-E7,0)","v":1.3836518279276788E-2},8.502202108502388E-3,-1.2430446725829825E-2,true]
[2,{"$f":"IF(ROWS(GPS_IMPORT!$1:2)<=COUNTIF(GPS_IMPORT!$A$2:$A$10000,$B$5),INDEX(GPS_IMPORT!$2:$10000,MATCH($B$5,(GPS_IMPORT!$A$2:$A$10000),0)+ROWS($1:2)-1,COLUMN()-1),0)","v":"GS23"},{"$f":"IF(ROWS(GPS_IMPORT!$1:2)<=COUNTIF(GPS_IMPORT!$A$2:$A$10000,$B$5),INDEX(GPS_IMPORT!$2:$10000,MATCH($B$5,(GPS_IMPORT!$A$2:$A$10000),0)+ROWS($1:2)-1,COLUMN()-1),0)","v":"12.18.2018"},{"$f":"IF(ROWS(GPS_IMPORT!$1:2)<=COUNTIF(GPS_IMPORT!$A$2:$A$10000,$B$5),INDEX(GPS_IMPORT!$2:$10000,MATCH($B$5,(GPS_IMPORT!$A$2:$A$10000),0)+ROWS($1:2)-1,COLUMN()-1),0)","v":"12:51:36.260"},{"$f":"IF(ROWS(GPS_IMPORT!$1:2)<=COUNTIF(GPS_IMPORT!$A$2:$A$10000,$B$5),INDEX(GPS_IMPORT!$2:$10000,MATCH($B$5,(GPS_IMPORT!$A$2:$A$10000),0)+ROWS($1:2)-1,COLUMN()-1),0)","v":349349.98808428098},{"$f":"IF(ROWS(GPS_IMPORT!$1:2)<=COUNTIF(GPS_IMPORT!$A$2:$A$10000,$B$5),INDEX(GPS_IMPORT!$2:$10000,MATCH($B$5,(GPS_IMPORT!$A$2:$A$10000),0)+ROWS($1:2)-1,COLUMN()-1),0)","v":2283466.0942007001},{"$f":"IF(ROWS(GPS_IMPORT!$1:2)<=COUNTIF(GPS_IMPORT!$A$2:$A$10000,$B$5),INDEX(GPS_IMPORT!$2:$10000,MATCH($B$5,(GPS_IMPORT!$A$2:$A$10000),0)+ROWS($1:2)-1,COLUMN()-1),0)","v":978.62902217123997},1.021591731114313E-2,5.7967221364378929E-3,-3.9617501057591653E-3,true]
[3,{"$f":"IF(ROWS(GPS_IMPORT!$1:3)<=COUNTIF(GPS_IMPORT!$A$2:$A$10000,$B$5),INDEX(GPS_IMPORT!$2:$10000,MATCH($B$5,(GPS_IMPORT!$A$2:$A$10000),0)+ROWS($1:3)-1,COLUMN()-1),0)","v":"GS23"},{"$f":"IF(ROWS(GPS_IMPORT!$1:3)<=COUNTIF(GPS_IMPORT!$A$2:$A$10000,$B$5),INDEX(GPS_IMPORT!$2:$10000,MATCH($B$5,(GPS_IMPORT!$A$2:$A$10000),0)+ROWS($1:3)-1,COLUMN()-1),0)","v":"12.18.2018"},{"$f":"IF(ROWS(GPS_IMPORT!$1:3)<=COUNTIF(GPS_IMPORT!$A$2:$A$10000,$B$5),INDEX(GPS_IMPORT!$2:$10000,MATCH($B$5,(GPS_IMPORT!$A$2:$A$10000),0)+ROWS($1:3)-1,COLUMN()-1),0)","v":"12:51:49.500"},{"$f":"IF(ROWS(GPS_IMPORT!$1:3)<=COUNTIF(GPS_IMPORT!$A$2:$A$10000,$B$5),INDEX(GPS_IMPORT!$2:$10000,MATCH($B$5,(GPS_IMPORT!$A$2:$A$10000),0)+ROWS($1:3)-1,COLUMN()-1),0)","v":349349.99456330301},{"$f":"IF(ROWS(GPS_IMPORT!$1:3)<=COUNTIF(GPS_IMPORT!$A$2:$A$10000,$B$5),INDEX(GPS_IMPORT!$2:$10000,MATCH($B$5,(GPS_IMPORT!$A$2:$A$10000),0)+ROWS($1:3)-1,COLUMN()-1),0)","v":2283466.0939469999},{"$f":"IF(ROWS(GPS_IMPORT!$1:3)<=COUNTIF(GPS_IMPORT!$A$2:$A$10000,$B$5),INDEX(GPS_IMPORT!$2:$10000,MATCH($B$5,(GPS_IMPORT!$A$2:$A$10000),0)+ROWS($1:3)-1,COLUMN()-1),0)","v":978.64818663402002},3.7368952762335539E-3,6.0504223220050335E-3,-2.3126212885813402E-2,true]
[4,{"$f":"IF(ROWS(GPS_IMPORT!$1:4)<=COUNTIF(GPS_IMPORT!$A$2:$A$10000,$B$5),INDEX(GPS_IMPORT!$2:$10000,MATCH($B$5,(GPS_IMPORT!$A$2:$A$10000),0)+ROWS($1:4)-1,COLUMN()-1),0)","v":"GS23"},{"$f":"IF(ROWS(GPS_IMPORT!$1:4)<=COUNTIF(GPS_IMPORT!$A$2:$A$10000,$B$5),INDEX(GPS_IMPORT!$2:$10000,MATCH($B$5,(GPS_IMPORT!$A$2:$A$10000),0)+ROWS($1:4)-1,COLUMN()-1),0)","v":"12.18.2018"},{"$f":"IF(ROWS(GPS_IMPORT!$1:4)<=COUNTIF(GPS_IMPORT!$A$2:$A$10000,$B$5),INDEX(GPS_IMPORT!$2:$10000,MATCH($B$5,(GPS_IMPORT!$A$2:$A$10000),0)+ROWS($1:4)-1,COLUMN()-1),0)","v":"12:52:04.940"},{"$f":"IF(ROWS(GPS_IMPORT!$1:4)<=COUNTIF(GPS_IMPORT!$A$2:$A$10000,$B$5),INDEX(GPS_IMPORT!$2:$10000,MATCH($B$5,(GPS_IMPORT!$A$2:$A$10000),0)+ROWS($1:4)-1,COLUMN()-1),0)","v":349350.00618354703},{"$f":"IF(ROWS(GPS_IMPORT!$1:4)<=COUNTIF(GPS_IMPORT!$A$2:$A$10000,$B$5),INDEX(GPS_IMPORT!$2:$10000,MATCH($B$5,(GPS_IMPORT!$A$2:$A$10000),0)+ROWS($1:4)-1,COLUMN()-1),0)","v":2283466.09688352},{"$f":"IF(ROWS(GPS_IMPORT!$1:4)<=COUNTIF(GPS_IMPORT!$A$2:$A$10000,$B$5),INDEX(GPS_IMPORT!$2:$10000,MATCH($B$5,(GPS_IMPORT!$A$2:$A$10000),0)+ROWS($1:4)-1,COLUMN()-1),0)","v":978.62754971592005},-7.883348735049367E-3,3.113902173936367E-3,-2.4892947858461412E-3,true]
[5,{"$f":"IF(ROWS(GPS_IMPORT!$1:5)<=COUNTIF(GPS_IMPORT!$A$2:$A$10000,$B$5),INDEX(GPS_IMPORT!$2:$10000,MATCH($B$5,(GPS_IMPORT!$A$2:$A$10000),0)+ROWS($1:5)-1,COLUMN()-1),0)","v":"GS23"},{"$f":"IF(ROWS(GPS_IMPORT!$1:5)<=COUNTIF(GPS_IMPORT!$A$2:$A$10000,$B$5),INDEX(GPS_IMPORT!$2:$10000,MATCH($B$5,(GPS_IMPORT!$A$2:$A$10000),0)+ROWS($1:5)-1,COLUMN()-1),0)","v":"12.18.2018"},{"$f":"IF(ROWS(GPS_IMPORT!$1:5)<=COUNTIF(GPS_IMPORT!$A$2:$A$10000,$B$5),INDEX(GPS_IMPORT!$2:$10000,MATCH($B$5,(GPS_IMPORT!$A$2:$A$10000),0)+ROWS($1:5)-1,COLUMN()-1),0)","v":"12:52:26.380"},{"$f":"IF(ROWS(GPS_IMPORT!$1:5)<=COUNTIF(GPS_IMPORT!$A$2:$A$10000,$B$5),INDEX(GPS_IMPORT!$2:$10000,MATCH($B$5,(GPS_IMPORT!$A$2:$A$10000),0)+ROWS($1:5)-1,COLUMN()-1),0)","v":349350.00062421098},{"$f":"IF(ROWS(GPS_IMPORT!$1:5)<=COUNTIF(GPS_IMPORT!$A$2:$A$10000,$B$5),INDEX(GPS_IMPORT!$2:$10000,MATCH($B$5,(GPS_IMPORT!$A$2:$A$10000),0)+ROWS($1:5)-1,COLUMN()-1),0)","v":2283466.1039630701},{"$f":"IF(ROWS(GPS_IMPORT!$1:5)<=COUNTIF(GPS_IMPORT!$A$2:$A$10000,$B$5),INDEX(GPS_IMPORT!$2:$10000,MATCH($B$5,(GPS_IMPORT!$A$2:$A$10000),0)+ROWS($1:5)-1,COLUMN()-1),0)","v":978.63091689250996},-2.3240126902237535E-3,-3.965647891163826E-3,-5.856471375750516E-3,true]
[6,{"$f":"IF(ROWS(GPS_IMPORT!$1:6)<=COUNTIF(GPS_IMPORT!$A$2:$A$10000,$B$5),INDEX(GPS_IMPORT!$2:$10000,MATCH($B$5,(GPS_IMPORT!$A$2:$A$10000),0)+ROWS($1:6)-1,COLUMN()-1),0)","v":"GS23"},{"$f":"IF(ROWS(GPS_IMPORT!$1:6)<=COUNTIF(GPS_IMPORT!$A$2:$A$10000,$B$5),INDEX(GPS_IMPORT!$2:$10000,MATCH($B$5,(GPS_IMPORT!$A$2:$A$10000),0)+ROWS($1:6)-1,COLUMN()-1),0)","v":"12.18.2018"},{"$f":"IF(ROWS(GPS_IMPORT!$1:6)<=COUNTIF(GPS_IMPORT!$A$2:$A$10000,$B$5),INDEX(GPS_IMPORT!$2:$10000,MATCH($B$5,(GPS_IMPORT!$A$2:$A$10000),0)+ROWS($1:6)-1,COLUMN()-1),0)","v":"12:52:37.990"},{"$f":"IF(ROWS(GPS_IMPORT!$1:6)<=COUNTIF(GPS_IMPORT!$A$2:$A$10000,$B$5),INDEX(GPS_IMPORT!$2:$10000,MATCH($B$5,(GPS_IMPORT!$A$2:$A$10000),0)+ROWS($1:6)-1,COLUMN()-1),0)","v":349350.00821792701},{"$f":"IF(ROWS(GPS_IMPORT!$1:6)<=COUNTIF(GPS_IMPORT!$A$2:$A$10000,$B$5),INDEX(GPS_IMPORT!$2:$10000,MATCH($B$5,(GPS_IMPORT!$A$2:$A$10000),0)+ROWS($1:6)-1,COLUMN()-1),0)","v":2283466.1051700599},{"$f":"IF(ROWS(GPS_IMPORT!$1:6)<=COUNTIF(GPS_IMPORT!$A$2:$A$10000,$B$5),INDEX(GPS_IMPORT!$2:$10000,MATCH($B$5,(GPS_IMPORT!$A$2:$A$10000),0)+ROWS($1:6)-1,COLUMN()-1),0)","v":978.61857611696996},-9.9177287193015218E-3,-5.1726377569139004E-3,6.4843041642461685E-3,true]
[7,{"$f":"IF(ROWS(GPS_IMPORT!$1:7)<=COUNTIF(GPS_IMPORT!$A$2:$A$10000,$B$5),INDEX(GPS_IMPORT!$2:$10000,MATCH($B$5,(GPS_IMPORT!$A$2:$A$10000),0)+ROWS($1:7)-1,COLUMN()-1),0)","v":"GS23"},{"$f":"IF(ROWS(GPS_IMPORT!$1:7)<=COUNTIF(GPS_IMPORT!$A$2:$A$10000,$B$5),INDEX(GPS_IMPORT!$2:$10000,MATCH($B$5,(GPS_IMPORT!$A$2:$A$10000),0)+ROWS($1:7)-1,COLUMN()-1),0)","v":"12.18.2018"},{"$f":"IF(ROWS(GPS_IMPORT!$1:7)<=COUNTIF(GPS_IMPORT!$A$2:$A$10000,$B$5),INDEX(GPS_IMPORT!$2:$10000,MATCH($B$5,(GPS_IMPORT!$A$2:$A$10000),0)+ROWS($1:7)-1,COLUMN()-1),0)","v":"12:52:49.360"},{"$f":"IF(ROWS(GPS_IMPORT!$1:7)<=COUNTIF(GPS_IMPORT!$A$2:$A$10000,$B$5),INDEX(GPS_IMPORT!$2:$10000,MATCH($B$5,(GPS_IMPORT!$A$2:$A$10000),0)+ROWS($1:7)-1,COLUMN()-1),0)","v":349350.0040902},{"$f":"IF(ROWS(GPS_IMPORT!$1:7)<=COUNTIF(GPS_IMPORT!$A$2:$A$10000,$B$5),INDEX(GPS_IMPORT!$2:$10000,MATCH($B$5,(GPS_IMPORT!$A$2:$A$10000),0)+ROWS($1:7)-1,COLUMN()-1),0)","v":2283466.1001132699},{"$f":"IF(ROWS(GPS_IMPORT!$1:7)<=COUNTIF(GPS_IMPORT!$A$2:$A$10000,$B$5),INDEX(GPS_IMPORT!$2:$10000,MATCH($B$5,(GPS_IMPORT!$A$2:$A$10000),0)+ROWS($1:7)-1,COLUMN()-1),0)","v":978.62443156984},-5.7900017127394676E-3,-1.1584768071770668E-4,6.2885129420919839E-4,true]
[8,{"$f":"IF(ROWS(GPS_IMPORT!$1:8)<=COUNTIF(GPS_IMPORT!$A$2:$A$10000,$B$5),INDEX(GPS_IMPORT!$2:$10000,MATCH($B$5,(GPS_IMPORT!$A$2:$A$10000),0)+ROWS($1:8)-1,COLUMN()-1),0)","v":"GS23"},{"$f":"IF(ROWS(GPS_IMPORT!$1:8)<=COUNTIF(GPS_IMPORT!$A$2:$A$10000,$B$5),INDEX(GPS_IMPORT!$2:$10000,MATCH($B$5,(GPS_IMPORT!$A$2:$A$10000),0)+ROWS($1:8)-1,COLUMN()-1),0)","v":"12.18.2018"},{"$f":"IF(ROWS(GPS_IMPORT!$1:8)<=COUNTIF(GPS_IMPORT!$A$2:$A$10000,$B$5),INDEX(GPS_IMPORT!$2:$10000,MATCH($B$5,(GPS_IMPORT!$A$2:$A$10000),0)+ROWS($1:8)-1,COLUMN()-1),0)","v":"12:53:03.180"},{"$f":"IF(ROWS(GPS_IMPORT!$1:8)<=COUNTIF(GPS_IMPORT!$A$2:$A$10000,$B$5),INDEX(GPS_IMPORT!$2:$10000,MATCH($B$5,(GPS_IMPORT!$A$2:$A$10000),0)+ROWS($1:8)-1,COLUMN()-1),0)","v":349349.99738012202},{"$f":"IF(ROWS(GPS_IMPORT!$1:8)<=COUNTIF(GPS_IMPORT!$A$2:$A$10000,$B$5),INDEX(GPS_IMPORT!$2:$10000,MATCH($B$5,(GPS_IMPORT!$A$2:$A$10000),0)+ROWS($1:8)-1,COLUMN()-1),0)","v":2283466.10190169},{"$f":"IF(ROWS(GPS_IMPORT!$1:8)<=COUNTIF(GPS_IMPORT!$A$2:$A$10000,$B$5),INDEX(GPS_IMPORT!$2:$10000,MATCH($B$5,(GPS_IMPORT!$A$2:$A$10000),0)+ROWS($1:8)-1,COLUMN()-1),0)","v":978.61282636962005},9.2007627245038748E-4,-1.904267817735672E-3,1.2234051514155908E-2,true]
[9,{"$f":"IF(ROWS(GPS_IMPORT!$1:9)<=COUNTIF(GPS_IMPORT!$A$2:$A$10000,$B$5),INDEX(GPS_IMPORT!$2:$10000,MATCH($B$5,(GPS_IMPORT!$A$2:$A$10000),0)+ROWS($1:9)-1,COLUMN()-1),0)","v":"GS23"},{"$f":"IF(ROWS(GPS_IMPORT!$1:9)<=COUNTIF(GPS_IMPORT!$A$2:$A$10000,$B$5),INDEX(GPS_IMPORT!$2:$10000,MATCH($B$5,(GPS_IMPORT!$A$2:$A$10000),0)+ROWS($1:9)-1,COLUMN()-1),0)","v":"12.18.2018"},{"$f":"IF(ROWS(GPS_IMPORT!$1:9)<=COUNTIF(GPS_IMPORT!$A$2:$A$10000,$B$5),INDEX(GPS_IMPORT!$2:$10000,MATCH($B$5,(GPS_IMPORT!$A$2:$A$10000),0)+ROWS($1:9)-1,COLUMN()-1),0)","v":"12:53:23.350"},{"$f":"IF(ROWS(GPS_IMPORT!$1:9)<=COUNTIF(GPS_IMPORT!$A$2:$A$10000,$B$5),INDEX(GPS_IMPORT!$2:$10000,MATCH($B$5,(GPS_IMPORT!$A$2:$A$10000),0)+ROWS($1:9)-1,COLUMN()-1),0)","v":349349.99534001201},{"$f":"IF(ROWS(GPS_IMPORT!$1:9)<=COUNTIF(GPS_IMPORT!$A$2:$A$10000,$B$5),INDEX(GPS_IMPORT!$2:$10000,MATCH($B$5,(GPS_IMPORT!$A$2:$A$10000),0)+ROWS($1:9)-1,COLUMN()-1),0)","v":2283466.0982341901},{"$f":"IF(ROWS(GPS_IMPORT!$1:9)<=COUNTIF(GPS_IMPORT!$A$2:$A$10000,$B$5),INDEX(GPS_IMPORT!$2:$10000,MATCH($B$5,(GPS_IMPORT!$A$2:$A$10000),0)+ROWS($1:9)-1,COLUMN()-1),0)","v":978.63003843829995},2.960186277050525E-3,1.7632320523262024E-3,-4.9780171657403116E-3,true]
[10,{"$f":"IF(ROWS(GPS_IMPORT!$1:10)<=COUNTIF(GPS_IMPORT!$A$2:$A$10000,$B$5),INDEX(GPS_IMPORT!$2:$10000,MATCH($B$5,(GPS_IMPORT!$A$2:$A$10000),0)+ROWS($1:10)-1,COLUMN()-1),0)","v":"GS23"},{"$f":"IF(ROWS(GPS_IMPORT!$1:10)<=COUNTIF(GPS_IMPORT!$A$2:$A$10000,$B$5),INDEX(GPS_IMPORT!$2:$10000,MATCH($B$5,(GPS_IMPORT!$A$2:$A$10000),0)+ROWS($1:10)-1,COLUMN()-1),0)","v":"12.18.2018"},{"$f":"IF(ROWS(GPS_IMPORT!$1:10)<=COUNTIF(GPS_IMPORT!$A$2:$A$10000,$B$5),INDEX(GPS_IMPORT!$2:$10000,MATCH($B$5,(GPS_IMPORT!$A$2:$A$10000),0)+ROWS($1:10)-1,COLUMN()-1),0)","v":"12:53:37.130"},{"$f":"IF(ROWS(GPS_IMPORT!$1:10)<=COUNTIF(GPS_IMPORT!$A$2:$A$10000,$B$5),INDEX(GPS_IMPORT!$2:$10000,MATCH($B$5,(GPS_IMPORT!$A$2:$A$10000),0)+ROWS($1:10)-1,COLUMN()-1),0)","v":349349.99854838901},{"$f":"IF(ROWS(GPS_IMPORT!$1:10)<=COUNTIF(GPS_IMPORT!$A$2:$A$10000,$B$5),INDEX(GPS_IMPORT!$2:$10000,MATCH($B$5,(GPS_IMPORT!$A$2:$A$10000),0)+ROWS($1:10)-1,COLUMN()-1),0)","v":2283466.1044435501},{"$f":"IF(ROWS(GPS_IMPORT!$1:10)<=COUNTIF(GPS_IMPORT!$A$2:$A$10000,$B$5),INDEX(GPS_IMPORT!$2:$10000,MATCH($B$5,(GPS_IMPORT!$A$2:$A$10000),0)+ROWS($1:10)-1,COLUMN()-1),0)","v":978.61581135944004},-2.4819071404635906E-4,-4.4461279176175594E-3,9.2490616941631743E-3,true]
[11,{"$f":"IF(ROWS(GPS_IMPORT!$1:11)<=COUNTIF(GPS_IMPORT!$A$2:$A$10000,$B$5),INDEX(GPS_IMPORT!$2:$10000,MATCH($B$5,(GPS_IMPORT!$A$2:$A$10000),0)+ROWS($1:11)-1,COLUMN()-1),0)","v":"GS23"},{"$f":"IF(ROWS(GPS_IMPORT!$1:11)<=COUNTIF(GPS_IMPORT!$A$2:$A$10000,$B$5),INDEX(GPS_IMPORT!$2:$10000,MATCH($B$5,(GPS_IMPORT!$A$2:$A$10000),0)+ROWS($1:11)-1,COLUMN()-1),0)","v":"12.18.2018"},{"$f":"IF(ROWS(GPS_IMPORT!$1:11)<=COUNTIF(GPS_IMPORT!$A$2:$A$10000,$B$5),INDEX(GPS_IMPORT!$2:$10000,MATCH($B$5,(GPS_IMPORT!$A$2:$A$10000),0)+ROWS($1:11)-1,COLUMN()-1),0)","v":"12:53:49.110"},{"$f":"IF(ROWS(GPS_IMPORT!$1:11)<=COUNTIF(GPS_IMPORT!$A$2:$A$10000,$B$5),INDEX(GPS_IMPORT!$2:$10000,MATCH($B$5,(GPS_IMPORT!$A$2:$A$10000),0)+ROWS($1:11)-1,COLUMN()-1),0)","v":349349.999376291},{"$f":"IF(ROWS(GPS_IMPORT!$1:11)<=COUNTIF(GPS_IMPORT!$A$2:$A$10000,$B$5),INDEX(GPS_IMPORT!$2:$10000,MATCH($B$5,(GPS_IMPORT!$A$2:$A$10000),0)+ROWS($1:11)-1,COLUMN()-1),0)","v":2283466.09969615},{"$f":"IF(ROWS(GPS_IMPORT!$1:11)<=COUNTIF(GPS_IMPORT!$A$2:$A$10000,$B$5),INDEX(GPS_IMPORT!$2:$10000,MATCH($B$5,(GPS_IMPORT!$A$2:$A$10000),0)+ROWS($1:11)-1,COLUMN()-1),0)","v":978.61581964904997},-1.0760927107185125E-3,3.0127214267849922E-4,9.2407720842402341E-3,true]
[12,{"$f":"IF(ROWS(GPS_IMPORT!$1:12)<=COUNTIF(GPS_IMPORT!$A$2:$A$10000,$B$5),INDEX(GPS_IMPORT!$2:$10000,MATCH($B$5,(GPS_IMPORT!$A$2:$A$10000),0)+ROWS($1:12)-1,COLUMN()-1),0)","v":"GS23"},{"$f":"IF(ROWS(GPS_IMPORT!$1:12)<=COUNTIF(GPS_IMPORT!$A$2:$A$10000,$B$5),INDEX(GPS_IMPORT!$2:$10000,MATCH($B$5,(GPS_IMPORT!$A$2:$A$10000),0)+ROWS($1:12)-1,COLUMN()-1),0)","v":"12.18.2018"},{"$f":"IF(ROWS(GPS_IMPORT!$1:12)<=COUNTIF(GPS_IMPORT!$A$2:$A$10000,$B$5),INDEX(GPS_IMPORT!$2:$10000,MATCH($B$5,(GPS_IMPORT!$A$2:$A$10000),0)+ROWS($1:12)-1,COLUMN()-1),0)","v":"12:54:03.100"},{"$f":"IF(ROWS(GPS_IMPORT!$1:12)<=COUNTIF(GPS_IMPORT!$A$2:$A$10000,$B$5),INDEX(GPS_IMPORT!$2:$10000,MATCH($B$5,(GPS_IMPORT!$A$2:$A$10000),0)+ROWS($1:12)-1,COLUMN()-1),0)","v":349350.00273041602},{"$f":"IF(ROWS(GPS_IMPORT!$1:12)<=COUNTIF(GPS_IMPORT!$A$2:$A$10000,$B$5),INDEX(GPS_IMPORT!$2:$10000,MATCH($B$5,(GPS_IMPORT!$A$2:$A$10000),0)+ROWS($1:12)-1,COLUMN()-1),0)","v":2283466.10992064},{"$f":"IF(ROWS(GPS_IMPORT!$1:12)<=COUNTIF(GPS_IMPORT!$A$2:$A$10000,$B$5),INDEX(GPS_IMPORT!$2:$10000,MATCH($B$5,(GPS_IMPORT!$A$2:$A$10000),0)+ROWS($1:12)-1,COLUMN()-1),0)","v":978.61005526884003},-4.4302177266217768E-3,-9.9232178181409836E-3,1.5005152294179425E-2,true]
[13,{"$f":"IF(ROWS(GPS_IMPORT!$1:13)<=COUNTIF(GPS_IMPORT!$A$2:$A$10000,$B$5),INDEX(GPS_IMPORT!$2:$10000,MATCH($B$5,(GPS_IMPORT!$A$2:$A$10000),0)+ROWS($1:13)-1,COLUMN()-1),0)","v":0},{"$f":"IF(ROWS(GPS_IMPORT!$1:13)<=COUNTIF(GPS_IMPORT!$A$2:$A$10000,$B$5),INDEX(GPS_IMPORT!$2:$10000,MATCH($B$5,(GPS_IMPORT!$A$2:$A$10000),0)+ROWS($1:13)-1,COLUMN()-1),0)","v":"00:00:00"},{"$f":"IF(ROWS(GPS_IMPORT!$1:13)<=COUNTIF(GPS_IMPORT!$A$2:$A$10000,$B$5),INDEX(GPS_IMPORT!$2:$10000,MATCH($B$5,(GPS_IMPORT!$A$2:$A$10000),0)+ROWS($1:13)-1,COLUMN()-1),0)","v":"00:00:00"},{"$f":"IF(ROWS(GPS_IMPORT!$1:13)<=COUNTIF(GPS_IMPORT!$A$2:$A$10000,$B$5),INDEX(GPS_IMPORT!$2:$10000,MATCH($B$5,(GPS_IMPORT!$A$2:$A$10000),0)+ROWS($1:13)-1,COLUMN()-1),0)","v":0},{"$f":"IF(ROWS(GPS_IMPORT!$1:13)<=COUNTIF(GPS_IMPORT!$A$2:$A$10000,$B$5),INDEX(GPS_IMPORT!$2:$10000,MATCH($B$5,(GPS_IMPORT!$A$2:$A$10000),0)+ROWS($1:13)-1,COLUMN()-1),0)","v":0},{"$f":"IF(ROWS(GPS_IMPORT!$1:13)<=COUNTIF(GPS_IMPORT!$A$2:$A$10000,$B$5),INDEX(GPS_IMPORT!$2:$10000,MATCH($B$5,(GPS_IMPORT!$A$2:$A$10000),0)+ROWS($1:13)-1,COLUMN()-1),0)","v":0},{"$f":"IF(E19>0,E$22-E19,0)","v":0},0,0,false]
[14,{"$f":"IF(ROWS(GPS_IMPORT!$1:14)<=COUNTIF(GPS_IMPORT!$A$2:$A$10000,$B$5),INDEX(GPS_IMPORT!$2:$10000,MATCH($B$5,(GPS_IMPORT!$A$2:$A$10000),0)+ROWS($1:14)-1,COLUMN()-1),0)","v":0},{"$f":"IF(ROWS(GPS_IMPORT!$1:14)<=COUNTIF(GPS_IMPORT!$A$2:$A$10000,$B$5),INDEX(GPS_IMPORT!$2:$10000,MATCH($B$5,(GPS_IMPORT!$A$2:$A$10000),0)+ROWS($1:14)-1,COLUMN()-1),0)","v":"00:00:00"},{"$f":"IF(ROWS(GPS_IMPORT!$1:14)<=COUNTIF(GPS_IMPORT!$A$2:$A$10000,$B$5),INDEX(GPS_IMPORT!$2:$10000,MATCH($B$5,(GPS_IMPORT!$A$2:$A$10000),0)+ROWS($1:14)-1,COLUMN()-1),0)","v":"00:00:00"},{"$f":"IF(ROWS(GPS_IMPORT!$1:14)<=COUNTIF(GPS_IMPORT!$A$2:$A$10000,$B$5),INDEX(GPS_IMPORT!$2:$10000,MATCH($B$5,(GPS_IMPORT!$A$2:$A$10000),0)+ROWS($1:14)-1,COLUMN()-1),0)","v":0},{"$f":"IF(ROWS(GPS_IMPORT!$1:14)<=COUNTIF(GPS_IMPORT!$A$2:$A$10000,$B$5),INDEX(GPS_IMPORT!$2:$10000,MATCH($B$5,(GPS_IMPORT!$A$2:$A$10000),0)+ROWS($1:14)-1,COLUMN()-1),0)","v":0},{"$f":"IF(ROWS(GPS_IMPORT!$1:14)<=COUNTIF(GPS_IMPORT!$A$2:$A$10000,$B$5),INDEX(GPS_IMPORT!$2:$10000,MATCH($B$5,(GPS_IMPORT!$A$2:$A$10000),0)+ROWS($1:14)-1,COLUMN()-1),0)","v":0},0,0,0,false]
[15,{"$f":"IF(ROWS(GPS_IMPORT!$1:15)<=COUNTIF(GPS_IMPORT!$A$2:$A$10000,$B$5),INDEX(GPS_IMPORT!$2:$10000,MATCH($B$5,(GPS_IMPORT!$A$2:$A$10000),0)+ROWS($1:15)-1,COLUMN()-1),0)","v":0},{"$f":"IF(ROWS(GPS_IMPORT!$1:15)<=COUNTIF(GPS_IMPORT!$A$2:$A$10000,$B$5),INDEX(GPS_IMPORT!$2:$10000,MATCH($B$5,(GPS_IMPORT!$A$2:$A$10000),0)+ROWS($1:15)-1,COLUMN()-1),0)","v":"00:00:00"},{"$f":"IF(ROWS(GPS_IMPORT!$1:15)<=COUNTIF(GPS_IMPORT!$A$2:$A$10000,$B$5),INDEX(GPS_IMPORT!$2:$10000,MATCH($B$5,(GPS_IMPORT!$A$2:$A$10000),0)+ROWS($1:15)-1,COLUMN()-1),0)","v":"00:00:00"},{"$f":"IF(ROWS(GPS_IMPORT!$1:15)<=COUNTIF(GPS_IMPORT!$A$2:$A$10000,$B$5),INDEX(GPS_IMPORT!$2:$10000,MATCH($B$5,(GPS_IMPORT!$A$2:$A$10000),0)+ROWS($1:15)-1,COLUMN()-1),0)","v":0},{"$f":"IF(ROWS(GPS_IMPORT!$1:15)<=COUNTIF(GPS_IMPORT!$A$2:$A$10000,$B$5),INDEX(GPS_IMPORT!$2:$10000,MATCH($B$5,(GPS_IMPORT!$A$2:$A$10000),0)+ROWS($1:15)-1,COLUMN()-1),0)","v":0},{"$f":"IF(ROWS(GPS_IMPORT!$1:15)<=COUNTIF(GPS_IMPORT!$A$2:$A$10000,$B$5),INDEX(GPS_IMPORT!$2:$10000,MATCH($B$5,(GPS_IMPORT!$A$2:$A$10000),0)+ROWS($1:15)-1,COLUMN()-1),0)","v":0},0,0,0,false]
[null,null,null,"AVERAGE",{"$f":"(IF($K$7=TRUE,E7,0)+IF($K$8=TRUE,E8,0)+IF($K$9=TRUE,E9,0)+IF($K$10=TRUE,E10,0)+IF($K$11=TRUE,E11,0)+IF($K$12=TRUE,E12,0)+IF($K$13=TRUE,E13,0)+IF($K$14=TRUE,E14,0)+IF($K$15=TRUE,E15,0)+IF($K$16=TRUE,E16,0)+IF($K$17=TRUE,E17,0)+IF($K$18=TRUE,E18,0)+IF($K$19=TRUE,E19,0)+IF($K$20=TRUE,E20,0)+IF($K$21=TRUE,E21,0))/(IF($K$7=TRUE,1,0)+IF($K$8=TRUE,1,0)+IF($K$9=TRUE,1,0)+IF($K$10=TRUE,1,0)+IF($K$11=TRUE,1,0)+IF($K$12=TRUE,1,0)+IF($K$13=TRUE,1,0)+IF($K$14=TRUE,1,0)+IF($K$15=TRUE,1,0)+IF($K$16=TRUE,1,0)+IF($K$17=TRUE,1,0)+IF($K$18=TRUE,1,0)+IF($K$19=TRUE,1,0)+IF($K$20=TRUE,1,0)+IF($K$21=TRUE,1,0))","v":349349.99830019829},{"$f":"(IF($K$7=TRUE,F7,0)+IF($K$8=TRUE,F8,0)+IF($K$9=TRUE,F9,0)+IF($K$10=TRUE,F10,0)+IF($K$11=TRUE,F11,0)+IF($K$12=TRUE,F12,0)+IF($K$13=TRUE,F13,0)+IF($K$14=TRUE,F14,0)+IF($K$15=TRUE,F15,0)+IF($K$16=TRUE,F16,0)+IF($K$17=TRUE,F17,0)+IF($K$18=TRUE,F18,0)+IF($K$19=TRUE,F19,0)+IF($K$20=TRUE,F20,0)+IF($K$21=TRUE,F21,0))/(IF($K$7=TRUE,1,0)+IF($K$8=TRUE,1,0)+IF($K$9=TRUE,1,0)+IF($K$10=TRUE,1,0)+IF($K$11=TRUE,1,0)+IF($K$12=TRUE,1,0)+IF($K$13=TRUE,1,0)+IF($K$14=TRUE,1,0)+IF($K$15=TRUE,1,0)+IF($K$16=TRUE,1,0)+IF($K$17=TRUE,1,0)+IF($K$18=TRUE,1,0)+IF($K$19=TRUE,1,0)+IF($K$20=TRUE,1,0)+IF($K$21=TRUE,1,0))","v":2283466.0999974222},{"$f":"(IF($K$7=TRUE,G7,0)+IF($K$8=TRUE,G8,0)+IF($K$9=TRUE,G9,0)+IF($K$10=TRUE,G10,0)+IF($K$11=TRUE,G11,0)+IF($K$12=TRUE,G12,0)+IF($K$13=TRUE,G13,0)+IF($K$14=TRUE,G14,0)+IF($K$15=TRUE,G15,0)+IF($K$16=TRUE,G16,0)+IF($K$17=TRUE,G17,0)+IF($K$18=TRUE,G18,0)+IF($K$19=TRUE,G19,0)+IF($K$20=TRUE,G20,0)+IF($K$21=TRUE,G21,0))/\n(IF($K$7=TRUE,1,0)+IF($K$8=TRUE,1,0)+IF($K$9=TRUE,1,0)+IF($K$10=TRUE,1,0)+IF($K$11=TRUE,1,0)+IF($K$12=TRUE,1,0)+IF($K$13=TRUE,1,0)+IF($K$14=TRUE,1,0)+IF($K$15=TRUE,1,0)+IF($K$16=TRUE,1,0)+IF($K$17=TRUE,1,0)+IF($K$18=TRUE,1,0)+IF($K$19=TRUE,1,0)+IF($K$20=TRUE,1,0)+IF($K$21=TRUE,1,0))","v":978.62506042113421},"RMSE:","RMSE:","RMSE:"]
[null,null,null,null,null,null,"RMSE IN US SURVEY FEET:",{"$f":"SQRT((\n(IF($K$7=TRUE,H7^2,0))+(IF($K$8=TRUE,H8^2,0))+(IF($K$9=TRUE,H9^2,0))+(IF($K$10=TRUE,H10^2,0))+(IF($K$11=TRUE,H11^2,0))+(IF($K$12=TRUE,H12^2,0))+(IF($K$13=TRUE,H13^2,0))+(IF($K$14=TRUE,H14^2,0))+(IF($K$15=TRUE,H15^2,0))+(IF($K$16=TRUE,H16^2,0))+(IF($K$17=TRUE,H17^2,0))+(IF($K$18=TRUE,H18^2,0))+(IF($K$19=TRUE,H19^2,0))+(IF($K$20=TRUE,H20^2,0))+(IF($K$21=TRUE,H21^2,0)))/\n(IF($K$7=TRUE,1,0)+IF($K$8=TRUE,1,0)+IF($K$9=TRUE,1,0)+IF($K$10=TRUE,1,0)+IF($K$11=TRUE,1,0)+IF($K$12=TRUE,1,0)+IF($K$13=TRUE,1,0)+IF($K$14=TRUE,1,0)+IF($K$15=TRUE,1,0)+IF($K$16=TRUE,1,0)+IF($K$17=TRUE,1,0)+IF($K$18=TRUE,1,0)+IF($K$19=TRUE,1,0)+IF($K$20=TRUE,1,0)+IF($K$21=TRUE,1,0)))","v":6.7061409814199368E-3},{"$f":"SQRT((\n(IF($K$7=TRUE,I7^2,0))+(IF($K$8=TRUE,I8^2,0))+(IF($K$9=TRUE,I9^2,0))+(IF($K$10=TRUE,I10^2,0))+(IF($K$11=TRUE,I11^2,0))+(IF($K$12=TRUE,I12^2,0))+(IF($K$13=TRUE,I13^2,0))+(IF($K$14=TRUE,I14^2,0))+(IF($K$15=TRUE,I15^2,0))+(IF($K$16=TRUE,I16^2,0))+(IF($K$17=TRUE,I17^2,0))+(IF($K$18=TRUE,I18^2,0))+(IF($K$19=TRUE,I19^2,0))+(IF($K$20=TRUE,I20^2,0))+(IF($K$21=TRUE,I21^2,0)))/\n(IF($K$7=TRUE,1,0)+IF($K$8=TRUE,1,0)+IF($K$9=TRUE,1,0)+IF($K$10=TRUE,1,0)+IF($K$11=TRUE,1,0)+IF($K$12=TRUE,1,0)+IF($K$13=TRUE,1,0)+IF($K$14=TRUE,1,0)+IF($K$15=TRUE,1,0)+IF($K$16=TRUE,1,0)+IF($K$17=TRUE,1,0)+IF($K$18=TRUE,1,0)+IF($K$19=TRUE,1,0)+IF($K$20=TRUE,1,0)+IF($K$21=TRUE,1,0)))","v":5.161989957956155E-3},{"$f":"SQRT((\n(IF($K$7=TRUE,J7^2,0))+(IF($K$8=TRUE,J8^2,0))+(IF($K$9=TRUE,J9^2,0))+(IF($K$10=TRUE,J10^2,0))+(IF($K$11=TRUE,J11^2,0))+(IF($K$12=TRUE,J12^2,0))+(IF($K$13=TRUE,J13^2,0))+(IF($K$14=TRUE,J14^2,0))+(IF($K$15=TRUE,J15^2,0))+(IF($K$16=TRUE,J16^2,0))+(IF($K$17=TRUE,J17^2,0))+(IF($K$18=TRUE,J18^2,0))+(IF($K$19=TRUE,J19^2,0))+(IF($K$20=TRUE,J20^2,0))+(IF($K$21=TRUE,J21^2,0)))/\n(IF($K$7=TRUE,1,0)+IF($K$8=TRUE,1,0)+IF($K$9=TRUE,1,0)+IF($K$10=TRUE,1,0)+IF($K$11=TRUE,1,0)+IF($K$12=TRUE,1,0)+IF($K$13=TRUE,1,0)+IF($K$14=TRUE,1,0)+IF($K$15=TRUE,1,0)+IF($K$16=TRUE,1,0)+IF($K$17=TRUE,1,0)+IF($K$18=TRUE,1,0)+IF($K$19=TRUE,1,0)+IF($K$20=TRUE,1,0)+IF($K$21=TRUE,1,0)))","v":1.063999518230979E-2}]
[null,null,null,1]
[null,null,"UNITLESS GRID TO GROUND MULTIPLIER",{"$f":"IF(REPORT!C13=\"n/a\",\"0.00000000\",REPORT!C13)","v":0},null,null,null,{"$f":"IF(H23<=0.029,\"PASS\",\"FAIL\")","v":"PASS"},{"$f":"IF(I23<=0.029,\"PASS\",\"FAIL\")","v":"PASS"},{"$f":"IF(J23<=0.039,\"PASS\",\"FAIL\")","v":"PASS"},null,null,null,null,null,"GS"]
[]
["AVERAGED GPS-DERIVED POSITION",null,null,null,null,null,null,null,"Notes:"]
[null,"MONUMENT COORDINATES",null,"NORTHING","EASTING","ORTHO HEIGHT"]
[null,"US Survey Feet (GRID)",null,{"$f":"$E$22","v":349349.99830019829},{"$f":"$F$22","v":2283466.0999974222},{"$f":"$G$22","v":978.62506042113421}]
[]
["LEVELED ELEVATION"]
["US SURVEY FEET",null,"N/A","(Type the leveled elevation or N/A if no leveled elevation is available)"]
["MONUMENT HELD",null,null,"(Type the monument name from which leveling originated)"]
["LEVELED ELEVATION - GPS DERIVED ELEVATION   = ",null,null,null,{"$f":"IF(C32=\"N/A\",\"N/A\",C32-(F29*D24))","v":"N/A"}]
[]
["FINAL MONUMENT COORDINATES"]
[null,"MONUMENT COORDINATES",null,"NORTHING","EASTING","ELEVATION","FEATURE CODE"]
[null,"US SURVEY FEET (GRID)",null,{"$f":"$E$22*$D$24","v":349349.99830019829},{"$f":"$F$22*$D$24","v":2283466.0999974222},{"$f":"IF($C$32=\"N/A\",($G$22*$D$24),$C$32)","v":978.62506042113421},"AERTAR"]
[null,"US SURVEY FEET (GROUND)",null,{"$f":"$D$38*$D$25","v":0},{"$f":"$E$38*$D$25","v":0},{"$f":"IF($C$32=\"N/A\",($G$22*$D$24),$C$32)","v":978.62506042113421},{"$f":"G38","v":"AERTAR"}]
[]
["∆ North,  ∆ East, and ∆ Ht. are the difference between the average northing, easting, and height for each observation.",null,null,null,null,null,null,null,"Mask Angle:","10°"]

{"sheet":"GS24","index":30,"n_rows":41,"n_cols":11,"rows_kept":41,"cut":false,"hidden":false,"merged":[[0,0,0,10],[26,0,26,6],[27,1,27,2],[27,8,38,10],[28,1,28,2],[30,0,30,6],[35,0,35,6],[36,1,36,2],[37,1,37,2],[38,1,38,2]]}
["VRS GNSS Project Control Monument Coordinate Analysis"]
[]
["Project:",{"$f":"REPORT!B2","v":"TUS-800-22.74"},"GPS Antenna:","LEICA GS14",null,null,null,null,null,"Report Date:",{"$f":"REPORT!C49","v":"2018-12-19"}]
["PID:",{"$f":"REPORT!E2","v":100603},"VRS Network:","ODOT VRS",null,null,null,null,null,"Prepared By:",{"$f":"REPORT!C48","v":"Kolton Wilson"}]
["Point ID:","GS24","No. of Sessions:",{"$f":"COUNTIF(GPS_IMPORT!A2:A1000,$B$5)","v":12},null,null,null,null,null,"Checked By:",{"$f":"REPORT!C52","v":"Joel Swick"}]
["SESSION #","Point","Observation Date","Start Time","Northing(sft)","Easting(sft)","Height(sft)","∆ Northing(sft)","∆ Easting(sft)","∆ Height(sft)","Include in Solution?"]
[1,{"$f":"IF(ROWS(GPS_IMPORT!$1:1)<=COUNTIF(GPS_IMPORT!$A$2:$A$10000,$B$5),INDEX(GPS_IMPORT!$2:$10000,MATCH($B$5,(GPS_IMPORT!$A$2:$A$10000),0)+ROWS($1:1)-1,COLUMN()-1),0)","v":"GS24"},{"$f":"IF(ROWS(GPS_IMPORT!$1:1)<=COUNTIF(GPS_IMPORT!$A$2:$A$10000,$B$5),INDEX(GPS_IMPORT!$2:$10000,MATCH($B$5,(GPS_IMPORT!$A$2:$A$10000),0)+ROWS($1:1)-1,COLUMN()-1),0)","v":"12.18.2018"},{"$f":"IF(ROWS(GPS_IMPORT!$1:1)<=COUNTIF(GPS_IMPORT!$A$2:$A$10000,$B$5),INDEX(GPS_IMPORT!$2:$10000,MATCH($B$5,(GPS_IMPORT!$A$2:$A$10000),0)+ROWS($1:1)-1,COLUMN()-1),0)","v":"13:00:21.910"},{"$f":"IF(ROWS(GPS_IMPORT!$1:1)<=COUNTIF(GPS_IMPORT!$A$2:$A$10000,$B$5),INDEX(GPS_IMPORT!$2:$10000,MATCH($B$5,(GPS_IMPORT!$A$2:$A$10000),0)+ROWS($1:1)-1,COLUMN()-1),0)","v":351575.67411318602},{"$f":"IF(ROWS(GPS_IMPORT!$1:1)<=COUNTIF(GPS_IMPORT!$A$2:$A$10000,$B$5),INDEX(GPS_IMPORT!$2:$10000,MATCH($B$5,(GPS_IMPORT!$A$2:$A$10000),0)+ROWS($1:1)-1,COLUMN()-1),0)","v":2284931.05341005},{"$f":"IF(ROWS(GPS_IMPORT!$1:1)<=COUNTIF(GPS_IMPORT!$A$2:$A$10000,$B$5),INDEX(GPS_IMPORT!$2:$10000,MATCH($B$5,(GPS_IMPORT!$A$2:$A$10000),0)+ROWS($1:1)-1,COLUMN()-1),0)","v":953.80747382457002},{"$f":"IF(E7>0,E$22-E7,0)","v":6.0989138437435031E-3},-1.0785993188619614E-2,1.2627189244199144E-2,true]
[2,{"$f":"IF(ROWS(GPS_IMPORT!$1:2)<=COUNTIF(GPS_IMPORT!$A$2:$A$10000,$B$5),INDEX(GPS_IMPORT!$2:$10000,MATCH($B$5,(GPS_IMPORT!$A$2:$A$10000),0)+ROWS($1:2)-1,COLUMN()-1),0)","v":"GS24"},{"$f":"IF(ROWS(GPS_IMPORT!$1:2)<=COUNTIF(GPS_IMPORT!$A$2:$A$10000,$B$5),INDEX(GPS_IMPORT!$2:$10000,MATCH($B$5,(GPS_IMPORT!$A$2:$A$10000),0)+ROWS($1:2)-1,COLUMN()-1),0)","v":"12.18.2018"},{"$f":"IF(ROWS(GPS_IMPORT!$1:2)<=COUNTIF(GPS_IMPORT!$A$2:$A$10000,$B$5),INDEX(GPS_IMPORT!$2:$10000,MATCH($B$5,(GPS_IMPORT!$A$2:$A$10000),0)+ROWS($1:2)-1,COLUMN()-1),0)","v":"13:00:36.610"},{"$f":"IF(ROWS(GPS_IMPORT!$1:2)<=COUNTIF(GPS_IMPORT!$A$2:$A$10000,$B$5),INDEX(GPS_IMPORT!$2:$10000,MATCH($B$5,(GPS_IMPORT!$A$2:$A$10000),0)+ROWS($1:2)-1,COLUMN()-1),0)","v":351575.66790235799},{"$f":"IF(ROWS(GPS_IMPORT!$1:2)<=COUNTIF(GPS_IMPORT!$A$2:$A$10000,$B$5),INDEX(GPS_IMPORT!$2:$10000,MATCH($B$5,(GPS_IMPORT!$A$2:$A$10000),0)+ROWS($1:2)-1,COLUMN()-1),0)","v":2284931.0454854402},{"$f":"IF(ROWS(GPS_IMPORT!$1:2)<=COUNTIF(GPS_IMPORT!$A$2:$A$10000,$B$5),INDEX(GPS_IMPORT!$2:$10000,MATCH($B$5,(GPS_IMPORT!$A$2:$A$10000),0)+ROWS($1:2)-1,COLUMN()-1),0)","v":953.80654207607995},1.2309741869103163E-2,-2.8613833710551262E-3,1.3558937734273968E-2,true]
[3,{"$f":"IF(ROWS(GPS_IMPORT!$1:3)<=COUNTIF(GPS_IMPORT!$A$2:$A$10000,$B$5),INDEX(GPS_IMPORT!$2:$10000,MATCH($B$5,(GPS_IMPORT!$A$2:$A$10000),0)+ROWS($1:3)-1,COLUMN()-1),0)","v":"GS24"},{"$f":"IF(ROWS(GPS_IMPORT!$1:3)<=COUNTIF(GPS_IMPORT!$A$2:$A$10000,$B$5),INDEX(GPS_IMPORT!$2:$10000,MATCH($B$5,(GPS_IMPORT!$A$2:$A$10000),0)+ROWS($1:3)-1,COLUMN()-1),0)","v":"12.18.2018"},{"$f":"IF(ROWS(GPS_IMPORT!$1:3)<=COUNTIF(GPS_IMPORT!$A$2:$A$10000,$B$5),INDEX(GPS_IMPORT!$2:$10000,MATCH($B$5,(GPS_IMPORT!$A$2:$A$10000),0)+ROWS($1:3)-1,COLUMN()-1),0)","v":"13:00:47.810"},{"$f":"IF(ROWS(GPS_IMPORT!$1:3)<=COUNTIF(GPS_IMPORT!$A$2:$A$10000,$B$5),INDEX(GPS_IMPORT!$2:$10000,MATCH($B$5,(GPS_IMPORT!$A$2:$A$10000),0)+ROWS($1:3)-1,COLUMN()-1),0)","v":351575.67463618697},{"$f":"IF(ROWS(GPS_IMPORT!$1:3)<=COUNTIF(GPS_IMPORT!$A$2:$A$10000,$B$5),INDEX(GPS_IMPORT!$2:$10000,MATCH($B$5,(GPS_IMPORT!$A$2:$A$10000),0)+ROWS($1:3)-1,COLUMN()-1),0)","v":2284931.0553839002},{"$f":"IF(ROWS(GPS_IMPORT!$1:3)<=COUNTIF(GPS_IMPORT!$A$2:$A$10000,$B$5),INDEX(GPS_IMPORT!$2:$10000,MATCH($B$5,(GPS_IMPORT!$A$2:$A$10000),0)+ROWS($1:3)-1,COLUMN()-1),0)","v":953.81423069689004},5.5759128881618381E-3,-1.2759843375533819E-2,5.870316924188046E-3,true]
[4,{"$f":"IF(ROWS(GPS_IMPORT!$1:4)<=COUNTIF(GPS_IMPORT!$A$2:$A$10000,$B$5),INDEX(GPS_IMPORT!$2:$10000,MATCH($B$5,(GPS_IMPORT!$A$2:$A$10000),0)+ROWS($1:4)-1,COLUMN()-1),0)","v":"GS24"},{"$f":"IF(ROWS(GPS_IMPORT!$1:4)<=COUNTIF(GPS_IMPORT!$A$2:$A$10000,$B$5),INDEX(GPS_IMPORT!$2:$10000,MATCH($B$5,(GPS_IMPORT!$A$2:$A$10000),0)+ROWS($1:4)-1,COLUMN()-1),0)","v":"12.18.2018"},{"$f":"IF(ROWS(GPS_IMPORT!$1:4)<=COUNTIF(GPS_IMPORT!$A$2:$A$10000,$B$5),INDEX(GPS_IMPORT!$2:$10000,MATCH($B$5,(GPS_IMPORT!$A$2:$A$10000),0)+ROWS($1:4)-1,COLUMN()-1),0)","v":"13:00:57.840"},{"$f":"IF(ROWS(GPS_IMPORT!$1:4)<=COUNTIF(GPS_IMPORT!$A$2:$A$10000,$B$5),INDEX(GPS_IMPORT!$2:$10000,MATCH($B$5,(GPS_IMPORT!$A$2:$A$10000),0)+ROWS($1:4)-1,COLUMN()-1),0)","v":351575.67359798501},{"$f":"IF(ROWS(GPS_IMPORT!$1:4)<=COUNTIF(GPS_IMPORT!$A$2:$A$10000,$B$5),INDEX(GPS_IMPORT!$2:$10000,MATCH($B$5,(GPS_IMPORT!$A$2:$A$10000),0)+ROWS($1:4)-1,COLUMN()-1),0)","v":2284931.0549036898},{"$f":"IF(ROWS(GPS_IMPORT!$1:4)<=COUNTIF(GPS_IMPORT!$A$2:$A$10000,$B$5),INDEX(GPS_IMPORT!$2:$10000,MATCH($B$5,(GPS_IMPORT!$A$2:$A$10000),0)+ROWS($1:4)-1,COLUMN()-1),0)","v":953.81179317881003},6.6141148563474417E-3,-1.2279632966965437E-2,8.3078350041887461E-3,true]
[5,{"$f":"IF(ROWS(GPS_IMPORT!$1:5)<=COUNTIF(GPS_IMPORT!$A$2:$A$10000,$B$5),INDEX(GPS_IMPORT!$2:$10000,MATCH($B$5,(GPS_IMPORT!$A$2:$A$10000),0)+ROWS($1:5)-1,COLUMN()-1),0)","v":"GS24"},{"$f":"IF(ROWS(GPS_IMPORT!$1:5)<=COUNTIF(GPS_IMPORT!$A$2:$A$10000,$B$5),INDEX(GPS_IMPORT!$2:$10000,MATCH($B$5,(GPS_IMPORT!$A$2:$A$10000),0)+ROWS($1:5)-1,COLUMN()-1),0)","v":"12.18.2018"},{"$f":"IF(ROWS(GPS_IMPORT!$1:5)<=COUNTIF(GPS_IMPORT!$A$2:$A$10000,$B$5),INDEX(GPS_IMPORT!$2:$10000,MATCH($B$5,(GPS_IMPORT!$A$2:$A$10000),0)+ROWS($1:5)-1,COLUMN()-1),0)","v":"13:01:18.870"},{"$f":"IF(ROWS(GPS_IMPORT!$1:5)<=COUNTIF(GPS_IMPORT!$A$2:$A$10000,$B$5),INDEX(GPS_IMPORT!$2:$10000,MATCH($B$5,(GPS_IMPORT!$A$2:$A$10000),0)+ROWS($1:5)-1,COLUMN()-1),0)","v":351575.68449056603},{"$f":"IF(ROWS(GPS_IMPORT!$1:5)<=COUNTIF(GPS_IMPORT!$A$2:$A$10000,$B$5),INDEX(GPS_IMPORT!$2:$10000,MATCH($B$5,(GPS_IMPORT!$A$2:$A$10000),0)+ROWS($1:5)-1,COLUMN()-1),0)","v":2284931.05304565},{"$f":"IF(ROWS(GPS_IMPORT!$1:5)<=COUNTIF(GPS_IMPORT!$A$2:$A$10000,$B$5),INDEX(GPS_IMPORT!$2:$10000,MATCH($B$5,(GPS_IMPORT!$A$2:$A$10000),0)+ROWS($1:5)-1,COLUMN()-1),0)","v":953.82912733973001},-4.2784661636687815E-3,-1.0421593207865953E-2,-9.0263259157836728E-3,true]
[6,{"$f":"IF(ROWS(GPS_IMPORT!$1:6)<=COUNTIF(GPS_IMPORT!$A$2:$A$10000,$B$5),INDEX(GPS_IMPORT!$2:$10000,MATCH($B$5,(GPS_IMPORT!$A$2:$A$10000),0)+ROWS($1:6)-1,COLUMN()-1),0)","v":"GS24"},{"$f":"IF(ROWS(GPS_IMPORT!$1:6)<=COUNTIF(GPS_IMPORT!$A$2:$A$10000,$B$5),INDEX(GPS_IMPORT!$2:$10000,MATCH($B$5,(GPS_IMPORT!$A$2:$A$10000),0)+ROWS($1:6)-1,COLUMN()-1),0)","v":"12.18.2018"},{"$f":"IF(ROWS(GPS_IMPORT!$1:6)<=COUNTIF(GPS_IMPORT!$A$2:$A$10000,$B$5),INDEX(GPS_IMPORT!$2:$10000,MATCH($B$5,(GPS_IMPORT!$A$2:$A$10000),0)+ROWS($1:6)-1,COLUMN()-1),0)","v":"13:01:29.240"},{"$f":"IF(ROWS(GPS_IMPORT!$1:6)<=COUNTIF(GPS_IMPORT!$A$2:$A$10000,$B$5),INDEX(GPS_IMPORT!$2:$10000,MATCH($B$5,(GPS_IMPORT!$A$2:$A$10000),0)+ROWS($1:6)-1,COLUMN()-1),0)","v":351575.689085302},{"$f":"IF(ROWS(GPS_IMPORT!$1:6)<=COUNTIF(GPS_IMPORT!$A$2:$A$10000,$B$5),INDEX(GPS_IMPORT!$2:$10000,MATCH($B$5,(GPS_IMPORT!$A$2:$A$10000),0)+ROWS($1:6)-1,COLUMN()-1),0)","v":2284931.0496330499},{"$f":"IF(ROWS(GPS_IMPORT!$1:6)<=COUNTIF(GPS_IMPORT!$A$2:$A$10000,$B$5),INDEX(GPS_IMPORT!$2:$10000,MATCH($B$5,(GPS_IMPORT!$A$2:$A$10000),0)+ROWS($1:6)-1,COLUMN()-1),0)","v":953.81741770814006},-8.8732021395117044E-3,-7.0089930668473244E-3,2.6833056741679684E-3,true]
[7,{"$f":"IF(ROWS(GPS_IMPORT!$1:7)<=COUNTIF(GPS_IMPORT!$A$2:$A$10000,$B$5),INDEX(GPS_IMPORT!$2:$10000,MATCH($B$5,(GPS_IMPORT!$A$2:$A$10000),0)+ROWS($1:7)-1,COLUMN()-1),0)","v":"GS24"},{"$f":"IF(ROWS(GPS_IMPORT!$1:7)<=COUNTIF(GPS_IMPORT!$A$2:$A$10000,$B$5),INDEX(GPS_IMPORT!$2:$10000,MATCH($B$5,(GPS_IMPORT!$A$2:$A$10000),0)+ROWS($1:7)-1,COLUMN()-1),0)","v":"12.18.2018"},{"$f":"IF(ROWS(GPS_IMPORT!$1:7)<=COUNTIF(GPS_IMPORT!$A$2:$A$10000,$B$5),INDEX(GPS_IMPORT!$2:$10000,MATCH($B$5,(GPS_IMPORT!$A$2:$A$10000),0)+ROWS($1:7)-1,COLUMN()-1),0)","v":"13:01:40.520"},{"$f":"IF(ROWS(GPS_IMPORT!$1:7)<=COUNTIF(GPS_IMPORT!$A$2:$A$10000,$B$5),INDEX(GPS_IMPORT!$2:$10000,MATCH($B$5,(GPS_IMPORT!$A$2:$A$10000),0)+ROWS($1:7)-1,COLUMN()-1),0)","v":351575.68572418101},{"$f":"IF(ROWS(GPS_IMPORT!$1:7)<=COUNTIF(GPS_IMPORT!$A$2:$A$10000,$B$5),INDEX(GPS_IMPORT!$2:$10000,MATCH($B$5,(GPS_IMPORT!$A$2:$A$10000),0)+ROWS($1:7)-1,COLUMN()-1),0)","v":2284931.0367503799},{"$f":"IF(ROWS(GPS_IMPORT!$1:7)<=COUNTIF(GPS_IMPORT!$A$2:$A$10000,$B$5),INDEX(GPS_IMPORT!$2:$10000,MATCH($B$5,(GPS_IMPORT!$A$2:$A$10000),0)+ROWS($1:7)-1,COLUMN()-1),0)","v":953.81090857080005},-5.5120811448432505E-3,5.8736768551170826E-3,9.1924430141716584E-3,true]
[8,{"$f":"IF(ROWS(GPS_IMPORT!$1:8)<=COUNTIF(GPS_IMPORT!$A$2:$A$10000,$B$5),INDEX(GPS_IMPORT!$2:$10000,MATCH($B$5,(GPS_IMPORT!$A$2:$A$10000),0)+ROWS($1:8)-1,COLUMN()-1),0)","v":"GS24"},{"$f":"IF(ROWS(GPS_IMPORT!$1:8)<=COUNTIF(GPS_IMPORT!$A$2:$A$10000,$B$5),INDEX(GPS_IMPORT!$2:$10000,MATCH($B$5,(GPS_IMPORT!$A$2:$A$10000),0)+ROWS($1:8)-1,COLUMN()-1),0)","v":"12.18.2018"},{"$f":"IF(ROWS(GPS_IMPORT!$1:8)<=COUNTIF(GPS_IMPORT!$A$2:$A$10000,$B$5),INDEX(GPS_IMPORT!$2:$10000,MATCH($B$5,(GPS_IMPORT!$A$2:$A$10000),0)+ROWS($1:8)-1,COLUMN()-1),0)","v":"13:01:50.820"},{"$f":"IF(ROWS(GPS_IMPORT!$1:8)<=COUNTIF(GPS_IMPORT!$A$2:$A$10000,$B$5),INDEX(GPS_IMPORT!$2:$10000,MATCH($B$5,(GPS_IMPORT!$A$2:$A$10000),0)+ROWS($1:8)-1,COLUMN()-1),0)","v":351575.67816850101},{"$f":"IF(ROWS(GPS_IMPORT!$1:8)<=COUNTIF(GPS_IMPORT!$A$2:$A$10000,$B$5),INDEX(GPS_IMPORT!$2:$10000,MATCH($B$5,(GPS_IMPORT!$A$2:$A$10000),0)+ROWS($1:8)-1,COLUMN()-1),0)","v":2284931.0385943898},{"$f":"IF(ROWS(GPS_IMPORT!$1:8)<=COUNTIF(GPS_IMPORT!$A$2:$A$10000,$B$5),INDEX(GPS_IMPORT!$2:$10000,MATCH($B$5,(GPS_IMPORT!$A$2:$A$10000),0)+ROWS($1:8)-1,COLUMN()-1),0)","v":953.81337061549004},2.0435988553799689E-3,4.029667004942894E-3,6.730398324179987E-3,true]
[9,{"$f":"IF(ROWS(GPS_IMPORT!$1:9)<=COUNTIF(GPS_IMPORT!$A$2:$A$10000,$B$5),INDEX(GPS_IMPORT!$2:$10000,MATCH($B$5,(GPS_IMPORT!$A$2:$A$10000),0)+ROWS($1:9)-1,COLUMN()-1),0)","v":"GS24"},{"$f":"IF(ROWS(GPS_IMPORT!$1:9)<=COUNTIF(GPS_IMPORT!$A$2:$A$10000,$B$5),INDEX(GPS_IMPORT!$2:$10000,MATCH($B$5,(GPS_IMPORT!$A$2:$A$10000),0)+ROWS($1:9)-1,COLUMN()-1),0)","v":"12.18.2018"},{"$f":"IF(ROWS(GPS_IMPORT!$1:9)<=COUNTIF(GPS_IMPORT!$A$2:$A$10000,$B$5),INDEX(GPS_IMPORT!$2:$10000,MATCH($B$5,(GPS_IMPORT!$A$2:$A$10000),0)+ROWS($1:9)-1,COLUMN()-1),0)","v":"13:02:08.310"},{"$f":"IF(ROWS(GPS_IMPORT!$1:9)<=COUNTIF(GPS_IMPORT!$A$2:$A$10000,$B$5),INDEX(GPS_IMPORT!$2:$10000,MATCH($B$5,(GPS_IMPORT!$A$2:$A$10000),0)+ROWS($1:9)-1,COLUMN()-1),0)","v":351575.688595652},{"$f":"IF(ROWS(GPS_IMPORT!$1:9)<=COUNTIF(GPS_IMPORT!$A$2:$A$10000,$B$5),INDEX(GPS_IMPORT!$2:$10000,MATCH($B$5,(GPS_IMPORT!$A$2:$A$10000),0)+ROWS($1:9)-1,COLUMN()-1),0)","v":2284931.0353782098},{"$f":"IF(ROWS(GPS_IMPORT!$1:9)<=COUNTIF(GPS_IMPORT!$A$2:$A$10000,$B$5),INDEX(GPS_IMPORT!$2:$10000,MATCH($B$5,(GPS_IMPORT!$A$2:$A$10000),0)+ROWS($1:9)-1,COLUMN()-1),0)","v":953.83245285743999},-8.3835521363653243E-3,7.2458470240235329E-3,-1.2351843625765468E-2,true]
[10,{"$f":"IF(ROWS(GPS_IMPORT!$1:10)<=COUNTIF(GPS_IMPORT!$A$2:$A$10000,$B$5),INDEX(GPS_IMPORT!$2:$10000,MATCH($B$5,(GPS_IMPORT!$A$2:$A$10000),0)+ROWS($1:10)-1,COLUMN()-1),0)","v":"GS24"},{"$f":"IF(ROWS(GPS_IMPORT!$1:10)<=COUNTIF(GPS_IMPORT!$A$2:$A$10000,$B$5),INDEX(GPS_IMPORT!$2:$10000,MATCH($B$5,(GPS_IMPORT!$A$2:$A$10000),0)+ROWS($1:10)-1,COLUMN()-1),0)","v":"12.18.2018"},{"$f":"IF(ROWS(GPS_IMPORT!$1:10)<=COUNTIF(GPS_IMPORT!$A$2:$A$10000,$B$5),INDEX(GPS_IMPORT!$2:$10000,MATCH($B$5,(GPS_IMPORT!$A$2:$A$10000),0)+ROWS($1:10)-1,COLUMN()-1),0)","v":"13:02:19.040"},{"$f":"IF(ROWS(GPS_IMPORT!$1:10)<=COUNTIF(GPS_IMPORT!$A$2:$A$10000,$B$5),INDEX(GPS_IMPORT!$2:$10000,MATCH($B$5,(GPS_IMPORT!$A$2:$A$10000),0)+ROWS($1:10)-1,COLUMN()-1),0)","v":351575.67809310899},{"$f":"IF(ROWS(GPS_IMPORT!$1:10)<=COUNTIF(GPS_IMPORT!$A$2:$A$10000,$B$5),INDEX(GPS_IMPORT!$2:$10000,MATCH($B$5,(GPS_IMPORT!$A$2:$A$10000),0)+ROWS($1:10)-1,COLUMN()-1),0)","v":2284931.0298259701},{"$f":"IF(ROWS(GPS_IMPORT!$1:10)<=COUNTIF(GPS_IMPORT!$A$2:$A$10000,$B$5),INDEX(GPS_IMPORT!$2:$10000,MATCH($B$5,(GPS_IMPORT!$A$2:$A$10000),0)+ROWS($1:10)-1,COLUMN()-1),0)","v":953.82423011442995},2.1189908729866147E-3,1.2798086740076542E-2,-4.1291006157280208E-3,true]
[11,{"$f":"IF(ROWS(GPS_IMPORT!$1:11)<=COUNTIF(GPS_IMPORT!$A$2:$A$10000,$B$5),INDEX(GPS_IMPORT!$2:$10000,MATCH($B$5,(GPS_IMPORT!$A$2:$A$10000),0)+ROWS($1:11)-1,COLUMN()-1),0)","v":"GS24"},{"$f":"IF(ROWS(GPS_IMPORT!$1:11)<=COUNTIF(GPS_IMPORT!$A$2:$A$10000,$B$5),INDEX(GPS_IMPORT!$2:$10000,MATCH($B$5,(GPS_IMPORT!$A$2:$A$10000),0)+ROWS($1:11)-1,COLUMN()-1),0)","v":"12.18.2018"},{"$f":"IF(ROWS(GPS_IMPORT!$1:11)<=COUNTIF(GPS_IMPORT!$A$2:$A$10000,$B$5),INDEX(GPS_IMPORT!$2:$10000,MATCH($B$5,(GPS_IMPORT!$A$2:$A$10000),0)+ROWS($1:11)-1,COLUMN()-1),0)","v":"13:02:29.950"},{"$f":"IF(ROWS(GPS_IMPORT!$1:11)<=COUNTIF(GPS_IMPORT!$A$2:$A$10000,$B$5),INDEX(GPS_IMPORT!$2:$10000,MATCH($B$5,(GPS_IMPORT!$A$2:$A$10000),0)+ROWS($1:11)-1,COLUMN()-1),0)","v":351575.68163238501},{"$f":"IF(ROWS(GPS_IMPORT!$1:11)<=COUNTIF(GPS_IMPORT!$A$2:$A$10000,$B$5),INDEX(GPS_IMPORT!$2:$10000,MATCH($B$5,(GPS_IMPORT!$A$2:$A$10000),0)+ROWS($1:11)-1,COLUMN()-1),0)","v":2284931.0278630801},{"$f":"IF(ROWS(GPS_IMPORT!$1:11)<=COUNTIF(GPS_IMPORT!$A$2:$A$10000,$B$5),INDEX(GPS_IMPORT!$2:$10000,MATCH($B$5,(GPS_IMPORT!$A$2:$A$10000),0)+ROWS($1:11)-1,COLUMN()-1),0)","v":953.83044438854995},-1.4202851452864707E-3,1.4760976657271385E-2,-1.0343374735725774E-2,true]
[12,{"$f":"IF(ROWS(GPS_IMPORT!$1:12)<=COUNTIF(GPS_IMPORT!$A$2:$A$10000,$B$5),INDEX(GPS_IMPORT!$2:$10000,MATCH($B$5,(GPS_IMPORT!$A$2:$A$10000),0)+ROWS($1:12)-1,COLUMN()-1),0)","v":"GS24"},{"$f":"IF(ROWS(GPS_IMPORT!$1:12)<=COUNTIF(GPS_IMPORT!$A$2:$A$10000,$B$5),INDEX(GPS_IMPORT!$2:$10000,MATCH($B$5,(GPS_IMPORT!$A$2:$A$10000),0)+ROWS($1:12)-1,COLUMN()-1),0)","v":"12.18.2018"},{"$f":"IF(ROWS(GPS_IMPORT!$1:12)<=COUNTIF(GPS_IMPORT!$A$2:$A$10000,$B$5),INDEX(GPS_IMPORT!$2:$10000,MATCH($B$5,(GPS_IMPORT!$A$2:$A$10000),0)+ROWS($1:12)-1,COLUMN()-1),0)","v":"13:02:41.330"},{"$f":"IF(ROWS(GPS_IMPORT!$1:12)<=COUNTIF(GPS_IMPORT!$A$2:$A$10000,$B$5),INDEX(GPS_IMPORT!$2:$10000,MATCH($B$5,(GPS_IMPORT!$A$2:$A$10000),0)+ROWS($1:12)-1,COLUMN()-1),0)","v":351575.68650578702},{"$f":"IF(ROWS(GPS_IMPORT!$1:12)<=COUNTIF(GPS_IMPORT!$A$2:$A$10000,$B$5),INDEX(GPS_IMPORT!$2:$10000,MATCH($B$5,(GPS_IMPORT!$A$2:$A$10000),0)+ROWS($1:12)-1,COLUMN()-1),0)","v":2284931.03121487},{"$f":"IF(ROWS(GPS_IMPORT!$1:12)<=COUNTIF(GPS_IMPORT!$A$2:$A$10000,$B$5),INDEX(GPS_IMPORT!$2:$10000,MATCH($B$5,(GPS_IMPORT!$A$2:$A$10000),0)+ROWS($1:12)-1,COLUMN()-1),0)","v":953.84322079484002},-6.2936871545389295E-3,1.1409186758100986E-2,-2.3119781025798147E-2,true]
[13,{"$f":"IF(ROWS(GPS_IMPORT!$1:13)<=COUNTIF(GPS_IMPORT!$A$2:$A$10000,$B$5),INDEX(GPS_IMPORT!$2:$10000,MATCH($B$5,(GPS_IMPORT!$A$2:$A$10000),0)+ROWS($1:13)-1,COLUMN()-1),0)","v":0},{"$f":"IF(ROWS(GPS_IMPORT!$1:13)<=COUNTIF(GPS_IMPORT!$A$2:$A$10000,$B$5),INDEX(GPS_IMPORT!$2:$10000,MATCH($B$5,(GPS_IMPORT!$A$2:$A$10000),0)+ROWS($1:13)-1,COLUMN()-1),0)","v":"00:00:00"},{"$f":"IF(ROWS(GPS_IMPORT!$1:13)<=COUNTIF(GPS_IMPORT!$A$2:$A$10000,$B$5),INDEX(GPS_IMPORT!$2:$10000,MATCH($B$5,(GPS_IMPORT!$A$2:$A$10000),0)+ROWS($1:13)-1,COLUMN()-1),0)","v":"00:00:00"},{"$f":"IF(ROWS(GPS_IMPORT!$1:13)<=COUNTIF(GPS_IMPORT!$A$2:$A$10000,$B$5),INDEX(GPS_IMPORT!$2:$10000,MATCH($B$5,(GPS_IMPORT!$A$2:$A$10000),0)+ROWS($1:13)-1,COLUMN()-1),0)","v":0},{"$f":"IF(ROWS(GPS_IMPORT!$1:13)<=COUNTIF(GPS_IMPORT!$A$2:$A$10000,$B$5),INDEX(GPS_IMPORT!$2:$10000,MATCH($B$5,(GPS_IMPORT!$A$2:$A$10000),0)+ROWS($1:13)-1,COLUMN()-1),0)","v":0},{"$f":"IF(ROWS(GPS_IMPORT!$1:13)<=COUNTIF(GPS_IMPORT!$A$2:$A$10000,$B$5),INDEX(GPS_IMPORT!$2:$10000,MATCH($B$5,(GPS_IMPORT!$A$2:$A$10000),0)+ROWS($1:13)-1,COLUMN()-1),0)","v":0},{"$f":"IF(E19>0,E$22-E19,0)","v":0},0,0,false]
[14,{"$f":"IF(ROWS(GPS_IMPORT!$1:14)<=COUNTIF(GPS_IMPORT!$A$2:$A$10000,$B$5),INDEX(GPS_IMPORT!$2:$10000,MATCH($B$5,(GPS_IMPORT!$A$2:$A$10000),0)+ROWS($1:14)-1,COLUMN()-1),0)","v":0},{"$f":"IF(ROWS(GPS_IMPORT!$1:14)<=COUNTIF(GPS_IMPORT!$A$2:$A$10000,$B$5),INDEX(GPS_IMPORT!$2:$10000,MATCH($B$5,(GPS_IMPORT!$A$2:$A$10000),0)+ROWS($1:14)-1,COLUMN()-1),0)","v":"00:00:00"},{"$f":"IF(ROWS(GPS_IMPORT!$1:14)<=COUNTIF(GPS_IMPORT!$A$2:$A$10000,$B$5),INDEX(GPS_IMPORT!$2:$10000,MATCH($B$5,(GPS_IMPORT!$A$2:$A$10000),0)+ROWS($1:14)-1,COLUMN()-1),0)","v":"00:00:00"},{"$f":"IF(ROWS(GPS_IMPORT!$1:14)<=COUNTIF(GPS_IMPORT!$A$2:$A$10000,$B$5),INDEX(GPS_IMPORT!$2:$10000,MATCH($B$5,(GPS_IMPORT!$A$2:$A$10000),0)+ROWS($1:14)-1,COLUMN()-1),0)","v":0},{"$f":"IF(ROWS(GPS_IMPORT!$1:14)<=COUNTIF(GPS_IMPORT!$A$2:$A$10000,$B$5),INDEX(GPS_IMPORT!$2:$10000,MATCH($B$5,(GPS_IMPORT!$A$2:$A$10000),0)+ROWS($1:14)-1,COLUMN()-1),0)","v":0},{"$f":"IF(ROWS(GPS_IMPORT!$1:14)<=COUNTIF(GPS_IMPORT!$A$2:$A$10000,$B$5),INDEX(GPS_IMPORT!$2:$10000,MATCH($B$5,(GPS_IMPORT!$A$2:$A$10000),0)+ROWS($1:14)-1,COLUMN()-1),0)","v":0},0,0,0,false]
[15,{"$f":"IF(ROWS(GPS_IMPORT!$1:15)<=COUNTIF(GPS_IMPORT!$A$2:$A$10000,$B$5),INDEX(GPS_IMPORT!$2:$10000,MATCH($B$5,(GPS_IMPORT!$A$2:$A$10000),0)+ROWS($1:15)-1,COLUMN()-1),0)","v":0},{"$f":"IF(ROWS(GPS_IMPORT!$1:15)<=COUNTIF(GPS_IMPORT!$A$2:$A$10000,$B$5),INDEX(GPS_IMPORT!$2:$10000,MATCH($B$5,(GPS_IMPORT!$A$2:$A$10000),0)+ROWS($1:15)-1,COLUMN()-1),0)","v":"00:00:00"},{"$f":"IF(ROWS(GPS_IMPORT!$1:15)<=COUNTIF(GPS_IMPORT!$A$2:$A$10000,$B$5),INDEX(GPS_IMPORT!$2:$10000,MATCH($B$5,(GPS_IMPORT!$A$2:$A$10000),0)+ROWS($1:15)-1,COLUMN()-1),0)","v":"00:00:00"},{"$f":"IF(ROWS(GPS_IMPORT!$1:15)<=COUNTIF(GPS_IMPORT!$A$2:$A$10000,$B$5),INDEX(GPS_IMPORT!$2:$10000,MATCH($B$5,(GPS_IMPORT!$A$2:$A$10000),0)+ROWS($1:15)-1,COLUMN()-1),0)","v":0},{"$f":"IF(ROWS(GPS_IMPORT!$1:15)<=COUNTIF(GPS_IMPORT!$A$2:$A$10000,$B$5),INDEX(GPS_IMPORT!$2:$10000,MATCH($B$5,(GPS_IMPORT!$A$2:$A$10000),0)+ROWS($1:15)-1,COLUMN()-1),0)","v":0},{"$f":"IF(ROWS(GPS_IMPORT!$1:15)<=COUNTIF(GPS_IMPORT!$A$2:$A$10000,$B$5),INDEX(GPS_IMPORT!$2:$10000,MATCH($B$5,(GPS_IMPORT!$A$2:$A$10000),0)+ROWS($1:15)-1,COLUMN()-1),0)","v":0},0,0,0,false]
[null,null,null,"AVERAGE",{"$f":"(IF($K$7=TRUE,E7,0)+IF($K$8=TRUE,E8,0)+IF($K$9=TRUE,E9,0)+IF($K$10=TRUE,E10,0)+IF($K$11=TRUE,E11,0)+IF($K$12=TRUE,E12,0)+IF($K$13=TRUE,E13,0)+IF($K$14=TRUE,E14,0)+IF($K$15=TRUE,E15,0)+IF($K$16=TRUE,E16,0)+IF($K$17=TRUE,E17,0)+IF($K$18=TRUE,E18,0)+IF($K$19=TRUE,E19,0)+IF($K$20=TRUE,E20,0)+IF($K$21=TRUE,E21,0))/(IF($K$7=TRUE,1,0)+IF($K$8=TRUE,1,0)+IF($K$9=TRUE,1,0)+IF($K$10=TRUE,1,0)+IF($K$11=TRUE,1,0)+IF($K$12=TRUE,1,0)+IF($K$13=TRUE,1,0)+IF($K$14=TRUE,1,0)+IF($K$15=TRUE,1,0)+IF($K$16=TRUE,1,0)+IF($K$17=TRUE,1,0)+IF($K$18=TRUE,1,0)+IF($K$19=TRUE,1,0)+IF($K$20=TRUE,1,0)+IF($K$21=TRUE,1,0))","v":351575.68021209986},{"$f":"(IF($K$7=TRUE,F7,0)+IF($K$8=TRUE,F8,0)+IF($K$9=TRUE,F9,0)+IF($K$10=TRUE,F10,0)+IF($K$11=TRUE,F11,0)+IF($K$12=TRUE,F12,0)+IF($K$13=TRUE,F13,0)+IF($K$14=TRUE,F14,0)+IF($K$15=TRUE,F15,0)+IF($K$16=TRUE,F16,0)+IF($K$17=TRUE,F17,0)+IF($K$18=TRUE,F18,0)+IF($K$19=TRUE,F19,0)+IF($K$20=TRUE,F20,0)+IF($K$21=TRUE,F21,0))/(IF($K$7=TRUE,1,0)+IF($K$8=TRUE,1,0)+IF($K$9=TRUE,1,0)+IF($K$10=TRUE,1,0)+IF($K$11=TRUE,1,0)+IF($K$12=TRUE,1,0)+IF($K$13=TRUE,1,0)+IF($K$14=TRUE,1,0)+IF($K$15=TRUE,1,0)+IF($K$16=TRUE,1,0)+IF($K$17=TRUE,1,0)+IF($K$18=TRUE,1,0)+IF($K$19=TRUE,1,0)+IF($K$20=TRUE,1,0)+IF($K$21=TRUE,1,0))","v":2284931.0426240568},{"$f":"(IF($K$7=TRUE,G7,0)+IF($K$8=TRUE,G8,0)+IF($K$9=TRUE,G9,0)+IF($K$10=TRUE,G10,0)+IF($K$11=TRUE,G11,0)+IF($K$12=TRUE,G12,0)+IF($K$13=TRUE,G13,0)+IF($K$14=TRUE,G14,0)+IF($K$15=TRUE,G15,0)+IF($K$16=TRUE,G16,0)+IF($K$17=TRUE,G17,0)+IF($K$18=TRUE,G18,0)+IF($K$19=TRUE,G19,0)+IF($K$20=TRUE,G20,0)+IF($K$21=TRUE,G21,0))/\n(IF($K$7=TRUE,1,0)+IF($K$8=TRUE,1,0)+IF($K$9=TRUE,1,0)+IF($K$10=TRUE,1,0)+IF($K$11=TRUE,1,0)+IF($K$12=TRUE,1,0)+IF($K$13=TRUE,1,0)+IF($K$14=TRUE,1,0)+IF($K$15=TRUE,1,0)+IF($K$16=TRUE,1,0)+IF($K$17=TRUE,1,0)+IF($K$18=TRUE,1,0)+IF($K$19=TRUE,1,0)+IF($K$20=TRUE,1,0)+IF($K$21=TRUE,1,0))","v":953.82010101381422},"RMSE:","RMSE:","RMSE:"]
[null,null,null,null,null,null,"RMSE IN US SURVEY FEET:",{"$f":"SQRT((\n(IF($K$7=TRUE,H7^2,0))+(IF($K$8=TRUE,H8^2,0))+(IF($K$9=TRUE,H9^2,0))+(IF($K$10=TRUE,H10^2,0))+(IF($K$11=TRUE,H11^2,0))+(IF($K$12=TRUE,H12^2,0))+(IF($K$13=TRUE,H13^2,0))+(IF($K$14=TRUE,H14^2,0))+(IF($K$15=TRUE,H15^2,0))+(IF($K$16=TRUE,H16^2,0))+(IF($K$17=TRUE,H17^2,0))+(IF($K$18=TRUE,H18^2,0))+(IF($K$19=TRUE,H19^2,0))+(IF($K$20=TRUE,H20^2,0))+(IF($K$21=TRUE,H21^2,0)))/\n(IF($K$7=TRUE,1,0)+IF($K$8=TRUE,1,0)+IF($K$9=TRUE,1,0)+IF($K$10=TRUE,1,0)+IF($K$11=TRUE,1,0)+IF($K$12=TRUE,1,0)+IF($K$13=TRUE,1,0)+IF($K$14=TRUE,1,0)+IF($K$15=TRUE,1,0)+IF($K$16=TRUE,1,0)+IF($K$17=TRUE,1,0)+IF($K$18=TRUE,1,0)+IF($K$19=TRUE,1,0)+IF($K$20=TRUE,1,0)+IF($K$21=TRUE,1,0)))","v":6.5291903225317641E-3},{"$f":"SQRT((\n(IF($K$7=TRUE,I7^2,0))+(IF($K$8=TRUE,I8^2,0))+(IF($K$9=TRUE,I9^2,0))+(IF($K$10=TRUE,I10^2,0))+(IF($K$11=TRUE,I11^2,0))+(IF($K$12=TRUE,I12^2,0))+(IF($K$13=TRUE,I13^2,0))+(IF($K$14=TRUE,I14^2,0))+(IF($K$15=TRUE,I15^2,0))+(IF($K$16=TRUE,I16^2,0))+(IF($K$17=TRUE,I17^2,0))+(IF($K$18=TRUE,I18^2,0))+(IF($K$19=TRUE,I19^2,0))+(IF($K$20=TRUE,I20^2,0))+(IF($K$21=TRUE,I21^2,0)))/\n(IF($K$7=TRUE,1,0)+IF($K$8=TRUE,1,0)+IF($K$9=TRUE,1,0)+IF($K$10=TRUE,1,0)+IF($K$11=TRUE,1,0)+IF($K$12=TRUE,1,0)+IF($K$13=TRUE,1,0)+IF($K$14=TRUE,1,0)+IF($K$15=TRUE,1,0)+IF($K$16=TRUE,1,0)+IF($K$17=TRUE,1,0)+IF($K$18=TRUE,1,0)+IF($K$19=TRUE,1,0)+IF($K$20=TRUE,1,0)+IF($K$21=TRUE,1,0)))","v":1.0045526927704626E-2},{"$f":"SQRT((\n(IF($K$7=TRUE,J7^2,0))+(IF($K$8=TRUE,J8^2,0))+(IF($K$9=TRUE,J9^2,0))+(IF($K$10=TRUE,J10^2,0))+(IF($K$11=TRUE,J11^2,0))+(IF($K$12=TRUE,J12^2,0))+(IF($K$13=TRUE,J13^2,0))+(IF($K$14=TRUE,J14^2,0))+(IF($K$15=TRUE,J15^2,0))+(IF($K$16=TRUE,J16^2,0))+(IF($K$17=TRUE,J17^2,0))+(IF($K$18=TRUE,J18^2,0))+(IF($K$19=TRUE,J19^2,0))+(IF($K$20=TRUE,J20^2,0))+(IF($K$21=TRUE,J21^2,0)))/\n(IF($K$7=TRUE,1,0)+IF($K$8=TRUE,1,0)+IF($K$9=TRUE,1,0)+IF($K$10=TRUE,1,0)+IF($K$11=TRUE,1,0)+IF($K$12=TRUE,1,0)+IF($K$13=TRUE,1,0)+IF($K$14=TRUE,1,0)+IF($K$15=TRUE,1,0)+IF($K$16=TRUE,1,0)+IF($K$17=TRUE,1,0)+IF($K$18=TRUE,1,0)+IF($K$19=TRUE,1,0)+IF($K$20=TRUE,1,0)+IF($K$21=TRUE,1,0)))","v":1.1091936228038713E-2}]
[null,null,null,1]
[null,null,"UNITLESS GRID TO GROUND MULTIPLIER",{"$f":"IF(REPORT!C13=\"n/a\",\"0.00000000\",REPORT!C13)","v":0},null,null,null,{"$f":"IF(H23<=0.029,\"PASS\",\"FAIL\")","v":"PASS"},{"$f":"IF(I23<=0.029,\"PASS\",\"FAIL\")","v":"PASS"},{"$f":"IF(J23<=0.039,\"PASS\",\"FAIL\")","v":"PASS"}]
[]
["AVERAGED GPS-DERIVED POSITION",null,null,null,null,null,null,null,"Notes:"]
[null,"MONUMENT COORDINATES",null,"NORTHING","EASTING","ORTHO HEIGHT"]
[null,"US Survey Feet (GRID)",null,{"$f":"$E$22","v":351575.68021209986},{"$f":"$F$22","v":2284931.0426240568},{"$f":"$G$22","v":953.82010101381422}]
[]
["LEVELED ELEVATION"]
["US SURVEY FEET",null,"N/A","(Type the leveled elevation or N/A if no leveled elevation is available)"]
["MONUMENT HELD",null,null,"(Type the monument name from which leveling originated)"]
["LEVELED ELEVATION - GPS DERIVED ELEVATION   = ",null,null,null,{"$f":"IF(C32=\"N/A\",\"N/A\",C32-(F29*D24))","v":"N/A"}]
[]
["FINAL MONUMENT COORDINATES"]
[null,"MONUMENT COORDINATES",null,"NORTHING","EASTING","ELEVATION","FEATURE CODE"]
[null,"US SURVEY FEET (GRID)",null,{"$f":"$E$22*$D$24","v":351575.68021209986},{"$f":"$F$22*$D$24","v":2284931.0426240568},{"$f":"IF($C$32=\"N/A\",($G$22*$D$24),$C$32)","v":953.82010101381422},"AERTAR"]
[null,"US SURVEY FEET (GROUND)",null,{"$f":"$D$38*$D$25","v":0},{"$f":"$E$38*$D$25","v":0},{"$f":"IF($C$32=\"N/A\",($G$22*$D$24),$C$32)","v":953.82010101381422},{"$f":"G38","v":"AERTAR"}]
[]
["∆ North,  ∆ East, and ∆ Ht. are the difference between the average northing, easting, and height for each observation.",null,null,null,null,null,null,null,"Mask Angle:","10°"]

{"sheet":"GS25","index":31,"n_rows":41,"n_cols":11,"rows_kept":41,"cut":false,"hidden":false,"merged":[[0,0,0,10],[26,0,26,6],[27,1,27,2],[27,8,38,10],[28,1,28,2],[30,0,30,6],[35,0,35,6],[36,1,36,2],[37,1,37,2],[38,1,38,2]]}
["VRS GNSS Project Control Monument Coordinate Analysis"]
[]
["Project:",{"$f":"REPORT!B2","v":"TUS-800-22.74"},"GPS Antenna:","LEICA GS14",null,null,null,null,null,"Report Date:",{"$f":"REPORT!C49","v":"2018-12-19"}]
["PID:",{"$f":"REPORT!E2","v":100603},"VRS Network:","ODOT VRS",null,null,null,null,null,"Prepared By:",{"$f":"REPORT!C48","v":"Kolton Wilson"}]
["Point ID:","GS25","No. of Sessions:",{"$f":"COUNTIF(GPS_IMPORT!A2:A1000,$B$5)","v":12},null,null,null,null,null,"Checked By:",{"$f":"REPORT!C52","v":"Joel Swick"}]
["SESSION #","Point","Observation Date","Start Time","Northing(sft)","Easting(sft)","Height(sft)","∆ Northing(sft)","∆ Easting(sft)","∆ Height(sft)","Include in Solution?"]
[1,{"$f":"IF(ROWS(GPS_IMPORT!$1:1)<=COUNTIF(GPS_IMPORT!$A$2:$A$10000,$B$5),INDEX(GPS_IMPORT!$2:$10000,MATCH($B$5,(GPS_IMPORT!$A$2:$A$10000),0)+ROWS($1:1)-1,COLUMN()-1),0)","v":"GS25"},{"$f":"IF(ROWS(GPS_IMPORT!$1:1)<=COUNTIF(GPS_IMPORT!$A$2:$A$10000,$B$5),INDEX(GPS_IMPORT!$2:$10000,MATCH($B$5,(GPS_IMPORT!$A$2:$A$10000),0)+ROWS($1:1)-1,COLUMN()-1),0)","v":"12.18.2018"},{"$f":"IF(ROWS(GPS_IMPORT!$1:1)<=COUNTIF(GPS_IMPORT!$A$2:$A$10000,$B$5),INDEX(GPS_IMPORT!$2:$10000,MATCH($B$5,(GPS_IMPORT!$A$2:$A$10000),0)+ROWS($1:1)-1,COLUMN()-1),0)","v":"13:06:38"},{"$f":"IF(ROWS(GPS_IMPORT!$1:1)<=COUNTIF(GPS_IMPORT!$A$2:$A$10000,$B$5),INDEX(GPS_IMPORT!$2:$10000,MATCH($B$5,(GPS_IMPORT!$A$2:$A$10000),0)+ROWS($1:1)-1,COLUMN()-1),0)","v":356198.49667010701},{"$f":"IF(ROWS(GPS_IMPORT!$1:1)<=COUNTIF(GPS_IMPORT!$A$2:$A$10000,$B$5),INDEX(GPS_IMPORT!$2:$10000,MATCH($B$5,(GPS_IMPORT!$A$2:$A$10000),0)+ROWS($1:1)-1,COLUMN()-1),0)","v":2286628.8718229299},{"$f":"IF(ROWS(GPS_IMPORT!$1:1)<=COUNTIF(GPS_IMPORT!$A$2:$A$10000,$B$5),INDEX(GPS_IMPORT!$2:$10000,MATCH($B$5,(GPS_IMPORT!$A$2:$A$10000),0)+ROWS($1:1)-1,COLUMN()-1),0)","v":970.62300898075},{"$f":"IF(E7>0,E$22-E7,0)","v":1.4952759665902704E-2},4.2614443227648735E-3,1.7903973313423194E-2,true]
[2,{"$f":"IF(ROWS(GPS_IMPORT!$1:2)<=COUNTIF(GPS_IMPORT!$A$2:$A$10000,$B$5),INDEX(GPS_IMPORT!$2:$10000,MATCH($B$5,(GPS_IMPORT!$A$2:$A$10000),0)+ROWS($1:2)-1,COLUMN()-1),0)","v":"GS25"},{"$f":"IF(ROWS(GPS_IMPORT!$1:2)<=COUNTIF(GPS_IMPORT!$A$2:$A$10000,$B$5),INDEX(GPS_IMPORT!$2:$10000,MATCH($B$5,(GPS_IMPORT!$A$2:$A$10000),0)+ROWS($1:2)-1,COLUMN()-1),0)","v":"12.18.2018"},{"$f":"IF(ROWS(GPS_IMPORT!$1:2)<=COUNTIF(GPS_IMPORT!$A$2:$A$10000,$B$5),INDEX(GPS_IMPORT!$2:$10000,MATCH($B$5,(GPS_IMPORT!$A$2:$A$10000),0)+ROWS($1:2)-1,COLUMN()-1),0)","v":"13:06:48.300"},{"$f":"IF(ROWS(GPS_IMPORT!$1:2)<=COUNTIF(GPS_IMPORT!$A$2:$A$10000,$B$5),INDEX(GPS_IMPORT!$2:$10000,MATCH($B$5,(GPS_IMPORT!$A$2:$A$10000),0)+ROWS($1:2)-1,COLUMN()-1),0)","v":356198.49921166699},{"$f":"IF(ROWS(GPS_IMPORT!$1:2)<=COUNTIF(GPS_IMPORT!$A$2:$A$10000,$B$5),INDEX(GPS_IMPORT!$2:$10000,MATCH($B$5,(GPS_IMPORT!$A$2:$A$10000),0)+ROWS($1:2)-1,COLUMN()-1),0)","v":2286628.8752010399},{"$f":"IF(ROWS(GPS_IMPORT!$1:2)<=COUNTIF(GPS_IMPORT!$A$2:$A$10000,$B$5),INDEX(GPS_IMPORT!$2:$10000,MATCH($B$5,(GPS_IMPORT!$A$2:$A$10000),0)+ROWS($1:2)-1,COLUMN()-1),0)","v":970.62266651872005},1.2411199684720486E-2,8.8333431631326675E-4,1.8246435343371559E-2,true]
[3,{"$f":"IF(ROWS(GPS_IMPORT!$1:3)<=COUNTIF(GPS_IMPORT!$A$2:$A$10000,$B$5),INDEX(GPS_IMPORT!$2:$10000,MATCH($B$5,(GPS_IMPORT!$A$2:$A$10000),0)+ROWS($1:3)-1,COLUMN()-1),0)","v":"GS25"},{"$f":"IF(ROWS(GPS_IMPORT!$1:3)<=COUNTIF(GPS_IMPORT!$A$2:$A$10000,$B$5),INDEX(GPS_IMPORT!$2:$10000,MATCH($B$5,(GPS_IMPORT!$A$2:$A$10000),0)+ROWS($1:3)-1,COLUMN()-1),0)","v":"12.18.2018"},{"$f":"IF(ROWS(GPS_IMPORT!$1:3)<=COUNTIF(GPS_IMPORT!$A$2:$A$10000,$B$5),INDEX(GPS_IMPORT!$2:$10000,MATCH($B$5,(GPS_IMPORT!$A$2:$A$10000),0)+ROWS($1:3)-1,COLUMN()-1),0)","v":"13:06:59.220"},{"$f":"IF(ROWS(GPS_IMPORT!$1:3)<=COUNTIF(GPS_IMPORT!$A$2:$A$10000,$B$5),INDEX(GPS_IMPORT!$2:$10000,MATCH($B$5,(GPS_IMPORT!$A$2:$A$10000),0)+ROWS($1:3)-1,COLUMN()-1),0)","v":356198.50205750199},{"$f":"IF(ROWS(GPS_IMPORT!$1:3)<=COUNTIF(GPS_IMPORT!$A$2:$A$10000,$B$5),INDEX(GPS_IMPORT!$2:$10000,MATCH($B$5,(GPS_IMPORT!$A$2:$A$10000),0)+ROWS($1:3)-1,COLUMN()-1),0)","v":2286628.8783273199},{"$f":"IF(ROWS(GPS_IMPORT!$1:3)<=COUNTIF(GPS_IMPORT!$A$2:$A$10000,$B$5),INDEX(GPS_IMPORT!$2:$10000,MATCH($B$5,(GPS_IMPORT!$A$2:$A$10000),0)+ROWS($1:3)-1,COLUMN()-1),0)","v":970.62912441510002},9.5653646858409047E-3,-2.2429456003010273E-3,1.1788538963401152E-2,true]
[4,{"$f":"IF(ROWS(GPS_IMPORT!$1:4)<=COUNTIF(GPS_IMPORT!$A$2:$A$10000,$B$5),INDEX(GPS_IMPORT!$2:$10000,MATCH($B$5,(GPS_IMPORT!$A$2:$A$10000),0)+ROWS($1:4)-1,COLUMN()-1),0)","v":"GS25"},{"$f":"IF(ROWS(GPS_IMPORT!$1:4)<=COUNTIF(GPS_IMPORT!$A$2:$A$10000,$B$5),INDEX(GPS_IMPORT!$2:$10000,MATCH($B$5,(GPS_IMPORT!$A$2:$A$10000),0)+ROWS($1:4)-1,COLUMN()-1),0)","v":"12.18.2018"},{"$f":"IF(ROWS(GPS_IMPORT!$1:4)<=COUNTIF(GPS_IMPORT!$A$2:$A$10000,$B$5),INDEX(GPS_IMPORT!$2:$10000,MATCH($B$5,(GPS_IMPORT!$A$2:$A$10000),0)+ROWS($1:4)-1,COLUMN()-1),0)","v":"13:07:10.250"},{"$f":"IF(ROWS(GPS_IMPORT!$1:4)<=COUNTIF(GPS_IMPORT!$A$2:$A$10000,$B$5),INDEX(GPS_IMPORT!$2:$10000,MATCH($B$5,(GPS_IMPORT!$A$2:$A$10000),0)+ROWS($1:4)-1,COLUMN()-1),0)","v":356198.50185663201},{"$f":"IF(ROWS(GPS_IMPORT!$1:4)<=COUNTIF(GPS_IMPORT!$A$2:$A$10000,$B$5),INDEX(GPS_IMPORT!$2:$10000,MATCH($B$5,(GPS_IMPORT!$A$2:$A$10000),0)+ROWS($1:4)-1,COLUMN()-1),0)","v":2286628.8783452902},{"$f":"IF(ROWS(GPS_IMPORT!$1:4)<=COUNTIF(GPS_IMPORT!$A$2:$A$10000,$B$5),INDEX(GPS_IMPORT!$2:$10000,MATCH($B$5,(GPS_IMPORT!$A$2:$A$10000),0)+ROWS($1:4)-1,COLUMN()-1),0)","v":970.63632568444996},9.7662346670404077E-3,-2.2609159350395203E-3,4.5872696134665603E-3,true]
[5,{"$f":"IF(ROWS(GPS_IMPORT!$1:5)<=COUNTIF(GPS_IMPORT!$A$2:$A$10000,$B$5),INDEX(GPS_IMPORT!$2:$10000,MATCH($B$5,(GPS_IMPORT!$A$2:$A$10000),0)+ROWS($1:5)-1,COLUMN()-1),0)","v":"GS25"},{"$f":"IF(ROWS(GPS_IMPORT!$1:5)<=COUNTIF(GPS_IMPORT!$A$2:$A$10000,$B$5),INDEX(GPS_IMPORT!$2:$10000,MATCH($B$5,(GPS_IMPORT!$A$2:$A$10000),0)+ROWS($1:5)-1,COLUMN()-1),0)","v":"12.18.2018"},{"$f":"IF(ROWS(GPS_IMPORT!$1:5)<=COUNTIF(GPS_IMPORT!$A$2:$A$10000,$B$5),INDEX(GPS_IMPORT!$2:$10000,MATCH($B$5,(GPS_IMPORT!$A$2:$A$10000),0)+ROWS($1:5)-1,COLUMN()-1),0)","v":"13:07:27.550"},{"$f":"IF(ROWS(GPS_IMPORT!$1:5)<=COUNTIF(GPS_IMPORT!$A$2:$A$10000,$B$5),INDEX(GPS_IMPORT!$2:$10000,MATCH($B$5,(GPS_IMPORT!$A$2:$A$10000),0)+ROWS($1:5)-1,COLUMN()-1),0)","v":356198.50948162703},{"$f":"IF(ROWS(GPS_IMPORT!$1:5)<=COUNTIF(GPS_IMPORT!$A$2:$A$10000,$B$5),INDEX(GPS_IMPORT!$2:$10000,MATCH($B$5,(GPS_IMPORT!$A$2:$A$10000),0)+ROWS($1:5)-1,COLUMN()-1),0)","v":2286628.8776001101},{"$f":"IF(ROWS(GPS_IMPORT!$1:5)<=COUNTIF(GPS_IMPORT!$A$2:$A$10000,$B$5),INDEX(GPS_IMPORT!$2:$10000,MATCH($B$5,(GPS_IMPORT!$A$2:$A$10000),0)+ROWS($1:5)-1,COLUMN()-1),0)","v":970.64350014165996},2.1412396454252303E-3,-1.5157358720898628E-3,-2.5871875965322033E-3,true]
[6,{"$f":"IF(ROWS(GPS_IMPORT!$1:6)<=COUNTIF(GPS_IMPORT!$A$2:$A$10000,$B$5),INDEX(GPS_IMPORT!$2:$10000,MATCH($B$5,(GPS_IMPORT!$A$2:$A$10000),0)+ROWS($1:6)-1,COLUMN()-1),0)","v":"GS25"},{"$f":"IF(ROWS(GPS_IMPORT!$1:6)<=COUNTIF(GPS_IMPORT!$A$2:$A$10000,$B$5),INDEX(GPS_IMPORT!$2:$10000,MATCH($B$5,(GPS_IMPORT!$A$2:$A$10000),0)+ROWS($1:6)-1,COLUMN()-1),0)","v":"12.18.2018"},{"$f":"IF(ROWS(GPS_IMPORT!$1:6)<=COUNTIF(GPS_IMPORT!$A$2:$A$10000,$B$5),INDEX(GPS_IMPORT!$2:$10000,MATCH($B$5,(GPS_IMPORT!$A$2:$A$10000),0)+ROWS($1:6)-1,COLUMN()-1),0)","v":"13:07:36.800"},{"$f":"IF(ROWS(GPS_IMPORT!$1:6)<=COUNTIF(GPS_IMPORT!$A$2:$A$10000,$B$5),INDEX(GPS_IMPORT!$2:$10000,MATCH($B$5,(GPS_IMPORT!$A$2:$A$10000),0)+ROWS($1:6)-1,COLUMN()-1),0)","v":356198.510463944},{"$f":"IF(ROWS(GPS_IMPORT!$1:6)<=COUNTIF(GPS_IMPORT!$A$2:$A$10000,$B$5),INDEX(GPS_IMPORT!$2:$10000,MATCH($B$5,(GPS_IMPORT!$A$2:$A$10000),0)+ROWS($1:6)-1,COLUMN()-1),0)","v":2286628.8759926199},{"$f":"IF(ROWS(GPS_IMPORT!$1:6)<=COUNTIF(GPS_IMPORT!$A$2:$A$10000,$B$5),INDEX(GPS_IMPORT!$2:$10000,MATCH($B$5,(GPS_IMPORT!$A$2:$A$10000),0)+ROWS($1:6)-1,COLUMN()-1),0)","v":970.64047854677995},1.158922677859664E-3,9.1754365712404251E-5,4.3440728347832192E-4,true]
[7,{"$f":"IF(ROWS(GPS_IMPORT!$1:7)<=COUNTIF(GPS_IMPORT!$A$2:$A$10000,$B$5),INDEX(GPS_IMPORT!$2:$10000,MATCH($B$5,(GPS_IMPORT!$A$2:$A$10000),0)+ROWS($1:7)-1,COLUMN()-1),0)","v":"GS25"},{"$f":"IF(ROWS(GPS_IMPORT!$1:7)<=COUNTIF(GPS_IMPORT!$A$2:$A$10000,$B$5),INDEX(GPS_IMPORT!$2:$10000,MATCH($B$5,(GPS_IMPORT!$A$2:$A$10000),0)+ROWS($1:7)-1,COLUMN()-1),0)","v":"12.18.2018"},{"$f":"IF(ROWS(GPS_IMPORT!$1:7)<=COUNTIF(GPS_IMPORT!$A$2:$A$10000,$B$5),INDEX(GPS_IMPORT!$2:$10000,MATCH($B$5,(GPS_IMPORT!$A$2:$A$10000),0)+ROWS($1:7)-1,COLUMN()-1),0)","v":"13:07:46.830"},{"$f":"IF(ROWS(GPS_IMPORT!$1:7)<=COUNTIF(GPS_IMPORT!$A$2:$A$10000,$B$5),INDEX(GPS_IMPORT!$2:$10000,MATCH($B$5,(GPS_IMPORT!$A$2:$A$10000),0)+ROWS($1:7)-1,COLUMN()-1),0)","v":356198.50935090502},{"$f":"IF(ROWS(GPS_IMPORT!$1:7)<=COUNTIF(GPS_IMPORT!$A$2:$A$10000,$B$5),INDEX(GPS_IMPORT!$2:$10000,MATCH($B$5,(GPS_IMPORT!$A$2:$A$10000),0)+ROWS($1:7)-1,COLUMN()-1),0)","v":2286628.8708374999},{"$f":"IF(ROWS(GPS_IMPORT!$1:7)<=COUNTIF(GPS_IMPORT!$A$2:$A$10000,$B$5),INDEX(GPS_IMPORT!$2:$10000,MATCH($B$5,(GPS_IMPORT!$A$2:$A$10000),0)+ROWS($1:7)-1,COLUMN()-1),0)","v":970.65382127428995},2.2719616536051035E-3,5.2468744106590748E-3,-1.2908320226529213E-2,true]
[8,{"$f":"IF(ROWS(GPS_IMPORT!$1:8)<=COUNTIF(GPS_IMPORT!$A$2:$A$10000,$B$5),INDEX(GPS_IMPORT!$2:$10000,MATCH($B$5,(GPS_IMPORT!$A$2:$A$10000),0)+ROWS($1:8)-1,COLUMN()-1),0)","v":"GS25"},{"$f":"IF(ROWS(GPS_IMPORT!$1:8)<=COUNTIF(GPS_IMPORT!$A$2:$A$10000,$B$5),INDEX(GPS_IMPORT!$2:$10000,MATCH($B$5,(GPS_IMPORT!$A$2:$A$10000),0)+ROWS($1:8)-1,COLUMN()-1),0)","v":"12.18.2018"},{"$f":"IF(ROWS(GPS_IMPORT!$1:8)<=COUNTIF(GPS_IMPORT!$A$2:$A$10000,$B$5),INDEX(GPS_IMPORT!$2:$10000,MATCH($B$5,(GPS_IMPORT!$A$2:$A$10000),0)+ROWS($1:8)-1,COLUMN()-1),0)","v":"13:07:56.950"},{"$f":"IF(ROWS(GPS_IMPORT!$1:8)<=COUNTIF(GPS_IMPORT!$A$2:$A$10000,$B$5),INDEX(GPS_IMPORT!$2:$10000,MATCH($B$5,(GPS_IMPORT!$A$2:$A$10000),0)+ROWS($1:8)-1,COLUMN()-1),0)","v":356198.52077564999},{"$f":"IF(ROWS(GPS_IMPORT!$1:8)<=COUNTIF(GPS_IMPORT!$A$2:$A$10000,$B$5),INDEX(GPS_IMPORT!$2:$10000,MATCH($B$5,(GPS_IMPORT!$A$2:$A$10000),0)+ROWS($1:8)-1,COLUMN()-1),0)","v":2286628.8738669399},{"$f":"IF(ROWS(GPS_IMPORT!$1:8)<=COUNTIF(GPS_IMPORT!$A$2:$A$10000,$B$5),INDEX(GPS_IMPORT!$2:$10000,MATCH($B$5,(GPS_IMPORT!$A$2:$A$10000),0)+ROWS($1:8)-1,COLUMN()-1),0)","v":970.64726483759},-9.1527833137661219E-3,2.2174343466758728E-3,-6.3518835265767848E-3,true]
[9,{"$f":"IF(ROWS(GPS_IMPORT!$1:9)<=COUNTIF(GPS_IMPORT!$A$2:$A$10000,$B$5),INDEX(GPS_IMPORT!$2:$10000,MATCH($B$5,(GPS_IMPORT!$A$2:$A$10000),0)+ROWS($1:9)-1,COLUMN()-1),0)","v":"GS25"},{"$f":"IF(ROWS(GPS_IMPORT!$1:9)<=COUNTIF(GPS_IMPORT!$A$2:$A$10000,$B$5),INDEX(GPS_IMPORT!$2:$10000,MATCH($B$5,(GPS_IMPORT!$A$2:$A$10000),0)+ROWS($1:9)-1,COLUMN()-1),0)","v":"12.18.2018"},{"$f":"IF(ROWS(GPS_IMPORT!$1:9)<=COUNTIF(GPS_IMPORT!$A$2:$A$10000,$B$5),INDEX(GPS_IMPORT!$2:$10000,MATCH($B$5,(GPS_IMPORT!$A$2:$A$10000),0)+ROWS($1:9)-1,COLUMN()-1),0)","v":"13:08:13.830"},{"$f":"IF(ROWS(GPS_IMPORT!$1:9)<=COUNTIF(GPS_IMPORT!$A$2:$A$10000,$B$5),INDEX(GPS_IMPORT!$2:$10000,MATCH($B$5,(GPS_IMPORT!$A$2:$A$10000),0)+ROWS($1:9)-1,COLUMN()-1),0)","v":356198.52191930101},{"$f":"IF(ROWS(GPS_IMPORT!$1:9)<=COUNTIF(GPS_IMPORT!$A$2:$A$10000,$B$5),INDEX(GPS_IMPORT!$2:$10000,MATCH($B$5,(GPS_IMPORT!$A$2:$A$10000),0)+ROWS($1:9)-1,COLUMN()-1),0)","v":2286628.8768857298},{"$f":"IF(ROWS(GPS_IMPORT!$1:9)<=COUNTIF(GPS_IMPORT!$A$2:$A$10000,$B$5),INDEX(GPS_IMPORT!$2:$10000,MATCH($B$5,(GPS_IMPORT!$A$2:$A$10000),0)+ROWS($1:9)-1,COLUMN()-1),0)","v":970.63970728918002},-1.0296434338670224E-2,-8.0135557800531387E-4,1.2056648834004591E-3,true]
[10,{"$f":"IF(ROWS(GPS_IMPORT!$1:10)<=COUNTIF(GPS_IMPORT!$A$2:$A$10000,$B$5),INDEX(GPS_IMPORT!$2:$10000,MATCH($B$5,(GPS_IMPORT!$A$2:$A$10000),0)+ROWS($1:10)-1,COLUMN()-1),0)","v":"GS25"},{"$f":"IF(ROWS(GPS_IMPORT!$1:10)<=COUNTIF(GPS_IMPORT!$A$2:$A$10000,$B$5),INDEX(GPS_IMPORT!$2:$10000,MATCH($B$5,(GPS_IMPORT!$A$2:$A$10000),0)+ROWS($1:10)-1,COLUMN()-1),0)","v":"12.18.2018"},{"$f":"IF(ROWS(GPS_IMPORT!$1:10)<=COUNTIF(GPS_IMPORT!$A$2:$A$10000,$B$5),INDEX(GPS_IMPORT!$2:$10000,MATCH($B$5,(GPS_IMPORT!$A$2:$A$10000),0)+ROWS($1:10)-1,COLUMN()-1),0)","v":"13:08:24.340"},{"$f":"IF(ROWS(GPS_IMPORT!$1:10)<=COUNTIF(GPS_IMPORT!$A$2:$A$10000,$B$5),INDEX(GPS_IMPORT!$2:$10000,MATCH($B$5,(GPS_IMPORT!$A$2:$A$10000),0)+ROWS($1:10)-1,COLUMN()-1),0)","v":356198.52358165599},{"$f":"IF(ROWS(GPS_IMPORT!$1:10)<=COUNTIF(GPS_IMPORT!$A$2:$A$10000,$B$5),INDEX(GPS_IMPORT!$2:$10000,MATCH($B$5,(GPS_IMPORT!$A$2:$A$10000),0)+ROWS($1:10)-1,COLUMN()-1),0)","v":2286628.8763059299},{"$f":"IF(ROWS(GPS_IMPORT!$1:10)<=COUNTIF(GPS_IMPORT!$A$2:$A$10000,$B$5),INDEX(GPS_IMPORT!$2:$10000,MATCH($B$5,(GPS_IMPORT!$A$2:$A$10000),0)+ROWS($1:10)-1,COLUMN()-1),0)","v":970.65346199777002},-1.1958789313212037E-2,-2.2155558690428734E-4,-1.254904370659915E-2,true]
[11,{"$f":"IF(ROWS(GPS_IMPORT!$1:11)<=COUNTIF(GPS_IMPORT!$A$2:$A$10000,$B$5),INDEX(GPS_IMPORT!$2:$10000,MATCH($B$5,(GPS_IMPORT!$A$2:$A$10000),0)+ROWS($1:11)-1,COLUMN()-1),0)","v":"GS25"},{"$f":"IF(ROWS(GPS_IMPORT!$1:11)<=COUNTIF(GPS_IMPORT!$A$2:$A$10000,$B$5),INDEX(GPS_IMPORT!$2:$10000,MATCH($B$5,(GPS_IMPORT!$A$2:$A$10000),0)+ROWS($1:11)-1,COLUMN()-1),0)","v":"12.18.2018"},{"$f":"IF(ROWS(GPS_IMPORT!$1:11)<=COUNTIF(GPS_IMPORT!$A$2:$A$10000,$B$5),INDEX(GPS_IMPORT!$2:$10000,MATCH($B$5,(GPS_IMPORT!$A$2:$A$10000),0)+ROWS($1:11)-1,COLUMN()-1),0)","v":"13:08:34.350"},{"$f":"IF(ROWS(GPS_IMPORT!$1:11)<=COUNTIF(GPS_IMPORT!$A$2:$A$10000,$B$5),INDEX(GPS_IMPORT!$2:$10000,MATCH($B$5,(GPS_IMPORT!$A$2:$A$10000),0)+ROWS($1:11)-1,COLUMN()-1),0)","v":356198.52475508698},{"$f":"IF(ROWS(GPS_IMPORT!$1:11)<=COUNTIF(GPS_IMPORT!$A$2:$A$10000,$B$5),INDEX(GPS_IMPORT!$2:$10000,MATCH($B$5,(GPS_IMPORT!$A$2:$A$10000),0)+ROWS($1:11)-1,COLUMN()-1),0)","v":2286628.8789598402},{"$f":"IF(ROWS(GPS_IMPORT!$1:11)<=COUNTIF(GPS_IMPORT!$A$2:$A$10000,$B$5),INDEX(GPS_IMPORT!$2:$10000,MATCH($B$5,(GPS_IMPORT!$A$2:$A$10000),0)+ROWS($1:11)-1,COLUMN()-1),0)","v":970.64998454462},-1.3132220308762044E-2,-2.8754658997058868E-3,-9.0715905565730282E-3,true]
[12,{"$f":"IF(ROWS(GPS_IMPORT!$1:12)<=COUNTIF(GPS_IMPORT!$A$2:$A$10000,$B$5),INDEX(GPS_IMPORT!$2:$10000,MATCH($B$5,(GPS_IMPORT!$A$2:$A$10000),0)+ROWS($1:12)-1,COLUMN()-1),0)","v":"GS25"},{"$f":"IF(ROWS(GPS_IMPORT!$1:12)<=COUNTIF(GPS_IMPORT!$A$2:$A$10000,$B$5),INDEX(GPS_IMPORT!$2:$10000,MATCH($B$5,(GPS_IMPORT!$A$2:$A$10000),0)+ROWS($1:12)-1,COLUMN()-1),0)","v":"12.18.2018"},{"$f":"IF(ROWS(GPS_IMPORT!$1:12)<=COUNTIF(GPS_IMPORT!$A$2:$A$10000,$B$5),INDEX(GPS_IMPORT!$2:$10000,MATCH($B$5,(GPS_IMPORT!$A$2:$A$10000),0)+ROWS($1:12)-1,COLUMN()-1),0)","v":"13:08:45.310"},{"$f":"IF(ROWS(GPS_IMPORT!$1:12)<=COUNTIF(GPS_IMPORT!$A$2:$A$10000,$B$5),INDEX(GPS_IMPORT!$2:$10000,MATCH($B$5,(GPS_IMPORT!$A$2:$A$10000),0)+ROWS($1:12)-1,COLUMN()-1),0)","v":356198.51935032097},{"$f":"IF(ROWS(GPS_IMPORT!$1:12)<=COUNTIF(GPS_IMPORT!$A$2:$A$10000,$B$5),INDEX(GPS_IMPORT!$2:$10000,MATCH($B$5,(GPS_IMPORT!$A$2:$A$10000),0)+ROWS($1:12)-1,COLUMN()-1),0)","v":2286628.8788672402},{"$f":"IF(ROWS(GPS_IMPORT!$1:12)<=COUNTIF(GPS_IMPORT!$A$2:$A$10000,$B$5),INDEX(GPS_IMPORT!$2:$10000,MATCH($B$5,(GPS_IMPORT!$A$2:$A$10000),0)+ROWS($1:12)-1,COLUMN()-1),0)","v":970.65161121785002},-7.7274543000385165E-3,-2.7828658930957317E-3,-1.0698263786593998E-2,true]
[13,{"$f":"IF(ROWS(GPS_IMPORT!$1:13)<=COUNTIF(GPS_IMPORT!$A$2:$A$10000,$B$5),INDEX(GPS_IMPORT!$2:$10000,MATCH($B$5,(GPS_IMPORT!$A$2:$A$10000),0)+ROWS($1:13)-1,COLUMN()-1),0)","v":0},{"$f":"IF(ROWS(GPS_IMPORT!$1:13)<=COUNTIF(GPS_IMPORT!$A$2:$A$10000,$B$5),INDEX(GPS_IMPORT!$2:$10000,MATCH($B$5,(GPS_IMPORT!$A$2:$A$10000),0)+ROWS($1:13)-1,COLUMN()-1),0)","v":"00:00:00"},{"$f":"IF(ROWS(GPS_IMPORT!$1:13)<=COUNTIF(GPS_IMPORT!$A$2:$A$10000,$B$5),INDEX(GPS_IMPORT!$2:$10000,MATCH($B$5,(GPS_IMPORT!$A$2:$A$10000),0)+ROWS($1:13)-1,COLUMN()-1),0)","v":"00:00:00"},{"$f":"IF(ROWS(GPS_IMPORT!$1:13)<=COUNTIF(GPS_IMPORT!$A$2:$A$10000,$B$5),INDEX(GPS_IMPORT!$2:$10000,MATCH($B$5,(GPS_IMPORT!$A$2:$A$10000),0)+ROWS($1:13)-1,COLUMN()-1),0)","v":0},{"$f":"IF(ROWS(GPS_IMPORT!$1:13)<=COUNTIF(GPS_IMPORT!$A$2:$A$10000,$B$5),INDEX(GPS_IMPORT!$2:$10000,MATCH($B$5,(GPS_IMPORT!$A$2:$A$10000),0)+ROWS($1:13)-1,COLUMN()-1),0)","v":0},{"$f":"IF(ROWS(GPS_IMPORT!$1:13)<=COUNTIF(GPS_IMPORT!$A$2:$A$10000,$B$5),INDEX(GPS_IMPORT!$2:$10000,MATCH($B$5,(GPS_IMPORT!$A$2:$A$10000),0)+ROWS($1:13)-1,COLUMN()-1),0)","v":0},{"$f":"IF(E19>0,E$22-E19,0)","v":0},0,0,false]
[14,{"$f":"IF(ROWS(GPS_IMPORT!$1:14)<=COUNTIF(GPS_IMPORT!$A$2:$A$10000,$B$5),INDEX(GPS_IMPORT!$2:$10000,MATCH($B$5,(GPS_IMPORT!$A$2:$A$10000),0)+ROWS($1:14)-1,COLUMN()-1),0)","v":0},{"$f":"IF(ROWS(GPS_IMPORT!$1:14)<=COUNTIF(GPS_IMPORT!$A$2:$A$10000,$B$5),INDEX(GPS_IMPORT!$2:$10000,MATCH($B$5,(GPS_IMPORT!$A$2:$A$10000),0)+ROWS($1:14)-1,COLUMN()-1),0)","v":"00:00:00"},{"$f":"IF(ROWS(GPS_IMPORT!$1:14)<=COUNTIF(GPS_IMPORT!$A$2:$A$10000,$B$5),INDEX(GPS_IMPORT!$2:$10000,MATCH($B$5,(GPS_IMPORT!$A$2:$A$10000),0)+ROWS($1:14)-1,COLUMN()-1),0)","v":"00:00:00"},{"$f":"IF(ROWS(GPS_IMPORT!$1:14)<=COUNTIF(GPS_IMPORT!$A$2:$A$10000,$B$5),INDEX(GPS_IMPORT!$2:$10000,MATCH($B$5,(GPS_IMPORT!$A$2:$A$10000),0)+ROWS($1:14)-1,COLUMN()-1),0)","v":0},{"$f":"IF(ROWS(GPS_IMPORT!$1:14)<=COUNTIF(GPS_IMPORT!$A$2:$A$10000,$B$5),INDEX(GPS_IMPORT!$2:$10000,MATCH($B$5,(GPS_IMPORT!$A$2:$A$10000),0)+ROWS($1:14)-1,COLUMN()-1),0)","v":0},{"$f":"IF(ROWS(GPS_IMPORT!$1:14)<=COUNTIF(GPS_IMPORT!$A$2:$A$10000,$B$5),INDEX(GPS_IMPORT!$2:$10000,MATCH($B$5,(GPS_IMPORT!$A$2:$A$10000),0)+ROWS($1:14)-1,COLUMN()-1),0)","v":0},0,0,0,false]
[15,{"$f":"IF(ROWS(GPS_IMPORT!$1:15)<=COUNTIF(GPS_IMPORT!$A$2:$A$10000,$B$5),INDEX(GPS_IMPORT!$2:$10000,MATCH($B$5,(GPS_IMPORT!$A$2:$A$10000),0)+ROWS($1:15)-1,COLUMN()-1),0)","v":0},{"$f":"IF(ROWS(GPS_IMPORT!$1:15)<=COUNTIF(GPS_IMPORT!$A$2:$A$10000,$B$5),INDEX(GPS_IMPORT!$2:$10000,MATCH($B$5,(GPS_IMPORT!$A$2:$A$10000),0)+ROWS($1:15)-1,COLUMN()-1),0)","v":"00:00:00"},{"$f":"IF(ROWS(GPS_IMPORT!$1:15)<=COUNTIF(GPS_IMPORT!$A$2:$A$10000,$B$5),INDEX(GPS_IMPORT!$2:$10000,MATCH($B$5,(GPS_IMPORT!$A$2:$A$10000),0)+ROWS($1:15)-1,COLUMN()-1),0)","v":"00:00:00"},{"$f":"IF(ROWS(GPS_IMPORT!$1:15)<=COUNTIF(GPS_IMPORT!$A$2:$A$10000,$B$5),INDEX(GPS_IMPORT!$2:$10000,MATCH($B$5,(GPS_IMPORT!$A$2:$A$10000),0)+ROWS($1:15)-1,COLUMN()-1),0)","v":0},{"$f":"IF(ROWS(GPS_IMPORT!$1:15)<=COUNTIF(GPS_IMPORT!$A$2:$A$10000,$B$5),INDEX(GPS_IMPORT!$2:$10000,MATCH($B$5,(GPS_IMPORT!$A$2:$A$10000),0)+ROWS($1:15)-1,COLUMN()-1),0)","v":0},{"$f":"IF(ROWS(GPS_IMPORT!$1:15)<=COUNTIF(GPS_IMPORT!$A$2:$A$10000,$B$5),INDEX(GPS_IMPORT!$2:$10000,MATCH($B$5,(GPS_IMPORT!$A$2:$A$10000),0)+ROWS($1:15)-1,COLUMN()-1),0)","v":0},0,0,0,false]
[null,null,null,"AVERAGE",{"$f":"(IF($K$7=TRUE,E7,0)+IF($K$8=TRUE,E8,0)+IF($K$9=TRUE,E9,0)+IF($K$10=TRUE,E10,0)+IF($K$11=TRUE,E11,0)+IF($K$12=TRUE,E12,0)+IF($K$13=TRUE,E13,0)+IF($K$14=TRUE,E14,0)+IF($K$15=TRUE,E15,0)+IF($K$16=TRUE,E16,0)+IF($K$17=TRUE,E17,0)+IF($K$18=TRUE,E18,0)+IF($K$19=TRUE,E19,0)+IF($K$20=TRUE,E20,0)+IF($K$21=TRUE,E21,0))/(IF($K$7=TRUE,1,0)+IF($K$8=TRUE,1,0)+IF($K$9=TRUE,1,0)+IF($K$10=TRUE,1,0)+IF($K$11=TRUE,1,0)+IF($K$12=TRUE,1,0)+IF($K$13=TRUE,1,0)+IF($K$14=TRUE,1,0)+IF($K$15=TRUE,1,0)+IF($K$16=TRUE,1,0)+IF($K$17=TRUE,1,0)+IF($K$18=TRUE,1,0)+IF($K$19=TRUE,1,0)+IF($K$20=TRUE,1,0)+IF($K$21=TRUE,1,0))","v":356198.51162286667},{"$f":"(IF($K$7=TRUE,F7,0)+IF($K$8=TRUE,F8,0)+IF($K$9=TRUE,F9,0)+IF($K$10=TRUE,F10,0)+IF($K$11=TRUE,F11,0)+IF($K$12=TRUE,F12,0)+IF($K$13=TRUE,F13,0)+IF($K$14=TRUE,F14,0)+IF($K$15=TRUE,F15,0)+IF($K$16=TRUE,F16,0)+IF($K$17=TRUE,F17,0)+IF($K$18=TRUE,F18,0)+IF($K$19=TRUE,F19,0)+IF($K$20=TRUE,F20,0)+IF($K$21=TRUE,F21,0))/(IF($K$7=TRUE,1,0)+IF($K$8=TRUE,1,0)+IF($K$9=TRUE,1,0)+IF($K$10=TRUE,1,0)+IF($K$11=TRUE,1,0)+IF($K$12=TRUE,1,0)+IF($K$13=TRUE,1,0)+IF($K$14=TRUE,1,0)+IF($K$15=TRUE,1,0)+IF($K$16=TRUE,1,0)+IF($K$17=TRUE,1,0)+IF($K$18=TRUE,1,0)+IF($K$19=TRUE,1,0)+IF($K$20=TRUE,1,0)+IF($K$21=TRUE,1,0))","v":2286628.8760843743},{"$f":"(IF($K$7=TRUE,G7,0)+IF($K$8=TRUE,G8,0)+IF($K$9=TRUE,G9,0)+IF($K$10=TRUE,G10,0)+IF($K$11=TRUE,G11,0)+IF($K$12=TRUE,G12,0)+IF($K$13=TRUE,G13,0)+IF($K$14=TRUE,G14,0)+IF($K$15=TRUE,G15,0)+IF($K$16=TRUE,G16,0)+IF($K$17=TRUE,G17,0)+IF($K$18=TRUE,G18,0)+IF($K$19=TRUE,G19,0)+IF($K$20=TRUE,G20,0)+IF($K$21=TRUE,G21,0))/\n(IF($K$7=TRUE,1,0)+IF($K$8=TRUE,1,0)+IF($K$9=TRUE,1,0)+IF($K$10=TRUE,1,0)+IF($K$11=TRUE,1,0)+IF($K$12=TRUE,1,0)+IF($K$13=TRUE,1,0)+IF($K$14=TRUE,1,0)+IF($K$15=TRUE,1,0)+IF($K$16=TRUE,1,0)+IF($K$17=TRUE,1,0)+IF($K$18=TRUE,1,0)+IF($K$19=TRUE,1,0)+IF($K$20=TRUE,1,0)+IF($K$21=TRUE,1,0))","v":970.64091295406342},"RMSE:","RMSE:","RMSE:"]
[null,null,null,null,null,null,"RMSE IN US SURVEY FEET:",{"$f":"SQRT((\n(IF($K$7=TRUE,H7^2,0))+(IF($K$8=TRUE,H8^2,0))+(IF($K$9=TRUE,H9^2,0))+(IF($K$10=TRUE,H10^2,0))+(IF($K$11=TRUE,H11^2,0))+(IF($K$12=TRUE,H12^2,0))+(IF($K$13=TRUE,H13^2,0))+(IF($K$14=TRUE,H14^2,0))+(IF($K$15=TRUE,H15^2,0))+(IF($K$16=TRUE,H16^2,0))+(IF($K$17=TRUE,H17^2,0))+(IF($K$18=TRUE,H18^2,0))+(IF($K$19=TRUE,H19^2,0))+(IF($K$20=TRUE,H20^2,0))+(IF($K$21=TRUE,H21^2,0)))/\n(IF($K$7=TRUE,1,0)+IF($K$8=TRUE,1,0)+IF($K$9=TRUE,1,0)+IF($K$10=TRUE,1,0)+IF($K$11=TRUE,1,0)+IF($K$12=TRUE,1,0)+IF($K$13=TRUE,1,0)+IF($K$14=TRUE,1,0)+IF($K$15=TRUE,1,0)+IF($K$16=TRUE,1,0)+IF($K$17=TRUE,1,0)+IF($K$18=TRUE,1,0)+IF($K$19=TRUE,1,0)+IF($K$20=TRUE,1,0)+IF($K$21=TRUE,1,0)))","v":9.7491865628500859E-3},{"$f":"SQRT((\n(IF($K$7=TRUE,I7^2,0))+(IF($K$8=TRUE,I8^2,0))+(IF($K$9=TRUE,I9^2,0))+(IF($K$10=TRUE,I10^2,0))+(IF($K$11=TRUE,I11^2,0))+(IF($K$12=TRUE,I12^2,0))+(IF($K$13=TRUE,I13^2,0))+(IF($K$14=TRUE,I14^2,0))+(IF($K$15=TRUE,I15^2,0))+(IF($K$16=TRUE,I16^2,0))+(IF($K$17=TRUE,I17^2,0))+(IF($K$18=TRUE,I18^2,0))+(IF($K$19=TRUE,I19^2,0))+(IF($K$20=TRUE,I20^2,0))+(IF($K$21=TRUE,I21^2,0)))/\n(IF($K$7=TRUE,1,0)+IF($K$8=TRUE,1,0)+IF($K$9=TRUE,1,0)+IF($K$10=TRUE,1,0)+IF($K$11=TRUE,1,0)+IF($K$12=TRUE,1,0)+IF($K$13=TRUE,1,0)+IF($K$14=TRUE,1,0)+IF($K$15=TRUE,1,0)+IF($K$16=TRUE,1,0)+IF($K$17=TRUE,1,0)+IF($K$18=TRUE,1,0)+IF($K$19=TRUE,1,0)+IF($K$20=TRUE,1,0)+IF($K$21=TRUE,1,0)))","v":2.5906758719501616E-3},{"$f":"SQRT((\n(IF($K$7=TRUE,J7^2,0))+(IF($K$8=TRUE,J8^2,0))+(IF($K$9=TRUE,J9^2,0))+(IF($K$10=TRUE,J10^2,0))+(IF($K$11=TRUE,J11^2,0))+(IF($K$12=TRUE,J12^2,0))+(IF($K$13=TRUE,J13^2,0))+(IF($K$14=TRUE,J14^2,0))+(IF($K$15=TRUE,J15^2,0))+(IF($K$16=TRUE,J16^2,0))+(IF($K$17=TRUE,J17^2,0))+(IF($K$18=TRUE,J18^2,0))+(IF($K$19=TRUE,J19^2,0))+(IF($K$20=TRUE,J20^2,0))+(IF($K$21=TRUE,J21^2,0)))/\n(IF($K$7=TRUE,1,0)+IF($K$8=TRUE,1,0)+IF($K$9=TRUE,1,0)+IF($K$10=TRUE,1,0)+IF($K$11=TRUE,1,0)+IF($K$12=TRUE,1,0)+IF($K$13=TRUE,1,0)+IF($K$14=TRUE,1,0)+IF($K$15=TRUE,1,0)+IF($K$16=TRUE,1,0)+IF($K$17=TRUE,1,0)+IF($K$18=TRUE,1,0)+IF($K$19=TRUE,1,0)+IF($K$20=TRUE,1,0)+IF($K$21=TRUE,1,0)))","v":1.0735569734664503E-2}]
[null,null,null,1]
[null,null,"UNITLESS GRID TO GROUND MULTIPLIER",{"$f":"IF(REPORT!C13=\"n/a\",\"0.00000000\",REPORT!C13)","v":0},null,null,null,{"$f":"IF(H23<=0.029,\"PASS\",\"FAIL\")","v":"PASS"},{"$f":"IF(I23<=0.029,\"PASS\",\"FAIL\")","v":"PASS"},{"$f":"IF(J23<=0.039,\"PASS\",\"FAIL\")","v":"PASS"}]
[]
["AVERAGED GPS-DERIVED POSITION",null,null,null,null,null,null,null,"Notes:"]
[null,"MONUMENT COORDINATES",null,"NORTHING","EASTING","ORTHO HEIGHT"]
[null,"US Survey Feet (GRID)",null,{"$f":"$E$22","v":356198.51162286667},{"$f":"$F$22","v":2286628.8760843743},{"$f":"$G$22","v":970.64091295406342}]
[]
["LEVELED ELEVATION"]
["US SURVEY FEET",null,"N/A","(Type the leveled elevation or N/A if no leveled elevation is available)"]
["MONUMENT HELD",null,null,"(Type the monument name from which leveling originated)"]
["LEVELED ELEVATION - GPS DERIVED ELEVATION   = ",null,null,null,{"$f":"IF(C32=\"N/A\",\"N/A\",C32-(F29*D24))","v":"N/A"}]
[]
["FINAL MONUMENT COORDINATES"]
[null,"MONUMENT COORDINATES",null,"NORTHING","EASTING","ELEVATION","FEATURE CODE"]
[null,"US SURVEY FEET (GRID)",null,{"$f":"$E$22*$D$24","v":356198.51162286667},{"$f":"$F$22*$D$24","v":2286628.8760843743},{"$f":"IF($C$32=\"N/A\",($G$22*$D$24),$C$32)","v":970.64091295406342},"AERPP"]
[null,"US SURVEY FEET (GROUND)",null,{"$f":"$D$38*$D$25","v":0},{"$f":"$E$38*$D$25","v":0},{"$f":"IF($C$32=\"N/A\",($G$22*$D$24),$C$32)","v":970.64091295406342},{"$f":"G38","v":"AERPP"}]
[]
["∆ North,  ∆ East, and ∆ Ht. are the difference between the average northing, easting, and height for each observation.",null,null,null,null,null,null,null,"Mask Angle:","10°"]

{"sheet":"GS26","index":32,"n_rows":41,"n_cols":11,"rows_kept":41,"cut":false,"hidden":false,"merged":[[0,0,0,10],[26,0,26,6],[27,1,27,2],[27,8,38,10],[28,1,28,2],[30,0,30,6],[35,0,35,6],[36,1,36,2],[37,1,37,2],[38,1,38,2]]}
["VRS GNSS Project Control Monument Coordinate Analysis"]
[]
["Project:",{"$f":"REPORT!B2","v":"TUS-800-22.74"},"GPS Antenna:","LEICA GS14",null,null,null,null,null,"Report Date:",{"$f":"REPORT!C49","v":"2018-12-19"}]
["PID:",{"$f":"REPORT!E2","v":100603},"VRS Network:","ODOT VRS",null,null,null,null,null,"Prepared By:",{"$f":"REPORT!C48","v":"Kolton Wilson"}]
["Point ID:","GS26","No. of Sessions:",{"$f":"COUNTIF(GPS_IMPORT!A2:A1000,$B$5)","v":12},null,null,null,null,null,"Checked By:",{"$f":"REPORT!C52","v":"Joel Swick"}]
["SESSION #","Point","Observation Date","Start Time","Northing(sft)","Easting(sft)","Height(sft)","∆ Northing(sft)","∆ Easting(sft)","∆ Height(sft)","Include in Solution?"]
[1,{"$f":"IF(ROWS(GPS_IMPORT!$1:1)<=COUNTIF(GPS_IMPORT!$A$2:$A$10000,$B$5),INDEX(GPS_IMPORT!$2:$10000,MATCH($B$5,(GPS_IMPORT!$A$2:$A$10000),0)+ROWS($1:1)-1,COLUMN()-1),0)","v":"GS26"},{"$f":"IF(ROWS(GPS_IMPORT!$1:1)<=COUNTIF(GPS_IMPORT!$A$2:$A$10000,$B$5),INDEX(GPS_IMPORT!$2:$10000,MATCH($B$5,(GPS_IMPORT!$A$2:$A$10000),0)+ROWS($1:1)-1,COLUMN()-1),0)","v":"12.18.2018"},{"$f":"IF(ROWS(GPS_IMPORT!$1:1)<=COUNTIF(GPS_IMPORT!$A$2:$A$10000,$B$5),INDEX(GPS_IMPORT!$2:$10000,MATCH($B$5,(GPS_IMPORT!$A$2:$A$10000),0)+ROWS($1:1)-1,COLUMN()-1),0)","v":"13:22:13.930"},{"$f":"IF(ROWS(GPS_IMPORT!$1:1)<=COUNTIF(GPS_IMPORT!$A$2:$A$10000,$B$5),INDEX(GPS_IMPORT!$2:$10000,MATCH($B$5,(GPS_IMPORT!$A$2:$A$10000),0)+ROWS($1:1)-1,COLUMN()-1),0)","v":358469.58195851598},{"$f":"IF(ROWS(GPS_IMPORT!$1:1)<=COUNTIF(GPS_IMPORT!$A$2:$A$10000,$B$5),INDEX(GPS_IMPORT!$2:$10000,MATCH($B$5,(GPS_IMPORT!$A$2:$A$10000),0)+ROWS($1:1)-1,COLUMN()-1),0)","v":2286654.9687198498},{"$f":"IF(ROWS(GPS_IMPORT!$1:1)<=COUNTIF(GPS_IMPORT!$A$2:$A$10000,$B$5),INDEX(GPS_IMPORT!$2:$10000,MATCH($B$5,(GPS_IMPORT!$A$2:$A$10000),0)+ROWS($1:1)-1,COLUMN()-1),0)","v":965.74520314866004},{"$f":"IF(E7>0,E$22-E7,0)","v":4.7355327988043427E-3},-4.1991928592324257E-3,3.9975896832402213E-2,true]
[2,{"$f":"IF(ROWS(GPS_IMPORT!$1:2)<=COUNTIF(GPS_IMPORT!$A$2:$A$10000,$B$5),INDEX(GPS_IMPORT!$2:$10000,MATCH($B$5,(GPS_IMPORT!$A$2:$A$10000),0)+ROWS($1:2)-1,COLUMN()-1),0)","v":"GS26"},{"$f":"IF(ROWS(GPS_IMPORT!$1:2)<=COUNTIF(GPS_IMPORT!$A$2:$A$10000,$B$5),INDEX(GPS_IMPORT!$2:$10000,MATCH($B$5,(GPS_IMPORT!$A$2:$A$10000),0)+ROWS($1:2)-1,COLUMN()-1),0)","v":"12.18.2018"},{"$f":"IF(ROWS(GPS_IMPORT!$1:2)<=COUNTIF(GPS_IMPORT!$A$2:$A$10000,$B$5),INDEX(GPS_IMPORT!$2:$10000,MATCH($B$5,(GPS_IMPORT!$A$2:$A$10000),0)+ROWS($1:2)-1,COLUMN()-1),0)","v":"13:22:26"},{"$f":"IF(ROWS(GPS_IMPORT!$1:2)<=COUNTIF(GPS_IMPORT!$A$2:$A$10000,$B$5),INDEX(GPS_IMPORT!$2:$10000,MATCH($B$5,(GPS_IMPORT!$A$2:$A$10000),0)+ROWS($1:2)-1,COLUMN()-1),0)","v":358469.569412301},{"$f":"IF(ROWS(GPS_IMPORT!$1:2)<=COUNTIF(GPS_IMPORT!$A$2:$A$10000,$B$5),INDEX(GPS_IMPORT!$2:$10000,MATCH($B$5,(GPS_IMPORT!$A$2:$A$10000),0)+ROWS($1:2)-1,COLUMN()-1),0)","v":2286654.9601938301},{"$f":"IF(ROWS(GPS_IMPORT!$1:2)<=COUNTIF(GPS_IMPORT!$A$2:$A$10000,$B$5),INDEX(GPS_IMPORT!$2:$10000,MATCH($B$5,(GPS_IMPORT!$A$2:$A$10000),0)+ROWS($1:2)-1,COLUMN()-1),0)","v":965.73772946189001},1.7281747772358358E-2,4.3268268927931786E-3,4.7449583602428902E-2,true]
[3,{"$f":"IF(ROWS(GPS_IMPORT!$1:3)<=COUNTIF(GPS_IMPORT!$A$2:$A$10000,$B$5),INDEX(GPS_IMPORT!$2:$10000,MATCH($B$5,(GPS_IMPORT!$A$2:$A$10000),0)+ROWS($1:3)-1,COLUMN()-1),0)","v":"GS26"},{"$f":"IF(ROWS(GPS_IMPORT!$1:3)<=COUNTIF(GPS_IMPORT!$A$2:$A$10000,$B$5),INDEX(GPS_IMPORT!$2:$10000,MATCH($B$5,(GPS_IMPORT!$A$2:$A$10000),0)+ROWS($1:3)-1,COLUMN()-1),0)","v":"12.18.2018"},{"$f":"IF(ROWS(GPS_IMPORT!$1:3)<=COUNTIF(GPS_IMPORT!$A$2:$A$10000,$B$5),INDEX(GPS_IMPORT!$2:$10000,MATCH($B$5,(GPS_IMPORT!$A$2:$A$10000),0)+ROWS($1:3)-1,COLUMN()-1),0)","v":"13:22:37.850"},{"$f":"IF(ROWS(GPS_IMPORT!$1:3)<=COUNTIF(GPS_IMPORT!$A$2:$A$10000,$B$5),INDEX(GPS_IMPORT!$2:$10000,MATCH($B$5,(GPS_IMPORT!$A$2:$A$10000),0)+ROWS($1:3)-1,COLUMN()-1),0)","v":358469.57242930197},{"$f":"IF(ROWS(GPS_IMPORT!$1:3)<=COUNTIF(GPS_IMPORT!$A$2:$A$10000,$B$5),INDEX(GPS_IMPORT!$2:$10000,MATCH($B$5,(GPS_IMPORT!$A$2:$A$10000),0)+ROWS($1:3)-1,COLUMN()-1),0)","v":2286654.9621776501},{"$f":"IF(ROWS(GPS_IMPORT!$1:3)<=COUNTIF(GPS_IMPORT!$A$2:$A$10000,$B$5),INDEX(GPS_IMPORT!$2:$10000,MATCH($B$5,(GPS_IMPORT!$A$2:$A$10000),0)+ROWS($1:3)-1,COLUMN()-1),0)","v":965.75837935370998},1.4264746801927686E-2,2.3430068977177143E-3,2.6799691782457558E-2,true]
[4,{"$f":"IF(ROWS(GPS_IMPORT!$1:4)<=COUNTIF(GPS_IMPORT!$A$2:$A$10000,$B$5),INDEX(GPS_IMPORT!$2:$10000,MATCH($B$5,(GPS_IMPORT!$A$2:$A$10000),0)+ROWS($1:4)-1,COLUMN()-1),0)","v":"GS26"},{"$f":"IF(ROWS(GPS_IMPORT!$1:4)<=COUNTIF(GPS_IMPORT!$A$2:$A$10000,$B$5),INDEX(GPS_IMPORT!$2:$10000,MATCH($B$5,(GPS_IMPORT!$A$2:$A$10000),0)+ROWS($1:4)-1,COLUMN()-1),0)","v":"12.18.2018"},{"$f":"IF(ROWS(GPS_IMPORT!$1:4)<=COUNTIF(GPS_IMPORT!$A$2:$A$10000,$B$5),INDEX(GPS_IMPORT!$2:$10000,MATCH($B$5,(GPS_IMPORT!$A$2:$A$10000),0)+ROWS($1:4)-1,COLUMN()-1),0)","v":"13:22:50.360"},{"$f":"IF(ROWS(GPS_IMPORT!$1:4)<=COUNTIF(GPS_IMPORT!$A$2:$A$10000,$B$5),INDEX(GPS_IMPORT!$2:$10000,MATCH($B$5,(GPS_IMPORT!$A$2:$A$10000),0)+ROWS($1:4)-1,COLUMN()-1),0)","v":358469.573371095},{"$f":"IF(ROWS(GPS_IMPORT!$1:4)<=COUNTIF(GPS_IMPORT!$A$2:$A$10000,$B$5),INDEX(GPS_IMPORT!$2:$10000,MATCH($B$5,(GPS_IMPORT!$A$2:$A$10000),0)+ROWS($1:4)-1,COLUMN()-1),0)","v":2286654.9613206},{"$f":"IF(ROWS(GPS_IMPORT!$1:4)<=COUNTIF(GPS_IMPORT!$A$2:$A$10000,$B$5),INDEX(GPS_IMPORT!$2:$10000,MATCH($B$5,(GPS_IMPORT!$A$2:$A$10000),0)+ROWS($1:4)-1,COLUMN()-1),0)","v":965.76350852919995},1.3322953775059432E-2,3.2000569626688957E-3,2.1670516292488173E-2,true]
[5,{"$f":"IF(ROWS(GPS_IMPORT!$1:5)<=COUNTIF(GPS_IMPORT!$A$2:$A$10000,$B$5),INDEX(GPS_IMPORT!$2:$10000,MATCH($B$5,(GPS_IMPORT!$A$2:$A$10000),0)+ROWS($1:5)-1,COLUMN()-1),0)","v":"GS26"},{"$f":"IF(ROWS(GPS_IMPORT!$1:5)<=COUNTIF(GPS_IMPORT!$A$2:$A$10000,$B$5),INDEX(GPS_IMPORT!$2:$10000,MATCH($B$5,(GPS_IMPORT!$A$2:$A$10000),0)+ROWS($1:5)-1,COLUMN()-1),0)","v":"12.18.2018"},{"$f":"IF(ROWS(GPS_IMPORT!$1:5)<=COUNTIF(GPS_IMPORT!$A$2:$A$10000,$B$5),INDEX(GPS_IMPORT!$2:$10000,MATCH($B$5,(GPS_IMPORT!$A$2:$A$10000),0)+ROWS($1:5)-1,COLUMN()-1),0)","v":"13:23:11.950"},{"$f":"IF(ROWS(GPS_IMPORT!$1:5)<=COUNTIF(GPS_IMPORT!$A$2:$A$10000,$B$5),INDEX(GPS_IMPORT!$2:$10000,MATCH($B$5,(GPS_IMPORT!$A$2:$A$10000),0)+ROWS($1:5)-1,COLUMN()-1),0)","v":358469.58326924802},{"$f":"IF(ROWS(GPS_IMPORT!$1:5)<=COUNTIF(GPS_IMPORT!$A$2:$A$10000,$B$5),INDEX(GPS_IMPORT!$2:$10000,MATCH($B$5,(GPS_IMPORT!$A$2:$A$10000),0)+ROWS($1:5)-1,COLUMN()-1),0)","v":2286654.9597480102},{"$f":"IF(ROWS(GPS_IMPORT!$1:5)<=COUNTIF(GPS_IMPORT!$A$2:$A$10000,$B$5),INDEX(GPS_IMPORT!$2:$10000,MATCH($B$5,(GPS_IMPORT!$A$2:$A$10000),0)+ROWS($1:5)-1,COLUMN()-1),0)","v":965.79246432289995},3.4248007577843964E-3,4.7726468183100224E-3,-7.285277407504509E-3,true]
[6,{"$f":"IF(ROWS(GPS_IMPORT!$1:6)<=COUNTIF(GPS_IMPORT!$A$2:$A$10000,$B$5),INDEX(GPS_IMPORT!$2:$10000,MATCH($B$5,(GPS_IMPORT!$A$2:$A$10000),0)+ROWS($1:6)-1,COLUMN()-1),0)","v":"GS26"},{"$f":"IF(ROWS(GPS_IMPORT!$1:6)<=COUNTIF(GPS_IMPORT!$A$2:$A$10000,$B$5),INDEX(GPS_IMPORT!$2:$10000,MATCH($B$5,(GPS_IMPORT!$A$2:$A$10000),0)+ROWS($1:6)-1,COLUMN()-1),0)","v":"12.18.2018"},{"$f":"IF(ROWS(GPS_IMPORT!$1:6)<=COUNTIF(GPS_IMPORT!$A$2:$A$10000,$B$5),INDEX(GPS_IMPORT!$2:$10000,MATCH($B$5,(GPS_IMPORT!$A$2:$A$10000),0)+ROWS($1:6)-1,COLUMN()-1),0)","v":"13:23:23.870"},{"$f":"IF(ROWS(GPS_IMPORT!$1:6)<=COUNTIF(GPS_IMPORT!$A$2:$A$10000,$B$5),INDEX(GPS_IMPORT!$2:$10000,MATCH($B$5,(GPS_IMPORT!$A$2:$A$10000),0)+ROWS($1:6)-1,COLUMN()-1),0)","v":358469.58885256998},{"$f":"IF(ROWS(GPS_IMPORT!$1:6)<=COUNTIF(GPS_IMPORT!$A$2:$A$10000,$B$5),INDEX(GPS_IMPORT!$2:$10000,MATCH($B$5,(GPS_IMPORT!$A$2:$A$10000),0)+ROWS($1:6)-1,COLUMN()-1),0)","v":2286654.96076877},{"$f":"IF(ROWS(GPS_IMPORT!$1:6)<=COUNTIF(GPS_IMPORT!$A$2:$A$10000,$B$5),INDEX(GPS_IMPORT!$2:$10000,MATCH($B$5,(GPS_IMPORT!$A$2:$A$10000),0)+ROWS($1:6)-1,COLUMN()-1),0)","v":965.79466356891999},-2.1585212089121342E-3,3.7518870085477829E-3,-9.4845234275453549E-3,true]
[7,{"$f":"IF(ROWS(GPS_IMPORT!$1:7)<=COUNTIF(GPS_IMPORT!$A$2:$A$10000,$B$5),INDEX(GPS_IMPORT!$2:$10000,MATCH($B$5,(GPS_IMPORT!$A$2:$A$10000),0)+ROWS($1:7)-1,COLUMN()-1),0)","v":"GS26"},{"$f":"IF(ROWS(GPS_IMPORT!$1:7)<=COUNTIF(GPS_IMPORT!$A$2:$A$10000,$B$5),INDEX(GPS_IMPORT!$2:$10000,MATCH($B$5,(GPS_IMPORT!$A$2:$A$10000),0)+ROWS($1:7)-1,COLUMN()-1),0)","v":"12.18.2018"},{"$f":"IF(ROWS(GPS_IMPORT!$1:7)<=COUNTIF(GPS_IMPORT!$A$2:$A$10000,$B$5),INDEX(GPS_IMPORT!$2:$10000,MATCH($B$5,(GPS_IMPORT!$A$2:$A$10000),0)+ROWS($1:7)-1,COLUMN()-1),0)","v":"13:23:36.570"},{"$f":"IF(ROWS(GPS_IMPORT!$1:7)<=COUNTIF(GPS_IMPORT!$A$2:$A$10000,$B$5),INDEX(GPS_IMPORT!$2:$10000,MATCH($B$5,(GPS_IMPORT!$A$2:$A$10000),0)+ROWS($1:7)-1,COLUMN()-1),0)","v":358469.59046089102},{"$f":"IF(ROWS(GPS_IMPORT!$1:7)<=COUNTIF(GPS_IMPORT!$A$2:$A$10000,$B$5),INDEX(GPS_IMPORT!$2:$10000,MATCH($B$5,(GPS_IMPORT!$A$2:$A$10000),0)+ROWS($1:7)-1,COLUMN()-1),0)","v":2286654.9597735298},{"$f":"IF(ROWS(GPS_IMPORT!$1:7)<=COUNTIF(GPS_IMPORT!$A$2:$A$10000,$B$5),INDEX(GPS_IMPORT!$2:$10000,MATCH($B$5,(GPS_IMPORT!$A$2:$A$10000),0)+ROWS($1:7)-1,COLUMN()-1),0)","v":965.79184741764004},-3.7668422446586192E-3,4.7471271827816963E-3,-6.668372147601076E-3,true]
[8,{"$f":"IF(ROWS(GPS_IMPORT!$1:8)<=COUNTIF(GPS_IMPORT!$A$2:$A$10000,$B$5),INDEX(GPS_IMPORT!$2:$10000,MATCH($B$5,(GPS_IMPORT!$A$2:$A$10000),0)+ROWS($1:8)-1,COLUMN()-1),0)","v":"GS26"},{"$f":"IF(ROWS(GPS_IMPORT!$1:8)<=COUNTIF(GPS_IMPORT!$A$2:$A$10000,$B$5),INDEX(GPS_IMPORT!$2:$10000,MATCH($B$5,(GPS_IMPORT!$A$2:$A$10000),0)+ROWS($1:8)-1,COLUMN()-1),0)","v":"12.18.2018"},{"$f":"IF(ROWS(GPS_IMPORT!$1:8)<=COUNTIF(GPS_IMPORT!$A$2:$A$10000,$B$5),INDEX(GPS_IMPORT!$2:$10000,MATCH($B$5,(GPS_IMPORT!$A$2:$A$10000),0)+ROWS($1:8)-1,COLUMN()-1),0)","v":"13:23:48.790"},{"$f":"IF(ROWS(GPS_IMPORT!$1:8)<=COUNTIF(GPS_IMPORT!$A$2:$A$10000,$B$5),INDEX(GPS_IMPORT!$2:$10000,MATCH($B$5,(GPS_IMPORT!$A$2:$A$10000),0)+ROWS($1:8)-1,COLUMN()-1),0)","v":358469.60057820898},{"$f":"IF(ROWS(GPS_IMPORT!$1:8)<=COUNTIF(GPS_IMPORT!$A$2:$A$10000,$B$5),INDEX(GPS_IMPORT!$2:$10000,MATCH($B$5,(GPS_IMPORT!$A$2:$A$10000),0)+ROWS($1:8)-1,COLUMN()-1),0)","v":2286654.96470901},{"$f":"IF(ROWS(GPS_IMPORT!$1:8)<=COUNTIF(GPS_IMPORT!$A$2:$A$10000,$B$5),INDEX(GPS_IMPORT!$2:$10000,MATCH($B$5,(GPS_IMPORT!$A$2:$A$10000),0)+ROWS($1:8)-1,COLUMN()-1),0)","v":965.82088375164005},-1.3884160201996565E-2,-1.8835300579667091E-4,-3.5704706147612342E-2,true]
[9,{"$f":"IF(ROWS(GPS_IMPORT!$1:9)<=COUNTIF(GPS_IMPORT!$A$2:$A$10000,$B$5),INDEX(GPS_IMPORT!$2:$10000,MATCH($B$5,(GPS_IMPORT!$A$2:$A$10000),0)+ROWS($1:9)-1,COLUMN()-1),0)","v":"GS26"},{"$f":"IF(ROWS(GPS_IMPORT!$1:9)<=COUNTIF(GPS_IMPORT!$A$2:$A$10000,$B$5),INDEX(GPS_IMPORT!$2:$10000,MATCH($B$5,(GPS_IMPORT!$A$2:$A$10000),0)+ROWS($1:9)-1,COLUMN()-1),0)","v":"12.18.2018"},{"$f":"IF(ROWS(GPS_IMPORT!$1:9)<=COUNTIF(GPS_IMPORT!$A$2:$A$10000,$B$5),INDEX(GPS_IMPORT!$2:$10000,MATCH($B$5,(GPS_IMPORT!$A$2:$A$10000),0)+ROWS($1:9)-1,COLUMN()-1),0)","v":"13:24:13.090"},{"$f":"IF(ROWS(GPS_IMPORT!$1:9)<=COUNTIF(GPS_IMPORT!$A$2:$A$10000,$B$5),INDEX(GPS_IMPORT!$2:$10000,MATCH($B$5,(GPS_IMPORT!$A$2:$A$10000),0)+ROWS($1:9)-1,COLUMN()-1),0)","v":358469.602059739},{"$f":"IF(ROWS(GPS_IMPORT!$1:9)<=COUNTIF(GPS_IMPORT!$A$2:$A$10000,$B$5),INDEX(GPS_IMPORT!$2:$10000,MATCH($B$5,(GPS_IMPORT!$A$2:$A$10000),0)+ROWS($1:9)-1,COLUMN()-1),0)","v":2286654.96769905},{"$f":"IF(ROWS(GPS_IMPORT!$1:9)<=COUNTIF(GPS_IMPORT!$A$2:$A$10000,$B$5),INDEX(GPS_IMPORT!$2:$10000,MATCH($B$5,(GPS_IMPORT!$A$2:$A$10000),0)+ROWS($1:9)-1,COLUMN()-1),0)","v":965.80537811427996},-1.5365690225735307E-2,-3.1783930025994778E-3,-2.0199068787519536E-2,true]
[10,{"$f":"IF(ROWS(GPS_IMPORT!$1:10)<=COUNTIF(GPS_IMPORT!$A$2:$A$10000,$B$5),INDEX(GPS_IMPORT!$2:$10000,MATCH($B$5,(GPS_IMPORT!$A$2:$A$10000),0)+ROWS($1:10)-1,COLUMN()-1),0)","v":"GS26"},{"$f":"IF(ROWS(GPS_IMPORT!$1:10)<=COUNTIF(GPS_IMPORT!$A$2:$A$10000,$B$5),INDEX(GPS_IMPORT!$2:$10000,MATCH($B$5,(GPS_IMPORT!$A$2:$A$10000),0)+ROWS($1:10)-1,COLUMN()-1),0)","v":"12.18.2018"},{"$f":"IF(ROWS(GPS_IMPORT!$1:10)<=COUNTIF(GPS_IMPORT!$A$2:$A$10000,$B$5),INDEX(GPS_IMPORT!$2:$10000,MATCH($B$5,(GPS_IMPORT!$A$2:$A$10000),0)+ROWS($1:10)-1,COLUMN()-1),0)","v":"13:24:23.850"},{"$f":"IF(ROWS(GPS_IMPORT!$1:10)<=COUNTIF(GPS_IMPORT!$A$2:$A$10000,$B$5),INDEX(GPS_IMPORT!$2:$10000,MATCH($B$5,(GPS_IMPORT!$A$2:$A$10000),0)+ROWS($1:10)-1,COLUMN()-1),0)","v":358469.597500715},{"$f":"IF(ROWS(GPS_IMPORT!$1:10)<=COUNTIF(GPS_IMPORT!$A$2:$A$10000,$B$5),INDEX(GPS_IMPORT!$2:$10000,MATCH($B$5,(GPS_IMPORT!$A$2:$A$10000),0)+ROWS($1:10)-1,COLUMN()-1),0)","v":2286654.9723082902},{"$f":"IF(ROWS(GPS_IMPORT!$1:10)<=COUNTIF(GPS_IMPORT!$A$2:$A$10000,$B$5),INDEX(GPS_IMPORT!$2:$10000,MATCH($B$5,(GPS_IMPORT!$A$2:$A$10000),0)+ROWS($1:10)-1,COLUMN()-1),0)","v":965.79683825779},-1.0806666221469641E-2,-7.7876332215964794E-3,-1.1659212297558952E-2,true]
[11,{"$f":"IF(ROWS(GPS_IMPORT!$1:11)<=COUNTIF(GPS_IMPORT!$A$2:$A$10000,$B$5),INDEX(GPS_IMPORT!$2:$10000,MATCH($B$5,(GPS_IMPORT!$A$2:$A$10000),0)+ROWS($1:11)-1,COLUMN()-1),0)","v":"GS26"},{"$f":"IF(ROWS(GPS_IMPORT!$1:11)<=COUNTIF(GPS_IMPORT!$A$2:$A$10000,$B$5),INDEX(GPS_IMPORT!$2:$10000,MATCH($B$5,(GPS_IMPORT!$A$2:$A$10000),0)+ROWS($1:11)-1,COLUMN()-1),0)","v":"12.18.2018"},{"$f":"IF(ROWS(GPS_IMPORT!$1:11)<=COUNTIF(GPS_IMPORT!$A$2:$A$10000,$B$5),INDEX(GPS_IMPORT!$2:$10000,MATCH($B$5,(GPS_IMPORT!$A$2:$A$10000),0)+ROWS($1:11)-1,COLUMN()-1),0)","v":"13:24:36.580"},{"$f":"IF(ROWS(GPS_IMPORT!$1:11)<=COUNTIF(GPS_IMPORT!$A$2:$A$10000,$B$5),INDEX(GPS_IMPORT!$2:$10000,MATCH($B$5,(GPS_IMPORT!$A$2:$A$10000),0)+ROWS($1:11)-1,COLUMN()-1),0)","v":358469.595201355},{"$f":"IF(ROWS(GPS_IMPORT!$1:11)<=COUNTIF(GPS_IMPORT!$A$2:$A$10000,$B$5),INDEX(GPS_IMPORT!$2:$10000,MATCH($B$5,(GPS_IMPORT!$A$2:$A$10000),0)+ROWS($1:11)-1,COLUMN()-1),0)","v":2286654.9675846398},{"$f":"IF(ROWS(GPS_IMPORT!$1:11)<=COUNTIF(GPS_IMPORT!$A$2:$A$10000,$B$5),INDEX(GPS_IMPORT!$2:$10000,MATCH($B$5,(GPS_IMPORT!$A$2:$A$10000),0)+ROWS($1:11)-1,COLUMN()-1),0)","v":965.80412628846},-8.5073062218725681E-3,-3.0639828182756901E-3,-1.8947242967556122E-2,true]
[12,{"$f":"IF(ROWS(GPS_IMPORT!$1:12)<=COUNTIF(GPS_IMPORT!$A$2:$A$10000,$B$5),INDEX(GPS_IMPORT!$2:$10000,MATCH($B$5,(GPS_IMPORT!$A$2:$A$10000),0)+ROWS($1:12)-1,COLUMN()-1),0)","v":"GS26"},{"$f":"IF(ROWS(GPS_IMPORT!$1:12)<=COUNTIF(GPS_IMPORT!$A$2:$A$10000,$B$5),INDEX(GPS_IMPORT!$2:$10000,MATCH($B$5,(GPS_IMPORT!$A$2:$A$10000),0)+ROWS($1:12)-1,COLUMN()-1),0)","v":"12.18.2018"},{"$f":"IF(ROWS(GPS_IMPORT!$1:12)<=COUNTIF(GPS_IMPORT!$A$2:$A$10000,$B$5),INDEX(GPS_IMPORT!$2:$10000,MATCH($B$5,(GPS_IMPORT!$A$2:$A$10000),0)+ROWS($1:12)-1,COLUMN()-1),0)","v":"13:24:49.840"},{"$f":"IF(ROWS(GPS_IMPORT!$1:12)<=COUNTIF(GPS_IMPORT!$A$2:$A$10000,$B$5),INDEX(GPS_IMPORT!$2:$10000,MATCH($B$5,(GPS_IMPORT!$A$2:$A$10000),0)+ROWS($1:12)-1,COLUMN()-1),0)","v":358469.58523464401},{"$f":"IF(ROWS(GPS_IMPORT!$1:12)<=COUNTIF(GPS_IMPORT!$A$2:$A$10000,$B$5),INDEX(GPS_IMPORT!$2:$10000,MATCH($B$5,(GPS_IMPORT!$A$2:$A$10000),0)+ROWS($1:12)-1,COLUMN()-1),0)","v":2286654.9692446501},{"$f":"IF(ROWS(GPS_IMPORT!$1:12)<=COUNTIF(GPS_IMPORT!$A$2:$A$10000,$B$5),INDEX(GPS_IMPORT!$2:$10000,MATCH($B$5,(GPS_IMPORT!$A$2:$A$10000),0)+ROWS($1:12)-1,COLUMN()-1),0)","v":965.81112633082},1.4594047679565847E-3,-4.7239931300282478E-3,-2.5947285327561076E-2,true]
[13,{"$f":"IF(ROWS(GPS_IMPORT!$1:13)<=COUNTIF(GPS_IMPORT!$A$2:$A$10000,$B$5),INDEX(GPS_IMPORT!$2:$10000,MATCH($B$5,(GPS_IMPORT!$A$2:$A$10000),0)+ROWS($1:13)-1,COLUMN()-1),0)","v":0},{"$f":"IF(ROWS(GPS_IMPORT!$1:13)<=COUNTIF(GPS_IMPORT!$A$2:$A$10000,$B$5),INDEX(GPS_IMPORT!$2:$10000,MATCH($B$5,(GPS_IMPORT!$A$2:$A$10000),0)+ROWS($1:13)-1,COLUMN()-1),0)","v":"00:00:00"},{"$f":"IF(ROWS(GPS_IMPORT!$1:13)<=COUNTIF(GPS_IMPORT!$A$2:$A$10000,$B$5),INDEX(GPS_IMPORT!$2:$10000,MATCH($B$5,(GPS_IMPORT!$A$2:$A$10000),0)+ROWS($1:13)-1,COLUMN()-1),0)","v":"00:00:00"},{"$f":"IF(ROWS(GPS_IMPORT!$1:13)<=COUNTIF(GPS_IMPORT!$A$2:$A$10000,$B$5),INDEX(GPS_IMPORT!$2:$10000,MATCH($B$5,(GPS_IMPORT!$A$2:$A$10000),0)+ROWS($1:13)-1,COLUMN()-1),0)","v":0},{"$f":"IF(ROWS(GPS_IMPORT!$1:13)<=COUNTIF(GPS_IMPORT!$A$2:$A$10000,$B$5),INDEX(GPS_IMPORT!$2:$10000,MATCH($B$5,(GPS_IMPORT!$A$2:$A$10000),0)+ROWS($1:13)-1,COLUMN()-1),0)","v":0},{"$f":"IF(ROWS(GPS_IMPORT!$1:13)<=COUNTIF(GPS_IMPORT!$A$2:$A$10000,$B$5),INDEX(GPS_IMPORT!$2:$10000,MATCH($B$5,(GPS_IMPORT!$A$2:$A$10000),0)+ROWS($1:13)-1,COLUMN()-1),0)","v":0},{"$f":"IF(E19>0,E$22-E19,0)","v":0},0,0,false]
[14,{"$f":"IF(ROWS(GPS_IMPORT!$1:14)<=COUNTIF(GPS_IMPORT!$A$2:$A$10000,$B$5),INDEX(GPS_IMPORT!$2:$10000,MATCH($B$5,(GPS_IMPORT!$A$2:$A$10000),0)+ROWS($1:14)-1,COLUMN()-1),0)","v":0},{"$f":"IF(ROWS(GPS_IMPORT!$1:14)<=COUNTIF(GPS_IMPORT!$A$2:$A$10000,$B$5),INDEX(GPS_IMPORT!$2:$10000,MATCH($B$5,(GPS_IMPORT!$A$2:$A$10000),0)+ROWS($1:14)-1,COLUMN()-1),0)","v":"00:00:00"},{"$f":"IF(ROWS(GPS_IMPORT!$1:14)<=COUNTIF(GPS_IMPORT!$A$2:$A$10000,$B$5),INDEX(GPS_IMPORT!$2:$10000,MATCH($B$5,(GPS_IMPORT!$A$2:$A$10000),0)+ROWS($1:14)-1,COLUMN()-1),0)","v":"00:00:00"},{"$f":"IF(ROWS(GPS_IMPORT!$1:14)<=COUNTIF(GPS_IMPORT!$A$2:$A$10000,$B$5),INDEX(GPS_IMPORT!$2:$10000,MATCH($B$5,(GPS_IMPORT!$A$2:$A$10000),0)+ROWS($1:14)-1,COLUMN()-1),0)","v":0},{"$f":"IF(ROWS(GPS_IMPORT!$1:14)<=COUNTIF(GPS_IMPORT!$A$2:$A$10000,$B$5),INDEX(GPS_IMPORT!$2:$10000,MATCH($B$5,(GPS_IMPORT!$A$2:$A$10000),0)+ROWS($1:14)-1,COLUMN()-1),0)","v":0},{"$f":"IF(ROWS(GPS_IMPORT!$1:14)<=COUNTIF(GPS_IMPORT!$A$2:$A$10000,$B$5),INDEX(GPS_IMPORT!$2:$10000,MATCH($B$5,(GPS_IMPORT!$A$2:$A$10000),0)+ROWS($1:14)-1,COLUMN()-1),0)","v":0},0,0,0,false]
[15,{"$f":"IF(ROWS(GPS_IMPORT!$1:15)<=COUNTIF(GPS_IMPORT!$A$2:$A$10000,$B$5),INDEX(GPS_IMPORT!$2:$10000,MATCH($B$5,(GPS_IMPORT!$A$2:$A$10000),0)+ROWS($1:15)-1,COLUMN()-1),0)","v":0},{"$f":"IF(ROWS(GPS_IMPORT!$1:15)<=COUNTIF(GPS_IMPORT!$A$2:$A$10000,$B$5),INDEX(GPS_IMPORT!$2:$10000,MATCH($B$5,(GPS_IMPORT!$A$2:$A$10000),0)+ROWS($1:15)-1,COLUMN()-1),0)","v":"00:00:00"},{"$f":"IF(ROWS(GPS_IMPORT!$1:15)<=COUNTIF(GPS_IMPORT!$A$2:$A$10000,$B$5),INDEX(GPS_IMPORT!$2:$10000,MATCH($B$5,(GPS_IMPORT!$A$2:$A$10000),0)+ROWS($1:15)-1,COLUMN()-1),0)","v":"00:00:00"},{"$f":"IF(ROWS(GPS_IMPORT!$1:15)<=COUNTIF(GPS_IMPORT!$A$2:$A$10000,$B$5),INDEX(GPS_IMPORT!$2:$10000,MATCH($B$5,(GPS_IMPORT!$A$2:$A$10000),0)+ROWS($1:15)-1,COLUMN()-1),0)","v":0},{"$f":"IF(ROWS(GPS_IMPORT!$1:15)<=COUNTIF(GPS_IMPORT!$A$2:$A$10000,$B$5),INDEX(GPS_IMPORT!$2:$10000,MATCH($B$5,(GPS_IMPORT!$A$2:$A$10000),0)+ROWS($1:15)-1,COLUMN()-1),0)","v":0},{"$f":"IF(ROWS(GPS_IMPORT!$1:15)<=COUNTIF(GPS_IMPORT!$A$2:$A$10000,$B$5),INDEX(GPS_IMPORT!$2:$10000,MATCH($B$5,(GPS_IMPORT!$A$2:$A$10000),0)+ROWS($1:15)-1,COLUMN()-1),0)","v":0},0,0,0,false]
[null,null,null,"AVERAGE",{"$f":"(IF($K$7=TRUE,E7,0)+IF($K$8=TRUE,E8,0)+IF($K$9=TRUE,E9,0)+IF($K$10=TRUE,E10,0)+IF($K$11=TRUE,E11,0)+IF($K$12=TRUE,E12,0)+IF($K$13=TRUE,E13,0)+IF($K$14=TRUE,E14,0)+IF($K$15=TRUE,E15,0)+IF($K$16=TRUE,E16,0)+IF($K$17=TRUE,E17,0)+IF($K$18=TRUE,E18,0)+IF($K$19=TRUE,E19,0)+IF($K$20=TRUE,E20,0)+IF($K$21=TRUE,E21,0))/(IF($K$7=TRUE,1,0)+IF($K$8=TRUE,1,0)+IF($K$9=TRUE,1,0)+IF($K$10=TRUE,1,0)+IF($K$11=TRUE,1,0)+IF($K$12=TRUE,1,0)+IF($K$13=TRUE,1,0)+IF($K$14=TRUE,1,0)+IF($K$15=TRUE,1,0)+IF($K$16=TRUE,1,0)+IF($K$17=TRUE,1,0)+IF($K$18=TRUE,1,0)+IF($K$19=TRUE,1,0)+IF($K$20=TRUE,1,0)+IF($K$21=TRUE,1,0))","v":358469.58669404878},{"$f":"(IF($K$7=TRUE,F7,0)+IF($K$8=TRUE,F8,0)+IF($K$9=TRUE,F9,0)+IF($K$10=TRUE,F10,0)+IF($K$11=TRUE,F11,0)+IF($K$12=TRUE,F12,0)+IF($K$13=TRUE,F13,0)+IF($K$14=TRUE,F14,0)+IF($K$15=TRUE,F15,0)+IF($K$16=TRUE,F16,0)+IF($K$17=TRUE,F17,0)+IF($K$18=TRUE,F18,0)+IF($K$19=TRUE,F19,0)+IF($K$20=TRUE,F20,0)+IF($K$21=TRUE,F21,0))/(IF($K$7=TRUE,1,0)+IF($K$8=TRUE,1,0)+IF($K$9=TRUE,1,0)+IF($K$10=TRUE,1,0)+IF($K$11=TRUE,1,0)+IF($K$12=TRUE,1,0)+IF($K$13=TRUE,1,0)+IF($K$14=TRUE,1,0)+IF($K$15=TRUE,1,0)+IF($K$16=TRUE,1,0)+IF($K$17=TRUE,1,0)+IF($K$18=TRUE,1,0)+IF($K$19=TRUE,1,0)+IF($K$20=TRUE,1,0)+IF($K$21=TRUE,1,0))","v":2286654.964520657},{"$f":"(IF($K$7=TRUE,G7,0)+IF($K$8=TRUE,G8,0)+IF($K$9=TRUE,G9,0)+IF($K$10=TRUE,G10,0)+IF($K$11=TRUE,G11,0)+IF($K$12=TRUE,G12,0)+IF($K$13=TRUE,G13,0)+IF($K$14=TRUE,G14,0)+IF($K$15=TRUE,G15,0)+IF($K$16=TRUE,G16,0)+IF($K$17=TRUE,G17,0)+IF($K$18=TRUE,G18,0)+IF($K$19=TRUE,G19,0)+IF($K$20=TRUE,G20,0)+IF($K$21=TRUE,G21,0))/\n(IF($K$7=TRUE,1,0)+IF($K$8=TRUE,1,0)+IF($K$9=TRUE,1,0)+IF($K$10=TRUE,1,0)+IF($K$11=TRUE,1,0)+IF($K$12=TRUE,1,0)+IF($K$13=TRUE,1,0)+IF($K$14=TRUE,1,0)+IF($K$15=TRUE,1,0)+IF($K$16=TRUE,1,0)+IF($K$17=TRUE,1,0)+IF($K$18=TRUE,1,0)+IF($K$19=TRUE,1,0)+IF($K$20=TRUE,1,0)+IF($K$21=TRUE,1,0))","v":965.78517904549244},"RMSE:","RMSE:","RMSE:"]
[null,null,null,null,null,null,"RMSE IN US SURVEY FEET:",{"$f":"SQRT((\n(IF($K$7=TRUE,H7^2,0))+(IF($K$8=TRUE,H8^2,0))+(IF($K$9=TRUE,H9^2,0))+(IF($K$10=TRUE,H10^2,0))+(IF($K$11=TRUE,H11^2,0))+(IF($K$12=TRUE,H12^2,0))+(IF($K$13=TRUE,H13^2,0))+(IF($K$14=TRUE,H14^2,0))+(IF($K$15=TRUE,H15^2,0))+(IF($K$16=TRUE,H16^2,0))+(IF($K$17=TRUE,H17^2,0))+(IF($K$18=TRUE,H18^2,0))+(IF($K$19=TRUE,H19^2,0))+(IF($K$20=TRUE,H20^2,0))+(IF($K$21=TRUE,H21^2,0)))/\n(IF($K$7=TRUE,1,0)+IF($K$8=TRUE,1,0)+IF($K$9=TRUE,1,0)+IF($K$10=TRUE,1,0)+IF($K$11=TRUE,1,0)+IF($K$12=TRUE,1,0)+IF($K$13=TRUE,1,0)+IF($K$14=TRUE,1,0)+IF($K$15=TRUE,1,0)+IF($K$16=TRUE,1,0)+IF($K$17=TRUE,1,0)+IF($K$18=TRUE,1,0)+IF($K$19=TRUE,1,0)+IF($K$20=TRUE,1,0)+IF($K$21=TRUE,1,0)))","v":1.0617627822741654E-2},{"$f":"SQRT((\n(IF($K$7=TRUE,I7^2,0))+(IF($K$8=TRUE,I8^2,0))+(IF($K$9=TRUE,I9^2,0))+(IF($K$10=TRUE,I10^2,0))+(IF($K$11=TRUE,I11^2,0))+(IF($K$12=TRUE,I12^2,0))+(IF($K$13=TRUE,I13^2,0))+(IF($K$14=TRUE,I14^2,0))+(IF($K$15=TRUE,I15^2,0))+(IF($K$16=TRUE,I16^2,0))+(IF($K$17=TRUE,I17^2,0))+(IF($K$18=TRUE,I18^2,0))+(IF($K$19=TRUE,I19^2,0))+(IF($K$20=TRUE,I20^2,0))+(IF($K$21=TRUE,I21^2,0)))/\n(IF($K$7=TRUE,1,0)+IF($K$8=TRUE,1,0)+IF($K$9=TRUE,1,0)+IF($K$10=TRUE,1,0)+IF($K$11=TRUE,1,0)+IF($K$12=TRUE,1,0)+IF($K$13=TRUE,1,0)+IF($K$14=TRUE,1,0)+IF($K$15=TRUE,1,0)+IF($K$16=TRUE,1,0)+IF($K$17=TRUE,1,0)+IF($K$18=TRUE,1,0)+IF($K$19=TRUE,1,0)+IF($K$20=TRUE,1,0)+IF($K$21=TRUE,1,0)))","v":4.2225951707664973E-3},{"$f":"SQRT((\n(IF($K$7=TRUE,J7^2,0))+(IF($K$8=TRUE,J8^2,0))+(IF($K$9=TRUE,J9^2,0))+(IF($K$10=TRUE,J10^2,0))+(IF($K$11=TRUE,J11^2,0))+(IF($K$12=TRUE,J12^2,0))+(IF($K$13=TRUE,J13^2,0))+(IF($K$14=TRUE,J14^2,0))+(IF($K$15=TRUE,J15^2,0))+(IF($K$16=TRUE,J16^2,0))+(IF($K$17=TRUE,J17^2,0))+(IF($K$18=TRUE,J18^2,0))+(IF($K$19=TRUE,J19^2,0))+(IF($K$20=TRUE,J20^2,0))+(IF($K$21=TRUE,J21^2,0)))/\n(IF($K$7=TRUE,1,0)+IF($K$8=TRUE,1,0)+IF($K$9=TRUE,1,0)+IF($K$10=TRUE,1,0)+IF($K$11=TRUE,1,0)+IF($K$12=TRUE,1,0)+IF($K$13=TRUE,1,0)+IF($K$14=TRUE,1,0)+IF($K$15=TRUE,1,0)+IF($K$16=TRUE,1,0)+IF($K$17=TRUE,1,0)+IF($K$18=TRUE,1,0)+IF($K$19=TRUE,1,0)+IF($K$20=TRUE,1,0)+IF($K$21=TRUE,1,0)))","v":2.5942073276466422E-2}]
[null,null,null,1]
[null,null,"UNITLESS GRID TO GROUND MULTIPLIER",{"$f":"IF(REPORT!C13=\"n/a\",\"0.00000000\",REPORT!C13)","v":0},null,null,null,{"$f":"IF(H23<=0.029,\"PASS\",\"FAIL\")","v":"PASS"},{"$f":"IF(I23<=0.029,\"PASS\",\"FAIL\")","v":"PASS"},{"$f":"IF(J23<=0.039,\"PASS\",\"FAIL\")","v":"PASS"}]
[]
["AVERAGED GPS-DERIVED POSITION",null,null,null,null,null,null,null,"Notes:"]
[null,"MONUMENT COORDINATES",null,"NORTHING","EASTING","ORTHO HEIGHT"]
[null,"US Survey Feet (GRID)",null,{"$f":"$E$22","v":358469.58669404878},{"$f":"$F$22","v":2286654.964520657},{"$f":"$G$22","v":965.78517904549244}]
[]
["LEVELED ELEVATION"]
["US SURVEY FEET",null,"N/A","(Type the leveled elevation or N/A if no leveled elevation is available)"]
["MONUMENT HELD",null,null,"(Type the monument name from which leveling originated)"]
["LEVELED ELEVATION - GPS DERIVED ELEVATION   = ",null,null,null,{"$f":"IF(C32=\"N/A\",\"N/A\",C32-(F29*D24))","v":"N/A"}]
[]
["FINAL MONUMENT COORDINATES"]
[null,"MONUMENT COORDINATES",null,"NORTHING","EASTING","ELEVATION","FEATURE CODE"]
[null,"US SURVEY FEET (GRID)",null,{"$f":"$E$22*$D$24","v":358469.58669404878},{"$f":"$F$22*$D$24","v":2286654.964520657},{"$f":"IF($C$32=\"N/A\",($G$22*$D$24),$C$32)","v":965.78517904549244},"AERTAR"]
[null,"US SURVEY FEET (GROUND)",null,{"$f":"$D$38*$D$25","v":0},{"$f":"$E$38*$D$25","v":0},{"$f":"IF($C$32=\"N/A\",($G$22*$D$24),$C$32)","v":965.78517904549244},{"$f":"G38","v":"AERTAR"}]
[]
["∆ North,  ∆ East, and ∆ Ht. are the difference between the average northing, easting, and height for each observation.",null,null,null,null,null,null,null,"Mask Angle:","10°"]

{"sheet":"GS27","index":33,"n_rows":41,"n_cols":11,"rows_kept":41,"cut":false,"hidden":false,"merged":[[0,0,0,10],[26,0,26,6],[27,1,27,2],[27,8,38,10],[28,1,28,2],[30,0,30,6],[35,0,35,6],[36,1,36,2],[37,1,37,2],[38,1,38,2]]}
["VRS GNSS Project Control Monument Coordinate Analysis"]
[]
["Project:",{"$f":"REPORT!B2","v":"TUS-800-22.74"},"GPS Antenna:","LEICA GS14",null,null,null,null,null,"Report Date:",{"$f":"REPORT!C49","v":"2018-12-19"}]
["PID:",{"$f":"REPORT!E2","v":100603},"VRS Network:","ODOT VRS",null,null,null,null,null,"Prepared By:",{"$f":"REPORT!C48","v":"Kolton Wilson"}]
["Point ID:","GS27","No. of Sessions:",{"$f":"COUNTIF(GPS_IMPORT!A2:A1000,$B$5)","v":12},null,null,null,null,null,"Checked By:",{"$f":"REPORT!C52","v":"Joel Swick"}]
["SESSION #","Point","Observation Date","Start Time","Northing(sft)","Easting(sft)","Height(sft)","∆ Northing(sft)","∆ Easting(sft)","∆ Height(sft)","Include in Solution?"]
[1,{"$f":"IF(ROWS(GPS_IMPORT!$1:1)<=COUNTIF(GPS_IMPORT!$A$2:$A$10000,$B$5),INDEX(GPS_IMPORT!$2:$10000,MATCH($B$5,(GPS_IMPORT!$A$2:$A$10000),0)+ROWS($1:1)-1,COLUMN()-1),0)","v":"GS27"},{"$f":"IF(ROWS(GPS_IMPORT!$1:1)<=COUNTIF(GPS_IMPORT!$A$2:$A$10000,$B$5),INDEX(GPS_IMPORT!$2:$10000,MATCH($B$5,(GPS_IMPORT!$A$2:$A$10000),0)+ROWS($1:1)-1,COLUMN()-1),0)","v":"12.18.2018"},{"$f":"IF(ROWS(GPS_IMPORT!$1:1)<=COUNTIF(GPS_IMPORT!$A$2:$A$10000,$B$5),INDEX(GPS_IMPORT!$2:$10000,MATCH($B$5,(GPS_IMPORT!$A$2:$A$10000),0)+ROWS($1:1)-1,COLUMN()-1),0)","v":"13:31:55.040"},{"$f":"IF(ROWS(GPS_IMPORT!$1:1)<=COUNTIF(GPS_IMPORT!$A$2:$A$10000,$B$5),INDEX(GPS_IMPORT!$2:$10000,MATCH($B$5,(GPS_IMPORT!$A$2:$A$10000),0)+ROWS($1:1)-1,COLUMN()-1),0)","v":359527.63121402002},{"$f":"IF(ROWS(GPS_IMPORT!$1:1)<=COUNTIF(GPS_IMPORT!$A$2:$A$10000,$B$5),INDEX(GPS_IMPORT!$2:$10000,MATCH($B$5,(GPS_IMPORT!$A$2:$A$10000),0)+ROWS($1:1)-1,COLUMN()-1),0)","v":2287576.3802417},{"$f":"IF(ROWS(GPS_IMPORT!$1:1)<=COUNTIF(GPS_IMPORT!$A$2:$A$10000,$B$5),INDEX(GPS_IMPORT!$2:$10000,MATCH($B$5,(GPS_IMPORT!$A$2:$A$10000),0)+ROWS($1:1)-1,COLUMN()-1),0)","v":980.86384496606001},{"$f":"IF(E7>0,E$22-E7,0)","v":-1.8071616708766669E-2},-2.0599295850843191E-2,-2.2995027976548954E-3,true]
[2,{"$f":"IF(ROWS(GPS_IMPORT!$1:2)<=COUNTIF(GPS_IMPORT!$A$2:$A$10000,$B$5),INDEX(GPS_IMPORT!$2:$10000,MATCH($B$5,(GPS_IMPORT!$A$2:$A$10000),0)+ROWS($1:2)-1,COLUMN()-1),0)","v":"GS27"},{"$f":"IF(ROWS(GPS_IMPORT!$1:2)<=COUNTIF(GPS_IMPORT!$A$2:$A$10000,$B$5),INDEX(GPS_IMPORT!$2:$10000,MATCH($B$5,(GPS_IMPORT!$A$2:$A$10000),0)+ROWS($1:2)-1,COLUMN()-1),0)","v":"12.18.2018"},{"$f":"IF(ROWS(GPS_IMPORT!$1:2)<=COUNTIF(GPS_IMPORT!$A$2:$A$10000,$B$5),INDEX(GPS_IMPORT!$2:$10000,MATCH($B$5,(GPS_IMPORT!$A$2:$A$10000),0)+ROWS($1:2)-1,COLUMN()-1),0)","v":"13:32:06.090"},{"$f":"IF(ROWS(GPS_IMPORT!$1:2)<=COUNTIF(GPS_IMPORT!$A$2:$A$10000,$B$5),INDEX(GPS_IMPORT!$2:$10000,MATCH($B$5,(GPS_IMPORT!$A$2:$A$10000),0)+ROWS($1:2)-1,COLUMN()-1),0)","v":359527.62745128601},{"$f":"IF(ROWS(GPS_IMPORT!$1:2)<=COUNTIF(GPS_IMPORT!$A$2:$A$10000,$B$5),INDEX(GPS_IMPORT!$2:$10000,MATCH($B$5,(GPS_IMPORT!$A$2:$A$10000),0)+ROWS($1:2)-1,COLUMN()-1),0)","v":2287576.37717913},{"$f":"IF(ROWS(GPS_IMPORT!$1:2)<=COUNTIF(GPS_IMPORT!$A$2:$A$10000,$B$5),INDEX(GPS_IMPORT!$2:$10000,MATCH($B$5,(GPS_IMPORT!$A$2:$A$10000),0)+ROWS($1:2)-1,COLUMN()-1),0)","v":980.85728611549996},-1.4308882702607661E-2,-1.7536725848913193E-2,4.2593477623995568E-3,true]
[3,{"$f":"IF(ROWS(GPS_IMPORT!$1:3)<=COUNTIF(GPS_IMPORT!$A$2:$A$10000,$B$5),INDEX(GPS_IMPORT!$2:$10000,MATCH($B$5,(GPS_IMPORT!$A$2:$A$10000),0)+ROWS($1:3)-1,COLUMN()-1),0)","v":"GS27"},{"$f":"IF(ROWS(GPS_IMPORT!$1:3)<=COUNTIF(GPS_IMPORT!$A$2:$A$10000,$B$5),INDEX(GPS_IMPORT!$2:$10000,MATCH($B$5,(GPS_IMPORT!$A$2:$A$10000),0)+ROWS($1:3)-1,COLUMN()-1),0)","v":"12.18.2018"},{"$f":"IF(ROWS(GPS_IMPORT!$1:3)<=COUNTIF(GPS_IMPORT!$A$2:$A$10000,$B$5),INDEX(GPS_IMPORT!$2:$10000,MATCH($B$5,(GPS_IMPORT!$A$2:$A$10000),0)+ROWS($1:3)-1,COLUMN()-1),0)","v":"13:32:18.190"},{"$f":"IF(ROWS(GPS_IMPORT!$1:3)<=COUNTIF(GPS_IMPORT!$A$2:$A$10000,$B$5),INDEX(GPS_IMPORT!$2:$10000,MATCH($B$5,(GPS_IMPORT!$A$2:$A$10000),0)+ROWS($1:3)-1,COLUMN()-1),0)","v":359527.624818902},{"$f":"IF(ROWS(GPS_IMPORT!$1:3)<=COUNTIF(GPS_IMPORT!$A$2:$A$10000,$B$5),INDEX(GPS_IMPORT!$2:$10000,MATCH($B$5,(GPS_IMPORT!$A$2:$A$10000),0)+ROWS($1:3)-1,COLUMN()-1),0)","v":2287576.3730698801},{"$f":"IF(ROWS(GPS_IMPORT!$1:3)<=COUNTIF(GPS_IMPORT!$A$2:$A$10000,$B$5),INDEX(GPS_IMPORT!$2:$10000,MATCH($B$5,(GPS_IMPORT!$A$2:$A$10000),0)+ROWS($1:3)-1,COLUMN()-1),0)","v":980.83402100300998},-1.167649868875742E-2,-1.3427475932985544E-2,2.7524460252379868E-2,true]
[4,{"$f":"IF(ROWS(GPS_IMPORT!$1:4)<=COUNTIF(GPS_IMPORT!$A$2:$A$10000,$B$5),INDEX(GPS_IMPORT!$2:$10000,MATCH($B$5,(GPS_IMPORT!$A$2:$A$10000),0)+ROWS($1:4)-1,COLUMN()-1),0)","v":"GS27"},{"$f":"IF(ROWS(GPS_IMPORT!$1:4)<=COUNTIF(GPS_IMPORT!$A$2:$A$10000,$B$5),INDEX(GPS_IMPORT!$2:$10000,MATCH($B$5,(GPS_IMPORT!$A$2:$A$10000),0)+ROWS($1:4)-1,COLUMN()-1),0)","v":"12.18.2018"},{"$f":"IF(ROWS(GPS_IMPORT!$1:4)<=COUNTIF(GPS_IMPORT!$A$2:$A$10000,$B$5),INDEX(GPS_IMPORT!$2:$10000,MATCH($B$5,(GPS_IMPORT!$A$2:$A$10000),0)+ROWS($1:4)-1,COLUMN()-1),0)","v":"13:32:30.120"},{"$f":"IF(ROWS(GPS_IMPORT!$1:4)<=COUNTIF(GPS_IMPORT!$A$2:$A$10000,$B$5),INDEX(GPS_IMPORT!$2:$10000,MATCH($B$5,(GPS_IMPORT!$A$2:$A$10000),0)+ROWS($1:4)-1,COLUMN()-1),0)","v":359527.61892810703},{"$f":"IF(ROWS(GPS_IMPORT!$1:4)<=COUNTIF(GPS_IMPORT!$A$2:$A$10000,$B$5),INDEX(GPS_IMPORT!$2:$10000,MATCH($B$5,(GPS_IMPORT!$A$2:$A$10000),0)+ROWS($1:4)-1,COLUMN()-1),0)","v":2287576.3738893801},{"$f":"IF(ROWS(GPS_IMPORT!$1:4)<=COUNTIF(GPS_IMPORT!$A$2:$A$10000,$B$5),INDEX(GPS_IMPORT!$2:$10000,MATCH($B$5,(GPS_IMPORT!$A$2:$A$10000),0)+ROWS($1:4)-1,COLUMN()-1),0)","v":980.84588289393002},-5.7857037172652781E-3,-1.4246976003050804E-2,1.5662569332334897E-2,true]
[5,{"$f":"IF(ROWS(GPS_IMPORT!$1:5)<=COUNTIF(GPS_IMPORT!$A$2:$A$10000,$B$5),INDEX(GPS_IMPORT!$2:$10000,MATCH($B$5,(GPS_IMPORT!$A$2:$A$10000),0)+ROWS($1:5)-1,COLUMN()-1),0)","v":"GS27"},{"$f":"IF(ROWS(GPS_IMPORT!$1:5)<=COUNTIF(GPS_IMPORT!$A$2:$A$10000,$B$5),INDEX(GPS_IMPORT!$2:$10000,MATCH($B$5,(GPS_IMPORT!$A$2:$A$10000),0)+ROWS($1:5)-1,COLUMN()-1),0)","v":"12.18.2018"},{"$f":"IF(ROWS(GPS_IMPORT!$1:5)<=COUNTIF(GPS_IMPORT!$A$2:$A$10000,$B$5),INDEX(GPS_IMPORT!$2:$10000,MATCH($B$5,(GPS_IMPORT!$A$2:$A$10000),0)+ROWS($1:5)-1,COLUMN()-1),0)","v":"13:32:42.250"},{"$f":"IF(ROWS(GPS_IMPORT!$1:5)<=COUNTIF(GPS_IMPORT!$A$2:$A$10000,$B$5),INDEX(GPS_IMPORT!$2:$10000,MATCH($B$5,(GPS_IMPORT!$A$2:$A$10000),0)+ROWS($1:5)-1,COLUMN()-1),0)","v":359527.619762571},{"$f":"IF(ROWS(GPS_IMPORT!$1:5)<=COUNTIF(GPS_IMPORT!$A$2:$A$10000,$B$5),INDEX(GPS_IMPORT!$2:$10000,MATCH($B$5,(GPS_IMPORT!$A$2:$A$10000),0)+ROWS($1:5)-1,COLUMN()-1),0)","v":2287576.3535513398},{"$f":"IF(ROWS(GPS_IMPORT!$1:5)<=COUNTIF(GPS_IMPORT!$A$2:$A$10000,$B$5),INDEX(GPS_IMPORT!$2:$10000,MATCH($B$5,(GPS_IMPORT!$A$2:$A$10000),0)+ROWS($1:5)-1,COLUMN()-1),0)","v":980.86859278587997},-6.6201676963828504E-3,6.0910643078386784E-3,-7.0473226176090975E-3,true]
[6,{"$f":"IF(ROWS(GPS_IMPORT!$1:6)<=COUNTIF(GPS_IMPORT!$A$2:$A$10000,$B$5),INDEX(GPS_IMPORT!$2:$10000,MATCH($B$5,(GPS_IMPORT!$A$2:$A$10000),0)+ROWS($1:6)-1,COLUMN()-1),0)","v":"GS27"},{"$f":"IF(ROWS(GPS_IMPORT!$1:6)<=COUNTIF(GPS_IMPORT!$A$2:$A$10000,$B$5),INDEX(GPS_IMPORT!$2:$10000,MATCH($B$5,(GPS_IMPORT!$A$2:$A$10000),0)+ROWS($1:6)-1,COLUMN()-1),0)","v":"12.18.2018"},{"$f":"IF(ROWS(GPS_IMPORT!$1:6)<=COUNTIF(GPS_IMPORT!$A$2:$A$10000,$B$5),INDEX(GPS_IMPORT!$2:$10000,MATCH($B$5,(GPS_IMPORT!$A$2:$A$10000),0)+ROWS($1:6)-1,COLUMN()-1),0)","v":"13:33:04.030"},{"$f":"IF(ROWS(GPS_IMPORT!$1:6)<=COUNTIF(GPS_IMPORT!$A$2:$A$10000,$B$5),INDEX(GPS_IMPORT!$2:$10000,MATCH($B$5,(GPS_IMPORT!$A$2:$A$10000),0)+ROWS($1:6)-1,COLUMN()-1),0)","v":359527.61529716902},{"$f":"IF(ROWS(GPS_IMPORT!$1:6)<=COUNTIF(GPS_IMPORT!$A$2:$A$10000,$B$5),INDEX(GPS_IMPORT!$2:$10000,MATCH($B$5,(GPS_IMPORT!$A$2:$A$10000),0)+ROWS($1:6)-1,COLUMN()-1),0)","v":2287576.3455471601},{"$f":"IF(ROWS(GPS_IMPORT!$1:6)<=COUNTIF(GPS_IMPORT!$A$2:$A$10000,$B$5),INDEX(GPS_IMPORT!$2:$10000,MATCH($B$5,(GPS_IMPORT!$A$2:$A$10000),0)+ROWS($1:6)-1,COLUMN()-1),0)","v":980.87950443633997},-2.1547657088376582E-3,1.4095243997871876E-2,-1.7958973077611518E-2,true]
[7,{"$f":"IF(ROWS(GPS_IMPORT!$1:7)<=COUNTIF(GPS_IMPORT!$A$2:$A$10000,$B$5),INDEX(GPS_IMPORT!$2:$10000,MATCH($B$5,(GPS_IMPORT!$A$2:$A$10000),0)+ROWS($1:7)-1,COLUMN()-1),0)","v":"GS27"},{"$f":"IF(ROWS(GPS_IMPORT!$1:7)<=COUNTIF(GPS_IMPORT!$A$2:$A$10000,$B$5),INDEX(GPS_IMPORT!$2:$10000,MATCH($B$5,(GPS_IMPORT!$A$2:$A$10000),0)+ROWS($1:7)-1,COLUMN()-1),0)","v":"12.18.2018"},{"$f":"IF(ROWS(GPS_IMPORT!$1:7)<=COUNTIF(GPS_IMPORT!$A$2:$A$10000,$B$5),INDEX(GPS_IMPORT!$2:$10000,MATCH($B$5,(GPS_IMPORT!$A$2:$A$10000),0)+ROWS($1:7)-1,COLUMN()-1),0)","v":"13:33:16.790"},{"$f":"IF(ROWS(GPS_IMPORT!$1:7)<=COUNTIF(GPS_IMPORT!$A$2:$A$10000,$B$5),INDEX(GPS_IMPORT!$2:$10000,MATCH($B$5,(GPS_IMPORT!$A$2:$A$10000),0)+ROWS($1:7)-1,COLUMN()-1),0)","v":359527.60678873298},{"$f":"IF(ROWS(GPS_IMPORT!$1:7)<=COUNTIF(GPS_IMPORT!$A$2:$A$10000,$B$5),INDEX(GPS_IMPORT!$2:$10000,MATCH($B$5,(GPS_IMPORT!$A$2:$A$10000),0)+ROWS($1:7)-1,COLUMN()-1),0)","v":2287576.3510237699},{"$f":"IF(ROWS(GPS_IMPORT!$1:7)<=COUNTIF(GPS_IMPORT!$A$2:$A$10000,$B$5),INDEX(GPS_IMPORT!$2:$10000,MATCH($B$5,(GPS_IMPORT!$A$2:$A$10000),0)+ROWS($1:7)-1,COLUMN()-1),0)","v":980.87556533167003},6.3536703237332404E-3,8.6186341941356659E-3,-1.401986840767222E-2,true]
[8,{"$f":"IF(ROWS(GPS_IMPORT!$1:8)<=COUNTIF(GPS_IMPORT!$A$2:$A$10000,$B$5),INDEX(GPS_IMPORT!$2:$10000,MATCH($B$5,(GPS_IMPORT!$A$2:$A$10000),0)+ROWS($1:8)-1,COLUMN()-1),0)","v":"GS27"},{"$f":"IF(ROWS(GPS_IMPORT!$1:8)<=COUNTIF(GPS_IMPORT!$A$2:$A$10000,$B$5),INDEX(GPS_IMPORT!$2:$10000,MATCH($B$5,(GPS_IMPORT!$A$2:$A$10000),0)+ROWS($1:8)-1,COLUMN()-1),0)","v":"12.18.2018"},{"$f":"IF(ROWS(GPS_IMPORT!$1:8)<=COUNTIF(GPS_IMPORT!$A$2:$A$10000,$B$5),INDEX(GPS_IMPORT!$2:$10000,MATCH($B$5,(GPS_IMPORT!$A$2:$A$10000),0)+ROWS($1:8)-1,COLUMN()-1),0)","v":"13:33:29.170"},{"$f":"IF(ROWS(GPS_IMPORT!$1:8)<=COUNTIF(GPS_IMPORT!$A$2:$A$10000,$B$5),INDEX(GPS_IMPORT!$2:$10000,MATCH($B$5,(GPS_IMPORT!$A$2:$A$10000),0)+ROWS($1:8)-1,COLUMN()-1),0)","v":359527.607720898},{"$f":"IF(ROWS(GPS_IMPORT!$1:8)<=COUNTIF(GPS_IMPORT!$A$2:$A$10000,$B$5),INDEX(GPS_IMPORT!$2:$10000,MATCH($B$5,(GPS_IMPORT!$A$2:$A$10000),0)+ROWS($1:8)-1,COLUMN()-1),0)","v":2287576.3485764498},{"$f":"IF(ROWS(GPS_IMPORT!$1:8)<=COUNTIF(GPS_IMPORT!$A$2:$A$10000,$B$5),INDEX(GPS_IMPORT!$2:$10000,MATCH($B$5,(GPS_IMPORT!$A$2:$A$10000),0)+ROWS($1:8)-1,COLUMN()-1),0)","v":980.87766619318995},5.4215053096413612E-3,1.1065954342484474E-2,-1.6120729927592947E-2,true]
[9,{"$f":"IF(ROWS(GPS_IMPORT!$1:9)<=COUNTIF(GPS_IMPORT!$A$2:$A$10000,$B$5),INDEX(GPS_IMPORT!$2:$10000,MATCH($B$5,(GPS_IMPORT!$A$2:$A$10000),0)+ROWS($1:9)-1,COLUMN()-1),0)","v":"GS27"},{"$f":"IF(ROWS(GPS_IMPORT!$1:9)<=COUNTIF(GPS_IMPORT!$A$2:$A$10000,$B$5),INDEX(GPS_IMPORT!$2:$10000,MATCH($B$5,(GPS_IMPORT!$A$2:$A$10000),0)+ROWS($1:9)-1,COLUMN()-1),0)","v":"12.18.2018"},{"$f":"IF(ROWS(GPS_IMPORT!$1:9)<=COUNTIF(GPS_IMPORT!$A$2:$A$10000,$B$5),INDEX(GPS_IMPORT!$2:$10000,MATCH($B$5,(GPS_IMPORT!$A$2:$A$10000),0)+ROWS($1:9)-1,COLUMN()-1),0)","v":"13:33:51.200"},{"$f":"IF(ROWS(GPS_IMPORT!$1:9)<=COUNTIF(GPS_IMPORT!$A$2:$A$10000,$B$5),INDEX(GPS_IMPORT!$2:$10000,MATCH($B$5,(GPS_IMPORT!$A$2:$A$10000),0)+ROWS($1:9)-1,COLUMN()-1),0)","v":359527.59994502802},{"$f":"IF(ROWS(GPS_IMPORT!$1:9)<=COUNTIF(GPS_IMPORT!$A$2:$A$10000,$B$5),INDEX(GPS_IMPORT!$2:$10000,MATCH($B$5,(GPS_IMPORT!$A$2:$A$10000),0)+ROWS($1:9)-1,COLUMN()-1),0)","v":2287576.3501967201},{"$f":"IF(ROWS(GPS_IMPORT!$1:9)<=COUNTIF(GPS_IMPORT!$A$2:$A$10000,$B$5),INDEX(GPS_IMPORT!$2:$10000,MATCH($B$5,(GPS_IMPORT!$A$2:$A$10000),0)+ROWS($1:9)-1,COLUMN()-1),0)","v":980.85516902307995},1.3197375286836177E-2,9.4456840306520462E-3,6.3764401824073502E-3,true]
[10,{"$f":"IF(ROWS(GPS_IMPORT!$1:10)<=COUNTIF(GPS_IMPORT!$A$2:$A$10000,$B$5),INDEX(GPS_IMPORT!$2:$10000,MATCH($B$5,(GPS_IMPORT!$A$2:$A$10000),0)+ROWS($1:10)-1,COLUMN()-1),0)","v":"GS27"},{"$f":"IF(ROWS(GPS_IMPORT!$1:10)<=COUNTIF(GPS_IMPORT!$A$2:$A$10000,$B$5),INDEX(GPS_IMPORT!$2:$10000,MATCH($B$5,(GPS_IMPORT!$A$2:$A$10000),0)+ROWS($1:10)-1,COLUMN()-1),0)","v":"12.18.2018"},{"$f":"IF(ROWS(GPS_IMPORT!$1:10)<=COUNTIF(GPS_IMPORT!$A$2:$A$10000,$B$5),INDEX(GPS_IMPORT!$2:$10000,MATCH($B$5,(GPS_IMPORT!$A$2:$A$10000),0)+ROWS($1:10)-1,COLUMN()-1),0)","v":"13:34:03.110"},{"$f":"IF(ROWS(GPS_IMPORT!$1:10)<=COUNTIF(GPS_IMPORT!$A$2:$A$10000,$B$5),INDEX(GPS_IMPORT!$2:$10000,MATCH($B$5,(GPS_IMPORT!$A$2:$A$10000),0)+ROWS($1:10)-1,COLUMN()-1),0)","v":359527.603814626},{"$f":"IF(ROWS(GPS_IMPORT!$1:10)<=COUNTIF(GPS_IMPORT!$A$2:$A$10000,$B$5),INDEX(GPS_IMPORT!$2:$10000,MATCH($B$5,(GPS_IMPORT!$A$2:$A$10000),0)+ROWS($1:10)-1,COLUMN()-1),0)","v":2287576.3628777401},{"$f":"IF(ROWS(GPS_IMPORT!$1:10)<=COUNTIF(GPS_IMPORT!$A$2:$A$10000,$B$5),INDEX(GPS_IMPORT!$2:$10000,MATCH($B$5,(GPS_IMPORT!$A$2:$A$10000),0)+ROWS($1:10)-1,COLUMN()-1),0)","v":980.86307968504002},9.3277773121371865E-3,-3.2353359274566174E-3,-1.5342217776606049E-3,true]
[11,{"$f":"IF(ROWS(GPS_IMPORT!$1:11)<=COUNTIF(GPS_IMPORT!$A$2:$A$10000,$B$5),INDEX(GPS_IMPORT!$2:$10000,MATCH($B$5,(GPS_IMPORT!$A$2:$A$10000),0)+ROWS($1:11)-1,COLUMN()-1),0)","v":"GS27"},{"$f":"IF(ROWS(GPS_IMPORT!$1:11)<=COUNTIF(GPS_IMPORT!$A$2:$A$10000,$B$5),INDEX(GPS_IMPORT!$2:$10000,MATCH($B$5,(GPS_IMPORT!$A$2:$A$10000),0)+ROWS($1:11)-1,COLUMN()-1),0)","v":"12.18.2018"},{"$f":"IF(ROWS(GPS_IMPORT!$1:11)<=COUNTIF(GPS_IMPORT!$A$2:$A$10000,$B$5),INDEX(GPS_IMPORT!$2:$10000,MATCH($B$5,(GPS_IMPORT!$A$2:$A$10000),0)+ROWS($1:11)-1,COLUMN()-1),0)","v":"13:34:15.360"},{"$f":"IF(ROWS(GPS_IMPORT!$1:11)<=COUNTIF(GPS_IMPORT!$A$2:$A$10000,$B$5),INDEX(GPS_IMPORT!$2:$10000,MATCH($B$5,(GPS_IMPORT!$A$2:$A$10000),0)+ROWS($1:11)-1,COLUMN()-1),0)","v":359527.60095138301},{"$f":"IF(ROWS(GPS_IMPORT!$1:11)<=COUNTIF(GPS_IMPORT!$A$2:$A$10000,$B$5),INDEX(GPS_IMPORT!$2:$10000,MATCH($B$5,(GPS_IMPORT!$A$2:$A$10000),0)+ROWS($1:11)-1,COLUMN()-1),0)","v":2287576.3499244},{"$f":"IF(ROWS(GPS_IMPORT!$1:11)<=COUNTIF(GPS_IMPORT!$A$2:$A$10000,$B$5),INDEX(GPS_IMPORT!$2:$10000,MATCH($B$5,(GPS_IMPORT!$A$2:$A$10000),0)+ROWS($1:11)-1,COLUMN()-1),0)","v":980.85502166174001},1.2191020301543176E-2,9.718004148453474E-3,6.523801522348549E-3,true]
[12,{"$f":"IF(ROWS(GPS_IMPORT!$1:12)<=COUNTIF(GPS_IMPORT!$A$2:$A$10000,$B$5),INDEX(GPS_IMPORT!$2:$10000,MATCH($B$5,(GPS_IMPORT!$A$2:$A$10000),0)+ROWS($1:12)-1,COLUMN()-1),0)","v":"GS27"},{"$f":"IF(ROWS(GPS_IMPORT!$1:12)<=COUNTIF(GPS_IMPORT!$A$2:$A$10000,$B$5),INDEX(GPS_IMPORT!$2:$10000,MATCH($B$5,(GPS_IMPORT!$A$2:$A$10000),0)+ROWS($1:12)-1,COLUMN()-1),0)","v":"12.18.2018"},{"$f":"IF(ROWS(GPS_IMPORT!$1:12)<=COUNTIF(GPS_IMPORT!$A$2:$A$10000,$B$5),INDEX(GPS_IMPORT!$2:$10000,MATCH($B$5,(GPS_IMPORT!$A$2:$A$10000),0)+ROWS($1:12)-1,COLUMN()-1),0)","v":"13:34:28.990"},{"$f":"IF(ROWS(GPS_IMPORT!$1:12)<=COUNTIF(GPS_IMPORT!$A$2:$A$10000,$B$5),INDEX(GPS_IMPORT!$2:$10000,MATCH($B$5,(GPS_IMPORT!$A$2:$A$10000),0)+ROWS($1:12)-1,COLUMN()-1),0)","v":359527.60101611703},{"$f":"IF(ROWS(GPS_IMPORT!$1:12)<=COUNTIF(GPS_IMPORT!$A$2:$A$10000,$B$5),INDEX(GPS_IMPORT!$2:$10000,MATCH($B$5,(GPS_IMPORT!$A$2:$A$10000),0)+ROWS($1:12)-1,COLUMN()-1),0)","v":2287576.3496311801},{"$f":"IF(ROWS(GPS_IMPORT!$1:12)<=COUNTIF(GPS_IMPORT!$A$2:$A$10000,$B$5),INDEX(GPS_IMPORT!$2:$10000,MATCH($B$5,(GPS_IMPORT!$A$2:$A$10000),0)+ROWS($1:12)-1,COLUMN()-1),0)","v":980.86291146371002},1.2126286281272769E-2,1.0011224076151848E-2,-1.3660004476605536E-3,true]
[13,{"$f":"IF(ROWS(GPS_IMPORT!$1:13)<=COUNTIF(GPS_IMPORT!$A$2:$A$10000,$B$5),INDEX(GPS_IMPORT!$2:$10000,MATCH($B$5,(GPS_IMPORT!$A$2:$A$10000),0)+ROWS($1:13)-1,COLUMN()-1),0)","v":0},{"$f":"IF(ROWS(GPS_IMPORT!$1:13)<=COUNTIF(GPS_IMPORT!$A$2:$A$10000,$B$5),INDEX(GPS_IMPORT!$2:$10000,MATCH($B$5,(GPS_IMPORT!$A$2:$A$10000),0)+ROWS($1:13)-1,COLUMN()-1),0)","v":"00:00:00"},{"$f":"IF(ROWS(GPS_IMPORT!$1:13)<=COUNTIF(GPS_IMPORT!$A$2:$A$10000,$B$5),INDEX(GPS_IMPORT!$2:$10000,MATCH($B$5,(GPS_IMPORT!$A$2:$A$10000),0)+ROWS($1:13)-1,COLUMN()-1),0)","v":"00:00:00"},{"$f":"IF(ROWS(GPS_IMPORT!$1:13)<=COUNTIF(GPS_IMPORT!$A$2:$A$10000,$B$5),INDEX(GPS_IMPORT!$2:$10000,MATCH($B$5,(GPS_IMPORT!$A$2:$A$10000),0)+ROWS($1:13)-1,COLUMN()-1),0)","v":0},{"$f":"IF(ROWS(GPS_IMPORT!$1:13)<=COUNTIF(GPS_IMPORT!$A$2:$A$10000,$B$5),INDEX(GPS_IMPORT!$2:$10000,MATCH($B$5,(GPS_IMPORT!$A$2:$A$10000),0)+ROWS($1:13)-1,COLUMN()-1),0)","v":0},{"$f":"IF(ROWS(GPS_IMPORT!$1:13)<=COUNTIF(GPS_IMPORT!$A$2:$A$10000,$B$5),INDEX(GPS_IMPORT!$2:$10000,MATCH($B$5,(GPS_IMPORT!$A$2:$A$10000),0)+ROWS($1:13)-1,COLUMN()-1),0)","v":0},{"$f":"IF(E19>0,E$22-E19,0)","v":0},0,0,false]
[14,{"$f":"IF(ROWS(GPS_IMPORT!$1:14)<=COUNTIF(GPS_IMPORT!$A$2:$A$10000,$B$5),INDEX(GPS_IMPORT!$2:$10000,MATCH($B$5,(GPS_IMPORT!$A$2:$A$10000),0)+ROWS($1:14)-1,COLUMN()-1),0)","v":0},{"$f":"IF(ROWS(GPS_IMPORT!$1:14)<=COUNTIF(GPS_IMPORT!$A$2:$A$10000,$B$5),INDEX(GPS_IMPORT!$2:$10000,MATCH($B$5,(GPS_IMPORT!$A$2:$A$10000),0)+ROWS($1:14)-1,COLUMN()-1),0)","v":"00:00:00"},{"$f":"IF(ROWS(GPS_IMPORT!$1:14)<=COUNTIF(GPS_IMPORT!$A$2:$A$10000,$B$5),INDEX(GPS_IMPORT!$2:$10000,MATCH($B$5,(GPS_IMPORT!$A$2:$A$10000),0)+ROWS($1:14)-1,COLUMN()-1),0)","v":"00:00:00"},{"$f":"IF(ROWS(GPS_IMPORT!$1:14)<=COUNTIF(GPS_IMPORT!$A$2:$A$10000,$B$5),INDEX(GPS_IMPORT!$2:$10000,MATCH($B$5,(GPS_IMPORT!$A$2:$A$10000),0)+ROWS($1:14)-1,COLUMN()-1),0)","v":0},{"$f":"IF(ROWS(GPS_IMPORT!$1:14)<=COUNTIF(GPS_IMPORT!$A$2:$A$10000,$B$5),INDEX(GPS_IMPORT!$2:$10000,MATCH($B$5,(GPS_IMPORT!$A$2:$A$10000),0)+ROWS($1:14)-1,COLUMN()-1),0)","v":0},{"$f":"IF(ROWS(GPS_IMPORT!$1:14)<=COUNTIF(GPS_IMPORT!$A$2:$A$10000,$B$5),INDEX(GPS_IMPORT!$2:$10000,MATCH($B$5,(GPS_IMPORT!$A$2:$A$10000),0)+ROWS($1:14)-1,COLUMN()-1),0)","v":0},0,0,0,false]
[15,{"$f":"IF(ROWS(GPS_IMPORT!$1:15)<=COUNTIF(GPS_IMPORT!$A$2:$A$10000,$B$5),INDEX(GPS_IMPORT!$2:$10000,MATCH($B$5,(GPS_IMPORT!$A$2:$A$10000),0)+ROWS($1:15)-1,COLUMN()-1),0)","v":0},{"$f":"IF(ROWS(GPS_IMPORT!$1:15)<=COUNTIF(GPS_IMPORT!$A$2:$A$10000,$B$5),INDEX(GPS_IMPORT!$2:$10000,MATCH($B$5,(GPS_IMPORT!$A$2:$A$10000),0)+ROWS($1:15)-1,COLUMN()-1),0)","v":"00:00:00"},{"$f":"IF(ROWS(GPS_IMPORT!$1:15)<=COUNTIF(GPS_IMPORT!$A$2:$A$10000,$B$5),INDEX(GPS_IMPORT!$2:$10000,MATCH($B$5,(GPS_IMPORT!$A$2:$A$10000),0)+ROWS($1:15)-1,COLUMN()-1),0)","v":"00:00:00"},{"$f":"IF(ROWS(GPS_IMPORT!$1:15)<=COUNTIF(GPS_IMPORT!$A$2:$A$10000,$B$5),INDEX(GPS_IMPORT!$2:$10000,MATCH($B$5,(GPS_IMPORT!$A$2:$A$10000),0)+ROWS($1:15)-1,COLUMN()-1),0)","v":0},{"$f":"IF(ROWS(GPS_IMPORT!$1:15)<=COUNTIF(GPS_IMPORT!$A$2:$A$10000,$B$5),INDEX(GPS_IMPORT!$2:$10000,MATCH($B$5,(GPS_IMPORT!$A$2:$A$10000),0)+ROWS($1:15)-1,COLUMN()-1),0)","v":0},{"$f":"IF(ROWS(GPS_IMPORT!$1:15)<=COUNTIF(GPS_IMPORT!$A$2:$A$10000,$B$5),INDEX(GPS_IMPORT!$2:$10000,MATCH($B$5,(GPS_IMPORT!$A$2:$A$10000),0)+ROWS($1:15)-1,COLUMN()-1),0)","v":0},0,0,0,false]
[null,null,null,"AVERAGE",{"$f":"(IF($K$7=TRUE,E7,0)+IF($K$8=TRUE,E8,0)+IF($K$9=TRUE,E9,0)+IF($K$10=TRUE,E10,0)+IF($K$11=TRUE,E11,0)+IF($K$12=TRUE,E12,0)+IF($K$13=TRUE,E13,0)+IF($K$14=TRUE,E14,0)+IF($K$15=TRUE,E15,0)+IF($K$16=TRUE,E16,0)+IF($K$17=TRUE,E17,0)+IF($K$18=TRUE,E18,0)+IF($K$19=TRUE,E19,0)+IF($K$20=TRUE,E20,0)+IF($K$21=TRUE,E21,0))/(IF($K$7=TRUE,1,0)+IF($K$8=TRUE,1,0)+IF($K$9=TRUE,1,0)+IF($K$10=TRUE,1,0)+IF($K$11=TRUE,1,0)+IF($K$12=TRUE,1,0)+IF($K$13=TRUE,1,0)+IF($K$14=TRUE,1,0)+IF($K$15=TRUE,1,0)+IF($K$16=TRUE,1,0)+IF($K$17=TRUE,1,0)+IF($K$18=TRUE,1,0)+IF($K$19=TRUE,1,0)+IF($K$20=TRUE,1,0)+IF($K$21=TRUE,1,0))","v":359527.61314240331},{"$f":"(IF($K$7=TRUE,F7,0)+IF($K$8=TRUE,F8,0)+IF($K$9=TRUE,F9,0)+IF($K$10=TRUE,F10,0)+IF($K$11=TRUE,F11,0)+IF($K$12=TRUE,F12,0)+IF($K$13=TRUE,F13,0)+IF($K$14=TRUE,F14,0)+IF($K$15=TRUE,F15,0)+IF($K$16=TRUE,F16,0)+IF($K$17=TRUE,F17,0)+IF($K$18=TRUE,F18,0)+IF($K$19=TRUE,F19,0)+IF($K$20=TRUE,F20,0)+IF($K$21=TRUE,F21,0))/(IF($K$7=TRUE,1,0)+IF($K$8=TRUE,1,0)+IF($K$9=TRUE,1,0)+IF($K$10=TRUE,1,0)+IF($K$11=TRUE,1,0)+IF($K$12=TRUE,1,0)+IF($K$13=TRUE,1,0)+IF($K$14=TRUE,1,0)+IF($K$15=TRUE,1,0)+IF($K$16=TRUE,1,0)+IF($K$17=TRUE,1,0)+IF($K$18=TRUE,1,0)+IF($K$19=TRUE,1,0)+IF($K$20=TRUE,1,0)+IF($K$21=TRUE,1,0))","v":2287576.3596424041},{"$f":"(IF($K$7=TRUE,G7,0)+IF($K$8=TRUE,G8,0)+IF($K$9=TRUE,G9,0)+IF($K$10=TRUE,G10,0)+IF($K$11=TRUE,G11,0)+IF($K$12=TRUE,G12,0)+IF($K$13=TRUE,G13,0)+IF($K$14=TRUE,G14,0)+IF($K$15=TRUE,G15,0)+IF($K$16=TRUE,G16,0)+IF($K$17=TRUE,G17,0)+IF($K$18=TRUE,G18,0)+IF($K$19=TRUE,G19,0)+IF($K$20=TRUE,G20,0)+IF($K$21=TRUE,G21,0))/\n(IF($K$7=TRUE,1,0)+IF($K$8=TRUE,1,0)+IF($K$9=TRUE,1,0)+IF($K$10=TRUE,1,0)+IF($K$11=TRUE,1,0)+IF($K$12=TRUE,1,0)+IF($K$13=TRUE,1,0)+IF($K$14=TRUE,1,0)+IF($K$15=TRUE,1,0)+IF($K$16=TRUE,1,0)+IF($K$17=TRUE,1,0)+IF($K$18=TRUE,1,0)+IF($K$19=TRUE,1,0)+IF($K$20=TRUE,1,0)+IF($K$21=TRUE,1,0))","v":980.86154546326236},"RMSE:","RMSE:","RMSE:"]
[null,null,null,null,null,null,"RMSE IN US SURVEY FEET:",{"$f":"SQRT((\n(IF($K$7=TRUE,H7^2,0))+(IF($K$8=TRUE,H8^2,0))+(IF($K$9=TRUE,H9^2,0))+(IF($K$10=TRUE,H10^2,0))+(IF($K$11=TRUE,H11^2,0))+(IF($K$12=TRUE,H12^2,0))+(IF($K$13=TRUE,H13^2,0))+(IF($K$14=TRUE,H14^2,0))+(IF($K$15=TRUE,H15^2,0))+(IF($K$16=TRUE,H16^2,0))+(IF($K$17=TRUE,H17^2,0))+(IF($K$18=TRUE,H18^2,0))+(IF($K$19=TRUE,H19^2,0))+(IF($K$20=TRUE,H20^2,0))+(IF($K$21=TRUE,H21^2,0)))/\n(IF($K$7=TRUE,1,0)+IF($K$8=TRUE,1,0)+IF($K$9=TRUE,1,0)+IF($K$10=TRUE,1,0)+IF($K$11=TRUE,1,0)+IF($K$12=TRUE,1,0)+IF($K$13=TRUE,1,0)+IF($K$14=TRUE,1,0)+IF($K$15=TRUE,1,0)+IF($K$16=TRUE,1,0)+IF($K$17=TRUE,1,0)+IF($K$18=TRUE,1,0)+IF($K$19=TRUE,1,0)+IF($K$20=TRUE,1,0)+IF($K$21=TRUE,1,0)))","v":1.070910774685851E-2},{"$f":"SQRT((\n(IF($K$7=TRUE,I7^2,0))+(IF($K$8=TRUE,I8^2,0))+(IF($K$9=TRUE,I9^2,0))+(IF($K$10=TRUE,I10^2,0))+(IF($K$11=TRUE,I11^2,0))+(IF($K$12=TRUE,I12^2,0))+(IF($K$13=TRUE,I13^2,0))+(IF($K$14=TRUE,I14^2,0))+(IF($K$15=TRUE,I15^2,0))+(IF($K$16=TRUE,I16^2,0))+(IF($K$17=TRUE,I17^2,0))+(IF($K$18=TRUE,I18^2,0))+(IF($K$19=TRUE,I19^2,0))+(IF($K$20=TRUE,I20^2,0))+(IF($K$21=TRUE,I21^2,0)))/\n(IF($K$7=TRUE,1,0)+IF($K$8=TRUE,1,0)+IF($K$9=TRUE,1,0)+IF($K$10=TRUE,1,0)+IF($K$11=TRUE,1,0)+IF($K$12=TRUE,1,0)+IF($K$13=TRUE,1,0)+IF($K$14=TRUE,1,0)+IF($K$15=TRUE,1,0)+IF($K$16=TRUE,1,0)+IF($K$17=TRUE,1,0)+IF($K$18=TRUE,1,0)+IF($K$19=TRUE,1,0)+IF($K$20=TRUE,1,0)+IF($K$21=TRUE,1,0)))","v":1.238953491311535E-2},{"$f":"SQRT((\n(IF($K$7=TRUE,J7^2,0))+(IF($K$8=TRUE,J8^2,0))+(IF($K$9=TRUE,J9^2,0))+(IF($K$10=TRUE,J10^2,0))+(IF($K$11=TRUE,J11^2,0))+(IF($K$12=TRUE,J12^2,0))+(IF($K$13=TRUE,J13^2,0))+(IF($K$14=TRUE,J14^2,0))+(IF($K$15=TRUE,J15^2,0))+(IF($K$16=TRUE,J16^2,0))+(IF($K$17=TRUE,J17^2,0))+(IF($K$18=TRUE,J18^2,0))+(IF($K$19=TRUE,J19^2,0))+(IF($K$20=TRUE,J20^2,0))+(IF($K$21=TRUE,J21^2,0)))/\n(IF($K$7=TRUE,1,0)+IF($K$8=TRUE,1,0)+IF($K$9=TRUE,1,0)+IF($K$10=TRUE,1,0)+IF($K$11=TRUE,1,0)+IF($K$12=TRUE,1,0)+IF($K$13=TRUE,1,0)+IF($K$14=TRUE,1,0)+IF($K$15=TRUE,1,0)+IF($K$16=TRUE,1,0)+IF($K$17=TRUE,1,0)+IF($K$18=TRUE,1,0)+IF($K$19=TRUE,1,0)+IF($K$20=TRUE,1,0)+IF($K$21=TRUE,1,0)))","v":1.2722698317663287E-2}]
[null,null,null,1]
[null,null,"UNITLESS GRID TO GROUND MULTIPLIER",{"$f":"IF(REPORT!C13=\"n/a\",\"0.00000000\",REPORT!C13)","v":0},null,null,null,{"$f":"IF(H23<=0.029,\"PASS\",\"FAIL\")","v":"PASS"},{"$f":"IF(I23<=0.029,\"PASS\",\"FAIL\")","v":"PASS"},{"$f":"IF(J23<=0.039,\"PASS\",\"FAIL\")","v":"PASS"}]
[]
["AVERAGED GPS-DERIVED POSITION",null,null,null,null,null,null,null,"Notes:"]
[null,"MONUMENT COORDINATES",null,"NORTHING","EASTING","ORTHO HEIGHT"]
[null,"US Survey Feet (GRID)",null,{"$f":"$E$22","v":359527.61314240331},{"$f":"$F$22","v":2287576.3596424041},{"$f":"$G$22","v":980.86154546326236}]
[]
["LEVELED ELEVATION"]
["US SURVEY FEET",null,"N/A","(Type the leveled elevation or N/A if no leveled elevation is available)"]
["MONUMENT HELD",null,null,"(Type the monument name from which leveling originated)"]
["LEVELED ELEVATION - GPS DERIVED ELEVATION   = ",null,null,null,{"$f":"IF(C32=\"N/A\",\"N/A\",C32-(F29*D24))","v":"N/A"}]
[]
["FINAL MONUMENT COORDINATES"]
[null,"MONUMENT COORDINATES",null,"NORTHING","EASTING","ELEVATION","FEATURE CODE"]
[null,"US SURVEY FEET (GRID)",null,{"$f":"$E$22*$D$24","v":359527.61314240331},{"$f":"$F$22*$D$24","v":2287576.3596424041},{"$f":"IF($C$32=\"N/A\",($G$22*$D$24),$C$32)","v":980.86154546326236},"AERTAR"]
[null,"US SURVEY FEET (GROUND)",null,{"$f":"$D$38*$D$25","v":0},{"$f":"$E$38*$D$25","v":0},{"$f":"IF($C$32=\"N/A\",($G$22*$D$24),$C$32)","v":980.86154546326236},{"$f":"G38","v":"AERTAR"}]
[]
["∆ North,  ∆ East, and ∆ Ht. are the difference between the average northing, easting, and height for each observation.",null,null,null,null,null,null,null,"Mask Angle:","10°"]

{"sheet":"GS28","index":34,"n_rows":41,"n_cols":11,"rows_kept":41,"cut":false,"hidden":false,"merged":[[0,0,0,10],[26,0,26,6],[27,1,27,2],[27,8,38,10],[28,1,28,2],[30,0,30,6],[35,0,35,6],[36,1,36,2],[37,1,37,2],[38,1,38,2]]}
["VRS GNSS Project Control Monument Coordinate Analysis"]
[]
["Project:",{"$f":"REPORT!B2","v":"TUS-800-22.74"},"GPS Antenna:","LEICA GS14",null,null,null,null,null,"Report Date:",{"$f":"REPORT!C49","v":"2018-12-19"}]
["PID:",{"$f":"REPORT!E2","v":100603},"VRS Network:","ODOT VRS",null,null,null,null,null,"Prepared By:",{"$f":"REPORT!C48","v":"Kolton Wilson"}]
["Point ID:","GS28","No. of Sessions:",{"$f":"COUNTIF(GPS_IMPORT!A2:A1000,$B$5)","v":12},null,null,null,null,null,"Checked By:",{"$f":"REPORT!C52","v":"Joel Swick"}]
["SESSION #","Point","Observation Date","Start Time","Northing(sft)","Easting(sft)","Height(sft)","∆ Northing(sft)","∆ Easting(sft)","∆ Height(sft)","Include in Solution?"]
[1,{"$f":"IF(ROWS(GPS_IMPORT!$1:1)<=COUNTIF(GPS_IMPORT!$A$2:$A$10000,$B$5),INDEX(GPS_IMPORT!$2:$10000,MATCH($B$5,(GPS_IMPORT!$A$2:$A$10000),0)+ROWS($1:1)-1,COLUMN()-1),0)","v":"GS28"},{"$f":"IF(ROWS(GPS_IMPORT!$1:1)<=COUNTIF(GPS_IMPORT!$A$2:$A$10000,$B$5),INDEX(GPS_IMPORT!$2:$10000,MATCH($B$5,(GPS_IMPORT!$A$2:$A$10000),0)+ROWS($1:1)-1,COLUMN()-1),0)","v":"12.18.2018"},{"$f":"IF(ROWS(GPS_IMPORT!$1:1)<=COUNTIF(GPS_IMPORT!$A$2:$A$10000,$B$5),INDEX(GPS_IMPORT!$2:$10000,MATCH($B$5,(GPS_IMPORT!$A$2:$A$10000),0)+ROWS($1:1)-1,COLUMN()-1),0)","v":"13:40:44.230"},{"$f":"IF(ROWS(GPS_IMPORT!$1:1)<=COUNTIF(GPS_IMPORT!$A$2:$A$10000,$B$5),INDEX(GPS_IMPORT!$2:$10000,MATCH($B$5,(GPS_IMPORT!$A$2:$A$10000),0)+ROWS($1:1)-1,COLUMN()-1),0)","v":361035.400968595},{"$f":"IF(ROWS(GPS_IMPORT!$1:1)<=COUNTIF(GPS_IMPORT!$A$2:$A$10000,$B$5),INDEX(GPS_IMPORT!$2:$10000,MATCH($B$5,(GPS_IMPORT!$A$2:$A$10000),0)+ROWS($1:1)-1,COLUMN()-1),0)","v":2286890.14401558},{"$f":"IF(ROWS(GPS_IMPORT!$1:1)<=COUNTIF(GPS_IMPORT!$A$2:$A$10000,$B$5),INDEX(GPS_IMPORT!$2:$10000,MATCH($B$5,(GPS_IMPORT!$A$2:$A$10000),0)+ROWS($1:1)-1,COLUMN()-1),0)","v":958.37598790766003},{"$f":"IF(E7>0,E$22-E7,0)","v":6.8773936945945024E-3},6.0943257994949818E-3,1.8849820701689168E-2,true]
[2,{"$f":"IF(ROWS(GPS_IMPORT!$1:2)<=COUNTIF(GPS_IMPORT!$A$2:$A$10000,$B$5),INDEX(GPS_IMPORT!$2:$10000,MATCH($B$5,(GPS_IMPORT!$A$2:$A$10000),0)+ROWS($1:2)-1,COLUMN()-1),0)","v":"GS28"},{"$f":"IF(ROWS(GPS_IMPORT!$1:2)<=COUNTIF(GPS_IMPORT!$A$2:$A$10000,$B$5),INDEX(GPS_IMPORT!$2:$10000,MATCH($B$5,(GPS_IMPORT!$A$2:$A$10000),0)+ROWS($1:2)-1,COLUMN()-1),0)","v":"12.18.2018"},{"$f":"IF(ROWS(GPS_IMPORT!$1:2)<=COUNTIF(GPS_IMPORT!$A$2:$A$10000,$B$5),INDEX(GPS_IMPORT!$2:$10000,MATCH($B$5,(GPS_IMPORT!$A$2:$A$10000),0)+ROWS($1:2)-1,COLUMN()-1),0)","v":"13:41:01"},{"$f":"IF(ROWS(GPS_IMPORT!$1:2)<=COUNTIF(GPS_IMPORT!$A$2:$A$10000,$B$5),INDEX(GPS_IMPORT!$2:$10000,MATCH($B$5,(GPS_IMPORT!$A$2:$A$10000),0)+ROWS($1:2)-1,COLUMN()-1),0)","v":361035.39815806597},{"$f":"IF(ROWS(GPS_IMPORT!$1:2)<=COUNTIF(GPS_IMPORT!$A$2:$A$10000,$B$5),INDEX(GPS_IMPORT!$2:$10000,MATCH($B$5,(GPS_IMPORT!$A$2:$A$10000),0)+ROWS($1:2)-1,COLUMN()-1),0)","v":2286890.1477256701},{"$f":"IF(ROWS(GPS_IMPORT!$1:2)<=COUNTIF(GPS_IMPORT!$A$2:$A$10000,$B$5),INDEX(GPS_IMPORT!$2:$10000,MATCH($B$5,(GPS_IMPORT!$A$2:$A$10000),0)+ROWS($1:2)-1,COLUMN()-1),0)","v":958.36425725107995},9.6879227203316987E-3,2.3842356167733669E-3,3.058047728177371E-2,true]
[3,{"$f":"IF(ROWS(GPS_IMPORT!$1:3)<=COUNTIF(GPS_IMPORT!$A$2:$A$10000,$B$5),INDEX(GPS_IMPORT!$2:$10000,MATCH($B$5,(GPS_IMPORT!$A$2:$A$10000),0)+ROWS($1:3)-1,COLUMN()-1),0)","v":"GS28"},{"$f":"IF(ROWS(GPS_IMPORT!$1:3)<=COUNTIF(GPS_IMPORT!$A$2:$A$10000,$B$5),INDEX(GPS_IMPORT!$2:$10000,MATCH($B$5,(GPS_IMPORT!$A$2:$A$10000),0)+ROWS($1:3)-1,COLUMN()-1),0)","v":"12.18.2018"},{"$f":"IF(ROWS(GPS_IMPORT!$1:3)<=COUNTIF(GPS_IMPORT!$A$2:$A$10000,$B$5),INDEX(GPS_IMPORT!$2:$10000,MATCH($B$5,(GPS_IMPORT!$A$2:$A$10000),0)+ROWS($1:3)-1,COLUMN()-1),0)","v":"13:41:11.230"},{"$f":"IF(ROWS(GPS_IMPORT!$1:3)<=COUNTIF(GPS_IMPORT!$A$2:$A$10000,$B$5),INDEX(GPS_IMPORT!$2:$10000,MATCH($B$5,(GPS_IMPORT!$A$2:$A$10000),0)+ROWS($1:3)-1,COLUMN()-1),0)","v":361035.40402276599},{"$f":"IF(ROWS(GPS_IMPORT!$1:3)<=COUNTIF(GPS_IMPORT!$A$2:$A$10000,$B$5),INDEX(GPS_IMPORT!$2:$10000,MATCH($B$5,(GPS_IMPORT!$A$2:$A$10000),0)+ROWS($1:3)-1,COLUMN()-1),0)","v":2286890.1412396901},{"$f":"IF(ROWS(GPS_IMPORT!$1:3)<=COUNTIF(GPS_IMPORT!$A$2:$A$10000,$B$5),INDEX(GPS_IMPORT!$2:$10000,MATCH($B$5,(GPS_IMPORT!$A$2:$A$10000),0)+ROWS($1:3)-1,COLUMN()-1),0)","v":958.38315013671001},3.8232227088883519E-3,8.8702156208455563E-3,1.1687591651707407E-2,true]
[4,{"$f":"IF(ROWS(GPS_IMPORT!$1:4)<=COUNTIF(GPS_IMPORT!$A$2:$A$10000,$B$5),INDEX(GPS_IMPORT!$2:$10000,MATCH($B$5,(GPS_IMPORT!$A$2:$A$10000),0)+ROWS($1:4)-1,COLUMN()-1),0)","v":"GS28"},{"$f":"IF(ROWS(GPS_IMPORT!$1:4)<=COUNTIF(GPS_IMPORT!$A$2:$A$10000,$B$5),INDEX(GPS_IMPORT!$2:$10000,MATCH($B$5,(GPS_IMPORT!$A$2:$A$10000),0)+ROWS($1:4)-1,COLUMN()-1),0)","v":"12.18.2018"},{"$f":"IF(ROWS(GPS_IMPORT!$1:4)<=COUNTIF(GPS_IMPORT!$A$2:$A$10000,$B$5),INDEX(GPS_IMPORT!$2:$10000,MATCH($B$5,(GPS_IMPORT!$A$2:$A$10000),0)+ROWS($1:4)-1,COLUMN()-1),0)","v":"13:41:21.310"},{"$f":"IF(ROWS(GPS_IMPORT!$1:4)<=COUNTIF(GPS_IMPORT!$A$2:$A$10000,$B$5),INDEX(GPS_IMPORT!$2:$10000,MATCH($B$5,(GPS_IMPORT!$A$2:$A$10000),0)+ROWS($1:4)-1,COLUMN()-1),0)","v":361035.413814787},{"$f":"IF(ROWS(GPS_IMPORT!$1:4)<=COUNTIF(GPS_IMPORT!$A$2:$A$10000,$B$5),INDEX(GPS_IMPORT!$2:$10000,MATCH($B$5,(GPS_IMPORT!$A$2:$A$10000),0)+ROWS($1:4)-1,COLUMN()-1),0)","v":2286890.1487291502},{"$f":"IF(ROWS(GPS_IMPORT!$1:4)<=COUNTIF(GPS_IMPORT!$A$2:$A$10000,$B$5),INDEX(GPS_IMPORT!$2:$10000,MATCH($B$5,(GPS_IMPORT!$A$2:$A$10000),0)+ROWS($1:4)-1,COLUMN()-1),0)","v":958.40879578499005},-5.9687983011826873E-3,1.3807555660605431E-3,-1.3958056628325721E-2,true]
[5,{"$f":"IF(ROWS(GPS_IMPORT!$1:5)<=COUNTIF(GPS_IMPORT!$A$2:$A$10000,$B$5),INDEX(GPS_IMPORT!$2:$10000,MATCH($B$5,(GPS_IMPORT!$A$2:$A$10000),0)+ROWS($1:5)-1,COLUMN()-1),0)","v":"GS28"},{"$f":"IF(ROWS(GPS_IMPORT!$1:5)<=COUNTIF(GPS_IMPORT!$A$2:$A$10000,$B$5),INDEX(GPS_IMPORT!$2:$10000,MATCH($B$5,(GPS_IMPORT!$A$2:$A$10000),0)+ROWS($1:5)-1,COLUMN()-1),0)","v":"12.18.2018"},{"$f":"IF(ROWS(GPS_IMPORT!$1:5)<=COUNTIF(GPS_IMPORT!$A$2:$A$10000,$B$5),INDEX(GPS_IMPORT!$2:$10000,MATCH($B$5,(GPS_IMPORT!$A$2:$A$10000),0)+ROWS($1:5)-1,COLUMN()-1),0)","v":"13:41:36.900"},{"$f":"IF(ROWS(GPS_IMPORT!$1:5)<=COUNTIF(GPS_IMPORT!$A$2:$A$10000,$B$5),INDEX(GPS_IMPORT!$2:$10000,MATCH($B$5,(GPS_IMPORT!$A$2:$A$10000),0)+ROWS($1:5)-1,COLUMN()-1),0)","v":361035.40970200498},{"$f":"IF(ROWS(GPS_IMPORT!$1:5)<=COUNTIF(GPS_IMPORT!$A$2:$A$10000,$B$5),INDEX(GPS_IMPORT!$2:$10000,MATCH($B$5,(GPS_IMPORT!$A$2:$A$10000),0)+ROWS($1:5)-1,COLUMN()-1),0)","v":2286890.1574994801},{"$f":"IF(ROWS(GPS_IMPORT!$1:5)<=COUNTIF(GPS_IMPORT!$A$2:$A$10000,$B$5),INDEX(GPS_IMPORT!$2:$10000,MATCH($B$5,(GPS_IMPORT!$A$2:$A$10000),0)+ROWS($1:5)-1,COLUMN()-1),0)","v":958.45842258411005},-1.8560162861831486E-3,-7.3895743116736412E-3,-6.3584855748331393E-2,true]
[6,{"$f":"IF(ROWS(GPS_IMPORT!$1:6)<=COUNTIF(GPS_IMPORT!$A$2:$A$10000,$B$5),INDEX(GPS_IMPORT!$2:$10000,MATCH($B$5,(GPS_IMPORT!$A$2:$A$10000),0)+ROWS($1:6)-1,COLUMN()-1),0)","v":"GS28"},{"$f":"IF(ROWS(GPS_IMPORT!$1:6)<=COUNTIF(GPS_IMPORT!$A$2:$A$10000,$B$5),INDEX(GPS_IMPORT!$2:$10000,MATCH($B$5,(GPS_IMPORT!$A$2:$A$10000),0)+ROWS($1:6)-1,COLUMN()-1),0)","v":"12.18.2018"},{"$f":"IF(ROWS(GPS_IMPORT!$1:6)<=COUNTIF(GPS_IMPORT!$A$2:$A$10000,$B$5),INDEX(GPS_IMPORT!$2:$10000,MATCH($B$5,(GPS_IMPORT!$A$2:$A$10000),0)+ROWS($1:6)-1,COLUMN()-1),0)","v":"13:41:52.800"},{"$f":"IF(ROWS(GPS_IMPORT!$1:6)<=COUNTIF(GPS_IMPORT!$A$2:$A$10000,$B$5),INDEX(GPS_IMPORT!$2:$10000,MATCH($B$5,(GPS_IMPORT!$A$2:$A$10000),0)+ROWS($1:6)-1,COLUMN()-1),0)","v":361035.409377301},{"$f":"IF(ROWS(GPS_IMPORT!$1:6)<=COUNTIF(GPS_IMPORT!$A$2:$A$10000,$B$5),INDEX(GPS_IMPORT!$2:$10000,MATCH($B$5,(GPS_IMPORT!$A$2:$A$10000),0)+ROWS($1:6)-1,COLUMN()-1),0)","v":2286890.1627155701},{"$f":"IF(ROWS(GPS_IMPORT!$1:6)<=COUNTIF(GPS_IMPORT!$A$2:$A$10000,$B$5),INDEX(GPS_IMPORT!$2:$10000,MATCH($B$5,(GPS_IMPORT!$A$2:$A$10000),0)+ROWS($1:6)-1,COLUMN()-1),0)","v":958.40009129433997},-1.5313123003579676E-3,-1.2605664320290089E-2,-5.2535659782506627E-3,true]
[7,{"$f":"IF(ROWS(GPS_IMPORT!$1:7)<=COUNTIF(GPS_IMPORT!$A$2:$A$10000,$B$5),INDEX(GPS_IMPORT!$2:$10000,MATCH($B$5,(GPS_IMPORT!$A$2:$A$10000),0)+ROWS($1:7)-1,COLUMN()-1),0)","v":"GS28"},{"$f":"IF(ROWS(GPS_IMPORT!$1:7)<=COUNTIF(GPS_IMPORT!$A$2:$A$10000,$B$5),INDEX(GPS_IMPORT!$2:$10000,MATCH($B$5,(GPS_IMPORT!$A$2:$A$10000),0)+ROWS($1:7)-1,COLUMN()-1),0)","v":"12.18.2018"},{"$f":"IF(ROWS(GPS_IMPORT!$1:7)<=COUNTIF(GPS_IMPORT!$A$2:$A$10000,$B$5),INDEX(GPS_IMPORT!$2:$10000,MATCH($B$5,(GPS_IMPORT!$A$2:$A$10000),0)+ROWS($1:7)-1,COLUMN()-1),0)","v":"13:42:02.990"},{"$f":"IF(ROWS(GPS_IMPORT!$1:7)<=COUNTIF(GPS_IMPORT!$A$2:$A$10000,$B$5),INDEX(GPS_IMPORT!$2:$10000,MATCH($B$5,(GPS_IMPORT!$A$2:$A$10000),0)+ROWS($1:7)-1,COLUMN()-1),0)","v":361035.41921345401},{"$f":"IF(ROWS(GPS_IMPORT!$1:7)<=COUNTIF(GPS_IMPORT!$A$2:$A$10000,$B$5),INDEX(GPS_IMPORT!$2:$10000,MATCH($B$5,(GPS_IMPORT!$A$2:$A$10000),0)+ROWS($1:7)-1,COLUMN()-1),0)","v":2286890.15159625},{"$f":"IF(ROWS(GPS_IMPORT!$1:7)<=COUNTIF(GPS_IMPORT!$A$2:$A$10000,$B$5),INDEX(GPS_IMPORT!$2:$10000,MATCH($B$5,(GPS_IMPORT!$A$2:$A$10000),0)+ROWS($1:7)-1,COLUMN()-1),0)","v":958.39988906818996},-1.1367465311195701E-2,-1.4863442629575729E-3,-5.0513398282419075E-3,true]
[8,{"$f":"IF(ROWS(GPS_IMPORT!$1:8)<=COUNTIF(GPS_IMPORT!$A$2:$A$10000,$B$5),INDEX(GPS_IMPORT!$2:$10000,MATCH($B$5,(GPS_IMPORT!$A$2:$A$10000),0)+ROWS($1:8)-1,COLUMN()-1),0)","v":"GS28"},{"$f":"IF(ROWS(GPS_IMPORT!$1:8)<=COUNTIF(GPS_IMPORT!$A$2:$A$10000,$B$5),INDEX(GPS_IMPORT!$2:$10000,MATCH($B$5,(GPS_IMPORT!$A$2:$A$10000),0)+ROWS($1:8)-1,COLUMN()-1),0)","v":"12.18.2018"},{"$f":"IF(ROWS(GPS_IMPORT!$1:8)<=COUNTIF(GPS_IMPORT!$A$2:$A$10000,$B$5),INDEX(GPS_IMPORT!$2:$10000,MATCH($B$5,(GPS_IMPORT!$A$2:$A$10000),0)+ROWS($1:8)-1,COLUMN()-1),0)","v":"13:42:12.930"},{"$f":"IF(ROWS(GPS_IMPORT!$1:8)<=COUNTIF(GPS_IMPORT!$A$2:$A$10000,$B$5),INDEX(GPS_IMPORT!$2:$10000,MATCH($B$5,(GPS_IMPORT!$A$2:$A$10000),0)+ROWS($1:8)-1,COLUMN()-1),0)","v":361035.41814973397},{"$f":"IF(ROWS(GPS_IMPORT!$1:8)<=COUNTIF(GPS_IMPORT!$A$2:$A$10000,$B$5),INDEX(GPS_IMPORT!$2:$10000,MATCH($B$5,(GPS_IMPORT!$A$2:$A$10000),0)+ROWS($1:8)-1,COLUMN()-1),0)","v":2286890.15850265},{"$f":"IF(ROWS(GPS_IMPORT!$1:8)<=COUNTIF(GPS_IMPORT!$A$2:$A$10000,$B$5),INDEX(GPS_IMPORT!$2:$10000,MATCH($B$5,(GPS_IMPORT!$A$2:$A$10000),0)+ROWS($1:8)-1,COLUMN()-1),0)","v":958.37475699684001},-1.0303745279088616E-2,-8.3927442319691181E-3,2.0080731521716189E-2,true]
[9,{"$f":"IF(ROWS(GPS_IMPORT!$1:9)<=COUNTIF(GPS_IMPORT!$A$2:$A$10000,$B$5),INDEX(GPS_IMPORT!$2:$10000,MATCH($B$5,(GPS_IMPORT!$A$2:$A$10000),0)+ROWS($1:9)-1,COLUMN()-1),0)","v":"GS28"},{"$f":"IF(ROWS(GPS_IMPORT!$1:9)<=COUNTIF(GPS_IMPORT!$A$2:$A$10000,$B$5),INDEX(GPS_IMPORT!$2:$10000,MATCH($B$5,(GPS_IMPORT!$A$2:$A$10000),0)+ROWS($1:9)-1,COLUMN()-1),0)","v":"12.18.2018"},{"$f":"IF(ROWS(GPS_IMPORT!$1:9)<=COUNTIF(GPS_IMPORT!$A$2:$A$10000,$B$5),INDEX(GPS_IMPORT!$2:$10000,MATCH($B$5,(GPS_IMPORT!$A$2:$A$10000),0)+ROWS($1:9)-1,COLUMN()-1),0)","v":"13:42:29.940"},{"$f":"IF(ROWS(GPS_IMPORT!$1:9)<=COUNTIF(GPS_IMPORT!$A$2:$A$10000,$B$5),INDEX(GPS_IMPORT!$2:$10000,MATCH($B$5,(GPS_IMPORT!$A$2:$A$10000),0)+ROWS($1:9)-1,COLUMN()-1),0)","v":361035.40718692},{"$f":"IF(ROWS(GPS_IMPORT!$1:9)<=COUNTIF(GPS_IMPORT!$A$2:$A$10000,$B$5),INDEX(GPS_IMPORT!$2:$10000,MATCH($B$5,(GPS_IMPORT!$A$2:$A$10000),0)+ROWS($1:9)-1,COLUMN()-1),0)","v":2286890.1449125302},{"$f":"IF(ROWS(GPS_IMPORT!$1:9)<=COUNTIF(GPS_IMPORT!$A$2:$A$10000,$B$5),INDEX(GPS_IMPORT!$2:$10000,MATCH($B$5,(GPS_IMPORT!$A$2:$A$10000),0)+ROWS($1:9)-1,COLUMN()-1),0)","v":958.37050171367002},6.590686971321702E-4,5.1973755471408367E-3,2.4336014691698438E-2,true]
[10,{"$f":"IF(ROWS(GPS_IMPORT!$1:10)<=COUNTIF(GPS_IMPORT!$A$2:$A$10000,$B$5),INDEX(GPS_IMPORT!$2:$10000,MATCH($B$5,(GPS_IMPORT!$A$2:$A$10000),0)+ROWS($1:10)-1,COLUMN()-1),0)","v":"GS28"},{"$f":"IF(ROWS(GPS_IMPORT!$1:10)<=COUNTIF(GPS_IMPORT!$A$2:$A$10000,$B$5),INDEX(GPS_IMPORT!$2:$10000,MATCH($B$5,(GPS_IMPORT!$A$2:$A$10000),0)+ROWS($1:10)-1,COLUMN()-1),0)","v":"12.18.2018"},{"$f":"IF(ROWS(GPS_IMPORT!$1:10)<=COUNTIF(GPS_IMPORT!$A$2:$A$10000,$B$5),INDEX(GPS_IMPORT!$2:$10000,MATCH($B$5,(GPS_IMPORT!$A$2:$A$10000),0)+ROWS($1:10)-1,COLUMN()-1),0)","v":"13:42:39.960"},{"$f":"IF(ROWS(GPS_IMPORT!$1:10)<=COUNTIF(GPS_IMPORT!$A$2:$A$10000,$B$5),INDEX(GPS_IMPORT!$2:$10000,MATCH($B$5,(GPS_IMPORT!$A$2:$A$10000),0)+ROWS($1:10)-1,COLUMN()-1),0)","v":361035.400090991},{"$f":"IF(ROWS(GPS_IMPORT!$1:10)<=COUNTIF(GPS_IMPORT!$A$2:$A$10000,$B$5),INDEX(GPS_IMPORT!$2:$10000,MATCH($B$5,(GPS_IMPORT!$A$2:$A$10000),0)+ROWS($1:10)-1,COLUMN()-1),0)","v":2286890.14311051},{"$f":"IF(ROWS(GPS_IMPORT!$1:10)<=COUNTIF(GPS_IMPORT!$A$2:$A$10000,$B$5),INDEX(GPS_IMPORT!$2:$10000,MATCH($B$5,(GPS_IMPORT!$A$2:$A$10000),0)+ROWS($1:10)-1,COLUMN()-1),0)","v":958.39738278271},7.754997699521482E-3,6.9993957877159119E-3,-2.5450543482747889E-3,true]
[11,{"$f":"IF(ROWS(GPS_IMPORT!$1:11)<=COUNTIF(GPS_IMPORT!$A$2:$A$10000,$B$5),INDEX(GPS_IMPORT!$2:$10000,MATCH($B$5,(GPS_IMPORT!$A$2:$A$10000),0)+ROWS($1:11)-1,COLUMN()-1),0)","v":"GS28"},{"$f":"IF(ROWS(GPS_IMPORT!$1:11)<=COUNTIF(GPS_IMPORT!$A$2:$A$10000,$B$5),INDEX(GPS_IMPORT!$2:$10000,MATCH($B$5,(GPS_IMPORT!$A$2:$A$10000),0)+ROWS($1:11)-1,COLUMN()-1),0)","v":"12.18.2018"},{"$f":"IF(ROWS(GPS_IMPORT!$1:11)<=COUNTIF(GPS_IMPORT!$A$2:$A$10000,$B$5),INDEX(GPS_IMPORT!$2:$10000,MATCH($B$5,(GPS_IMPORT!$A$2:$A$10000),0)+ROWS($1:11)-1,COLUMN()-1),0)","v":"13:42:49.930"},{"$f":"IF(ROWS(GPS_IMPORT!$1:11)<=COUNTIF(GPS_IMPORT!$A$2:$A$10000,$B$5),INDEX(GPS_IMPORT!$2:$10000,MATCH($B$5,(GPS_IMPORT!$A$2:$A$10000),0)+ROWS($1:11)-1,COLUMN()-1),0)","v":361035.40341185097},{"$f":"IF(ROWS(GPS_IMPORT!$1:11)<=COUNTIF(GPS_IMPORT!$A$2:$A$10000,$B$5),INDEX(GPS_IMPORT!$2:$10000,MATCH($B$5,(GPS_IMPORT!$A$2:$A$10000),0)+ROWS($1:11)-1,COLUMN()-1),0)","v":2286890.1537682898},{"$f":"IF(ROWS(GPS_IMPORT!$1:11)<=COUNTIF(GPS_IMPORT!$A$2:$A$10000,$B$5),INDEX(GPS_IMPORT!$2:$10000,MATCH($B$5,(GPS_IMPORT!$A$2:$A$10000),0)+ROWS($1:11)-1,COLUMN()-1),0)","v":958.39505921698003},4.4341377215459943E-3,-3.6583840847015381E-3,-2.2148861830828537E-4,true]
[12,{"$f":"IF(ROWS(GPS_IMPORT!$1:12)<=COUNTIF(GPS_IMPORT!$A$2:$A$10000,$B$5),INDEX(GPS_IMPORT!$2:$10000,MATCH($B$5,(GPS_IMPORT!$A$2:$A$10000),0)+ROWS($1:12)-1,COLUMN()-1),0)","v":"GS28"},{"$f":"IF(ROWS(GPS_IMPORT!$1:12)<=COUNTIF(GPS_IMPORT!$A$2:$A$10000,$B$5),INDEX(GPS_IMPORT!$2:$10000,MATCH($B$5,(GPS_IMPORT!$A$2:$A$10000),0)+ROWS($1:12)-1,COLUMN()-1),0)","v":"12.18.2018"},{"$f":"IF(ROWS(GPS_IMPORT!$1:12)<=COUNTIF(GPS_IMPORT!$A$2:$A$10000,$B$5),INDEX(GPS_IMPORT!$2:$10000,MATCH($B$5,(GPS_IMPORT!$A$2:$A$10000),0)+ROWS($1:12)-1,COLUMN()-1),0)","v":"13:43:00.360"},{"$f":"IF(ROWS(GPS_IMPORT!$1:12)<=COUNTIF(GPS_IMPORT!$A$2:$A$10000,$B$5),INDEX(GPS_IMPORT!$2:$10000,MATCH($B$5,(GPS_IMPORT!$A$2:$A$10000),0)+ROWS($1:12)-1,COLUMN()-1),0)","v":361035.41005539498},{"$f":"IF(ROWS(GPS_IMPORT!$1:12)<=COUNTIF(GPS_IMPORT!$A$2:$A$10000,$B$5),INDEX(GPS_IMPORT!$2:$10000,MATCH($B$5,(GPS_IMPORT!$A$2:$A$10000),0)+ROWS($1:12)-1,COLUMN()-1),0)","v":2286890.1475034999},{"$f":"IF(ROWS(GPS_IMPORT!$1:12)<=COUNTIF(GPS_IMPORT!$A$2:$A$10000,$B$5),INDEX(GPS_IMPORT!$2:$10000,MATCH($B$5,(GPS_IMPORT!$A$2:$A$10000),0)+ROWS($1:12)-1,COLUMN()-1),0)","v":958.40975800306001},-2.2094062878750265E-3,2.6064058765769005E-3,-1.492027469828372E-2,true]
[13,{"$f":"IF(ROWS(GPS_IMPORT!$1:13)<=COUNTIF(GPS_IMPORT!$A$2:$A$10000,$B$5),INDEX(GPS_IMPORT!$2:$10000,MATCH($B$5,(GPS_IMPORT!$A$2:$A$10000),0)+ROWS($1:13)-1,COLUMN()-1),0)","v":0},{"$f":"IF(ROWS(GPS_IMPORT!$1:13)<=COUNTIF(GPS_IMPORT!$A$2:$A$10000,$B$5),INDEX(GPS_IMPORT!$2:$10000,MATCH($B$5,(GPS_IMPORT!$A$2:$A$10000),0)+ROWS($1:13)-1,COLUMN()-1),0)","v":"00:00:00"},{"$f":"IF(ROWS(GPS_IMPORT!$1:13)<=COUNTIF(GPS_IMPORT!$A$2:$A$10000,$B$5),INDEX(GPS_IMPORT!$2:$10000,MATCH($B$5,(GPS_IMPORT!$A$2:$A$10000),0)+ROWS($1:13)-1,COLUMN()-1),0)","v":"00:00:00"},{"$f":"IF(ROWS(GPS_IMPORT!$1:13)<=COUNTIF(GPS_IMPORT!$A$2:$A$10000,$B$5),INDEX(GPS_IMPORT!$2:$10000,MATCH($B$5,(GPS_IMPORT!$A$2:$A$10000),0)+ROWS($1:13)-1,COLUMN()-1),0)","v":0},{"$f":"IF(ROWS(GPS_IMPORT!$1:13)<=COUNTIF(GPS_IMPORT!$A$2:$A$10000,$B$5),INDEX(GPS_IMPORT!$2:$10000,MATCH($B$5,(GPS_IMPORT!$A$2:$A$10000),0)+ROWS($1:13)-1,COLUMN()-1),0)","v":0},{"$f":"IF(ROWS(GPS_IMPORT!$1:13)<=COUNTIF(GPS_IMPORT!$A$2:$A$10000,$B$5),INDEX(GPS_IMPORT!$2:$10000,MATCH($B$5,(GPS_IMPORT!$A$2:$A$10000),0)+ROWS($1:13)-1,COLUMN()-1),0)","v":0},{"$f":"IF(E19>0,E$22-E19,0)","v":0},0,0,false]
[14,{"$f":"IF(ROWS(GPS_IMPORT!$1:14)<=COUNTIF(GPS_IMPORT!$A$2:$A$10000,$B$5),INDEX(GPS_IMPORT!$2:$10000,MATCH($B$5,(GPS_IMPORT!$A$2:$A$10000),0)+ROWS($1:14)-1,COLUMN()-1),0)","v":0},{"$f":"IF(ROWS(GPS_IMPORT!$1:14)<=COUNTIF(GPS_IMPORT!$A$2:$A$10000,$B$5),INDEX(GPS_IMPORT!$2:$10000,MATCH($B$5,(GPS_IMPORT!$A$2:$A$10000),0)+ROWS($1:14)-1,COLUMN()-1),0)","v":"00:00:00"},{"$f":"IF(ROWS(GPS_IMPORT!$1:14)<=COUNTIF(GPS_IMPORT!$A$2:$A$10000,$B$5),INDEX(GPS_IMPORT!$2:$10000,MATCH($B$5,(GPS_IMPORT!$A$2:$A$10000),0)+ROWS($1:14)-1,COLUMN()-1),0)","v":"00:00:00"},{"$f":"IF(ROWS(GPS_IMPORT!$1:14)<=COUNTIF(GPS_IMPORT!$A$2:$A$10000,$B$5),INDEX(GPS_IMPORT!$2:$10000,MATCH($B$5,(GPS_IMPORT!$A$2:$A$10000),0)+ROWS($1:14)-1,COLUMN()-1),0)","v":0},{"$f":"IF(ROWS(GPS_IMPORT!$1:14)<=COUNTIF(GPS_IMPORT!$A$2:$A$10000,$B$5),INDEX(GPS_IMPORT!$2:$10000,MATCH($B$5,(GPS_IMPORT!$A$2:$A$10000),0)+ROWS($1:14)-1,COLUMN()-1),0)","v":0},{"$f":"IF(ROWS(GPS_IMPORT!$1:14)<=COUNTIF(GPS_IMPORT!$A$2:$A$10000,$B$5),INDEX(GPS_IMPORT!$2:$10000,MATCH($B$5,(GPS_IMPORT!$A$2:$A$10000),0)+ROWS($1:14)-1,COLUMN()-1),0)","v":0},0,0,0,false]
[15,{"$f":"IF(ROWS(GPS_IMPORT!$1:15)<=COUNTIF(GPS_IMPORT!$A$2:$A$10000,$B$5),INDEX(GPS_IMPORT!$2:$10000,MATCH($B$5,(GPS_IMPORT!$A$2:$A$10000),0)+ROWS($1:15)-1,COLUMN()-1),0)","v":0},{"$f":"IF(ROWS(GPS_IMPORT!$1:15)<=COUNTIF(GPS_IMPORT!$A$2:$A$10000,$B$5),INDEX(GPS_IMPORT!$2:$10000,MATCH($B$5,(GPS_IMPORT!$A$2:$A$10000),0)+ROWS($1:15)-1,COLUMN()-1),0)","v":"00:00:00"},{"$f":"IF(ROWS(GPS_IMPORT!$1:15)<=COUNTIF(GPS_IMPORT!$A$2:$A$10000,$B$5),INDEX(GPS_IMPORT!$2:$10000,MATCH($B$5,(GPS_IMPORT!$A$2:$A$10000),0)+ROWS($1:15)-1,COLUMN()-1),0)","v":"00:00:00"},{"$f":"IF(ROWS(GPS_IMPORT!$1:15)<=COUNTIF(GPS_IMPORT!$A$2:$A$10000,$B$5),INDEX(GPS_IMPORT!$2:$10000,MATCH($B$5,(GPS_IMPORT!$A$2:$A$10000),0)+ROWS($1:15)-1,COLUMN()-1),0)","v":0},{"$f":"IF(ROWS(GPS_IMPORT!$1:15)<=COUNTIF(GPS_IMPORT!$A$2:$A$10000,$B$5),INDEX(GPS_IMPORT!$2:$10000,MATCH($B$5,(GPS_IMPORT!$A$2:$A$10000),0)+ROWS($1:15)-1,COLUMN()-1),0)","v":0},{"$f":"IF(ROWS(GPS_IMPORT!$1:15)<=COUNTIF(GPS_IMPORT!$A$2:$A$10000,$B$5),INDEX(GPS_IMPORT!$2:$10000,MATCH($B$5,(GPS_IMPORT!$A$2:$A$10000),0)+ROWS($1:15)-1,COLUMN()-1),0)","v":0},0,0,0,false]
[null,null,null,"AVERAGE",{"$f":"(IF($K$7=TRUE,E7,0)+IF($K$8=TRUE,E8,0)+IF($K$9=TRUE,E9,0)+IF($K$10=TRUE,E10,0)+IF($K$11=TRUE,E11,0)+IF($K$12=TRUE,E12,0)+IF($K$13=TRUE,E13,0)+IF($K$14=TRUE,E14,0)+IF($K$15=TRUE,E15,0)+IF($K$16=TRUE,E16,0)+IF($K$17=TRUE,E17,0)+IF($K$18=TRUE,E18,0)+IF($K$19=TRUE,E19,0)+IF($K$20=TRUE,E20,0)+IF($K$21=TRUE,E21,0))/(IF($K$7=TRUE,1,0)+IF($K$8=TRUE,1,0)+IF($K$9=TRUE,1,0)+IF($K$10=TRUE,1,0)+IF($K$11=TRUE,1,0)+IF($K$12=TRUE,1,0)+IF($K$13=TRUE,1,0)+IF($K$14=TRUE,1,0)+IF($K$15=TRUE,1,0)+IF($K$16=TRUE,1,0)+IF($K$17=TRUE,1,0)+IF($K$18=TRUE,1,0)+IF($K$19=TRUE,1,0)+IF($K$20=TRUE,1,0)+IF($K$21=TRUE,1,0))","v":361035.4078459887},{"$f":"(IF($K$7=TRUE,F7,0)+IF($K$8=TRUE,F8,0)+IF($K$9=TRUE,F9,0)+IF($K$10=TRUE,F10,0)+IF($K$11=TRUE,F11,0)+IF($K$12=TRUE,F12,0)+IF($K$13=TRUE,F13,0)+IF($K$14=TRUE,F14,0)+IF($K$15=TRUE,F15,0)+IF($K$16=TRUE,F16,0)+IF($K$17=TRUE,F17,0)+IF($K$18=TRUE,F18,0)+IF($K$19=TRUE,F19,0)+IF($K$20=TRUE,F20,0)+IF($K$21=TRUE,F21,0))/(IF($K$7=TRUE,1,0)+IF($K$8=TRUE,1,0)+IF($K$9=TRUE,1,0)+IF($K$10=TRUE,1,0)+IF($K$11=TRUE,1,0)+IF($K$12=TRUE,1,0)+IF($K$13=TRUE,1,0)+IF($K$14=TRUE,1,0)+IF($K$15=TRUE,1,0)+IF($K$16=TRUE,1,0)+IF($K$17=TRUE,1,0)+IF($K$18=TRUE,1,0)+IF($K$19=TRUE,1,0)+IF($K$20=TRUE,1,0)+IF($K$21=TRUE,1,0))","v":2286890.1501099057},{"$f":"(IF($K$7=TRUE,G7,0)+IF($K$8=TRUE,G8,0)+IF($K$9=TRUE,G9,0)+IF($K$10=TRUE,G10,0)+IF($K$11=TRUE,G11,0)+IF($K$12=TRUE,G12,0)+IF($K$13=TRUE,G13,0)+IF($K$14=TRUE,G14,0)+IF($K$15=TRUE,G15,0)+IF($K$16=TRUE,G16,0)+IF($K$17=TRUE,G17,0)+IF($K$18=TRUE,G18,0)+IF($K$19=TRUE,G19,0)+IF($K$20=TRUE,G20,0)+IF($K$21=TRUE,G21,0))/\n(IF($K$7=TRUE,1,0)+IF($K$8=TRUE,1,0)+IF($K$9=TRUE,1,0)+IF($K$10=TRUE,1,0)+IF($K$11=TRUE,1,0)+IF($K$12=TRUE,1,0)+IF($K$13=TRUE,1,0)+IF($K$14=TRUE,1,0)+IF($K$15=TRUE,1,0)+IF($K$16=TRUE,1,0)+IF($K$17=TRUE,1,0)+IF($K$18=TRUE,1,0)+IF($K$19=TRUE,1,0)+IF($K$20=TRUE,1,0)+IF($K$21=TRUE,1,0))","v":958.39483772836172},"RMSE:","RMSE:","RMSE:"]
[null,null,null,null,null,null,"RMSE IN US SURVEY FEET:",{"$f":"SQRT((\n(IF($K$7=TRUE,H7^2,0))+(IF($K$8=TRUE,H8^2,0))+(IF($K$9=TRUE,H9^2,0))+(IF($K$10=TRUE,H10^2,0))+(IF($K$11=TRUE,H11^2,0))+(IF($K$12=TRUE,H12^2,0))+(IF($K$13=TRUE,H13^2,0))+(IF($K$14=TRUE,H14^2,0))+(IF($K$15=TRUE,H15^2,0))+(IF($K$16=TRUE,H16^2,0))+(IF($K$17=TRUE,H17^2,0))+(IF($K$18=TRUE,H18^2,0))+(IF($K$19=TRUE,H19^2,0))+(IF($K$20=TRUE,H20^2,0))+(IF($K$21=TRUE,H21^2,0)))/\n(IF($K$7=TRUE,1,0)+IF($K$8=TRUE,1,0)+IF($K$9=TRUE,1,0)+IF($K$10=TRUE,1,0)+IF($K$11=TRUE,1,0)+IF($K$12=TRUE,1,0)+IF($K$13=TRUE,1,0)+IF($K$14=TRUE,1,0)+IF($K$15=TRUE,1,0)+IF($K$16=TRUE,1,0)+IF($K$17=TRUE,1,0)+IF($K$18=TRUE,1,0)+IF($K$19=TRUE,1,0)+IF($K$20=TRUE,1,0)+IF($K$21=TRUE,1,0)))","v":6.5681779452560337E-3},{"$f":"SQRT((\n(IF($K$7=TRUE,I7^2,0))+(IF($K$8=TRUE,I8^2,0))+(IF($K$9=TRUE,I9^2,0))+(IF($K$10=TRUE,I10^2,0))+(IF($K$11=TRUE,I11^2,0))+(IF($K$12=TRUE,I12^2,0))+(IF($K$13=TRUE,I13^2,0))+(IF($K$14=TRUE,I14^2,0))+(IF($K$15=TRUE,I15^2,0))+(IF($K$16=TRUE,I16^2,0))+(IF($K$17=TRUE,I17^2,0))+(IF($K$18=TRUE,I18^2,0))+(IF($K$19=TRUE,I19^2,0))+(IF($K$20=TRUE,I20^2,0))+(IF($K$21=TRUE,I21^2,0)))/\n(IF($K$7=TRUE,1,0)+IF($K$8=TRUE,1,0)+IF($K$9=TRUE,1,0)+IF($K$10=TRUE,1,0)+IF($K$11=TRUE,1,0)+IF($K$12=TRUE,1,0)+IF($K$13=TRUE,1,0)+IF($K$14=TRUE,1,0)+IF($K$15=TRUE,1,0)+IF($K$16=TRUE,1,0)+IF($K$17=TRUE,1,0)+IF($K$18=TRUE,1,0)+IF($K$19=TRUE,1,0)+IF($K$20=TRUE,1,0)+IF($K$21=TRUE,1,0)))","v":6.4919818088084932E-3},{"$f":"SQRT((\n(IF($K$7=TRUE,J7^2,0))+(IF($K$8=TRUE,J8^2,0))+(IF($K$9=TRUE,J9^2,0))+(IF($K$10=TRUE,J10^2,0))+(IF($K$11=TRUE,J11^2,0))+(IF($K$12=TRUE,J12^2,0))+(IF($K$13=TRUE,J13^2,0))+(IF($K$14=TRUE,J14^2,0))+(IF($K$15=TRUE,J15^2,0))+(IF($K$16=TRUE,J16^2,0))+(IF($K$17=TRUE,J17^2,0))+(IF($K$18=TRUE,J18^2,0))+(IF($K$19=TRUE,J19^2,0))+(IF($K$20=TRUE,J20^2,0))+(IF($K$21=TRUE,J21^2,0)))/\n(IF($K$7=TRUE,1,0)+IF($K$8=TRUE,1,0)+IF($K$9=TRUE,1,0)+IF($K$10=TRUE,1,0)+IF($K$11=TRUE,1,0)+IF($K$12=TRUE,1,0)+IF($K$13=TRUE,1,0)+IF($K$14=TRUE,1,0)+IF($K$15=TRUE,1,0)+IF($K$16=TRUE,1,0)+IF($K$17=TRUE,1,0)+IF($K$18=TRUE,1,0)+IF($K$19=TRUE,1,0)+IF($K$20=TRUE,1,0)+IF($K$21=TRUE,1,0)))","v":2.4053199181269021E-2}]
[null,null,null,1]
[null,null,"UNITLESS GRID TO GROUND MULTIPLIER",{"$f":"IF(REPORT!C13=\"n/a\",\"0.00000000\",REPORT!C13)","v":0},null,null,null,{"$f":"IF(H23<=0.029,\"PASS\",\"FAIL\")","v":"PASS"},{"$f":"IF(I23<=0.029,\"PASS\",\"FAIL\")","v":"PASS"},{"$f":"IF(J23<=0.039,\"PASS\",\"FAIL\")","v":"PASS"}]
[]
["AVERAGED GPS-DERIVED POSITION",null,null,null,null,null,null,null,"Notes:"]
[null,"MONUMENT COORDINATES",null,"NORTHING","EASTING","ORTHO HEIGHT"]
[null,"US Survey Feet (GRID)",null,{"$f":"$E$22","v":361035.4078459887},{"$f":"$F$22","v":2286890.1501099057},{"$f":"$G$22","v":958.39483772836172}]
[]
["LEVELED ELEVATION"]
["US SURVEY FEET",null,"N/A","(Type the leveled elevation or N/A if no leveled elevation is available)"]
["MONUMENT HELD",null,null,"(Type the monument name from which leveling originated)"]
["LEVELED ELEVATION - GPS DERIVED ELEVATION   = ",null,null,null,{"$f":"IF(C32=\"N/A\",\"N/A\",C32-(F29*D24))","v":"N/A"}]
[]
["FINAL MONUMENT COORDINATES"]
[null,"MONUMENT COORDINATES",null,"NORTHING","EASTING","ELEVATION","FEATURE CODE"]
[null,"US SURVEY FEET (GRID)",null,{"$f":"$E$22*$D$24","v":361035.4078459887},{"$f":"$F$22*$D$24","v":2286890.1501099057},{"$f":"IF($C$32=\"N/A\",($G$22*$D$24),$C$32)","v":958.39483772836172},"AERTAR"]
[null,"US SURVEY FEET (GROUND)",null,{"$f":"$D$38*$D$25","v":0},{"$f":"$E$38*$D$25","v":0},{"$f":"IF($C$32=\"N/A\",($G$22*$D$24),$C$32)","v":958.39483772836172},{"$f":"G38","v":"AERTAR"}]
[]
["∆ North,  ∆ East, and ∆ Ht. are the difference between the average northing, easting, and height for each observation.",null,null,null,null,null,null,null,"Mask Angle:","10°"]

{"sheet":"LEVEL RUN","index":35,"n_rows":200,"n_cols":13,"rows_kept":200,"cut":false,"hidden":false,"merged":[[196,9,196,12],[197,9,197,12],[198,9,198,12],[191,9,191,12],[192,9,192,12],[193,9,193,12],[194,9,194,12],[195,9,195,12],[186,9,186,12],[187,9,187,12],[188,9,188,12],[189,9,189,12],[190,9,190,12],[181,9,181,12],[182,9,182,12],[183,9,183,12],[184,9,184,12],[185,9,185,12],[176,9,176,12],[177,9,177,12],[178,9,178,12],[179,9,179,12],[180,9,180,12],[171,9,171,12],[172,9,172,12],[173,9,173,12],[174,9,174,12],[175,9,175,12],[166,9,166,12],[167,9,167,12],[168,9,168,12],[169,9,169,12],[170,9,170,12],[161,9,161,12],[162,9,162,12],[163,9,163,12],[164,9,164,12],[165,9,165,12],[156,9,156,12],[157,9,157,12],[158,9,158,12],[159,9,159,12],[160,9,160,12],[151,9,151,12],[152,9,152,12],[153,9,153,12],[154,9,154,12],[155,9,155,12],[146,9,146,12],[147,9,147,12],[148,9,148,12],[149,9,149,12],[150,9,150,12],[141,9,141,12],[142,9,142,12],[143,9,143,12],[144,9,144,12],[145,9,145,12],[136,9,136,12],[137,9,137,12],[138,9,138,12],[139,9,139,12],[140,9,140,12],[131,9,131,12],[132,9,132,12],[133,9,133,12],[134,9,134,12],[135,9,135,12],[126,9,126,12],[127,9,127,12],[128,9,128,12],[129,9,129,12],[130,9,130,12],[121,9,121,12],[122,9,122,12],[123,9,123,12],[124,9,124,12],[125,9,125,12],[116,9,116,12],[117,9,117,12],[118,9,118,12],[119,9,119,12],[120,9,120,12],[111,9,111,12],[112,9,112,12],[113,9,113,12],[114,9,114,12],[115,9,115,12],[106,9,106,12],[107,9,107,12],[108,9,108,12],[109,9,109,12],[110,9,110,12],[101,9,101,12],[102,9,102,12],[103,9,103,12],[104,9,104,12],[105,9,105,12],[96,9,96,12],[97,9,97,12],[98,9,98,12],[99,9,99,12],[100,9,100,12],[91,9,91,12],[92,9,92,12],[93,9,93,12],[94,9,94,12],[95,9,95,12],[86,9,86,12],[87,9,87,12],[88,9,88,12],[89,9,89,12],[90,9,90,12],[81,9,81,12],[82,9,82,12],[83,9,83,12],[84,9,84,12],[85,9,85,12],[76,9,76,12],[77,9,77,12],[78,9,78,12],[79,9,79,12],[80,9,80,12],[71,9,71,12],[72,9,72,12],[73,9,73,12],[74,9,74,12],[75,9,75,12],[66,9,66,12],[67,9,67,12],[68,9,68,12],[69,9,69,12],[70,9,70,12],[61,9,61,12],[62,9,62,12],[63,9,63,12],[64,9,64,12],[65,9,65,12],[56,9,56,12],[57,9,57,12],[58,9,58,12],[59,9,59,12],[60,9,60,12],[51,9,51,12],[52,9,52,12],[53,9,53,12],[54,9,54,12],[55,9,55,12],[46,9,46,12],[47,9,47,12],[48,9,48,12],[49,9,49,12],[50,9,50,12],[41,9,41,12],[42,9,42,12],[43,9,43,12],[44,9,44,12],[45,9,45,12],[36,9,36,12],[37,9,37,12],[38,9,38,12],[39,9,39,12],[40,9,40,12],[31,9,31,12],[32,9,32,12],[33,9,33,12],[34,9,34,12],[35,9,35,12],[26,9,26,12],[27,9,27,12],[28,9,28,12],[29,9,29,12],[30,9,30,12],[22,9,22,12],[23,9,23,12],[24,9,24,12],[25,9,25,12],[16,9,16,12],[17,9,17,12],[18,9,18,12],[19,9,19,12],[20,9,20,12],[21,9,21,12],[13,9,13,12],[14,9,14,12],[15,9,15,12],[6,9,6,12],[7,9,7,12],[8,9,8,12],[9,9,9,12],[10,9,10,12],[0,0,0,10],[5,9,5,12],[1,4,1,5],[2,4,2,5],[1,6,1,7],[2,6,2,7],[3,6,3,7],[11,9,11,12],[12,9,12,12]]}
[{"$f":"REPORT!B2","v":"TUS-800-22.74"},null,null,null,null,null,null,null,null,null,null,"PID:",{"$f":"REPORT!E2","v":100603}]
["Adjustment factor only works for closed level loops.",null,null,null,"Instrument Used:",null,"Length in Miles:",null,0,"Instrument:",null,"Date:"]
["SUM BS:",{"$f":"SUM(B7:B200)","v":0},"SUM FS:",{"$f":"SUM(E8:E200)","v":0},"Topcon DL-503",null,"Misclosure:",null,{"$f":"B3-D3","v":0},"Notes:",null,"Weather:"]
["Misclosure must not exceed 0.04 ft x √E where E=Length of loop (miles)",null,null,null,null,null,"Adj Factor:",null,{"$f":"(I3/(COUNTA(B7:B200)))*-1","v":{"$error":"#DIV/0!"}},"Rod:",null,"Temperature:"]
["Please DELETE unused rows before printing!"]
["POINT","BS","HI","FS","SUMFS","ELEV","REC ELEV","ADJ","ADJ ELEV","DESCRIPTION"]
[null,null,{"$f":"F7+B7","v":{"$error":"#VALUE!"}},null,{"$f":"IF(D7>0,IF(B7>0,D7,0),\" \")","v":" "},"Input start elevation",null,null,"-"]
[null,null,{"$f":"IF(D8<>\"\",IF(OR(B8<>\"\",INDIRECT(\"D9\")=0),IF(B7<>\"\",F7+B7,VLOOKUP(INDEX($B$7:B7,MATCH(9.99999999999999E+307,$B$7:B7)),$B$7:F7,5,FALSE)+INDEX($B$7:B7,MATCH(9.99999999999999E+307,$B$7:B7))),(VLOOKUP(INDEX($B$7:B7,MATCH(9.99999999999999E+307,$B$7:B7)),$B$7:F7,5,FALSE))+(INDEX($B$7:B7,MATCH(9.99999999999999E+307,$B$7:B7)))),\"\")","v":""},null,{"$f":"IF(D8<>\"\",IF(OR(B8<>\"\",INDIRECT(\"D9\")=0),D8,0),\"\")","v":""},{"$f":"IF(D8<>\"\",C8-D8,\"\")","v":""},null,{"$f":"IF(D8<>\"\",IF(AND(B8<>\"\",B7<>\"\"),$I$4+H7,VLOOKUP(INDEX($B$7:B7,MATCH(9.99999999999999E+307,$B$7:B7)),$B$7:H7,7,FALSE)+$I$4),\"\")","v":""},{"$f":"IF(D8<>\"\",(F8+H8),\"\")","v":""}]
[null,null,{"$f":"IF(D9<>\"\",IF(OR(B9<>\"\",INDIRECT(\"D10\")=0),IF(B8<>\"\",F8+B8,VLOOKUP(INDEX($B$7:B8,MATCH(9.99999999999999E+307,$B$7:B8)),$B$7:F8,5,FALSE)+INDEX($B$7:B8,MATCH(9.99999999999999E+307,$B$7:B8))),(VLOOKUP(INDEX($B$7:B8,MATCH(9.99999999999999E+307,$B$7:B8)),$B$7:F8,5,FALSE))+(INDEX($B$7:B8,MATCH(9.99999999999999E+307,$B$7:B8)))),\"\")","v":""},null,{"$f":"IF(D9<>\"\",IF(OR(B9<>\"\",INDIRECT(\"D10\")=0),D9,0),\"\")","v":""},{"$f":"IF(D9<>\"\",C9-D9,\"\")","v":""},null,{"$f":"IF(D9<>\"\",IF(AND(B9<>\"\",B8<>\"\"),$I$4+H8,VLOOKUP(INDEX($B$7:B8,MATCH(9.99999999999999E+307,$B$7:B8)),$B$7:H8,7,FALSE)+$I$4),\"\")","v":""},{"$f":"IF(D9<>\"\",(F9+H9),\"\")","v":""}]
[null,null,{"$f":"IF(D10<>\"\",IF(OR(B10<>\"\",INDIRECT(\"D11\")=0),IF(B9<>\"\",F9+B9,VLOOKUP(INDEX($B$7:B9,MATCH(9.99999999999999E+307,$B$7:B9)),$B$7:F9,5,FALSE)+INDEX($B$7:B9,MATCH(9.99999999999999E+307,$B$7:B9))),(VLOOKUP(INDEX($B$7:B9,MATCH(9.99999999999999E+307,$B$7:B9)),$B$7:F9,5,FALSE))+(INDEX($B$7:B9,MATCH(9.99999999999999E+307,$B$7:B9)))),\"\")","v":""},null,{"$f":"IF(D10<>\"\",IF(OR(B10<>\"\",INDIRECT(\"D11\")=0),D10,0),\"\")","v":""},"",null,{"$f":"IF(D10<>\"\",IF(AND(B10<>\"\",B9<>\"\"),$I$4+H9,VLOOKUP(INDEX($B$7:B9,MATCH(9.99999999999999E+307,$B$7:B9)),$B$7:H9,7,FALSE)+$I$4),\"\")","v":""},""]
[null,null,{"$f":"IF(D11<>\"\",IF(OR(B11<>\"\",INDIRECT(\"D12\")=0),IF(B10<>\"\",F10+B10,VLOOKUP(INDEX($B$7:B10,MATCH(9.99999999999999E+307,$B$7:B10)),$B$7:F10,5,FALSE)+INDEX($B$7:B10,MATCH(9.99999999999999E+307,$B$7:B10))),(VLOOKUP(INDEX($B$7:B10,MATCH(9.99999999999999E+307,$B$7:B10)),$B$7:F10,5,FALSE))+(INDEX($B$7:B10,MATCH(9.99999999999999E+307,$B$7:B10)))),\"\")","v":""},null,{"$f":"IF(D11<>\"\",IF(OR(B11<>\"\",INDIRECT(\"D12\")=0),D11,0),\"\")","v":""},"",null,{"$f":"IF(D11<>\"\",IF(AND(B11<>\"\",B10<>\"\"),$I$4+H10,VLOOKUP(INDEX($B$7:B10,MATCH(9.99999999999999E+307,$B$7:B10)),$B$7:H10,7,FALSE)+$I$4),\"\")","v":""},""]
[null,null,{"$f":"IF(D12<>\"\",IF(OR(B12<>\"\",INDIRECT(\"D13\")=0),IF(B11<>\"\",F11+B11,VLOOKUP(INDEX($B$7:B11,MATCH(9.99999999999999E+307,$B$7:B11)),$B$7:F11,5,FALSE)+INDEX($B$7:B11,MATCH(9.99999999999999E+307,$B$7:B11))),(VLOOKUP(INDEX($B$7:B11,MATCH(9.99999999999999E+307,$B$7:B11)),$B$7:F11,5,FALSE))+(INDEX($B$7:B11,MATCH(9.99999999999999E+307,$B$7:B11)))),\"\")","v":""},null,{"$f":"IF(D12<>\"\",IF(OR(B12<>\"\",INDIRECT(\"D13\")=0),D12,0),\"\")","v":""},"",null,{"$f":"IF(D12<>\"\",IF(AND(B12<>\"\",B11<>\"\"),$I$4+H11,VLOOKUP(INDEX($B$7:B11,MATCH(9.99999999999999E+307,$B$7:B11)),$B$7:H11,7,FALSE)+$I$4),\"\")","v":""},""]
[null,null,{"$f":"IF(D13<>\"\",IF(OR(B13<>\"\",INDIRECT(\"D14\")=0),IF(B12<>\"\",F12+B12,VLOOKUP(INDEX($B$7:B12,MATCH(9.99999999999999E+307,$B$7:B12)),$B$7:F12,5,FALSE)+INDEX($B$7:B12,MATCH(9.99999999999999E+307,$B$7:B12))),(VLOOKUP(INDEX($B$7:B12,MATCH(9.99999999999999E+307,$B$7:B12)),$B$7:F12,5,FALSE))+(INDEX($B$7:B12,MATCH(9.99999999999999E+307,$B$7:B12)))),\"\")","v":""},null,{"$f":"IF(D13<>\"\",IF(OR(B13<>\"\",INDIRECT(\"D14\")=0),D13,0),\"\")","v":""},"",null,{"$f":"IF(D13<>\"\",IF(AND(B13<>\"\",B12<>\"\"),$I$4+H12,VLOOKUP(INDEX($B$7:B12,MATCH(9.99999999999999E+307,$B$7:B12)),$B$7:H12,7,FALSE)+$I$4),\"\")","v":""},""]
[null,null,{"$f":"IF(D14<>\"\",IF(OR(B14<>\"\",INDIRECT(\"D15\")=0),IF(B13<>\"\",F13+B13,VLOOKUP(INDEX($B$7:B13,MATCH(9.99999999999999E+307,$B$7:B13)),$B$7:F13,5,FALSE)+INDEX($B$7:B13,MATCH(9.99999999999999E+307,$B$7:B13))),(VLOOKUP(INDEX($B$7:B13,MATCH(9.99999999999999E+307,$B$7:B13)),$B$7:F13,5,FALSE))+(INDEX($B$7:B13,MATCH(9.99999999999999E+307,$B$7:B13)))),\"\")","v":""},null,{"$f":"IF(D14<>\"\",IF(OR(B14<>\"\",INDIRECT(\"D15\")=0),D14,0),\"\")","v":""},"",null,{"$f":"IF(D14<>\"\",IF(AND(B14<>\"\",B13<>\"\"),$I$4+H13,VLOOKUP(INDEX($B$7:B13,MATCH(9.99999999999999E+307,$B$7:B13)),$B$7:H13,7,FALSE)+$I$4),\"\")","v":""},""]
[null,null,{"$f":"IF(D15<>\"\",IF(OR(B15<>\"\",INDIRECT(\"D16\")=0),IF(B14<>\"\",F14+B14,VLOOKUP(INDEX($B$7:B14,MATCH(9.99999999999999E+307,$B$7:B14)),$B$7:F14,5,FALSE)+INDEX($B$7:B14,MATCH(9.99999999999999E+307,$B$7:B14))),(VLOOKUP(INDEX($B$7:B14,MATCH(9.99999999999999E+307,$B$7:B14)),$B$7:F14,5,FALSE))+(INDEX($B$7:B14,MATCH(9.99999999999999E+307,$B$7:B14)))),\"\")","v":""},null,{"$f":"IF(D15<>\"\",IF(OR(B15<>\"\",INDIRECT(\"D16\")=0),D15,0),\"\")","v":""},"",null,{"$f":"IF(D15<>\"\",IF(AND(B15<>\"\",B14<>\"\"),$I$4+H14,VLOOKUP(INDEX($B$7:B14,MATCH(9.99999999999999E+307,$B$7:B14)),$B$7:H14,7,FALSE)+$I$4),\"\")","v":""},""]
[null,null,{"$f":"IF(D16<>\"\",IF(OR(B16<>\"\",INDIRECT(\"D17\")=0),IF(B15<>\"\",F15+B15,VLOOKUP(INDEX($B$7:B15,MATCH(9.99999999999999E+307,$B$7:B15)),$B$7:F15,5,FALSE)+INDEX($B$7:B15,MATCH(9.99999999999999E+307,$B$7:B15))),(VLOOKUP(INDEX($B$7:B15,MATCH(9.99999999999999E+307,$B$7:B15)),$B$7:F15,5,FALSE))+(INDEX($B$7:B15,MATCH(9.99999999999999E+307,$B$7:B15)))),\"\")","v":""},null,{"$f":"IF(D16<>\"\",IF(OR(B16<>\"\",INDIRECT(\"D17\")=0),D16,0),\"\")","v":""},"",null,{"$f":"IF(D16<>\"\",IF(AND(B16<>\"\",B15<>\"\"),$I$4+H15,VLOOKUP(INDEX($B$7:B15,MATCH(9.99999999999999E+307,$B$7:B15)),$B$7:H15,7,FALSE)+$I$4),\"\")","v":""},""]
[null,null,{"$f":"IF(D17<>\"\",IF(OR(B17<>\"\",INDIRECT(\"D18\")=0),IF(B16<>\"\",F16+B16,VLOOKUP(INDEX($B$7:B16,MATCH(9.99999999999999E+307,$B$7:B16)),$B$7:F16,5,FALSE)+INDEX($B$7:B16,MATCH(9.99999999999999E+307,$B$7:B16))),(VLOOKUP(INDEX($B$7:B16,MATCH(9.99999999999999E+307,$B$7:B16)),$B$7:F16,5,FALSE))+(INDEX($B$7:B16,MATCH(9.99999999999999E+307,$B$7:B16)))),\"\")","v":""},null,{"$f":"IF(D17<>\"\",IF(OR(B17<>\"\",INDIRECT(\"D18\")=0),D17,0),\"\")","v":""},"",null,{"$f":"IF(D17<>\"\",IF(AND(B17<>\"\",B16<>\"\"),$I$4+H16,VLOOKUP(INDEX($B$7:B16,MATCH(9.99999999999999E+307,$B$7:B16)),$B$7:H16,7,FALSE)+$I$4),\"\")","v":""},""]
[null,null,{"$f":"IF(D18<>\"\",IF(OR(B18<>\"\",INDIRECT(\"D19\")=0),IF(B17<>\"\",F17+B17,VLOOKUP(INDEX($B$7:B17,MATCH(9.99999999999999E+307,$B$7:B17)),$B$7:F17,5,FALSE)+INDEX($B$7:B17,MATCH(9.99999999999999E+307,$B$7:B17))),(VLOOKUP(INDEX($B$7:B17,MATCH(9.99999999999999E+307,$B$7:B17)),$B$7:F17,5,FALSE))+(INDEX($B$7:B17,MATCH(9.99999999999999E+307,$B$7:B17)))),\"\")","v":""},null,{"$f":"IF(D18<>\"\",IF(OR(B18<>\"\",INDIRECT(\"D19\")=0),D18,0),\"\")","v":""},"",null,{"$f":"IF(D18<>\"\",IF(AND(B18<>\"\",B17<>\"\"),$I$4+H17,VLOOKUP(INDEX($B$7:B17,MATCH(9.99999999999999E+307,$B$7:B17)),$B$7:H17,7,FALSE)+$I$4),\"\")","v":""},""]
[null,null,{"$f":"IF(D19<>\"\",IF(OR(B19<>\"\",INDIRECT(\"D20\")=0),IF(B18<>\"\",F18+B18,VLOOKUP(INDEX($B$7:B18,MATCH(9.99999999999999E+307,$B$7:B18)),$B$7:F18,5,FALSE)+INDEX($B$7:B18,MATCH(9.99999999999999E+307,$B$7:B18))),(VLOOKUP(INDEX($B$7:B18,MATCH(9.99999999999999E+307,$B$7:B18)),$B$7:F18,5,FALSE))+(INDEX($B$7:B18,MATCH(9.99999999999999E+307,$B$7:B18)))),\"\")","v":""},null,{"$f":"IF(D19<>\"\",IF(OR(B19<>\"\",INDIRECT(\"D20\")=0),D19,0),\"\")","v":""},"",null,{"$f":"IF(D19<>\"\",IF(AND(B19<>\"\",B18<>\"\"),$I$4+H18,VLOOKUP(INDEX($B$7:B18,MATCH(9.99999999999999E+307,$B$7:B18)),$B$7:H18,7,FALSE)+$I$4),\"\")","v":""},""]
[null,null,{"$f":"IF(D20<>\"\",IF(OR(B20<>\"\",INDIRECT(\"D21\")=0),IF(B19<>\"\",F19+B19,VLOOKUP(INDEX($B$7:B19,MATCH(9.99999999999999E+307,$B$7:B19)),$B$7:F19,5,FALSE)+INDEX($B$7:B19,MATCH(9.99999999999999E+307,$B$7:B19))),(VLOOKUP(INDEX($B$7:B19,MATCH(9.99999999999999E+307,$B$7:B19)),$B$7:F19,5,FALSE))+(INDEX($B$7:B19,MATCH(9.99999999999999E+307,$B$7:B19)))),\"\")","v":""},null,{"$f":"IF(D20<>\"\",IF(OR(B20<>\"\",INDIRECT(\"D21\")=0),D20,0),\"\")","v":""},"",null,{"$f":"IF(D20<>\"\",IF(AND(B20<>\"\",B19<>\"\"),$I$4+H19,VLOOKUP(INDEX($B$7:B19,MATCH(9.99999999999999E+307,$B$7:B19)),$B$7:H19,7,FALSE)+$I$4),\"\")","v":""},""]
[null,null,{"$f":"IF(D21<>\"\",IF(OR(B21<>\"\",INDIRECT(\"D22\")=0),IF(B20<>\"\",F20+B20,VLOOKUP(INDEX($B$7:B20,MATCH(9.99999999999999E+307,$B$7:B20)),$B$7:F20,5,FALSE)+INDEX($B$7:B20,MATCH(9.99999999999999E+307,$B$7:B20))),(VLOOKUP(INDEX($B$7:B20,MATCH(9.99999999999999E+307,$B$7:B20)),$B$7:F20,5,FALSE))+(INDEX($B$7:B20,MATCH(9.99999999999999E+307,$B$7:B20)))),\"\")","v":""},null,{"$f":"IF(D21<>\"\",IF(OR(B21<>\"\",INDIRECT(\"D22\")=0),D21,0),\"\")","v":""},"",null,{"$f":"IF(D21<>\"\",IF(AND(B21<>\"\",B20<>\"\"),$I$4+H20,VLOOKUP(INDEX($B$7:B20,MATCH(9.99999999999999E+307,$B$7:B20)),$B$7:H20,7,FALSE)+$I$4),\"\")","v":""},""]
[null,null,{"$f":"IF(D22<>\"\",IF(OR(B22<>\"\",INDIRECT(\"D23\")=0),IF(B21<>\"\",F21+B21,VLOOKUP(INDEX($B$7:B21,MATCH(9.99999999999999E+307,$B$7:B21)),$B$7:F21,5,FALSE)+INDEX($B$7:B21,MATCH(9.99999999999999E+307,$B$7:B21))),(VLOOKUP(INDEX($B$7:B21,MATCH(9.99999999999999E+307,$B$7:B21)),$B$7:F21,5,FALSE))+(INDEX($B$7:B21,MATCH(9.99999999999999E+307,$B$7:B21)))),\"\")","v":""},null,{"$f":"IF(D22<>\"\",IF(OR(B22<>\"\",INDIRECT(\"D23\")=0),D22,0),\"\")","v":""},"",null,{"$f":"IF(D22<>\"\",IF(AND(B22<>\"\",B21<>\"\"),$I$4+H21,VLOOKUP(INDEX($B$7:B21,MATCH(9.99999999999999E+307,$B$7:B21)),$B$7:H21,7,FALSE)+$I$4),\"\")","v":""},""]
[null,null,{"$f":"IF(D23<>\"\",IF(OR(B23<>\"\",INDIRECT(\"D24\")=0),IF(B22<>\"\",F22+B22,VLOOKUP(INDEX($B$7:B22,MATCH(9.99999999999999E+307,$B$7:B22)),$B$7:F22,5,FALSE)+INDEX($B$7:B22,MATCH(9.99999999999999E+307,$B$7:B22))),(VLOOKUP(INDEX($B$7:B22,MATCH(9.99999999999999E+307,$B$7:B22)),$B$7:F22,5,FALSE))+(INDEX($B$7:B22,MATCH(9.99999999999999E+307,$B$7:B22)))),\"\")","v":""},null,{"$f":"IF(D23<>\"\",IF(OR(B23<>\"\",INDIRECT(\"D24\")=0),D23,0),\"\")","v":""},"",null,{"$f":"IF(D23<>\"\",IF(AND(B23<>\"\",B22<>\"\"),$I$4+H22,VLOOKUP(INDEX($B$7:B22,MATCH(9.99999999999999E+307,$B$7:B22)),$B$7:H22,7,FALSE)+$I$4),\"\")","v":""},""]
[null,null,{"$f":"IF(D24<>\"\",IF(OR(B24<>\"\",INDIRECT(\"D25\")=0),IF(B23<>\"\",F23+B23,VLOOKUP(INDEX($B$7:B23,MATCH(9.99999999999999E+307,$B$7:B23)),$B$7:F23,5,FALSE)+INDEX($B$7:B23,MATCH(9.99999999999999E+307,$B$7:B23))),(VLOOKUP(INDEX($B$7:B23,MATCH(9.99999999999999E+307,$B$7:B23)),$B$7:F23,5,FALSE))+(INDEX($B$7:B23,MATCH(9.99999999999999E+307,$B$7:B23)))),\"\")","v":""},null,{"$f":"IF(D24<>\"\",IF(OR(B24<>\"\",INDIRECT(\"D25\")=0),D24,0),\"\")","v":""},"",null,{"$f":"IF(D24<>\"\",IF(AND(B24<>\"\",B23<>\"\"),$I$4+H23,VLOOKUP(INDEX($B$7:B23,MATCH(9.99999999999999E+307,$B$7:B23)),$B$7:H23,7,FALSE)+$I$4),\"\")","v":""},""]
[null,null,{"$f":"IF(D25<>\"\",IF(OR(B25<>\"\",INDIRECT(\"D26\")=0),IF(B24<>\"\",F24+B24,VLOOKUP(INDEX($B$7:B24,MATCH(9.99999999999999E+307,$B$7:B24)),$B$7:F24,5,FALSE)+INDEX($B$7:B24,MATCH(9.99999999999999E+307,$B$7:B24))),(VLOOKUP(INDEX($B$7:B24,MATCH(9.99999999999999E+307,$B$7:B24)),$B$7:F24,5,FALSE))+(INDEX($B$7:B24,MATCH(9.99999999999999E+307,$B$7:B24)))),\"\")","v":""},null,{"$f":"IF(D25<>\"\",IF(OR(B25<>\"\",INDIRECT(\"D26\")=0),D25,0),\"\")","v":""},"",null,{"$f":"IF(D25<>\"\",IF(AND(B25<>\"\",B24<>\"\"),$I$4+H24,VLOOKUP(INDEX($B$7:B24,MATCH(9.99999999999999E+307,$B$7:B24)),$B$7:H24,7,FALSE)+$I$4),\"\")","v":""},""]
[null,null,{"$f":"IF(D26<>\"\",IF(OR(B26<>\"\",INDIRECT(\"D27\")=0),IF(B25<>\"\",F25+B25,VLOOKUP(INDEX($B$7:B25,MATCH(9.99999999999999E+307,$B$7:B25)),$B$7:F25,5,FALSE)+INDEX($B$7:B25,MATCH(9.99999999999999E+307,$B$7:B25))),(VLOOKUP(INDEX($B$7:B25,MATCH(9.99999999999999E+307,$B$7:B25)),$B$7:F25,5,FALSE))+(INDEX($B$7:B25,MATCH(9.99999999999999E+307,$B$7:B25)))),\"\")","v":""},null,{"$f":"IF(D26<>\"\",IF(OR(B26<>\"\",INDIRECT(\"D27\")=0),D26,0),\"\")","v":""},"",null,{"$f":"IF(D26<>\"\",IF(AND(B26<>\"\",B25<>\"\"),$I$4+H25,VLOOKUP(INDEX($B$7:B25,MATCH(9.99999999999999E+307,$B$7:B25)),$B$7:H25,7,FALSE)+$I$4),\"\")","v":""},""]
[null,null,{"$f":"IF(D27<>\"\",IF(OR(B27<>\"\",INDIRECT(\"D28\")=0),IF(B26<>\"\",F26+B26,VLOOKUP(INDEX($B$7:B26,MATCH(9.99999999999999E+307,$B$7:B26)),$B$7:F26,5,FALSE)+INDEX($B$7:B26,MATCH(9.99999999999999E+307,$B$7:B26))),(VLOOKUP(INDEX($B$7:B26,MATCH(9.99999999999999E+307,$B$7:B26)),$B$7:F26,5,FALSE))+(INDEX($B$7:B26,MATCH(9.99999999999999E+307,$B$7:B26)))),\"\")","v":""},null,{"$f":"IF(D27<>\"\",IF(OR(B27<>\"\",INDIRECT(\"D28\")=0),D27,0),\"\")","v":""},"",null,{"$f":"IF(D27<>\"\",IF(AND(B27<>\"\",B26<>\"\"),$I$4+H26,VLOOKUP(INDEX($B$7:B26,MATCH(9.99999999999999E+307,$B$7:B26)),$B$7:H26,7,FALSE)+$I$4),\"\")","v":""},""]
[null,null,{"$f":"IF(D28<>\"\",IF(OR(B28<>\"\",INDIRECT(\"D29\")=0),IF(B27<>\"\",F27+B27,VLOOKUP(INDEX($B$7:B27,MATCH(9.99999999999999E+307,$B$7:B27)),$B$7:F27,5,FALSE)+INDEX($B$7:B27,MATCH(9.99999999999999E+307,$B$7:B27))),(VLOOKUP(INDEX($B$7:B27,MATCH(9.99999999999999E+307,$B$7:B27)),$B$7:F27,5,FALSE))+(INDEX($B$7:B27,MATCH(9.99999999999999E+307,$B$7:B27)))),\"\")","v":""},null,{"$f":"IF(D28<>\"\",IF(OR(B28<>\"\",INDIRECT(\"D29\")=0),D28,0),\"\")","v":""},"",null,{"$f":"IF(D28<>\"\",IF(AND(B28<>\"\",B27<>\"\"),$I$4+H27,VLOOKUP(INDEX($B$7:B27,MATCH(9.99999999999999E+307,$B$7:B27)),$B$7:H27,7,FALSE)+$I$4),\"\")","v":""},""]
[null,null,{"$f":"IF(D29<>\"\",IF(OR(B29<>\"\",INDIRECT(\"D30\")=0),IF(B28<>\"\",F28+B28,VLOOKUP(INDEX($B$7:B28,MATCH(9.99999999999999E+307,$B$7:B28)),$B$7:F28,5,FALSE)+INDEX($B$7:B28,MATCH(9.99999999999999E+307,$B$7:B28))),(VLOOKUP(INDEX($B$7:B28,MATCH(9.99999999999999E+307,$B$7:B28)),$B$7:F28,5,FALSE))+(INDEX($B$7:B28,MATCH(9.99999999999999E+307,$B$7:B28)))),\"\")","v":""},null,{"$f":"IF(D29<>\"\",IF(OR(B29<>\"\",INDIRECT(\"D30\")=0),D29,0),\"\")","v":""},"",null,{"$f":"IF(D29<>\"\",IF(AND(B29<>\"\",B28<>\"\"),$I$4+H28,VLOOKUP(INDEX($B$7:B28,MATCH(9.99999999999999E+307,$B$7:B28)),$B$7:H28,7,FALSE)+$I$4),\"\")","v":""},""]
[null,null,{"$f":"IF(D30<>\"\",IF(OR(B30<>\"\",INDIRECT(\"D31\")=0),IF(B29<>\"\",F29+B29,VLOOKUP(INDEX($B$7:B29,MATCH(9.99999999999999E+307,$B$7:B29)),$B$7:F29,5,FALSE)+INDEX($B$7:B29,MATCH(9.99999999999999E+307,$B$7:B29))),(VLOOKUP(INDEX($B$7:B29,MATCH(9.99999999999999E+307,$B$7:B29)),$B$7:F29,5,FALSE))+(INDEX($B$7:B29,MATCH(9.99999999999999E+307,$B$7:B29)))),\"\")","v":""},null,{"$f":"IF(D30<>\"\",IF(OR(B30<>\"\",INDIRECT(\"D31\")=0),D30,0),\"\")","v":""},"",null,{"$f":"IF(D30<>\"\",IF(AND(B30<>\"\",B29<>\"\"),$I$4+H29,VLOOKUP(INDEX($B$7:B29,MATCH(9.99999999999999E+307,$B$7:B29)),$B$7:H29,7,FALSE)+$I$4),\"\")","v":""},""]
[null,null,{"$f":"IF(D31<>\"\",IF(OR(B31<>\"\",INDIRECT(\"D32\")=0),IF(B30<>\"\",F30+B30,VLOOKUP(INDEX($B$7:B30,MATCH(9.99999999999999E+307,$B$7:B30)),$B$7:F30,5,FALSE)+INDEX($B$7:B30,MATCH(9.99999999999999E+307,$B$7:B30))),(VLOOKUP(INDEX($B$7:B30,MATCH(9.99999999999999E+307,$B$7:B30)),$B$7:F30,5,FALSE))+(INDEX($B$7:B30,MATCH(9.99999999999999E+307,$B$7:B30)))),\"\")","v":""},null,{"$f":"IF(D31<>\"\",IF(OR(B31<>\"\",INDIRECT(\"D32\")=0),D31,0),\"\")","v":""},"",null,{"$f":"IF(D31<>\"\",IF(AND(B31<>\"\",B30<>\"\"),$I$4+H30,VLOOKUP(INDEX($B$7:B30,MATCH(9.99999999999999E+307,$B$7:B30)),$B$7:H30,7,FALSE)+$I$4),\"\")","v":""},""]
[null,null,{"$f":"IF(D32<>\"\",IF(OR(B32<>\"\",INDIRECT(\"D33\")=0),IF(B31<>\"\",F31+B31,VLOOKUP(INDEX($B$7:B31,MATCH(9.99999999999999E+307,$B$7:B31)),$B$7:F31,5,FALSE)+INDEX($B$7:B31,MATCH(9.99999999999999E+307,$B$7:B31))),(VLOOKUP(INDEX($B$7:B31,MATCH(9.99999999999999E+307,$B$7:B31)),$B$7:F31,5,FALSE))+(INDEX($B$7:B31,MATCH(9.99999999999999E+307,$B$7:B31)))),\"\")","v":""},null,{"$f":"IF(D32<>\"\",IF(OR(B32<>\"\",INDIRECT(\"D33\")=0),D32,0),\"\")","v":""},"",null,{"$f":"IF(D32<>\"\",IF(AND(B32<>\"\",B31<>\"\"),$I$4+H31,VLOOKUP(INDEX($B$7:B31,MATCH(9.99999999999999E+307,$B$7:B31)),$B$7:H31,7,FALSE)+$I$4),\"\")","v":""},""]
[null,null,{"$f":"IF(D33<>\"\",IF(OR(B33<>\"\",INDIRECT(\"D34\")=0),IF(B32<>\"\",F32+B32,VLOOKUP(INDEX($B$7:B32,MATCH(9.99999999999999E+307,$B$7:B32)),$B$7:F32,5,FALSE)+INDEX($B$7:B32,MATCH(9.99999999999999E+307,$B$7:B32))),(VLOOKUP(INDEX($B$7:B32,MATCH(9.99999999999999E+307,$B$7:B32)),$B$7:F32,5,FALSE))+(INDEX($B$7:B32,MATCH(9.99999999999999E+307,$B$7:B32)))),\"\")","v":""},null,{"$f":"IF(D33<>\"\",IF(OR(B33<>\"\",INDIRECT(\"D34\")=0),D33,0),\"\")","v":""},"",null,{"$f":"IF(D33<>\"\",IF(AND(B33<>\"\",B32<>\"\"),$I$4+H32,VLOOKUP(INDEX($B$7:B32,MATCH(9.99999999999999E+307,$B$7:B32)),$B$7:H32,7,FALSE)+$I$4),\"\")","v":""},""]
[null,null,{"$f":"IF(D34<>\"\",IF(OR(B34<>\"\",INDIRECT(\"D35\")=0),IF(B33<>\"\",F33+B33,VLOOKUP(INDEX($B$7:B33,MATCH(9.99999999999999E+307,$B$7:B33)),$B$7:F33,5,FALSE)+INDEX($B$7:B33,MATCH(9.99999999999999E+307,$B$7:B33))),(VLOOKUP(INDEX($B$7:B33,MATCH(9.99999999999999E+307,$B$7:B33)),$B$7:F33,5,FALSE))+(INDEX($B$7:B33,MATCH(9.99999999999999E+307,$B$7:B33)))),\"\")","v":""},null,{"$f":"IF(D34<>\"\",IF(OR(B34<>\"\",INDIRECT(\"D35\")=0),D34,0),\"\")","v":""},"",null,{"$f":"IF(D34<>\"\",IF(AND(B34<>\"\",B33<>\"\"),$I$4+H33,VLOOKUP(INDEX($B$7:B33,MATCH(9.99999999999999E+307,$B$7:B33)),$B$7:H33,7,FALSE)+$I$4),\"\")","v":""},""]
[null,null,{"$f":"IF(D35<>\"\",IF(OR(B35<>\"\",INDIRECT(\"D36\")=0),IF(B34<>\"\",F34+B34,VLOOKUP(INDEX($B$7:B34,MATCH(9.99999999999999E+307,$B$7:B34)),$B$7:F34,5,FALSE)+INDEX($B$7:B34,MATCH(9.99999999999999E+307,$B$7:B34))),(VLOOKUP(INDEX($B$7:B34,MATCH(9.99999999999999E+307,$B$7:B34)),$B$7:F34,5,FALSE))+(INDEX($B$7:B34,MATCH(9.99999999999999E+307,$B$7:B34)))),\"\")","v":""},null,{"$f":"IF(D35<>\"\",IF(OR(B35<>\"\",INDIRECT(\"D36\")=0),D35,0),\"\")","v":""},"",null,{"$f":"IF(D35<>\"\",IF(AND(B35<>\"\",B34<>\"\"),$I$4+H34,VLOOKUP(INDEX($B$7:B34,MATCH(9.99999999999999E+307,$B$7:B34)),$B$7:H34,7,FALSE)+$I$4),\"\")","v":""},""]
[null,null,{"$f":"IF(D36<>\"\",IF(OR(B36<>\"\",INDIRECT(\"D37\")=0),IF(B35<>\"\",F35+B35,VLOOKUP(INDEX($B$7:B35,MATCH(9.99999999999999E+307,$B$7:B35)),$B$7:F35,5,FALSE)+INDEX($B$7:B35,MATCH(9.99999999999999E+307,$B$7:B35))),(VLOOKUP(INDEX($B$7:B35,MATCH(9.99999999999999E+307,$B$7:B35)),$B$7:F35,5,FALSE))+(INDEX($B$7:B35,MATCH(9.99999999999999E+307,$B$7:B35)))),\"\")","v":""},null,{"$f":"IF(D36<>\"\",IF(OR(B36<>\"\",INDIRECT(\"D37\")=0),D36,0),\"\")","v":""},"",null,{"$f":"IF(D36<>\"\",IF(AND(B36<>\"\",B35<>\"\"),$I$4+H35,VLOOKUP(INDEX($B$7:B35,MATCH(9.99999999999999E+307,$B$7:B35)),$B$7:H35,7,FALSE)+$I$4),\"\")","v":""},""]
[null,null,{"$f":"IF(D37<>\"\",IF(OR(B37<>\"\",INDIRECT(\"D38\")=0),IF(B36<>\"\",F36+B36,VLOOKUP(INDEX($B$7:B36,MATCH(9.99999999999999E+307,$B$7:B36)),$B$7:F36,5,FALSE)+INDEX($B$7:B36,MATCH(9.99999999999999E+307,$B$7:B36))),(VLOOKUP(INDEX($B$7:B36,MATCH(9.99999999999999E+307,$B$7:B36)),$B$7:F36,5,FALSE))+(INDEX($B$7:B36,MATCH(9.99999999999999E+307,$B$7:B36)))),\"\")","v":""},null,{"$f":"IF(D37<>\"\",IF(OR(B37<>\"\",INDIRECT(\"D38\")=0),D37,0),\"\")","v":""},"",null,{"$f":"IF(D37<>\"\",IF(AND(B37<>\"\",B36<>\"\"),$I$4+H36,VLOOKUP(INDEX($B$7:B36,MATCH(9.99999999999999E+307,$B$7:B36)),$B$7:H36,7,FALSE)+$I$4),\"\")","v":""},""]
[null,null,{"$f":"IF(D38<>\"\",IF(OR(B38<>\"\",INDIRECT(\"D39\")=0),IF(B37<>\"\",F37+B37,VLOOKUP(INDEX($B$7:B37,MATCH(9.99999999999999E+307,$B$7:B37)),$B$7:F37,5,FALSE)+INDEX($B$7:B37,MATCH(9.99999999999999E+307,$B$7:B37))),(VLOOKUP(INDEX($B$7:B37,MATCH(9.99999999999999E+307,$B$7:B37)),$B$7:F37,5,FALSE))+(INDEX($B$7:B37,MATCH(9.99999999999999E+307,$B$7:B37)))),\"\")","v":""},null,{"$f":"IF(D38<>\"\",IF(OR(B38<>\"\",INDIRECT(\"D39\")=0),D38,0),\"\")","v":""},"",null,{"$f":"IF(D38<>\"\",IF(AND(B38<>\"\",B37<>\"\"),$I$4+H37,VLOOKUP(INDEX($B$7:B37,MATCH(9.99999999999999E+307,$B$7:B37)),$B$7:H37,7,FALSE)+$I$4),\"\")","v":""},""]
[null,null,{"$f":"IF(D39<>\"\",IF(OR(B39<>\"\",INDIRECT(\"D40\")=0),IF(B38<>\"\",F38+B38,VLOOKUP(INDEX($B$7:B38,MATCH(9.99999999999999E+307,$B$7:B38)),$B$7:F38,5,FALSE)+INDEX($B$7:B38,MATCH(9.99999999999999E+307,$B$7:B38))),(VLOOKUP(INDEX($B$7:B38,MATCH(9.99999999999999E+307,$B$7:B38)),$B$7:F38,5,FALSE))+(INDEX($B$7:B38,MATCH(9.99999999999999E+307,$B$7:B38)))),\"\")","v":""},null,{"$f":"IF(D39<>\"\",IF(OR(B39<>\"\",INDIRECT(\"D40\")=0),D39,0),\"\")","v":""},"",null,{"$f":"IF(D39<>\"\",IF(AND(B39<>\"\",B38<>\"\"),$I$4+H38,VLOOKUP(INDEX($B$7:B38,MATCH(9.99999999999999E+307,$B$7:B38)),$B$7:H38,7,FALSE)+$I$4),\"\")","v":""},""]
[null,null,{"$f":"IF(D40<>\"\",IF(OR(B40<>\"\",INDIRECT(\"D41\")=0),IF(B39<>\"\",F39+B39,VLOOKUP(INDEX($B$7:B39,MATCH(9.99999999999999E+307,$B$7:B39)),$B$7:F39,5,FALSE)+INDEX($B$7:B39,MATCH(9.99999999999999E+307,$B$7:B39))),(VLOOKUP(INDEX($B$7:B39,MATCH(9.99999999999999E+307,$B$7:B39)),$B$7:F39,5,FALSE))+(INDEX($B$7:B39,MATCH(9.99999999999999E+307,$B$7:B39)))),\"\")","v":""},null,{"$f":"IF(D40<>\"\",IF(OR(B40<>\"\",INDIRECT(\"D41\")=0),D40,0),\"\")","v":""},"",null,{"$f":"IF(D40<>\"\",IF(AND(B40<>\"\",B39<>\"\"),$I$4+H39,VLOOKUP(INDEX($B$7:B39,MATCH(9.99999999999999E+307,$B$7:B39)),$B$7:H39,7,FALSE)+$I$4),\"\")","v":""},""]
[null,null,{"$f":"IF(D41<>\"\",IF(OR(B41<>\"\",INDIRECT(\"D42\")=0),IF(B40<>\"\",F40+B40,VLOOKUP(INDEX($B$7:B40,MATCH(9.99999999999999E+307,$B$7:B40)),$B$7:F40,5,FALSE)+INDEX($B$7:B40,MATCH(9.99999999999999E+307,$B$7:B40))),(VLOOKUP(INDEX($B$7:B40,MATCH(9.99999999999999E+307,$B$7:B40)),$B$7:F40,5,FALSE))+(INDEX($B$7:B40,MATCH(9.99999999999999E+307,$B$7:B40)))),\"\")","v":""},null,{"$f":"IF(D41<>\"\",IF(OR(B41<>\"\",INDIRECT(\"D42\")=0),D41,0),\"\")","v":""},"",null,{"$f":"IF(D41<>\"\",IF(AND(B41<>\"\",B40<>\"\"),$I$4+H40,VLOOKUP(INDEX($B$7:B40,MATCH(9.99999999999999E+307,$B$7:B40)),$B$7:H40,7,FALSE)+$I$4),\"\")","v":""},""]
[null,null,{"$f":"IF(D42<>\"\",IF(OR(B42<>\"\",INDIRECT(\"D43\")=0),IF(B41<>\"\",F41+B41,VLOOKUP(INDEX($B$7:B41,MATCH(9.99999999999999E+307,$B$7:B41)),$B$7:F41,5,FALSE)+INDEX($B$7:B41,MATCH(9.99999999999999E+307,$B$7:B41))),(VLOOKUP(INDEX($B$7:B41,MATCH(9.99999999999999E+307,$B$7:B41)),$B$7:F41,5,FALSE))+(INDEX($B$7:B41,MATCH(9.99999999999999E+307,$B$7:B41)))),\"\")","v":""},null,{"$f":"IF(D42<>\"\",IF(OR(B42<>\"\",INDIRECT(\"D43\")=0),D42,0),\"\")","v":""},"",null,{"$f":"IF(D42<>\"\",IF(AND(B42<>\"\",B41<>\"\"),$I$4+H41,VLOOKUP(INDEX($B$7:B41,MATCH(9.99999999999999E+307,$B$7:B41)),$B$7:H41,7,FALSE)+$I$4),\"\")","v":""},""]
[null,null,{"$f":"IF(D43<>\"\",IF(OR(B43<>\"\",INDIRECT(\"D44\")=0),IF(B42<>\"\",F42+B42,VLOOKUP(INDEX($B$7:B42,MATCH(9.99999999999999E+307,$B$7:B42)),$B$7:F42,5,FALSE)+INDEX($B$7:B42,MATCH(9.99999999999999E+307,$B$7:B42))),(VLOOKUP(INDEX($B$7:B42,MATCH(9.99999999999999E+307,$B$7:B42)),$B$7:F42,5,FALSE))+(INDEX($B$7:B42,MATCH(9.99999999999999E+307,$B$7:B42)))),\"\")","v":""},null,{"$f":"IF(D43<>\"\",IF(OR(B43<>\"\",INDIRECT(\"D44\")=0),D43,0),\"\")","v":""},"",null,{"$f":"IF(D43<>\"\",IF(AND(B43<>\"\",B42<>\"\"),$I$4+H42,VLOOKUP(INDEX($B$7:B42,MATCH(9.99999999999999E+307,$B$7:B42)),$B$7:H42,7,FALSE)+$I$4),\"\")","v":""},""]
[null,null,{"$f":"IF(D44<>\"\",IF(OR(B44<>\"\",INDIRECT(\"D45\")=0),IF(B43<>\"\",F43+B43,VLOOKUP(INDEX($B$7:B43,MATCH(9.99999999999999E+307,$B$7:B43)),$B$7:F43,5,FALSE)+INDEX($B$7:B43,MATCH(9.99999999999999E+307,$B$7:B43))),(VLOOKUP(INDEX($B$7:B43,MATCH(9.99999999999999E+307,$B$7:B43)),$B$7:F43,5,FALSE))+(INDEX($B$7:B43,MATCH(9.99999999999999E+307,$B$7:B43)))),\"\")","v":""},null,{"$f":"IF(D44<>\"\",IF(OR(B44<>\"\",INDIRECT(\"D45\")=0),D44,0),\"\")","v":""},"",null,{"$f":"IF(D44<>\"\",IF(AND(B44<>\"\",B43<>\"\"),$I$4+H43,VLOOKUP(INDEX($B$7:B43,MATCH(9.99999999999999E+307,$B$7:B43)),$B$7:H43,7,FALSE)+$I$4),\"\")","v":""},""]
[null,null,{"$f":"IF(D45<>\"\",IF(OR(B45<>\"\",INDIRECT(\"D46\")=0),IF(B44<>\"\",F44+B44,VLOOKUP(INDEX($B$7:B44,MATCH(9.99999999999999E+307,$B$7:B44)),$B$7:F44,5,FALSE)+INDEX($B$7:B44,MATCH(9.99999999999999E+307,$B$7:B44))),(VLOOKUP(INDEX($B$7:B44,MATCH(9.99999999999999E+307,$B$7:B44)),$B$7:F44,5,FALSE))+(INDEX($B$7:B44,MATCH(9.99999999999999E+307,$B$7:B44)))),\"\")","v":""},null,{"$f":"IF(D45<>\"\",IF(OR(B45<>\"\",INDIRECT(\"D46\")=0),D45,0),\"\")","v":""},"",null,{"$f":"IF(D45<>\"\",IF(AND(B45<>\"\",B44<>\"\"),$I$4+H44,VLOOKUP(INDEX($B$7:B44,MATCH(9.99999999999999E+307,$B$7:B44)),$B$7:H44,7,FALSE)+$I$4),\"\")","v":""},""]
[null,null,{"$f":"IF(D46<>\"\",IF(OR(B46<>\"\",INDIRECT(\"D47\")=0),IF(B45<>\"\",F45+B45,VLOOKUP(INDEX($B$7:B45,MATCH(9.99999999999999E+307,$B$7:B45)),$B$7:F45,5,FALSE)+INDEX($B$7:B45,MATCH(9.99999999999999E+307,$B$7:B45))),(VLOOKUP(INDEX($B$7:B45,MATCH(9.99999999999999E+307,$B$7:B45)),$B$7:F45,5,FALSE))+(INDEX($B$7:B45,MATCH(9.99999999999999E+307,$B$7:B45)))),\"\")","v":""},null,{"$f":"IF(D46<>\"\",IF(OR(B46<>\"\",INDIRECT(\"D47\")=0),D46,0),\"\")","v":""},"",null,{"$f":"IF(D46<>\"\",IF(AND(B46<>\"\",B45<>\"\"),$I$4+H45,VLOOKUP(INDEX($B$7:B45,MATCH(9.99999999999999E+307,$B$7:B45)),$B$7:H45,7,FALSE)+$I$4),\"\")","v":""},""]
[null,null,{"$f":"IF(D47<>\"\",IF(OR(B47<>\"\",INDIRECT(\"D48\")=0),IF(B46<>\"\",F46+B46,VLOOKUP(INDEX($B$7:B46,MATCH(9.99999999999999E+307,$B$7:B46)),$B$7:F46,5,FALSE)+INDEX($B$7:B46,MATCH(9.99999999999999E+307,$B$7:B46))),(VLOOKUP(INDEX($B$7:B46,MATCH(9.99999999999999E+307,$B$7:B46)),$B$7:F46,5,FALSE))+(INDEX($B$7:B46,MATCH(9.99999999999999E+307,$B$7:B46)))),\"\")","v":""},null,{"$f":"IF(D47<>\"\",IF(OR(B47<>\"\",INDIRECT(\"D48\")=0),D47,0),\"\")","v":""},"",null,{"$f":"IF(D47<>\"\",IF(AND(B47<>\"\",B46<>\"\"),$I$4+H46,VLOOKUP(INDEX($B$7:B46,MATCH(9.99999999999999E+307,$B$7:B46)),$B$7:H46,7,FALSE)+$I$4),\"\")","v":""},""]
[null,null,{"$f":"IF(D48<>\"\",IF(OR(B48<>\"\",INDIRECT(\"D49\")=0),IF(B47<>\"\",F47+B47,VLOOKUP(INDEX($B$7:B47,MATCH(9.99999999999999E+307,$B$7:B47)),$B$7:F47,5,FALSE)+INDEX($B$7:B47,MATCH(9.99999999999999E+307,$B$7:B47))),(VLOOKUP(INDEX($B$7:B47,MATCH(9.99999999999999E+307,$B$7:B47)),$B$7:F47,5,FALSE))+(INDEX($B$7:B47,MATCH(9.99999999999999E+307,$B$7:B47)))),\"\")","v":""},null,{"$f":"IF(D48<>\"\",IF(OR(B48<>\"\",INDIRECT(\"D49\")=0),D48,0),\"\")","v":""},"",null,{"$f":"IF(D48<>\"\",IF(AND(B48<>\"\",B47<>\"\"),$I$4+H47,VLOOKUP(INDEX($B$7:B47,MATCH(9.99999999999999E+307,$B$7:B47)),$B$7:H47,7,FALSE)+$I$4),\"\")","v":""},""]
[null,null,{"$f":"IF(D49<>\"\",IF(OR(B49<>\"\",INDIRECT(\"D50\")=0),IF(B48<>\"\",F48+B48,VLOOKUP(INDEX($B$7:B48,MATCH(9.99999999999999E+307,$B$7:B48)),$B$7:F48,5,FALSE)+INDEX($B$7:B48,MATCH(9.99999999999999E+307,$B$7:B48))),(VLOOKUP(INDEX($B$7:B48,MATCH(9.99999999999999E+307,$B$7:B48)),$B$7:F48,5,FALSE))+(INDEX($B$7:B48,MATCH(9.99999999999999E+307,$B$7:B48)))),\"\")","v":""},null,{"$f":"IF(D49<>\"\",IF(OR(B49<>\"\",INDIRECT(\"D50\")=0),D49,0),\"\")","v":""},"",null,{"$f":"IF(D49<>\"\",IF(AND(B49<>\"\",B48<>\"\"),$I$4+H48,VLOOKUP(INDEX($B$7:B48,MATCH(9.99999999999999E+307,$B$7:B48)),$B$7:H48,7,FALSE)+$I$4),\"\")","v":""},""]
[null,null,{"$f":"IF(D50<>\"\",IF(OR(B50<>\"\",INDIRECT(\"D51\")=0),IF(B49<>\"\",F49+B49,VLOOKUP(INDEX($B$7:B49,MATCH(9.99999999999999E+307,$B$7:B49)),$B$7:F49,5,FALSE)+INDEX($B$7:B49,MATCH(9.99999999999999E+307,$B$7:B49))),(VLOOKUP(INDEX($B$7:B49,MATCH(9.99999999999999E+307,$B$7:B49)),$B$7:F49,5,FALSE))+(INDEX($B$7:B49,MATCH(9.99999999999999E+307,$B$7:B49)))),\"\")","v":""},null,{"$f":"IF(D50<>\"\",IF(OR(B50<>\"\",INDIRECT(\"D51\")=0),D50,0),\"\")","v":""},"",null,{"$f":"IF(D50<>\"\",IF(AND(B50<>\"\",B49<>\"\"),$I$4+H49,VLOOKUP(INDEX($B$7:B49,MATCH(9.99999999999999E+307,$B$7:B49)),$B$7:H49,7,FALSE)+$I$4),\"\")","v":""},""]
[null,null,{"$f":"IF(D51<>\"\",IF(OR(B51<>\"\",INDIRECT(\"D52\")=0),IF(B50<>\"\",F50+B50,VLOOKUP(INDEX($B$7:B50,MATCH(9.99999999999999E+307,$B$7:B50)),$B$7:F50,5,FALSE)+INDEX($B$7:B50,MATCH(9.99999999999999E+307,$B$7:B50))),(VLOOKUP(INDEX($B$7:B50,MATCH(9.99999999999999E+307,$B$7:B50)),$B$7:F50,5,FALSE))+(INDEX($B$7:B50,MATCH(9.99999999999999E+307,$B$7:B50)))),\"\")","v":""},null,{"$f":"IF(D51<>\"\",IF(OR(B51<>\"\",INDIRECT(\"D52\")=0),D51,0),\"\")","v":""},"",null,{"$f":"IF(D51<>\"\",IF(AND(B51<>\"\",B50<>\"\"),$I$4+H50,VLOOKUP(INDEX($B$7:B50,MATCH(9.99999999999999E+307,$B$7:B50)),$B$7:H50,7,FALSE)+$I$4),\"\")","v":""},""]
[null,null,{"$f":"IF(D52<>\"\",IF(OR(B52<>\"\",INDIRECT(\"D53\")=0),IF(B51<>\"\",F51+B51,VLOOKUP(INDEX($B$7:B51,MATCH(9.99999999999999E+307,$B$7:B51)),$B$7:F51,5,FALSE)+INDEX($B$7:B51,MATCH(9.99999999999999E+307,$B$7:B51))),(VLOOKUP(INDEX($B$7:B51,MATCH(9.99999999999999E+307,$B$7:B51)),$B$7:F51,5,FALSE))+(INDEX($B$7:B51,MATCH(9.99999999999999E+307,$B$7:B51)))),\"\")","v":""},null,{"$f":"IF(D52<>\"\",IF(OR(B52<>\"\",INDIRECT(\"D53\")=0),D52,0),\"\")","v":""},"",null,{"$f":"IF(D52<>\"\",IF(AND(B52<>\"\",B51<>\"\"),$I$4+H51,VLOOKUP(INDEX($B$7:B51,MATCH(9.99999999999999E+307,$B$7:B51)),$B$7:H51,7,FALSE)+$I$4),\"\")","v":""},""]
[null,null,{"$f":"IF(D53<>\"\",IF(OR(B53<>\"\",INDIRECT(\"D54\")=0),IF(B52<>\"\",F52+B52,VLOOKUP(INDEX($B$7:B52,MATCH(9.99999999999999E+307,$B$7:B52)),$B$7:F52,5,FALSE)+INDEX($B$7:B52,MATCH(9.99999999999999E+307,$B$7:B52))),(VLOOKUP(INDEX($B$7:B52,MATCH(9.99999999999999E+307,$B$7:B52)),$B$7:F52,5,FALSE))+(INDEX($B$7:B52,MATCH(9.99999999999999E+307,$B$7:B52)))),\"\")","v":""},null,{"$f":"IF(D53<>\"\",IF(OR(B53<>\"\",INDIRECT(\"D54\")=0),D53,0),\"\")","v":""},"",null,{"$f":"IF(D53<>\"\",IF(AND(B53<>\"\",B52<>\"\"),$I$4+H52,VLOOKUP(INDEX($B$7:B52,MATCH(9.99999999999999E+307,$B$7:B52)),$B$7:H52,7,FALSE)+$I$4),\"\")","v":""},""]
[null,null,{"$f":"IF(D54<>\"\",IF(OR(B54<>\"\",INDIRECT(\"D55\")=0),IF(B53<>\"\",F53+B53,VLOOKUP(INDEX($B$7:B53,MATCH(9.99999999999999E+307,$B$7:B53)),$B$7:F53,5,FALSE)+INDEX($B$7:B53,MATCH(9.99999999999999E+307,$B$7:B53))),(VLOOKUP(INDEX($B$7:B53,MATCH(9.99999999999999E+307,$B$7:B53)),$B$7:F53,5,FALSE))+(INDEX($B$7:B53,MATCH(9.99999999999999E+307,$B$7:B53)))),\"\")","v":""},null,{"$f":"IF(D54<>\"\",IF(OR(B54<>\"\",INDIRECT(\"D55\")=0),D54,0),\"\")","v":""},"",null,{"$f":"IF(D54<>\"\",IF(AND(B54<>\"\",B53<>\"\"),$I$4+H53,VLOOKUP(INDEX($B$7:B53,MATCH(9.99999999999999E+307,$B$7:B53)),$B$7:H53,7,FALSE)+$I$4),\"\")","v":""},""]
[null,null,{"$f":"IF(D55<>\"\",IF(OR(B55<>\"\",INDIRECT(\"D56\")=0),IF(B54<>\"\",F54+B54,VLOOKUP(INDEX($B$7:B54,MATCH(9.99999999999999E+307,$B$7:B54)),$B$7:F54,5,FALSE)+INDEX($B$7:B54,MATCH(9.99999999999999E+307,$B$7:B54))),(VLOOKUP(INDEX($B$7:B54,MATCH(9.99999999999999E+307,$B$7:B54)),$B$7:F54,5,FALSE))+(INDEX($B$7:B54,MATCH(9.99999999999999E+307,$B$7:B54)))),\"\")","v":""},null,{"$f":"IF(D55<>\"\",IF(OR(B55<>\"\",INDIRECT(\"D56\")=0),D55,0),\"\")","v":""},"",null,{"$f":"IF(D55<>\"\",IF(AND(B55<>\"\",B54<>\"\"),$I$4+H54,VLOOKUP(INDEX($B$7:B54,MATCH(9.99999999999999E+307,$B$7:B54)),$B$7:H54,7,FALSE)+$I$4),\"\")","v":""},""]
[null,null,{"$f":"IF(D56<>\"\",IF(OR(B56<>\"\",INDIRECT(\"D57\")=0),IF(B55<>\"\",F55+B55,VLOOKUP(INDEX($B$7:B55,MATCH(9.99999999999999E+307,$B$7:B55)),$B$7:F55,5,FALSE)+INDEX($B$7:B55,MATCH(9.99999999999999E+307,$B$7:B55))),(VLOOKUP(INDEX($B$7:B55,MATCH(9.99999999999999E+307,$B$7:B55)),$B$7:F55,5,FALSE))+(INDEX($B$7:B55,MATCH(9.99999999999999E+307,$B$7:B55)))),\"\")","v":""},null,{"$f":"IF(D56<>\"\",IF(OR(B56<>\"\",INDIRECT(\"D57\")=0),D56,0),\"\")","v":""},"",null,{"$f":"IF(D56<>\"\",IF(AND(B56<>\"\",B55<>\"\"),$I$4+H55,VLOOKUP(INDEX($B$7:B55,MATCH(9.99999999999999E+307,$B$7:B55)),$B$7:H55,7,FALSE)+$I$4),\"\")","v":""},""]
[null,null,{"$f":"IF(D57<>\"\",IF(OR(B57<>\"\",INDIRECT(\"D58\")=0),IF(B56<>\"\",F56+B56,VLOOKUP(INDEX($B$7:B56,MATCH(9.99999999999999E+307,$B$7:B56)),$B$7:F56,5,FALSE)+INDEX($B$7:B56,MATCH(9.99999999999999E+307,$B$7:B56))),(VLOOKUP(INDEX($B$7:B56,MATCH(9.99999999999999E+307,$B$7:B56)),$B$7:F56,5,FALSE))+(INDEX($B$7:B56,MATCH(9.99999999999999E+307,$B$7:B56)))),\"\")","v":""},null,{"$f":"IF(D57<>\"\",IF(OR(B57<>\"\",INDIRECT(\"D58\")=0),D57,0),\"\")","v":""},"",null,{"$f":"IF(D57<>\"\",IF(AND(B57<>\"\",B56<>\"\"),$I$4+H56,VLOOKUP(INDEX($B$7:B56,MATCH(9.99999999999999E+307,$B$7:B56)),$B$7:H56,7,FALSE)+$I$4),\"\")","v":""},""]
[null,null,{"$f":"IF(D58<>\"\",IF(OR(B58<>\"\",INDIRECT(\"D59\")=0),IF(B57<>\"\",F57+B57,VLOOKUP(INDEX($B$7:B57,MATCH(9.99999999999999E+307,$B$7:B57)),$B$7:F57,5,FALSE)+INDEX($B$7:B57,MATCH(9.99999999999999E+307,$B$7:B57))),(VLOOKUP(INDEX($B$7:B57,MATCH(9.99999999999999E+307,$B$7:B57)),$B$7:F57,5,FALSE))+(INDEX($B$7:B57,MATCH(9.99999999999999E+307,$B$7:B57)))),\"\")","v":""},null,{"$f":"IF(D58<>\"\",IF(OR(B58<>\"\",INDIRECT(\"D59\")=0),D58,0),\"\")","v":""},"",null,{"$f":"IF(D58<>\"\",IF(AND(B58<>\"\",B57<>\"\"),$I$4+H57,VLOOKUP(INDEX($B$7:B57,MATCH(9.99999999999999E+307,$B$7:B57)),$B$7:H57,7,FALSE)+$I$4),\"\")","v":""},""]
[null,null,{"$f":"IF(D59<>\"\",IF(OR(B59<>\"\",INDIRECT(\"D60\")=0),IF(B58<>\"\",F58+B58,VLOOKUP(INDEX($B$7:B58,MATCH(9.99999999999999E+307,$B$7:B58)),$B$7:F58,5,FALSE)+INDEX($B$7:B58,MATCH(9.99999999999999E+307,$B$7:B58))),(VLOOKUP(INDEX($B$7:B58,MATCH(9.99999999999999E+307,$B$7:B58)),$B$7:F58,5,FALSE))+(INDEX($B$7:B58,MATCH(9.99999999999999E+307,$B$7:B58)))),\"\")","v":""},null,{"$f":"IF(D59<>\"\",IF(OR(B59<>\"\",INDIRECT(\"D60\")=0),D59,0),\"\")","v":""},"",null,{"$f":"IF(D59<>\"\",IF(AND(B59<>\"\",B58<>\"\"),$I$4+H58,VLOOKUP(INDEX($B$7:B58,MATCH(9.99999999999999E+307,$B$7:B58)),$B$7:H58,7,FALSE)+$I$4),\"\")","v":""},""]
[null,null,{"$f":"IF(D60<>\"\",IF(OR(B60<>\"\",INDIRECT(\"D61\")=0),IF(B59<>\"\",F59+B59,VLOOKUP(INDEX($B$7:B59,MATCH(9.99999999999999E+307,$B$7:B59)),$B$7:F59,5,FALSE)+INDEX($B$7:B59,MATCH(9.99999999999999E+307,$B$7:B59))),(VLOOKUP(INDEX($B$7:B59,MATCH(9.99999999999999E+307,$B$7:B59)),$B$7:F59,5,FALSE))+(INDEX($B$7:B59,MATCH(9.99999999999999E+307,$B$7:B59)))),\"\")","v":""},null,{"$f":"IF(D60<>\"\",IF(OR(B60<>\"\",INDIRECT(\"D61\")=0),D60,0),\"\")","v":""},"",null,{"$f":"IF(D60<>\"\",IF(AND(B60<>\"\",B59<>\"\"),$I$4+H59,VLOOKUP(INDEX($B$7:B59,MATCH(9.99999999999999E+307,$B$7:B59)),$B$7:H59,7,FALSE)+$I$4),\"\")","v":""},""]
[null,null,{"$f":"IF(D61<>\"\",IF(OR(B61<>\"\",INDIRECT(\"D62\")=0),IF(B60<>\"\",F60+B60,VLOOKUP(INDEX($B$7:B60,MATCH(9.99999999999999E+307,$B$7:B60)),$B$7:F60,5,FALSE)+INDEX($B$7:B60,MATCH(9.99999999999999E+307,$B$7:B60))),(VLOOKUP(INDEX($B$7:B60,MATCH(9.99999999999999E+307,$B$7:B60)),$B$7:F60,5,FALSE))+(INDEX($B$7:B60,MATCH(9.99999999999999E+307,$B$7:B60)))),\"\")","v":""},null,{"$f":"IF(D61<>\"\",IF(OR(B61<>\"\",INDIRECT(\"D62\")=0),D61,0),\"\")","v":""},"",null,{"$f":"IF(D61<>\"\",IF(AND(B61<>\"\",B60<>\"\"),$I$4+H60,VLOOKUP(INDEX($B$7:B60,MATCH(9.99999999999999E+307,$B$7:B60)),$B$7:H60,7,FALSE)+$I$4),\"\")","v":""},""]
[null,null,{"$f":"IF(D62<>\"\",IF(OR(B62<>\"\",INDIRECT(\"D63\")=0),IF(B61<>\"\",F61+B61,VLOOKUP(INDEX($B$7:B61,MATCH(9.99999999999999E+307,$B$7:B61)),$B$7:F61,5,FALSE)+INDEX($B$7:B61,MATCH(9.99999999999999E+307,$B$7:B61))),(VLOOKUP(INDEX($B$7:B61,MATCH(9.99999999999999E+307,$B$7:B61)),$B$7:F61,5,FALSE))+(INDEX($B$7:B61,MATCH(9.99999999999999E+307,$B$7:B61)))),\"\")","v":""},null,{"$f":"IF(D62<>\"\",IF(OR(B62<>\"\",INDIRECT(\"D63\")=0),D62,0),\"\")","v":""},"",null,{"$f":"IF(D62<>\"\",IF(AND(B62<>\"\",B61<>\"\"),$I$4+H61,VLOOKUP(INDEX($B$7:B61,MATCH(9.99999999999999E+307,$B$7:B61)),$B$7:H61,7,FALSE)+$I$4),\"\")","v":""},""]
[null,null,{"$f":"IF(D63<>\"\",IF(OR(B63<>\"\",INDIRECT(\"D64\")=0),IF(B62<>\"\",F62+B62,VLOOKUP(INDEX($B$7:B62,MATCH(9.99999999999999E+307,$B$7:B62)),$B$7:F62,5,FALSE)+INDEX($B$7:B62,MATCH(9.99999999999999E+307,$B$7:B62))),(VLOOKUP(INDEX($B$7:B62,MATCH(9.99999999999999E+307,$B$7:B62)),$B$7:F62,5,FALSE))+(INDEX($B$7:B62,MATCH(9.99999999999999E+307,$B$7:B62)))),\"\")","v":""},null,{"$f":"IF(D63<>\"\",IF(OR(B63<>\"\",INDIRECT(\"D64\")=0),D63,0),\"\")","v":""},"",null,{"$f":"IF(D63<>\"\",IF(AND(B63<>\"\",B62<>\"\"),$I$4+H62,VLOOKUP(INDEX($B$7:B62,MATCH(9.99999999999999E+307,$B$7:B62)),$B$7:H62,7,FALSE)+$I$4),\"\")","v":""},""]
[null,null,{"$f":"IF(D64<>\"\",IF(OR(B64<>\"\",INDIRECT(\"D65\")=0),IF(B63<>\"\",F63+B63,VLOOKUP(INDEX($B$7:B63,MATCH(9.99999999999999E+307,$B$7:B63)),$B$7:F63,5,FALSE)+INDEX($B$7:B63,MATCH(9.99999999999999E+307,$B$7:B63))),(VLOOKUP(INDEX($B$7:B63,MATCH(9.99999999999999E+307,$B$7:B63)),$B$7:F63,5,FALSE))+(INDEX($B$7:B63,MATCH(9.99999999999999E+307,$B$7:B63)))),\"\")","v":""},null,{"$f":"IF(D64<>\"\",IF(OR(B64<>\"\",INDIRECT(\"D65\")=0),D64,0),\"\")","v":""},"",null,{"$f":"IF(D64<>\"\",IF(AND(B64<>\"\",B63<>\"\"),$I$4+H63,VLOOKUP(INDEX($B$7:B63,MATCH(9.99999999999999E+307,$B$7:B63)),$B$7:H63,7,FALSE)+$I$4),\"\")","v":""},""]
[null,null,{"$f":"IF(D65<>\"\",IF(OR(B65<>\"\",INDIRECT(\"D66\")=0),IF(B64<>\"\",F64+B64,VLOOKUP(INDEX($B$7:B64,MATCH(9.99999999999999E+307,$B$7:B64)),$B$7:F64,5,FALSE)+INDEX($B$7:B64,MATCH(9.99999999999999E+307,$B$7:B64))),(VLOOKUP(INDEX($B$7:B64,MATCH(9.99999999999999E+307,$B$7:B64)),$B$7:F64,5,FALSE))+(INDEX($B$7:B64,MATCH(9.99999999999999E+307,$B$7:B64)))),\"\")","v":""},null,{"$f":"IF(D65<>\"\",IF(OR(B65<>\"\",INDIRECT(\"D66\")=0),D65,0),\"\")","v":""},"",null,{"$f":"IF(D65<>\"\",IF(AND(B65<>\"\",B64<>\"\"),$I$4+H64,VLOOKUP(INDEX($B$7:B64,MATCH(9.99999999999999E+307,$B$7:B64)),$B$7:H64,7,FALSE)+$I$4),\"\")","v":""},""]
[null,null,{"$f":"IF(D66<>\"\",IF(OR(B66<>\"\",INDIRECT(\"D67\")=0),IF(B65<>\"\",F65+B65,VLOOKUP(INDEX($B$7:B65,MATCH(9.99999999999999E+307,$B$7:B65)),$B$7:F65,5,FALSE)+INDEX($B$7:B65,MATCH(9.99999999999999E+307,$B$7:B65))),(VLOOKUP(INDEX($B$7:B65,MATCH(9.99999999999999E+307,$B$7:B65)),$B$7:F65,5,FALSE))+(INDEX($B$7:B65,MATCH(9.99999999999999E+307,$B$7:B65)))),\"\")","v":""},null,{"$f":"IF(D66<>\"\",IF(OR(B66<>\"\",INDIRECT(\"D67\")=0),D66,0),\"\")","v":""},"",null,{"$f":"IF(D66<>\"\",IF(AND(B66<>\"\",B65<>\"\"),$I$4+H65,VLOOKUP(INDEX($B$7:B65,MATCH(9.99999999999999E+307,$B$7:B65)),$B$7:H65,7,FALSE)+$I$4),\"\")","v":""},""]
[null,null,{"$f":"IF(D67<>\"\",IF(OR(B67<>\"\",INDIRECT(\"D68\")=0),IF(B66<>\"\",F66+B66,VLOOKUP(INDEX($B$7:B66,MATCH(9.99999999999999E+307,$B$7:B66)),$B$7:F66,5,FALSE)+INDEX($B$7:B66,MATCH(9.99999999999999E+307,$B$7:B66))),(VLOOKUP(INDEX($B$7:B66,MATCH(9.99999999999999E+307,$B$7:B66)),$B$7:F66,5,FALSE))+(INDEX($B$7:B66,MATCH(9.99999999999999E+307,$B$7:B66)))),\"\")","v":""},null,{"$f":"IF(D67<>\"\",IF(OR(B67<>\"\",INDIRECT(\"D68\")=0),D67,0),\"\")","v":""},"",null,{"$f":"IF(D67<>\"\",IF(AND(B67<>\"\",B66<>\"\"),$I$4+H66,VLOOKUP(INDEX($B$7:B66,MATCH(9.99999999999999E+307,$B$7:B66)),$B$7:H66,7,FALSE)+$I$4),\"\")","v":""},""]
[null,null,{"$f":"IF(D68<>\"\",IF(OR(B68<>\"\",INDIRECT(\"D69\")=0),IF(B67<>\"\",F67+B67,VLOOKUP(INDEX($B$7:B67,MATCH(9.99999999999999E+307,$B$7:B67)),$B$7:F67,5,FALSE)+INDEX($B$7:B67,MATCH(9.99999999999999E+307,$B$7:B67))),(VLOOKUP(INDEX($B$7:B67,MATCH(9.99999999999999E+307,$B$7:B67)),$B$7:F67,5,FALSE))+(INDEX($B$7:B67,MATCH(9.99999999999999E+307,$B$7:B67)))),\"\")","v":""},null,{"$f":"IF(D68<>\"\",IF(OR(B68<>\"\",INDIRECT(\"D69\")=0),D68,0),\"\")","v":""},"",null,{"$f":"IF(D68<>\"\",IF(AND(B68<>\"\",B67<>\"\"),$I$4+H67,VLOOKUP(INDEX($B$7:B67,MATCH(9.99999999999999E+307,$B$7:B67)),$B$7:H67,7,FALSE)+$I$4),\"\")","v":""},""]
[null,null,{"$f":"IF(D69<>\"\",IF(OR(B69<>\"\",INDIRECT(\"D70\")=0),IF(B68<>\"\",F68+B68,VLOOKUP(INDEX($B$7:B68,MATCH(9.99999999999999E+307,$B$7:B68)),$B$7:F68,5,FALSE)+INDEX($B$7:B68,MATCH(9.99999999999999E+307,$B$7:B68))),(VLOOKUP(INDEX($B$7:B68,MATCH(9.99999999999999E+307,$B$7:B68)),$B$7:F68,5,FALSE))+(INDEX($B$7:B68,MATCH(9.99999999999999E+307,$B$7:B68)))),\"\")","v":""},null,{"$f":"IF(D69<>\"\",IF(OR(B69<>\"\",INDIRECT(\"D70\")=0),D69,0),\"\")","v":""},"",null,{"$f":"IF(D69<>\"\",IF(AND(B69<>\"\",B68<>\"\"),$I$4+H68,VLOOKUP(INDEX($B$7:B68,MATCH(9.99999999999999E+307,$B$7:B68)),$B$7:H68,7,FALSE)+$I$4),\"\")","v":""},""]
[null,null,{"$f":"IF(D70<>\"\",IF(OR(B70<>\"\",INDIRECT(\"D71\")=0),IF(B69<>\"\",F69+B69,VLOOKUP(INDEX($B$7:B69,MATCH(9.99999999999999E+307,$B$7:B69)),$B$7:F69,5,FALSE)+INDEX($B$7:B69,MATCH(9.99999999999999E+307,$B$7:B69))),(VLOOKUP(INDEX($B$7:B69,MATCH(9.99999999999999E+307,$B$7:B69)),$B$7:F69,5,FALSE))+(INDEX($B$7:B69,MATCH(9.99999999999999E+307,$B$7:B69)))),\"\")","v":""},null,{"$f":"IF(D70<>\"\",IF(OR(B70<>\"\",INDIRECT(\"D71\")=0),D70,0),\"\")","v":""},"",null,{"$f":"IF(D70<>\"\",IF(AND(B70<>\"\",B69<>\"\"),$I$4+H69,VLOOKUP(INDEX($B$7:B69,MATCH(9.99999999999999E+307,$B$7:B69)),$B$7:H69,7,FALSE)+$I$4),\"\")","v":""},""]
[null,null,{"$f":"IF(D71<>\"\",IF(OR(B71<>\"\",INDIRECT(\"D72\")=0),IF(B70<>\"\",F70+B70,VLOOKUP(INDEX($B$7:B70,MATCH(9.99999999999999E+307,$B$7:B70)),$B$7:F70,5,FALSE)+INDEX($B$7:B70,MATCH(9.99999999999999E+307,$B$7:B70))),(VLOOKUP(INDEX($B$7:B70,MATCH(9.99999999999999E+307,$B$7:B70)),$B$7:F70,5,FALSE))+(INDEX($B$7:B70,MATCH(9.99999999999999E+307,$B$7:B70)))),\"\")","v":""},null,{"$f":"IF(D71<>\"\",IF(OR(B71<>\"\",INDIRECT(\"D72\")=0),D71,0),\"\")","v":""},"",null,{"$f":"IF(D71<>\"\",IF(AND(B71<>\"\",B70<>\"\"),$I$4+H70,VLOOKUP(INDEX($B$7:B70,MATCH(9.99999999999999E+307,$B$7:B70)),$B$7:H70,7,FALSE)+$I$4),\"\")","v":""},""]
[null,null,{"$f":"IF(D72<>\"\",IF(OR(B72<>\"\",INDIRECT(\"D73\")=0),IF(B71<>\"\",F71+B71,VLOOKUP(INDEX($B$7:B71,MATCH(9.99999999999999E+307,$B$7:B71)),$B$7:F71,5,FALSE)+INDEX($B$7:B71,MATCH(9.99999999999999E+307,$B$7:B71))),(VLOOKUP(INDEX($B$7:B71,MATCH(9.99999999999999E+307,$B$7:B71)),$B$7:F71,5,FALSE))+(INDEX($B$7:B71,MATCH(9.99999999999999E+307,$B$7:B71)))),\"\")","v":""},null,{"$f":"IF(D72<>\"\",IF(OR(B72<>\"\",INDIRECT(\"D73\")=0),D72,0),\"\")","v":""},"",null,{"$f":"IF(D72<>\"\",IF(AND(B72<>\"\",B71<>\"\"),$I$4+H71,VLOOKUP(INDEX($B$7:B71,MATCH(9.99999999999999E+307,$B$7:B71)),$B$7:H71,7,FALSE)+$I$4),\"\")","v":""},""]
[null,null,{"$f":"IF(D73<>\"\",IF(OR(B73<>\"\",INDIRECT(\"D74\")=0),IF(B72<>\"\",F72+B72,VLOOKUP(INDEX($B$7:B72,MATCH(9.99999999999999E+307,$B$7:B72)),$B$7:F72,5,FALSE)+INDEX($B$7:B72,MATCH(9.99999999999999E+307,$B$7:B72))),(VLOOKUP(INDEX($B$7:B72,MATCH(9.99999999999999E+307,$B$7:B72)),$B$7:F72,5,FALSE))+(INDEX($B$7:B72,MATCH(9.99999999999999E+307,$B$7:B72)))),\"\")","v":""},null,{"$f":"IF(D73<>\"\",IF(OR(B73<>\"\",INDIRECT(\"D74\")=0),D73,0),\"\")","v":""},{"$f":"IF(D73<>\"\",C73-D73,\"\")","v":""},null,{"$f":"IF(D73<>\"\",IF(AND(B73<>\"\",B72<>\"\"),$I$4+H72,VLOOKUP(INDEX($B$7:B72,MATCH(9.99999999999999E+307,$B$7:B72)),$B$7:H72,7,FALSE)+$I$4),\"\")","v":""},{"$f":"IF(D73<>\"\",(F73+H73),\"\")","v":""}]
[null,null,{"$f":"IF(D74<>\"\",IF(OR(B74<>\"\",INDIRECT(\"D75\")=0),IF(B73<>\"\",F73+B73,VLOOKUP(INDEX($B$7:B73,MATCH(9.99999999999999E+307,$B$7:B73)),$B$7:F73,5,FALSE)+INDEX($B$7:B73,MATCH(9.99999999999999E+307,$B$7:B73))),(VLOOKUP(INDEX($B$7:B73,MATCH(9.99999999999999E+307,$B$7:B73)),$B$7:F73,5,FALSE))+(INDEX($B$7:B73,MATCH(9.99999999999999E+307,$B$7:B73)))),\"\")","v":""},null,{"$f":"IF(D74<>\"\",IF(OR(B74<>\"\",INDIRECT(\"D75\")=0),D74,0),\"\")","v":""},"",null,{"$f":"IF(D74<>\"\",IF(AND(B74<>\"\",B73<>\"\"),$I$4+H73,VLOOKUP(INDEX($B$7:B73,MATCH(9.99999999999999E+307,$B$7:B73)),$B$7:H73,7,FALSE)+$I$4),\"\")","v":""},""]
[null,null,{"$f":"IF(D75<>\"\",IF(OR(B75<>\"\",INDIRECT(\"D76\")=0),IF(B74<>\"\",F74+B74,VLOOKUP(INDEX($B$7:B74,MATCH(9.99999999999999E+307,$B$7:B74)),$B$7:F74,5,FALSE)+INDEX($B$7:B74,MATCH(9.99999999999999E+307,$B$7:B74))),(VLOOKUP(INDEX($B$7:B74,MATCH(9.99999999999999E+307,$B$7:B74)),$B$7:F74,5,FALSE))+(INDEX($B$7:B74,MATCH(9.99999999999999E+307,$B$7:B74)))),\"\")","v":""},null,{"$f":"IF(D75<>\"\",IF(OR(B75<>\"\",INDIRECT(\"D76\")=0),D75,0),\"\")","v":""},"",null,{"$f":"IF(D75<>\"\",IF(AND(B75<>\"\",B74<>\"\"),$I$4+H74,VLOOKUP(INDEX($B$7:B74,MATCH(9.99999999999999E+307,$B$7:B74)),$B$7:H74,7,FALSE)+$I$4),\"\")","v":""},""]
[null,null,{"$f":"IF(D76<>\"\",IF(OR(B76<>\"\",INDIRECT(\"D77\")=0),IF(B75<>\"\",F75+B75,VLOOKUP(INDEX($B$7:B75,MATCH(9.99999999999999E+307,$B$7:B75)),$B$7:F75,5,FALSE)+INDEX($B$7:B75,MATCH(9.99999999999999E+307,$B$7:B75))),(VLOOKUP(INDEX($B$7:B75,MATCH(9.99999999999999E+307,$B$7:B75)),$B$7:F75,5,FALSE))+(INDEX($B$7:B75,MATCH(9.99999999999999E+307,$B$7:B75)))),\"\")","v":""},null,{"$f":"IF(D76<>\"\",IF(OR(B76<>\"\",INDIRECT(\"D77\")=0),D76,0),\"\")","v":""},"",null,{"$f":"IF(D76<>\"\",IF(AND(B76<>\"\",B75<>\"\"),$I$4+H75,VLOOKUP(INDEX($B$7:B75,MATCH(9.99999999999999E+307,$B$7:B75)),$B$7:H75,7,FALSE)+$I$4),\"\")","v":""},""]
[null,null,{"$f":"IF(D77<>\"\",IF(OR(B77<>\"\",INDIRECT(\"D78\")=0),IF(B76<>\"\",F76+B76,VLOOKUP(INDEX($B$7:B76,MATCH(9.99999999999999E+307,$B$7:B76)),$B$7:F76,5,FALSE)+INDEX($B$7:B76,MATCH(9.99999999999999E+307,$B$7:B76))),(VLOOKUP(INDEX($B$7:B76,MATCH(9.99999999999999E+307,$B$7:B76)),$B$7:F76,5,FALSE))+(INDEX($B$7:B76,MATCH(9.99999999999999E+307,$B$7:B76)))),\"\")","v":""},null,{"$f":"IF(D77<>\"\",IF(OR(B77<>\"\",INDIRECT(\"D78\")=0),D77,0),\"\")","v":""},"",null,{"$f":"IF(D77<>\"\",IF(AND(B77<>\"\",B76<>\"\"),$I$4+H76,VLOOKUP(INDEX($B$7:B76,MATCH(9.99999999999999E+307,$B$7:B76)),$B$7:H76,7,FALSE)+$I$4),\"\")","v":""},""]
[null,null,{"$f":"IF(D78<>\"\",IF(OR(B78<>\"\",INDIRECT(\"D79\")=0),IF(B77<>\"\",F77+B77,VLOOKUP(INDEX($B$7:B77,MATCH(9.99999999999999E+307,$B$7:B77)),$B$7:F77,5,FALSE)+INDEX($B$7:B77,MATCH(9.99999999999999E+307,$B$7:B77))),(VLOOKUP(INDEX($B$7:B77,MATCH(9.99999999999999E+307,$B$7:B77)),$B$7:F77,5,FALSE))+(INDEX($B$7:B77,MATCH(9.99999999999999E+307,$B$7:B77)))),\"\")","v":""},null,{"$f":"IF(D78<>\"\",IF(OR(B78<>\"\",INDIRECT(\"D79\")=0),D78,0),\"\")","v":""},"",null,{"$f":"IF(D78<>\"\",IF(AND(B78<>\"\",B77<>\"\"),$I$4+H77,VLOOKUP(INDEX($B$7:B77,MATCH(9.99999999999999E+307,$B$7:B77)),$B$7:H77,7,FALSE)+$I$4),\"\")","v":""},""]
[null,null,{"$f":"IF(D79<>\"\",IF(OR(B79<>\"\",INDIRECT(\"D80\")=0),IF(B78<>\"\",F78+B78,VLOOKUP(INDEX($B$7:B78,MATCH(9.99999999999999E+307,$B$7:B78)),$B$7:F78,5,FALSE)+INDEX($B$7:B78,MATCH(9.99999999999999E+307,$B$7:B78))),(VLOOKUP(INDEX($B$7:B78,MATCH(9.99999999999999E+307,$B$7:B78)),$B$7:F78,5,FALSE))+(INDEX($B$7:B78,MATCH(9.99999999999999E+307,$B$7:B78)))),\"\")","v":""},null,{"$f":"IF(D79<>\"\",IF(OR(B79<>\"\",INDIRECT(\"D80\")=0),D79,0),\"\")","v":""},"",null,{"$f":"IF(D79<>\"\",IF(AND(B79<>\"\",B78<>\"\"),$I$4+H78,VLOOKUP(INDEX($B$7:B78,MATCH(9.99999999999999E+307,$B$7:B78)),$B$7:H78,7,FALSE)+$I$4),\"\")","v":""},""]
[null,null,{"$f":"IF(D80<>\"\",IF(OR(B80<>\"\",INDIRECT(\"D81\")=0),IF(B79<>\"\",F79+B79,VLOOKUP(INDEX($B$7:B79,MATCH(9.99999999999999E+307,$B$7:B79)),$B$7:F79,5,FALSE)+INDEX($B$7:B79,MATCH(9.99999999999999E+307,$B$7:B79))),(VLOOKUP(INDEX($B$7:B79,MATCH(9.99999999999999E+307,$B$7:B79)),$B$7:F79,5,FALSE))+(INDEX($B$7:B79,MATCH(9.99999999999999E+307,$B$7:B79)))),\"\")","v":""},null,{"$f":"IF(D80<>\"\",IF(OR(B80<>\"\",INDIRECT(\"D81\")=0),D80,0),\"\")","v":""},"",null,{"$f":"IF(D80<>\"\",IF(AND(B80<>\"\",B79<>\"\"),$I$4+H79,VLOOKUP(INDEX($B$7:B79,MATCH(9.99999999999999E+307,$B$7:B79)),$B$7:H79,7,FALSE)+$I$4),\"\")","v":""},""]
[null,null,{"$f":"IF(D81<>\"\",IF(OR(B81<>\"\",INDIRECT(\"D82\")=0),IF(B80<>\"\",F80+B80,VLOOKUP(INDEX($B$7:B80,MATCH(9.99999999999999E+307,$B$7:B80)),$B$7:F80,5,FALSE)+INDEX($B$7:B80,MATCH(9.99999999999999E+307,$B$7:B80))),(VLOOKUP(INDEX($B$7:B80,MATCH(9.99999999999999E+307,$B$7:B80)),$B$7:F80,5,FALSE))+(INDEX($B$7:B80,MATCH(9.99999999999999E+307,$B$7:B80)))),\"\")","v":""},null,{"$f":"IF(D81<>\"\",IF(OR(B81<>\"\",INDIRECT(\"D82\")=0),D81,0),\"\")","v":""},"",null,{"$f":"IF(D81<>\"\",IF(AND(B81<>\"\",B80<>\"\"),$I$4+H80,VLOOKUP(INDEX($B$7:B80,MATCH(9.99999999999999E+307,$B$7:B80)),$B$7:H80,7,FALSE)+$I$4),\"\")","v":""},""]
[null,null,{"$f":"IF(D82<>\"\",IF(OR(B82<>\"\",INDIRECT(\"D83\")=0),IF(B81<>\"\",F81+B81,VLOOKUP(INDEX($B$7:B81,MATCH(9.99999999999999E+307,$B$7:B81)),$B$7:F81,5,FALSE)+INDEX($B$7:B81,MATCH(9.99999999999999E+307,$B$7:B81))),(VLOOKUP(INDEX($B$7:B81,MATCH(9.99999999999999E+307,$B$7:B81)),$B$7:F81,5,FALSE))+(INDEX($B$7:B81,MATCH(9.99999999999999E+307,$B$7:B81)))),\"\")","v":""},null,{"$f":"IF(D82<>\"\",IF(OR(B82<>\"\",INDIRECT(\"D83\")=0),D82,0),\"\")","v":""},"",null,{"$f":"IF(D82<>\"\",IF(AND(B82<>\"\",B81<>\"\"),$I$4+H81,VLOOKUP(INDEX($B$7:B81,MATCH(9.99999999999999E+307,$B$7:B81)),$B$7:H81,7,FALSE)+$I$4),\"\")","v":""},""]
[null,null,{"$f":"IF(D83<>\"\",IF(OR(B83<>\"\",INDIRECT(\"D84\")=0),IF(B82<>\"\",F82+B82,VLOOKUP(INDEX($B$7:B82,MATCH(9.99999999999999E+307,$B$7:B82)),$B$7:F82,5,FALSE)+INDEX($B$7:B82,MATCH(9.99999999999999E+307,$B$7:B82))),(VLOOKUP(INDEX($B$7:B82,MATCH(9.99999999999999E+307,$B$7:B82)),$B$7:F82,5,FALSE))+(INDEX($B$7:B82,MATCH(9.99999999999999E+307,$B$7:B82)))),\"\")","v":""},null,{"$f":"IF(D83<>\"\",IF(OR(B83<>\"\",INDIRECT(\"D84\")=0),D83,0),\"\")","v":""},"",null,{"$f":"IF(D83<>\"\",IF(AND(B83<>\"\",B82<>\"\"),$I$4+H82,VLOOKUP(INDEX($B$7:B82,MATCH(9.99999999999999E+307,$B$7:B82)),$B$7:H82,7,FALSE)+$I$4),\"\")","v":""},""]
[null,null,{"$f":"IF(D84<>\"\",IF(OR(B84<>\"\",INDIRECT(\"D85\")=0),IF(B83<>\"\",F83+B83,VLOOKUP(INDEX($B$7:B83,MATCH(9.99999999999999E+307,$B$7:B83)),$B$7:F83,5,FALSE)+INDEX($B$7:B83,MATCH(9.99999999999999E+307,$B$7:B83))),(VLOOKUP(INDEX($B$7:B83,MATCH(9.99999999999999E+307,$B$7:B83)),$B$7:F83,5,FALSE))+(INDEX($B$7:B83,MATCH(9.99999999999999E+307,$B$7:B83)))),\"\")","v":""},null,{"$f":"IF(D84<>\"\",IF(OR(B84<>\"\",INDIRECT(\"D85\")=0),D84,0),\"\")","v":""},"",null,{"$f":"IF(D84<>\"\",IF(AND(B84<>\"\",B83<>\"\"),$I$4+H83,VLOOKUP(INDEX($B$7:B83,MATCH(9.99999999999999E+307,$B$7:B83)),$B$7:H83,7,FALSE)+$I$4),\"\")","v":""},""]
[null,null,{"$f":"IF(D85<>\"\",IF(OR(B85<>\"\",INDIRECT(\"D86\")=0),IF(B84<>\"\",F84+B84,VLOOKUP(INDEX($B$7:B84,MATCH(9.99999999999999E+307,$B$7:B84)),$B$7:F84,5,FALSE)+INDEX($B$7:B84,MATCH(9.99999999999999E+307,$B$7:B84))),(VLOOKUP(INDEX($B$7:B84,MATCH(9.99999999999999E+307,$B$7:B84)),$B$7:F84,5,FALSE))+(INDEX($B$7:B84,MATCH(9.99999999999999E+307,$B$7:B84)))),\"\")","v":""},null,{"$f":"IF(D85<>\"\",IF(OR(B85<>\"\",INDIRECT(\"D86\")=0),D85,0),\"\")","v":""},"",null,{"$f":"IF(D85<>\"\",IF(AND(B85<>\"\",B84<>\"\"),$I$4+H84,VLOOKUP(INDEX($B$7:B84,MATCH(9.99999999999999E+307,$B$7:B84)),$B$7:H84,7,FALSE)+$I$4),\"\")","v":""},""]
[null,null,{"$f":"IF(D86<>\"\",IF(OR(B86<>\"\",INDIRECT(\"D87\")=0),IF(B85<>\"\",F85+B85,VLOOKUP(INDEX($B$7:B85,MATCH(9.99999999999999E+307,$B$7:B85)),$B$7:F85,5,FALSE)+INDEX($B$7:B85,MATCH(9.99999999999999E+307,$B$7:B85))),(VLOOKUP(INDEX($B$7:B85,MATCH(9.99999999999999E+307,$B$7:B85)),$B$7:F85,5,FALSE))+(INDEX($B$7:B85,MATCH(9.99999999999999E+307,$B$7:B85)))),\"\")","v":""},null,{"$f":"IF(D86<>\"\",IF(OR(B86<>\"\",INDIRECT(\"D87\")=0),D86,0),\"\")","v":""},"",null,{"$f":"IF(D86<>\"\",IF(AND(B86<>\"\",B85<>\"\"),$I$4+H85,VLOOKUP(INDEX($B$7:B85,MATCH(9.99999999999999E+307,$B$7:B85)),$B$7:H85,7,FALSE)+$I$4),\"\")","v":""},""]
[null,null,{"$f":"IF(D87<>\"\",IF(OR(B87<>\"\",INDIRECT(\"D88\")=0),IF(B86<>\"\",F86+B86,VLOOKUP(INDEX($B$7:B86,MATCH(9.99999999999999E+307,$B$7:B86)),$B$7:F86,5,FALSE)+INDEX($B$7:B86,MATCH(9.99999999999999E+307,$B$7:B86))),(VLOOKUP(INDEX($B$7:B86,MATCH(9.99999999999999E+307,$B$7:B86)),$B$7:F86,5,FALSE))+(INDEX($B$7:B86,MATCH(9.99999999999999E+307,$B$7:B86)))),\"\")","v":""},null,{"$f":"IF(D87<>\"\",IF(OR(B87<>\"\",INDIRECT(\"D88\")=0),D87,0),\"\")","v":""},"",null,{"$f":"IF(D87<>\"\",IF(AND(B87<>\"\",B86<>\"\"),$I$4+H86,VLOOKUP(INDEX($B$7:B86,MATCH(9.99999999999999E+307,$B$7:B86)),$B$7:H86,7,FALSE)+$I$4),\"\")","v":""},""]
[null,null,{"$f":"IF(D88<>\"\",IF(OR(B88<>\"\",INDIRECT(\"D89\")=0),IF(B87<>\"\",F87+B87,VLOOKUP(INDEX($B$7:B87,MATCH(9.99999999999999E+307,$B$7:B87)),$B$7:F87,5,FALSE)+INDEX($B$7:B87,MATCH(9.99999999999999E+307,$B$7:B87))),(VLOOKUP(INDEX($B$7:B87,MATCH(9.99999999999999E+307,$B$7:B87)),$B$7:F87,5,FALSE))+(INDEX($B$7:B87,MATCH(9.99999999999999E+307,$B$7:B87)))),\"\")","v":""},null,{"$f":"IF(D88<>\"\",IF(OR(B88<>\"\",INDIRECT(\"D89\")=0),D88,0),\"\")","v":""},"",null,{"$f":"IF(D88<>\"\",IF(AND(B88<>\"\",B87<>\"\"),$I$4+H87,VLOOKUP(INDEX($B$7:B87,MATCH(9.99999999999999E+307,$B$7:B87)),$B$7:H87,7,FALSE)+$I$4),\"\")","v":""},""]
[null,null,{"$f":"IF(D89<>\"\",IF(OR(B89<>\"\",INDIRECT(\"D90\")=0),IF(B88<>\"\",F88+B88,VLOOKUP(INDEX($B$7:B88,MATCH(9.99999999999999E+307,$B$7:B88)),$B$7:F88,5,FALSE)+INDEX($B$7:B88,MATCH(9.99999999999999E+307,$B$7:B88))),(VLOOKUP(INDEX($B$7:B88,MATCH(9.99999999999999E+307,$B$7:B88)),$B$7:F88,5,FALSE))+(INDEX($B$7:B88,MATCH(9.99999999999999E+307,$B$7:B88)))),\"\")","v":""},null,{"$f":"IF(D89<>\"\",IF(OR(B89<>\"\",INDIRECT(\"D90\")=0),D89,0),\"\")","v":""},"",null,{"$f":"IF(D89<>\"\",IF(AND(B89<>\"\",B88<>\"\"),$I$4+H88,VLOOKUP(INDEX($B$7:B88,MATCH(9.99999999999999E+307,$B$7:B88)),$B$7:H88,7,FALSE)+$I$4),\"\")","v":""},""]
[null,null,{"$f":"IF(D90<>\"\",IF(OR(B90<>\"\",INDIRECT(\"D91\")=0),IF(B89<>\"\",F89+B89,VLOOKUP(INDEX($B$7:B89,MATCH(9.99999999999999E+307,$B$7:B89)),$B$7:F89,5,FALSE)+INDEX($B$7:B89,MATCH(9.99999999999999E+307,$B$7:B89))),(VLOOKUP(INDEX($B$7:B89,MATCH(9.99999999999999E+307,$B$7:B89)),$B$7:F89,5,FALSE))+(INDEX($B$7:B89,MATCH(9.99999999999999E+307,$B$7:B89)))),\"\")","v":""},null,{"$f":"IF(D90<>\"\",IF(OR(B90<>\"\",INDIRECT(\"D91\")=0),D90,0),\"\")","v":""},"",null,{"$f":"IF(D90<>\"\",IF(AND(B90<>\"\",B89<>\"\"),$I$4+H89,VLOOKUP(INDEX($B$7:B89,MATCH(9.99999999999999E+307,$B$7:B89)),$B$7:H89,7,FALSE)+$I$4),\"\")","v":""},""]
[null,null,{"$f":"IF(D91<>\"\",IF(OR(B91<>\"\",INDIRECT(\"D92\")=0),IF(B90<>\"\",F90+B90,VLOOKUP(INDEX($B$7:B90,MATCH(9.99999999999999E+307,$B$7:B90)),$B$7:F90,5,FALSE)+INDEX($B$7:B90,MATCH(9.99999999999999E+307,$B$7:B90))),(VLOOKUP(INDEX($B$7:B90,MATCH(9.99999999999999E+307,$B$7:B90)),$B$7:F90,5,FALSE))+(INDEX($B$7:B90,MATCH(9.99999999999999E+307,$B$7:B90)))),\"\")","v":""},null,{"$f":"IF(D91<>\"\",IF(OR(B91<>\"\",INDIRECT(\"D92\")=0),D91,0),\"\")","v":""},"",null,{"$f":"IF(D91<>\"\",IF(AND(B91<>\"\",B90<>\"\"),$I$4+H90,VLOOKUP(INDEX($B$7:B90,MATCH(9.99999999999999E+307,$B$7:B90)),$B$7:H90,7,FALSE)+$I$4),\"\")","v":""},""]
[null,null,{"$f":"IF(D92<>\"\",IF(OR(B92<>\"\",INDIRECT(\"D93\")=0),IF(B91<>\"\",F91+B91,VLOOKUP(INDEX($B$7:B91,MATCH(9.99999999999999E+307,$B$7:B91)),$B$7:F91,5,FALSE)+INDEX($B$7:B91,MATCH(9.99999999999999E+307,$B$7:B91))),(VLOOKUP(INDEX($B$7:B91,MATCH(9.99999999999999E+307,$B$7:B91)),$B$7:F91,5,FALSE))+(INDEX($B$7:B91,MATCH(9.99999999999999E+307,$B$7:B91)))),\"\")","v":""},null,{"$f":"IF(D92<>\"\",IF(OR(B92<>\"\",INDIRECT(\"D93\")=0),D92,0),\"\")","v":""},"",null,{"$f":"IF(D92<>\"\",IF(AND(B92<>\"\",B91<>\"\"),$I$4+H91,VLOOKUP(INDEX($B$7:B91,MATCH(9.99999999999999E+307,$B$7:B91)),$B$7:H91,7,FALSE)+$I$4),\"\")","v":""},""]
[null,null,{"$f":"IF(D93<>\"\",IF(OR(B93<>\"\",INDIRECT(\"D94\")=0),IF(B92<>\"\",F92+B92,VLOOKUP(INDEX($B$7:B92,MATCH(9.99999999999999E+307,$B$7:B92)),$B$7:F92,5,FALSE)+INDEX($B$7:B92,MATCH(9.99999999999999E+307,$B$7:B92))),(VLOOKUP(INDEX($B$7:B92,MATCH(9.99999999999999E+307,$B$7:B92)),$B$7:F92,5,FALSE))+(INDEX($B$7:B92,MATCH(9.99999999999999E+307,$B$7:B92)))),\"\")","v":""},null,{"$f":"IF(D93<>\"\",IF(OR(B93<>\"\",INDIRECT(\"D94\")=0),D93,0),\"\")","v":""},"",null,{"$f":"IF(D93<>\"\",IF(AND(B93<>\"\",B92<>\"\"),$I$4+H92,VLOOKUP(INDEX($B$7:B92,MATCH(9.99999999999999E+307,$B$7:B92)),$B$7:H92,7,FALSE)+$I$4),\"\")","v":""},""]
[null,null,{"$f":"IF(D94<>\"\",IF(OR(B94<>\"\",INDIRECT(\"D95\")=0),IF(B93<>\"\",F93+B93,VLOOKUP(INDEX($B$7:B93,MATCH(9.99999999999999E+307,$B$7:B93)),$B$7:F93,5,FALSE)+INDEX($B$7:B93,MATCH(9.99999999999999E+307,$B$7:B93))),(VLOOKUP(INDEX($B$7:B93,MATCH(9.99999999999999E+307,$B$7:B93)),$B$7:F93,5,FALSE))+(INDEX($B$7:B93,MATCH(9.99999999999999E+307,$B$7:B93)))),\"\")","v":""},null,{"$f":"IF(D94<>\"\",IF(OR(B94<>\"\",INDIRECT(\"D95\")=0),D94,0),\"\")","v":""},"",null,{"$f":"IF(D94<>\"\",IF(AND(B94<>\"\",B93<>\"\"),$I$4+H93,VLOOKUP(INDEX($B$7:B93,MATCH(9.99999999999999E+307,$B$7:B93)),$B$7:H93,7,FALSE)+$I$4),\"\")","v":""},""]
[null,null,{"$f":"IF(D95<>\"\",IF(OR(B95<>\"\",INDIRECT(\"D96\")=0),IF(B94<>\"\",F94+B94,VLOOKUP(INDEX($B$7:B94,MATCH(9.99999999999999E+307,$B$7:B94)),$B$7:F94,5,FALSE)+INDEX($B$7:B94,MATCH(9.99999999999999E+307,$B$7:B94))),(VLOOKUP(INDEX($B$7:B94,MATCH(9.99999999999999E+307,$B$7:B94)),$B$7:F94,5,FALSE))+(INDEX($B$7:B94,MATCH(9.99999999999999E+307,$B$7:B94)))),\"\")","v":""},null,{"$f":"IF(D95<>\"\",IF(OR(B95<>\"\",INDIRECT(\"D96\")=0),D95,0),\"\")","v":""},"",null,{"$f":"IF(D95<>\"\",IF(AND(B95<>\"\",B94<>\"\"),$I$4+H94,VLOOKUP(INDEX($B$7:B94,MATCH(9.99999999999999E+307,$B$7:B94)),$B$7:H94,7,FALSE)+$I$4),\"\")","v":""},""]
[null,null,{"$f":"IF(D96<>\"\",IF(OR(B96<>\"\",INDIRECT(\"D97\")=0),IF(B95<>\"\",F95+B95,VLOOKUP(INDEX($B$7:B95,MATCH(9.99999999999999E+307,$B$7:B95)),$B$7:F95,5,FALSE)+INDEX($B$7:B95,MATCH(9.99999999999999E+307,$B$7:B95))),(VLOOKUP(INDEX($B$7:B95,MATCH(9.99999999999999E+307,$B$7:B95)),$B$7:F95,5,FALSE))+(INDEX($B$7:B95,MATCH(9.99999999999999E+307,$B$7:B95)))),\"\")","v":""},null,{"$f":"IF(D96<>\"\",IF(OR(B96<>\"\",INDIRECT(\"D97\")=0),D96,0),\"\")","v":""},"",null,{"$f":"IF(D96<>\"\",IF(AND(B96<>\"\",B95<>\"\"),$I$4+H95,VLOOKUP(INDEX($B$7:B95,MATCH(9.99999999999999E+307,$B$7:B95)),$B$7:H95,7,FALSE)+$I$4),\"\")","v":""},""]
[null,null,{"$f":"IF(D97<>\"\",IF(OR(B97<>\"\",INDIRECT(\"D98\")=0),IF(B96<>\"\",F96+B96,VLOOKUP(INDEX($B$7:B96,MATCH(9.99999999999999E+307,$B$7:B96)),$B$7:F96,5,FALSE)+INDEX($B$7:B96,MATCH(9.99999999999999E+307,$B$7:B96))),(VLOOKUP(INDEX($B$7:B96,MATCH(9.99999999999999E+307,$B$7:B96)),$B$7:F96,5,FALSE))+(INDEX($B$7:B96,MATCH(9.99999999999999E+307,$B$7:B96)))),\"\")","v":""},null,{"$f":"IF(D97<>\"\",IF(OR(B97<>\"\",INDIRECT(\"D98\")=0),D97,0),\"\")","v":""},"",null,{"$f":"IF(D97<>\"\",IF(AND(B97<>\"\",B96<>\"\"),$I$4+H96,VLOOKUP(INDEX($B$7:B96,MATCH(9.99999999999999E+307,$B$7:B96)),$B$7:H96,7,FALSE)+$I$4),\"\")","v":""},""]
[null,null,{"$f":"IF(D98<>\"\",IF(OR(B98<>\"\",INDIRECT(\"D99\")=0),IF(B97<>\"\",F97+B97,VLOOKUP(INDEX($B$7:B97,MATCH(9.99999999999999E+307,$B$7:B97)),$B$7:F97,5,FALSE)+INDEX($B$7:B97,MATCH(9.99999999999999E+307,$B$7:B97))),(VLOOKUP(INDEX($B$7:B97,MATCH(9.99999999999999E+307,$B$7:B97)),$B$7:F97,5,FALSE))+(INDEX($B$7:B97,MATCH(9.99999999999999E+307,$B$7:B97)))),\"\")","v":""},null,{"$f":"IF(D98<>\"\",IF(OR(B98<>\"\",INDIRECT(\"D99\")=0),D98,0),\"\")","v":""},"",null,{"$f":"IF(D98<>\"\",IF(AND(B98<>\"\",B97<>\"\"),$I$4+H97,VLOOKUP(INDEX($B$7:B97,MATCH(9.99999999999999E+307,$B$7:B97)),$B$7:H97,7,FALSE)+$I$4),\"\")","v":""},""]
[null,null,{"$f":"IF(D99<>\"\",IF(OR(B99<>\"\",INDIRECT(\"D100\")=0),IF(B98<>\"\",F98+B98,VLOOKUP(INDEX($B$7:B98,MATCH(9.99999999999999E+307,$B$7:B98)),$B$7:F98,5,FALSE)+INDEX($B$7:B98,MATCH(9.99999999999999E+307,$B$7:B98))),(VLOOKUP(INDEX($B$7:B98,MATCH(9.99999999999999E+307,$B$7:B98)),$B$7:F98,5,FALSE))+(INDEX($B$7:B98,MATCH(9.99999999999999E+307,$B$7:B98)))),\"\")","v":""},null,{"$f":"IF(D99<>\"\",IF(OR(B99<>\"\",INDIRECT(\"D100\")=0),D99,0),\"\")","v":""},"",null,{"$f":"IF(D99<>\"\",IF(AND(B99<>\"\",B98<>\"\"),$I$4+H98,VLOOKUP(INDEX($B$7:B98,MATCH(9.99999999999999E+307,$B$7:B98)),$B$7:H98,7,FALSE)+$I$4),\"\")","v":""},""]
[null,null,{"$f":"IF(D100<>\"\",IF(OR(B100<>\"\",INDIRECT(\"D101\")=0),IF(B99<>\"\",F99+B99,VLOOKUP(INDEX($B$7:B99,MATCH(9.99999999999999E+307,$B$7:B99)),$B$7:F99,5,FALSE)+INDEX($B$7:B99,MATCH(9.99999999999999E+307,$B$7:B99))),(VLOOKUP(INDEX($B$7:B99,MATCH(9.99999999999999E+307,$B$7:B99)),$B$7:F99,5,FALSE))+(INDEX($B$7:B99,MATCH(9.99999999999999E+307,$B$7:B99)))),\"\")","v":""},null,{"$f":"IF(D100<>\"\",IF(OR(B100<>\"\",INDIRECT(\"D101\")=0),D100,0),\"\")","v":""},"",null,{"$f":"IF(D100<>\"\",IF(AND(B100<>\"\",B99<>\"\"),$I$4+H99,VLOOKUP(INDEX($B$7:B99,MATCH(9.99999999999999E+307,$B$7:B99)),$B$7:H99,7,FALSE)+$I$4),\"\")","v":""},""]
[null,null,{"$f":"IF(D101<>\"\",IF(OR(B101<>\"\",INDIRECT(\"D102\")=0),IF(B100<>\"\",F100+B100,VLOOKUP(INDEX($B$7:B100,MATCH(9.99999999999999E+307,$B$7:B100)),$B$7:F100,5,FALSE)+INDEX($B$7:B100,MATCH(9.99999999999999E+307,$B$7:B100))),(VLOOKUP(INDEX($B$7:B100,MATCH(9.99999999999999E+307,$B$7:B100)),$B$7:F100,5,FALSE))+(INDEX($B$7:B100,MATCH(9.99999999999999E+307,$B$7:B100)))),\"\")","v":""},null,{"$f":"IF(D101<>\"\",IF(OR(B101<>\"\",INDIRECT(\"D102\")=0),D101,0),\"\")","v":""},"",null,{"$f":"IF(D101<>\"\",IF(AND(B101<>\"\",B100<>\"\"),$I$4+H100,VLOOKUP(INDEX($B$7:B100,MATCH(9.99999999999999E+307,$B$7:B100)),$B$7:H100,7,FALSE)+$I$4),\"\")","v":""},""]
[null,null,{"$f":"IF(D102<>\"\",IF(OR(B102<>\"\",INDIRECT(\"D103\")=0),IF(B101<>\"\",F101+B101,VLOOKUP(INDEX($B$7:B101,MATCH(9.99999999999999E+307,$B$7:B101)),$B$7:F101,5,FALSE)+INDEX($B$7:B101,MATCH(9.99999999999999E+307,$B$7:B101))),(VLOOKUP(INDEX($B$7:B101,MATCH(9.99999999999999E+307,$B$7:B101)),$B$7:F101,5,FALSE))+(INDEX($B$7:B101,MATCH(9.99999999999999E+307,$B$7:B101)))),\"\")","v":""},null,{"$f":"IF(D102<>\"\",IF(OR(B102<>\"\",INDIRECT(\"D103\")=0),D102,0),\"\")","v":""},"",null,{"$f":"IF(D102<>\"\",IF(AND(B102<>\"\",B101<>\"\"),$I$4+H101,VLOOKUP(INDEX($B$7:B101,MATCH(9.99999999999999E+307,$B$7:B101)),$B$7:H101,7,FALSE)+$I$4),\"\")","v":""},""]
[null,null,{"$f":"IF(D103<>\"\",IF(OR(B103<>\"\",INDIRECT(\"D104\")=0),IF(B102<>\"\",F102+B102,VLOOKUP(INDEX($B$7:B102,MATCH(9.99999999999999E+307,$B$7:B102)),$B$7:F102,5,FALSE)+INDEX($B$7:B102,MATCH(9.99999999999999E+307,$B$7:B102))),(VLOOKUP(INDEX($B$7:B102,MATCH(9.99999999999999E+307,$B$7:B102)),$B$7:F102,5,FALSE))+(INDEX($B$7:B102,MATCH(9.99999999999999E+307,$B$7:B102)))),\"\")","v":""},null,{"$f":"IF(D103<>\"\",IF(OR(B103<>\"\",INDIRECT(\"D104\")=0),D103,0),\"\")","v":""},"",null,{"$f":"IF(D103<>\"\",IF(AND(B103<>\"\",B102<>\"\"),$I$4+H102,VLOOKUP(INDEX($B$7:B102,MATCH(9.99999999999999E+307,$B$7:B102)),$B$7:H102,7,FALSE)+$I$4),\"\")","v":""},""]
[null,null,{"$f":"IF(D104<>\"\",IF(OR(B104<>\"\",INDIRECT(\"D105\")=0),IF(B103<>\"\",F103+B103,VLOOKUP(INDEX($B$7:B103,MATCH(9.99999999999999E+307,$B$7:B103)),$B$7:F103,5,FALSE)+INDEX($B$7:B103,MATCH(9.99999999999999E+307,$B$7:B103))),(VLOOKUP(INDEX($B$7:B103,MATCH(9.99999999999999E+307,$B$7:B103)),$B$7:F103,5,FALSE))+(INDEX($B$7:B103,MATCH(9.99999999999999E+307,$B$7:B103)))),\"\")","v":""},null,{"$f":"IF(D104<>\"\",IF(OR(B104<>\"\",INDIRECT(\"D105\")=0),D104,0),\"\")","v":""},"",null,{"$f":"IF(D104<>\"\",IF(AND(B104<>\"\",B103<>\"\"),$I$4+H103,VLOOKUP(INDEX($B$7:B103,MATCH(9.99999999999999E+307,$B$7:B103)),$B$7:H103,7,FALSE)+$I$4),\"\")","v":""},""]
[null,null,{"$f":"IF(D105<>\"\",IF(OR(B105<>\"\",INDIRECT(\"D106\")=0),IF(B104<>\"\",F104+B104,VLOOKUP(INDEX($B$7:B104,MATCH(9.99999999999999E+307,$B$7:B104)),$B$7:F104,5,FALSE)+INDEX($B$7:B104,MATCH(9.99999999999999E+307,$B$7:B104))),(VLOOKUP(INDEX($B$7:B104,MATCH(9.99999999999999E+307,$B$7:B104)),$B$7:F104,5,FALSE))+(INDEX($B$7:B104,MATCH(9.99999999999999E+307,$B$7:B104)))),\"\")","v":""},null,{"$f":"IF(D105<>\"\",IF(OR(B105<>\"\",INDIRECT(\"D106\")=0),D105,0),\"\")","v":""},"",null,{"$f":"IF(D105<>\"\",IF(AND(B105<>\"\",B104<>\"\"),$I$4+H104,VLOOKUP(INDEX($B$7:B104,MATCH(9.99999999999999E+307,$B$7:B104)),$B$7:H104,7,FALSE)+$I$4),\"\")","v":""},""]
[null,null,{"$f":"IF(D106<>\"\",IF(OR(B106<>\"\",INDIRECT(\"D107\")=0),IF(B105<>\"\",F105+B105,VLOOKUP(INDEX($B$7:B105,MATCH(9.99999999999999E+307,$B$7:B105)),$B$7:F105,5,FALSE)+INDEX($B$7:B105,MATCH(9.99999999999999E+307,$B$7:B105))),(VLOOKUP(INDEX($B$7:B105,MATCH(9.99999999999999E+307,$B$7:B105)),$B$7:F105,5,FALSE))+(INDEX($B$7:B105,MATCH(9.99999999999999E+307,$B$7:B105)))),\"\")","v":""},null,{"$f":"IF(D106<>\"\",IF(OR(B106<>\"\",INDIRECT(\"D107\")=0),D106,0),\"\")","v":""},"",null,{"$f":"IF(D106<>\"\",IF(AND(B106<>\"\",B105<>\"\"),$I$4+H105,VLOOKUP(INDEX($B$7:B105,MATCH(9.99999999999999E+307,$B$7:B105)),$B$7:H105,7,FALSE)+$I$4),\"\")","v":""},""]
[null,null,{"$f":"IF(D107<>\"\",IF(OR(B107<>\"\",INDIRECT(\"D108\")=0),IF(B106<>\"\",F106+B106,VLOOKUP(INDEX($B$7:B106,MATCH(9.99999999999999E+307,$B$7:B106)),$B$7:F106,5,FALSE)+INDEX($B$7:B106,MATCH(9.99999999999999E+307,$B$7:B106))),(VLOOKUP(INDEX($B$7:B106,MATCH(9.99999999999999E+307,$B$7:B106)),$B$7:F106,5,FALSE))+(INDEX($B$7:B106,MATCH(9.99999999999999E+307,$B$7:B106)))),\"\")","v":""},null,{"$f":"IF(D107<>\"\",IF(OR(B107<>\"\",INDIRECT(\"D108\")=0),D107,0),\"\")","v":""},"",null,{"$f":"IF(D107<>\"\",IF(AND(B107<>\"\",B106<>\"\"),$I$4+H106,VLOOKUP(INDEX($B$7:B106,MATCH(9.99999999999999E+307,$B$7:B106)),$B$7:H106,7,FALSE)+$I$4),\"\")","v":""},""]
[null,null,{"$f":"IF(D108<>\"\",IF(OR(B108<>\"\",INDIRECT(\"D109\")=0),IF(B107<>\"\",F107+B107,VLOOKUP(INDEX($B$7:B107,MATCH(9.99999999999999E+307,$B$7:B107)),$B$7:F107,5,FALSE)+INDEX($B$7:B107,MATCH(9.99999999999999E+307,$B$7:B107))),(VLOOKUP(INDEX($B$7:B107,MATCH(9.99999999999999E+307,$B$7:B107)),$B$7:F107,5,FALSE))+(INDEX($B$7:B107,MATCH(9.99999999999999E+307,$B$7:B107)))),\"\")","v":""},null,{"$f":"IF(D108<>\"\",IF(OR(B108<>\"\",INDIRECT(\"D109\")=0),D108,0),\"\")","v":""},"",null,{"$f":"IF(D108<>\"\",IF(AND(B108<>\"\",B107<>\"\"),$I$4+H107,VLOOKUP(INDEX($B$7:B107,MATCH(9.99999999999999E+307,$B$7:B107)),$B$7:H107,7,FALSE)+$I$4),\"\")","v":""},""]
[null,null,{"$f":"IF(D109<>\"\",IF(OR(B109<>\"\",INDIRECT(\"D110\")=0),IF(B108<>\"\",F108+B108,VLOOKUP(INDEX($B$7:B108,MATCH(9.99999999999999E+307,$B$7:B108)),$B$7:F108,5,FALSE)+INDEX($B$7:B108,MATCH(9.99999999999999E+307,$B$7:B108))),(VLOOKUP(INDEX($B$7:B108,MATCH(9.99999999999999E+307,$B$7:B108)),$B$7:F108,5,FALSE))+(INDEX($B$7:B108,MATCH(9.99999999999999E+307,$B$7:B108)))),\"\")","v":""},null,{"$f":"IF(D109<>\"\",IF(OR(B109<>\"\",INDIRECT(\"D110\")=0),D109,0),\"\")","v":""},"",null,{"$f":"IF(D109<>\"\",IF(AND(B109<>\"\",B108<>\"\"),$I$4+H108,VLOOKUP(INDEX($B$7:B108,MATCH(9.99999999999999E+307,$B$7:B108)),$B$7:H108,7,FALSE)+$I$4),\"\")","v":""},""]
[null,null,{"$f":"IF(D110<>\"\",IF(OR(B110<>\"\",INDIRECT(\"D111\")=0),IF(B109<>\"\",F109+B109,VLOOKUP(INDEX($B$7:B109,MATCH(9.99999999999999E+307,$B$7:B109)),$B$7:F109,5,FALSE)+INDEX($B$7:B109,MATCH(9.99999999999999E+307,$B$7:B109))),(VLOOKUP(INDEX($B$7:B109,MATCH(9.99999999999999E+307,$B$7:B109)),$B$7:F109,5,FALSE))+(INDEX($B$7:B109,MATCH(9.99999999999999E+307,$B$7:B109)))),\"\")","v":""},null,{"$f":"IF(D110<>\"\",IF(OR(B110<>\"\",INDIRECT(\"D111\")=0),D110,0),\"\")","v":""},"",null,{"$f":"IF(D110<>\"\",IF(AND(B110<>\"\",B109<>\"\"),$I$4+H109,VLOOKUP(INDEX($B$7:B109,MATCH(9.99999999999999E+307,$B$7:B109)),$B$7:H109,7,FALSE)+$I$4),\"\")","v":""},""]
[null,null,{"$f":"IF(D111<>\"\",IF(OR(B111<>\"\",INDIRECT(\"D112\")=0),IF(B110<>\"\",F110+B110,VLOOKUP(INDEX($B$7:B110,MATCH(9.99999999999999E+307,$B$7:B110)),$B$7:F110,5,FALSE)+INDEX($B$7:B110,MATCH(9.99999999999999E+307,$B$7:B110))),(VLOOKUP(INDEX($B$7:B110,MATCH(9.99999999999999E+307,$B$7:B110)),$B$7:F110,5,FALSE))+(INDEX($B$7:B110,MATCH(9.99999999999999E+307,$B$7:B110)))),\"\")","v":""},null,{"$f":"IF(D111<>\"\",IF(OR(B111<>\"\",INDIRECT(\"D112\")=0),D111,0),\"\")","v":""},"",null,{"$f":"IF(D111<>\"\",IF(AND(B111<>\"\",B110<>\"\"),$I$4+H110,VLOOKUP(INDEX($B$7:B110,MATCH(9.99999999999999E+307,$B$7:B110)),$B$7:H110,7,FALSE)+$I$4),\"\")","v":""},""]
[null,null,{"$f":"IF(D112<>\"\",IF(OR(B112<>\"\",INDIRECT(\"D113\")=0),IF(B111<>\"\",F111+B111,VLOOKUP(INDEX($B$7:B111,MATCH(9.99999999999999E+307,$B$7:B111)),$B$7:F111,5,FALSE)+INDEX($B$7:B111,MATCH(9.99999999999999E+307,$B$7:B111))),(VLOOKUP(INDEX($B$7:B111,MATCH(9.99999999999999E+307,$B$7:B111)),$B$7:F111,5,FALSE))+(INDEX($B$7:B111,MATCH(9.99999999999999E+307,$B$7:B111)))),\"\")","v":""},null,{"$f":"IF(D112<>\"\",IF(OR(B112<>\"\",INDIRECT(\"D113\")=0),D112,0),\"\")","v":""},"",null,{"$f":"IF(D112<>\"\",IF(AND(B112<>\"\",B111<>\"\"),$I$4+H111,VLOOKUP(INDEX($B$7:B111,MATCH(9.99999999999999E+307,$B$7:B111)),$B$7:H111,7,FALSE)+$I$4),\"\")","v":""},""]
[null,null,{"$f":"IF(D113<>\"\",IF(OR(B113<>\"\",INDIRECT(\"D114\")=0),IF(B112<>\"\",F112+B112,VLOOKUP(INDEX($B$7:B112,MATCH(9.99999999999999E+307,$B$7:B112)),$B$7:F112,5,FALSE)+INDEX($B$7:B112,MATCH(9.99999999999999E+307,$B$7:B112))),(VLOOKUP(INDEX($B$7:B112,MATCH(9.99999999999999E+307,$B$7:B112)),$B$7:F112,5,FALSE))+(INDEX($B$7:B112,MATCH(9.99999999999999E+307,$B$7:B112)))),\"\")","v":""},null,{"$f":"IF(D113<>\"\",IF(OR(B113<>\"\",INDIRECT(\"D114\")=0),D113,0),\"\")","v":""},"",null,{"$f":"IF(D113<>\"\",IF(AND(B113<>\"\",B112<>\"\"),$I$4+H112,VLOOKUP(INDEX($B$7:B112,MATCH(9.99999999999999E+307,$B$7:B112)),$B$7:H112,7,FALSE)+$I$4),\"\")","v":""},""]
[null,null,{"$f":"IF(D114<>\"\",IF(OR(B114<>\"\",INDIRECT(\"D115\")=0),IF(B113<>\"\",F113+B113,VLOOKUP(INDEX($B$7:B113,MATCH(9.99999999999999E+307,$B$7:B113)),$B$7:F113,5,FALSE)+INDEX($B$7:B113,MATCH(9.99999999999999E+307,$B$7:B113))),(VLOOKUP(INDEX($B$7:B113,MATCH(9.99999999999999E+307,$B$7:B113)),$B$7:F113,5,FALSE))+(INDEX($B$7:B113,MATCH(9.99999999999999E+307,$B$7:B113)))),\"\")","v":""},null,{"$f":"IF(D114<>\"\",IF(OR(B114<>\"\",INDIRECT(\"D115\")=0),D114,0),\"\")","v":""},"",null,{"$f":"IF(D114<>\"\",IF(AND(B114<>\"\",B113<>\"\"),$I$4+H113,VLOOKUP(INDEX($B$7:B113,MATCH(9.99999999999999E+307,$B$7:B113)),$B$7:H113,7,FALSE)+$I$4),\"\")","v":""},""]
[null,null,{"$f":"IF(D115<>\"\",IF(OR(B115<>\"\",INDIRECT(\"D116\")=0),IF(B114<>\"\",F114+B114,VLOOKUP(INDEX($B$7:B114,MATCH(9.99999999999999E+307,$B$7:B114)),$B$7:F114,5,FALSE)+INDEX($B$7:B114,MATCH(9.99999999999999E+307,$B$7:B114))),(VLOOKUP(INDEX($B$7:B114,MATCH(9.99999999999999E+307,$B$7:B114)),$B$7:F114,5,FALSE))+(INDEX($B$7:B114,MATCH(9.99999999999999E+307,$B$7:B114)))),\"\")","v":""},null,{"$f":"IF(D115<>\"\",IF(OR(B115<>\"\",INDIRECT(\"D116\")=0),D115,0),\"\")","v":""},"",null,{"$f":"IF(D115<>\"\",IF(AND(B115<>\"\",B114<>\"\"),$I$4+H114,VLOOKUP(INDEX($B$7:B114,MATCH(9.99999999999999E+307,$B$7:B114)),$B$7:H114,7,FALSE)+$I$4),\"\")","v":""},""]
[null,null,{"$f":"IF(D116<>\"\",IF(OR(B116<>\"\",INDIRECT(\"D117\")=0),IF(B115<>\"\",F115+B115,VLOOKUP(INDEX($B$7:B115,MATCH(9.99999999999999E+307,$B$7:B115)),$B$7:F115,5,FALSE)+INDEX($B$7:B115,MATCH(9.99999999999999E+307,$B$7:B115))),(VLOOKUP(INDEX($B$7:B115,MATCH(9.99999999999999E+307,$B$7:B115)),$B$7:F115,5,FALSE))+(INDEX($B$7:B115,MATCH(9.99999999999999E+307,$B$7:B115)))),\"\")","v":""},null,{"$f":"IF(D116<>\"\",IF(OR(B116<>\"\",INDIRECT(\"D117\")=0),D116,0),\"\")","v":""},"",null,{"$f":"IF(D116<>\"\",IF(AND(B116<>\"\",B115<>\"\"),$I$4+H115,VLOOKUP(INDEX($B$7:B115,MATCH(9.99999999999999E+307,$B$7:B115)),$B$7:H115,7,FALSE)+$I$4),\"\")","v":""},""]
[null,null,{"$f":"IF(D117<>\"\",IF(OR(B117<>\"\",INDIRECT(\"D118\")=0),IF(B116<>\"\",F116+B116,VLOOKUP(INDEX($B$7:B116,MATCH(9.99999999999999E+307,$B$7:B116)),$B$7:F116,5,FALSE)+INDEX($B$7:B116,MATCH(9.99999999999999E+307,$B$7:B116))),(VLOOKUP(INDEX($B$7:B116,MATCH(9.99999999999999E+307,$B$7:B116)),$B$7:F116,5,FALSE))+(INDEX($B$7:B116,MATCH(9.99999999999999E+307,$B$7:B116)))),\"\")","v":""},null,{"$f":"IF(D117<>\"\",IF(OR(B117<>\"\",INDIRECT(\"D118\")=0),D117,0),\"\")","v":""},"",null,{"$f":"IF(D117<>\"\",IF(AND(B117<>\"\",B116<>\"\"),$I$4+H116,VLOOKUP(INDEX($B$7:B116,MATCH(9.99999999999999E+307,$B$7:B116)),$B$7:H116,7,FALSE)+$I$4),\"\")","v":""},""]
[null,null,{"$f":"IF(D118<>\"\",IF(OR(B118<>\"\",INDIRECT(\"D119\")=0),IF(B117<>\"\",F117+B117,VLOOKUP(INDEX($B$7:B117,MATCH(9.99999999999999E+307,$B$7:B117)),$B$7:F117,5,FALSE)+INDEX($B$7:B117,MATCH(9.99999999999999E+307,$B$7:B117))),(VLOOKUP(INDEX($B$7:B117,MATCH(9.99999999999999E+307,$B$7:B117)),$B$7:F117,5,FALSE))+(INDEX($B$7:B117,MATCH(9.99999999999999E+307,$B$7:B117)))),\"\")","v":""},null,{"$f":"IF(D118<>\"\",IF(OR(B118<>\"\",INDIRECT(\"D119\")=0),D118,0),\"\")","v":""},"",null,{"$f":"IF(D118<>\"\",IF(AND(B118<>\"\",B117<>\"\"),$I$4+H117,VLOOKUP(INDEX($B$7:B117,MATCH(9.99999999999999E+307,$B$7:B117)),$B$7:H117,7,FALSE)+$I$4),\"\")","v":""},""]
[null,null,{"$f":"IF(D119<>\"\",IF(OR(B119<>\"\",INDIRECT(\"D120\")=0),IF(B118<>\"\",F118+B118,VLOOKUP(INDEX($B$7:B118,MATCH(9.99999999999999E+307,$B$7:B118)),$B$7:F118,5,FALSE)+INDEX($B$7:B118,MATCH(9.99999999999999E+307,$B$7:B118))),(VLOOKUP(INDEX($B$7:B118,MATCH(9.99999999999999E+307,$B$7:B118)),$B$7:F118,5,FALSE))+(INDEX($B$7:B118,MATCH(9.99999999999999E+307,$B$7:B118)))),\"\")","v":""},null,{"$f":"IF(D119<>\"\",IF(OR(B119<>\"\",INDIRECT(\"D120\")=0),D119,0),\"\")","v":""},"",null,{"$f":"IF(D119<>\"\",IF(AND(B119<>\"\",B118<>\"\"),$I$4+H118,VLOOKUP(INDEX($B$7:B118,MATCH(9.99999999999999E+307,$B$7:B118)),$B$7:H118,7,FALSE)+$I$4),\"\")","v":""},""]
[null,null,{"$f":"IF(D120<>\"\",IF(OR(B120<>\"\",INDIRECT(\"D121\")=0),IF(B119<>\"\",F119+B119,VLOOKUP(INDEX($B$7:B119,MATCH(9.99999999999999E+307,$B$7:B119)),$B$7:F119,5,FALSE)+INDEX($B$7:B119,MATCH(9.99999999999999E+307,$B$7:B119))),(VLOOKUP(INDEX($B$7:B119,MATCH(9.99999999999999E+307,$B$7:B119)),$B$7:F119,5,FALSE))+(INDEX($B$7:B119,MATCH(9.99999999999999E+307,$B$7:B119)))),\"\")","v":""},null,{"$f":"IF(D120<>\"\",IF(OR(B120<>\"\",INDIRECT(\"D121\")=0),D120,0),\"\")","v":""},"",null,{"$f":"IF(D120<>\"\",IF(AND(B120<>\"\",B119<>\"\"),$I$4+H119,VLOOKUP(INDEX($B$7:B119,MATCH(9.99999999999999E+307,$B$7:B119)),$B$7:H119,7,FALSE)+$I$4),\"\")","v":""},""]
[null,null,{"$f":"IF(D121<>\"\",IF(OR(B121<>\"\",INDIRECT(\"D122\")=0),IF(B120<>\"\",F120+B120,VLOOKUP(INDEX($B$7:B120,MATCH(9.99999999999999E+307,$B$7:B120)),$B$7:F120,5,FALSE)+INDEX($B$7:B120,MATCH(9.99999999999999E+307,$B$7:B120))),(VLOOKUP(INDEX($B$7:B120,MATCH(9.99999999999999E+307,$B$7:B120)),$B$7:F120,5,FALSE))+(INDEX($B$7:B120,MATCH(9.99999999999999E+307,$B$7:B120)))),\"\")","v":""},null,{"$f":"IF(D121<>\"\",IF(OR(B121<>\"\",INDIRECT(\"D122\")=0),D121,0),\"\")","v":""},"",null,{"$f":"IF(D121<>\"\",IF(AND(B121<>\"\",B120<>\"\"),$I$4+H120,VLOOKUP(INDEX($B$7:B120,MATCH(9.99999999999999E+307,$B$7:B120)),$B$7:H120,7,FALSE)+$I$4),\"\")","v":""},""]
[null,null,{"$f":"IF(D122<>\"\",IF(OR(B122<>\"\",INDIRECT(\"D123\")=0),IF(B121<>\"\",F121+B121,VLOOKUP(INDEX($B$7:B121,MATCH(9.99999999999999E+307,$B$7:B121)),$B$7:F121,5,FALSE)+INDEX($B$7:B121,MATCH(9.99999999999999E+307,$B$7:B121))),(VLOOKUP(INDEX($B$7:B121,MATCH(9.99999999999999E+307,$B$7:B121)),$B$7:F121,5,FALSE))+(INDEX($B$7:B121,MATCH(9.99999999999999E+307,$B$7:B121)))),\"\")","v":""},null,{"$f":"IF(D122<>\"\",IF(OR(B122<>\"\",INDIRECT(\"D123\")=0),D122,0),\"\")","v":""},"",null,{"$f":"IF(D122<>\"\",IF(AND(B122<>\"\",B121<>\"\"),$I$4+H121,VLOOKUP(INDEX($B$7:B121,MATCH(9.99999999999999E+307,$B$7:B121)),$B$7:H121,7,FALSE)+$I$4),\"\")","v":""},""]
[null,null,{"$f":"IF(D123<>\"\",IF(OR(B123<>\"\",INDIRECT(\"D124\")=0),IF(B122<>\"\",F122+B122,VLOOKUP(INDEX($B$7:B122,MATCH(9.99999999999999E+307,$B$7:B122)),$B$7:F122,5,FALSE)+INDEX($B$7:B122,MATCH(9.99999999999999E+307,$B$7:B122))),(VLOOKUP(INDEX($B$7:B122,MATCH(9.99999999999999E+307,$B$7:B122)),$B$7:F122,5,FALSE))+(INDEX($B$7:B122,MATCH(9.99999999999999E+307,$B$7:B122)))),\"\")","v":""},null,{"$f":"IF(D123<>\"\",IF(OR(B123<>\"\",INDIRECT(\"D124\")=0),D123,0),\"\")","v":""},"",null,{"$f":"IF(D123<>\"\",IF(AND(B123<>\"\",B122<>\"\"),$I$4+H122,VLOOKUP(INDEX($B$7:B122,MATCH(9.99999999999999E+307,$B$7:B122)),$B$7:H122,7,FALSE)+$I$4),\"\")","v":""},""]
[null,null,{"$f":"IF(D124<>\"\",IF(OR(B124<>\"\",INDIRECT(\"D125\")=0),IF(B123<>\"\",F123+B123,VLOOKUP(INDEX($B$7:B123,MATCH(9.99999999999999E+307,$B$7:B123)),$B$7:F123,5,FALSE)+INDEX($B$7:B123,MATCH(9.99999999999999E+307,$B$7:B123))),(VLOOKUP(INDEX($B$7:B123,MATCH(9.99999999999999E+307,$B$7:B123)),$B$7:F123,5,FALSE))+(INDEX($B$7:B123,MATCH(9.99999999999999E+307,$B$7:B123)))),\"\")","v":""},null,{"$f":"IF(D124<>\"\",IF(OR(B124<>\"\",INDIRECT(\"D125\")=0),D124,0),\"\")","v":""},"",null,{"$f":"IF(D124<>\"\",IF(AND(B124<>\"\",B123<>\"\"),$I$4+H123,VLOOKUP(INDEX($B$7:B123,MATCH(9.99999999999999E+307,$B$7:B123)),$B$7:H123,7,FALSE)+$I$4),\"\")","v":""},""]
[null,null,{"$f":"IF(D125<>\"\",IF(OR(B125<>\"\",INDIRECT(\"D126\")=0),IF(B124<>\"\",F124+B124,VLOOKUP(INDEX($B$7:B124,MATCH(9.99999999999999E+307,$B$7:B124)),$B$7:F124,5,FALSE)+INDEX($B$7:B124,MATCH(9.99999999999999E+307,$B$7:B124))),(VLOOKUP(INDEX($B$7:B124,MATCH(9.99999999999999E+307,$B$7:B124)),$B$7:F124,5,FALSE))+(INDEX($B$7:B124,MATCH(9.99999999999999E+307,$B$7:B124)))),\"\")","v":""},null,{"$f":"IF(D125<>\"\",IF(OR(B125<>\"\",INDIRECT(\"D126\")=0),D125,0),\"\")","v":""},"",null,{"$f":"IF(D125<>\"\",IF(AND(B125<>\"\",B124<>\"\"),$I$4+H124,VLOOKUP(INDEX($B$7:B124,MATCH(9.99999999999999E+307,$B$7:B124)),$B$7:H124,7,FALSE)+$I$4),\"\")","v":""},""]
[null,null,{"$f":"IF(D126<>\"\",IF(OR(B126<>\"\",INDIRECT(\"D127\")=0),IF(B125<>\"\",F125+B125,VLOOKUP(INDEX($B$7:B125,MATCH(9.99999999999999E+307,$B$7:B125)),$B$7:F125,5,FALSE)+INDEX($B$7:B125,MATCH(9.99999999999999E+307,$B$7:B125))),(VLOOKUP(INDEX($B$7:B125,MATCH(9.99999999999999E+307,$B$7:B125)),$B$7:F125,5,FALSE))+(INDEX($B$7:B125,MATCH(9.99999999999999E+307,$B$7:B125)))),\"\")","v":""},null,{"$f":"IF(D126<>\"\",IF(OR(B126<>\"\",INDIRECT(\"D127\")=0),D126,0),\"\")","v":""},"",null,{"$f":"IF(D126<>\"\",IF(AND(B126<>\"\",B125<>\"\"),$I$4+H125,VLOOKUP(INDEX($B$7:B125,MATCH(9.99999999999999E+307,$B$7:B125)),$B$7:H125,7,FALSE)+$I$4),\"\")","v":""},""]
[null,null,{"$f":"IF(D127<>\"\",IF(OR(B127<>\"\",INDIRECT(\"D128\")=0),IF(B126<>\"\",F126+B126,VLOOKUP(INDEX($B$7:B126,MATCH(9.99999999999999E+307,$B$7:B126)),$B$7:F126,5,FALSE)+INDEX($B$7:B126,MATCH(9.99999999999999E+307,$B$7:B126))),(VLOOKUP(INDEX($B$7:B126,MATCH(9.99999999999999E+307,$B$7:B126)),$B$7:F126,5,FALSE))+(INDEX($B$7:B126,MATCH(9.99999999999999E+307,$B$7:B126)))),\"\")","v":""},null,{"$f":"IF(D127<>\"\",IF(OR(B127<>\"\",INDIRECT(\"D128\")=0),D127,0),\"\")","v":""},"",null,{"$f":"IF(D127<>\"\",IF(AND(B127<>\"\",B126<>\"\"),$I$4+H126,VLOOKUP(INDEX($B$7:B126,MATCH(9.99999999999999E+307,$B$7:B126)),$B$7:H126,7,FALSE)+$I$4),\"\")","v":""},""]
[null,null,{"$f":"IF(D128<>\"\",IF(OR(B128<>\"\",INDIRECT(\"D129\")=0),IF(B127<>\"\",F127+B127,VLOOKUP(INDEX($B$7:B127,MATCH(9.99999999999999E+307,$B$7:B127)),$B$7:F127,5,FALSE)+INDEX($B$7:B127,MATCH(9.99999999999999E+307,$B$7:B127))),(VLOOKUP(INDEX($B$7:B127,MATCH(9.99999999999999E+307,$B$7:B127)),$B$7:F127,5,FALSE))+(INDEX($B$7:B127,MATCH(9.99999999999999E+307,$B$7:B127)))),\"\")","v":""},null,{"$f":"IF(D128<>\"\",IF(OR(B128<>\"\",INDIRECT(\"D129\")=0),D128,0),\"\")","v":""},"",null,{"$f":"IF(D128<>\"\",IF(AND(B128<>\"\",B127<>\"\"),$I$4+H127,VLOOKUP(INDEX($B$7:B127,MATCH(9.99999999999999E+307,$B$7:B127)),$B$7:H127,7,FALSE)+$I$4),\"\")","v":""},""]
[null,null,{"$f":"IF(D129<>\"\",IF(OR(B129<>\"\",INDIRECT(\"D130\")=0),IF(B128<>\"\",F128+B128,VLOOKUP(INDEX($B$7:B128,MATCH(9.99999999999999E+307,$B$7:B128)),$B$7:F128,5,FALSE)+INDEX($B$7:B128,MATCH(9.99999999999999E+307,$B$7:B128))),(VLOOKUP(INDEX($B$7:B128,MATCH(9.99999999999999E+307,$B$7:B128)),$B$7:F128,5,FALSE))+(INDEX($B$7:B128,MATCH(9.99999999999999E+307,$B$7:B128)))),\"\")","v":""},null,{"$f":"IF(D129<>\"\",IF(OR(B129<>\"\",INDIRECT(\"D130\")=0),D129,0),\"\")","v":""},"",null,{"$f":"IF(D129<>\"\",IF(AND(B129<>\"\",B128<>\"\"),$I$4+H128,VLOOKUP(INDEX($B$7:B128,MATCH(9.99999999999999E+307,$B$7:B128)),$B$7:H128,7,FALSE)+$I$4),\"\")","v":""},""]
[null,null,{"$f":"IF(D130<>\"\",IF(OR(B130<>\"\",INDIRECT(\"D131\")=0),IF(B129<>\"\",F129+B129,VLOOKUP(INDEX($B$7:B129,MATCH(9.99999999999999E+307,$B$7:B129)),$B$7:F129,5,FALSE)+INDEX($B$7:B129,MATCH(9.99999999999999E+307,$B$7:B129))),(VLOOKUP(INDEX($B$7:B129,MATCH(9.99999999999999E+307,$B$7:B129)),$B$7:F129,5,FALSE))+(INDEX($B$7:B129,MATCH(9.99999999999999E+307,$B$7:B129)))),\"\")","v":""},null,{"$f":"IF(D130<>\"\",IF(OR(B130<>\"\",INDIRECT(\"D131\")=0),D130,0),\"\")","v":""},"",null,{"$f":"IF(D130<>\"\",IF(AND(B130<>\"\",B129<>\"\"),$I$4+H129,VLOOKUP(INDEX($B$7:B129,MATCH(9.99999999999999E+307,$B$7:B129)),$B$7:H129,7,FALSE)+$I$4),\"\")","v":""},""]
[null,null,{"$f":"IF(D131<>\"\",IF(OR(B131<>\"\",INDIRECT(\"D132\")=0),IF(B130<>\"\",F130+B130,VLOOKUP(INDEX($B$7:B130,MATCH(9.99999999999999E+307,$B$7:B130)),$B$7:F130,5,FALSE)+INDEX($B$7:B130,MATCH(9.99999999999999E+307,$B$7:B130))),(VLOOKUP(INDEX($B$7:B130,MATCH(9.99999999999999E+307,$B$7:B130)),$B$7:F130,5,FALSE))+(INDEX($B$7:B130,MATCH(9.99999999999999E+307,$B$7:B130)))),\"\")","v":""},null,{"$f":"IF(D131<>\"\",IF(OR(B131<>\"\",INDIRECT(\"D132\")=0),D131,0),\"\")","v":""},"",null,{"$f":"IF(D131<>\"\",IF(AND(B131<>\"\",B130<>\"\"),$I$4+H130,VLOOKUP(INDEX($B$7:B130,MATCH(9.99999999999999E+307,$B$7:B130)),$B$7:H130,7,FALSE)+$I$4),\"\")","v":""},""]
[null,null,{"$f":"IF(D132<>\"\",IF(OR(B132<>\"\",INDIRECT(\"D133\")=0),IF(B131<>\"\",F131+B131,VLOOKUP(INDEX($B$7:B131,MATCH(9.99999999999999E+307,$B$7:B131)),$B$7:F131,5,FALSE)+INDEX($B$7:B131,MATCH(9.99999999999999E+307,$B$7:B131))),(VLOOKUP(INDEX($B$7:B131,MATCH(9.99999999999999E+307,$B$7:B131)),$B$7:F131,5,FALSE))+(INDEX($B$7:B131,MATCH(9.99999999999999E+307,$B$7:B131)))),\"\")","v":""},null,{"$f":"IF(D132<>\"\",IF(OR(B132<>\"\",INDIRECT(\"D133\")=0),D132,0),\"\")","v":""},"",null,{"$f":"IF(D132<>\"\",IF(AND(B132<>\"\",B131<>\"\"),$I$4+H131,VLOOKUP(INDEX($B$7:B131,MATCH(9.99999999999999E+307,$B$7:B131)),$B$7:H131,7,FALSE)+$I$4),\"\")","v":""},""]
[null,null,{"$f":"IF(D133<>\"\",IF(OR(B133<>\"\",INDIRECT(\"D134\")=0),IF(B132<>\"\",F132+B132,VLOOKUP(INDEX($B$7:B132,MATCH(9.99999999999999E+307,$B$7:B132)),$B$7:F132,5,FALSE)+INDEX($B$7:B132,MATCH(9.99999999999999E+307,$B$7:B132))),(VLOOKUP(INDEX($B$7:B132,MATCH(9.99999999999999E+307,$B$7:B132)),$B$7:F132,5,FALSE))+(INDEX($B$7:B132,MATCH(9.99999999999999E+307,$B$7:B132)))),\"\")","v":""},null,{"$f":"IF(D133<>\"\",IF(OR(B133<>\"\",INDIRECT(\"D134\")=0),D133,0),\"\")","v":""},"",null,{"$f":"IF(D133<>\"\",IF(AND(B133<>\"\",B132<>\"\"),$I$4+H132,VLOOKUP(INDEX($B$7:B132,MATCH(9.99999999999999E+307,$B$7:B132)),$B$7:H132,7,FALSE)+$I$4),\"\")","v":""},""]
[null,null,{"$f":"IF(D134<>\"\",IF(OR(B134<>\"\",INDIRECT(\"D135\")=0),IF(B133<>\"\",F133+B133,VLOOKUP(INDEX($B$7:B133,MATCH(9.99999999999999E+307,$B$7:B133)),$B$7:F133,5,FALSE)+INDEX($B$7:B133,MATCH(9.99999999999999E+307,$B$7:B133))),(VLOOKUP(INDEX($B$7:B133,MATCH(9.99999999999999E+307,$B$7:B133)),$B$7:F133,5,FALSE))+(INDEX($B$7:B133,MATCH(9.99999999999999E+307,$B$7:B133)))),\"\")","v":""},null,{"$f":"IF(D134<>\"\",IF(OR(B134<>\"\",INDIRECT(\"D135\")=0),D134,0),\"\")","v":""},"",null,{"$f":"IF(D134<>\"\",IF(AND(B134<>\"\",B133<>\"\"),$I$4+H133,VLOOKUP(INDEX($B$7:B133,MATCH(9.99999999999999E+307,$B$7:B133)),$B$7:H133,7,FALSE)+$I$4),\"\")","v":""},""]
[null,null,{"$f":"IF(D135<>\"\",IF(OR(B135<>\"\",INDIRECT(\"D136\")=0),IF(B134<>\"\",F134+B134,VLOOKUP(INDEX($B$7:B134,MATCH(9.99999999999999E+307,$B$7:B134)),$B$7:F134,5,FALSE)+INDEX($B$7:B134,MATCH(9.99999999999999E+307,$B$7:B134))),(VLOOKUP(INDEX($B$7:B134,MATCH(9.99999999999999E+307,$B$7:B134)),$B$7:F134,5,FALSE))+(INDEX($B$7:B134,MATCH(9.99999999999999E+307,$B$7:B134)))),\"\")","v":""},null,{"$f":"IF(D135<>\"\",IF(OR(B135<>\"\",INDIRECT(\"D136\")=0),D135,0),\"\")","v":""},"",null,{"$f":"IF(D135<>\"\",IF(AND(B135<>\"\",B134<>\"\"),$I$4+H134,VLOOKUP(INDEX($B$7:B134,MATCH(9.99999999999999E+307,$B$7:B134)),$B$7:H134,7,FALSE)+$I$4),\"\")","v":""},""]
[null,null,{"$f":"IF(D136<>\"\",IF(OR(B136<>\"\",INDIRECT(\"D137\")=0),IF(B135<>\"\",F135+B135,VLOOKUP(INDEX($B$7:B135,MATCH(9.99999999999999E+307,$B$7:B135)),$B$7:F135,5,FALSE)+INDEX($B$7:B135,MATCH(9.99999999999999E+307,$B$7:B135))),(VLOOKUP(INDEX($B$7:B135,MATCH(9.99999999999999E+307,$B$7:B135)),$B$7:F135,5,FALSE))+(INDEX($B$7:B135,MATCH(9.99999999999999E+307,$B$7:B135)))),\"\")","v":""},null,{"$f":"IF(D136<>\"\",IF(OR(B136<>\"\",INDIRECT(\"D137\")=0),D136,0),\"\")","v":""},"",null,{"$f":"IF(D136<>\"\",IF(AND(B136<>\"\",B135<>\"\"),$I$4+H135,VLOOKUP(INDEX($B$7:B135,MATCH(9.99999999999999E+307,$B$7:B135)),$B$7:H135,7,FALSE)+$I$4),\"\")","v":""},""]
[null,null,{"$f":"IF(D137<>\"\",IF(OR(B137<>\"\",INDIRECT(\"D138\")=0),IF(B136<>\"\",F136+B136,VLOOKUP(INDEX($B$7:B136,MATCH(9.99999999999999E+307,$B$7:B136)),$B$7:F136,5,FALSE)+INDEX($B$7:B136,MATCH(9.99999999999999E+307,$B$7:B136))),(VLOOKUP(INDEX($B$7:B136,MATCH(9.99999999999999E+307,$B$7:B136)),$B$7:F136,5,FALSE))+(INDEX($B$7:B136,MATCH(9.99999999999999E+307,$B$7:B136)))),\"\")","v":""},null,{"$f":"IF(D137<>\"\",IF(OR(B137<>\"\",INDIRECT(\"D138\")=0),D137,0),\"\")","v":""},{"$f":"IF(D137<>\"\",C137-D137,\"\")","v":""},null,{"$f":"IF(D137<>\"\",IF(AND(B137<>\"\",B136<>\"\"),$I$4+H136,VLOOKUP(INDEX($B$7:B136,MATCH(9.99999999999999E+307,$B$7:B136)),$B$7:H136,7,FALSE)+$I$4),\"\")","v":""},{"$f":"IF(D137<>\"\",(F137+H137),\"\")","v":""}]
[null,null,{"$f":"IF(D138<>\"\",IF(OR(B138<>\"\",INDIRECT(\"D139\")=0),IF(B137<>\"\",F137+B137,VLOOKUP(INDEX($B$7:B137,MATCH(9.99999999999999E+307,$B$7:B137)),$B$7:F137,5,FALSE)+INDEX($B$7:B137,MATCH(9.99999999999999E+307,$B$7:B137))),(VLOOKUP(INDEX($B$7:B137,MATCH(9.99999999999999E+307,$B$7:B137)),$B$7:F137,5,FALSE))+(INDEX($B$7:B137,MATCH(9.99999999999999E+307,$B$7:B137)))),\"\")","v":""},null,{"$f":"IF(D138<>\"\",IF(OR(B138<>\"\",INDIRECT(\"D139\")=0),D138,0),\"\")","v":""},"",null,{"$f":"IF(D138<>\"\",IF(AND(B138<>\"\",B137<>\"\"),$I$4+H137,VLOOKUP(INDEX($B$7:B137,MATCH(9.99999999999999E+307,$B$7:B137)),$B$7:H137,7,FALSE)+$I$4),\"\")","v":""},""]
[null,null,{"$f":"IF(D139<>\"\",IF(OR(B139<>\"\",INDIRECT(\"D140\")=0),IF(B138<>\"\",F138+B138,VLOOKUP(INDEX($B$7:B138,MATCH(9.99999999999999E+307,$B$7:B138)),$B$7:F138,5,FALSE)+INDEX($B$7:B138,MATCH(9.99999999999999E+307,$B$7:B138))),(VLOOKUP(INDEX($B$7:B138,MATCH(9.99999999999999E+307,$B$7:B138)),$B$7:F138,5,FALSE))+(INDEX($B$7:B138,MATCH(9.99999999999999E+307,$B$7:B138)))),\"\")","v":""},null,{"$f":"IF(D139<>\"\",IF(OR(B139<>\"\",INDIRECT(\"D140\")=0),D139,0),\"\")","v":""},"",null,{"$f":"IF(D139<>\"\",IF(AND(B139<>\"\",B138<>\"\"),$I$4+H138,VLOOKUP(INDEX($B$7:B138,MATCH(9.99999999999999E+307,$B$7:B138)),$B$7:H138,7,FALSE)+$I$4),\"\")","v":""},""]
[null,null,{"$f":"IF(D140<>\"\",IF(OR(B140<>\"\",INDIRECT(\"D141\")=0),IF(B139<>\"\",F139+B139,VLOOKUP(INDEX($B$7:B139,MATCH(9.99999999999999E+307,$B$7:B139)),$B$7:F139,5,FALSE)+INDEX($B$7:B139,MATCH(9.99999999999999E+307,$B$7:B139))),(VLOOKUP(INDEX($B$7:B139,MATCH(9.99999999999999E+307,$B$7:B139)),$B$7:F139,5,FALSE))+(INDEX($B$7:B139,MATCH(9.99999999999999E+307,$B$7:B139)))),\"\")","v":""},null,{"$f":"IF(D140<>\"\",IF(OR(B140<>\"\",INDIRECT(\"D141\")=0),D140,0),\"\")","v":""},"",null,{"$f":"IF(D140<>\"\",IF(AND(B140<>\"\",B139<>\"\"),$I$4+H139,VLOOKUP(INDEX($B$7:B139,MATCH(9.99999999999999E+307,$B$7:B139)),$B$7:H139,7,FALSE)+$I$4),\"\")","v":""},""]
[null,null,{"$f":"IF(D141<>\"\",IF(OR(B141<>\"\",INDIRECT(\"D142\")=0),IF(B140<>\"\",F140+B140,VLOOKUP(INDEX($B$7:B140,MATCH(9.99999999999999E+307,$B$7:B140)),$B$7:F140,5,FALSE)+INDEX($B$7:B140,MATCH(9.99999999999999E+307,$B$7:B140))),(VLOOKUP(INDEX($B$7:B140,MATCH(9.99999999999999E+307,$B$7:B140)),$B$7:F140,5,FALSE))+(INDEX($B$7:B140,MATCH(9.99999999999999E+307,$B$7:B140)))),\"\")","v":""},null,{"$f":"IF(D141<>\"\",IF(OR(B141<>\"\",INDIRECT(\"D142\")=0),D141,0),\"\")","v":""},"",null,{"$f":"IF(D141<>\"\",IF(AND(B141<>\"\",B140<>\"\"),$I$4+H140,VLOOKUP(INDEX($B$7:B140,MATCH(9.99999999999999E+307,$B$7:B140)),$B$7:H140,7,FALSE)+$I$4),\"\")","v":""},""]
[null,null,{"$f":"IF(D142<>\"\",IF(OR(B142<>\"\",INDIRECT(\"D143\")=0),IF(B141<>\"\",F141+B141,VLOOKUP(INDEX($B$7:B141,MATCH(9.99999999999999E+307,$B$7:B141)),$B$7:F141,5,FALSE)+INDEX($B$7:B141,MATCH(9.99999999999999E+307,$B$7:B141))),(VLOOKUP(INDEX($B$7:B141,MATCH(9.99999999999999E+307,$B$7:B141)),$B$7:F141,5,FALSE))+(INDEX($B$7:B141,MATCH(9.99999999999999E+307,$B$7:B141)))),\"\")","v":""},null,{"$f":"IF(D142<>\"\",IF(OR(B142<>\"\",INDIRECT(\"D143\")=0),D142,0),\"\")","v":""},"",null,{"$f":"IF(D142<>\"\",IF(AND(B142<>\"\",B141<>\"\"),$I$4+H141,VLOOKUP(INDEX($B$7:B141,MATCH(9.99999999999999E+307,$B$7:B141)),$B$7:H141,7,FALSE)+$I$4),\"\")","v":""},""]
[null,null,{"$f":"IF(D143<>\"\",IF(OR(B143<>\"\",INDIRECT(\"D144\")=0),IF(B142<>\"\",F142+B142,VLOOKUP(INDEX($B$7:B142,MATCH(9.99999999999999E+307,$B$7:B142)),$B$7:F142,5,FALSE)+INDEX($B$7:B142,MATCH(9.99999999999999E+307,$B$7:B142))),(VLOOKUP(INDEX($B$7:B142,MATCH(9.99999999999999E+307,$B$7:B142)),$B$7:F142,5,FALSE))+(INDEX($B$7:B142,MATCH(9.99999999999999E+307,$B$7:B142)))),\"\")","v":""},null,{"$f":"IF(D143<>\"\",IF(OR(B143<>\"\",INDIRECT(\"D144\")=0),D143,0),\"\")","v":""},"",null,{"$f":"IF(D143<>\"\",IF(AND(B143<>\"\",B142<>\"\"),$I$4+H142,VLOOKUP(INDEX($B$7:B142,MATCH(9.99999999999999E+307,$B$7:B142)),$B$7:H142,7,FALSE)+$I$4),\"\")","v":""},""]
[null,null,{"$f":"IF(D144<>\"\",IF(OR(B144<>\"\",INDIRECT(\"D145\")=0),IF(B143<>\"\",F143+B143,VLOOKUP(INDEX($B$7:B143,MATCH(9.99999999999999E+307,$B$7:B143)),$B$7:F143,5,FALSE)+INDEX($B$7:B143,MATCH(9.99999999999999E+307,$B$7:B143))),(VLOOKUP(INDEX($B$7:B143,MATCH(9.99999999999999E+307,$B$7:B143)),$B$7:F143,5,FALSE))+(INDEX($B$7:B143,MATCH(9.99999999999999E+307,$B$7:B143)))),\"\")","v":""},null,{"$f":"IF(D144<>\"\",IF(OR(B144<>\"\",INDIRECT(\"D145\")=0),D144,0),\"\")","v":""},"",null,{"$f":"IF(D144<>\"\",IF(AND(B144<>\"\",B143<>\"\"),$I$4+H143,VLOOKUP(INDEX($B$7:B143,MATCH(9.99999999999999E+307,$B$7:B143)),$B$7:H143,7,FALSE)+$I$4),\"\")","v":""},""]
[null,null,{"$f":"IF(D145<>\"\",IF(OR(B145<>\"\",INDIRECT(\"D146\")=0),IF(B144<>\"\",F144+B144,VLOOKUP(INDEX($B$7:B144,MATCH(9.99999999999999E+307,$B$7:B144)),$B$7:F144,5,FALSE)+INDEX($B$7:B144,MATCH(9.99999999999999E+307,$B$7:B144))),(VLOOKUP(INDEX($B$7:B144,MATCH(9.99999999999999E+307,$B$7:B144)),$B$7:F144,5,FALSE))+(INDEX($B$7:B144,MATCH(9.99999999999999E+307,$B$7:B144)))),\"\")","v":""},null,{"$f":"IF(D145<>\"\",IF(OR(B145<>\"\",INDIRECT(\"D146\")=0),D145,0),\"\")","v":""},"",null,{"$f":"IF(D145<>\"\",IF(AND(B145<>\"\",B144<>\"\"),$I$4+H144,VLOOKUP(INDEX($B$7:B144,MATCH(9.99999999999999E+307,$B$7:B144)),$B$7:H144,7,FALSE)+$I$4),\"\")","v":""},""]
[null,null,{"$f":"IF(D146<>\"\",IF(OR(B146<>\"\",INDIRECT(\"D147\")=0),IF(B145<>\"\",F145+B145,VLOOKUP(INDEX($B$7:B145,MATCH(9.99999999999999E+307,$B$7:B145)),$B$7:F145,5,FALSE)+INDEX($B$7:B145,MATCH(9.99999999999999E+307,$B$7:B145))),(VLOOKUP(INDEX($B$7:B145,MATCH(9.99999999999999E+307,$B$7:B145)),$B$7:F145,5,FALSE))+(INDEX($B$7:B145,MATCH(9.99999999999999E+307,$B$7:B145)))),\"\")","v":""},null,{"$f":"IF(D146<>\"\",IF(OR(B146<>\"\",INDIRECT(\"D147\")=0),D146,0),\"\")","v":""},"",null,{"$f":"IF(D146<>\"\",IF(AND(B146<>\"\",B145<>\"\"),$I$4+H145,VLOOKUP(INDEX($B$7:B145,MATCH(9.99999999999999E+307,$B$7:B145)),$B$7:H145,7,FALSE)+$I$4),\"\")","v":""},""]
[null,null,{"$f":"IF(D147<>\"\",IF(OR(B147<>\"\",INDIRECT(\"D148\")=0),IF(B146<>\"\",F146+B146,VLOOKUP(INDEX($B$7:B146,MATCH(9.99999999999999E+307,$B$7:B146)),$B$7:F146,5,FALSE)+INDEX($B$7:B146,MATCH(9.99999999999999E+307,$B$7:B146))),(VLOOKUP(INDEX($B$7:B146,MATCH(9.99999999999999E+307,$B$7:B146)),$B$7:F146,5,FALSE))+(INDEX($B$7:B146,MATCH(9.99999999999999E+307,$B$7:B146)))),\"\")","v":""},null,{"$f":"IF(D147<>\"\",IF(OR(B147<>\"\",INDIRECT(\"D148\")=0),D147,0),\"\")","v":""},"",null,{"$f":"IF(D147<>\"\",IF(AND(B147<>\"\",B146<>\"\"),$I$4+H146,VLOOKUP(INDEX($B$7:B146,MATCH(9.99999999999999E+307,$B$7:B146)),$B$7:H146,7,FALSE)+$I$4),\"\")","v":""},""]
[null,null,{"$f":"IF(D148<>\"\",IF(OR(B148<>\"\",INDIRECT(\"D149\")=0),IF(B147<>\"\",F147+B147,VLOOKUP(INDEX($B$7:B147,MATCH(9.99999999999999E+307,$B$7:B147)),$B$7:F147,5,FALSE)+INDEX($B$7:B147,MATCH(9.99999999999999E+307,$B$7:B147))),(VLOOKUP(INDEX($B$7:B147,MATCH(9.99999999999999E+307,$B$7:B147)),$B$7:F147,5,FALSE))+(INDEX($B$7:B147,MATCH(9.99999999999999E+307,$B$7:B147)))),\"\")","v":""},null,{"$f":"IF(D148<>\"\",IF(OR(B148<>\"\",INDIRECT(\"D149\")=0),D148,0),\"\")","v":""},"",null,{"$f":"IF(D148<>\"\",IF(AND(B148<>\"\",B147<>\"\"),$I$4+H147,VLOOKUP(INDEX($B$7:B147,MATCH(9.99999999999999E+307,$B$7:B147)),$B$7:H147,7,FALSE)+$I$4),\"\")","v":""},""]
[null,null,{"$f":"IF(D149<>\"\",IF(OR(B149<>\"\",INDIRECT(\"D150\")=0),IF(B148<>\"\",F148+B148,VLOOKUP(INDEX($B$7:B148,MATCH(9.99999999999999E+307,$B$7:B148)),$B$7:F148,5,FALSE)+INDEX($B$7:B148,MATCH(9.99999999999999E+307,$B$7:B148))),(VLOOKUP(INDEX($B$7:B148,MATCH(9.99999999999999E+307,$B$7:B148)),$B$7:F148,5,FALSE))+(INDEX($B$7:B148,MATCH(9.99999999999999E+307,$B$7:B148)))),\"\")","v":""},null,{"$f":"IF(D149<>\"\",IF(OR(B149<>\"\",INDIRECT(\"D150\")=0),D149,0),\"\")","v":""},"",null,{"$f":"IF(D149<>\"\",IF(AND(B149<>\"\",B148<>\"\"),$I$4+H148,VLOOKUP(INDEX($B$7:B148,MATCH(9.99999999999999E+307,$B$7:B148)),$B$7:H148,7,FALSE)+$I$4),\"\")","v":""},""]
[null,null,{"$f":"IF(D150<>\"\",IF(OR(B150<>\"\",INDIRECT(\"D151\")=0),IF(B149<>\"\",F149+B149,VLOOKUP(INDEX($B$7:B149,MATCH(9.99999999999999E+307,$B$7:B149)),$B$7:F149,5,FALSE)+INDEX($B$7:B149,MATCH(9.99999999999999E+307,$B$7:B149))),(VLOOKUP(INDEX($B$7:B149,MATCH(9.99999999999999E+307,$B$7:B149)),$B$7:F149,5,FALSE))+(INDEX($B$7:B149,MATCH(9.99999999999999E+307,$B$7:B149)))),\"\")","v":""},null,{"$f":"IF(D150<>\"\",IF(OR(B150<>\"\",INDIRECT(\"D151\")=0),D150,0),\"\")","v":""},"",null,{"$f":"IF(D150<>\"\",IF(AND(B150<>\"\",B149<>\"\"),$I$4+H149,VLOOKUP(INDEX($B$7:B149,MATCH(9.99999999999999E+307,$B$7:B149)),$B$7:H149,7,FALSE)+$I$4),\"\")","v":""},""]
[null,null,{"$f":"IF(D151<>\"\",IF(OR(B151<>\"\",INDIRECT(\"D152\")=0),IF(B150<>\"\",F150+B150,VLOOKUP(INDEX($B$7:B150,MATCH(9.99999999999999E+307,$B$7:B150)),$B$7:F150,5,FALSE)+INDEX($B$7:B150,MATCH(9.99999999999999E+307,$B$7:B150))),(VLOOKUP(INDEX($B$7:B150,MATCH(9.99999999999999E+307,$B$7:B150)),$B$7:F150,5,FALSE))+(INDEX($B$7:B150,MATCH(9.99999999999999E+307,$B$7:B150)))),\"\")","v":""},null,{"$f":"IF(D151<>\"\",IF(OR(B151<>\"\",INDIRECT(\"D152\")=0),D151,0),\"\")","v":""},"",null,{"$f":"IF(D151<>\"\",IF(AND(B151<>\"\",B150<>\"\"),$I$4+H150,VLOOKUP(INDEX($B$7:B150,MATCH(9.99999999999999E+307,$B$7:B150)),$B$7:H150,7,FALSE)+$I$4),\"\")","v":""},""]
[null,null,{"$f":"IF(D152<>\"\",IF(OR(B152<>\"\",INDIRECT(\"D153\")=0),IF(B151<>\"\",F151+B151,VLOOKUP(INDEX($B$7:B151,MATCH(9.99999999999999E+307,$B$7:B151)),$B$7:F151,5,FALSE)+INDEX($B$7:B151,MATCH(9.99999999999999E+307,$B$7:B151))),(VLOOKUP(INDEX($B$7:B151,MATCH(9.99999999999999E+307,$B$7:B151)),$B$7:F151,5,FALSE))+(INDEX($B$7:B151,MATCH(9.99999999999999E+307,$B$7:B151)))),\"\")","v":""},null,{"$f":"IF(D152<>\"\",IF(OR(B152<>\"\",INDIRECT(\"D153\")=0),D152,0),\"\")","v":""},"",null,{"$f":"IF(D152<>\"\",IF(AND(B152<>\"\",B151<>\"\"),$I$4+H151,VLOOKUP(INDEX($B$7:B151,MATCH(9.99999999999999E+307,$B$7:B151)),$B$7:H151,7,FALSE)+$I$4),\"\")","v":""},""]
[null,null,{"$f":"IF(D153<>\"\",IF(OR(B153<>\"\",INDIRECT(\"D154\")=0),IF(B152<>\"\",F152+B152,VLOOKUP(INDEX($B$7:B152,MATCH(9.99999999999999E+307,$B$7:B152)),$B$7:F152,5,FALSE)+INDEX($B$7:B152,MATCH(9.99999999999999E+307,$B$7:B152))),(VLOOKUP(INDEX($B$7:B152,MATCH(9.99999999999999E+307,$B$7:B152)),$B$7:F152,5,FALSE))+(INDEX($B$7:B152,MATCH(9.99999999999999E+307,$B$7:B152)))),\"\")","v":""},null,{"$f":"IF(D153<>\"\",IF(OR(B153<>\"\",INDIRECT(\"D154\")=0),D153,0),\"\")","v":""},"",null,{"$f":"IF(D153<>\"\",IF(AND(B153<>\"\",B152<>\"\"),$I$4+H152,VLOOKUP(INDEX($B$7:B152,MATCH(9.99999999999999E+307,$B$7:B152)),$B$7:H152,7,FALSE)+$I$4),\"\")","v":""},""]
[null,null,{"$f":"IF(D154<>\"\",IF(OR(B154<>\"\",INDIRECT(\"D155\")=0),IF(B153<>\"\",F153+B153,VLOOKUP(INDEX($B$7:B153,MATCH(9.99999999999999E+307,$B$7:B153)),$B$7:F153,5,FALSE)+INDEX($B$7:B153,MATCH(9.99999999999999E+307,$B$7:B153))),(VLOOKUP(INDEX($B$7:B153,MATCH(9.99999999999999E+307,$B$7:B153)),$B$7:F153,5,FALSE))+(INDEX($B$7:B153,MATCH(9.99999999999999E+307,$B$7:B153)))),\"\")","v":""},null,{"$f":"IF(D154<>\"\",IF(OR(B154<>\"\",INDIRECT(\"D155\")=0),D154,0),\"\")","v":""},"",null,{"$f":"IF(D154<>\"\",IF(AND(B154<>\"\",B153<>\"\"),$I$4+H153,VLOOKUP(INDEX($B$7:B153,MATCH(9.99999999999999E+307,$B$7:B153)),$B$7:H153,7,FALSE)+$I$4),\"\")","v":""},""]
[null,null,{"$f":"IF(D155<>\"\",IF(OR(B155<>\"\",INDIRECT(\"D156\")=0),IF(B154<>\"\",F154+B154,VLOOKUP(INDEX($B$7:B154,MATCH(9.99999999999999E+307,$B$7:B154)),$B$7:F154,5,FALSE)+INDEX($B$7:B154,MATCH(9.99999999999999E+307,$B$7:B154))),(VLOOKUP(INDEX($B$7:B154,MATCH(9.99999999999999E+307,$B$7:B154)),$B$7:F154,5,FALSE))+(INDEX($B$7:B154,MATCH(9.99999999999999E+307,$B$7:B154)))),\"\")","v":""},null,{"$f":"IF(D155<>\"\",IF(OR(B155<>\"\",INDIRECT(\"D156\")=0),D155,0),\"\")","v":""},"",null,{"$f":"IF(D155<>\"\",IF(AND(B155<>\"\",B154<>\"\"),$I$4+H154,VLOOKUP(INDEX($B$7:B154,MATCH(9.99999999999999E+307,$B$7:B154)),$B$7:H154,7,FALSE)+$I$4),\"\")","v":""},""]
[null,null,{"$f":"IF(D156<>\"\",IF(OR(B156<>\"\",INDIRECT(\"D157\")=0),IF(B155<>\"\",F155+B155,VLOOKUP(INDEX($B$7:B155,MATCH(9.99999999999999E+307,$B$7:B155)),$B$7:F155,5,FALSE)+INDEX($B$7:B155,MATCH(9.99999999999999E+307,$B$7:B155))),(VLOOKUP(INDEX($B$7:B155,MATCH(9.99999999999999E+307,$B$7:B155)),$B$7:F155,5,FALSE))+(INDEX($B$7:B155,MATCH(9.99999999999999E+307,$B$7:B155)))),\"\")","v":""},null,{"$f":"IF(D156<>\"\",IF(OR(B156<>\"\",INDIRECT(\"D157\")=0),D156,0),\"\")","v":""},"",null,{"$f":"IF(D156<>\"\",IF(AND(B156<>\"\",B155<>\"\"),$I$4+H155,VLOOKUP(INDEX($B$7:B155,MATCH(9.99999999999999E+307,$B$7:B155)),$B$7:H155,7,FALSE)+$I$4),\"\")","v":""},""]
[null,null,{"$f":"IF(D157<>\"\",IF(OR(B157<>\"\",INDIRECT(\"D158\")=0),IF(B156<>\"\",F156+B156,VLOOKUP(INDEX($B$7:B156,MATCH(9.99999999999999E+307,$B$7:B156)),$B$7:F156,5,FALSE)+INDEX($B$7:B156,MATCH(9.99999999999999E+307,$B$7:B156))),(VLOOKUP(INDEX($B$7:B156,MATCH(9.99999999999999E+307,$B$7:B156)),$B$7:F156,5,FALSE))+(INDEX($B$7:B156,MATCH(9.99999999999999E+307,$B$7:B156)))),\"\")","v":""},null,{"$f":"IF(D157<>\"\",IF(OR(B157<>\"\",INDIRECT(\"D158\")=0),D157,0),\"\")","v":""},"",null,{"$f":"IF(D157<>\"\",IF(AND(B157<>\"\",B156<>\"\"),$I$4+H156,VLOOKUP(INDEX($B$7:B156,MATCH(9.99999999999999E+307,$B$7:B156)),$B$7:H156,7,FALSE)+$I$4),\"\")","v":""},""]
[null,null,{"$f":"IF(D158<>\"\",IF(OR(B158<>\"\",INDIRECT(\"D159\")=0),IF(B157<>\"\",F157+B157,VLOOKUP(INDEX($B$7:B157,MATCH(9.99999999999999E+307,$B$7:B157)),$B$7:F157,5,FALSE)+INDEX($B$7:B157,MATCH(9.99999999999999E+307,$B$7:B157))),(VLOOKUP(INDEX($B$7:B157,MATCH(9.99999999999999E+307,$B$7:B157)),$B$7:F157,5,FALSE))+(INDEX($B$7:B157,MATCH(9.99999999999999E+307,$B$7:B157)))),\"\")","v":""},null,{"$f":"IF(D158<>\"\",IF(OR(B158<>\"\",INDIRECT(\"D159\")=0),D158,0),\"\")","v":""},"",null,{"$f":"IF(D158<>\"\",IF(AND(B158<>\"\",B157<>\"\"),$I$4+H157,VLOOKUP(INDEX($B$7:B157,MATCH(9.99999999999999E+307,$B$7:B157)),$B$7:H157,7,FALSE)+$I$4),\"\")","v":""},""]
[null,null,{"$f":"IF(D159<>\"\",IF(OR(B159<>\"\",INDIRECT(\"D160\")=0),IF(B158<>\"\",F158+B158,VLOOKUP(INDEX($B$7:B158,MATCH(9.99999999999999E+307,$B$7:B158)),$B$7:F158,5,FALSE)+INDEX($B$7:B158,MATCH(9.99999999999999E+307,$B$7:B158))),(VLOOKUP(INDEX($B$7:B158,MATCH(9.99999999999999E+307,$B$7:B158)),$B$7:F158,5,FALSE))+(INDEX($B$7:B158,MATCH(9.99999999999999E+307,$B$7:B158)))),\"\")","v":""},null,{"$f":"IF(D159<>\"\",IF(OR(B159<>\"\",INDIRECT(\"D160\")=0),D159,0),\"\")","v":""},"",null,{"$f":"IF(D159<>\"\",IF(AND(B159<>\"\",B158<>\"\"),$I$4+H158,VLOOKUP(INDEX($B$7:B158,MATCH(9.99999999999999E+307,$B$7:B158)),$B$7:H158,7,FALSE)+$I$4),\"\")","v":""},""]
[null,null,{"$f":"IF(D160<>\"\",IF(OR(B160<>\"\",INDIRECT(\"D161\")=0),IF(B159<>\"\",F159+B159,VLOOKUP(INDEX($B$7:B159,MATCH(9.99999999999999E+307,$B$7:B159)),$B$7:F159,5,FALSE)+INDEX($B$7:B159,MATCH(9.99999999999999E+307,$B$7:B159))),(VLOOKUP(INDEX($B$7:B159,MATCH(9.99999999999999E+307,$B$7:B159)),$B$7:F159,5,FALSE))+(INDEX($B$7:B159,MATCH(9.99999999999999E+307,$B$7:B159)))),\"\")","v":""},null,{"$f":"IF(D160<>\"\",IF(OR(B160<>\"\",INDIRECT(\"D161\")=0),D160,0),\"\")","v":""},"",null,{"$f":"IF(D160<>\"\",IF(AND(B160<>\"\",B159<>\"\"),$I$4+H159,VLOOKUP(INDEX($B$7:B159,MATCH(9.99999999999999E+307,$B$7:B159)),$B$7:H159,7,FALSE)+$I$4),\"\")","v":""},""]
[null,null,{"$f":"IF(D161<>\"\",IF(OR(B161<>\"\",INDIRECT(\"D162\")=0),IF(B160<>\"\",F160+B160,VLOOKUP(INDEX($B$7:B160,MATCH(9.99999999999999E+307,$B$7:B160)),$B$7:F160,5,FALSE)+INDEX($B$7:B160,MATCH(9.99999999999999E+307,$B$7:B160))),(VLOOKUP(INDEX($B$7:B160,MATCH(9.99999999999999E+307,$B$7:B160)),$B$7:F160,5,FALSE))+(INDEX($B$7:B160,MATCH(9.99999999999999E+307,$B$7:B160)))),\"\")","v":""},null,{"$f":"IF(D161<>\"\",IF(OR(B161<>\"\",INDIRECT(\"D162\")=0),D161,0),\"\")","v":""},"",null,{"$f":"IF(D161<>\"\",IF(AND(B161<>\"\",B160<>\"\"),$I$4+H160,VLOOKUP(INDEX($B$7:B160,MATCH(9.99999999999999E+307,$B$7:B160)),$B$7:H160,7,FALSE)+$I$4),\"\")","v":""},""]
[null,null,{"$f":"IF(D162<>\"\",IF(OR(B162<>\"\",INDIRECT(\"D163\")=0),IF(B161<>\"\",F161+B161,VLOOKUP(INDEX($B$7:B161,MATCH(9.99999999999999E+307,$B$7:B161)),$B$7:F161,5,FALSE)+INDEX($B$7:B161,MATCH(9.99999999999999E+307,$B$7:B161))),(VLOOKUP(INDEX($B$7:B161,MATCH(9.99999999999999E+307,$B$7:B161)),$B$7:F161,5,FALSE))+(INDEX($B$7:B161,MATCH(9.99999999999999E+307,$B$7:B161)))),\"\")","v":""},null,{"$f":"IF(D162<>\"\",IF(OR(B162<>\"\",INDIRECT(\"D163\")=0),D162,0),\"\")","v":""},"",null,{"$f":"IF(D162<>\"\",IF(AND(B162<>\"\",B161<>\"\"),$I$4+H161,VLOOKUP(INDEX($B$7:B161,MATCH(9.99999999999999E+307,$B$7:B161)),$B$7:H161,7,FALSE)+$I$4),\"\")","v":""},""]
[null,null,{"$f":"IF(D163<>\"\",IF(OR(B163<>\"\",INDIRECT(\"D164\")=0),IF(B162<>\"\",F162+B162,VLOOKUP(INDEX($B$7:B162,MATCH(9.99999999999999E+307,$B$7:B162)),$B$7:F162,5,FALSE)+INDEX($B$7:B162,MATCH(9.99999999999999E+307,$B$7:B162))),(VLOOKUP(INDEX($B$7:B162,MATCH(9.99999999999999E+307,$B$7:B162)),$B$7:F162,5,FALSE))+(INDEX($B$7:B162,MATCH(9.99999999999999E+307,$B$7:B162)))),\"\")","v":""},null,{"$f":"IF(D163<>\"\",IF(OR(B163<>\"\",INDIRECT(\"D164\")=0),D163,0),\"\")","v":""},"",null,{"$f":"IF(D163<>\"\",IF(AND(B163<>\"\",B162<>\"\"),$I$4+H162,VLOOKUP(INDEX($B$7:B162,MATCH(9.99999999999999E+307,$B$7:B162)),$B$7:H162,7,FALSE)+$I$4),\"\")","v":""},""]
[null,null,{"$f":"IF(D164<>\"\",IF(OR(B164<>\"\",INDIRECT(\"D165\")=0),IF(B163<>\"\",F163+B163,VLOOKUP(INDEX($B$7:B163,MATCH(9.99999999999999E+307,$B$7:B163)),$B$7:F163,5,FALSE)+INDEX($B$7:B163,MATCH(9.99999999999999E+307,$B$7:B163))),(VLOOKUP(INDEX($B$7:B163,MATCH(9.99999999999999E+307,$B$7:B163)),$B$7:F163,5,FALSE))+(INDEX($B$7:B163,MATCH(9.99999999999999E+307,$B$7:B163)))),\"\")","v":""},null,{"$f":"IF(D164<>\"\",IF(OR(B164<>\"\",INDIRECT(\"D165\")=0),D164,0),\"\")","v":""},"",null,{"$f":"IF(D164<>\"\",IF(AND(B164<>\"\",B163<>\"\"),$I$4+H163,VLOOKUP(INDEX($B$7:B163,MATCH(9.99999999999999E+307,$B$7:B163)),$B$7:H163,7,FALSE)+$I$4),\"\")","v":""},""]
[null,null,{"$f":"IF(D165<>\"\",IF(OR(B165<>\"\",INDIRECT(\"D166\")=0),IF(B164<>\"\",F164+B164,VLOOKUP(INDEX($B$7:B164,MATCH(9.99999999999999E+307,$B$7:B164)),$B$7:F164,5,FALSE)+INDEX($B$7:B164,MATCH(9.99999999999999E+307,$B$7:B164))),(VLOOKUP(INDEX($B$7:B164,MATCH(9.99999999999999E+307,$B$7:B164)),$B$7:F164,5,FALSE))+(INDEX($B$7:B164,MATCH(9.99999999999999E+307,$B$7:B164)))),\"\")","v":""},null,{"$f":"IF(D165<>\"\",IF(OR(B165<>\"\",INDIRECT(\"D166\")=0),D165,0),\"\")","v":""},"",null,{"$f":"IF(D165<>\"\",IF(AND(B165<>\"\",B164<>\"\"),$I$4+H164,VLOOKUP(INDEX($B$7:B164,MATCH(9.99999999999999E+307,$B$7:B164)),$B$7:H164,7,FALSE)+$I$4),\"\")","v":""},""]
[null,null,{"$f":"IF(D166<>\"\",IF(OR(B166<>\"\",INDIRECT(\"D167\")=0),IF(B165<>\"\",F165+B165,VLOOKUP(INDEX($B$7:B165,MATCH(9.99999999999999E+307,$B$7:B165)),$B$7:F165,5,FALSE)+INDEX($B$7:B165,MATCH(9.99999999999999E+307,$B$7:B165))),(VLOOKUP(INDEX($B$7:B165,MATCH(9.99999999999999E+307,$B$7:B165)),$B$7:F165,5,FALSE))+(INDEX($B$7:B165,MATCH(9.99999999999999E+307,$B$7:B165)))),\"\")","v":""},null,{"$f":"IF(D166<>\"\",IF(OR(B166<>\"\",INDIRECT(\"D167\")=0),D166,0),\"\")","v":""},"",null,{"$f":"IF(D166<>\"\",IF(AND(B166<>\"\",B165<>\"\"),$I$4+H165,VLOOKUP(INDEX($B$7:B165,MATCH(9.99999999999999E+307,$B$7:B165)),$B$7:H165,7,FALSE)+$I$4),\"\")","v":""},""]
[null,null,{"$f":"IF(D167<>\"\",IF(OR(B167<>\"\",INDIRECT(\"D168\")=0),IF(B166<>\"\",F166+B166,VLOOKUP(INDEX($B$7:B166,MATCH(9.99999999999999E+307,$B$7:B166)),$B$7:F166,5,FALSE)+INDEX($B$7:B166,MATCH(9.99999999999999E+307,$B$7:B166))),(VLOOKUP(INDEX($B$7:B166,MATCH(9.99999999999999E+307,$B$7:B166)),$B$7:F166,5,FALSE))+(INDEX($B$7:B166,MATCH(9.99999999999999E+307,$B$7:B166)))),\"\")","v":""},null,{"$f":"IF(D167<>\"\",IF(OR(B167<>\"\",INDIRECT(\"D168\")=0),D167,0),\"\")","v":""},"",null,{"$f":"IF(D167<>\"\",IF(AND(B167<>\"\",B166<>\"\"),$I$4+H166,VLOOKUP(INDEX($B$7:B166,MATCH(9.99999999999999E+307,$B$7:B166)),$B$7:H166,7,FALSE)+$I$4),\"\")","v":""},""]
[null,null,{"$f":"IF(D168<>\"\",IF(OR(B168<>\"\",INDIRECT(\"D169\")=0),IF(B167<>\"\",F167+B167,VLOOKUP(INDEX($B$7:B167,MATCH(9.99999999999999E+307,$B$7:B167)),$B$7:F167,5,FALSE)+INDEX($B$7:B167,MATCH(9.99999999999999E+307,$B$7:B167))),(VLOOKUP(INDEX($B$7:B167,MATCH(9.99999999999999E+307,$B$7:B167)),$B$7:F167,5,FALSE))+(INDEX($B$7:B167,MATCH(9.99999999999999E+307,$B$7:B167)))),\"\")","v":""},null,{"$f":"IF(D168<>\"\",IF(OR(B168<>\"\",INDIRECT(\"D169\")=0),D168,0),\"\")","v":""},"",null,{"$f":"IF(D168<>\"\",IF(AND(B168<>\"\",B167<>\"\"),$I$4+H167,VLOOKUP(INDEX($B$7:B167,MATCH(9.99999999999999E+307,$B$7:B167)),$B$7:H167,7,FALSE)+$I$4),\"\")","v":""},""]
[null,null,{"$f":"IF(D169<>\"\",IF(OR(B169<>\"\",INDIRECT(\"D170\")=0),IF(B168<>\"\",F168+B168,VLOOKUP(INDEX($B$7:B168,MATCH(9.99999999999999E+307,$B$7:B168)),$B$7:F168,5,FALSE)+INDEX($B$7:B168,MATCH(9.99999999999999E+307,$B$7:B168))),(VLOOKUP(INDEX($B$7:B168,MATCH(9.99999999999999E+307,$B$7:B168)),$B$7:F168,5,FALSE))+(INDEX($B$7:B168,MATCH(9.99999999999999E+307,$B$7:B168)))),\"\")","v":""},null,{"$f":"IF(D169<>\"\",IF(OR(B169<>\"\",INDIRECT(\"D170\")=0),D169,0),\"\")","v":""},"",null,{"$f":"IF(D169<>\"\",IF(AND(B169<>\"\",B168<>\"\"),$I$4+H168,VLOOKUP(INDEX($B$7:B168,MATCH(9.99999999999999E+307,$B$7:B168)),$B$7:H168,7,FALSE)+$I$4),\"\")","v":""},""]
[null,null,{"$f":"IF(D170<>\"\",IF(OR(B170<>\"\",INDIRECT(\"D171\")=0),IF(B169<>\"\",F169+B169,VLOOKUP(INDEX($B$7:B169,MATCH(9.99999999999999E+307,$B$7:B169)),$B$7:F169,5,FALSE)+INDEX($B$7:B169,MATCH(9.99999999999999E+307,$B$7:B169))),(VLOOKUP(INDEX($B$7:B169,MATCH(9.99999999999999E+307,$B$7:B169)),$B$7:F169,5,FALSE))+(INDEX($B$7:B169,MATCH(9.99999999999999E+307,$B$7:B169)))),\"\")","v":""},null,{"$f":"IF(D170<>\"\",IF(OR(B170<>\"\",INDIRECT(\"D171\")=0),D170,0),\"\")","v":""},"",null,{"$f":"IF(D170<>\"\",IF(AND(B170<>\"\",B169<>\"\"),$I$4+H169,VLOOKUP(INDEX($B$7:B169,MATCH(9.99999999999999E+307,$B$7:B169)),$B$7:H169,7,FALSE)+$I$4),\"\")","v":""},""]
[null,null,{"$f":"IF(D171<>\"\",IF(OR(B171<>\"\",INDIRECT(\"D172\")=0),IF(B170<>\"\",F170+B170,VLOOKUP(INDEX($B$7:B170,MATCH(9.99999999999999E+307,$B$7:B170)),$B$7:F170,5,FALSE)+INDEX($B$7:B170,MATCH(9.99999999999999E+307,$B$7:B170))),(VLOOKUP(INDEX($B$7:B170,MATCH(9.99999999999999E+307,$B$7:B170)),$B$7:F170,5,FALSE))+(INDEX($B$7:B170,MATCH(9.99999999999999E+307,$B$7:B170)))),\"\")","v":""},null,{"$f":"IF(D171<>\"\",IF(OR(B171<>\"\",INDIRECT(\"D172\")=0),D171,0),\"\")","v":""},"",null,{"$f":"IF(D171<>\"\",IF(AND(B171<>\"\",B170<>\"\"),$I$4+H170,VLOOKUP(INDEX($B$7:B170,MATCH(9.99999999999999E+307,$B$7:B170)),$B$7:H170,7,FALSE)+$I$4),\"\")","v":""},""]
[null,null,{"$f":"IF(D172<>\"\",IF(OR(B172<>\"\",INDIRECT(\"D173\")=0),IF(B171<>\"\",F171+B171,VLOOKUP(INDEX($B$7:B171,MATCH(9.99999999999999E+307,$B$7:B171)),$B$7:F171,5,FALSE)+INDEX($B$7:B171,MATCH(9.99999999999999E+307,$B$7:B171))),(VLOOKUP(INDEX($B$7:B171,MATCH(9.99999999999999E+307,$B$7:B171)),$B$7:F171,5,FALSE))+(INDEX($B$7:B171,MATCH(9.99999999999999E+307,$B$7:B171)))),\"\")","v":""},null,{"$f":"IF(D172<>\"\",IF(OR(B172<>\"\",INDIRECT(\"D173\")=0),D172,0),\"\")","v":""},"",null,{"$f":"IF(D172<>\"\",IF(AND(B172<>\"\",B171<>\"\"),$I$4+H171,VLOOKUP(INDEX($B$7:B171,MATCH(9.99999999999999E+307,$B$7:B171)),$B$7:H171,7,FALSE)+$I$4),\"\")","v":""},""]
[null,null,{"$f":"IF(D173<>\"\",IF(OR(B173<>\"\",INDIRECT(\"D174\")=0),IF(B172<>\"\",F172+B172,VLOOKUP(INDEX($B$7:B172,MATCH(9.99999999999999E+307,$B$7:B172)),$B$7:F172,5,FALSE)+INDEX($B$7:B172,MATCH(9.99999999999999E+307,$B$7:B172))),(VLOOKUP(INDEX($B$7:B172,MATCH(9.99999999999999E+307,$B$7:B172)),$B$7:F172,5,FALSE))+(INDEX($B$7:B172,MATCH(9.99999999999999E+307,$B$7:B172)))),\"\")","v":""},null,{"$f":"IF(D173<>\"\",IF(OR(B173<>\"\",INDIRECT(\"D174\")=0),D173,0),\"\")","v":""},"",null,{"$f":"IF(D173<>\"\",IF(AND(B173<>\"\",B172<>\"\"),$I$4+H172,VLOOKUP(INDEX($B$7:B172,MATCH(9.99999999999999E+307,$B$7:B172)),$B$7:H172,7,FALSE)+$I$4),\"\")","v":""},""]
[null,null,{"$f":"IF(D174<>\"\",IF(OR(B174<>\"\",INDIRECT(\"D175\")=0),IF(B173<>\"\",F173+B173,VLOOKUP(INDEX($B$7:B173,MATCH(9.99999999999999E+307,$B$7:B173)),$B$7:F173,5,FALSE)+INDEX($B$7:B173,MATCH(9.99999999999999E+307,$B$7:B173))),(VLOOKUP(INDEX($B$7:B173,MATCH(9.99999999999999E+307,$B$7:B173)),$B$7:F173,5,FALSE))+(INDEX($B$7:B173,MATCH(9.99999999999999E+307,$B$7:B173)))),\"\")","v":""},null,{"$f":"IF(D174<>\"\",IF(OR(B174<>\"\",INDIRECT(\"D175\")=0),D174,0),\"\")","v":""},"",null,{"$f":"IF(D174<>\"\",IF(AND(B174<>\"\",B173<>\"\"),$I$4+H173,VLOOKUP(INDEX($B$7:B173,MATCH(9.99999999999999E+307,$B$7:B173)),$B$7:H173,7,FALSE)+$I$4),\"\")","v":""},""]
[null,null,{"$f":"IF(D175<>\"\",IF(OR(B175<>\"\",INDIRECT(\"D176\")=0),IF(B174<>\"\",F174+B174,VLOOKUP(INDEX($B$7:B174,MATCH(9.99999999999999E+307,$B$7:B174)),$B$7:F174,5,FALSE)+INDEX($B$7:B174,MATCH(9.99999999999999E+307,$B$7:B174))),(VLOOKUP(INDEX($B$7:B174,MATCH(9.99999999999999E+307,$B$7:B174)),$B$7:F174,5,FALSE))+(INDEX($B$7:B174,MATCH(9.99999999999999E+307,$B$7:B174)))),\"\")","v":""},null,{"$f":"IF(D175<>\"\",IF(OR(B175<>\"\",INDIRECT(\"D176\")=0),D175,0),\"\")","v":""},"",null,{"$f":"IF(D175<>\"\",IF(AND(B175<>\"\",B174<>\"\"),$I$4+H174,VLOOKUP(INDEX($B$7:B174,MATCH(9.99999999999999E+307,$B$7:B174)),$B$7:H174,7,FALSE)+$I$4),\"\")","v":""},""]
[null,null,{"$f":"IF(D176<>\"\",IF(OR(B176<>\"\",INDIRECT(\"D177\")=0),IF(B175<>\"\",F175+B175,VLOOKUP(INDEX($B$7:B175,MATCH(9.99999999999999E+307,$B$7:B175)),$B$7:F175,5,FALSE)+INDEX($B$7:B175,MATCH(9.99999999999999E+307,$B$7:B175))),(VLOOKUP(INDEX($B$7:B175,MATCH(9.99999999999999E+307,$B$7:B175)),$B$7:F175,5,FALSE))+(INDEX($B$7:B175,MATCH(9.99999999999999E+307,$B$7:B175)))),\"\")","v":""},null,{"$f":"IF(D176<>\"\",IF(OR(B176<>\"\",INDIRECT(\"D177\")=0),D176,0),\"\")","v":""},"",null,{"$f":"IF(D176<>\"\",IF(AND(B176<>\"\",B175<>\"\"),$I$4+H175,VLOOKUP(INDEX($B$7:B175,MATCH(9.99999999999999E+307,$B$7:B175)),$B$7:H175,7,FALSE)+$I$4),\"\")","v":""},""]
[null,null,{"$f":"IF(D177<>\"\",IF(OR(B177<>\"\",INDIRECT(\"D178\")=0),IF(B176<>\"\",F176+B176,VLOOKUP(INDEX($B$7:B176,MATCH(9.99999999999999E+307,$B$7:B176)),$B$7:F176,5,FALSE)+INDEX($B$7:B176,MATCH(9.99999999999999E+307,$B$7:B176))),(VLOOKUP(INDEX($B$7:B176,MATCH(9.99999999999999E+307,$B$7:B176)),$B$7:F176,5,FALSE))+(INDEX($B$7:B176,MATCH(9.99999999999999E+307,$B$7:B176)))),\"\")","v":""},null,{"$f":"IF(D177<>\"\",IF(OR(B177<>\"\",INDIRECT(\"D178\")=0),D177,0),\"\")","v":""},"",null,{"$f":"IF(D177<>\"\",IF(AND(B177<>\"\",B176<>\"\"),$I$4+H176,VLOOKUP(INDEX($B$7:B176,MATCH(9.99999999999999E+307,$B$7:B176)),$B$7:H176,7,FALSE)+$I$4),\"\")","v":""},""]
[null,null,{"$f":"IF(D178<>\"\",IF(OR(B178<>\"\",INDIRECT(\"D179\")=0),IF(B177<>\"\",F177+B177,VLOOKUP(INDEX($B$7:B177,MATCH(9.99999999999999E+307,$B$7:B177)),$B$7:F177,5,FALSE)+INDEX($B$7:B177,MATCH(9.99999999999999E+307,$B$7:B177))),(VLOOKUP(INDEX($B$7:B177,MATCH(9.99999999999999E+307,$B$7:B177)),$B$7:F177,5,FALSE))+(INDEX($B$7:B177,MATCH(9.99999999999999E+307,$B$7:B177)))),\"\")","v":""},null,{"$f":"IF(D178<>\"\",IF(OR(B178<>\"\",INDIRECT(\"D179\")=0),D178,0),\"\")","v":""},"",null,{"$f":"IF(D178<>\"\",IF(AND(B178<>\"\",B177<>\"\"),$I$4+H177,VLOOKUP(INDEX($B$7:B177,MATCH(9.99999999999999E+307,$B$7:B177)),$B$7:H177,7,FALSE)+$I$4),\"\")","v":""},""]
[null,null,{"$f":"IF(D179<>\"\",IF(OR(B179<>\"\",INDIRECT(\"D180\")=0),IF(B178<>\"\",F178+B178,VLOOKUP(INDEX($B$7:B178,MATCH(9.99999999999999E+307,$B$7:B178)),$B$7:F178,5,FALSE)+INDEX($B$7:B178,MATCH(9.99999999999999E+307,$B$7:B178))),(VLOOKUP(INDEX($B$7:B178,MATCH(9.99999999999999E+307,$B$7:B178)),$B$7:F178,5,FALSE))+(INDEX($B$7:B178,MATCH(9.99999999999999E+307,$B$7:B178)))),\"\")","v":""},null,{"$f":"IF(D179<>\"\",IF(OR(B179<>\"\",INDIRECT(\"D180\")=0),D179,0),\"\")","v":""},"",null,{"$f":"IF(D179<>\"\",IF(AND(B179<>\"\",B178<>\"\"),$I$4+H178,VLOOKUP(INDEX($B$7:B178,MATCH(9.99999999999999E+307,$B$7:B178)),$B$7:H178,7,FALSE)+$I$4),\"\")","v":""},""]
[null,null,{"$f":"IF(D180<>\"\",IF(OR(B180<>\"\",INDIRECT(\"D181\")=0),IF(B179<>\"\",F179+B179,VLOOKUP(INDEX($B$7:B179,MATCH(9.99999999999999E+307,$B$7:B179)),$B$7:F179,5,FALSE)+INDEX($B$7:B179,MATCH(9.99999999999999E+307,$B$7:B179))),(VLOOKUP(INDEX($B$7:B179,MATCH(9.99999999999999E+307,$B$7:B179)),$B$7:F179,5,FALSE))+(INDEX($B$7:B179,MATCH(9.99999999999999E+307,$B$7:B179)))),\"\")","v":""},null,{"$f":"IF(D180<>\"\",IF(OR(B180<>\"\",INDIRECT(\"D181\")=0),D180,0),\"\")","v":""},"",null,{"$f":"IF(D180<>\"\",IF(AND(B180<>\"\",B179<>\"\"),$I$4+H179,VLOOKUP(INDEX($B$7:B179,MATCH(9.99999999999999E+307,$B$7:B179)),$B$7:H179,7,FALSE)+$I$4),\"\")","v":""},""]
[null,null,{"$f":"IF(D181<>\"\",IF(OR(B181<>\"\",INDIRECT(\"D182\")=0),IF(B180<>\"\",F180+B180,VLOOKUP(INDEX($B$7:B180,MATCH(9.99999999999999E+307,$B$7:B180)),$B$7:F180,5,FALSE)+INDEX($B$7:B180,MATCH(9.99999999999999E+307,$B$7:B180))),(VLOOKUP(INDEX($B$7:B180,MATCH(9.99999999999999E+307,$B$7:B180)),$B$7:F180,5,FALSE))+(INDEX($B$7:B180,MATCH(9.99999999999999E+307,$B$7:B180)))),\"\")","v":""},null,{"$f":"IF(D181<>\"\",IF(OR(B181<>\"\",INDIRECT(\"D182\")=0),D181,0),\"\")","v":""},"",null,{"$f":"IF(D181<>\"\",IF(AND(B181<>\"\",B180<>\"\"),$I$4+H180,VLOOKUP(INDEX($B$7:B180,MATCH(9.99999999999999E+307,$B$7:B180)),$B$7:H180,7,FALSE)+$I$4),\"\")","v":""},""]
[null,null,{"$f":"IF(D182<>\"\",IF(OR(B182<>\"\",INDIRECT(\"D183\")=0),IF(B181<>\"\",F181+B181,VLOOKUP(INDEX($B$7:B181,MATCH(9.99999999999999E+307,$B$7:B181)),$B$7:F181,5,FALSE)+INDEX($B$7:B181,MATCH(9.99999999999999E+307,$B$7:B181))),(VLOOKUP(INDEX($B$7:B181,MATCH(9.99999999999999E+307,$B$7:B181)),$B$7:F181,5,FALSE))+(INDEX($B$7:B181,MATCH(9.99999999999999E+307,$B$7:B181)))),\"\")","v":""},null,{"$f":"IF(D182<>\"\",IF(OR(B182<>\"\",INDIRECT(\"D183\")=0),D182,0),\"\")","v":""},"",null,{"$f":"IF(D182<>\"\",IF(AND(B182<>\"\",B181<>\"\"),$I$4+H181,VLOOKUP(INDEX($B$7:B181,MATCH(9.99999999999999E+307,$B$7:B181)),$B$7:H181,7,FALSE)+$I$4),\"\")","v":""},""]
[null,null,{"$f":"IF(D183<>\"\",IF(OR(B183<>\"\",INDIRECT(\"D184\")=0),IF(B182<>\"\",F182+B182,VLOOKUP(INDEX($B$7:B182,MATCH(9.99999999999999E+307,$B$7:B182)),$B$7:F182,5,FALSE)+INDEX($B$7:B182,MATCH(9.99999999999999E+307,$B$7:B182))),(VLOOKUP(INDEX($B$7:B182,MATCH(9.99999999999999E+307,$B$7:B182)),$B$7:F182,5,FALSE))+(INDEX($B$7:B182,MATCH(9.99999999999999E+307,$B$7:B182)))),\"\")","v":""},null,{"$f":"IF(D183<>\"\",IF(OR(B183<>\"\",INDIRECT(\"D184\")=0),D183,0),\"\")","v":""},"",null,{"$f":"IF(D183<>\"\",IF(AND(B183<>\"\",B182<>\"\"),$I$4+H182,VLOOKUP(INDEX($B$7:B182,MATCH(9.99999999999999E+307,$B$7:B182)),$B$7:H182,7,FALSE)+$I$4),\"\")","v":""},""]
[null,null,{"$f":"IF(D184<>\"\",IF(OR(B184<>\"\",INDIRECT(\"D185\")=0),IF(B183<>\"\",F183+B183,VLOOKUP(INDEX($B$7:B183,MATCH(9.99999999999999E+307,$B$7:B183)),$B$7:F183,5,FALSE)+INDEX($B$7:B183,MATCH(9.99999999999999E+307,$B$7:B183))),(VLOOKUP(INDEX($B$7:B183,MATCH(9.99999999999999E+307,$B$7:B183)),$B$7:F183,5,FALSE))+(INDEX($B$7:B183,MATCH(9.99999999999999E+307,$B$7:B183)))),\"\")","v":""},null,{"$f":"IF(D184<>\"\",IF(OR(B184<>\"\",INDIRECT(\"D185\")=0),D184,0),\"\")","v":""},"",null,{"$f":"IF(D184<>\"\",IF(AND(B184<>\"\",B183<>\"\"),$I$4+H183,VLOOKUP(INDEX($B$7:B183,MATCH(9.99999999999999E+307,$B$7:B183)),$B$7:H183,7,FALSE)+$I$4),\"\")","v":""},""]
[null,null,{"$f":"IF(D185<>\"\",IF(OR(B185<>\"\",INDIRECT(\"D186\")=0),IF(B184<>\"\",F184+B184,VLOOKUP(INDEX($B$7:B184,MATCH(9.99999999999999E+307,$B$7:B184)),$B$7:F184,5,FALSE)+INDEX($B$7:B184,MATCH(9.99999999999999E+307,$B$7:B184))),(VLOOKUP(INDEX($B$7:B184,MATCH(9.99999999999999E+307,$B$7:B184)),$B$7:F184,5,FALSE))+(INDEX($B$7:B184,MATCH(9.99999999999999E+307,$B$7:B184)))),\"\")","v":""},null,{"$f":"IF(D185<>\"\",IF(OR(B185<>\"\",INDIRECT(\"D186\")=0),D185,0),\"\")","v":""},"",null,{"$f":"IF(D185<>\"\",IF(AND(B185<>\"\",B184<>\"\"),$I$4+H184,VLOOKUP(INDEX($B$7:B184,MATCH(9.99999999999999E+307,$B$7:B184)),$B$7:H184,7,FALSE)+$I$4),\"\")","v":""},""]
[null,null,{"$f":"IF(D186<>\"\",IF(OR(B186<>\"\",INDIRECT(\"D187\")=0),IF(B185<>\"\",F185+B185,VLOOKUP(INDEX($B$7:B185,MATCH(9.99999999999999E+307,$B$7:B185)),$B$7:F185,5,FALSE)+INDEX($B$7:B185,MATCH(9.99999999999999E+307,$B$7:B185))),(VLOOKUP(INDEX($B$7:B185,MATCH(9.99999999999999E+307,$B$7:B185)),$B$7:F185,5,FALSE))+(INDEX($B$7:B185,MATCH(9.99999999999999E+307,$B$7:B185)))),\"\")","v":""},null,{"$f":"IF(D186<>\"\",IF(OR(B186<>\"\",INDIRECT(\"D187\")=0),D186,0),\"\")","v":""},"",null,{"$f":"IF(D186<>\"\",IF(AND(B186<>\"\",B185<>\"\"),$I$4+H185,VLOOKUP(INDEX($B$7:B185,MATCH(9.99999999999999E+307,$B$7:B185)),$B$7:H185,7,FALSE)+$I$4),\"\")","v":""},""]
[null,null,{"$f":"IF(D187<>\"\",IF(OR(B187<>\"\",INDIRECT(\"D188\")=0),IF(B186<>\"\",F186+B186,VLOOKUP(INDEX($B$7:B186,MATCH(9.99999999999999E+307,$B$7:B186)),$B$7:F186,5,FALSE)+INDEX($B$7:B186,MATCH(9.99999999999999E+307,$B$7:B186))),(VLOOKUP(INDEX($B$7:B186,MATCH(9.99999999999999E+307,$B$7:B186)),$B$7:F186,5,FALSE))+(INDEX($B$7:B186,MATCH(9.99999999999999E+307,$B$7:B186)))),\"\")","v":""},null,{"$f":"IF(D187<>\"\",IF(OR(B187<>\"\",INDIRECT(\"D188\")=0),D187,0),\"\")","v":""},"",null,{"$f":"IF(D187<>\"\",IF(AND(B187<>\"\",B186<>\"\"),$I$4+H186,VLOOKUP(INDEX($B$7:B186,MATCH(9.99999999999999E+307,$B$7:B186)),$B$7:H186,7,FALSE)+$I$4),\"\")","v":""},""]
[null,null,{"$f":"IF(D188<>\"\",IF(OR(B188<>\"\",INDIRECT(\"D189\")=0),IF(B187<>\"\",F187+B187,VLOOKUP(INDEX($B$7:B187,MATCH(9.99999999999999E+307,$B$7:B187)),$B$7:F187,5,FALSE)+INDEX($B$7:B187,MATCH(9.99999999999999E+307,$B$7:B187))),(VLOOKUP(INDEX($B$7:B187,MATCH(9.99999999999999E+307,$B$7:B187)),$B$7:F187,5,FALSE))+(INDEX($B$7:B187,MATCH(9.99999999999999E+307,$B$7:B187)))),\"\")","v":""},null,{"$f":"IF(D188<>\"\",IF(OR(B188<>\"\",INDIRECT(\"D189\")=0),D188,0),\"\")","v":""},"",null,{"$f":"IF(D188<>\"\",IF(AND(B188<>\"\",B187<>\"\"),$I$4+H187,VLOOKUP(INDEX($B$7:B187,MATCH(9.99999999999999E+307,$B$7:B187)),$B$7:H187,7,FALSE)+$I$4),\"\")","v":""},""]
[null,null,{"$f":"IF(D189<>\"\",IF(OR(B189<>\"\",INDIRECT(\"D190\")=0),IF(B188<>\"\",F188+B188,VLOOKUP(INDEX($B$7:B188,MATCH(9.99999999999999E+307,$B$7:B188)),$B$7:F188,5,FALSE)+INDEX($B$7:B188,MATCH(9.99999999999999E+307,$B$7:B188))),(VLOOKUP(INDEX($B$7:B188,MATCH(9.99999999999999E+307,$B$7:B188)),$B$7:F188,5,FALSE))+(INDEX($B$7:B188,MATCH(9.99999999999999E+307,$B$7:B188)))),\"\")","v":""},null,{"$f":"IF(D189<>\"\",IF(OR(B189<>\"\",INDIRECT(\"D190\")=0),D189,0),\"\")","v":""},"",null,{"$f":"IF(D189<>\"\",IF(AND(B189<>\"\",B188<>\"\"),$I$4+H188,VLOOKUP(INDEX($B$7:B188,MATCH(9.99999999999999E+307,$B$7:B188)),$B$7:H188,7,FALSE)+$I$4),\"\")","v":""},""]
[null,null,{"$f":"IF(D190<>\"\",IF(OR(B190<>\"\",INDIRECT(\"D191\")=0),IF(B189<>\"\",F189+B189,VLOOKUP(INDEX($B$7:B189,MATCH(9.99999999999999E+307,$B$7:B189)),$B$7:F189,5,FALSE)+INDEX($B$7:B189,MATCH(9.99999999999999E+307,$B$7:B189))),(VLOOKUP(INDEX($B$7:B189,MATCH(9.99999999999999E+307,$B$7:B189)),$B$7:F189,5,FALSE))+(INDEX($B$7:B189,MATCH(9.99999999999999E+307,$B$7:B189)))),\"\")","v":""},null,{"$f":"IF(D190<>\"\",IF(OR(B190<>\"\",INDIRECT(\"D191\")=0),D190,0),\"\")","v":""},"",null,{"$f":"IF(D190<>\"\",IF(AND(B190<>\"\",B189<>\"\"),$I$4+H189,VLOOKUP(INDEX($B$7:B189,MATCH(9.99999999999999E+307,$B$7:B189)),$B$7:H189,7,FALSE)+$I$4),\"\")","v":""},""]
[null,null,{"$f":"IF(D191<>\"\",IF(OR(B191<>\"\",INDIRECT(\"D192\")=0),IF(B190<>\"\",F190+B190,VLOOKUP(INDEX($B$7:B190,MATCH(9.99999999999999E+307,$B$7:B190)),$B$7:F190,5,FALSE)+INDEX($B$7:B190,MATCH(9.99999999999999E+307,$B$7:B190))),(VLOOKUP(INDEX($B$7:B190,MATCH(9.99999999999999E+307,$B$7:B190)),$B$7:F190,5,FALSE))+(INDEX($B$7:B190,MATCH(9.99999999999999E+307,$B$7:B190)))),\"\")","v":""},null,{"$f":"IF(D191<>\"\",IF(OR(B191<>\"\",INDIRECT(\"D192\")=0),D191,0),\"\")","v":""},"",null,{"$f":"IF(D191<>\"\",IF(AND(B191<>\"\",B190<>\"\"),$I$4+H190,VLOOKUP(INDEX($B$7:B190,MATCH(9.99999999999999E+307,$B$7:B190)),$B$7:H190,7,FALSE)+$I$4),\"\")","v":""},""]
[null,null,{"$f":"IF(D192<>\"\",IF(OR(B192<>\"\",INDIRECT(\"D193\")=0),IF(B191<>\"\",F191+B191,VLOOKUP(INDEX($B$7:B191,MATCH(9.99999999999999E+307,$B$7:B191)),$B$7:F191,5,FALSE)+INDEX($B$7:B191,MATCH(9.99999999999999E+307,$B$7:B191))),(VLOOKUP(INDEX($B$7:B191,MATCH(9.99999999999999E+307,$B$7:B191)),$B$7:F191,5,FALSE))+(INDEX($B$7:B191,MATCH(9.99999999999999E+307,$B$7:B191)))),\"\")","v":""},null,{"$f":"IF(D192<>\"\",IF(OR(B192<>\"\",INDIRECT(\"D193\")=0),D192,0),\"\")","v":""},"",null,{"$f":"IF(D192<>\"\",IF(AND(B192<>\"\",B191<>\"\"),$I$4+H191,VLOOKUP(INDEX($B$7:B191,MATCH(9.99999999999999E+307,$B$7:B191)),$B$7:H191,7,FALSE)+$I$4),\"\")","v":""},""]
[null,null,{"$f":"IF(D193<>\"\",IF(OR(B193<>\"\",INDIRECT(\"D194\")=0),IF(B192<>\"\",F192+B192,VLOOKUP(INDEX($B$7:B192,MATCH(9.99999999999999E+307,$B$7:B192)),$B$7:F192,5,FALSE)+INDEX($B$7:B192,MATCH(9.99999999999999E+307,$B$7:B192))),(VLOOKUP(INDEX($B$7:B192,MATCH(9.99999999999999E+307,$B$7:B192)),$B$7:F192,5,FALSE))+(INDEX($B$7:B192,MATCH(9.99999999999999E+307,$B$7:B192)))),\"\")","v":""},null,{"$f":"IF(D193<>\"\",IF(OR(B193<>\"\",INDIRECT(\"D194\")=0),D193,0),\"\")","v":""},"",null,{"$f":"IF(D193<>\"\",IF(AND(B193<>\"\",B192<>\"\"),$I$4+H192,VLOOKUP(INDEX($B$7:B192,MATCH(9.99999999999999E+307,$B$7:B192)),$B$7:H192,7,FALSE)+$I$4),\"\")","v":""},""]
[null,null,{"$f":"IF(D194<>\"\",IF(OR(B194<>\"\",INDIRECT(\"D195\")=0),IF(B193<>\"\",F193+B193,VLOOKUP(INDEX($B$7:B193,MATCH(9.99999999999999E+307,$B$7:B193)),$B$7:F193,5,FALSE)+INDEX($B$7:B193,MATCH(9.99999999999999E+307,$B$7:B193))),(VLOOKUP(INDEX($B$7:B193,MATCH(9.99999999999999E+307,$B$7:B193)),$B$7:F193,5,FALSE))+(INDEX($B$7:B193,MATCH(9.99999999999999E+307,$B$7:B193)))),\"\")","v":""},null,{"$f":"IF(D194<>\"\",IF(OR(B194<>\"\",INDIRECT(\"D195\")=0),D194,0),\"\")","v":""},"",null,{"$f":"IF(D194<>\"\",IF(AND(B194<>\"\",B193<>\"\"),$I$4+H193,VLOOKUP(INDEX($B$7:B193,MATCH(9.99999999999999E+307,$B$7:B193)),$B$7:H193,7,FALSE)+$I$4),\"\")","v":""},""]
[null,null,{"$f":"IF(D195<>\"\",IF(OR(B195<>\"\",INDIRECT(\"D196\")=0),IF(B194<>\"\",F194+B194,VLOOKUP(INDEX($B$7:B194,MATCH(9.99999999999999E+307,$B$7:B194)),$B$7:F194,5,FALSE)+INDEX($B$7:B194,MATCH(9.99999999999999E+307,$B$7:B194))),(VLOOKUP(INDEX($B$7:B194,MATCH(9.99999999999999E+307,$B$7:B194)),$B$7:F194,5,FALSE))+(INDEX($B$7:B194,MATCH(9.99999999999999E+307,$B$7:B194)))),\"\")","v":""},null,{"$f":"IF(D195<>\"\",IF(OR(B195<>\"\",INDIRECT(\"D196\")=0),D195,0),\"\")","v":""},"",null,{"$f":"IF(D195<>\"\",IF(AND(B195<>\"\",B194<>\"\"),$I$4+H194,VLOOKUP(INDEX($B$7:B194,MATCH(9.99999999999999E+307,$B$7:B194)),$B$7:H194,7,FALSE)+$I$4),\"\")","v":""},""]
[null,null,{"$f":"IF(D196<>\"\",IF(OR(B196<>\"\",INDIRECT(\"D197\")=0),IF(B195<>\"\",F195+B195,VLOOKUP(INDEX($B$7:B195,MATCH(9.99999999999999E+307,$B$7:B195)),$B$7:F195,5,FALSE)+INDEX($B$7:B195,MATCH(9.99999999999999E+307,$B$7:B195))),(VLOOKUP(INDEX($B$7:B195,MATCH(9.99999999999999E+307,$B$7:B195)),$B$7:F195,5,FALSE))+(INDEX($B$7:B195,MATCH(9.99999999999999E+307,$B$7:B195)))),\"\")","v":""},null,{"$f":"IF(D196<>\"\",IF(OR(B196<>\"\",INDIRECT(\"D197\")=0),D196,0),\"\")","v":""},"",null,{"$f":"IF(D196<>\"\",IF(AND(B196<>\"\",B195<>\"\"),$I$4+H195,VLOOKUP(INDEX($B$7:B195,MATCH(9.99999999999999E+307,$B$7:B195)),$B$7:H195,7,FALSE)+$I$4),\"\")","v":""},""]
[null,null,{"$f":"IF(D197<>\"\",IF(OR(B197<>\"\",INDIRECT(\"D198\")=0),IF(B196<>\"\",F196+B196,VLOOKUP(INDEX($B$7:B196,MATCH(9.99999999999999E+307,$B$7:B196)),$B$7:F196,5,FALSE)+INDEX($B$7:B196,MATCH(9.99999999999999E+307,$B$7:B196))),(VLOOKUP(INDEX($B$7:B196,MATCH(9.99999999999999E+307,$B$7:B196)),$B$7:F196,5,FALSE))+(INDEX($B$7:B196,MATCH(9.99999999999999E+307,$B$7:B196)))),\"\")","v":""},null,{"$f":"IF(D197<>\"\",IF(OR(B197<>\"\",INDIRECT(\"D198\")=0),D197,0),\"\")","v":""},"",null,{"$f":"IF(D197<>\"\",IF(AND(B197<>\"\",B196<>\"\"),$I$4+H196,VLOOKUP(INDEX($B$7:B196,MATCH(9.99999999999999E+307,$B$7:B196)),$B$7:H196,7,FALSE)+$I$4),\"\")","v":""},""]
[null,null,{"$f":"IF(D198<>\"\",IF(OR(B198<>\"\",INDIRECT(\"D199\")=0),IF(B197<>\"\",F197+B197,VLOOKUP(INDEX($B$7:B197,MATCH(9.99999999999999E+307,$B$7:B197)),$B$7:F197,5,FALSE)+INDEX($B$7:B197,MATCH(9.99999999999999E+307,$B$7:B197))),(VLOOKUP(INDEX($B$7:B197,MATCH(9.99999999999999E+307,$B$7:B197)),$B$7:F197,5,FALSE))+(INDEX($B$7:B197,MATCH(9.99999999999999E+307,$B$7:B197)))),\"\")","v":""},null,{"$f":"IF(D198<>\"\",IF(OR(B198<>\"\",INDIRECT(\"D199\")=0),D198,0),\"\")","v":""},"",null,{"$f":"IF(D198<>\"\",IF(AND(B198<>\"\",B197<>\"\"),$I$4+H197,VLOOKUP(INDEX($B$7:B197,MATCH(9.99999999999999E+307,$B$7:B197)),$B$7:H197,7,FALSE)+$I$4),\"\")","v":""},""]
[null,null,{"$f":"IF(D199<>\"\",IF(OR(B199<>\"\",INDIRECT(\"D200\")=0),IF(B198<>\"\",F198+B198,VLOOKUP(INDEX($B$7:B198,MATCH(9.99999999999999E+307,$B$7:B198)),$B$7:F198,5,FALSE)+INDEX($B$7:B198,MATCH(9.99999999999999E+307,$B$7:B198))),(VLOOKUP(INDEX($B$7:B198,MATCH(9.99999999999999E+307,$B$7:B198)),$B$7:F198,5,FALSE))+(INDEX($B$7:B198,MATCH(9.99999999999999E+307,$B$7:B198)))),\"\")","v":""},null,{"$f":"IF(D199<>\"\",IF(OR(B199<>\"\",INDIRECT(\"D200\")=0),D199,0),\"\")","v":""},"",null,{"$f":"IF(D199<>\"\",IF(AND(B199<>\"\",B198<>\"\"),$I$4+H198,VLOOKUP(INDEX($B$7:B198,MATCH(9.99999999999999E+307,$B$7:B198)),$B$7:H198,7,FALSE)+$I$4),\"\")","v":""},""]
[null,null,{"$f":"IF(D200<>\"\",IF(OR(B200<>\"\",INDIRECT(\"D201\")=0),IF(B199<>\"\",F199+B199,VLOOKUP(INDEX($B$7:B199,MATCH(9.99999999999999E+307,$B$7:B199)),$B$7:F199,5,FALSE)+INDEX($B$7:B199,MATCH(9.99999999999999E+307,$B$7:B199))),(VLOOKUP(INDEX($B$7:B199,MATCH(9.99999999999999E+307,$B$7:B199)),$B$7:F199,5,FALSE))+(INDEX($B$7:B199,MATCH(9.99999999999999E+307,$B$7:B199)))),\"\")","v":""},null,{"$f":"IF(D200<>\"\",IF(OR(B200<>\"\",INDIRECT(\"D201\")=0),D200,0),\"\")","v":""},"",null,{"$f":"IF(D200<>\"\",IF(AND(B200<>\"\",B199<>\"\"),$I$4+H199,VLOOKUP(INDEX($B$7:B199,MATCH(9.99999999999999E+307,$B$7:B199)),$B$7:H199,7,FALSE)+$I$4),\"\")","v":""},""]

{"sheet":"TIN","index":36,"n_rows":107,"n_cols":7,"rows_kept":107,"cut":false,"hidden":false,"merged":[[0,0,0,6],[1,0,1,6],[2,0,2,6],[105,0,106,3]]}
["Vertical TIN Accuracy Test"]
["Example Survey Check Shot Data Compared to TIN for Accuracy Class A"]
["(Units in U.S. Survey Feet)"]
["Point ID","Easting","Northing","Check Z","TIN Z","Dz","Dz^2"]
[null,null,null,null,null,{"$f":"E5-D5","v":0},{"$f":"F5^2","v":0}]
[null,null,null,null,null,{"$f":"E6-D6","v":0},{"$f":"F6^2","v":0}]
[null,null,null,null,null,0,0]
[null,null,null,null,null,{"$f":"E8-D8","v":0},{"$f":"F8^2","v":0}]
[null,null,null,null,null,0,0]
[null,null,null,null,null,0,0]
[null,null,null,null,null,0,0]
[null,null,null,null,null,0,0]
[null,null,null,null,null,0,0]
[null,null,null,null,null,0,0]
[null,null,null,null,null,0,0]
[null,null,null,null,null,0,0]
[null,null,null,null,null,0,0]
[null,null,null,null,null,0,0]
[null,null,null,null,null,0,0]
[null,null,null,null,null,0,0]
[null,null,null,null,null,0,0]
[null,null,null,null,null,0,0]
[null,null,null,null,null,0,0]
[null,null,null,null,null,0,0]
[null,null,null,null,null,0,0]
[null,null,null,null,null,0,0]
[null,null,null,null,null,0,0]
[null,null,null,null,null,0,0]
[null,null,null,null,null,0,0]
[null,null,null,null,null,0,0]
[null,null,null,null,null,0,0]
[null,null,null,null,null,0,0]
[null,null,null,null,null,0,0]
[null,null,null,null,null,0,0]
[null,null,null,null,null,0,0]
[null,null,null,null,null,0,0]
[null,null,null,null,null,0,0]
[null,null,null,null,null,0,0]
[null,null,null,null,null,0,0]
[null,null,null,null,null,0,0]
[null,null,null,null,null,0,0]
[null,null,null,null,null,0,0]
[null,null,null,null,null,0,0]
[null,null,null,null,null,0,0]
[null,null,null,null,null,0,0]
[null,null,null,null,null,0,0]
[null,null,null,null,null,0,0]
[null,null,null,null,null,0,0]
[null,null,null,null,null,0,0]
[null,null,null,null,null,0,0]
[null,null,null,null,null,0,0]
[null,null,null,null,null,0,0]
[null,null,null,null,null,0,0]
[null,null,null,null,null,0,0]
[null,null,null,null,null,0,0]
[null,null,null,null,null,0,0]
[null,null,null,null,null,0,0]
[null,null,null,null,null,0,0]
[null,null,null,null,null,0,0]
[null,null,null,null,null,0,0]
[null,null,null,null,null,0,0]
[null,null,null,null,null,0,0]
[null,null,null,null,null,0,0]
[null,null,null,null,null,0,0]
[null,null,null,null,null,0,0]
[null,null,null,null,null,0,0]
[null,null,null,null,null,0,0]
[null,null,null,null,null,0,0]
[null,null,null,null,null,0,0]
[null,null,null,null,null,0,0]
[null,null,null,null,null,0,0]
[null,null,null,null,null,{"$f":"E72-D72","v":0},{"$f":"F72^2","v":0}]
[null,null,null,null,null,0,0]
[null,null,null,null,null,0,0]
[null,null,null,null,null,0,0]
[null,null,null,null,null,0,0]
[null,null,null,null,null,0,0]
[null,null,null,null,null,0,0]
[null,null,null,null,null,0,0]
[null,null,null,null,null,0,0]
[null,null,null,null,null,0,0]
[null,null,null,null,null,0,0]
[null,null,null,null,null,0,0]
[null,null,null,null,null,0,0]
[null,null,null,null,null,0,0]
[null,null,null,null,null,0,0]
[null,null,null,null,null,0,0]
[null,null,null,null,null,0,0]
[null,null,null,null,null,0,0]
[null,null,null,null,null,0,0]
[null,null,null,null,null,0,0]
[null,null,null,null,null,0,0]
[null,null,null,null,null,0,0]
[null,null,null,null,null,0,0]
[null,null,null,null,null,0,0]
[null,null,null,null,null,0,0]
[null,null,null,null,null,0,0]
[null,null,null,null,null,0,0]
[null,null,null,null,null,{"$f":"E99-D99","v":0},{"$f":"F99^2","v":0}]
[null,null,null,null,null,0,0]
[null,null,null,null,null,0,0]
[null,null,null,null,null,0,0]
[null,null,null,null,null,0,0]
[null,null,null,null,null,0,0]
[null,null,null,null,"Sum Dz=",{"$f":"SUM($F$5:$F104)","v":0}]
["Spreadsheet user is responsible to verify all calculations. This spreadsheet is not guaranteed to provide accurate results.",null,null,null,"Sum Dz^2=",null,{"$f":"SUM($G$5:$G104)","v":0}]
[null,null,null,null,"N=",{"$f":"COUNT($D$5:$D104)","v":0}]

{"sheet":"DATABASE","index":37,"n_rows":1,"n_cols":18,"rows_kept":1,"cut":false,"hidden":false,"merged":[]}
["Name","Point ID","Northing","Easting","Elevation","Feature","Condition","Latitude","Longitude","Ellips Ht","Datum_Adj","Geoid","Method","Date","County","Route","District","PID"]

{"sheet":"FINAL GRID COORDINATES PENZC","index":38,"n_rows":29,"n_cols":5,"rows_kept":29,"cut":false,"hidden":false,"merged":[]}
["Point ID","Easting","Northing","Elevation","Code"]
["GS1",{"$f":"INDIRECT(A2&\"!E38\")","v":2256928.3238123273},{"$f":"INDIRECT($A2&\"!D38\")","v":314273.4085291893},{"$f":"INDIRECT($A2&\"!F38\")","v":912.15341060323669},{"$f":"INDIRECT($A2&\"!G38\")","v":"AERTAR"}]
["GS2",{"$f":"INDIRECT(A3&\"!E38\")","v":2257842.2035469296},{"$f":"INDIRECT($A3&\"!D38\")","v":315045.20085854473},{"$f":"INDIRECT($A3&\"!F38\")","v":902.4574900810685},{"$f":"INDIRECT($A3&\"!G38\")","v":"AERTAR"}]
["GS3",2258275.2146793334,313946.23087901203,875.73958343778747,"AERTAR"]
["GS4",2264670.3648361345,314875.16644167481,880.86181616827662,"AERTAR"]
["GS5",2266072.3703667535,316420.7284957394,880.64942303218561,"AERTAR"]
["GS6",2265883.9106423263,311926.79192028689,1041.3336753578653,"AERTAR"]
["GS7",2269553.917644883,310823.13849905686,930.60886394492263,"AERTAR"]
["GS8",2266823.8607650665,320793.60054140451,894.84944697015931,"AERTAR"]
["GS9",2265885.4600667832,320157.30703370849,888.15435334007327,"AERTAR"]
["GS10",2267173.2166770999,323096.44109080679,887.28063979564502,"AERTAR"]
["GS11",2270465.3711136035,326771.67029209092,935.3792574964026,"AERTAR"]
["GS12",2271461.3875584658,328167.65227717609,928.79279010063681,"AERPP"]
["GS13",2273761.1080938713,332046.72582675569,907.668820813975,"AERTAR"]
["GS14",2275980.4918324039,334532.58483597002,901.96171847776259,"AERPP"]
["GS15",2276998.8757906337,336356.42486152408,923.07354666597314,"AERTAR"]
["GS16",2279034.5888614324,337228.73097910633,902.42143141601264,"AERTAR"]
["GS17",2284093.238518096,340270.84519376722,902.79147964207175,"AERTAR"]
["GS18",2284933.7449320643,341748.20600453537,933.14398739646595,"AERTAR"]
["GS19",2286284.3968020673,342830.79333542177,930.02776287590495,"AERTAR"]
["GS20",2284585.6547207776,343756.47630650108,972.63957564177826,"AERTAR"]
["GS21",{"$f":"INDIRECT(A22&\"!E38\")","v":2283322.6692369273},345088.61155505228,979.34119567543337,"AERTAR"]
["GS22",2281373.3046527929,348538.31348081597,1125.65707115699,"AERTAR"]
["GS23",2283466.0999974222,349349.99830019829,978.62506042113421,"AERTAR"]
["GS24",2284931.0426240568,351575.68021209986,953.82010101381422,"AERTAR"]
["GS25",2286628.8760843743,356198.51162286667,970.64091295406342,"AERPP"]
["GS26",2286654.964520657,358469.58669404878,965.78517904549244,"AERTAR"]
["GS27",2287576.3596424041,359527.61314240331,980.86154546326236,"AERTAR"]
["GS28",2286890.1501099057,361035.4078459887,958.39483772836172,"AERTAR"]

{"sheet":"FINAL GROUND COORDINATES PENZC","index":39,"n_rows":21,"n_cols":5,"rows_kept":21,"cut":false,"hidden":false,"merged":[]}
["Point ID","Easting","Northing","Elevation","Code"]
["GS1",{"$f":"INDIRECT(A2&\"!E39\")","v":0},{"$f":"INDIRECT($A2&\"!D39\")","v":0},{"$f":"INDIRECT($A2&\"!F39\")","v":912.15341060323669},{"$f":"INDIRECT($A2&\"!G39\")","v":"AERTAR"}]
["GS2",{"$f":"INDIRECT(A3&\"!E39\")","v":0},{"$f":"INDIRECT($A3&\"!D39\")","v":0},{"$f":"INDIRECT($A3&\"!F39\")","v":902.4574900810685},{"$f":"INDIRECT($A3&\"!G39\")","v":"AERTAR"}]
["GS3",0,0,875.73958343778747,"AERTAR"]
["GS4",0,0,880.86181616827662,"AERTAR"]
["GS5",0,0,880.64942303218561,"AERTAR"]
["GS6",0,0,1041.3336753578653,"AERTAR"]
["GS7",0,0,930.60886394492263,"AERTAR"]
["GS8",0,0,894.84944697015931,"AERTAR"]
["GS9",0,0,888.15435334007327,"AERTAR"]
["GS10",0,0,887.28063979564502,"AERTAR"]
["GS11",0,0,935.3792574964026,"AERTAR"]
["GS12",0,0,928.79279010063681,"AERPP"]
["GS13",0,0,907.668820813975,"AERTAR"]
["GS14",0,0,901.96171847776259,"AERPP"]
["GS15",0,0,923.07354666597314,"AERTAR"]
["GS16",0,0,902.42143141601264,"AERTAR"]
["GS17",0,0,902.79147964207175,"AERTAR"]
["GS18",0,0,933.14398739646595,"AERTAR"]
["GS19",0,0,930.02776287590495,"AERTAR"]
["GS20",0,0,972.63957564177826,"AERTAR"]